{"text_format":"1","workbook":"xlsx","n_sheets":14,"sheets":["Sign Off","A - Contractor Summary","A.1 SEE Members","B - Summary Expenses ","C.1 - Rate Sheets","C.2 - Timesheets - Labor","C.3 - Asset by Company","C.4 - Timesheets - Equipment","D - Lodging","E - Fuel","F - Meals","I - Other","G - Per Diem","H - Mileage"],"not_rendered":{"charts":0,"images":0,"macros":1,"external_links":3,"defined_names":9,"comments":0,"pivot_tables":0},"unopened":[],"bounds":{"document_bytes":16777216,"sheet_cells":100000,"rows_first":2000,"rows_last":500,"rows_between":2000,"halvings":0,"cell_chars":16384,"cell_head_chars":4096},"cells_cut":0,"cells_raw":0,"read":"whole","date_system":"1900"}

{"sheet":"Sign Off","index":0,"n_rows":19,"n_cols":5,"rows_kept":19,"cut":false,"hidden":false,"merged":[[1,1,1,4],[3,1,3,4],[10,1,10,4],[15,1,15,4]]}
[]
[null,"Sign Off's"]
[]
[null,"Accounting"]
[]
[null,null,"Name","Title","Date"]
[null,"Preparer","Belen Villalba","Temp Analyst","2019-12-12"]
[null,"Reviewer","William Adams","Financial Analysis Manager","2020-01-14"]
[null,"Approver","N/A","N/A","N/A"]
[]
[null,"Audit Services"]
[]
[null,null,"Name","Title","Date"]
[null,"Preparer"]
[]
[null,"Energy Delivery"]
[]
[null,null,"Name","Title","Date"]
[null,"Final Reviewer"]

{"sheet":"A - Contractor Summary","index":1,"n_rows":61,"n_cols":10,"rows_kept":61,"cut":false,"hidden":false,"merged":[[1,1,1,3],[3,1,12,3],[22,6,26,6],[22,9,26,9]]}
[]
[null,"Contractor Summary"]
[]
[null,"Test Plan: (A) Using the drop down list, select the vendor.  (B) Ensure address agrees to invoice(s). (C) Enter the distance between vendor address to Plant City, FL.  (D) Determine if vendor is part of the SEE (see tab A.1 for listing). (E) Determine if other agreements exist.  (F) Using the drop down list, select the Incident Base that the vendor was initially assigned.  (G) If the contractor includes multiple crews with different timelines, utilize the '+' symbol at the top of columns 'H' and 'K' (if necessary) to unhide the vendor summary.  (H) Click the button to populate the second (and third, if necessary) set of tabs for documentation of those expenses.  (I) Complete steps (A) through (F)."]
[]
[]
[]
[]
[]
[]
[]
[]
[]
[null,null,null,null,null,"G",null,null,"G"]
[null,null,"Vendor #02",null,null,"Vendor #2",null,null,"Vendor #3"]
[]
[null,null,null,null,null,null,"H",null,null,"H"]
[]
[null,"Contractor/Company","ARC American Inc","A",null,null,"A",null,null,"A"]
[null,"SAP Vendor#",null,null,null,10044004,null,null,{"$f":"VLOOKUP(I19,#REF!,2,FALSE)","v":{"$error":"#REF!"}}]
[null,"Service Type","Distribution",null,null,"Transmission",null,null,{"$f":"VLOOKUP($I$19,#REF!,4,FALSE)","v":{"$error":"#REF!"}}]
[]
[null,"Address","311 South Indiana Ave","B",null,null,"B",null,{"$f":"VLOOKUP($I$19,#REF!,13,FALSE)","v":{"$error":"#REF!"}},"B"]
[null,"City","Wakarusa",null,null,null,null,null,{"$f":"VLOOKUP($I$19,#REF!,14,FALSE)","v":{"$error":"#REF!"}}]
[null,"State/Providence","IN",null,null,null,null,null,{"$f":"VLOOKUP($I$19,#REF!,15,FALSE)","v":{"$error":"#REF!"}}]
[null,"Zip",46573,null,null,null,null,null,{"$f":"VLOOKUP($I$19,#REF!,16,FALSE)","v":{"$error":"#REF!"}}]
[null,"Country","USA",null,null,"US",null,null,{"$f":"VLOOKUP($I$19,#REF!,17,FALSE)","v":{"$error":"#REF!"}}]
[]
[null,"Distance from FL (in miles)",663,"C",null,815,"C",null,800,"C"]
[null,"Travel Days (500 m/per day)",2,null,null,{"$f":"ROUNDUP(F29/500,0)","v":2},null,null,{"$f":"ROUNDUP(I29/500,0)","v":2}]
[]
[null,"Member of the SEE",null,"D",null,"NO","D",null,"NO","D"]
[null,"Other Agreement/Contract (Y/N)",null,"E",null,"NO","E",null,"NO","E"]
[null,"Incident Base",null,"F",null,"Winter Haven ","F",null,"Winter Haven ","F"]
[]
[null,"Date Secured","10/11/18-11/05/18",null,null,"2017-09-04",null,null,{"$f":"VLOOKUP($I$19,#REF!,6,FALSE)","v":{"$error":"#REF!"}}]
[null,"Start Travel","Wakarusa, IN",null,null,"N/A",null,null,{"$f":"VLOOKUP($I$19,#REF!,7,FALSE)","v":{"$error":"#REF!"}}]
[null,"Date Arrived","2018-10-12",null,null,"2017-09-12",null,null,{"$f":"VLOOKUP($I$19,#REF!,8,FALSE)","v":{"$error":"#REF!"}}]
[null,"Date Released","2018-11-05",null,null,"2017-09-13",null,null,{"$f":"VLOOKUP($I$19,#REF!,9,FALSE)","v":{"$error":"#REF!"}}]
[null,"Time Released",null,null,null,"16:27",null,null,{"$f":"VLOOKUP($I$19,#REF!,10,FALSE)","v":{"$error":"#REF!"}}]
[null,"Released To","Wakarusa, IN",null,null,"Home",null,null,{"$f":"VLOOKUP($I$19,#REF!,11,FALSE)","v":{"$error":"#REF!"}}]
[null,"Arrived Home/Utility*","2018-11-05",null,null,"2017-09-15",null,null,{"$f":"IF(I41=\"home\",SUM(IF(I29>500,I39+I30,I39)),I39)","v":{"$error":"#REF!"}}]
[]
[]
[]
[]
[null,null,null,null,null,"C.1 - Rate Sheets (2)",null,null,"C.1 - Rate Sheets (3)"]
[null,null,null,null,null,"C.2 - Timesheets - Labor (2)",null,null,"C.2 - Timesheets - Labor (3)"]
[null,null,null,null,null,"C.4 - Timesheets - Equipmen (2)",null,null,"C.4 - Timesheets - Equipmen (3)"]
[null,null,null,null,null,"D - Lodging (2)",null,null,"D - Lodging (3)"]
[null,null,null,null,null,"E - Fuel (2)",null,null,"E - Fuel (3)"]
[null,null,null,null,null,"F - Meals (2)",null,null,"F - Meals (3)"]
[null,null,null,null,null,"G - Per Diem (2)",null,null,"G - Per Diem (3)"]
[null,null,null,null,null,"H - Mileage (2)",null,null,"H - Mileage (3)"]
[null,null,null,null,null,"I - Other (2)",null,null,"I - Other (3)"]
[]
[]
[]
[null,"*Estimates reasonable arrival time"]
[]
[null,"Tickmark Explanation: "]

{"sheet":"A.1 SEE Members","index":2,"n_rows":65,"n_cols":3,"rows_kept":65,"cut":false,"hidden":false,"merged":[]}
["RMAG","RESPONDING COMPANY","COMPANY NAME"]
["SEE"]
["SEE"]
["SEE"]
["SEE"]
["SEE"]
["SEE"]
["SEE"]
["SEE"]
["SEE"]
["SEE"]
["SEE"]
["SEE"]
["SEE"]
["SEE"]
["SEE"]
["SEE"]
["SEE"]
["SEE"]
[]
[]
[]
[]
["SEE"]
["SEE"]
["SEE"]
["SEE"]
["SEE"]
["SEE"]
[]
["SEE"]
["SEE"]
["SEE"]
["SEE"]
["SEE"]
[]
[]
[]
[]
["SEE"]
["SEE"]
["SEE"]
["SEE"]
[]
[]
[]
["SEE"]
[]
[]
[]
[]
[]
[]
[]
["SEE"]
["SEE"]
["SEE"]
[]
[]
[]
["SEE"]
[]
[]
["SEE"]
["SEE"]

{"sheet":"B - Summary Expenses ","index":3,"n_rows":65,"n_cols":8,"rows_kept":65,"cut":false,"hidden":false,"merged":[[1,1,1,7],[3,1,6,7],[30,1,30,4],[31,1,31,4]]}
[]
[null,"Summary of Expenses"]
[]
[null,"Test Plan: (A) Calculate Total Amount Invoiced for each expense category. (B) Using SAP t-code FBL1N, list Vendor Invoices Paid.  (C) Ensure there are no differences between the Total Expense Amount and the Total Paid Amount. (D) Ensure there are no difference between Total Invoiced Amount and Total Expense Amount.  (E) If applicable, identify difference due to Foreign currency exchange rates.  "]
[]
[]
[]
[]
[null,null,"A"]
[null,null,"Total Invoiced","Total Calculated","Allowable","Reviewed - Allowed","Reviewed - Not Allowable","Not Allowable"]
[null,"Labor Expense Total",4461229.93,{"$f":"'C.2 - Timesheets - Labor'!FR486","v":4461229.93},{"$f":"'C.2 - Timesheets - Labor'!FS486","v":4461229.93},{"$f":"'C.2 - Timesheets - Labor'!FV486","v":0},{"$f":"'C.2 - Timesheets - Labor'!FW486","v":0},{"$f":"D11-(E11+F11+G11)","v":0}]
[null,"Equipment Expense Total",1540068.01,{"$f":"'C.4 - Timesheets - Equipment'!AV522","v":1540068.01},{"$f":"'C.4 - Timesheets - Equipment'!AV522","v":1540068.01},{"$f":"'C.4 - Timesheets - Equipment'!AY522","v":0},{"$f":"'C.4 - Timesheets - Equipment'!AZ522","v":0},{"$f":"D12-(E12+F12+G12)","v":0}]
[null,"Lodging Expense Total",10640.5,{"$f":"'D - Lodging'!L19","v":10640.5},{"$f":"'D - Lodging'!T19","v":10640.5},{"$f":"'D - Lodging'!V19","v":0},{"$f":"'D - Lodging'!W19","v":0},{"$f":"D13-(E13+F13+G13)","v":0}]
[null,"Fuel/Transport Expense Total",26688.73,{"$f":"'E - Fuel'!J360","v":26688.729999999996},{"$f":"'E - Fuel'!Q360","v":26688.729999999996},{"$f":"'E - Fuel'!S360","v":0},{"$f":"'E - Fuel'!T360","v":0},0]
[null,"Meal Expense Total",null,{"$f":"'F - Meals'!K141","v":0},{"$f":"'F - Meals'!R141","v":0},{"$f":"'F - Meals'!T141","v":0},{"$f":"'F - Meals'!U141","v":0},0]
[null,"Per Diem Expense Total",28566,{"$f":"'G - Per Diem'!I36","v":28566},{"$f":"'G - Per Diem'!N36","v":0},{"$f":"'G - Per Diem'!P36","v":28566},{"$f":"'G - Per Diem'!Q36","v":0},0]
[null,"Mileage Expense Total",null,{"$f":"'H - Mileage'!L36","v":0},{"$f":"'H - Mileage'!R36","v":0},{"$f":"'H - Mileage'!T36","v":0},{"$f":"'H - Mileage'!U36","v":0},0]
[null,"Other Expense",null,{"$f":"'I - Other'!K16","v":0},{"$f":"'I - Other'!R16","v":0},{"$f":"'I - Other'!T16","v":0},{"$f":"'I - Other'!U16","v":0},{"$f":"D18-(E18+F18+G18)","v":0}]
[]
[null,"Total Expense per tabs",{"$f":"SUM(C11:C18)","v":6067193.1699999999},{"$f":"SUM(D11:D18)","v":6067193.1699999999},{"$f":"SUM(E11:E18)","v":6038627.1699999999},{"$f":"SUM(F11:F18)","v":28566},{"$f":"SUM(G11:G18)","v":0},0]
[null,"Difference",{"$f":"IF(D21=0,\"\",\"1\")","v":""},{"$f":"C20-D20","v":0},"D"]
[]
[null,"Total Expense ",null,{"$f":"+D20","v":6067193.1699999999}," (from Total SAP Summary)"]
[null,"Total Paid",null,{"$f":"-D60","v":-6067193.1699999999},"(from FBL1N in SAP)"]
[null,"Difference",{"$f":"IF(D25=0,\"\",SUM(C21,1))","v":""},{"$f":"+D23+D24","v":0},"C"," "]
[]
[null,"Exchange Rate"]
[null,"Fx Adjusted to USD",null,null," "]
[null,"Difference",{"$f":"IF(D29=0,\"\",\"3\")","v":""},null,"E"]
[]
[null,"B"]
[]
[null,"Document No ","Doc Date ","Amount","Reference"]
[null,"MIFPUC-1","2018-10-13",396398.99,674796,null,null," "]
[null,"MIFPUC-3","2018-10-31",1798601.95,674797]
[null,"MIFPUC-2","2018-11-12",1509543.47,674798]
[null,"MIFPUC-5","2018-11-12",556837.99,674799]
[null,"MIFPUC-4","2018-11-12",1805810.77,674800]
[]
[]
[]
[]
[]
[]
[]
[]
[]
[]
[]
[]
[]
[]
[]
[]
[]
[]
[]
[]
[]
[null,null,null,{"$f":"SUM(D34:D59)","v":6067193.1699999999}]
[]
[null,"Tickmark Explanation:"]
[null,{"$f":"IFERROR(C21,\"\")","v":""}]
[]
[null,{"$f":"IFERROR(C25,\"\")","v":""}]

{"sheet":"C.1 - Rate Sheets","index":4,"n_rows":55,"n_cols":19,"rows_kept":55,"cut":false,"hidden":false,"merged":[[12,1,12,5],[12,7,12,8],[3,1,3,8],[54,6,54,8],[1,1,1,8]]}
[]
[null,"Labor Charges - Rate Sheet"]
[]
[null,"Test Plan: (A) Using the vendor rate sheet, ensure that a rate was provided for all Positions and Equipment types.  "]
[]
[null,"Labor Types:"]
[null,"ST","Straight Time"]
[null,"OT","Over Time"]
[null,"DT","Double Time"]
[null,"MOB/DMOB","Mobilization/Demobilization Time"]
[]
[]
[null,"Labor per Man Hour",null,null,null,null," ","Labor per Equipment Hour"]
[null,"A",null,null,null,null,null,"A"]
[null,"POSITION","ST","OT","DT","MOB/DMOB",null,"Type","$/HOUR"]
[null,"General Foreman",null,160.21,208.18,null,null,"Rear Property Machine",50,1]
[null,"Foreman",null,148.21,192.19,null,null,"Bucket Truck Up to 55'",50]
[null,"Senior Lineman/Journeyman Lineman",null,136.22,176.19,null,null,"Digger Derrick Up to 50'",50]
[null,"Equipment Operator",null,116.87,151.13,null,null,"Digger Derrick Greater Than 50'",60]
[null,"Line Tech C",null,110.51,136.22999999999999,null,null,"Mechanic Truck",45]
[null,"Line Tech B",null,118.24,152.22,null,null,"Mini Excavator",35]
[null,"Groundman",null,99.27,117.21,null,null,"Pick Up Truck",20]
[null,"Safety",null,148.21,192.19,null,null,"Pole Trailer",15]
[null,"Mechanic",null,116.87,151.13,null,null,"Bucket Truck over 65'",65,null,null,null,null,null,null,null,null,null," "]
[null,"Apprentice Helper",null,102.25,130.74,null,null,"Bucket Truck Tracked",70]
[null,null,null,null,null,null,null,"Digger Tracked",70]
[null,null,null,null,null,null,null,"Rope Rig (puller)",55]
[null,null,null,null,null,null,null,"X100 Blocks",2]
[null,null,null,null,null,null,null,"45 Ton Crane",145]
[null,null,null,null,null,null,null,"Low Boy",38]
[null,null,null,null,null,null,null,"Wire Cart",20]
[null,null,null,null,null,null,null,"Tractor( Semi)",45]
[null,null,null,null,null,null,null,"Air Compressor",15]
[null,null,null,null,null,null,null,"Hydrovac Excavation Truck(Vac Truck)",165]
[null,null,null,null,null,null,null,"Flat Bed Truck",35]
[null,null,null,null,null,null,null,"40' Tri Cam Container",804.17]
[null,null,null,null,null,null,null,"Excavator Rental",2253.84]
[]
[]
[]
[]
[]
[]
[]
[]
[]
[]
[]
[]
[]
[]
[]
[]
[null,"Tickmark Explanation:"]
[null,1]

{"sheet":"C.2 - Timesheets - Labor","index":5,"n_rows":499,"n_cols":181,"rows_kept":499,"cut":false,"hidden":false,"merged":[[14,164,14,168],[485,1,485,5],[14,1,17,1],[14,2,17,2],[14,4,17,4],[14,5,17,5],[14,3,17,3],[16,19,16,23],[16,24,16,28],[16,29,16,33],[14,6,17,6],[14,8,17,8],[14,7,17,7],[14,10,16,13],[14,9,17,9],[16,74,16,78],[486,14,486,19],[486,26,486,29],[486,41,486,44],[13,14,13,20],[16,14,16,18],[13,28,13,34],[13,35,13,41],[14,39,14,43],[14,44,14,48],[486,46,486,48],[486,35,486,40],[15,170,17,170],[15,169,17,169],[486,164,486,167],[16,34,16,38],[16,39,16,43],[16,44,16,48],[16,49,16,53],[16,54,16,58],[16,59,16,63],[16,64,16,68],[16,69,16,73],[3,2,7,13],[1,1,1,179],[14,177,17,177],[14,178,17,178],[14,179,17,179],[15,168,17,168],[14,174,17,174],[14,176,17,176],[14,169,14,173],[15,173,17,173],[15,172,17,172],[15,171,17,171],[13,21,13,27],[14,104,14,108],[14,109,14,113],[14,175,17,175],[14,114,14,118],[14,119,14,123],[14,124,14,128],[16,79,16,83],[16,84,16,88],[16,89,16,93],[16,94,16,98],[16,99,16,103],[16,104,16,108],[16,109,16,113],[16,114,16,118],[16,119,16,123],[16,124,16,128],[14,99,14,103],[14,89,14,93],[14,94,14,98],[14,129,14,133],[14,134,14,138],[14,139,14,143],[16,129,16,133],[16,134,16,138],[16,139,16,143],[14,144,14,148],[14,149,14,153],[14,154,14,158],[14,159,14,163],[16,144,16,148],[16,154,16,158],[16,159,16,163],[16,149,16,153],[14,64,14,68],[14,69,14,73],[14,74,14,78],[14,79,14,83],[14,84,14,88],[14,49,14,53],[14,54,14,58],[14,59,14,63],[14,14,14,18],[14,19,14,23],[14,24,14,28],[14,29,14,33],[14,34,14,38]]}
[]
[null,"Labor Charges - Time Card"]
[]
[null,"Test Plan:","Obtain the time cards.  (A) Using the Asset by Company tab (C.3), populate the crew members names and positions (if provided).  Find additional information regarding individual crew member from related invoice.  (B) Enter hours worked from time card(s). (C) Confirm that the dates per the time cards fall between dates provided per 'A - Contractor Summary' tab. (D) Confirm the labor type charged agrees to the rate sheet. (E) Identify any labor charges to be reviewed (manually enter amounts based on reasonability of time period labor was charged, discrepancies between timecards and invoice, etc.  (F) For charges which required further review, document review (include why it was determined to be allowed/disallowed via a tickmark)."]
[]
[]
[]
[]
[]
[null,"Rx","Recalculated."]
[null,"a","Provided from tab 'C.1 - Rate Sheets'."]
[null,"b","Check figure should equal $0.  Cell will appear yellow if discrepancies are noted."]
[]
[null,null,"A ",null,null,null,null,"Rx",null,"C","a",null,null,null,"B",null,null,null,null,null,null,"B",null,null,null,null,null,null,"B",null,null,null,null,null,null,"B",null,null,null,null,null,null,null,null,null,null,null,null,null,null,null,null,null,null,null,null,null,null,null,null,null,null,null,null,null,null,null,null,null,null,null,null,null,null,null,null,null,null,null,null,null,null,null,null,null,null,null,null,null,null,null,null,null,null,null,null,null,null,null,null,null,null,null,null,null,null,null,null,null,null,null,null,null,null,null,null,null,null,null,null,null,null,null,null,null,null,null,null,null,null,null,null,null,null,null,null,null,null,null,null,null,null,null,null,null,null,null,null,null,null,null,null,null,null,null,null,null,null,null,null,null,null,null,null,"Rx",null,null,null,null,"Rx",null,null,null,null,"Rx",null,"E","F"]
[null,"#","Name","Position","Company","Crew#","Invoice#","Start Date","End Date","Dates Worked Reasonable?","Rates",null,null,null,"2019-10-11",null,null,null,null,"2019-10-12",null,null,null,null,"2019-10-13",null,null,null,null,"2019-10-14",null,null,null,null,"2019-10-15",null,null,null,null,"2019-10-16",null,null,null,null,"2019-10-17",null,null,null,null,"2019-10-18",null,null,null,null,"2019-10-19",null,null,null,null,"2019-10-20",null,null,null,null,"2019-10-21",null,null,null,null,"2019-10-22",null,null,null,null,"2019-10-23",null,null,null,null,"2019-10-24",null,null,null,null,"2019-10-25",null,null,null,null,"2019-10-26",null,null,null,null,"2019-10-27",null,null,null,null,"2019-10-28",null,null,null,null,"2019-10-29",null,null,null,null,"2019-10-30",null,null,null,null,"2019-10-31",null,null,null,null,"2019-11-01",null,null,null,null,"2019-11-02",null,null,null,null,"2019-11-03",null,null,null,null,"2019-11-04",null,null,null,null,"2019-11-05",null,null,null,null,"2019-11-06",null,null,null,null,"2019-11-07",null,null,null,null,"2019-11-08",null,null,null,null,"2019-11-09",null,null,null,null,"Total Labor Hours",null,null,null,null,"Total Labor $",null,null,null,null,"Allowable Charges","Labor Type Appropriate?","To Be Reviewed","Reviewed - Allowable Charge","Reviewed - Unallowable Charge","Tickmarks"]
[null,null,null,null,null,null,null,null,null,null,null,null,null,null,{"$f":"O15","v":"2019-10-11"},{"$f":"O15","v":"2019-10-11"},{"$f":"O15","v":"2019-10-11"},{"$f":"O15","v":"2019-10-11"},{"$f":"O15","v":"2019-10-11"},{"$f":"T15","v":"2019-10-12"},{"$f":"T15","v":"2019-10-12"},{"$f":"T15","v":"2019-10-12"},{"$f":"T15","v":"2019-10-12"},{"$f":"T15","v":"2019-10-12"},{"$f":"Y15","v":"2019-10-13"},{"$f":"Y15","v":"2019-10-13"},{"$f":"Y15","v":"2019-10-13"},{"$f":"Y15","v":"2019-10-13"},{"$f":"Y15","v":"2019-10-13"},{"$f":"AD15","v":"2019-10-14"},{"$f":"AD15","v":"2019-10-14"},{"$f":"AD15","v":"2019-10-14"},{"$f":"AD15","v":"2019-10-14"},{"$f":"AD15","v":"2019-10-14"},{"$f":"AI15","v":"2019-10-15"},{"$f":"AI15","v":"2019-10-15"},{"$f":"AI15","v":"2019-10-15"},{"$f":"AI15","v":"2019-10-15"},{"$f":"AI15","v":"2019-10-15"},{"$f":"AN15","v":"2019-10-16"},{"$f":"AN15","v":"2019-10-16"},{"$f":"AN15","v":"2019-10-16"},{"$f":"AN15","v":"2019-10-16"},{"$f":"AN15","v":"2019-10-16"},{"$f":"AS15","v":"2019-10-17"},{"$f":"AS15","v":"2019-10-17"},{"$f":"AS15","v":"2019-10-17"},{"$f":"AS15","v":"2019-10-17"},{"$f":"AS15","v":"2019-10-17"},{"$f":"AX15","v":"2019-10-18"},{"$f":"AX15","v":"2019-10-18"},{"$f":"AX15","v":"2019-10-18"},{"$f":"AX15","v":"2019-10-18"},{"$f":"AX15","v":"2019-10-18"},{"$f":"BC15","v":"2019-10-19"},{"$f":"BC15","v":"2019-10-19"},{"$f":"BC15","v":"2019-10-19"},{"$f":"BC15","v":"2019-10-19"},{"$f":"BC15","v":"2019-10-19"},{"$f":"BH15","v":"2019-10-20"},{"$f":"BH15","v":"2019-10-20"},{"$f":"BH15","v":"2019-10-20"},{"$f":"BH15","v":"2019-10-20"},{"$f":"BH15","v":"2019-10-20"},{"$f":"BM15","v":"2019-10-21"},{"$f":"BM15","v":"2019-10-21"},{"$f":"BM15","v":"2019-10-21"},{"$f":"BM15","v":"2019-10-21"},{"$f":"BM15","v":"2019-10-21"},{"$f":"BR15","v":"2019-10-22"},{"$f":"BR15","v":"2019-10-22"},{"$f":"BR15","v":"2019-10-22"},{"$f":"BR15","v":"2019-10-22"},{"$f":"BR15","v":"2019-10-22"},{"$f":"BW15","v":"2019-10-23"},{"$f":"BW15","v":"2019-10-23"},{"$f":"BW15","v":"2019-10-23"},{"$f":"BW15","v":"2019-10-23"},{"$f":"BW15","v":"2019-10-23"},{"$f":"CB15","v":"2019-10-24"},{"$f":"CB15","v":"2019-10-24"},{"$f":"CB15","v":"2019-10-24"},{"$f":"CB15","v":"2019-10-24"},{"$f":"CB15","v":"2019-10-24"},{"$f":"CG15","v":"2019-10-25"},{"$f":"CG15","v":"2019-10-25"},{"$f":"CG15","v":"2019-10-25"},{"$f":"CG15","v":"2019-10-25"},{"$f":"CG15","v":"2019-10-25"},{"$f":"CL15","v":"2019-10-26"},{"$f":"CL15","v":"2019-10-26"},{"$f":"CL15","v":"2019-10-26"},{"$f":"CL15","v":"2019-10-26"},{"$f":"CL15","v":"2019-10-26"},{"$f":"CQ15","v":"2019-10-27"},{"$f":"CQ15","v":"2019-10-27"},{"$f":"CQ15","v":"2019-10-27"},{"$f":"CQ15","v":"2019-10-27"},{"$f":"CQ15","v":"2019-10-27"},{"$f":"CV15","v":"2019-10-28"},{"$f":"CV15","v":"2019-10-28"},{"$f":"CV15","v":"2019-10-28"},{"$f":"CV15","v":"2019-10-28"},{"$f":"CV15","v":"2019-10-28"},{"$f":"DA15","v":"2019-10-29"},{"$f":"DA15","v":"2019-10-29"},{"$f":"DA15","v":"2019-10-29"},{"$f":"DA15","v":"2019-10-29"},{"$f":"DA15","v":"2019-10-29"},{"$f":"DF15","v":"2019-10-30"},{"$f":"DF15","v":"2019-10-30"},{"$f":"DF15","v":"2019-10-30"},{"$f":"DF15","v":"2019-10-30"},{"$f":"DF15","v":"2019-10-30"},{"$f":"DK15","v":"2019-10-31"},{"$f":"DK15","v":"2019-10-31"},{"$f":"DK15","v":"2019-10-31"},{"$f":"DK15","v":"2019-10-31"},{"$f":"DK15","v":"2019-10-31"},{"$f":"DP15","v":"2019-11-01"},{"$f":"DP15","v":"2019-11-01"},{"$f":"DP15","v":"2019-11-01"},{"$f":"DP15","v":"2019-11-01"},{"$f":"DP15","v":"2019-11-01"},{"$f":"DU15","v":"2019-11-02"},{"$f":"DU15","v":"2019-11-02"},{"$f":"DU15","v":"2019-11-02"},{"$f":"DU15","v":"2019-11-02"},{"$f":"DU15","v":"2019-11-02"},{"$f":"DZ15","v":"2019-11-03"},{"$f":"DZ15","v":"2019-11-03"},{"$f":"DZ15","v":"2019-11-03"},{"$f":"DZ15","v":"2019-11-03"},{"$f":"DZ15","v":"2019-11-03"},{"$f":"EE15","v":"2019-11-04"},{"$f":"EE15","v":"2019-11-04"},{"$f":"EE15","v":"2019-11-04"},{"$f":"EE15","v":"2019-11-04"},{"$f":"EE15","v":"2019-11-04"},{"$f":"EJ15","v":"2019-11-05"},{"$f":"EJ15","v":"2019-11-05"},{"$f":"EJ15","v":"2019-11-05"},{"$f":"EJ15","v":"2019-11-05"},{"$f":"EJ15","v":"2019-11-05"},{"$f":"EO15","v":"2019-11-06"},{"$f":"EO15","v":"2019-11-06"},{"$f":"EO15","v":"2019-11-06"},{"$f":"EO15","v":"2019-11-06"},{"$f":"EO15","v":"2019-11-06"},{"$f":"ET15","v":"2019-11-07"},{"$f":"ET15","v":"2019-11-07"},{"$f":"ET15","v":"2019-11-07"},{"$f":"ET15","v":"2019-11-07"},{"$f":"ET15","v":"2019-11-07"},{"$f":"EY15","v":"2019-11-08"},{"$f":"EY15","v":"2019-11-08"},{"$f":"EY15","v":"2019-11-08"},{"$f":"EY15","v":"2019-11-08"},{"$f":"EY15","v":"2019-11-08"},{"$f":"FD15","v":"2019-11-09"},{"$f":"FD15","v":"2019-11-09"},{"$f":"FD15","v":"2019-11-09"},{"$f":"FD15","v":"2019-11-09"},{"$f":"FD15","v":"2019-11-09"},"Total ST","OT","DT","MOB/DMOB","Total Hours","Total ST $","Total OT $","Total DT $","Total MOB/DMOB $","Total Labor $"]
[null,null,null,null,null,null,null,null,null,null,null,null,null,null,"Wednesday",null,null,null,null,"Thursday",null,null,null,null,"Friday",null,null,null,null,"Monday",null,null,null,null,"Tuesday",null,null,null,null,"Wednesday",null,null,null,null,"Thursday",null,null,null,null,"Friday",null,null,null,null,"Monday",null,null,null,null,"Tuesday",null,null,null,null,"Wednesday",null,null,null,null,"Thursday",null,null,null,null,"Friday",null,null,null,null,"Monday",null,null,null,null,"Tuesday",null,null,null,null,"Wednesday",null,null,null,null,"Thursday",null,null,null,null,"Friday",null,null,null,null,"Monday",null,null,null,null,"Tuesday",null,null,null,null,"Wednesday",null,null,null,null,"Thursday",null,null,null,null,"Friday",null,null,null,null,"Monday",null,null,null,null,"Tuesday",null,null,null,null,"Wednesday",null,null,null,null,"Thursday",null,null,null,null,"Friday",null,null,null,null,"Wednesday",null,null,null,null,"Wednesday"]
[null,null,null,null,null,null,null,null,null,null,"ST","OT","DT","MOB/DMOB","ST","OT","DT","MOB/DMOB","Total","ST","OT","DT","MOB/DMOB","Total","ST","OT","DT","MOB/DMOB","Total","ST","OT","DT","MOB/DMOB","Total","ST","OT","DT","MOB/DMOB","Total","ST","OT","DT","MOB/DMOB","Total","ST","OT","DT","MOB/DMOB","Total","ST","OT","DT","MOB/DMOB","Total","ST","OT","DT","MOB/DMOB","Total","ST","OT","DT","MOB/DMOB","Total","ST","OT","DT","MOB/DMOB","Total","ST","OT","DT","MOB/DMOB","Total","ST","OT","DT","MOB/DMOB","Total","ST","OT","DT","MOB/DMOB","Total","ST","OT","DT","MOB/DMOB","Total","ST","OT","DT","MOB/DMOB","Total","ST","OT","DT","MOB/DMOB","Total","ST","OT","DT","MOB/DMOB","Total","ST","OT","DT","MOB/DMOB","Total","ST","OT","DT","MOB/DMOB","Total","ST","OT","DT","MOB/DMOB","Total","ST","OT","DT","MOB/DMOB","Total","ST","OT","DT","MOB/DMOB","Total","ST","OT","DT","MOB/DMOB","Total","ST","OT","DT","MOB/DMOB","Total","ST","OT","DT","MOB/DMOB","Total","ST","OT","DT","MOB/DMOB","Total","ST","OT","DT","MOB/DMOB","Total","ST","OT","DT","MOB/DMOB","Total","ST","OT","DT","MOB/DMOB","Total"]
[null,1,"Gustavo Monteagudo","Foreman","Vendor No.02",null,"MIFPUC-1","2018-10-11","2018-10-13","Yes",{"$f":"VLOOKUP($D19,'C.1 - Rate Sheets'!B:F,2,FALSE)","v":0},{"$f":"VLOOKUP($D19,'C.1 - Rate Sheets'!B:F,3,FALSE)","v":148.21},{"$f":"VLOOKUP($D19,'C.1 - Rate Sheets'!B:F,4,FALSE)","v":192.19},{"$f":"VLOOKUP($D19,'C.1 - Rate Sheets'!B:F,5,FALSE)","v":0},null,9,null,null,null,null,16,null,null,null,null,16,null,null,null,null,null,null,null,null,null,null,null,null,null,null,null,null,null,null,null,null,null,null,null,null,null,null,null,null,null,null,null,null,null,null,null,null,null,null,null,null,null,null,null,null,null,null,null,null,null,null,null,null,null,null,null,null,null,null,null,null,null,null,null,null,null,null,null,null,null,null,null,null,null,null,null,null,null,null,null,null,null,null,null,null,null,null,null,null,null,null,null,null,null,null,null,null,null,null,null,null,null,null,null,null,null,null,null,null,null,null,null,null,null,null,null,null,null,null,null,null,null,null,null,null,null,null,null,null,null,null,null,null,null,null,null,null,null,null,{"$f":"FD19+EY19+ET19+EO19+EJ19+EE19+DZ19+DU19+DP19+DK19+DF19+DA19+CV19+CQ19+CL19+CG19+CB19+BW19+BR19+BM19+BH19+BC19+AX19+AS19+AN19+AI19+AD19+Y19+T19+O19","v":0},41,0,null,{"$f":"SUM(FI19:FL19)","v":41},{"$f":"FI19*K19","v":0},6076.6100000000006,0,0,{"$f":"SUM(FN19:FQ19)","v":6076.6100000000006},{"$f":"FR19-FU19","v":6076.6100000000006},"Yes",0,0,0]
[null,2,"Aroy Fildalgo","Senior Lineman/Journeyman Lineman","Vendor No.02",null,"MIFPUC-1","2018-10-11","2018-10-13","Yes",{"$f":"VLOOKUP($D20,'C.1 - Rate Sheets'!B:F,2,FALSE)","v":0},{"$f":"VLOOKUP($D20,'C.1 - Rate Sheets'!B:F,3,FALSE)","v":136.22},{"$f":"VLOOKUP($D20,'C.1 - Rate Sheets'!B:F,4,FALSE)","v":176.19},{"$f":"VLOOKUP($D20,'C.1 - Rate Sheets'!B:F,5,FALSE)","v":0},null,9,null,null,null,null,16,null,null,null,null,16,null,null,null,null,null,null,null,null,null,null,null,null,null,null,null,null,null,null,null,null,null,null,null,null,null,null,null,null,null,null,null,null,null,null,null,null,null,null,null,null,null,null,null,null,null,null,null,null,null,null,null,null,null,null,null,null,null,null,null,null,null,null,null,null,null,null,null,null,null,null,null,null,null,null,null,null,null,null,null,null,null,null,null,null,null,null,null,null,null,null,null,null,null,null,null,null,null,null,null,null,null,null,null,null,null,null,null,null,null,null,null,null,null,null,null,null,null,null,null,null,null,null,null,null,null,null,null,null,null,null,null,null,null,null,null,null,null,null,0,41,0,null,{"$f":"SUM(FI20:FL20)","v":41},0,5585.0199999999995,0,0,{"$f":"SUM(FN20:FQ20)","v":5585.0199999999995},{"$f":"FR20-FU20","v":5585.0199999999995},"Yes",0,0,0]
[null,3,"Addiel DeCardenas","Senior Lineman/Journeyman Lineman","Vendor No.02",null,"MIFPUC-1","2018-10-11","2018-10-13","Yes",{"$f":"VLOOKUP($D21,'C.1 - Rate Sheets'!B:F,2,FALSE)","v":0},{"$f":"VLOOKUP($D21,'C.1 - Rate Sheets'!B:F,3,FALSE)","v":136.22},{"$f":"VLOOKUP($D21,'C.1 - Rate Sheets'!B:F,4,FALSE)","v":176.19},{"$f":"VLOOKUP($D21,'C.1 - Rate Sheets'!B:F,5,FALSE)","v":0},null,9,null,null,null,null,16,null,null,null,null,16,null,null,null,null,null,null,null,null,null,null,null,null,null,null,null,null,null,null,null,null,null,null,null,null,null,null,null,null,null,null,null,null,null,null,null,null,null,null,null,null,null,null,null,null,null,null,null,null,null,null,null,null,null,null,null,null,null,null,null,null,null,null,null,null,null,null,null,null,null,null,null,null,null,null,null,null,null,null,null,null,null,null,null,null,null,null,null,null,null,null,null,null,null,null,null,null,null,null,null,null,null,null,null,null,null,null,null,null,null,null,null,null,null,null,null,null,null,null,null,null,null,null,null,null,null,null,null,null,null,null,null,null,null,null,null,null,null,null,{"$f":"FD21+EY21+ET21+EO21+EJ21+EE21+DZ21+DU21+DP21+DK21+DF21+DA21+CV21+CQ21+CL21+CG21+CB21+BW21+BR21+BM21+BH21+BC21+AX21+AS21+AN21+AI21+AD21+Y21+T21+O21","v":0},{"$f":"FE21+EZ21+EU21+EP21+EK21+EF21+EA21+DV21+DQ21+DL21+DG21+DB21+CW21+CR21+CM21+CH21+CC21+BX21+BS21+BN21+BI21+BD21+AY21+AT21+AO21+AJ21+AE21+Z21+U21+P21","v":41},{"$f":"FF21+FA21+EV21+EQ21+EL21+EG21+EB21+DW21+DR21+DM21+DH21+DC21+CX21+CS21+CN21+CI21+CD21+BY21+BT21+BO21+BJ21+BE21+AZ21+AU21+AP21+AK21+AF21+AA21+V21+Q21","v":0},null,{"$f":"SUM(FI21:FL21)","v":41},{"$f":"FI21*K21","v":0},{"$f":"FJ21*L21","v":5585.0199999999995},{"$f":"FK21*M21","v":0},{"$f":"FL21*N21","v":0},{"$f":"SUM(FN21:FQ21)","v":5585.0199999999995},{"$f":"FR21-FU21","v":5585.0199999999995},"Yes",0,0,0]
[null,4,"Bruno Thiago","Senior Lineman/Journeyman Lineman","Vendor No.02",null,"MIFPUC-1","2018-10-11","2018-10-13","Yes",{"$f":"VLOOKUP($D22,'C.1 - Rate Sheets'!B:F,2,FALSE)","v":0},{"$f":"VLOOKUP($D22,'C.1 - Rate Sheets'!B:F,3,FALSE)","v":136.22},{"$f":"VLOOKUP($D22,'C.1 - Rate Sheets'!B:F,4,FALSE)","v":176.19},{"$f":"VLOOKUP($D22,'C.1 - Rate Sheets'!B:F,5,FALSE)","v":0},null,null,null,null,null,null,16,null,null,null,null,16,null,null,null,null,null,null,null,null,null,null,null,null,null,null,null,null,null,null,null,null,null,null,null,null,null,null,null,null,null,null,null,null,null,null,null,null,null,null,null,null,null,null,null,null,null,null,null,null,null,null,null,null,null,null,null,null,null,null,null,null,null,null,null,null,null,null,null,null,null,null,null,null,null,null,null,null,null,null,null,null,null,null,null,null,null,null,null,null,null,null,null,null,null,null,null,null,null,null,null,null,null,null,null,null,null,null,null,null,null,null,null,null,null,null,null,null,null,null,null,null,null,null,null,null,null,null,null,null,null,null,null,null,null,null,null,null,null,null,0,32,0,null,32,0,4359.04,0,0,4359.04,4359.04,"Yes",0,0,0]
[null,5,"Iran Fernandez","Groundman","Vendor No.02",null,"MIFPUC-1","2018-10-11","2018-10-13","Yes",{"$f":"VLOOKUP($D23,'C.1 - Rate Sheets'!B:F,2,FALSE)","v":0},{"$f":"VLOOKUP($D23,'C.1 - Rate Sheets'!B:F,3,FALSE)","v":99.27},{"$f":"VLOOKUP($D23,'C.1 - Rate Sheets'!B:F,4,FALSE)","v":117.21},{"$f":"VLOOKUP($D23,'C.1 - Rate Sheets'!B:F,5,FALSE)","v":0},null,9,null,null,null,null,16,null,null,null,null,16,null,null,null,null,null,null,null,null,null,null,null,null,null,null,null,null,null,null,null,null,null,null,null,null,null,null,null,null,null,null,null,null,null,null,null,null,null,null,null,null,null,null,null,null,null,null,null,null,null,null,null,null,null,null,null,null,null,null,null,null,null,null,null,null,null,null,null,null,null,null,null,null,null,null,null,null,null,null,null,null,null,null,null,null,null,null,null,null,null,null,null,null,null,null,null,null,null,null,null,null,null,null,null,null,null,null,null,null,null,null,null,null,null,null,null,null,null,null,null,null,null,null,null,null,null,null,null,null,null,null,null,null,null,null,null,null,null,null,0,41,0,null,41,0,4070.0699999999997,0,0,4070.0699999999997,4070.0699999999997,"Yes",0,0,0]
[null,6,"Deatrick Forbes","Foreman","Vendor No.02",null,"MIFPUC-1","2018-10-11","2018-10-13","Yes",{"$f":"VLOOKUP($D24,'C.1 - Rate Sheets'!B:F,2,FALSE)","v":0},{"$f":"VLOOKUP($D24,'C.1 - Rate Sheets'!B:F,3,FALSE)","v":148.21},{"$f":"VLOOKUP($D24,'C.1 - Rate Sheets'!B:F,4,FALSE)","v":192.19},{"$f":"VLOOKUP($D24,'C.1 - Rate Sheets'!B:F,5,FALSE)","v":0},null,9,null,null,null,null,16,null,null,null,null,16,null,null,null,null,null,null,null,null,null,null,null,null,null,null,null,null,null,null,null,null,null,null,null,null,null,null,null,null,null,null,null,null,null,null,null,null,null,null,null,null,null,null,null,null,null,null,null,null,null,null,null,null,null,null,null,null,null,null,null,null,null,null,null,null,null,null,null,null,null,null,null,null,null,null,null,null,null,null,null,null,null,null,null,null,null,null,null,null,null,null,null,null,null,null,null,null,null,null,null,null,null,null,null,null,null,null,null,null,null,null,null,null,null,null,null,null,null,null,null,null,null,null,null,null,null,null,null,null,null,null,null,null,null,null,null,null,null,null,0,41,0,null,41,0,6076.6100000000006,0,0,6076.6100000000006,6076.6100000000006,"Yes",0,0,0]
[null,7,"Guilermo Arias","Senior Lineman/Journeyman Lineman","Vendor No.02",null,"MIFPUC-1","2018-10-11","2018-10-13","Yes",{"$f":"VLOOKUP($D25,'C.1 - Rate Sheets'!B:F,2,FALSE)","v":0},{"$f":"VLOOKUP($D25,'C.1 - Rate Sheets'!B:F,3,FALSE)","v":136.22},{"$f":"VLOOKUP($D25,'C.1 - Rate Sheets'!B:F,4,FALSE)","v":176.19},{"$f":"VLOOKUP($D25,'C.1 - Rate Sheets'!B:F,5,FALSE)","v":0},null,9,null,null,null,null,16,null,null,null,null,16,null,null,null,null,null,null,null,null,null,null,null,null,null,null,null,null,null,null,null,null,null,null,null,null,null,null,null,null,null,null,null,null,null,null,null,null,null,null,null,null,null,null,null,null,null,null,null,null,null,null,null,null,null,null,null,null,null,null,null,null,null,null,null,null,null,null,null,null,null,null,null,null,null,null,null,null,null,null,null,null,null,null,null,null,null,null,null,null,null,null,null,null,null,null,null,null,null,null,null,null,null,null,null,null,null,null,null,null,null,null,null,null,null,null,null,null,null,null,null,null,null,null,null,null,null,null,null,null,null,null,null,null,null,null,null,null,null,null,0,41,0,null,41,0,5585.0199999999995,0,0,5585.0199999999995,5585.0199999999995,"Yes",0,0,0]
[null,8,"Mark Machado","Senior Lineman/Journeyman Lineman","Vendor No.02",null,"MIFPUC-1","2018-10-11","2018-10-13","Yes",{"$f":"VLOOKUP($D26,'C.1 - Rate Sheets'!B:F,2,FALSE)","v":0},{"$f":"VLOOKUP($D26,'C.1 - Rate Sheets'!B:F,3,FALSE)","v":136.22},{"$f":"VLOOKUP($D26,'C.1 - Rate Sheets'!B:F,4,FALSE)","v":176.19},{"$f":"VLOOKUP($D26,'C.1 - Rate Sheets'!B:F,5,FALSE)","v":0},null,null,null,null,null,null,16,null,null,null,null,16,null,null,null,null,null,null,null,null,null,null,null,null,null,null,null,null,null,null,null,null,null,null,null,null,null,null,null,null,null,null,null,null,null,null,null,null,null,null,null,null,null,null,null,null,null,null,null,null,null,null,null,null,null,null,null,null,null,null,null,null,null,null,null,null,null,null,null,null,null,null,null,null,null,null,null,null,null,null,null,null,null,null,null,null,null,null,null,null,null,null,null,null,null,null,null,null,null,null,null,null,null,null,null,null,null,null,null,null,null,null,null,null,null,null,null,null,null,null,null,null,null,null,null,null,null,null,null,null,null,null,null,null,null,null,null,null,null,null,0,32,0,null,32,0,4359.04,0,0,4359.04,4359.04,"Yes",0,0,0]
[null,9,"Andrew Wilson","Line Tech C","Vendor No.02",null,"MIFPUC-1","2018-10-11","2018-10-13","Yes",{"$f":"VLOOKUP($D27,'C.1 - Rate Sheets'!B:F,2,FALSE)","v":0},{"$f":"VLOOKUP($D27,'C.1 - Rate Sheets'!B:F,3,FALSE)","v":110.51},{"$f":"VLOOKUP($D27,'C.1 - Rate Sheets'!B:F,4,FALSE)","v":136.22999999999999},{"$f":"VLOOKUP($D27,'C.1 - Rate Sheets'!B:F,5,FALSE)","v":0},null,9,null,null,null,null,16,null,null,null,null,16,null,null,null,null,null,null,null,null,null,null,null,null,null,null,null,null,null,null,null,null,null,null,null,null,null,null,null,null,null,null,null,null,null,null,null,null,null,null,null,null,null,null,null,null,null,null,null,null,null,null,null,null,null,null,null,null,null,null,null,null,null,null,null,null,null,null,null,null,null,null,null,null,null,null,null,null,null,null,null,null,null,null,null,null,null,null,null,null,null,null,null,null,null,null,null,null,null,null,null,null,null,null,null,null,null,null,null,null,null,null,null,null,null,null,null,null,null,null,null,null,null,null,null,null,null,null,null,null,null,null,null,null,null,null,null,null,null,null,0,41,0,null,41,0,4530.91,0,0,4530.91,4530.91,"Yes",0,0,0]
[null,10,"Aaron Bessent","Groundman","Vendor No.02",null,"MIFPUC-1","2018-10-11","2018-10-13","Yes",{"$f":"VLOOKUP($D28,'C.1 - Rate Sheets'!B:F,2,FALSE)","v":0},{"$f":"VLOOKUP($D28,'C.1 - Rate Sheets'!B:F,3,FALSE)","v":99.27},{"$f":"VLOOKUP($D28,'C.1 - Rate Sheets'!B:F,4,FALSE)","v":117.21},{"$f":"VLOOKUP($D28,'C.1 - Rate Sheets'!B:F,5,FALSE)","v":0},null,null,null,null,null,null,16,null,null,null,null,16,null,null,null,null,null,null,null,null,null,null,null,null,null,null,null,null,null,null,null,null,null,null,null,null,null,null,null,null,null,null,null,null,null,null,null,null,null,null,null,null,null,null,null,null,null,null,null,null,null,null,null,null,null,null,null,null,null,null,null,null,null,null,null,null,null,null,null,null,null,null,null,null,null,null,null,null,null,null,null,null,null,null,null,null,null,null,null,null,null,null,null,null,null,null,null,null,null,null,null,null,null,null,null,null,null,null,null,null,null,null,null,null,null,null,null,null,null,null,null,null,null,null,null,null,null,null,null,null,null,null,null,null,null,null,null,null,null,null,0,32,0,null,32,0,3176.64,0,0,3176.64,3176.64,"Yes",0,0,0]
[null,11,"Kevin Leon","General Foreman","Vendor No.02",null,"MIFPUC-1","2018-10-11","2018-10-13","Yes",{"$f":"VLOOKUP($D29,'C.1 - Rate Sheets'!B:F,2,FALSE)","v":0},{"$f":"VLOOKUP($D29,'C.1 - Rate Sheets'!B:F,3,FALSE)","v":160.21},{"$f":"VLOOKUP($D29,'C.1 - Rate Sheets'!B:F,4,FALSE)","v":208.18},{"$f":"VLOOKUP($D29,'C.1 - Rate Sheets'!B:F,5,FALSE)","v":0},null,9,null,null,null,null,16,null,null,null,null,16,null,null,null,null,null,null,null,null,null,null,null,null,null,null,null,null,null,null,null,null,null,null,null,null,null,null,null,null,null,null,null,null,null,null,null,null,null,null,null,null,null,null,null,null,null,null,null,null,null,null,null,null,null,null,null,null,null,null,null,null,null,null,null,null,null,null,null,null,null,null,null,null,null,null,null,null,null,null,null,null,null,null,null,null,null,null,null,null,null,null,null,null,null,null,null,null,null,null,null,null,null,null,null,null,null,null,null,null,null,null,null,null,null,null,null,null,null,null,null,null,null,null,null,null,null,null,null,null,null,null,null,null,null,null,null,null,null,null,0,41,0,null,41,0,6568.6100000000006,0,0,6568.6100000000006,6568.6100000000006]
[null,12,"Joe Preilezo","Safety","Vendor No.02",null,"MIFPUC-1","2018-10-11","2018-10-13","Yes",{"$f":"VLOOKUP($D30,'C.1 - Rate Sheets'!B:F,2,FALSE)","v":0},{"$f":"VLOOKUP($D30,'C.1 - Rate Sheets'!B:F,3,FALSE)","v":148.21},{"$f":"VLOOKUP($D30,'C.1 - Rate Sheets'!B:F,4,FALSE)","v":192.19},{"$f":"VLOOKUP($D30,'C.1 - Rate Sheets'!B:F,5,FALSE)","v":0},null,9,null,null,null,null,16,null,null,null,null,16,null,null,null,null,null,null,null,null,null,null,null,null,null,null,null,null,null,null,null,null,null,null,null,null,null,null,null,null,null,null,null,null,null,null,null,null,null,null,null,null,null,null,null,null,null,null,null,null,null,null,null,null,null,null,null,null,null,null,null,null,null,null,null,null,null,null,null,null,null,null,null,null,null,null,null,null,null,null,null,null,null,null,null,null,null,null,null,null,null,null,null,null,null,null,null,null,null,null,null,null,null,null,null,null,null,null,null,null,null,null,null,null,null,null,null,null,null,null,null,null,null,null,null,null,null,null,null,null,null,null,null,null,null,null,null,null,null,null,0,41,0,null,41,0,6076.6100000000006,0,0,6076.6100000000006,6076.6100000000006,"Yes",0,0,0]
[null,13,"Jon Morey","Safety","Vendor No.02",null,"MIFPUC-1","2018-10-11","2018-10-13","Yes",{"$f":"VLOOKUP($D31,'C.1 - Rate Sheets'!B:F,2,FALSE)","v":0},{"$f":"VLOOKUP($D31,'C.1 - Rate Sheets'!B:F,3,FALSE)","v":148.21},{"$f":"VLOOKUP($D31,'C.1 - Rate Sheets'!B:F,4,FALSE)","v":192.19},{"$f":"VLOOKUP($D31,'C.1 - Rate Sheets'!B:F,5,FALSE)","v":0},null,9,null,null,null,null,16,null,null,null,null,16,null,null,null,null,null,null,null,null,null,null,null,null,null,null,null,null,null,null,null,null,null,null,null,null,null,null,null,null,null,null,null,null,null,null,null,null,null,null,null,null,null,null,null,null,null,null,null,null,null,null,null,null,null,null,null,null,null,null,null,null,null,null,null,null,null,null,null,null,null,null,null,null,null,null,null,null,null,null,null,null,null,null,null,null,null,null,null,null,null,null,null,null,null,null,null,null,null,null,null,null,null,null,null,null,null,null,null,null,null,null,null,null,null,null,null,null,null,null,null,null,null,null,null,null,null,null,null,null,null,null,null,null,null,null,null,null,null,null,0,41,0,null,41,0,6076.6100000000006,0,0,6076.6100000000006,6076.6100000000006,"Yes",0,0,0]
[null,14,"Reymond Ugalde","Mechanic","Vendor No.02",null,"MIFPUC-1","2018-10-11","2018-10-13","Yes",{"$f":"VLOOKUP($D32,'C.1 - Rate Sheets'!B:F,2,FALSE)","v":0},{"$f":"VLOOKUP($D32,'C.1 - Rate Sheets'!B:F,3,FALSE)","v":116.87},{"$f":"VLOOKUP($D32,'C.1 - Rate Sheets'!B:F,4,FALSE)","v":151.13},{"$f":"VLOOKUP($D32,'C.1 - Rate Sheets'!B:F,5,FALSE)","v":0},null,9,null,null,null,null,16,null,null,null,null,16,null,null,null,null,null,null,null,null,null,null,null,null,null,null,null,null,null,null,null,null,null,null,null,null,null,null,null,null,null,null,null,null,null,null,null,null,null,null,null,null,null,null,null,null,null,null,null,null,null,null,null,null,null,null,null,null,null,null,null,null,null,null,null,null,null,null,null,null,null,null,null,null,null,null,null,null,null,null,null,null,null,null,null,null,null,null,null,null,null,null,null,null,null,null,null,null,null,null,null,null,null,null,null,null,null,null,null,null,null,null,null,null,null,null,null,null,null,null,null,null,null,null,null,null,null,null,null,null,null,null,null,null,null,null,null,null,null,null,0,41,0,null,41,0,4791.67,0,0,4791.67,4791.67,"Yes",0,0,0]
[null,15,"Nate Wells","Foreman","Vendor No.02",null,"MIFPUC-1","2018-10-11","2018-10-13","Yes",{"$f":"VLOOKUP($D33,'C.1 - Rate Sheets'!B:F,2,FALSE)","v":0},{"$f":"VLOOKUP($D33,'C.1 - Rate Sheets'!B:F,3,FALSE)","v":148.21},{"$f":"VLOOKUP($D33,'C.1 - Rate Sheets'!B:F,4,FALSE)","v":192.19},{"$f":"VLOOKUP($D33,'C.1 - Rate Sheets'!B:F,5,FALSE)","v":0},null,9,null,null,null,null,16,null,null,null,null,16,null,null,null,null,null,null,null,null,null,null,null,null,null,null,null,null,null,null,null,null,null,null,null,null,null,null,null,null,null,null,null,null,null,null,null,null,null,null,null,null,null,null,null,null,null,null,null,null,null,null,null,null,null,null,null,null,null,null,null,null,null,null,null,null,null,null,null,null,null,null,null,null,null,null,null,null,null,null,null,null,null,null,null,null,null,null,null,null,null,null,null,null,null,null,null,null,null,null,null,null,null,null,null,null,null,null,null,null,null,null,null,null,null,null,null,null,null,null,null,null,null,null,null,null,null,null,null,null,null,null,null,null,null,null,null,null,null,null,0,41,0,null,41,0,6076.6100000000006,0,0,6076.6100000000006,6076.6100000000006,"Yes",0,0,0]
[null,16,"Emir Alvarado","Senior Lineman/Journeyman Lineman","Vendor No.02",null,"MIFPUC-1","2018-10-11","2018-10-13","Yes",{"$f":"VLOOKUP($D34,'C.1 - Rate Sheets'!B:F,2,FALSE)","v":0},{"$f":"VLOOKUP($D34,'C.1 - Rate Sheets'!B:F,3,FALSE)","v":136.22},{"$f":"VLOOKUP($D34,'C.1 - Rate Sheets'!B:F,4,FALSE)","v":176.19},{"$f":"VLOOKUP($D34,'C.1 - Rate Sheets'!B:F,5,FALSE)","v":0},null,9,null,null,null,null,16,null,null,null,null,16,null,null,null,null,null,null,null,null,null,null,null,null,null,null,null,null,null,null,null,null,null,null,null,null,null,null,null,null,null,null,null,null,null,null,null,null,null,null,null,null,null,null,null,null,null,null,null,null,null,null,null,null,null,null,null,null,null,null,null,null,null,null,null,null,null,null,null,null,null,null,null,null,null,null,null,null,null,null,null,null,null,null,null,null,null,null,null,null,null,null,null,null,null,null,null,null,null,null,null,null,null,null,null,null,null,null,null,null,null,null,null,null,null,null,null,null,null,null,null,null,null,null,null,null,null,null,null,null,null,null,null,null,null,null,null,null,null,null,0,41,0,null,41,0,5585.0199999999995,0,0,5585.0199999999995,5585.0199999999995,"Yes",0,0,0]
[null,17,"Doyle Rondtree","Senior Lineman/Journeyman Lineman","Vendor No.02",null,"MIFPUC-1","2018-10-11","2018-10-13","Yes",{"$f":"VLOOKUP($D35,'C.1 - Rate Sheets'!B:F,2,FALSE)","v":0},{"$f":"VLOOKUP($D35,'C.1 - Rate Sheets'!B:F,3,FALSE)","v":136.22},{"$f":"VLOOKUP($D35,'C.1 - Rate Sheets'!B:F,4,FALSE)","v":176.19},{"$f":"VLOOKUP($D35,'C.1 - Rate Sheets'!B:F,5,FALSE)","v":0},null,9,null,null,null,null,16,null,null,null,null,16,null,null,null,null,null,null,null,null,null,null,null,null,null,null,null,null,null,null,null,null,null,null,null,null,null,null,null,null,null,null,null,null,null,null,null,null,null,null,null,null,null,null,null,null,null,null,null,null,null,null,null,null,null,null,null,null,null,null,null,null,null,null,null,null,null,null,null,null,null,null,null,null,null,null,null,null,null,null,null,null,null,null,null,null,null,null,null,null,null,null,null,null,null,null,null,null,null,null,null,null,null,null,null,null,null,null,null,null,null,null,null,null,null,null,null,null,null,null,null,null,null,null,null,null,null,null,null,null,null,null,null,null,null,null,null,null,null,null,0,41,0,null,41,0,5585.0199999999995,0,0,5585.0199999999995,5585.0199999999995,"Yes",0,0,0]
[null,18,"Dominick Hernandez","Apprentice Helper","Vendor No.02",null,"MIFPUC-1","2018-10-11","2018-10-13","Yes",{"$f":"VLOOKUP($D36,'C.1 - Rate Sheets'!B:F,2,FALSE)","v":0},{"$f":"VLOOKUP($D36,'C.1 - Rate Sheets'!B:F,3,FALSE)","v":102.25},{"$f":"VLOOKUP($D36,'C.1 - Rate Sheets'!B:F,4,FALSE)","v":130.74},{"$f":"VLOOKUP($D36,'C.1 - Rate Sheets'!B:F,5,FALSE)","v":0},null,9,null,null,null,null,16,null,null,null,null,16,null,null,null,null,null,null,null,null,null,null,null,null,null,null,null,null,null,null,null,null,null,null,null,null,null,null,null,null,null,null,null,null,null,null,null,null,null,null,null,null,null,null,null,null,null,null,null,null,null,null,null,null,null,null,null,null,null,null,null,null,null,null,null,null,null,null,null,null,null,null,null,null,null,null,null,null,null,null,null,null,null,null,null,null,null,null,null,null,null,null,null,null,null,null,null,null,null,null,null,null,null,null,null,null,null,null,null,null,null,null,null,null,null,null,null,null,null,null,null,null,null,null,null,null,null,null,null,null,null,null,null,null,null,null,null,null,null,null,0,41,0,null,41,0,4192.25,0,0,4192.25,4192.25,"Yes",0,0,0]
[null,19,"Brian Abbate","Groundman","Vendor No.02",null,"MIFPUC-1","2018-10-11","2018-10-13","Yes",{"$f":"VLOOKUP($D37,'C.1 - Rate Sheets'!B:F,2,FALSE)","v":0},{"$f":"VLOOKUP($D37,'C.1 - Rate Sheets'!B:F,3,FALSE)","v":99.27},{"$f":"VLOOKUP($D37,'C.1 - Rate Sheets'!B:F,4,FALSE)","v":117.21},{"$f":"VLOOKUP($D37,'C.1 - Rate Sheets'!B:F,5,FALSE)","v":0},null,9,null,null,null,null,16,null,null,null,null,16,null,null,null,null,null,null,null,null,null,null,null,null,null,null,null,null,null,null,null,null,null,null,null,null,null,null,null,null,null,null,null,null,null,null,null,null,null,null,null,null,null,null,null,null,null,null,null,null,null,null,null,null,null,null,null,null,null,null,null,null,null,null,null,null,null,null,null,null,null,null,null,null,null,null,null,null,null,null,null,null,null,null,null,null,null,null,null,null,null,null,null,null,null,null,null,null,null,null,null,null,null,null,null,null,null,null,null,null,null,null,null,null,null,null,null,null,null,null,null,null,null,null,null,null,null,null,null,null,null,null,null,null,null,null,null,null,null,null,0,41,0,null,41,0,4070.0699999999997,0,0,4070.0699999999997,4070.0699999999997,"Yes",0,0,0]
[null,20,"Jose De Jesus","Foreman","Vendor No.02",null,"MIFPUC-1","2018-10-11","2018-10-13","Yes",{"$f":"VLOOKUP($D38,'C.1 - Rate Sheets'!B:F,2,FALSE)","v":0},{"$f":"VLOOKUP($D38,'C.1 - Rate Sheets'!B:F,3,FALSE)","v":148.21},{"$f":"VLOOKUP($D38,'C.1 - Rate Sheets'!B:F,4,FALSE)","v":192.19},{"$f":"VLOOKUP($D38,'C.1 - Rate Sheets'!B:F,5,FALSE)","v":0},null,9,null,null,null,null,16,null,null,null,null,16,null,null,null,null,null,null,null,null,null,null,null,null,null,null,null,null,null,null,null,null,null,null,null,null,null,null,null,null,null,null,null,null,null,null,null,null,null,null,null,null,null,null,null,null,null,null,null,null,null,null,null,null,null,null,null,null,null,null,null,null,null,null,null,null,null,null,null,null,null,null,null,null,null,null,null,null,null,null,null,null,null,null,null,null,null,null,null,null,null,null,null,null,null,null,null,null,null,null,null,null,null,null,null,null,null,null,null,null,null,null,null,null,null,null,null,null,null,null,null,null,null,null,null,null,null,null,null,null,null,null,null,null,null,null,null,null,null,null,0,41,0,null,41,0,6076.6100000000006,0,0,6076.6100000000006,6076.6100000000006,"Yes",0,0,0]
[null,21,"Hector Rodriguez","Senior Lineman/Journeyman Lineman","Vendor No.02",null,"MIFPUC-1","2018-10-11","2018-10-13","Yes",{"$f":"VLOOKUP($D39,'C.1 - Rate Sheets'!B:F,2,FALSE)","v":0},{"$f":"VLOOKUP($D39,'C.1 - Rate Sheets'!B:F,3,FALSE)","v":136.22},{"$f":"VLOOKUP($D39,'C.1 - Rate Sheets'!B:F,4,FALSE)","v":176.19},{"$f":"VLOOKUP($D39,'C.1 - Rate Sheets'!B:F,5,FALSE)","v":0},null,9,null,null,null,null,16,null,null,null,null,16,null,null,null,null,null,null,null,null,null,null,null,null,null,null,null,null,null,null,null,null,null,null,null,null,null,null,null,null,null,null,null,null,null,null,null,null,null,null,null,null,null,null,null,null,null,null,null,null,null,null,null,null,null,null,null,null,null,null,null,null,null,null,null,null,null,null,null,null,null,null,null,null,null,null,null,null,null,null,null,null,null,null,null,null,null,null,null,null,null,null,null,null,null,null,null,null,null,null,null,null,null,null,null,null,null,null,null,null,null,null,null,null,null,null,null,null,null,null,null,null,null,null,null,null,null,null,null,null,null,null,null,null,null,null,null,null,null,null,0,41,0,null,41,0,5585.0199999999995,0,0,5585.0199999999995,5585.0199999999995,"Yes",0,0,0]
[null,22,"Randal Osteen","Line Tech B","Vendor No.02",null,"MIFPUC-1","2018-10-11","2018-10-13","Yes",{"$f":"VLOOKUP($D40,'C.1 - Rate Sheets'!B:F,2,FALSE)","v":0},{"$f":"VLOOKUP($D40,'C.1 - Rate Sheets'!B:F,3,FALSE)","v":118.24},{"$f":"VLOOKUP($D40,'C.1 - Rate Sheets'!B:F,4,FALSE)","v":152.22},{"$f":"VLOOKUP($D40,'C.1 - Rate Sheets'!B:F,5,FALSE)","v":0},null,9,null,null,null,null,16,null,null,null,null,16,null,null,null,null,null,null,null,null,null,null,null,null,null,null,null,null,null,null,null,null,null,null,null,null,null,null,null,null,null,null,null,null,null,null,null,null,null,null,null,null,null,null,null,null,null,null,null,null,null,null,null,null,null,null,null,null,null,null,null,null,null,null,null,null,null,null,null,null,null,null,null,null,null,null,null,null,null,null,null,null,null,null,null,null,null,null,null,null,null,null,null,null,null,null,null,null,null,null,null,null,null,null,null,null,null,null,null,null,null,null,null,null,null,null,null,null,null,null,null,null,null,null,null,null,null,null,null,null,null,null,null,null,null,null,null,null,null,null,0,41,0,null,41,0,4847.84,0,0,4847.84,4847.84,"Yes",0,0,0]
[null,23,"Jorge Barroso","Senior Lineman/Journeyman Lineman","Vendor No.02",null,"MIFPUC-1","2018-10-11","2018-10-13","Yes",{"$f":"VLOOKUP($D41,'C.1 - Rate Sheets'!B:F,2,FALSE)","v":0},{"$f":"VLOOKUP($D41,'C.1 - Rate Sheets'!B:F,3,FALSE)","v":136.22},{"$f":"VLOOKUP($D41,'C.1 - Rate Sheets'!B:F,4,FALSE)","v":176.19},{"$f":"VLOOKUP($D41,'C.1 - Rate Sheets'!B:F,5,FALSE)","v":0},null,9,null,null,null,null,16,null,null,null,null,16,null,null,null,null,null,null,null,null,null,null,null,null,null,null,null,null,null,null,null,null,null,null,null,null,null,null,null,null,null,null,null,null,null,null,null,null,null,null,null,null,null,null,null,null,null,null,null,null,null,null,null,null,null,null,null,null,null,null,null,null,null,null,null,null,null,null,null,null,null,null,null,null,null,null,null,null,null,null,null,null,null,null,null,null,null,null,null,null,null,null,null,null,null,null,null,null,null,null,null,null,null,null,null,null,null,null,null,null,null,null,null,null,null,null,null,null,null,null,null,null,null,null,null,null,null,null,null,null,null,null,null,null,null,null,null,null,null,null,0,41,0,null,41,0,5585.0199999999995,0,0,5585.0199999999995,5585.0199999999995,"Yes",0,0,0]
[null,24,"Chadwick Kern","Groundman","Vendor No.02",null,"MIFPUC-1","2018-10-11","2018-10-13","Yes",{"$f":"VLOOKUP($D42,'C.1 - Rate Sheets'!B:F,2,FALSE)","v":0},{"$f":"VLOOKUP($D42,'C.1 - Rate Sheets'!B:F,3,FALSE)","v":99.27},{"$f":"VLOOKUP($D42,'C.1 - Rate Sheets'!B:F,4,FALSE)","v":117.21},{"$f":"VLOOKUP($D42,'C.1 - Rate Sheets'!B:F,5,FALSE)","v":0},null,9,null,null,null,null,16,null,null,null,null,16,null,null,null,null,null,null,null,null,null,null,null,null,null,null,null,null,null,null,null,null,null,null,null,null,null,null,null,null,null,null,null,null,null,null,null,null,null,null,null,null,null,null,null,null,null,null,null,null,null,null,null,null,null,null,null,null,null,null,null,null,null,null,null,null,null,null,null,null,null,null,null,null,null,null,null,null,null,null,null,null,null,null,null,null,null,null,null,null,null,null,null,null,null,null,null,null,null,null,null,null,null,null,null,null,null,null,null,null,null,null,null,null,null,null,null,null,null,null,null,null,null,null,null,null,null,null,null,null,null,null,null,null,null,null,null,null,null,null,0,41,0,null,41,0,4070.0699999999997,0,0,4070.0699999999997,4070.0699999999997,"Yes",0,0,0]
[null,25,"John Harn","General Foreman","Vendor No.02",null,"MIFPUC-1","2018-10-11","2018-10-13","Yes",{"$f":"VLOOKUP($D43,'C.1 - Rate Sheets'!B:F,2,FALSE)","v":0},{"$f":"VLOOKUP($D43,'C.1 - Rate Sheets'!B:F,3,FALSE)","v":160.21},{"$f":"VLOOKUP($D43,'C.1 - Rate Sheets'!B:F,4,FALSE)","v":208.18},{"$f":"VLOOKUP($D43,'C.1 - Rate Sheets'!B:F,5,FALSE)","v":0},null,9,null,null,null,null,16,null,null,null,null,16,null,null,null,null,null,null,null,null,null,null,null,null,null,null,null,null,null,null,null,null,null,null,null,null,null,null,null,null,null,null,null,null,null,null,null,null,null,null,null,null,null,null,null,null,null,null,null,null,null,null,null,null,null,null,null,null,null,null,null,null,null,null,null,null,null,null,null,null,null,null,null,null,null,null,null,null,null,null,null,null,null,null,null,null,null,null,null,null,null,null,null,null,null,null,null,null,null,null,null,null,null,null,null,null,null,null,null,null,null,null,null,null,null,null,null,null,null,null,null,null,null,null,null,null,null,null,null,null,null,null,null,null,null,null,null,null,null,null,0,41,0,null,41,0,6568.6100000000006,0,0,6568.6100000000006,6568.6100000000006,"Yes",0,0,0]
[null,26,"Bonnie Knopf","Safety","Vendor No.02",null,"MIFPUC-1","2018-10-11","2018-10-13","Yes",{"$f":"VLOOKUP($D44,'C.1 - Rate Sheets'!B:F,2,FALSE)","v":0},{"$f":"VLOOKUP($D44,'C.1 - Rate Sheets'!B:F,3,FALSE)","v":148.21},{"$f":"VLOOKUP($D44,'C.1 - Rate Sheets'!B:F,4,FALSE)","v":192.19},{"$f":"VLOOKUP($D44,'C.1 - Rate Sheets'!B:F,5,FALSE)","v":0},null,9,null,null,null,null,16,null,null,null,null,16,null,null,null,null,null,null,null,null,null,null,null,null,null,null,null,null,null,null,null,null,null,null,null,null,null,null,null,null,null,null,null,null,null,null,null,null,null,null,null,null,null,null,null,null,null,null,null,null,null,null,null,null,null,null,null,null,null,null,null,null,null,null,null,null,null,null,null,null,null,null,null,null,null,null,null,null,null,null,null,null,null,null,null,null,null,null,null,null,null,null,null,null,null,null,null,null,null,null,null,null,null,null,null,null,null,null,null,null,null,null,null,null,null,null,null,null,null,null,null,null,null,null,null,null,null,null,null,null,null,null,null,null,null,null,null,null,null,null,0,41,0,null,41,0,6076.6100000000006,0,0,6076.6100000000006,6076.6100000000006,"Yes",0,0,0]
[null,27,"John Cour","General Foreman","Vendor No.02",null,"MIFPUC-1","2018-10-11","2018-10-13","Yes",{"$f":"VLOOKUP($D45,'C.1 - Rate Sheets'!B:F,2,FALSE)","v":0},{"$f":"VLOOKUP($D45,'C.1 - Rate Sheets'!B:F,3,FALSE)","v":160.21},{"$f":"VLOOKUP($D45,'C.1 - Rate Sheets'!B:F,4,FALSE)","v":208.18},{"$f":"VLOOKUP($D45,'C.1 - Rate Sheets'!B:F,5,FALSE)","v":0},null,9,null,null,null,null,16,null,null,null,null,16,null,null,null,null,null,null,null,null,null,null,null,null,null,null,null,null,null,null,null,null,null,null,null,null,null,null,null,null,null,null,null,null,null,null,null,null,null,null,null,null,null,null,null,null,null,null,null,null,null,null,null,null,null,null,null,null,null,null,null,null,null,null,null,null,null,null,null,null,null,null,null,null,null,null,null,null,null,null,null,null,null,null,null,null,null,null,null,null,null,null,null,null,null,null,null,null,null,null,null,null,null,null,null,null,null,null,null,null,null,null,null,null,null,null,null,null,null,null,null,null,null,null,null,null,null,null,null,null,null,null,null,null,null,null,null,null,null,null,0,41,0,null,41,0,6568.6100000000006,0,0,6568.6100000000006,6568.6100000000006,"Yes",0,0,0]
[null,28,"Kinsey Winstead","Senior Lineman/Journeyman Lineman","Vendor No.02",null,"MIFPUC-1","2018-10-11","2018-10-13","Yes",{"$f":"VLOOKUP($D46,'C.1 - Rate Sheets'!B:F,2,FALSE)","v":0},{"$f":"VLOOKUP($D46,'C.1 - Rate Sheets'!B:F,3,FALSE)","v":136.22},{"$f":"VLOOKUP($D46,'C.1 - Rate Sheets'!B:F,4,FALSE)","v":176.19},{"$f":"VLOOKUP($D46,'C.1 - Rate Sheets'!B:F,5,FALSE)","v":0},null,9,null,null,null,null,16,null,null,null,null,16,null,null,null,null,null,null,null,null,null,null,null,null,null,null,null,null,null,null,null,null,null,null,null,null,null,null,null,null,null,null,null,null,null,null,null,null,null,null,null,null,null,null,null,null,null,null,null,null,null,null,null,null,null,null,null,null,null,null,null,null,null,null,null,null,null,null,null,null,null,null,null,null,null,null,null,null,null,null,null,null,null,null,null,null,null,null,null,null,null,null,null,null,null,null,null,null,null,null,null,null,null,null,null,null,null,null,null,null,null,null,null,null,null,null,null,null,null,null,null,null,null,null,null,null,null,null,null,null,null,null,null,null,null,null,null,null,null,null,0,41,0,null,41,0,5585.0199999999995,0,0,5585.0199999999995,5585.0199999999995,"Yes",0,0,0]
[null,29,"Sigfrido Chiong","Foreman","Vendor No.02",null,"MIFPUC-1","2018-10-11","2018-10-13","Yes",{"$f":"VLOOKUP($D47,'C.1 - Rate Sheets'!B:F,2,FALSE)","v":0},{"$f":"VLOOKUP($D47,'C.1 - Rate Sheets'!B:F,3,FALSE)","v":148.21},{"$f":"VLOOKUP($D47,'C.1 - Rate Sheets'!B:F,4,FALSE)","v":192.19},{"$f":"VLOOKUP($D47,'C.1 - Rate Sheets'!B:F,5,FALSE)","v":0},null,9,null,null,null,null,16,null,null,null,null,16,null,null,null,null,null,null,null,null,null,null,null,null,null,null,null,null,null,null,null,null,null,null,null,null,null,null,null,null,null,null,null,null,null,null,null,null,null,null,null,null,null,null,null,null,null,null,null,null,null,null,null,null,null,null,null,null,null,null,null,null,null,null,null,null,null,null,null,null,null,null,null,null,null,null,null,null,null,null,null,null,null,null,null,null,null,null,null,null,null,null,null,null,null,null,null,null,null,null,null,null,null,null,null,null,null,null,null,null,null,null,null,null,null,null,null,null,null,null,null,null,null,null,null,null,null,null,null,null,null,null,null,null,null,null,null,null,null,null,0,41,0,null,41,0,6076.6100000000006,0,0,6076.6100000000006,6076.6100000000006,"Yes",0,0,0]
[null,30,"Jose Guttierez","Senior Lineman/Journeyman Lineman","Vendor No.02",null,"MIFPUC-1","2018-10-11","2018-10-13","Yes",{"$f":"VLOOKUP($D48,'C.1 - Rate Sheets'!B:F,2,FALSE)","v":0},{"$f":"VLOOKUP($D48,'C.1 - Rate Sheets'!B:F,3,FALSE)","v":136.22},{"$f":"VLOOKUP($D48,'C.1 - Rate Sheets'!B:F,4,FALSE)","v":176.19},{"$f":"VLOOKUP($D48,'C.1 - Rate Sheets'!B:F,5,FALSE)","v":0},null,9,null,null,null,null,16,null,null,null,null,16,null,null,null,null,null,null,null,null,null,null,null,null,null,null,null,null,null,null,null,null,null,null,null,null,null,null,null,null,null,null,null,null,null,null,null,null,null,null,null,null,null,null,null,null,null,null,null,null,null,null,null,null,null,null,null,null,null,null,null,null,null,null,null,null,null,null,null,null,null,null,null,null,null,null,null,null,null,null,null,null,null,null,null,null,null,null,null,null,null,null,null,null,null,null,null,null,null,null,null,null,null,null,null,null,null,null,null,null,null,null,null,null,null,null,null,null,null,null,null,null,null,null,null,null,null,null,null,null,null,null,null,null,null,null,null,null,null,null,0,41,0,null,41,0,5585.0199999999995,0,0,5585.0199999999995,5585.0199999999995,"Yes",0,0,0]
[null,31,"Dakota Pickup","Apprentice Helper","Vendor No.02",null,"MIFPUC-1","2018-10-11","2018-10-13","Yes",{"$f":"VLOOKUP($D49,'C.1 - Rate Sheets'!B:F,2,FALSE)","v":0},{"$f":"VLOOKUP($D49,'C.1 - Rate Sheets'!B:F,3,FALSE)","v":102.25},{"$f":"VLOOKUP($D49,'C.1 - Rate Sheets'!B:F,4,FALSE)","v":130.74},{"$f":"VLOOKUP($D49,'C.1 - Rate Sheets'!B:F,5,FALSE)","v":0},null,9,null,null,null,null,16,null,null,null,null,16,null,null,null,null,null,null,null,null,null,null,null,null,null,null,null,null,null,null,null,null,null,null,null,null,null,null,null,null,null,null,null,null,null,null,null,null,null,null,null,null,null,null,null,null,null,null,null,null,null,null,null,null,null,null,null,null,null,null,null,null,null,null,null,null,null,null,null,null,null,null,null,null,null,null,null,null,null,null,null,null,null,null,null,null,null,null,null,null,null,null,null,null,null,null,null,null,null,null,null,null,null,null,null,null,null,null,null,null,null,null,null,null,null,null,null,null,null,null,null,null,null,null,null,null,null,null,null,null,null,null,null,null,null,null,null,null,null,null,0,41,0,null,41,0,4192.25,0,0,4192.25,4192.25,"Yes",0,0,0]
[null,32,"Jeremy Minkler","Groundman","Vendor No.02",null,"MIFPUC-1","2018-10-11","2018-10-13","Yes",{"$f":"VLOOKUP($D50,'C.1 - Rate Sheets'!B:F,2,FALSE)","v":0},{"$f":"VLOOKUP($D50,'C.1 - Rate Sheets'!B:F,3,FALSE)","v":99.27},{"$f":"VLOOKUP($D50,'C.1 - Rate Sheets'!B:F,4,FALSE)","v":117.21},{"$f":"VLOOKUP($D50,'C.1 - Rate Sheets'!B:F,5,FALSE)","v":0},null,9,null,null,null,null,16,null,null,null,null,16,null,null,null,null,null,null,null,null,null,null,null,null,null,null,null,null,null,null,null,null,null,null,null,null,null,null,null,null,null,null,null,null,null,null,null,null,null,null,null,null,null,null,null,null,null,null,null,null,null,null,null,null,null,null,null,null,null,null,null,null,null,null,null,null,null,null,null,null,null,null,null,null,null,null,null,null,null,null,null,null,null,null,null,null,null,null,null,null,null,null,null,null,null,null,null,null,null,null,null,null,null,null,null,null,null,null,null,null,null,null,null,null,null,null,null,null,null,null,null,null,null,null,null,null,null,null,null,null,null,null,null,null,null,null,null,null,null,null,0,41,0,null,41,0,4070.0699999999997,0,0,4070.0699999999997,4070.0699999999997]
[null,33,"Billy Dillashaw","Equipment Operator","Vendor No.02",null,"MIFPUC-1","2018-10-11","2018-10-13","Yes",{"$f":"VLOOKUP($D51,'C.1 - Rate Sheets'!B:F,2,FALSE)","v":0},{"$f":"VLOOKUP($D51,'C.1 - Rate Sheets'!B:F,3,FALSE)","v":116.87},{"$f":"VLOOKUP($D51,'C.1 - Rate Sheets'!B:F,4,FALSE)","v":151.13},{"$f":"VLOOKUP($D51,'C.1 - Rate Sheets'!B:F,5,FALSE)","v":0},null,null,null,null,null,null,16,null,null,null,null,16,null,null,null,null,null,null,null,null,null,null,null,null,null,null,null,null,null,null,null,null,null,null,null,null,null,null,null,null,null,null,null,null,null,null,null,null,null,null,null,null,null,null,null,null,null,null,null,null,null,null,null,null,null,null,null,null,null,null,null,null,null,null,null,null,null,null,null,null,null,null,null,null,null,null,null,null,null,null,null,null,null,null,null,null,null,null,null,null,null,null,null,null,null,null,null,null,null,null,null,null,null,null,null,null,null,null,null,null,null,null,null,null,null,null,null,null,null,null,null,null,null,null,null,null,null,null,null,null,null,null,null,null,null,null,null,null,null,null,0,32,0,null,32,0,3739.84,0,0,3739.84,3739.84,"Yes",0,0,0]
[null,34,"Mike Katulka","Foreman","Vendor No.02",null,"MIFPUC-1","2018-10-11","2018-10-13","Yes",{"$f":"VLOOKUP($D52,'C.1 - Rate Sheets'!B:F,2,FALSE)","v":0},{"$f":"VLOOKUP($D52,'C.1 - Rate Sheets'!B:F,3,FALSE)","v":148.21},{"$f":"VLOOKUP($D52,'C.1 - Rate Sheets'!B:F,4,FALSE)","v":192.19},{"$f":"VLOOKUP($D52,'C.1 - Rate Sheets'!B:F,5,FALSE)","v":0},null,9,null,null,null,null,16,null,null,null,null,16,null,null,null,null,null,null,null,null,null,null,null,null,null,null,null,null,null,null,null,null,null,null,null,null,null,null,null,null,null,null,null,null,null,null,null,null,null,null,null,null,null,null,null,null,null,null,null,null,null,null,null,null,null,null,null,null,null,null,null,null,null,null,null,null,null,null,null,null,null,null,null,null,null,null,null,null,null,null,null,null,null,null,null,null,null,null,null,null,null,null,null,null,null,null,null,null,null,null,null,null,null,null,null,null,null,null,null,null,null,null,null,null,null,null,null,null,null,null,null,null,null,null,null,null,null,null,null,null,null,null,null,null,null,null,null,null,null,null,0,41,0,null,41,0,6076.6100000000006,0,0,6076.6100000000006,6076.6100000000006,"Yes",0,0,0]
[null,35,"Yonielt Alfonso","Senior Lineman/Journeyman Lineman","Vendor No.02",null,"MIFPUC-1","2018-10-11","2018-10-13","Yes",{"$f":"VLOOKUP($D53,'C.1 - Rate Sheets'!B:F,2,FALSE)","v":0},{"$f":"VLOOKUP($D53,'C.1 - Rate Sheets'!B:F,3,FALSE)","v":136.22},{"$f":"VLOOKUP($D53,'C.1 - Rate Sheets'!B:F,4,FALSE)","v":176.19},{"$f":"VLOOKUP($D53,'C.1 - Rate Sheets'!B:F,5,FALSE)","v":0},null,9,null,null,null,null,16,null,null,null,null,16,null,null,null,null,null,null,null,null,null,null,null,null,null,null,null,null,null,null,null,null,null,null,null,null,null,null,null,null,null,null,null,null,null,null,null,null,null,null,null,null,null,null,null,null,null,null,null,null,null,null,null,null,null,null,null,null,null,null,null,null,null,null,null,null,null,null,null,null,null,null,null,null,null,null,null,null,null,null,null,null,null,null,null,null,null,null,null,null,null,null,null,null,null,null,null,null,null,null,null,null,null,null,null,null,null,null,null,null,null,null,null,null,null,null,null,null,null,null,null,null,null,null,null,null,null,null,null,null,null,null,null,null,null,null,null,null,null,null,0,41,0,null,41,0,5585.0199999999995,0,0,5585.0199999999995,5585.0199999999995,"Yes",0,0,0]
[null,36,"Joseph Kelly","Line Tech B","Vendor No.02",null,"MIFPUC-1","2018-10-11","2018-10-13","Yes",{"$f":"VLOOKUP($D54,'C.1 - Rate Sheets'!B:F,2,FALSE)","v":0},{"$f":"VLOOKUP($D54,'C.1 - Rate Sheets'!B:F,3,FALSE)","v":118.24},{"$f":"VLOOKUP($D54,'C.1 - Rate Sheets'!B:F,4,FALSE)","v":152.22},{"$f":"VLOOKUP($D54,'C.1 - Rate Sheets'!B:F,5,FALSE)","v":0},null,9,null,null,null,null,16,null,null,null,null,16,null,null,null,null,null,null,null,null,null,null,null,null,null,null,null,null,null,null,null,null,null,null,null,null,null,null,null,null,null,null,null,null,null,null,null,null,null,null,null,null,null,null,null,null,null,null,null,null,null,null,null,null,null,null,null,null,null,null,null,null,null,null,null,null,null,null,null,null,null,null,null,null,null,null,null,null,null,null,null,null,null,null,null,null,null,null,null,null,null,null,null,null,null,null,null,null,null,null,null,null,null,null,null,null,null,null,null,null,null,null,null,null,null,null,null,null,null,null,null,null,null,null,null,null,null,null,null,null,null,null,null,null,null,null,null,null,null,null,0,41,0,null,41,0,4847.84,0,0,4847.84,4847.84,"Yes",0,0,0]
[null,37,"Chris Miller","Apprentice Helper","Vendor No.02",null,"MIFPUC-1","2018-10-11","2018-10-13","Yes",{"$f":"VLOOKUP($D55,'C.1 - Rate Sheets'!B:F,2,FALSE)","v":0},{"$f":"VLOOKUP($D55,'C.1 - Rate Sheets'!B:F,3,FALSE)","v":102.25},{"$f":"VLOOKUP($D55,'C.1 - Rate Sheets'!B:F,4,FALSE)","v":130.74},{"$f":"VLOOKUP($D55,'C.1 - Rate Sheets'!B:F,5,FALSE)","v":0},null,9,null,null,null,null,16,null,null,null,null,16,null,null,null,null,null,null,null,null,null,null,null,null,null,null,null,null,null,null,null,null,null,null,null,null,null,null,null,null,null,null,null,null,null,null,null,null,null,null,null,null,null,null,null,null,null,null,null,null,null,null,null,null,null,null,null,null,null,null,null,null,null,null,null,null,null,null,null,null,null,null,null,null,null,null,null,null,null,null,null,null,null,null,null,null,null,null,null,null,null,null,null,null,null,null,null,null,null,null,null,null,null,null,null,null,null,null,null,null,null,null,null,null,null,null,null,null,null,null,null,null,null,null,null,null,null,null,null,null,null,null,null,null,null,null,null,null,null,null,0,41,0,null,41,0,4192.25,0,0,4192.25,4192.25,"Yes",0,0,0]
[null,38,"Anthony Quay","Equipment Operator","Vendor No.02",null,"MIFPUC-1","2018-10-11","2018-10-13","Yes",{"$f":"VLOOKUP($D56,'C.1 - Rate Sheets'!B:F,2,FALSE)","v":0},{"$f":"VLOOKUP($D56,'C.1 - Rate Sheets'!B:F,3,FALSE)","v":116.87},{"$f":"VLOOKUP($D56,'C.1 - Rate Sheets'!B:F,4,FALSE)","v":151.13},{"$f":"VLOOKUP($D56,'C.1 - Rate Sheets'!B:F,5,FALSE)","v":0},null,null,null,null,null,null,16,null,null,null,null,16,null,null,null,null,null,null,null,null,null,null,null,null,null,null,null,null,null,null,null,null,null,null,null,null,null,null,null,null,null,null,null,null,null,null,null,null,null,null,null,null,null,null,null,null,null,null,null,null,null,null,null,null,null,null,null,null,null,null,null,null,null,null,null,null,null,null,null,null,null,null,null,null,null,null,null,null,null,null,null,null,null,null,null,null,null,null,null,null,null,null,null,null,null,null,null,null,null,null,null,null,null,null,null,null,null,null,null,null,null,null,null,null,null,null,null,null,null,null,null,null,null,null,null,null,null,null,null,null,null,null,null,null,null,null,null,null,null,null,0,32,0,null,32,0,3739.84,0,0,3739.84,3739.84,"Yes",0,0,0]
[null,39,"Ismael Rivera","Foreman","Vendor No.02",null,"MIFPUC-1","2018-10-11","2018-10-13","Yes",{"$f":"VLOOKUP($D57,'C.1 - Rate Sheets'!B:F,2,FALSE)","v":0},{"$f":"VLOOKUP($D57,'C.1 - Rate Sheets'!B:F,3,FALSE)","v":148.21},{"$f":"VLOOKUP($D57,'C.1 - Rate Sheets'!B:F,4,FALSE)","v":192.19},{"$f":"VLOOKUP($D57,'C.1 - Rate Sheets'!B:F,5,FALSE)","v":0},null,9,null,null,null,null,16,null,null,null,null,16,null,null,null,null,null,null,null,null,null,null,null,null,null,null,null,null,null,null,null,null,null,null,null,null,null,null,null,null,null,null,null,null,null,null,null,null,null,null,null,null,null,null,null,null,null,null,null,null,null,null,null,null,null,null,null,null,null,null,null,null,null,null,null,null,null,null,null,null,null,null,null,null,null,null,null,null,null,null,null,null,null,null,null,null,null,null,null,null,null,null,null,null,null,null,null,null,null,null,null,null,null,null,null,null,null,null,null,null,null,null,null,null,null,null,null,null,null,null,null,null,null,null,null,null,null,null,null,null,null,null,null,null,null,null,null,null,null,null,0,41,0,null,41,0,6076.6100000000006,0,0,6076.6100000000006,6076.6100000000006,"Yes",0,0,0]
[null,40,"Cesar Bello","Senior Lineman/Journeyman Lineman","Vendor No.02",null,"MIFPUC-1","2018-10-11","2018-10-13","Yes",{"$f":"VLOOKUP($D58,'C.1 - Rate Sheets'!B:F,2,FALSE)","v":0},{"$f":"VLOOKUP($D58,'C.1 - Rate Sheets'!B:F,3,FALSE)","v":136.22},{"$f":"VLOOKUP($D58,'C.1 - Rate Sheets'!B:F,4,FALSE)","v":176.19},{"$f":"VLOOKUP($D58,'C.1 - Rate Sheets'!B:F,5,FALSE)","v":0},null,9,null,null,null,null,16,null,null,null,null,16,null,null,null,null,null,null,null,null,null,null,null,null,null,null,null,null,null,null,null,null,null,null,null,null,null,null,null,null,null,null,null,null,null,null,null,null,null,null,null,null,null,null,null,null,null,null,null,null,null,null,null,null,null,null,null,null,null,null,null,null,null,null,null,null,null,null,null,null,null,null,null,null,null,null,null,null,null,null,null,null,null,null,null,null,null,null,null,null,null,null,null,null,null,null,null,null,null,null,null,null,null,null,null,null,null,null,null,null,null,null,null,null,null,null,null,null,null,null,null,null,null,null,null,null,null,null,null,null,null,null,null,null,null,null,null,null,null,null,0,41,0,null,41,0,5585.0199999999995,0,0,5585.0199999999995,5585.0199999999995,"Yes",0,0,0]
[null,41,"Pedro Rico","Senior Lineman/Journeyman Lineman","Vendor No.02",null,"MIFPUC-1","2018-10-11","2018-10-13","Yes",{"$f":"VLOOKUP($D59,'C.1 - Rate Sheets'!B:F,2,FALSE)","v":0},{"$f":"VLOOKUP($D59,'C.1 - Rate Sheets'!B:F,3,FALSE)","v":136.22},{"$f":"VLOOKUP($D59,'C.1 - Rate Sheets'!B:F,4,FALSE)","v":176.19},{"$f":"VLOOKUP($D59,'C.1 - Rate Sheets'!B:F,5,FALSE)","v":0},null,9,null,null,null,null,16,null,null,null,null,16,null,null,null,null,null,null,null,null,null,null,null,null,null,null,null,null,null,null,null,null,null,null,null,null,null,null,null,null,null,null,null,null,null,null,null,null,null,null,null,null,null,null,null,null,null,null,null,null,null,null,null,null,null,null,null,null,null,null,null,null,null,null,null,null,null,null,null,null,null,null,null,null,null,null,null,null,null,null,null,null,null,null,null,null,null,null,null,null,null,null,null,null,null,null,null,null,null,null,null,null,null,null,null,null,null,null,null,null,null,null,null,null,null,null,null,null,null,null,null,null,null,null,null,null,null,null,null,null,null,null,null,null,null,null,null,null,null,null,0,41,0,null,41,0,5585.0199999999995,0,0,5585.0199999999995,5585.0199999999995,"Yes",0,0,0]
[null,42,"Giovanni Febus","Senior Lineman/Journeyman Lineman","Vendor No.02",null,"MIFPUC-1","2018-10-11","2018-10-13","Yes",{"$f":"VLOOKUP($D60,'C.1 - Rate Sheets'!B:F,2,FALSE)","v":0},{"$f":"VLOOKUP($D60,'C.1 - Rate Sheets'!B:F,3,FALSE)","v":136.22},{"$f":"VLOOKUP($D60,'C.1 - Rate Sheets'!B:F,4,FALSE)","v":176.19},{"$f":"VLOOKUP($D60,'C.1 - Rate Sheets'!B:F,5,FALSE)","v":0},null,9,null,null,null,null,16,null,null,null,null,16,null,null,null,null,null,null,null,null,null,null,null,null,null,null,null,null,null,null,null,null,null,null,null,null,null,null,null,null,null,null,null,null,null,null,null,null,null,null,null,null,null,null,null,null,null,null,null,null,null,null,null,null,null,null,null,null,null,null,null,null,null,null,null,null,null,null,null,null,null,null,null,null,null,null,null,null,null,null,null,null,null,null,null,null,null,null,null,null,null,null,null,null,null,null,null,null,null,null,null,null,null,null,null,null,null,null,null,null,null,null,null,null,null,null,null,null,null,null,null,null,null,null,null,null,null,null,null,null,null,null,null,null,null,null,null,null,null,null,0,41,0,null,41,0,5585.0199999999995,0,0,5585.0199999999995,5585.0199999999995,"Yes",0,0,0]
[null,43,"Tanner Lewis","Apprentice Helper","Vendor No.02",null,"MIFPUC-1","2018-10-11","2018-10-13","Yes",{"$f":"VLOOKUP($D61,'C.1 - Rate Sheets'!B:F,2,FALSE)","v":0},{"$f":"VLOOKUP($D61,'C.1 - Rate Sheets'!B:F,3,FALSE)","v":102.25},{"$f":"VLOOKUP($D61,'C.1 - Rate Sheets'!B:F,4,FALSE)","v":130.74},{"$f":"VLOOKUP($D61,'C.1 - Rate Sheets'!B:F,5,FALSE)","v":0},null,9,null,null,null,null,16,null,null,null,null,16,null,null,null,null,null,null,null,null,null,null,null,null,null,null,null,null,null,null,null,null,null,null,null,null,null,null,null,null,null,null,null,null,null,null,null,null,null,null,null,null,null,null,null,null,null,null,null,null,null,null,null,null,null,null,null,null,null,null,null,null,null,null,null,null,null,null,null,null,null,null,null,null,null,null,null,null,null,null,null,null,null,null,null,null,null,null,null,null,null,null,null,null,null,null,null,null,null,null,null,null,null,null,null,null,null,null,null,null,null,null,null,null,null,null,null,null,null,null,null,null,null,null,null,null,null,null,null,null,null,null,null,null,null,null,null,null,null,null,0,41,0,null,41,0,4192.25,0,0,4192.25,4192.25,"No",0,0,0]
[null,44,"Yeudiel Rivera","Foreman","Vendor No.02",null,"MIFPUC-1","2018-10-11","2018-10-13","Yes",{"$f":"VLOOKUP($D62,'C.1 - Rate Sheets'!B:F,2,FALSE)","v":0},{"$f":"VLOOKUP($D62,'C.1 - Rate Sheets'!B:F,3,FALSE)","v":148.21},{"$f":"VLOOKUP($D62,'C.1 - Rate Sheets'!B:F,4,FALSE)","v":192.19},{"$f":"VLOOKUP($D62,'C.1 - Rate Sheets'!B:F,5,FALSE)","v":0},null,9,null,null,null,null,16,null,null,null,null,16,null,null,null,null,null,null,null,null,null,null,null,null,null,null,null,null,null,null,null,null,null,null,null,null,null,null,null,null,null,null,null,null,null,null,null,null,null,null,null,null,null,null,null,null,null,null,null,null,null,null,null,null,null,null,null,null,null,null,null,null,null,null,null,null,null,null,null,null,null,null,null,null,null,null,null,null,null,null,null,null,null,null,null,null,null,null,null,null,null,null,null,null,null,null,null,null,null,null,null,null,null,null,null,null,null,null,null,null,null,null,null,null,null,null,null,null,null,null,null,null,null,null,null,null,null,null,null,null,null,null,null,null,null,null,null,null,null,null,0,41,0,null,41,0,6076.6100000000006,0,0,6076.6100000000006,6076.6100000000006,"Yes",0,0,0]
[null,45,"Angel Calo","Senior Lineman/Journeyman Lineman","Vendor No.02",null,"MIFPUC-1","2018-10-11","2018-10-13","Yes",{"$f":"VLOOKUP($D63,'C.1 - Rate Sheets'!B:F,2,FALSE)","v":0},{"$f":"VLOOKUP($D63,'C.1 - Rate Sheets'!B:F,3,FALSE)","v":136.22},{"$f":"VLOOKUP($D63,'C.1 - Rate Sheets'!B:F,4,FALSE)","v":176.19},{"$f":"VLOOKUP($D63,'C.1 - Rate Sheets'!B:F,5,FALSE)","v":0},null,9,null,null,null,null,16,null,null,null,null,16,null,null,null,null,null,null,null,null,null,null,null,null,null,null,null,null,null,null,null,null,null,null,null,null,null,null,null,null,null,null,null,null,null,null,null,null,null,null,null,null,null,null,null,null,null,null,null,null,null,null,null,null,null,null,null,null,null,null,null,null,null,null,null,null,null,null,null,null,null,null,null,null,null,null,null,null,null,null,null,null,null,null,null,null,null,null,null,null,null,null,null,null,null,null,null,null,null,null,null,null,null,null,null,null,null,null,null,null,null,null,null,null,null,null,null,null,null,null,null,null,null,null,null,null,null,null,null,null,null,null,null,null,null,null,null,null,null,null,0,41,0,null,41,0,5585.0199999999995,0,0,5585.0199999999995,5585.0199999999995,"Yes",0,0,0]
[null,46,"Jose Clinton","Senior Lineman/Journeyman Lineman","Vendor No.02",null,"MIFPUC-1","2018-10-11","2018-10-13","Yes",{"$f":"VLOOKUP($D64,'C.1 - Rate Sheets'!B:F,2,FALSE)","v":0},{"$f":"VLOOKUP($D64,'C.1 - Rate Sheets'!B:F,3,FALSE)","v":136.22},{"$f":"VLOOKUP($D64,'C.1 - Rate Sheets'!B:F,4,FALSE)","v":176.19},{"$f":"VLOOKUP($D64,'C.1 - Rate Sheets'!B:F,5,FALSE)","v":0},null,9,null,null,null,null,16,null,null,null,null,16,null,null,null,null,null,null,null,null,null,null,null,null,null,null,null,null,null,null,null,null,null,null,null,null,null,null,null,null,null,null,null,null,null,null,null,null,null,null,null,null,null,null,null,null,null,null,null,null,null,null,null,null,null,null,null,null,null,null,null,null,null,null,null,null,null,null,null,null,null,null,null,null,null,null,null,null,null,null,null,null,null,null,null,null,null,null,null,null,null,null,null,null,null,null,null,null,null,null,null,null,null,null,null,null,null,null,null,null,null,null,null,null,null,null,null,null,null,null,null,null,null,null,null,null,null,null,null,null,null,null,null,null,null,null,null,null,null,null,0,41,0,null,41,0,5585.0199999999995,0,0,5585.0199999999995,5585.0199999999995,"Yes",0,0,0]
[null,47,"Joseph Febus","Groundman","Vendor No.02",null,"MIFPUC-1","2018-10-11","2018-10-13","Yes",{"$f":"VLOOKUP($D65,'C.1 - Rate Sheets'!B:F,2,FALSE)","v":0},{"$f":"VLOOKUP($D65,'C.1 - Rate Sheets'!B:F,3,FALSE)","v":99.27},{"$f":"VLOOKUP($D65,'C.1 - Rate Sheets'!B:F,4,FALSE)","v":117.21},{"$f":"VLOOKUP($D65,'C.1 - Rate Sheets'!B:F,5,FALSE)","v":0},null,9,null,null,null,null,16,null,null,null,null,16,null,null,null,null,null,null,null,null,null,null,null,null,null,null,null,null,null,null,null,null,null,null,null,null,null,null,null,null,null,null,null,null,null,null,null,null,null,null,null,null,null,null,null,null,null,null,null,null,null,null,null,null,null,null,null,null,null,null,null,null,null,null,null,null,null,null,null,null,null,null,null,null,null,null,null,null,null,null,null,null,null,null,null,null,null,null,null,null,null,null,null,null,null,null,null,null,null,null,null,null,null,null,null,null,null,null,null,null,null,null,null,null,null,null,null,null,null,null,null,null,null,null,null,null,null,null,null,null,null,null,null,null,null,null,null,null,null,null,0,41,0,null,41,0,4070.0699999999997,0,0,4070.0699999999997,4070.0699999999997,"Yes",0,0,0]
[null,48,"Scotty Hogan","Equipment Operator","Vendor No.02",null,"MIFPUC-1","2018-10-11","2018-10-13","Yes",{"$f":"VLOOKUP($D66,'C.1 - Rate Sheets'!B:F,2,FALSE)","v":0},{"$f":"VLOOKUP($D66,'C.1 - Rate Sheets'!B:F,3,FALSE)","v":116.87},{"$f":"VLOOKUP($D66,'C.1 - Rate Sheets'!B:F,4,FALSE)","v":151.13},{"$f":"VLOOKUP($D66,'C.1 - Rate Sheets'!B:F,5,FALSE)","v":0},null,null,null,null,null,null,16,null,null,null,null,16,null,null,null,null,null,null,null,null,null,null,null,null,null,null,null,null,null,null,null,null,null,null,null,null,null,null,null,null,null,null,null,null,null,null,null,null,null,null,null,null,null,null,null,null,null,null,null,null,null,null,null,null,null,null,null,null,null,null,null,null,null,null,null,null,null,null,null,null,null,null,null,null,null,null,null,null,null,null,null,null,null,null,null,null,null,null,null,null,null,null,null,null,null,null,null,null,null,null,null,null,null,null,null,null,null,null,null,null,null,null,null,null,null,null,null,null,null,null,null,null,null,null,null,null,null,null,null,null,null,null,null,null,null,null,null,null,null,null,0,32,0,null,32,0,3739.84,0,0,3739.84,3739.84,"Yes",0,0,0]
[null,49,"John Davis","Foreman","Vendor No.02",null,"MIFPUC-1","2018-10-11","2018-10-13","Yes",{"$f":"VLOOKUP($D67,'C.1 - Rate Sheets'!B:F,2,FALSE)","v":0},{"$f":"VLOOKUP($D67,'C.1 - Rate Sheets'!B:F,3,FALSE)","v":148.21},{"$f":"VLOOKUP($D67,'C.1 - Rate Sheets'!B:F,4,FALSE)","v":192.19},{"$f":"VLOOKUP($D67,'C.1 - Rate Sheets'!B:F,5,FALSE)","v":0},null,null,null,null,null,null,16,null,null,null,null,16,null,null,null,null,null,null,null,null,null,null,null,null,null,null,null,null,null,null,null,null,null,null,null,null,null,null,null,null,null,null,null,null,null,null,null,null,null,null,null,null,null,null,null,null,null,null,null,null,null,null,null,null,null,null,null,null,null,null,null,null,null,null,null,null,null,null,null,null,null,null,null,null,null,null,null,null,null,null,null,null,null,null,null,null,null,null,null,null,null,null,null,null,null,null,null,null,null,null,null,null,null,null,null,null,null,null,null,null,null,null,null,null,null,null,null,null,null,null,null,null,null,null,null,null,null,null,null,null,null,null,null,null,null,null,null,null,null,null,0,32,0,null,32,0,4742.72,0,0,4742.72,4742.72,"Yes",0,0,0]
[null,50,"Matthew Breiling","Senior Lineman/Journeyman Lineman","Vendor No.02",null,"MIFPUC-1","2018-10-11","2018-10-13","Yes",{"$f":"VLOOKUP($D68,'C.1 - Rate Sheets'!B:F,2,FALSE)","v":0},{"$f":"VLOOKUP($D68,'C.1 - Rate Sheets'!B:F,3,FALSE)","v":136.22},{"$f":"VLOOKUP($D68,'C.1 - Rate Sheets'!B:F,4,FALSE)","v":176.19},{"$f":"VLOOKUP($D68,'C.1 - Rate Sheets'!B:F,5,FALSE)","v":0},null,null,null,null,null,null,16,null,null,null,null,16,null,null,null,null,null,null,null,null,null,null,null,null,null,null,null,null,null,null,null,null,null,null,null,null,null,null,null,null,null,null,null,null,null,null,null,null,null,null,null,null,null,null,null,null,null,null,null,null,null,null,null,null,null,null,null,null,null,null,null,null,null,null,null,null,null,null,null,null,null,null,null,null,null,null,null,null,null,null,null,null,null,null,null,null,null,null,null,null,null,null,null,null,null,null,null,null,null,null,null,null,null,null,null,null,null,null,null,null,null,null,null,null,null,null,null,null,null,null,null,null,null,null,null,null,null,null,null,null,null,null,null,null,null,null,null,null,null,null,0,32,0,null,32,0,4359.04,0,0,4359.04,4359.04,"Yes",0,0,0]
[null,51,"Michael Donnellan","Groundman","Vendor No.02",null,"MIFPUC-1","2018-10-11","2018-10-13","Yes",{"$f":"VLOOKUP($D69,'C.1 - Rate Sheets'!B:F,2,FALSE)","v":0},{"$f":"VLOOKUP($D69,'C.1 - Rate Sheets'!B:F,3,FALSE)","v":99.27},{"$f":"VLOOKUP($D69,'C.1 - Rate Sheets'!B:F,4,FALSE)","v":117.21},{"$f":"VLOOKUP($D69,'C.1 - Rate Sheets'!B:F,5,FALSE)","v":0},null,null,null,null,null,null,16,null,null,null,null,16,null,null,null,null,null,null,null,null,null,null,null,null,null,null,null,null,null,null,null,null,null,null,null,null,null,null,null,null,null,null,null,null,null,null,null,null,null,null,null,null,null,null,null,null,null,null,null,null,null,null,null,null,null,null,null,null,null,null,null,null,null,null,null,null,null,null,null,null,null,null,null,null,null,null,null,null,null,null,null,null,null,null,null,null,null,null,null,null,null,null,null,null,null,null,null,null,null,null,null,null,null,null,null,null,null,null,null,null,null,null,null,null,null,null,null,null,null,null,null,null,null,null,null,null,null,null,null,null,null,null,null,null,null,null,null,null,null,null,0,32,0,null,32,0,3176.64,0,0,3176.64,3176.64,"Yes",0,0,0]
[null,52,"Emanuel Gonzalez","Senior Lineman/Journeyman Lineman","Vendor No.02",null,"MIFPUC-1","2018-10-11","2018-10-13","Yes",{"$f":"VLOOKUP($D70,'C.1 - Rate Sheets'!B:F,2,FALSE)","v":0},{"$f":"VLOOKUP($D70,'C.1 - Rate Sheets'!B:F,3,FALSE)","v":136.22},{"$f":"VLOOKUP($D70,'C.1 - Rate Sheets'!B:F,4,FALSE)","v":176.19},{"$f":"VLOOKUP($D70,'C.1 - Rate Sheets'!B:F,5,FALSE)","v":0},null,null,null,null,null,null,16,null,null,null,null,16,null,null,null,null,null,null,null,null,null,null,null,null,null,null,null,null,null,null,null,null,null,null,null,null,null,null,null,null,null,null,null,null,null,null,null,null,null,null,null,null,null,null,null,null,null,null,null,null,null,null,null,null,null,null,null,null,null,null,null,null,null,null,null,null,null,null,null,null,null,null,null,null,null,null,null,null,null,null,null,null,null,null,null,null,null,null,null,null,null,null,null,null,null,null,null,null,null,null,null,null,null,null,null,null,null,null,null,null,null,null,null,null,null,null,null,null,null,null,null,null,null,null,null,null,null,null,null,null,null,null,null,null,null,null,null,null,null,null,0,32,0,null,32,0,4359.04,0,0,4359.04,4359.04,"Yes",0,0,0]
[null,53,"Bobby Bahrami","Senior Lineman/Journeyman Lineman","Vendor No.02",null,"MIFPUC-1","2018-10-11","2018-10-13","Yes",{"$f":"VLOOKUP($D71,'C.1 - Rate Sheets'!B:F,2,FALSE)","v":0},{"$f":"VLOOKUP($D71,'C.1 - Rate Sheets'!B:F,3,FALSE)","v":136.22},{"$f":"VLOOKUP($D71,'C.1 - Rate Sheets'!B:F,4,FALSE)","v":176.19},{"$f":"VLOOKUP($D71,'C.1 - Rate Sheets'!B:F,5,FALSE)","v":0},null,null,null,null,null,null,16,null,null,null,null,16,null,null,null,null,null,null,null,null,null,null,null,null,null,null,null,null,null,null,null,null,null,null,null,null,null,null,null,null,null,null,null,null,null,null,null,null,null,null,null,null,null,null,null,null,null,null,null,null,null,null,null,null,null,null,null,null,null,null,null,null,null,null,null,null,null,null,null,null,null,null,null,null,null,null,null,null,null,null,null,null,null,null,null,null,null,null,null,null,null,null,null,null,null,null,null,null,null,null,null,null,null,null,null,null,null,null,null,null,null,null,null,null,null,null,null,null,null,null,null,null,null,null,null,null,null,null,null,null,null,null,null,null,null,null,null,null,null,null,0,32,0,null,32,0,4359.04,0,0,4359.04,4359.04]
[null,54,"Mark Monaboe","Apprentice Helper","Vendor No.02",null,"MIFPUC-1","2018-10-11","2018-10-13","Yes",{"$f":"VLOOKUP($D72,'C.1 - Rate Sheets'!B:F,2,FALSE)","v":0},{"$f":"VLOOKUP($D72,'C.1 - Rate Sheets'!B:F,3,FALSE)","v":102.25},{"$f":"VLOOKUP($D72,'C.1 - Rate Sheets'!B:F,4,FALSE)","v":130.74},{"$f":"VLOOKUP($D72,'C.1 - Rate Sheets'!B:F,5,FALSE)","v":0},null,null,null,null,null,null,16,null,null,null,null,16,null,null,null,null,null,null,null,null,null,null,null,null,null,null,null,null,null,null,null,null,null,null,null,null,null,null,null,null,null,null,null,null,null,null,null,null,null,null,null,null,null,null,null,null,null,null,null,null,null,null,null,null,null,null,null,null,null,null,null,null,null,null,null,null,null,null,null,null,null,null,null,null,null,null,null,null,null,null,null,null,null,null,null,null,null,null,null,null,null,null,null,null,null,null,null,null,null,null,null,null,null,null,null,null,null,null,null,null,null,null,null,null,null,null,null,null,null,null,null,null,null,null,null,null,null,null,null,null,null,null,null,null,null,null,null,null,null,null,0,32,0,null,32,0,3272,0,0,3272,3272,"Yes",0,0,0]
[null,55,"James Pinson","Foreman","Vendor No.02",null,"MIFPUC-1","2018-10-11","2018-10-13","Yes",{"$f":"VLOOKUP($D73,'C.1 - Rate Sheets'!B:F,2,FALSE)","v":0},{"$f":"VLOOKUP($D73,'C.1 - Rate Sheets'!B:F,3,FALSE)","v":148.21},{"$f":"VLOOKUP($D73,'C.1 - Rate Sheets'!B:F,4,FALSE)","v":192.19},{"$f":"VLOOKUP($D73,'C.1 - Rate Sheets'!B:F,5,FALSE)","v":0},null,null,null,null,null,null,16,null,null,null,null,16,null,null,null,null,null,null,null,null,null,null,null,null,null,null,null,null,null,null,null,null,null,null,null,null,null,null,null,null,null,null,null,null,null,null,null,null,null,null,null,null,null,null,null,null,null,null,null,null,null,null,null,null,null,null,null,null,null,null,null,null,null,null,null,null,null,null,null,null,null,null,null,null,null,null,null,null,null,null,null,null,null,null,null,null,null,null,null,null,null,null,null,null,null,null,null,null,null,null,null,null,null,null,null,null,null,null,null,null,null,null,null,null,null,null,null,null,null,null,null,null,null,null,null,null,null,null,null,null,null,null,null,null,null,null,null,null,null,null,0,32,0,null,32,0,4742.72,0,0,4742.72,4742.72,"Yes",0,0,0]
[null,56,"Jorge Sotolongo","Groundman","Vendor No.02",null,"MIFPUC-1","2018-10-11","2018-10-13","Yes",{"$f":"VLOOKUP($D74,'C.1 - Rate Sheets'!B:F,2,FALSE)","v":0},{"$f":"VLOOKUP($D74,'C.1 - Rate Sheets'!B:F,3,FALSE)","v":99.27},{"$f":"VLOOKUP($D74,'C.1 - Rate Sheets'!B:F,4,FALSE)","v":117.21},{"$f":"VLOOKUP($D74,'C.1 - Rate Sheets'!B:F,5,FALSE)","v":0},null,null,null,null,null,null,16,null,null,null,null,16,null,null,null,null,null,null,null,null,null,null,null,null,null,null,null,null,null,null,null,null,null,null,null,null,null,null,null,null,null,null,null,null,null,null,null,null,null,null,null,null,null,null,null,null,null,null,null,null,null,null,null,null,null,null,null,null,null,null,null,null,null,null,null,null,null,null,null,null,null,null,null,null,null,null,null,null,null,null,null,null,null,null,null,null,null,null,null,null,null,null,null,null,null,null,null,null,null,null,null,null,null,null,null,null,null,null,null,null,null,null,null,null,null,null,null,null,null,null,null,null,null,null,null,null,null,null,null,null,null,null,null,null,null,null,null,null,null,null,0,32,0,null,32,0,3176.64,0,0,3176.64,3176.64,"Yes",0,0,0]
[null,57,"Alex Herrnandez","Senior Lineman/Journeyman Lineman","Vendor No.02",null,"MIFPUC-1","2018-10-11","2018-10-13","Yes",{"$f":"VLOOKUP($D75,'C.1 - Rate Sheets'!B:F,2,FALSE)","v":0},{"$f":"VLOOKUP($D75,'C.1 - Rate Sheets'!B:F,3,FALSE)","v":136.22},{"$f":"VLOOKUP($D75,'C.1 - Rate Sheets'!B:F,4,FALSE)","v":176.19},{"$f":"VLOOKUP($D75,'C.1 - Rate Sheets'!B:F,5,FALSE)","v":0},null,null,null,null,null,null,16,null,null,null,null,16,null,null,null,null,null,null,null,null,null,null,null,null,null,null,null,null,null,null,null,null,null,null,null,null,null,null,null,null,null,null,null,null,null,null,null,null,null,null,null,null,null,null,null,null,null,null,null,null,null,null,null,null,null,null,null,null,null,null,null,null,null,null,null,null,null,null,null,null,null,null,null,null,null,null,null,null,null,null,null,null,null,null,null,null,null,null,null,null,null,null,null,null,null,null,null,null,null,null,null,null,null,null,null,null,null,null,null,null,null,null,null,null,null,null,null,null,null,null,null,null,null,null,null,null,null,null,null,null,null,null,null,null,null,null,null,null,null,null,0,32,0,null,32,0,4359.04,0,0,4359.04,4359.04,"Yes",0,0,0]
[null,58,"Garrett McDonald","Groundman","Vendor No.02",null,"MIFPUC-1","2018-10-11","2018-10-13","Yes",{"$f":"VLOOKUP($D76,'C.1 - Rate Sheets'!B:F,2,FALSE)","v":0},{"$f":"VLOOKUP($D76,'C.1 - Rate Sheets'!B:F,3,FALSE)","v":99.27},{"$f":"VLOOKUP($D76,'C.1 - Rate Sheets'!B:F,4,FALSE)","v":117.21},{"$f":"VLOOKUP($D76,'C.1 - Rate Sheets'!B:F,5,FALSE)","v":0},null,null,null,null,null,null,16,null,null,null,null,16,null,null,null,null,null,null,null,null,null,null,null,null,null,null,null,null,null,null,null,null,null,null,null,null,null,null,null,null,null,null,null,null,null,null,null,null,null,null,null,null,null,null,null,null,null,null,null,null,null,null,null,null,null,null,null,null,null,null,null,null,null,null,null,null,null,null,null,null,null,null,null,null,null,null,null,null,null,null,null,null,null,null,null,null,null,null,null,null,null,null,null,null,null,null,null,null,null,null,null,null,null,null,null,null,null,null,null,null,null,null,null,null,null,null,null,null,null,null,null,null,null,null,null,null,null,null,null,null,null,null,null,null,null,null,null,null,null,null,0,32,0,null,32,0,3176.64,0,0,3176.64,3176.64,"Yes",0,0,0]
[null,59,"Joel Molina","Senior Lineman/Journeyman Lineman","Vendor No.02",null,"MIFPUC-1","2018-10-11","2018-10-13","Yes",{"$f":"VLOOKUP($D77,'C.1 - Rate Sheets'!B:F,2,FALSE)","v":0},{"$f":"VLOOKUP($D77,'C.1 - Rate Sheets'!B:F,3,FALSE)","v":136.22},{"$f":"VLOOKUP($D77,'C.1 - Rate Sheets'!B:F,4,FALSE)","v":176.19},{"$f":"VLOOKUP($D77,'C.1 - Rate Sheets'!B:F,5,FALSE)","v":0},null,null,null,null,null,null,16,null,null,null,null,16,null,null,null,null,null,null,null,null,null,null,null,null,null,null,null,null,null,null,null,null,null,null,null,null,null,null,null,null,null,null,null,null,null,null,null,null,null,null,null,null,null,null,null,null,null,null,null,null,null,null,null,null,null,null,null,null,null,null,null,null,null,null,null,null,null,null,null,null,null,null,null,null,null,null,null,null,null,null,null,null,null,null,null,null,null,null,null,null,null,null,null,null,null,null,null,null,null,null,null,null,null,null,null,null,null,null,null,null,null,null,null,null,null,null,null,null,null,null,null,null,null,null,null,null,null,null,null,null,null,null,null,null,null,null,null,null,null,null,0,32,0,null,32,0,4359.04,0,0,4359.04,4359.04,"Yes",0,0,0]
[null,60,"Vincent Miller","Apprentice Helper","Vendor No.02",null,"MIFPUC-1","2018-10-11","2018-10-13","Yes",{"$f":"VLOOKUP($D78,'C.1 - Rate Sheets'!B:F,2,FALSE)","v":0},{"$f":"VLOOKUP($D78,'C.1 - Rate Sheets'!B:F,3,FALSE)","v":102.25},{"$f":"VLOOKUP($D78,'C.1 - Rate Sheets'!B:F,4,FALSE)","v":130.74},{"$f":"VLOOKUP($D78,'C.1 - Rate Sheets'!B:F,5,FALSE)","v":0},null,null,null,null,null,null,16,null,null,null,null,16,null,null,null,null,null,null,null,null,null,null,null,null,null,null,null,null,null,null,null,null,null,null,null,null,null,null,null,null,null,null,null,null,null,null,null,null,null,null,null,null,null,null,null,null,null,null,null,null,null,null,null,null,null,null,null,null,null,null,null,null,null,null,null,null,null,null,null,null,null,null,null,null,null,null,null,null,null,null,null,null,null,null,null,null,null,null,null,null,null,null,null,null,null,null,null,null,null,null,null,null,null,null,null,null,null,null,null,null,null,null,null,null,null,null,null,null,null,null,null,null,null,null,null,null,null,null,null,null,null,null,null,null,null,null,null,null,null,null,0,32,0,null,32,0,3272,0,0,3272,3272,"Yes",0,0,0]
[null,61,"Shannon Williams","Equipment Operator","Vendor No.02",null,"MIFPUC-1","2018-10-11","2018-10-13","Yes",{"$f":"VLOOKUP($D79,'C.1 - Rate Sheets'!B:F,2,FALSE)","v":0},{"$f":"VLOOKUP($D79,'C.1 - Rate Sheets'!B:F,3,FALSE)","v":116.87},{"$f":"VLOOKUP($D79,'C.1 - Rate Sheets'!B:F,4,FALSE)","v":151.13},{"$f":"VLOOKUP($D79,'C.1 - Rate Sheets'!B:F,5,FALSE)","v":0},null,null,null,null,null,null,null,null,null,null,null,null,null,null,null,null,null,null,null,null,null,null,null,null,null,null,null,null,null,null,null,null,null,null,null,null,null,null,null,null,null,null,null,null,null,null,null,null,null,null,null,null,null,null,null,null,null,null,null,null,null,null,null,null,null,null,null,null,null,null,null,null,null,null,null,null,null,null,null,null,null,null,null,null,null,null,null,null,null,null,null,null,null,null,null,null,null,null,null,null,null,null,null,null,null,null,null,null,null,null,null,null,null,null,null,null,null,null,null,null,null,null,null,null,null,null,null,null,null,null,null,null,null,null,null,null,null,null,null,null,null,null,null,null,null,null,null,null,null,null,0,0,0,null,0,0,0,0,0,0,0,"Yes",0,0,0]
[null,62,"Lino Carreras","Equipment Operator","Vendor No.02",null,"MIFPUC-1","2018-10-11","2018-10-13","Yes",{"$f":"VLOOKUP($D80,'C.1 - Rate Sheets'!B:F,2,FALSE)","v":0},{"$f":"VLOOKUP($D80,'C.1 - Rate Sheets'!B:F,3,FALSE)","v":116.87},{"$f":"VLOOKUP($D80,'C.1 - Rate Sheets'!B:F,4,FALSE)","v":151.13},{"$f":"VLOOKUP($D80,'C.1 - Rate Sheets'!B:F,5,FALSE)","v":0},null,null,null,null,null,null,null,null,null,null,null,null,null,null,null,null,null,null,null,null,null,null,null,null,null,null,null,null,null,null,null,null,null,null,null,null,null,null,null,null,null,null,null,null,null,null,null,null,null,null,null,null,null,null,null,null,null,null,null,null,null,null,null,null,null,null,null,null,null,null,null,null,null,null,null,null,null,null,null,null,null,null,null,null,null,null,null,null,null,null,null,null,null,null,null,null,null,null,null,null,null,null,null,null,null,null,null,null,null,null,null,null,null,null,null,null,null,null,null,null,null,null,null,null,null,null,null,null,null,null,null,null,null,null,null,null,null,null,null,null,null,null,null,null,null,null,null,null,null,null,0,0,0,null,0,0,0,0,0,0,0,"Yes",0,0,0]
[null,63,"Richard Byrd","Line Tech C","Vendor No.02",null,"MIFPUC-1","2018-10-11","2018-10-13","Yes",{"$f":"VLOOKUP($D81,'C.1 - Rate Sheets'!B:F,2,FALSE)","v":0},{"$f":"VLOOKUP($D81,'C.1 - Rate Sheets'!B:F,3,FALSE)","v":110.51},{"$f":"VLOOKUP($D81,'C.1 - Rate Sheets'!B:F,4,FALSE)","v":136.22999999999999},{"$f":"VLOOKUP($D81,'C.1 - Rate Sheets'!B:F,5,FALSE)","v":0},null,null,null,null,null,null,null,null,null,null,null,null,null,null,null,null,null,null,null,null,null,null,null,null,null,null,null,null,null,null,null,null,null,null,null,null,null,null,null,null,null,null,null,null,null,null,null,null,null,null,null,null,null,null,null,null,null,null,null,null,null,null,null,null,null,null,null,null,null,null,null,null,null,null,null,null,null,null,null,null,null,null,null,null,null,null,null,null,null,null,null,null,null,null,null,null,null,null,null,null,null,null,null,null,null,null,null,null,null,null,null,null,null,null,null,null,null,null,null,null,null,null,null,null,null,null,null,null,null,null,null,null,null,null,null,null,null,null,null,null,null,null,null,null,null,null,null,null,null,null,0,0,0,null,0,0,0,0,0,0,0,"Yes",0,0,0]
[null,64,"Zeb Mondrella","Senior Lineman/Journeyman Lineman","Vendor No.02",null,"MIFPUC-1","2018-10-11","2018-10-13","Yes",{"$f":"VLOOKUP($D82,'C.1 - Rate Sheets'!B:F,2,FALSE)","v":0},{"$f":"VLOOKUP($D82,'C.1 - Rate Sheets'!B:F,3,FALSE)","v":136.22},{"$f":"VLOOKUP($D82,'C.1 - Rate Sheets'!B:F,4,FALSE)","v":176.19},{"$f":"VLOOKUP($D82,'C.1 - Rate Sheets'!B:F,5,FALSE)","v":0},null,null,null,null,null,null,null,null,null,null,null,null,null,null,null,null,null,null,null,null,null,null,null,null,null,null,null,null,null,null,null,null,null,null,null,null,null,null,null,null,null,null,null,null,null,null,null,null,null,null,null,null,null,null,null,null,null,null,null,null,null,null,null,null,null,null,null,null,null,null,null,null,null,null,null,null,null,null,null,null,null,null,null,null,null,null,null,null,null,null,null,null,null,null,null,null,null,null,null,null,null,null,null,null,null,null,null,null,null,null,null,null,null,null,null,null,null,null,null,null,null,null,null,null,null,null,null,null,null,null,null,null,null,null,null,null,null,null,null,null,null,null,null,null,null,null,null,null,null,null,0,0,0,null,0,0,0,0,0,0,0,"Yes",0,0,0]
[null,65,"James Morrel","Senior Lineman/Journeyman Lineman","Vendor No.02",null,"MIFPUC-1","2018-10-11","2018-10-13","Yes",{"$f":"VLOOKUP($D83,'C.1 - Rate Sheets'!B:F,2,FALSE)","v":0},{"$f":"VLOOKUP($D83,'C.1 - Rate Sheets'!B:F,3,FALSE)","v":136.22},{"$f":"VLOOKUP($D83,'C.1 - Rate Sheets'!B:F,4,FALSE)","v":176.19},{"$f":"VLOOKUP($D83,'C.1 - Rate Sheets'!B:F,5,FALSE)","v":0},null,null,null,null,null,null,null,null,null,null,null,null,null,null,null,null,null,null,null,null,null,null,null,null,null,null,null,null,null,null,null,null,null,null,null,null,null,null,null,null,null,null,null,null,null,null,null,null,null,null,null,null,null,null,null,null,null,null,null,null,null,null,null,null,null,null,null,null,null,null,null,null,null,null,null,null,null,null,null,null,null,null,null,null,null,null,null,null,null,null,null,null,null,null,null,null,null,null,null,null,null,null,null,null,null,null,null,null,null,null,null,null,null,null,null,null,null,null,null,null,null,null,null,null,null,null,null,null,null,null,null,null,null,null,null,null,null,null,null,null,null,null,null,null,null,null,null,null,null,null,0,0,0,null,0,0,0,0,0,0,0,"Yes",0,0,0]
[null,66,"Gregory Race","Line Tech C","Vendor No.02",null,"MIFPUC-1","2018-10-11","2018-10-13","Yes",{"$f":"VLOOKUP($D84,'C.1 - Rate Sheets'!B:F,2,FALSE)","v":0},{"$f":"VLOOKUP($D84,'C.1 - Rate Sheets'!B:F,3,FALSE)","v":110.51},{"$f":"VLOOKUP($D84,'C.1 - Rate Sheets'!B:F,4,FALSE)","v":136.22999999999999},{"$f":"VLOOKUP($D84,'C.1 - Rate Sheets'!B:F,5,FALSE)","v":0},null,null,null,null,null,null,null,null,null,null,null,null,null,null,null,null,null,null,null,null,null,null,null,null,null,null,null,null,null,null,null,null,null,null,null,null,null,null,null,null,null,null,null,null,null,null,null,null,null,null,null,null,null,null,null,null,null,null,null,null,null,null,null,null,null,null,null,null,null,null,null,null,null,null,null,null,null,null,null,null,null,null,null,null,null,null,null,null,null,null,null,null,null,null,null,null,null,null,null,null,null,null,null,null,null,null,null,null,null,null,null,null,null,null,null,null,null,null,null,null,null,null,null,null,null,null,null,null,null,null,null,null,null,null,null,null,null,null,null,null,null,null,null,null,null,null,null,null,null,null,0,0,0,null,0,0,0,0,0,0,0,"Yes",0,0,0]
[null,67,"Neil Springman","Mechanic","Vendor No.02",null,"MIFPUC-1","2018-10-11","2018-10-13","Yes",{"$f":"VLOOKUP($D85,'C.1 - Rate Sheets'!B:F,2,FALSE)","v":0},{"$f":"VLOOKUP($D85,'C.1 - Rate Sheets'!B:F,3,FALSE)","v":116.87},{"$f":"VLOOKUP($D85,'C.1 - Rate Sheets'!B:F,4,FALSE)","v":151.13},{"$f":"VLOOKUP($D85,'C.1 - Rate Sheets'!B:F,5,FALSE)","v":0},null,null,null,null,null,null,null,null,null,null,null,null,null,null,null,null,null,null,null,null,null,null,null,null,null,null,null,null,null,null,null,null,null,null,null,null,null,null,null,null,null,null,null,null,null,null,null,null,null,null,null,null,null,null,null,null,null,null,null,null,null,null,null,null,null,null,null,null,null,null,null,null,null,null,null,null,null,null,null,null,null,null,null,null,null,null,null,null,null,null,null,null,null,null,null,null,null,null,null,null,null,null,null,null,null,null,null,null,null,null,null,null,null,null,null,null,null,null,null,null,null,null,null,null,null,null,null,null,null,null,null,null,null,null,null,null,null,null,null,null,null,null,null,null,null,null,null,null,null,null,{"$f":"FD85+EY85+ET85+EO85+EJ85+EE85+DZ85+DU85+DP85+DK85+DF85+DA85+CV85+CQ85+CL85+CG85+CB85+BW85+BR85+BM85+BH85+BC85+AX85+AS85+AN85+AI85+AD85+Y85+T85+O85","v":0},{"$f":"FE85+EZ85+EU85+EP85+EK85+EF85+EA85+DV85+DQ85+DL85+DG85+DB85+CW85+CR85+CM85+CH85+CC85+BX85+BS85+BN85+BI85+BD85+AY85+AT85+AO85+AJ85+AE85+Z85+U85+P85","v":0},{"$f":"FF85+FA85+EV85+EQ85+EL85+EG85+EB85+DW85+DR85+DM85+DH85+DC85+CX85+CS85+CN85+CI85+CD85+BY85+BT85+BO85+BJ85+BE85+AZ85+AU85+AP85+AK85+AF85+AA85+V85+Q85","v":0},null,{"$f":"SUM(FI85:FL85)","v":0},{"$f":"FI85*K85","v":0},{"$f":"FJ85*L85","v":0},{"$f":"FK85*M85","v":0},{"$f":"FL85*N85","v":0},{"$f":"SUM(FN85:FQ85)","v":0},{"$f":"FR85-FU85","v":0},"Yes",0,0,0]
[null,68,"Ron Roush","General Foreman","Vendor No.02",null,"MIFPUC-1","2018-10-11","2018-10-13","Yes",{"$f":"VLOOKUP($D86,'C.1 - Rate Sheets'!B:F,2,FALSE)","v":0},{"$f":"VLOOKUP($D86,'C.1 - Rate Sheets'!B:F,3,FALSE)","v":160.21},{"$f":"VLOOKUP($D86,'C.1 - Rate Sheets'!B:F,4,FALSE)","v":208.18},{"$f":"VLOOKUP($D86,'C.1 - Rate Sheets'!B:F,5,FALSE)","v":0},null,null,null,null,null,null,null,null,null,null,null,null,null,null,null,null,null,null,null,null,null,null,null,null,null,null,null,null,null,null,null,null,null,null,null,null,null,null,null,null,null,null,null,null,null,null,null,null,null,null,null,null,null,null,null,null,null,null,null,null,null,null,null,null,null,null,null,null,null,null,null,null,null,null,null,null,null,null,null,null,null,null,null,null,null,null,null,null,null,null,null,null,null,null,null,null,null,null,null,null,null,null,null,null,null,null,null,null,null,null,null,null,null,null,null,null,null,null,null,null,null,null,null,null,null,null,null,null,null,null,null,null,null,null,null,null,null,null,null,null,null,null,null,null,null,null,null,null,null,null,0,0,0,null,0,0,0,0,0,0,0,"Yes",0,0,0]
[null,69,"Ryan Timms","Foreman","Vendor No.02",null,"MIFPUC-1","2018-10-11","2018-10-13","Yes",{"$f":"VLOOKUP($D87,'C.1 - Rate Sheets'!B:F,2,FALSE)","v":0},{"$f":"VLOOKUP($D87,'C.1 - Rate Sheets'!B:F,3,FALSE)","v":148.21},{"$f":"VLOOKUP($D87,'C.1 - Rate Sheets'!B:F,4,FALSE)","v":192.19},{"$f":"VLOOKUP($D87,'C.1 - Rate Sheets'!B:F,5,FALSE)","v":0},null,null,null,null,null,null,null,null,null,null,null,null,null,null,null,null,null,null,null,null,null,null,null,null,null,null,null,null,null,null,null,null,null,null,null,null,null,null,null,null,null,null,null,null,null,null,null,null,null,null,null,null,null,null,null,null,null,null,null,null,null,null,null,null,null,null,null,null,null,null,null,null,null,null,null,null,null,null,null,null,null,null,null,null,null,null,null,null,null,null,null,null,null,null,null,null,null,null,null,null,null,null,null,null,null,null,null,null,null,null,null,null,null,null,null,null,null,null,null,null,null,null,null,null,null,null,null,null,null,null,null,null,null,null,null,null,null,null,null,null,null,null,null,null,null,null,null,null,null,null,0,0,0,null,0,0,0,0,0,0,0,"Yes",0,0,0]
[null,70,"Aaron Mays","Senior Lineman/Journeyman Lineman","Vendor No.02",null,"MIFPUC-1","2018-10-11","2018-10-13","Yes",{"$f":"VLOOKUP($D88,'C.1 - Rate Sheets'!B:F,2,FALSE)","v":0},{"$f":"VLOOKUP($D88,'C.1 - Rate Sheets'!B:F,3,FALSE)","v":136.22},{"$f":"VLOOKUP($D88,'C.1 - Rate Sheets'!B:F,4,FALSE)","v":176.19},{"$f":"VLOOKUP($D88,'C.1 - Rate Sheets'!B:F,5,FALSE)","v":0},null,null,null,null,null,null,null,null,null,null,null,null,null,null,null,null,null,null,null,null,null,null,null,null,null,null,null,null,null,null,null,null,null,null,null,null,null,null,null,null,null,null,null,null,null,null,null,null,null,null,null,null,null,null,null,null,null,null,null,null,null,null,null,null,null,null,null,null,null,null,null,null,null,null,null,null,null,null,null,null,null,null,null,null,null,null,null,null,null,null,null,null,null,null,null,null,null,null,null,null,null,null,null,null,null,null,null,null,null,null,null,null,null,null,null,null,null,null,null,null,null,null,null,null,null,null,null,null,null,null,null,null,null,null,null,null,null,null,null,null,null,null,null,null,null,null,null,null,null,null,0,0,0,null,0,0,0,0,0,0,0,"Yes",0,0,0]
[null,71,"Keith Kiphard","Apprentice Helper","Vendor No.02",null,"MIFPUC-1","2018-10-11","2018-10-13","Yes",{"$f":"VLOOKUP($D89,'C.1 - Rate Sheets'!B:F,2,FALSE)","v":0},{"$f":"VLOOKUP($D89,'C.1 - Rate Sheets'!B:F,3,FALSE)","v":102.25},{"$f":"VLOOKUP($D89,'C.1 - Rate Sheets'!B:F,4,FALSE)","v":130.74},{"$f":"VLOOKUP($D89,'C.1 - Rate Sheets'!B:F,5,FALSE)","v":0},null,null,null,null,null,null,null,null,null,null,null,null,null,null,null,null,null,null,null,null,null,null,null,null,null,null,null,null,null,null,null,null,null,null,null,null,null,null,null,null,null,null,null,null,null,null,null,null,null,null,null,null,null,null,null,null,null,null,null,null,null,null,null,null,null,null,null,null,null,null,null,null,null,null,null,null,null,null,null,null,null,null,null,null,null,null,null,null,null,null,null,null,null,null,null,null,null,null,null,null,null,null,null,null,null,null,null,null,null,null,null,null,null,null,null,null,null,null,null,null,null,null,null,null,null,null,null,null,null,null,null,null,null,null,null,null,null,null,null,null,null,null,null,null,null,null,null,null,null,null,0,0,0,null,0,0,0,0,0,0,0,"Yes",0,0,0]
[null,72,"Evan Bryson","Groundman","Vendor No.02",null,"MIFPUC-1","2018-10-11","2018-10-13","Yes",{"$f":"VLOOKUP($D90,'C.1 - Rate Sheets'!B:F,2,FALSE)","v":0},{"$f":"VLOOKUP($D90,'C.1 - Rate Sheets'!B:F,3,FALSE)","v":99.27},{"$f":"VLOOKUP($D90,'C.1 - Rate Sheets'!B:F,4,FALSE)","v":117.21},{"$f":"VLOOKUP($D90,'C.1 - Rate Sheets'!B:F,5,FALSE)","v":0},null,null,null,null,null,null,null,null,null,null,null,null,null,null,null,null,null,null,null,null,null,null,null,null,null,null,null,null,null,null,null,null,null,null,null,null,null,null,null,null,null,null,null,null,null,null,null,null,null,null,null,null,null,null,null,null,null,null,null,null,null,null,null,null,null,null,null,null,null,null,null,null,null,null,null,null,null,null,null,null,null,null,null,null,null,null,null,null,null,null,null,null,null,null,null,null,null,null,null,null,null,null,null,null,null,null,null,null,null,null,null,null,null,null,null,null,null,null,null,null,null,null,null,null,null,null,null,null,null,null,null,null,null,null,null,null,null,null,null,null,null,null,null,null,null,null,null,null,null,null,0,0,0,null,0,0,0,0,0,0,0,"Yes",0,0,0]
[null,73,"Cory Farris","Foreman","Vendor No.02",null,"MIFPUC-1","2018-10-11","2018-10-13","Yes",{"$f":"VLOOKUP($D91,'C.1 - Rate Sheets'!B:F,2,FALSE)","v":0},{"$f":"VLOOKUP($D91,'C.1 - Rate Sheets'!B:F,3,FALSE)","v":148.21},{"$f":"VLOOKUP($D91,'C.1 - Rate Sheets'!B:F,4,FALSE)","v":192.19},{"$f":"VLOOKUP($D91,'C.1 - Rate Sheets'!B:F,5,FALSE)","v":0},null,null,null,null,null,null,null,null,null,null,null,null,null,null,null,null,null,null,null,null,null,null,null,null,null,null,null,null,null,null,null,null,null,null,null,null,null,null,null,null,null,null,null,null,null,null,null,null,null,null,null,null,null,null,null,null,null,null,null,null,null,null,null,null,null,null,null,null,null,null,null,null,null,null,null,null,null,null,null,null,null,null,null,null,null,null,null,null,null,null,null,null,null,null,null,null,null,null,null,null,null,null,null,null,null,null,null,null,null,null,null,null,null,null,null,null,null,null,null,null,null,null,null,null,null,null,null,null,null,null,null,null,null,null,null,null,null,null,null,null,null,null,null,null,null,null,null,null,null,null,0,0,0,null,0,0,0,0,0,0,0,"Yes",0,0,0]
[null,74,"Josh Parker","Senior Lineman/Journeyman Lineman","Vendor No.02",null,"MIFPUC-1","2018-10-11","2018-10-13","Yes",{"$f":"VLOOKUP($D92,'C.1 - Rate Sheets'!B:F,2,FALSE)","v":0},{"$f":"VLOOKUP($D92,'C.1 - Rate Sheets'!B:F,3,FALSE)","v":136.22},{"$f":"VLOOKUP($D92,'C.1 - Rate Sheets'!B:F,4,FALSE)","v":176.19},{"$f":"VLOOKUP($D92,'C.1 - Rate Sheets'!B:F,5,FALSE)","v":0},null,null,null,null,null,null,null,null,null,null,null,null,null,null,null,null,null,null,null,null,null,null,null,null,null,null,null,null,null,null,null,null,null,null,null,null,null,null,null,null,null,null,null,null,null,null,null,null,null,null,null,null,null,null,null,null,null,null,null,null,null,null,null,null,null,null,null,null,null,null,null,null,null,null,null,null,null,null,null,null,null,null,null,null,null,null,null,null,null,null,null,null,null,null,null,null,null,null,null,null,null,null,null,null,null,null,null,null,null,null,null,null,null,null,null,null,null,null,null,null,null,null,null,null,null,null,null,null,null,null,null,null,null,null,null,null,null,null,null,null,null,null,null,null,null,null,null,null,null,null,0,0,0,null,0,0,0,0,0,0,0]
[null,75,"Rodney Breedlove","Equipment Operator","Vendor No.02",null,"MIFPUC-1","2018-10-11","2018-10-13","Yes",{"$f":"VLOOKUP($D93,'C.1 - Rate Sheets'!B:F,2,FALSE)","v":0},{"$f":"VLOOKUP($D93,'C.1 - Rate Sheets'!B:F,3,FALSE)","v":116.87},{"$f":"VLOOKUP($D93,'C.1 - Rate Sheets'!B:F,4,FALSE)","v":151.13},{"$f":"VLOOKUP($D93,'C.1 - Rate Sheets'!B:F,5,FALSE)","v":0},null,null,null,null,null,null,null,null,null,null,null,null,null,null,null,null,null,null,null,null,null,null,null,null,null,null,null,null,null,null,null,null,null,null,null,null,null,null,null,null,null,null,null,null,null,null,null,null,null,null,null,null,null,null,null,null,null,null,null,null,null,null,null,null,null,null,null,null,null,null,null,null,null,null,null,null,null,null,null,null,null,null,null,null,null,null,null,null,null,null,null,null,null,null,null,null,null,null,null,null,null,null,null,null,null,null,null,null,null,null,null,null,null,null,null,null,null,null,null,null,null,null,null,null,null,null,null,null,null,null,null,null,null,null,null,null,null,null,null,null,null,null,null,null,null,null,null,null,null,null,0,0,0,null,0,0,0,0,0,0,0,"Yes",0,0,0]
[null,76,"Ken Gardner","Groundman","Vendor No.02",null,"MIFPUC-1","2018-10-11","2018-10-13","Yes",{"$f":"VLOOKUP($D94,'C.1 - Rate Sheets'!B:F,2,FALSE)","v":0},{"$f":"VLOOKUP($D94,'C.1 - Rate Sheets'!B:F,3,FALSE)","v":99.27},{"$f":"VLOOKUP($D94,'C.1 - Rate Sheets'!B:F,4,FALSE)","v":117.21},{"$f":"VLOOKUP($D94,'C.1 - Rate Sheets'!B:F,5,FALSE)","v":0},null,null,null,null,null,null,null,null,null,null,null,null,null,null,null,null,null,null,null,null,null,null,null,null,null,null,null,null,null,null,null,null,null,null,null,null,null,null,null,null,null,null,null,null,null,null,null,null,null,null,null,null,null,null,null,null,null,null,null,null,null,null,null,null,null,null,null,null,null,null,null,null,null,null,null,null,null,null,null,null,null,null,null,null,null,null,null,null,null,null,null,null,null,null,null,null,null,null,null,null,null,null,null,null,null,null,null,null,null,null,null,null,null,null,null,null,null,null,null,null,null,null,null,null,null,null,null,null,null,null,null,null,null,null,null,null,null,null,null,null,null,null,null,null,null,null,null,null,null,null,0,0,0,null,0,0,0,0,0,0,0,"Yes",0,0,0]
[null,77,"Nate McDonough","Foreman","Vendor No.02",null,"MIFPUC-1","2018-10-11","2018-10-13","Yes",{"$f":"VLOOKUP($D95,'C.1 - Rate Sheets'!B:F,2,FALSE)","v":0},{"$f":"VLOOKUP($D95,'C.1 - Rate Sheets'!B:F,3,FALSE)","v":148.21},{"$f":"VLOOKUP($D95,'C.1 - Rate Sheets'!B:F,4,FALSE)","v":192.19},{"$f":"VLOOKUP($D95,'C.1 - Rate Sheets'!B:F,5,FALSE)","v":0},null,null,null,null,null,null,null,null,null,null,null,null,null,null,null,null,null,null,null,null,null,null,null,null,null,null,null,null,null,null,null,null,null,null,null,null,null,null,null,null,null,null,null,null,null,null,null,null,null,null,null,null,null,null,null,null,null,null,null,null,null,null,null,null,null,null,null,null,null,null,null,null,null,null,null,null,null,null,null,null,null,null,null,null,null,null,null,null,null,null,null,null,null,null,null,null,null,null,null,null,null,null,null,null,null,null,null,null,null,null,null,null,null,null,null,null,null,null,null,null,null,null,null,null,null,null,null,null,null,null,null,null,null,null,null,null,null,null,null,null,null,null,null,null,null,null,null,null,null,null,0,0,0,null,0,0,0,0,0,0,0,"Yes",0,0,0]
[null,78,"Will Magard","Senior Lineman/Journeyman Lineman","Vendor No.02",null,"MIFPUC-1","2018-10-11","2018-10-13","Yes",{"$f":"VLOOKUP($D96,'C.1 - Rate Sheets'!B:F,2,FALSE)","v":0},{"$f":"VLOOKUP($D96,'C.1 - Rate Sheets'!B:F,3,FALSE)","v":136.22},{"$f":"VLOOKUP($D96,'C.1 - Rate Sheets'!B:F,4,FALSE)","v":176.19},{"$f":"VLOOKUP($D96,'C.1 - Rate Sheets'!B:F,5,FALSE)","v":0},null,null,null,null,null,null,null,null,null,null,null,null,null,null,null,null,null,null,null,null,null,null,null,null,null,null,null,null,null,null,null,null,null,null,null,null,null,null,null,null,null,null,null,null,null,null,null,null,null,null,null,null,null,null,null,null,null,null,null,null,null,null,null,null,null,null,null,null,null,null,null,null,null,null,null,null,null,null,null,null,null,null,null,null,null,null,null,null,null,null,null,null,null,null,null,null,null,null,null,null,null,null,null,null,null,null,null,null,null,null,null,null,null,null,null,null,null,null,null,null,null,null,null,null,null,null,null,null,null,null,null,null,null,null,null,null,null,null,null,null,null,null,null,null,null,null,null,null,null,null,0,0,0,null,0,0,0,0,0,0,0,"Yes",0,0,0]
[null,79,"Cody Delotell","Apprentice Helper","Vendor No.02",null,"MIFPUC-1","2018-10-11","2018-10-13","Yes",{"$f":"VLOOKUP($D97,'C.1 - Rate Sheets'!B:F,2,FALSE)","v":0},{"$f":"VLOOKUP($D97,'C.1 - Rate Sheets'!B:F,3,FALSE)","v":102.25},{"$f":"VLOOKUP($D97,'C.1 - Rate Sheets'!B:F,4,FALSE)","v":130.74},{"$f":"VLOOKUP($D97,'C.1 - Rate Sheets'!B:F,5,FALSE)","v":0},null,null,null,null,null,null,null,null,null,null,null,null,null,null,null,null,null,null,null,null,null,null,null,null,null,null,null,null,null,null,null,null,null,null,null,null,null,null,null,null,null,null,null,null,null,null,null,null,null,null,null,null,null,null,null,null,null,null,null,null,null,null,null,null,null,null,null,null,null,null,null,null,null,null,null,null,null,null,null,null,null,null,null,null,null,null,null,null,null,null,null,null,null,null,null,null,null,null,null,null,null,null,null,null,null,null,null,null,null,null,null,null,null,null,null,null,null,null,null,null,null,null,null,null,null,null,null,null,null,null,null,null,null,null,null,null,null,null,null,null,null,null,null,null,null,null,null,null,null,null,0,0,0,null,0,0,0,0,0,0,0,"Yes",0,0,0]
[null,80,"Rusty Breedlove","Groundman","Vendor No.02",null,"MIFPUC-1","2018-10-11","2018-10-13","Yes",{"$f":"VLOOKUP($D98,'C.1 - Rate Sheets'!B:F,2,FALSE)","v":0},{"$f":"VLOOKUP($D98,'C.1 - Rate Sheets'!B:F,3,FALSE)","v":99.27},{"$f":"VLOOKUP($D98,'C.1 - Rate Sheets'!B:F,4,FALSE)","v":117.21},{"$f":"VLOOKUP($D98,'C.1 - Rate Sheets'!B:F,5,FALSE)","v":0},null,null,null,null,null,null,null,null,null,null,null,null,null,null,null,null,null,null,null,null,null,null,null,null,null,null,null,null,null,null,null,null,null,null,null,null,null,null,null,null,null,null,null,null,null,null,null,null,null,null,null,null,null,null,null,null,null,null,null,null,null,null,null,null,null,null,null,null,null,null,null,null,null,null,null,null,null,null,null,null,null,null,null,null,null,null,null,null,null,null,null,null,null,null,null,null,null,null,null,null,null,null,null,null,null,null,null,null,null,null,null,null,null,null,null,null,null,null,null,null,null,null,null,null,null,null,null,null,null,null,null,null,null,null,null,null,null,null,null,null,null,null,null,null,null,null,null,null,null,null,0,0,0,null,0,0,0,0,0,0,0,"Yes",0,0,0]
[null,81,"Kelly Drummond","Foreman","Vendor No.02",null,"MIFPUC-1","2018-10-11","2018-10-13","Yes",{"$f":"VLOOKUP($D99,'C.1 - Rate Sheets'!B:F,2,FALSE)","v":0},{"$f":"VLOOKUP($D99,'C.1 - Rate Sheets'!B:F,3,FALSE)","v":148.21},{"$f":"VLOOKUP($D99,'C.1 - Rate Sheets'!B:F,4,FALSE)","v":192.19},{"$f":"VLOOKUP($D99,'C.1 - Rate Sheets'!B:F,5,FALSE)","v":0},null,null,null,null,null,null,null,null,null,null,null,null,null,null,null,null,null,null,null,null,null,null,null,null,null,null,null,null,null,null,null,null,null,null,null,null,null,null,null,null,null,null,null,null,null,null,null,null,null,null,null,null,null,null,null,null,null,null,null,null,null,null,null,null,null,null,null,null,null,null,null,null,null,null,null,null,null,null,null,null,null,null,null,null,null,null,null,null,null,null,null,null,null,null,null,null,null,null,null,null,null,null,null,null,null,null,null,null,null,null,null,null,null,null,null,null,null,null,null,null,null,null,null,null,null,null,null,null,null,null,null,null,null,null,null,null,null,null,null,null,null,null,null,null,null,null,null,null,null,null,0,0,0,null,0,0,0,0,0,0,0,"Yes",0,0,0]
[null,82,"Selwyn Sampson","Senior Lineman/Journeyman Lineman","Vendor No.02",null,"MIFPUC-1","2018-10-11","2018-10-13","Yes",{"$f":"VLOOKUP($D100,'C.1 - Rate Sheets'!B:F,2,FALSE)","v":0},{"$f":"VLOOKUP($D100,'C.1 - Rate Sheets'!B:F,3,FALSE)","v":136.22},{"$f":"VLOOKUP($D100,'C.1 - Rate Sheets'!B:F,4,FALSE)","v":176.19},{"$f":"VLOOKUP($D100,'C.1 - Rate Sheets'!B:F,5,FALSE)","v":0},null,null,null,null,null,null,null,null,null,null,null,null,null,null,null,null,null,null,null,null,null,null,null,null,null,null,null,null,null,null,null,null,null,null,null,null,null,null,null,null,null,null,null,null,null,null,null,null,null,null,null,null,null,null,null,null,null,null,null,null,null,null,null,null,null,null,null,null,null,null,null,null,null,null,null,null,null,null,null,null,null,null,null,null,null,null,null,null,null,null,null,null,null,null,null,null,null,null,null,null,null,null,null,null,null,null,null,null,null,null,null,null,null,null,null,null,null,null,null,null,null,null,null,null,null,null,null,null,null,null,null,null,null,null,null,null,null,null,null,null,null,null,null,null,null,null,null,null,null,null,0,0,0,null,0,0,0,0,0,0,0,"Yes",0,0,0]
[null,83,"Cody Maddox","Line Tech C","Vendor No.02",null,"MIFPUC-1","2018-10-11","2018-10-13","Yes",{"$f":"VLOOKUP($D101,'C.1 - Rate Sheets'!B:F,2,FALSE)","v":0},{"$f":"VLOOKUP($D101,'C.1 - Rate Sheets'!B:F,3,FALSE)","v":110.51},{"$f":"VLOOKUP($D101,'C.1 - Rate Sheets'!B:F,4,FALSE)","v":136.22999999999999},{"$f":"VLOOKUP($D101,'C.1 - Rate Sheets'!B:F,5,FALSE)","v":0},null,null,null,null,null,null,null,null,null,null,null,null,null,null,null,null,null,null,null,null,null,null,null,null,null,null,null,null,null,null,null,null,null,null,null,null,null,null,null,null,null,null,null,null,null,null,null,null,null,null,null,null,null,null,null,null,null,null,null,null,null,null,null,null,null,null,null,null,null,null,null,null,null,null,null,null,null,null,null,null,null,null,null,null,null,null,null,null,null,null,null,null,null,null,null,null,null,null,null,null,null,null,null,null,null,null,null,null,null,null,null,null,null,null,null,null,null,null,null,null,null,null,null,null,null,null,null,null,null,null,null,null,null,null,null,null,null,null,null,null,null,null,null,null,null,null,null,null,null,null,0,0,0,null,0,0,0,0,0,0,0,"Yes",0,0,0]
[null,84,"Ray Campbell","Foreman","Vendor No.02",null,"MIFPUC-1","2018-10-11","2018-10-13","Yes",{"$f":"VLOOKUP($D102,'C.1 - Rate Sheets'!B:F,2,FALSE)","v":0},{"$f":"VLOOKUP($D102,'C.1 - Rate Sheets'!B:F,3,FALSE)","v":148.21},{"$f":"VLOOKUP($D102,'C.1 - Rate Sheets'!B:F,4,FALSE)","v":192.19},{"$f":"VLOOKUP($D102,'C.1 - Rate Sheets'!B:F,5,FALSE)","v":0},null,null,null,null,null,null,null,null,null,null,null,null,null,null,null,null,null,null,null,null,null,null,null,null,null,null,null,null,null,null,null,null,null,null,null,null,null,null,null,null,null,null,null,null,null,null,null,null,null,null,null,null,null,null,null,null,null,null,null,null,null,null,null,null,null,null,null,null,null,null,null,null,null,null,null,null,null,null,null,null,null,null,null,null,null,null,null,null,null,null,null,null,null,null,null,null,null,null,null,null,null,null,null,null,null,null,null,null,null,null,null,null,null,null,null,null,null,null,null,null,null,null,null,null,null,null,null,null,null,null,null,null,null,null,null,null,null,null,null,null,null,null,null,null,null,null,null,null,null,null,0,0,0,null,0,0,0,0,0,0,0,"Yes",0,0,0]
[null,85,"Scotty Sansone","Senior Lineman/Journeyman Lineman","Vendor No.02",null,"MIFPUC-1","2018-10-11","2018-10-13","Yes",{"$f":"VLOOKUP($D103,'C.1 - Rate Sheets'!B:F,2,FALSE)","v":0},{"$f":"VLOOKUP($D103,'C.1 - Rate Sheets'!B:F,3,FALSE)","v":136.22},{"$f":"VLOOKUP($D103,'C.1 - Rate Sheets'!B:F,4,FALSE)","v":176.19},{"$f":"VLOOKUP($D103,'C.1 - Rate Sheets'!B:F,5,FALSE)","v":0},null,null,null,null,null,null,null,null,null,null,null,null,null,null,null,null,null,null,null,null,null,null,null,null,null,null,null,null,null,null,null,null,null,null,null,null,null,null,null,null,null,null,null,null,null,null,null,null,null,null,null,null,null,null,null,null,null,null,null,null,null,null,null,null,null,null,null,null,null,null,null,null,null,null,null,null,null,null,null,null,null,null,null,null,null,null,null,null,null,null,null,null,null,null,null,null,null,null,null,null,null,null,null,null,null,null,null,null,null,null,null,null,null,null,null,null,null,null,null,null,null,null,null,null,null,null,null,null,null,null,null,null,null,null,null,null,null,null,null,null,null,null,null,null,null,null,null,null,null,null,0,0,0,null,0,0,0,0,0,0,0,"Yes",0,0,0]
[null,86,"Nick Schwarz","Apprentice Helper","Vendor No.02",null,"MIFPUC-1","2018-10-11","2018-10-13","Yes",{"$f":"VLOOKUP($D104,'C.1 - Rate Sheets'!B:F,2,FALSE)","v":0},{"$f":"VLOOKUP($D104,'C.1 - Rate Sheets'!B:F,3,FALSE)","v":102.25},{"$f":"VLOOKUP($D104,'C.1 - Rate Sheets'!B:F,4,FALSE)","v":130.74},{"$f":"VLOOKUP($D104,'C.1 - Rate Sheets'!B:F,5,FALSE)","v":0},null,null,null,null,null,null,null,null,null,null,null,null,null,null,null,null,null,null,null,null,null,null,null,null,null,null,null,null,null,null,null,null,null,null,null,null,null,null,null,null,null,null,null,null,null,null,null,null,null,null,null,null,null,null,null,null,null,null,null,null,null,null,null,null,null,null,null,null,null,null,null,null,null,null,null,null,null,null,null,null,null,null,null,null,null,null,null,null,null,null,null,null,null,null,null,null,null,null,null,null,null,null,null,null,null,null,null,null,null,null,null,null,null,null,null,null,null,null,null,null,null,null,null,null,null,null,null,null,null,null,null,null,null,null,null,null,null,null,null,null,null,null,null,null,null,null,null,null,null,null,0,0,0,null,0,0,0,0,0,0,0,"Yes",0,0,0]
[null,87,"Mike Wellman","Groundman","Vendor No.02",null,"MIFPUC-1","2018-10-11","2018-10-13","Yes",{"$f":"VLOOKUP($D105,'C.1 - Rate Sheets'!B:F,2,FALSE)","v":0},{"$f":"VLOOKUP($D105,'C.1 - Rate Sheets'!B:F,3,FALSE)","v":99.27},{"$f":"VLOOKUP($D105,'C.1 - Rate Sheets'!B:F,4,FALSE)","v":117.21},{"$f":"VLOOKUP($D105,'C.1 - Rate Sheets'!B:F,5,FALSE)","v":0},null,null,null,null,null,null,null,null,null,null,null,null,null,null,null,null,null,null,null,null,null,null,null,null,null,null,null,null,null,null,null,null,null,null,null,null,null,null,null,null,null,null,null,null,null,null,null,null,null,null,null,null,null,null,null,null,null,null,null,null,null,null,null,null,null,null,null,null,null,null,null,null,null,null,null,null,null,null,null,null,null,null,null,null,null,null,null,null,null,null,null,null,null,null,null,null,null,null,null,null,null,null,null,null,null,null,null,null,null,null,null,null,null,null,null,null,null,null,null,null,null,null,null,null,null,null,null,null,null,null,null,null,null,null,null,null,null,null,null,null,null,null,null,null,null,null,null,null,null,null,0,0,0,null,0,0,0,0,0,0,0,"Yes",0,0,0]
[null,88,"Larry Potter","Groundman","Vendor No.02",null,"MIFPUC-1","2018-10-11","2018-10-13","Yes",{"$f":"VLOOKUP($D106,'C.1 - Rate Sheets'!B:F,2,FALSE)","v":0},{"$f":"VLOOKUP($D106,'C.1 - Rate Sheets'!B:F,3,FALSE)","v":99.27},{"$f":"VLOOKUP($D106,'C.1 - Rate Sheets'!B:F,4,FALSE)","v":117.21},{"$f":"VLOOKUP($D106,'C.1 - Rate Sheets'!B:F,5,FALSE)","v":0},null,null,null,null,null,null,null,null,null,null,null,null,null,null,null,null,null,null,null,null,null,null,null,null,null,null,null,null,null,null,null,null,null,null,null,null,null,null,null,null,null,null,null,null,null,null,null,null,null,null,null,null,null,null,null,null,null,null,null,null,null,null,null,null,null,null,null,null,null,null,null,null,null,null,null,null,null,null,null,null,null,null,null,null,null,null,null,null,null,null,null,null,null,null,null,null,null,null,null,null,null,null,null,null,null,null,null,null,null,null,null,null,null,null,null,null,null,null,null,null,null,null,null,null,null,null,null,null,null,null,null,null,null,null,null,null,null,null,null,null,null,null,null,null,null,null,null,null,null,null,0,0,0,null,0,0,0,0,0,0,0,"Yes",0,0,0]
[null,89,"Alex Rogers","Line Tech B","Vendor No.02",null,"MIFPUC-1","2018-10-11","2018-10-13","Yes",{"$f":"VLOOKUP($D107,'C.1 - Rate Sheets'!B:F,2,FALSE)","v":0},{"$f":"VLOOKUP($D107,'C.1 - Rate Sheets'!B:F,3,FALSE)","v":118.24},{"$f":"VLOOKUP($D107,'C.1 - Rate Sheets'!B:F,4,FALSE)","v":152.22},{"$f":"VLOOKUP($D107,'C.1 - Rate Sheets'!B:F,5,FALSE)","v":0},null,null,null,null,null,null,null,null,null,null,null,null,null,null,null,null,null,null,null,null,null,null,null,null,null,null,null,null,null,null,null,null,null,null,null,null,null,null,null,null,null,null,null,null,null,null,null,null,null,null,null,null,null,null,null,null,null,null,null,null,null,null,null,null,null,null,null,null,null,null,null,null,null,null,null,null,null,null,null,null,null,null,null,null,null,null,null,null,null,null,null,null,null,null,null,null,null,null,null,null,null,null,null,null,null,null,null,null,null,null,null,null,null,null,null,null,null,null,null,null,null,null,null,null,null,null,null,null,null,null,null,null,null,null,null,null,null,null,null,null,null,null,null,null,null,null,null,null,null,null,0,0,0,null,0,0,0,0,0,0,0,"Yes",0,0,0]
[null,90,"Matt Montes","Groundman","Vendor No.02",null,"MIFPUC-1","2018-10-11","2018-10-13","Yes",{"$f":"VLOOKUP($D108,'C.1 - Rate Sheets'!B:F,2,FALSE)","v":0},{"$f":"VLOOKUP($D108,'C.1 - Rate Sheets'!B:F,3,FALSE)","v":99.27},{"$f":"VLOOKUP($D108,'C.1 - Rate Sheets'!B:F,4,FALSE)","v":117.21},{"$f":"VLOOKUP($D108,'C.1 - Rate Sheets'!B:F,5,FALSE)","v":0},null,null,null,null,null,null,null,null,null,null,null,null,null,null,null,null,null,null,null,null,null,null,null,null,null,null,null,null,null,null,null,null,null,null,null,null,null,null,null,null,null,null,null,null,null,null,null,null,null,null,null,null,null,null,null,null,null,null,null,null,null,null,null,null,null,null,null,null,null,null,null,null,null,null,null,null,null,null,null,null,null,null,null,null,null,null,null,null,null,null,null,null,null,null,null,null,null,null,null,null,null,null,null,null,null,null,null,null,null,null,null,null,null,null,null,null,null,null,null,null,null,null,null,null,null,null,null,null,null,null,null,null,null,null,null,null,null,null,null,null,null,null,null,null,null,null,null,null,null,null,0,0,0,null,0,0,0,0,0,0,0,"Yes",0,0,0]
[null,91,"Jose De Jesus","Groundman","Vendor No.02",null,"MIFPUC-1","2018-10-11","2018-10-13","Yes",{"$f":"VLOOKUP($D109,'C.1 - Rate Sheets'!B:F,2,FALSE)","v":0},{"$f":"VLOOKUP($D109,'C.1 - Rate Sheets'!B:F,3,FALSE)","v":99.27},{"$f":"VLOOKUP($D109,'C.1 - Rate Sheets'!B:F,4,FALSE)","v":117.21},{"$f":"VLOOKUP($D109,'C.1 - Rate Sheets'!B:F,5,FALSE)","v":0},null,null,null,null,null,null,null,null,null,null,null,null,null,null,null,null,null,null,null,null,null,null,null,null,null,null,null,null,null,null,null,null,null,null,null,null,null,null,null,null,null,null,null,null,null,null,null,null,null,null,null,null,null,null,null,null,null,null,null,null,null,null,null,null,null,null,null,null,null,null,null,null,null,null,null,null,null,null,null,null,null,null,null,null,null,null,null,null,null,null,null,null,null,null,null,null,null,null,null,null,null,null,null,null,null,null,null,null,null,null,null,null,null,null,null,null,null,null,null,null,null,null,null,null,null,null,null,null,null,null,null,null,null,null,null,null,null,null,null,null,null,null,null,null,null,null,null,null,null,null,0,0,0,null,0,0,0,0,0,0,0,"Yes",0,0,0]
[null,92,"Perry Chaffin","Senior Lineman/Journeyman Lineman","Vendor No.02",null,"MIFPUC-1","2018-10-11","2018-10-13","Yes",{"$f":"VLOOKUP($D110,'C.1 - Rate Sheets'!B:F,2,FALSE)","v":0},{"$f":"VLOOKUP($D110,'C.1 - Rate Sheets'!B:F,3,FALSE)","v":136.22},{"$f":"VLOOKUP($D110,'C.1 - Rate Sheets'!B:F,4,FALSE)","v":176.19},{"$f":"VLOOKUP($D110,'C.1 - Rate Sheets'!B:F,5,FALSE)","v":0},null,null,null,null,null,null,null,null,null,null,null,null,null,null,null,null,null,null,null,null,null,null,null,null,null,null,null,null,null,null,null,null,null,null,null,null,null,null,null,null,null,null,null,null,null,null,null,null,null,null,null,null,null,null,null,null,null,null,null,null,null,null,null,null,null,null,null,null,null,null,null,null,null,null,null,null,null,null,null,null,null,null,null,null,null,null,null,null,null,null,null,null,null,null,null,null,null,null,null,null,null,null,null,null,null,null,null,null,null,null,null,null,null,null,null,null,null,null,null,null,null,null,null,null,null,null,null,null,null,null,null,null,null,null,null,null,null,null,null,null,null,null,null,null,null,null,null,null,null,null,0,0,0,null,0,0,0,0,0,0,0,"Yes",0,0,0]
[null,93,null,null,null,null,null,null,null,null,null,null,null,null,null,null,null,null,null,null,null,null,null,null,null,null,null,null,null,null,null,null,null,null,null,null,null,null,null,null,null,null,null,null,null,null,null,null,null,null,null,null,null,null,null,null,null,null,null,null,null,null,null,null,null,null,null,null,null,null,null,null,null,null,null,null,null,null,null,null,null,null,null,null,null,null,null,null,null,null,null,null,null,null,null,null,null,null,null,null,null,null,null,null,null,null,null,null,null,null,null,null,null,null,null,null,null,null,null,null,null,null,null,null,null,null,null,null,null,null,null,null,null,null,null,null,null,null,null,null,null,null,null,null,null,null,null,null,null,null,null,null,null,null,null,null,null,null,null,null,null,null,null,null,0,0,0,null,0,0,0,0,0,0,0,"Yes",0,0,0]
[null,94,"Gustavo Monteagudo","Foreman","Vendor No.02",null,"MIFPUC-2","2018-10-14","2018-10-20","Yes",{"$f":"VLOOKUP($D112,'C.1 - Rate Sheets'!B:F,2,FALSE)","v":0},{"$f":"VLOOKUP($D112,'C.1 - Rate Sheets'!B:F,3,FALSE)","v":148.21},{"$f":"VLOOKUP($D112,'C.1 - Rate Sheets'!B:F,4,FALSE)","v":192.19},{"$f":"VLOOKUP($D112,'C.1 - Rate Sheets'!B:F,5,FALSE)","v":0},null,null,null,null,null,null,null,null,null,null,null,null,null,null,null,null,null,16,null,null,null,16,null,null,null,null,16,null,null,null,null,16,null,null,null,null,16,null,null,null,null,16,null,null,null,null,16,null,null,null,null,null,null,null,null,null,null,null,null,null,null,null,null,null,null,null,null,null,null,null,null,null,null,null,null,null,null,null,null,null,null,null,null,null,null,null,null,null,null,null,null,null,null,null,null,null,null,null,null,null,null,null,null,null,null,null,null,null,null,null,null,null,null,null,null,null,null,null,null,null,null,null,null,null,null,null,null,null,null,null,null,null,null,null,null,null,null,null,null,null,null,null,null,null,null,null,null,null,null,null,0,96,16,null,112,0,14228.16,3075.04,0,17303.2,17303.2,"Yes",0,0,0]
[null,95,"Aroy Fildalgo","Senior Lineman/Journeyman Lineman","Vendor No.02",null,"MIFPUC-2","2018-10-14","2018-10-20","Yes",{"$f":"VLOOKUP($D113,'C.1 - Rate Sheets'!B:F,2,FALSE)","v":0},{"$f":"VLOOKUP($D113,'C.1 - Rate Sheets'!B:F,3,FALSE)","v":136.22},{"$f":"VLOOKUP($D113,'C.1 - Rate Sheets'!B:F,4,FALSE)","v":176.19},{"$f":"VLOOKUP($D113,'C.1 - Rate Sheets'!B:F,5,FALSE)","v":0},null,null,null,null,null,null,null,null,null,null,null,null,null,null,null,null,null,16,null,null,null,16,null,null,null,null,16,null,null,null,null,16,null,null,null,null,16,null,null,null,null,16,null,null,null,null,16,null,null,null,null,null,null,null,null,null,null,null,null,null,null,null,null,null,null,null,null,null,null,null,null,null,null,null,null,null,null,null,null,null,null,null,null,null,null,null,null,null,null,null,null,null,null,null,null,null,null,null,null,null,null,null,null,null,null,null,null,null,null,null,null,null,null,null,null,null,null,null,null,null,null,null,null,null,null,null,null,null,null,null,null,null,null,null,null,null,null,null,null,null,null,null,null,null,null,null,null,null,null,null,0,96,16,null,112,0,13077.119999999999,2819.04,0,15896.16,15896.16,"Yes",0,0,0]
[null,96,"Addiel DeCardenas","Senior Lineman/Journeyman Lineman","Vendor No.02",null,"MIFPUC-2","2018-10-14","2018-10-20","Yes",{"$f":"VLOOKUP($D114,'C.1 - Rate Sheets'!B:F,2,FALSE)","v":0},{"$f":"VLOOKUP($D114,'C.1 - Rate Sheets'!B:F,3,FALSE)","v":136.22},{"$f":"VLOOKUP($D114,'C.1 - Rate Sheets'!B:F,4,FALSE)","v":176.19},{"$f":"VLOOKUP($D114,'C.1 - Rate Sheets'!B:F,5,FALSE)","v":0},null,null,null,null,null,null,null,null,null,null,null,null,null,null,null,null,null,16,null,null,null,16,null,null,null,null,16,null,null,null,null,16,null,null,null,null,16,null,null,null,null,16,null,null,null,null,16,null,null,null,null,null,null,null,null,null,null,null,null,null,null,null,null,null,null,null,null,null,null,null,null,null,null,null,null,null,null,null,null,null,null,null,null,null,null,null,null,null,null,null,null,null,null,null,null,null,null,null,null,null,null,null,null,null,null,null,null,null,null,null,null,null,null,null,null,null,null,null,null,null,null,null,null,null,null,null,null,null,null,null,null,null,null,null,null,null,null,null,null,null,null,null,null,null,null,null,null,null,null,null,0,96,16,null,112,0,13077.119999999999,2819.04,0,15896.16,15896.16,"Yes",0,0,0]
[null,97,"Bruno Thiago","Senior Lineman/Journeyman Lineman","Vendor No.02",null,"MIFPUC-2","2018-10-14","2018-10-20","Yes",{"$f":"VLOOKUP($D115,'C.1 - Rate Sheets'!B:F,2,FALSE)","v":0},{"$f":"VLOOKUP($D115,'C.1 - Rate Sheets'!B:F,3,FALSE)","v":136.22},{"$f":"VLOOKUP($D115,'C.1 - Rate Sheets'!B:F,4,FALSE)","v":176.19},{"$f":"VLOOKUP($D115,'C.1 - Rate Sheets'!B:F,5,FALSE)","v":0},null,null,null,null,null,null,null,null,null,null,null,null,null,null,null,null,null,16,null,null,null,16,null,null,null,null,16,null,null,null,null,16,null,null,null,null,16,null,null,null,null,16,null,null,null,null,16,null,null,null,null,null,null,null,null,null,null,null,null,null,null,null,null,null,null,null,null,null,null,null,null,null,null,null,null,null,null,null,null,null,null,null,null,null,null,null,null,null,null,null,null,null,null,null,null,null,null,null,null,null,null,null,null,null,null,null,null,null,null,null,null,null,null,null,null,null,null,null,null,null,null,null,null,null,null,null,null,null,null,null,null,null,null,null,null,null,null,null,null,null,null,null,null,null,null,null,null,null,null,null,0,96,16,null,112,0,13077.119999999999,2819.04,0,15896.16,15896.16,"Yes",0,0,0]
[null,98,"Iran Fernandez","Groundman","Vendor No.02",null,"MIFPUC-2","2018-10-14","2018-10-20","Yes",{"$f":"VLOOKUP($D116,'C.1 - Rate Sheets'!B:F,2,FALSE)","v":0},{"$f":"VLOOKUP($D116,'C.1 - Rate Sheets'!B:F,3,FALSE)","v":99.27},{"$f":"VLOOKUP($D116,'C.1 - Rate Sheets'!B:F,4,FALSE)","v":117.21},{"$f":"VLOOKUP($D116,'C.1 - Rate Sheets'!B:F,5,FALSE)","v":0},null,null,null,null,null,null,null,null,null,null,null,null,null,null,null,null,null,16,null,null,null,16,null,null,null,null,16,null,null,null,null,16,null,null,null,null,16,null,null,null,null,16,null,null,null,null,16,null,null,null,null,null,null,null,null,null,null,null,null,null,null,null,null,null,null,null,null,null,null,null,null,null,null,null,null,null,null,null,null,null,null,null,null,null,null,null,null,null,null,null,null,null,null,null,null,null,null,null,null,null,null,null,null,null,null,null,null,null,null,null,null,null,null,null,null,null,null,null,null,null,null,null,null,null,null,null,null,null,null,null,null,null,null,null,null,null,null,null,null,null,null,null,null,null,null,null,null,null,null,null,0,96,16,null,112,0,9529.92,1875.36,0,11405.28,11405.28,"Yes",0,0,0]
[null,99,"Deatrick Forbes","Foreman","Vendor No.02",null,"MIFPUC-2","2018-10-14","2018-10-20","Yes",{"$f":"VLOOKUP($D117,'C.1 - Rate Sheets'!B:F,2,FALSE)","v":0},{"$f":"VLOOKUP($D117,'C.1 - Rate Sheets'!B:F,3,FALSE)","v":148.21},{"$f":"VLOOKUP($D117,'C.1 - Rate Sheets'!B:F,4,FALSE)","v":192.19},{"$f":"VLOOKUP($D117,'C.1 - Rate Sheets'!B:F,5,FALSE)","v":0},null,null,null,null,null,null,null,null,null,null,null,null,null,null,null,null,null,16,null,null,null,16,null,null,null,null,16,null,null,null,null,16,null,null,null,null,16,null,null,null,null,16,null,null,null,null,16,null,null,null,null,null,null,null,null,null,null,null,null,null,null,null,null,null,null,null,null,null,null,null,null,null,null,null,null,null,null,null,null,null,null,null,null,null,null,null,null,null,null,null,null,null,null,null,null,null,null,null,null,null,null,null,null,null,null,null,null,null,null,null,null,null,null,null,null,null,null,null,null,null,null,null,null,null,null,null,null,null,null,null,null,null,null,null,null,null,null,null,null,null,null,null,null,null,null,null,null,null,null,null,0,96,16,null,112,0,14228.16,3075.04,0,17303.2,17303.2,"Yes",0,0,0]
[null,100,"Guilermo Arias","Senior Lineman/Journeyman Lineman","Vendor No.02",null,"MIFPUC-2","2018-10-14","2018-10-20","Yes",{"$f":"VLOOKUP($D118,'C.1 - Rate Sheets'!B:F,2,FALSE)","v":0},{"$f":"VLOOKUP($D118,'C.1 - Rate Sheets'!B:F,3,FALSE)","v":136.22},{"$f":"VLOOKUP($D118,'C.1 - Rate Sheets'!B:F,4,FALSE)","v":176.19},{"$f":"VLOOKUP($D118,'C.1 - Rate Sheets'!B:F,5,FALSE)","v":0},null,null,null,null,null,null,null,null,null,null,null,null,null,null,null,null,null,16,null,null,null,16,null,null,null,null,16,null,null,null,null,16,null,null,null,null,16,null,null,null,null,16,null,null,null,null,16,null,null,null,null,null,null,null,null,null,null,null,null,null,null,null,null,null,null,null,null,null,null,null,null,null,null,null,null,null,null,null,null,null,null,null,null,null,null,null,null,null,null,null,null,null,null,null,null,null,null,null,null,null,null,null,null,null,null,null,null,null,null,null,null,null,null,null,null,null,null,null,null,null,null,null,null,null,null,null,null,null,null,null,null,null,null,null,null,null,null,null,null,null,null,null,null,null,null,null,null,null,null,null,0,96,16,null,112,0,13077.119999999999,2819.04,0,15896.16,15896.16,"Yes",0,0,0]
[null,101,"Mark Machado","Senior Lineman/Journeyman Lineman","Vendor No.02",null,"MIFPUC-2","2018-10-14","2018-10-20","Yes",{"$f":"VLOOKUP($D119,'C.1 - Rate Sheets'!B:F,2,FALSE)","v":0},{"$f":"VLOOKUP($D119,'C.1 - Rate Sheets'!B:F,3,FALSE)","v":136.22},{"$f":"VLOOKUP($D119,'C.1 - Rate Sheets'!B:F,4,FALSE)","v":176.19},{"$f":"VLOOKUP($D119,'C.1 - Rate Sheets'!B:F,5,FALSE)","v":0},null,null,null,null,null,null,null,null,null,null,null,null,null,null,null,null,null,16,null,null,null,16,null,null,null,null,16,null,null,null,null,16,null,null,null,null,16,null,null,null,null,16,null,null,null,null,16,null,null,null,null,null,null,null,null,null,null,null,null,null,null,null,null,null,null,null,null,null,null,null,null,null,null,null,null,null,null,null,null,null,null,null,null,null,null,null,null,null,null,null,null,null,null,null,null,null,null,null,null,null,null,null,null,null,null,null,null,null,null,null,null,null,null,null,null,null,null,null,null,null,null,null,null,null,null,null,null,null,null,null,null,null,null,null,null,null,null,null,null,null,null,null,null,null,null,null,null,null,null,null,0,96,16,null,112,0,13077.119999999999,2819.04,0,15896.16,15896.16,"Yes",0,0,0]
[null,102,"Andrew Wilson","Line Tech C","Vendor No.02",null,"MIFPUC-2","2018-10-14","2018-10-20","Yes",{"$f":"VLOOKUP($D120,'C.1 - Rate Sheets'!B:F,2,FALSE)","v":0},{"$f":"VLOOKUP($D120,'C.1 - Rate Sheets'!B:F,3,FALSE)","v":110.51},{"$f":"VLOOKUP($D120,'C.1 - Rate Sheets'!B:F,4,FALSE)","v":136.22999999999999},{"$f":"VLOOKUP($D120,'C.1 - Rate Sheets'!B:F,5,FALSE)","v":0},null,null,null,null,null,null,null,null,null,null,null,null,null,null,null,null,null,16,null,null,null,16,null,null,null,null,16,null,null,null,null,16,null,null,null,null,16,null,null,null,null,16,null,null,null,null,16,null,null,null,null,null,null,null,null,null,null,null,null,null,null,null,null,null,null,null,null,null,null,null,null,null,null,null,null,null,null,null,null,null,null,null,null,null,null,null,null,null,null,null,null,null,null,null,null,null,null,null,null,null,null,null,null,null,null,null,null,null,null,null,null,null,null,null,null,null,null,null,null,null,null,null,null,null,null,null,null,null,null,null,null,null,null,null,null,null,null,null,null,null,null,null,null,null,null,null,null,null,null,null,0,96,16,null,112,0,10608.960000000001,2179.6799999999998,0,12788.640000000001,12788.640000000001,"Yes",0,0,0]
[null,103,"Aaron Bessent","Groundman","Vendor No.02",null,"MIFPUC-2","2018-10-14","2018-10-20","Yes",{"$f":"VLOOKUP($D121,'C.1 - Rate Sheets'!B:F,2,FALSE)","v":0},{"$f":"VLOOKUP($D121,'C.1 - Rate Sheets'!B:F,3,FALSE)","v":99.27},{"$f":"VLOOKUP($D121,'C.1 - Rate Sheets'!B:F,4,FALSE)","v":117.21},{"$f":"VLOOKUP($D121,'C.1 - Rate Sheets'!B:F,5,FALSE)","v":0},null,null,null,null,null,null,null,null,null,null,null,null,null,null,null,null,null,16,null,null,null,16,null,null,null,null,16,null,null,null,null,16,null,null,null,null,16,null,null,null,null,16,null,null,null,null,16,null,null,null,null,null,null,null,null,null,null,null,null,null,null,null,null,null,null,null,null,null,null,null,null,null,null,null,null,null,null,null,null,null,null,null,null,null,null,null,null,null,null,null,null,null,null,null,null,null,null,null,null,null,null,null,null,null,null,null,null,null,null,null,null,null,null,null,null,null,null,null,null,null,null,null,null,null,null,null,null,null,null,null,null,null,null,null,null,null,null,null,null,null,null,null,null,null,null,null,null,null,null,null,0,96,16,null,112,0,9529.92,1875.36,0,11405.28,11405.28,"Yes",0,0,0]
[null,104,"Kevin Leon","General Foreman","Vendor No.02",null,"MIFPUC-2","2018-10-14","2018-10-20","Yes",{"$f":"VLOOKUP($D122,'C.1 - Rate Sheets'!B:F,2,FALSE)","v":0},{"$f":"VLOOKUP($D122,'C.1 - Rate Sheets'!B:F,3,FALSE)","v":160.21},{"$f":"VLOOKUP($D122,'C.1 - Rate Sheets'!B:F,4,FALSE)","v":208.18},{"$f":"VLOOKUP($D122,'C.1 - Rate Sheets'!B:F,5,FALSE)","v":0},null,null,null,null,null,null,null,null,null,null,null,null,null,null,null,null,null,16,null,null,null,16,null,null,null,null,16,null,null,null,null,16,null,null,null,null,16,null,null,null,null,16,null,null,null,null,16,null,null,null,null,null,null,null,null,null,null,null,null,null,null,null,null,null,null,null,null,null,null,null,null,null,null,null,null,null,null,null,null,null,null,null,null,null,null,null,null,null,null,null,null,null,null,null,null,null,null,null,null,null,null,null,null,null,null,null,null,null,null,null,null,null,null,null,null,null,null,null,null,null,null,null,null,null,null,null,null,null,null,null,null,null,null,null,null,null,null,null,null,null,null,null,null,null,null,null,null,null,null,null,0,96,16,null,112,0,15380.16,3330.88,0,18711.04,18711.04,"Yes",0,0,0]
[null,105,"Joe Preilezo","Safety","Vendor No.02",null,"MIFPUC-2","2018-10-14","2018-10-20","Yes",{"$f":"VLOOKUP($D123,'C.1 - Rate Sheets'!B:F,2,FALSE)","v":0},{"$f":"VLOOKUP($D123,'C.1 - Rate Sheets'!B:F,3,FALSE)","v":148.21},{"$f":"VLOOKUP($D123,'C.1 - Rate Sheets'!B:F,4,FALSE)","v":192.19},{"$f":"VLOOKUP($D123,'C.1 - Rate Sheets'!B:F,5,FALSE)","v":0},null,null,null,null,null,null,null,null,null,null,null,null,null,null,null,null,null,16,null,null,null,16,null,null,null,null,16,null,null,null,null,16,null,null,null,null,16,null,null,null,null,16,null,null,null,null,16,null,null,null,null,null,null,null,null,null,null,null,null,null,null,null,null,null,null,null,null,null,null,null,null,null,null,null,null,null,null,null,null,null,null,null,null,null,null,null,null,null,null,null,null,null,null,null,null,null,null,null,null,null,null,null,null,null,null,null,null,null,null,null,null,null,null,null,null,null,null,null,null,null,null,null,null,null,null,null,null,null,null,null,null,null,null,null,null,null,null,null,null,null,null,null,null,null,null,null,null,null,null,null,0,96,16,null,112,0,14228.16,3075.04,0,17303.2,17303.2,"Yes",0,0,0]
[null,106,"Jon Morey","Safety","Vendor No.02",null,"MIFPUC-2","2018-10-14","2018-10-20","Yes",{"$f":"VLOOKUP($D124,'C.1 - Rate Sheets'!B:F,2,FALSE)","v":0},{"$f":"VLOOKUP($D124,'C.1 - Rate Sheets'!B:F,3,FALSE)","v":148.21},{"$f":"VLOOKUP($D124,'C.1 - Rate Sheets'!B:F,4,FALSE)","v":192.19},{"$f":"VLOOKUP($D124,'C.1 - Rate Sheets'!B:F,5,FALSE)","v":0},null,null,null,null,null,null,null,null,null,null,null,null,null,null,null,null,null,16,null,null,null,16,null,null,null,null,16,null,null,null,null,16,null,null,null,null,16,null,null,null,null,16,null,null,null,null,16,null,null,null,null,null,null,null,null,null,null,null,null,null,null,null,null,null,null,null,null,null,null,null,null,null,null,null,null,null,null,null,null,null,null,null,null,null,null,null,null,null,null,null,null,null,null,null,null,null,null,null,null,null,null,null,null,null,null,null,null,null,null,null,null,null,null,null,null,null,null,null,null,null,null,null,null,null,null,null,null,null,null,null,null,null,null,null,null,null,null,null,null,null,null,null,null,null,null,null,null,null,null,null,0,96,16,null,112,0,14228.16,3075.04,0,17303.2,17303.2,"Yes",0,0,0]
[null,107,"Reymond Ugalde","Mechanic","Vendor No.02",null,"MIFPUC-2","2018-10-14","2018-10-20","Yes",{"$f":"VLOOKUP($D125,'C.1 - Rate Sheets'!B:F,2,FALSE)","v":0},{"$f":"VLOOKUP($D125,'C.1 - Rate Sheets'!B:F,3,FALSE)","v":116.87},{"$f":"VLOOKUP($D125,'C.1 - Rate Sheets'!B:F,4,FALSE)","v":151.13},{"$f":"VLOOKUP($D125,'C.1 - Rate Sheets'!B:F,5,FALSE)","v":0},null,null,null,null,null,null,null,null,null,null,null,null,null,null,null,null,null,16,null,null,null,16,null,null,null,null,16,null,null,null,null,16,null,null,null,null,16,null,null,null,null,16,null,null,null,null,16,null,null,null,null,null,null,null,null,null,null,null,null,null,null,null,null,null,null,null,null,null,null,null,null,null,null,null,null,null,null,null,null,null,null,null,null,null,null,null,null,null,null,null,null,null,null,null,null,null,null,null,null,null,null,null,null,null,null,null,null,null,null,null,null,null,null,null,null,null,null,null,null,null,null,null,null,null,null,null,null,null,null,null,null,null,null,null,null,null,null,null,null,null,null,null,null,null,null,null,null,null,null,null,0,96,16,null,112,0,11219.52,2418.08,0,13637.6,13637.6,"Yes",0,0,0]
[null,108,"Nate Wells","Foreman","Vendor No.02",null,"MIFPUC-2","2018-10-14","2018-10-20","Yes",{"$f":"VLOOKUP($D126,'C.1 - Rate Sheets'!B:F,2,FALSE)","v":0},{"$f":"VLOOKUP($D126,'C.1 - Rate Sheets'!B:F,3,FALSE)","v":148.21},{"$f":"VLOOKUP($D126,'C.1 - Rate Sheets'!B:F,4,FALSE)","v":192.19},{"$f":"VLOOKUP($D126,'C.1 - Rate Sheets'!B:F,5,FALSE)","v":0},null,null,null,null,null,null,null,null,null,null,null,null,null,null,null,null,null,16,null,null,null,16,null,null,null,null,16,null,null,null,null,16,null,null,null,null,16,null,null,null,null,16,null,null,null,null,16,null,null,null,null,null,null,null,null,null,null,null,null,null,null,null,null,null,null,null,null,null,null,null,null,null,null,null,null,null,null,null,null,null,null,null,null,null,null,null,null,null,null,null,null,null,null,null,null,null,null,null,null,null,null,null,null,null,null,null,null,null,null,null,null,null,null,null,null,null,null,null,null,null,null,null,null,null,null,null,null,null,null,null,null,null,null,null,null,null,null,null,null,null,null,null,null,null,null,null,null,null,null,null,0,96,16,null,112,0,14228.16,3075.04,0,17303.2,17303.2,"Yes",0,0,0]
[null,109,"Emir Alvarado","Senior Lineman/Journeyman Lineman","Vendor No.02",null,"MIFPUC-2","2018-10-14","2018-10-20","Yes",{"$f":"VLOOKUP($D127,'C.1 - Rate Sheets'!B:F,2,FALSE)","v":0},{"$f":"VLOOKUP($D127,'C.1 - Rate Sheets'!B:F,3,FALSE)","v":136.22},{"$f":"VLOOKUP($D127,'C.1 - Rate Sheets'!B:F,4,FALSE)","v":176.19},{"$f":"VLOOKUP($D127,'C.1 - Rate Sheets'!B:F,5,FALSE)","v":0},null,null,null,null,null,null,null,null,null,null,null,null,null,null,null,null,null,16,null,null,null,16,null,null,null,null,16,null,null,null,null,16,null,null,null,null,16,null,null,null,null,16,null,null,null,null,16,null,null,null,null,null,null,null,null,null,null,null,null,null,null,null,null,null,null,null,null,null,null,null,null,null,null,null,null,null,null,null,null,null,null,null,null,null,null,null,null,null,null,null,null,null,null,null,null,null,null,null,null,null,null,null,null,null,null,null,null,null,null,null,null,null,null,null,null,null,null,null,null,null,null,null,null,null,null,null,null,null,null,null,null,null,null,null,null,null,null,null,null,null,null,null,null,null,null,null,null,null,null,null,0,96,16,null,112,0,13077.119999999999,2819.04,0,15896.16,15896.16,"Yes",0,0,0]
[null,110,"Doyle Rondtree","Senior Lineman/Journeyman Lineman","Vendor No.02",null,"MIFPUC-2","2018-10-14","2018-10-20","Yes",{"$f":"VLOOKUP($D128,'C.1 - Rate Sheets'!B:F,2,FALSE)","v":0},{"$f":"VLOOKUP($D128,'C.1 - Rate Sheets'!B:F,3,FALSE)","v":136.22},{"$f":"VLOOKUP($D128,'C.1 - Rate Sheets'!B:F,4,FALSE)","v":176.19},{"$f":"VLOOKUP($D128,'C.1 - Rate Sheets'!B:F,5,FALSE)","v":0},null,null,null,null,null,null,null,null,null,null,null,null,null,null,null,null,null,16,null,null,null,16,null,null,null,null,16,null,null,null,null,16,null,null,null,null,16,null,null,null,null,16,null,null,null,null,16,null,null,null,null,null,null,null,null,null,null,null,null,null,null,null,null,null,null,null,null,null,null,null,null,null,null,null,null,null,null,null,null,null,null,null,null,null,null,null,null,null,null,null,null,null,null,null,null,null,null,null,null,null,null,null,null,null,null,null,null,null,null,null,null,null,null,null,null,null,null,null,null,null,null,null,null,null,null,null,null,null,null,null,null,null,null,null,null,null,null,null,null,null,null,null,null,null,null,null,null,null,null,null,0,96,16,null,112,0,13077.119999999999,2819.04,0,15896.16,15896.16,"Yes",0,0,0]
[null,111,"Dominick Hernandez","Apprentice Helper","Vendor No.02",null,"MIFPUC-2","2018-10-14","2018-10-20","Yes",{"$f":"VLOOKUP($D129,'C.1 - Rate Sheets'!B:F,2,FALSE)","v":0},{"$f":"VLOOKUP($D129,'C.1 - Rate Sheets'!B:F,3,FALSE)","v":102.25},{"$f":"VLOOKUP($D129,'C.1 - Rate Sheets'!B:F,4,FALSE)","v":130.74},{"$f":"VLOOKUP($D129,'C.1 - Rate Sheets'!B:F,5,FALSE)","v":0},null,null,null,null,null,null,null,null,null,null,null,null,null,null,null,null,null,16,null,null,null,16,null,null,null,null,16,null,null,null,null,16,null,null,null,null,16,null,null,null,null,16,null,null,null,null,16,null,null,null,null,null,null,null,null,null,null,null,null,null,null,null,null,null,null,null,null,null,null,null,null,null,null,null,null,null,null,null,null,null,null,null,null,null,null,null,null,null,null,null,null,null,null,null,null,null,null,null,null,null,null,null,null,null,null,null,null,null,null,null,null,null,null,null,null,null,null,null,null,null,null,null,null,null,null,null,null,null,null,null,null,null,null,null,null,null,null,null,null,null,null,null,null,null,null,null,null,null,null,null,0,96,16,null,112,0,9816,2091.84,0,11907.84,11907.84,"Yes",0,0,0]
[null,112,"Brian Abbate","Groundman","Vendor No.02",null,"MIFPUC-2","2018-10-14","2018-10-20","Yes",{"$f":"VLOOKUP($D130,'C.1 - Rate Sheets'!B:F,2,FALSE)","v":0},{"$f":"VLOOKUP($D130,'C.1 - Rate Sheets'!B:F,3,FALSE)","v":99.27},{"$f":"VLOOKUP($D130,'C.1 - Rate Sheets'!B:F,4,FALSE)","v":117.21},{"$f":"VLOOKUP($D130,'C.1 - Rate Sheets'!B:F,5,FALSE)","v":0},null,null,null,null,null,null,null,null,null,null,null,null,null,null,null,null,null,16,null,null,null,16,null,null,null,null,16,null,null,null,null,16,null,null,null,null,16,null,null,null,null,16,null,null,null,null,16,null,null,null,null,null,null,null,null,null,null,null,null,null,null,null,null,null,null,null,null,null,null,null,null,null,null,null,null,null,null,null,null,null,null,null,null,null,null,null,null,null,null,null,null,null,null,null,null,null,null,null,null,null,null,null,null,null,null,null,null,null,null,null,null,null,null,null,null,null,null,null,null,null,null,null,null,null,null,null,null,null,null,null,null,null,null,null,null,null,null,null,null,null,null,null,null,null,null,null,null,null,null,null,0,96,16,null,112,0,9529.92,1875.36,0,11405.28,11405.28,"Yes",0,0,0]
[null,113,"Jose De Jesus","Foreman","Vendor No.02",null,"MIFPUC-2","2018-10-14","2018-10-20","Yes",{"$f":"VLOOKUP($D131,'C.1 - Rate Sheets'!B:F,2,FALSE)","v":0},{"$f":"VLOOKUP($D131,'C.1 - Rate Sheets'!B:F,3,FALSE)","v":148.21},{"$f":"VLOOKUP($D131,'C.1 - Rate Sheets'!B:F,4,FALSE)","v":192.19},{"$f":"VLOOKUP($D131,'C.1 - Rate Sheets'!B:F,5,FALSE)","v":0},null,null,null,null,null,null,null,null,null,null,null,null,null,null,null,null,null,16,null,null,null,16,null,null,null,null,16,null,null,null,null,16,null,null,null,null,16,null,null,null,null,16,null,null,null,null,16,null,null,null,null,null,null,null,null,null,null,null,null,null,null,null,null,null,null,null,null,null,null,null,null,null,null,null,null,null,null,null,null,null,null,null,null,null,null,null,null,null,null,null,null,null,null,null,null,null,null,null,null,null,null,null,null,null,null,null,null,null,null,null,null,null,null,null,null,null,null,null,null,null,null,null,null,null,null,null,null,null,null,null,null,null,null,null,null,null,null,null,null,null,null,null,null,null,null,null,null,null,null,null,0,96,16,null,112,0,14228.16,3075.04,0,17303.2,17303.2,"Yes",0,0,0]
[null,114,"Hector Rodriguez","Senior Lineman/Journeyman Lineman","Vendor No.02",null,"MIFPUC-2","2018-10-14","2018-10-20","Yes",{"$f":"VLOOKUP($D132,'C.1 - Rate Sheets'!B:F,2,FALSE)","v":0},{"$f":"VLOOKUP($D132,'C.1 - Rate Sheets'!B:F,3,FALSE)","v":136.22},{"$f":"VLOOKUP($D132,'C.1 - Rate Sheets'!B:F,4,FALSE)","v":176.19},{"$f":"VLOOKUP($D132,'C.1 - Rate Sheets'!B:F,5,FALSE)","v":0},null,null,null,null,null,null,null,null,null,null,null,null,null,null,null,null,null,16,null,null,null,16,null,null,null,null,16,null,null,null,null,16,null,null,null,null,16,null,null,null,null,16,null,null,null,null,16,null,null,null,null,null,null,null,null,null,null,null,null,null,null,null,null,null,null,null,null,null,null,null,null,null,null,null,null,null,null,null,null,null,null,null,null,null,null,null,null,null,null,null,null,null,null,null,null,null,null,null,null,null,null,null,null,null,null,null,null,null,null,null,null,null,null,null,null,null,null,null,null,null,null,null,null,null,null,null,null,null,null,null,null,null,null,null,null,null,null,null,null,null,null,null,null,null,null,null,null,null,null,null,0,96,16,null,112,0,13077.119999999999,2819.04,0,15896.16,15896.16,"Yes",0,0,0]
[null,115,"Randal Osteen","Line Tech B","Vendor No.02",null,"MIFPUC-2","2018-10-14","2018-10-20","Yes",{"$f":"VLOOKUP($D133,'C.1 - Rate Sheets'!B:F,2,FALSE)","v":0},{"$f":"VLOOKUP($D133,'C.1 - Rate Sheets'!B:F,3,FALSE)","v":118.24},{"$f":"VLOOKUP($D133,'C.1 - Rate Sheets'!B:F,4,FALSE)","v":152.22},{"$f":"VLOOKUP($D133,'C.1 - Rate Sheets'!B:F,5,FALSE)","v":0},null,null,null,null,null,null,null,null,null,null,null,null,null,null,null,null,null,16,null,null,null,16,null,null,null,null,16,null,null,null,null,16,null,null,null,null,16,null,null,null,null,16,null,null,null,null,16,null,null,null,null,null,null,null,null,null,null,null,null,null,null,null,null,null,null,null,null,null,null,null,null,null,null,null,null,null,null,null,null,null,null,null,null,null,null,null,null,null,null,null,null,null,null,null,null,null,null,null,null,null,null,null,null,null,null,null,null,null,null,null,null,null,null,null,null,null,null,null,null,null,null,null,null,null,null,null,null,null,null,null,null,null,null,null,null,null,null,null,null,null,null,null,null,null,null,null,null,null,null,null,0,96,16,null,112,0,11351.039999999999,2435.52,0,13786.56,13786.56,"Yes",0,0,0]
[null,116,"Jorge Barroso","Senior Lineman/Journeyman Lineman","Vendor No.02",null,"MIFPUC-2","2018-10-14","2018-10-20","Yes",{"$f":"VLOOKUP($D134,'C.1 - Rate Sheets'!B:F,2,FALSE)","v":0},{"$f":"VLOOKUP($D134,'C.1 - Rate Sheets'!B:F,3,FALSE)","v":136.22},{"$f":"VLOOKUP($D134,'C.1 - Rate Sheets'!B:F,4,FALSE)","v":176.19},{"$f":"VLOOKUP($D134,'C.1 - Rate Sheets'!B:F,5,FALSE)","v":0},null,null,null,null,null,null,null,null,null,null,null,null,null,null,null,null,null,16,null,null,null,16,null,null,null,null,16,null,null,null,null,16,null,null,null,null,16,null,null,null,null,16,null,null,null,null,16,null,null,null,null,null,null,null,null,null,null,null,null,null,null,null,null,null,null,null,null,null,null,null,null,null,null,null,null,null,null,null,null,null,null,null,null,null,null,null,null,null,null,null,null,null,null,null,null,null,null,null,null,null,null,null,null,null,null,null,null,null,null,null,null,null,null,null,null,null,null,null,null,null,null,null,null,null,null,null,null,null,null,null,null,null,null,null,null,null,null,null,null,null,null,null,null,null,null,null,null,null,null,null,0,96,16,null,112,0,13077.119999999999,2819.04,0,15896.16,15896.16,"Yes",0,0,0]
[null,117,"Chadwick Kern","Groundman","Vendor No.02",null,"MIFPUC-2","2018-10-14","2018-10-20","Yes",{"$f":"VLOOKUP($D135,'C.1 - Rate Sheets'!B:F,2,FALSE)","v":0},{"$f":"VLOOKUP($D135,'C.1 - Rate Sheets'!B:F,3,FALSE)","v":99.27},{"$f":"VLOOKUP($D135,'C.1 - Rate Sheets'!B:F,4,FALSE)","v":117.21},{"$f":"VLOOKUP($D135,'C.1 - Rate Sheets'!B:F,5,FALSE)","v":0},null,null,null,null,null,null,null,null,null,null,null,null,null,null,null,null,null,16,null,null,null,16,null,null,null,null,16,null,null,null,null,16,null,null,null,null,16,null,null,null,null,16,null,null,null,null,16,null,null,null,null,null,null,null,null,null,null,null,null,null,null,null,null,null,null,null,null,null,null,null,null,null,null,null,null,null,null,null,null,null,null,null,null,null,null,null,null,null,null,null,null,null,null,null,null,null,null,null,null,null,null,null,null,null,null,null,null,null,null,null,null,null,null,null,null,null,null,null,null,null,null,null,null,null,null,null,null,null,null,null,null,null,null,null,null,null,null,null,null,null,null,null,null,null,null,null,null,null,null,null,0,96,16,null,112,0,9529.92,1875.36,0,11405.28,11405.28,"Yes",0,0,0]
[null,118,"John Harn","General Foreman","Vendor No.02",null,"MIFPUC-2","2018-10-14","2018-10-20","Yes",{"$f":"VLOOKUP($D136,'C.1 - Rate Sheets'!B:F,2,FALSE)","v":0},{"$f":"VLOOKUP($D136,'C.1 - Rate Sheets'!B:F,3,FALSE)","v":160.21},{"$f":"VLOOKUP($D136,'C.1 - Rate Sheets'!B:F,4,FALSE)","v":208.18},{"$f":"VLOOKUP($D136,'C.1 - Rate Sheets'!B:F,5,FALSE)","v":0},null,null,null,null,null,null,null,null,null,null,null,null,null,null,null,null,null,16,null,null,null,16,null,null,null,null,16,null,null,null,null,16,null,null,null,null,16,null,null,null,null,16,null,null,null,null,16,null,null,null,null,null,null,null,null,null,null,null,null,null,null,null,null,null,null,null,null,null,null,null,null,null,null,null,null,null,null,null,null,null,null,null,null,null,null,null,null,null,null,null,null,null,null,null,null,null,null,null,null,null,null,null,null,null,null,null,null,null,null,null,null,null,null,null,null,null,null,null,null,null,null,null,null,null,null,null,null,null,null,null,null,null,null,null,null,null,null,null,null,null,null,null,null,null,null,null,null,null,null,null,0,96,16,null,112,0,15380.16,3330.88,0,18711.04,18711.04,"Yes",0,0,0]
[null,119,"Bonnie Knopf","Safety","Vendor No.02",null,"MIFPUC-2","2018-10-14","2018-10-20","Yes",{"$f":"VLOOKUP($D137,'C.1 - Rate Sheets'!B:F,2,FALSE)","v":0},{"$f":"VLOOKUP($D137,'C.1 - Rate Sheets'!B:F,3,FALSE)","v":148.21},{"$f":"VLOOKUP($D137,'C.1 - Rate Sheets'!B:F,4,FALSE)","v":192.19},{"$f":"VLOOKUP($D137,'C.1 - Rate Sheets'!B:F,5,FALSE)","v":0},null,null,null,null,null,null,null,null,null,null,null,null,null,null,null,null,null,16,null,null,null,16,null,null,null,null,16,null,null,null,null,16,null,null,null,null,16,null,null,null,null,16,null,null,null,null,16,null,null,null,null,null,null,null,null,null,null,null,null,null,null,null,null,null,null,null,null,null,null,null,null,null,null,null,null,null,null,null,null,null,null,null,null,null,null,null,null,null,null,null,null,null,null,null,null,null,null,null,null,null,null,null,null,null,null,null,null,null,null,null,null,null,null,null,null,null,null,null,null,null,null,null,null,null,null,null,null,null,null,null,null,null,null,null,null,null,null,null,null,null,null,null,null,null,null,null,null,null,null,null,0,96,16,null,112,0,14228.16,3075.04,0,17303.2,17303.2,"Yes",0,0,0]
[null,120,"John Cour","General Foreman","Vendor No.02",null,"MIFPUC-2","2018-10-14","2018-10-20","Yes",{"$f":"VLOOKUP($D138,'C.1 - Rate Sheets'!B:F,2,FALSE)","v":0},{"$f":"VLOOKUP($D138,'C.1 - Rate Sheets'!B:F,3,FALSE)","v":160.21},{"$f":"VLOOKUP($D138,'C.1 - Rate Sheets'!B:F,4,FALSE)","v":208.18},{"$f":"VLOOKUP($D138,'C.1 - Rate Sheets'!B:F,5,FALSE)","v":0},null,null,null,null,null,null,null,null,null,null,null,null,null,null,null,null,null,16,null,null,null,16,null,null,null,null,16,null,null,null,null,16,null,null,null,null,16,null,null,null,null,16,null,null,null,null,16,null,null,null,null,null,null,null,null,null,null,null,null,null,null,null,null,null,null,null,null,null,null,null,null,null,null,null,null,null,null,null,null,null,null,null,null,null,null,null,null,null,null,null,null,null,null,null,null,null,null,null,null,null,null,null,null,null,null,null,null,null,null,null,null,null,null,null,null,null,null,null,null,null,null,null,null,null,null,null,null,null,null,null,null,null,null,null,null,null,null,null,null,null,null,null,null,null,null,null,null,null,null,null,0,96,16,null,112,0,15380.16,3330.88,0,18711.04,18711.04,"Yes",0,0,0]
[null,121,"Kinsey Winstead","Senior Lineman/Journeyman Lineman","Vendor No.02",null,"MIFPUC-2","2018-10-14","2018-10-20","Yes",{"$f":"VLOOKUP($D139,'C.1 - Rate Sheets'!B:F,2,FALSE)","v":0},{"$f":"VLOOKUP($D139,'C.1 - Rate Sheets'!B:F,3,FALSE)","v":136.22},{"$f":"VLOOKUP($D139,'C.1 - Rate Sheets'!B:F,4,FALSE)","v":176.19},{"$f":"VLOOKUP($D139,'C.1 - Rate Sheets'!B:F,5,FALSE)","v":0},null,null,null,null,null,null,null,null,null,null,null,null,null,null,null,null,null,16,null,null,null,16,null,null,null,null,16,null,null,null,null,16,null,null,null,null,16,null,null,null,null,16,null,null,null,null,16,null,null,null,null,null,null,null,null,null,null,null,null,null,null,null,null,null,null,null,null,null,null,null,null,null,null,null,null,null,null,null,null,null,null,null,null,null,null,null,null,null,null,null,null,null,null,null,null,null,null,null,null,null,null,null,null,null,null,null,null,null,null,null,null,null,null,null,null,null,null,null,null,null,null,null,null,null,null,null,null,null,null,null,null,null,null,null,null,null,null,null,null,null,null,null,null,null,null,null,null,null,null,null,0,96,16,null,112,0,13077.119999999999,2819.04,0,15896.16,15896.16,"Yes",0,0,0]
[null,122,"Sigfrido Chiong","Foreman","Vendor No.02",null,"MIFPUC-2","2018-10-14","2018-10-20","Yes",{"$f":"VLOOKUP($D140,'C.1 - Rate Sheets'!B:F,2,FALSE)","v":0},{"$f":"VLOOKUP($D140,'C.1 - Rate Sheets'!B:F,3,FALSE)","v":148.21},{"$f":"VLOOKUP($D140,'C.1 - Rate Sheets'!B:F,4,FALSE)","v":192.19},{"$f":"VLOOKUP($D140,'C.1 - Rate Sheets'!B:F,5,FALSE)","v":0},null,null,null,null,null,null,null,null,null,null,null,null,null,null,null,null,null,16,null,null,null,16,null,null,null,null,16,null,null,null,null,16,null,null,null,null,16,null,null,null,null,16,null,null,null,null,16,null,null,null,null,null,null,null,null,null,null,null,null,null,null,null,null,null,null,null,null,null,null,null,null,null,null,null,null,null,null,null,null,null,null,null,null,null,null,null,null,null,null,null,null,null,null,null,null,null,null,null,null,null,null,null,null,null,null,null,null,null,null,null,null,null,null,null,null,null,null,null,null,null,null,null,null,null,null,null,null,null,null,null,null,null,null,null,null,null,null,null,null,null,null,null,null,null,null,null,null,null,null,null,0,96,16,null,112,0,14228.16,3075.04,0,17303.2,17303.2,"Yes",0,0,0]
[null,123,"Jose Guttierez","Senior Lineman/Journeyman Lineman","Vendor No.02",null,"MIFPUC-2","2018-10-14","2018-10-20","Yes",{"$f":"VLOOKUP($D141,'C.1 - Rate Sheets'!B:F,2,FALSE)","v":0},{"$f":"VLOOKUP($D141,'C.1 - Rate Sheets'!B:F,3,FALSE)","v":136.22},{"$f":"VLOOKUP($D141,'C.1 - Rate Sheets'!B:F,4,FALSE)","v":176.19},{"$f":"VLOOKUP($D141,'C.1 - Rate Sheets'!B:F,5,FALSE)","v":0},null,null,null,null,null,null,null,null,null,null,null,null,null,null,null,null,null,16,null,null,null,16,null,null,null,null,16,null,null,null,null,16,null,null,null,null,16,null,null,null,null,16,null,null,null,null,16,null,null,null,null,null,null,null,null,null,null,null,null,null,null,null,null,null,null,null,null,null,null,null,null,null,null,null,null,null,null,null,null,null,null,null,null,null,null,null,null,null,null,null,null,null,null,null,null,null,null,null,null,null,null,null,null,null,null,null,null,null,null,null,null,null,null,null,null,null,null,null,null,null,null,null,null,null,null,null,null,null,null,null,null,null,null,null,null,null,null,null,null,null,null,null,null,null,null,null,null,null,null,null,0,96,16,null,112,0,13077.119999999999,2819.04,0,15896.16,15896.16,"Yes",0,0,0]
[null,124,"Dakota Pickup","Apprentice Helper","Vendor No.02",null,"MIFPUC-2","2018-10-14","2018-10-20","Yes",{"$f":"VLOOKUP($D142,'C.1 - Rate Sheets'!B:F,2,FALSE)","v":0},{"$f":"VLOOKUP($D142,'C.1 - Rate Sheets'!B:F,3,FALSE)","v":102.25},{"$f":"VLOOKUP($D142,'C.1 - Rate Sheets'!B:F,4,FALSE)","v":130.74},{"$f":"VLOOKUP($D142,'C.1 - Rate Sheets'!B:F,5,FALSE)","v":0},null,null,null,null,null,null,null,null,null,null,null,null,null,null,null,null,null,16,null,null,null,16,null,null,null,null,16,null,null,null,null,16,null,null,null,null,16,null,null,null,null,16,null,null,null,null,16,null,null,null,null,null,null,null,null,null,null,null,null,null,null,null,null,null,null,null,null,null,null,null,null,null,null,null,null,null,null,null,null,null,null,null,null,null,null,null,null,null,null,null,null,null,null,null,null,null,null,null,null,null,null,null,null,null,null,null,null,null,null,null,null,null,null,null,null,null,null,null,null,null,null,null,null,null,null,null,null,null,null,null,null,null,null,null,null,null,null,null,null,null,null,null,null,null,null,null,null,null,null,null,0,96,16,null,112,0,9816,2091.84,0,11907.84,11907.84,"Yes",0,0,0]
[null,125,"Jeremy Minkler","Groundman","Vendor No.02",null,"MIFPUC-2","2018-10-14","2018-10-20","Yes",{"$f":"VLOOKUP($D143,'C.1 - Rate Sheets'!B:F,2,FALSE)","v":0},{"$f":"VLOOKUP($D143,'C.1 - Rate Sheets'!B:F,3,FALSE)","v":99.27},{"$f":"VLOOKUP($D143,'C.1 - Rate Sheets'!B:F,4,FALSE)","v":117.21},{"$f":"VLOOKUP($D143,'C.1 - Rate Sheets'!B:F,5,FALSE)","v":0},null,null,null,null,null,null,null,null,null,null,null,null,null,null,null,null,null,16,null,null,null,16,null,null,null,null,16,null,null,null,null,16,null,null,null,null,16,null,null,null,null,16,null,null,null,null,16,null,null,null,null,null,null,null,null,null,null,null,null,null,null,null,null,null,null,null,null,null,null,null,null,null,null,null,null,null,null,null,null,null,null,null,null,null,null,null,null,null,null,null,null,null,null,null,null,null,null,null,null,null,null,null,null,null,null,null,null,null,null,null,null,null,null,null,null,null,null,null,null,null,null,null,null,null,null,null,null,null,null,null,null,null,null,null,null,null,null,null,null,null,null,null,null,null,null,null,null,null,null,null,0,96,16,null,112,0,9529.92,1875.36,0,11405.28,11405.28,"Yes",0,0,0]
[null,126,"Billy Dillashaw","Equipment Operator","Vendor No.02",null,"MIFPUC-2","2018-10-14","2018-10-20","Yes",{"$f":"VLOOKUP($D144,'C.1 - Rate Sheets'!B:F,2,FALSE)","v":0},{"$f":"VLOOKUP($D144,'C.1 - Rate Sheets'!B:F,3,FALSE)","v":116.87},{"$f":"VLOOKUP($D144,'C.1 - Rate Sheets'!B:F,4,FALSE)","v":151.13},{"$f":"VLOOKUP($D144,'C.1 - Rate Sheets'!B:F,5,FALSE)","v":0},null,null,null,null,null,null,null,null,null,null,null,null,null,null,null,null,null,16,null,null,null,16,null,null,null,null,16,null,null,null,null,16,null,null,null,null,16,null,null,null,null,16,null,null,null,null,16,null,null,null,null,null,null,null,null,null,null,null,null,null,null,null,null,null,null,null,null,null,null,null,null,null,null,null,null,null,null,null,null,null,null,null,null,null,null,null,null,null,null,null,null,null,null,null,null,null,null,null,null,null,null,null,null,null,null,null,null,null,null,null,null,null,null,null,null,null,null,null,null,null,null,null,null,null,null,null,null,null,null,null,null,null,null,null,null,null,null,null,null,null,null,null,null,null,null,null,null,null,null,null,0,96,16,null,112,0,11219.52,2418.08,0,13637.6,13637.6,"Yes",0,0,0]
[null,127,"Mike Katulka","Foreman","Vendor No.02",null,"MIFPUC-2","2018-10-14","2018-10-20","Yes",{"$f":"VLOOKUP($D145,'C.1 - Rate Sheets'!B:F,2,FALSE)","v":0},{"$f":"VLOOKUP($D145,'C.1 - Rate Sheets'!B:F,3,FALSE)","v":148.21},{"$f":"VLOOKUP($D145,'C.1 - Rate Sheets'!B:F,4,FALSE)","v":192.19},{"$f":"VLOOKUP($D145,'C.1 - Rate Sheets'!B:F,5,FALSE)","v":0},null,null,null,null,null,null,null,null,null,null,null,null,null,null,null,null,null,16,null,null,null,16,null,null,null,null,16,null,null,null,null,16,null,null,null,null,16,null,null,null,null,16,null,null,null,null,16,null,null,null,null,null,null,null,null,null,null,null,null,null,null,null,null,null,null,null,null,null,null,null,null,null,null,null,null,null,null,null,null,null,null,null,null,null,null,null,null,null,null,null,null,null,null,null,null,null,null,null,null,null,null,null,null,null,null,null,null,null,null,null,null,null,null,null,null,null,null,null,null,null,null,null,null,null,null,null,null,null,null,null,null,null,null,null,null,null,null,null,null,null,null,null,null,null,null,null,null,null,null,null,0,96,16,null,112,0,14228.16,3075.04,0,17303.2,17303.2,"Yes",0,0,0]
[null,128,"Yonielt Alfonso","Senior Lineman/Journeyman Lineman","Vendor No.02",null,"MIFPUC-2","2018-10-14","2018-10-20","Yes",{"$f":"VLOOKUP($D146,'C.1 - Rate Sheets'!B:F,2,FALSE)","v":0},{"$f":"VLOOKUP($D146,'C.1 - Rate Sheets'!B:F,3,FALSE)","v":136.22},{"$f":"VLOOKUP($D146,'C.1 - Rate Sheets'!B:F,4,FALSE)","v":176.19},{"$f":"VLOOKUP($D146,'C.1 - Rate Sheets'!B:F,5,FALSE)","v":0},null,null,null,null,null,null,null,null,null,null,null,null,null,null,null,null,null,16,null,null,null,16,null,null,null,null,16,null,null,null,null,16,null,null,null,null,16,null,null,null,null,16,null,null,null,null,16,null,null,null,null,null,null,null,null,null,null,null,null,null,null,null,null,null,null,null,null,null,null,null,null,null,null,null,null,null,null,null,null,null,null,null,null,null,null,null,null,null,null,null,null,null,null,null,null,null,null,null,null,null,null,null,null,null,null,null,null,null,null,null,null,null,null,null,null,null,null,null,null,null,null,null,null,null,null,null,null,null,null,null,null,null,null,null,null,null,null,null,null,null,null,null,null,null,null,null,null,null,null,null,0,96,16,null,112,0,13077.119999999999,2819.04,0,15896.16,15896.16,"Yes",0,0,0]
[null,129,"Joseph Kelly","Line Tech B","Vendor No.02",null,"MIFPUC-2","2018-10-14","2018-10-20","Yes",{"$f":"VLOOKUP($D147,'C.1 - Rate Sheets'!B:F,2,FALSE)","v":0},{"$f":"VLOOKUP($D147,'C.1 - Rate Sheets'!B:F,3,FALSE)","v":118.24},{"$f":"VLOOKUP($D147,'C.1 - Rate Sheets'!B:F,4,FALSE)","v":152.22},{"$f":"VLOOKUP($D147,'C.1 - Rate Sheets'!B:F,5,FALSE)","v":0},null,null,null,null,null,null,null,null,null,null,null,null,null,null,null,null,null,16,null,null,null,16,null,null,null,null,16,null,null,null,null,16,null,null,null,null,16,null,null,null,null,16,null,null,null,null,16,null,null,null,null,null,null,null,null,null,null,null,null,null,null,null,null,null,null,null,null,null,null,null,null,null,null,null,null,null,null,null,null,null,null,null,null,null,null,null,null,null,null,null,null,null,null,null,null,null,null,null,null,null,null,null,null,null,null,null,null,null,null,null,null,null,null,null,null,null,null,null,null,null,null,null,null,null,null,null,null,null,null,null,null,null,null,null,null,null,null,null,null,null,null,null,null,null,null,null,null,null,null,null,0,96,16,null,112,0,11351.039999999999,2435.52,0,13786.56,13786.56,"Yes",0,0,0]
[null,130,"Chris Miller","Apprentice Helper","Vendor No.02",null,"MIFPUC-2","2018-10-14","2018-10-20","Yes",{"$f":"VLOOKUP($D148,'C.1 - Rate Sheets'!B:F,2,FALSE)","v":0},{"$f":"VLOOKUP($D148,'C.1 - Rate Sheets'!B:F,3,FALSE)","v":102.25},{"$f":"VLOOKUP($D148,'C.1 - Rate Sheets'!B:F,4,FALSE)","v":130.74},{"$f":"VLOOKUP($D148,'C.1 - Rate Sheets'!B:F,5,FALSE)","v":0},null,null,null,null,null,null,null,null,null,null,null,null,null,null,null,null,null,16,null,null,null,16,null,null,null,null,16,null,null,null,null,16,null,null,null,null,16,null,null,null,null,16,null,null,null,null,16,null,null,null,null,null,null,null,null,null,null,null,null,null,null,null,null,null,null,null,null,null,null,null,null,null,null,null,null,null,null,null,null,null,null,null,null,null,null,null,null,null,null,null,null,null,null,null,null,null,null,null,null,null,null,null,null,null,null,null,null,null,null,null,null,null,null,null,null,null,null,null,null,null,null,null,null,null,null,null,null,null,null,null,null,null,null,null,null,null,null,null,null,null,null,null,null,null,null,null,null,null,null,null,0,96,16,null,112,0,9816,2091.84,0,11907.84,11907.84,"Yes",0,0,0]
[null,131,"Anthony Quay","Equipment Operator","Vendor No.02",null,"MIFPUC-2","2018-10-14","2018-10-20","Yes",{"$f":"VLOOKUP($D149,'C.1 - Rate Sheets'!B:F,2,FALSE)","v":0},{"$f":"VLOOKUP($D149,'C.1 - Rate Sheets'!B:F,3,FALSE)","v":116.87},{"$f":"VLOOKUP($D149,'C.1 - Rate Sheets'!B:F,4,FALSE)","v":151.13},{"$f":"VLOOKUP($D149,'C.1 - Rate Sheets'!B:F,5,FALSE)","v":0},null,null,null,null,null,null,null,null,null,null,null,null,null,null,null,null,null,16,null,null,null,16,null,null,null,null,16,null,null,null,null,16,null,null,null,null,16,null,null,null,null,16,null,null,null,null,16,null,null,null,null,null,null,null,null,null,null,null,null,null,null,null,null,null,null,null,null,null,null,null,null,null,null,null,null,null,null,null,null,null,null,null,null,null,null,null,null,null,null,null,null,null,null,null,null,null,null,null,null,null,null,null,null,null,null,null,null,null,null,null,null,null,null,null,null,null,null,null,null,null,null,null,null,null,null,null,null,null,null,null,null,null,null,null,null,null,null,null,null,null,null,null,null,null,null,null,null,null,null,null,{"$f":"FD149+EY149+ET149+EO149+EJ149+EE149+DZ149+DU149+DP149+DK149+DF149+DA149+CV149+CQ149+CL149+CG149+CB149+BW149+BR149+BM149+BH149+BC149+AX149+AS149+AN149+AI149+AD149+Y149+T149+O149","v":0},{"$f":"FE149+EZ149+EU149+EP149+EK149+EF149+EA149+DV149+DQ149+DL149+DG149+DB149+CW149+CR149+CM149+CH149+CC149+BX149+BS149+BN149+BI149+BD149+AY149+AT149+AO149+AJ149+AE149+Z149+U149+P149","v":96},{"$f":"FF149+FA149+EV149+EQ149+EL149+EG149+EB149+DW149+DR149+DM149+DH149+DC149+CX149+CS149+CN149+CI149+CD149+BY149+BT149+BO149+BJ149+BE149+AZ149+AU149+AP149+AK149+AF149+AA149+V149+Q149","v":16},null,{"$f":"SUM(FI149:FL149)","v":112},{"$f":"FI149*K149","v":0},{"$f":"FJ149*L149","v":11219.52},{"$f":"FK149*M149","v":2418.08},{"$f":"FL149*N149","v":0},{"$f":"SUM(FN149:FQ149)","v":13637.6},{"$f":"FR149-FU149","v":13637.6},"Yes",0,0,0]
[null,132,"Ismael Rivera","Foreman","Vendor No.02",null,"MIFPUC-2","2018-10-14","2018-10-20","Yes",{"$f":"VLOOKUP($D150,'C.1 - Rate Sheets'!B:F,2,FALSE)","v":0},{"$f":"VLOOKUP($D150,'C.1 - Rate Sheets'!B:F,3,FALSE)","v":148.21},{"$f":"VLOOKUP($D150,'C.1 - Rate Sheets'!B:F,4,FALSE)","v":192.19},{"$f":"VLOOKUP($D150,'C.1 - Rate Sheets'!B:F,5,FALSE)","v":0},null,null,null,null,null,null,null,null,null,null,null,null,null,null,null,null,null,16,null,null,null,16,null,null,null,null,16,null,null,null,null,16,null,null,null,null,16,null,null,null,null,16,null,null,null,null,16,null,null,null,null,null,null,null,null,null,null,null,null,null,null,null,null,null,null,null,null,null,null,null,null,null,null,null,null,null,null,null,null,null,null,null,null,null,null,null,null,null,null,null,null,null,null,null,null,null,null,null,null,null,null,null,null,null,null,null,null,null,null,null,null,null,null,null,null,null,null,null,null,null,null,null,null,null,null,null,null,null,null,null,null,null,null,null,null,null,null,null,null,null,null,null,null,null,null,null,null,null,null,null,0,96,16,null,112,0,14228.16,3075.04,0,17303.2,17303.2,"Yes",0,0,0]
[null,133,"Cesar Bello","Senior Lineman/Journeyman Lineman","Vendor No.02",null,"MIFPUC-2","2018-10-14","2018-10-20","Yes",{"$f":"VLOOKUP($D151,'C.1 - Rate Sheets'!B:F,2,FALSE)","v":0},{"$f":"VLOOKUP($D151,'C.1 - Rate Sheets'!B:F,3,FALSE)","v":136.22},{"$f":"VLOOKUP($D151,'C.1 - Rate Sheets'!B:F,4,FALSE)","v":176.19},{"$f":"VLOOKUP($D151,'C.1 - Rate Sheets'!B:F,5,FALSE)","v":0},null,null,null,null,null,null,null,null,null,null,null,null,null,null,null,null,null,16,null,null,null,16,null,null,null,null,16,null,null,null,null,16,null,null,null,null,16,null,null,null,null,16,null,null,null,null,16,null,null,null,null,null,null,null,null,null,null,null,null,null,null,null,null,null,null,null,null,null,null,null,null,null,null,null,null,null,null,null,null,null,null,null,null,null,null,null,null,null,null,null,null,null,null,null,null,null,null,null,null,null,null,null,null,null,null,null,null,null,null,null,null,null,null,null,null,null,null,null,null,null,null,null,null,null,null,null,null,null,null,null,null,null,null,null,null,null,null,null,null,null,null,null,null,null,null,null,null,null,null,null,0,96,16,null,112,0,13077.119999999999,2819.04,0,15896.16,15896.16,"Yes",0,0,0]
[null,134,"Pedro Rico","Senior Lineman/Journeyman Lineman","Vendor No.02",null,"MIFPUC-2","2018-10-14","2018-10-20","Yes",{"$f":"VLOOKUP($D152,'C.1 - Rate Sheets'!B:F,2,FALSE)","v":0},{"$f":"VLOOKUP($D152,'C.1 - Rate Sheets'!B:F,3,FALSE)","v":136.22},{"$f":"VLOOKUP($D152,'C.1 - Rate Sheets'!B:F,4,FALSE)","v":176.19},{"$f":"VLOOKUP($D152,'C.1 - Rate Sheets'!B:F,5,FALSE)","v":0},null,null,null,null,null,null,null,null,null,null,null,null,null,null,null,null,null,16,null,null,null,16,null,null,null,null,16,null,null,null,null,16,null,null,null,null,16,null,null,null,null,16,null,null,null,null,16,null,null,null,null,null,null,null,null,null,null,null,null,null,null,null,null,null,null,null,null,null,null,null,null,null,null,null,null,null,null,null,null,null,null,null,null,null,null,null,null,null,null,null,null,null,null,null,null,null,null,null,null,null,null,null,null,null,null,null,null,null,null,null,null,null,null,null,null,null,null,null,null,null,null,null,null,null,null,null,null,null,null,null,null,null,null,null,null,null,null,null,null,null,null,null,null,null,null,null,null,null,null,null,0,96,16,null,112,0,13077.119999999999,2819.04,0,15896.16,15896.16,"Yes",0,0,0]
[null,135,"Giovanni Febus","Senior Lineman/Journeyman Lineman","Vendor No.02",null,"MIFPUC-2","2018-10-14","2018-10-20","Yes",{"$f":"VLOOKUP($D153,'C.1 - Rate Sheets'!B:F,2,FALSE)","v":0},{"$f":"VLOOKUP($D153,'C.1 - Rate Sheets'!B:F,3,FALSE)","v":136.22},{"$f":"VLOOKUP($D153,'C.1 - Rate Sheets'!B:F,4,FALSE)","v":176.19},{"$f":"VLOOKUP($D153,'C.1 - Rate Sheets'!B:F,5,FALSE)","v":0},null,null,null,null,null,null,null,null,null,null,null,null,null,null,null,null,null,16,null,null,null,16,null,null,null,null,16,null,null,null,null,16,null,null,null,null,16,null,null,null,null,16,null,null,null,null,16,null,null,null,null,null,null,null,null,null,null,null,null,null,null,null,null,null,null,null,null,null,null,null,null,null,null,null,null,null,null,null,null,null,null,null,null,null,null,null,null,null,null,null,null,null,null,null,null,null,null,null,null,null,null,null,null,null,null,null,null,null,null,null,null,null,null,null,null,null,null,null,null,null,null,null,null,null,null,null,null,null,null,null,null,null,null,null,null,null,null,null,null,null,null,null,null,null,null,null,null,null,null,null,0,96,16,null,112,0,13077.119999999999,2819.04,0,15896.16,15896.16,"Yes",0,0,0]
[null,136,"Tanner Lewis","Apprentice Helper","Vendor No.02",null,"MIFPUC-2","2018-10-14","2018-10-20","Yes",{"$f":"VLOOKUP($D154,'C.1 - Rate Sheets'!B:F,2,FALSE)","v":0},{"$f":"VLOOKUP($D154,'C.1 - Rate Sheets'!B:F,3,FALSE)","v":102.25},{"$f":"VLOOKUP($D154,'C.1 - Rate Sheets'!B:F,4,FALSE)","v":130.74},{"$f":"VLOOKUP($D154,'C.1 - Rate Sheets'!B:F,5,FALSE)","v":0},null,null,null,null,null,null,null,null,null,null,null,null,null,null,null,null,null,16,null,null,null,16,null,null,null,null,16,null,null,null,null,16,null,null,null,null,16,null,null,null,null,16,null,null,null,null,16,null,null,null,null,null,null,null,null,null,null,null,null,null,null,null,null,null,null,null,null,null,null,null,null,null,null,null,null,null,null,null,null,null,null,null,null,null,null,null,null,null,null,null,null,null,null,null,null,null,null,null,null,null,null,null,null,null,null,null,null,null,null,null,null,null,null,null,null,null,null,null,null,null,null,null,null,null,null,null,null,null,null,null,null,null,null,null,null,null,null,null,null,null,null,null,null,null,null,null,null,null,null,null,0,96,16,null,112,0,9816,2091.84,0,11907.84,11907.84,"Yes",0,0,0]
[null,137,"Yeudiel Rivera","Foreman","Vendor No.02",null,"MIFPUC-2","2018-10-14","2018-10-20","Yes",{"$f":"VLOOKUP($D155,'C.1 - Rate Sheets'!B:F,2,FALSE)","v":0},{"$f":"VLOOKUP($D155,'C.1 - Rate Sheets'!B:F,3,FALSE)","v":148.21},{"$f":"VLOOKUP($D155,'C.1 - Rate Sheets'!B:F,4,FALSE)","v":192.19},{"$f":"VLOOKUP($D155,'C.1 - Rate Sheets'!B:F,5,FALSE)","v":0},null,null,null,null,null,null,null,null,null,null,null,null,null,null,null,null,null,16,null,null,null,16,null,null,null,null,16,null,null,null,null,16,null,null,null,null,16,null,null,null,null,16,null,null,null,null,16,null,null,null,null,null,null,null,null,null,null,null,null,null,null,null,null,null,null,null,null,null,null,null,null,null,null,null,null,null,null,null,null,null,null,null,null,null,null,null,null,null,null,null,null,null,null,null,null,null,null,null,null,null,null,null,null,null,null,null,null,null,null,null,null,null,null,null,null,null,null,null,null,null,null,null,null,null,null,null,null,null,null,null,null,null,null,null,null,null,null,null,null,null,null,null,null,null,null,null,null,null,null,null,0,96,16,null,112,0,14228.16,3075.04,0,17303.2,17303.2,"Yes",0,0,0]
[null,138,"Angel Calo","Senior Lineman/Journeyman Lineman","Vendor No.02",null,"MIFPUC-2","2018-10-14","2018-10-20","Yes",{"$f":"VLOOKUP($D156,'C.1 - Rate Sheets'!B:F,2,FALSE)","v":0},{"$f":"VLOOKUP($D156,'C.1 - Rate Sheets'!B:F,3,FALSE)","v":136.22},{"$f":"VLOOKUP($D156,'C.1 - Rate Sheets'!B:F,4,FALSE)","v":176.19},{"$f":"VLOOKUP($D156,'C.1 - Rate Sheets'!B:F,5,FALSE)","v":0},null,null,null,null,null,null,null,null,null,null,null,null,null,null,null,null,null,16,null,null,null,16,null,null,null,null,16,null,null,null,null,16,null,null,null,null,16,null,null,null,null,16,null,null,null,null,16,null,null,null,null,null,null,null,null,null,null,null,null,null,null,null,null,null,null,null,null,null,null,null,null,null,null,null,null,null,null,null,null,null,null,null,null,null,null,null,null,null,null,null,null,null,null,null,null,null,null,null,null,null,null,null,null,null,null,null,null,null,null,null,null,null,null,null,null,null,null,null,null,null,null,null,null,null,null,null,null,null,null,null,null,null,null,null,null,null,null,null,null,null,null,null,null,null,null,null,null,null,null,null,0,96,16,null,112,0,13077.119999999999,2819.04,0,15896.16,15896.16,"Yes",0,0,0]
[null,139,"Jose Clinton","Senior Lineman/Journeyman Lineman","Vendor No.02",null,"MIFPUC-2","2018-10-14","2018-10-20","Yes",{"$f":"VLOOKUP($D157,'C.1 - Rate Sheets'!B:F,2,FALSE)","v":0},{"$f":"VLOOKUP($D157,'C.1 - Rate Sheets'!B:F,3,FALSE)","v":136.22},{"$f":"VLOOKUP($D157,'C.1 - Rate Sheets'!B:F,4,FALSE)","v":176.19},{"$f":"VLOOKUP($D157,'C.1 - Rate Sheets'!B:F,5,FALSE)","v":0},null,null,null,null,null,null,null,null,null,null,null,null,null,null,null,null,null,16,null,null,null,16,null,null,null,null,16,null,null,null,null,16,null,null,null,null,16,null,null,null,null,16,null,null,null,null,16,null,null,null,null,null,null,null,null,null,null,null,null,null,null,null,null,null,null,null,null,null,null,null,null,null,null,null,null,null,null,null,null,null,null,null,null,null,null,null,null,null,null,null,null,null,null,null,null,null,null,null,null,null,null,null,null,null,null,null,null,null,null,null,null,null,null,null,null,null,null,null,null,null,null,null,null,null,null,null,null,null,null,null,null,null,null,null,null,null,null,null,null,null,null,null,null,null,null,null,null,null,null,null,0,96,16,null,112,0,13077.119999999999,2819.04,0,15896.16,15896.16,"Yes",0,0,0]
[null,140,"Joseph Febus","Groundman","Vendor No.02",null,"MIFPUC-2","2018-10-14","2018-10-20","Yes",{"$f":"VLOOKUP($D158,'C.1 - Rate Sheets'!B:F,2,FALSE)","v":0},{"$f":"VLOOKUP($D158,'C.1 - Rate Sheets'!B:F,3,FALSE)","v":99.27},{"$f":"VLOOKUP($D158,'C.1 - Rate Sheets'!B:F,4,FALSE)","v":117.21},{"$f":"VLOOKUP($D158,'C.1 - Rate Sheets'!B:F,5,FALSE)","v":0},null,null,null,null,null,null,null,null,null,null,null,null,null,null,null,null,null,16,null,null,null,16,null,null,null,null,16,null,null,null,null,16,null,null,null,null,16,null,null,null,null,16,null,null,null,null,16,null,null,null,null,null,null,null,null,null,null,null,null,null,null,null,null,null,null,null,null,null,null,null,null,null,null,null,null,null,null,null,null,null,null,null,null,null,null,null,null,null,null,null,null,null,null,null,null,null,null,null,null,null,null,null,null,null,null,null,null,null,null,null,null,null,null,null,null,null,null,null,null,null,null,null,null,null,null,null,null,null,null,null,null,null,null,null,null,null,null,null,null,null,null,null,null,null,null,null,null,null,null,null,0,96,16,null,112,0,9529.92,1875.36,0,11405.28,11405.28,"Yes",0,0,0]
[null,141,"Scotty Hogan","Equipment Operator","Vendor No.02",null,"MIFPUC-2","2018-10-14","2018-10-20","Yes",{"$f":"VLOOKUP($D159,'C.1 - Rate Sheets'!B:F,2,FALSE)","v":0},{"$f":"VLOOKUP($D159,'C.1 - Rate Sheets'!B:F,3,FALSE)","v":116.87},{"$f":"VLOOKUP($D159,'C.1 - Rate Sheets'!B:F,4,FALSE)","v":151.13},{"$f":"VLOOKUP($D159,'C.1 - Rate Sheets'!B:F,5,FALSE)","v":0},null,null,null,null,null,null,null,null,null,null,null,null,null,null,null,null,null,16,null,null,null,16,null,null,null,null,16,null,null,null,null,16,null,null,null,null,16,null,null,null,null,16,null,null,null,null,16,null,null,null,null,null,null,null,null,null,null,null,null,null,null,null,null,null,null,null,null,null,null,null,null,null,null,null,null,null,null,null,null,null,null,null,null,null,null,null,null,null,null,null,null,null,null,null,null,null,null,null,null,null,null,null,null,null,null,null,null,null,null,null,null,null,null,null,null,null,null,null,null,null,null,null,null,null,null,null,null,null,null,null,null,null,null,null,null,null,null,null,null,null,null,null,null,null,null,null,null,null,null,null,0,96,16,null,112,0,11219.52,2418.08,0,13637.6,13637.6,"Yes",0,0,0]
[null,142,"John Davis","Foreman","Vendor No.02",null,"MIFPUC-2","2018-10-14","2018-10-20","Yes",{"$f":"VLOOKUP($D160,'C.1 - Rate Sheets'!B:F,2,FALSE)","v":0},{"$f":"VLOOKUP($D160,'C.1 - Rate Sheets'!B:F,3,FALSE)","v":148.21},{"$f":"VLOOKUP($D160,'C.1 - Rate Sheets'!B:F,4,FALSE)","v":192.19},{"$f":"VLOOKUP($D160,'C.1 - Rate Sheets'!B:F,5,FALSE)","v":0},null,null,null,null,null,null,null,null,null,null,null,null,null,null,null,null,null,16,null,null,null,null,null,null,null,null,null,null,null,null,null,null,null,null,null,null,null,null,null,null,null,null,null,null,null,null,16,null,null,null,null,null,null,null,null,null,null,null,null,null,null,null,null,null,null,null,null,null,null,null,null,null,null,null,null,null,null,null,null,null,null,null,null,null,null,null,null,null,null,null,null,null,null,null,null,null,null,null,null,null,null,null,null,null,null,null,null,null,null,null,null,null,null,null,null,null,null,null,null,null,null,null,null,null,null,null,null,null,null,null,null,null,null,null,null,null,null,null,null,null,null,null,null,null,null,null,null,null,null,null,0,16,16,null,32,0,2371.36,3075.04,0,5446.4,5446.4,"Yes",0,0,0]
[null,143,"Matthew Breiling","Senior Lineman/Journeyman Lineman","Vendor No.02",null,"MIFPUC-2","2018-10-14","2018-10-20","Yes",{"$f":"VLOOKUP($D161,'C.1 - Rate Sheets'!B:F,2,FALSE)","v":0},{"$f":"VLOOKUP($D161,'C.1 - Rate Sheets'!B:F,3,FALSE)","v":136.22},{"$f":"VLOOKUP($D161,'C.1 - Rate Sheets'!B:F,4,FALSE)","v":176.19},{"$f":"VLOOKUP($D161,'C.1 - Rate Sheets'!B:F,5,FALSE)","v":0},null,null,null,null,null,null,null,null,null,null,null,null,null,null,null,null,null,16,null,null,null,16,null,null,null,null,16,null,null,null,null,16,null,null,null,null,16,null,null,null,null,16,null,null,null,null,16,null,null,null,null,null,null,null,null,null,null,null,null,null,null,null,null,null,null,null,null,null,null,null,null,null,null,null,null,null,null,null,null,null,null,null,null,null,null,null,null,null,null,null,null,null,null,null,null,null,null,null,null,null,null,null,null,null,null,null,null,null,null,null,null,null,null,null,null,null,null,null,null,null,null,null,null,null,null,null,null,null,null,null,null,null,null,null,null,null,null,null,null,null,null,null,null,null,null,null,null,null,null,null,0,96,16,null,112,0,13077.119999999999,2819.04,0,15896.16,15896.16,"Yes",0,0,0]
[null,144,"Michael Donnellan","Groundman","Vendor No.02",null,"MIFPUC-2","2018-10-14","2018-10-20","Yes",{"$f":"VLOOKUP($D162,'C.1 - Rate Sheets'!B:F,2,FALSE)","v":0},{"$f":"VLOOKUP($D162,'C.1 - Rate Sheets'!B:F,3,FALSE)","v":99.27},{"$f":"VLOOKUP($D162,'C.1 - Rate Sheets'!B:F,4,FALSE)","v":117.21},{"$f":"VLOOKUP($D162,'C.1 - Rate Sheets'!B:F,5,FALSE)","v":0},null,null,null,null,null,null,null,null,null,null,null,null,null,null,null,null,null,16,null,null,null,16,null,null,null,null,16,null,null,null,null,16,null,null,null,null,16,null,null,null,null,16,null,null,null,null,16,null,null,null,null,null,null,null,null,null,null,null,null,null,null,null,null,null,null,null,null,null,null,null,null,null,null,null,null,null,null,null,null,null,null,null,null,null,null,null,null,null,null,null,null,null,null,null,null,null,null,null,null,null,null,null,null,null,null,null,null,null,null,null,null,null,null,null,null,null,null,null,null,null,null,null,null,null,null,null,null,null,null,null,null,null,null,null,null,null,null,null,null,null,null,null,null,null,null,null,null,null,null,null,0,96,16,null,112,0,9529.92,1875.36,0,11405.28,11405.28,"Yes",0,0,0]
[null,145,"Emanuel Gonzalez","Senior Lineman/Journeyman Lineman","Vendor No.02",null,"MIFPUC-2","2018-10-14","2018-10-20","Yes",{"$f":"VLOOKUP($D163,'C.1 - Rate Sheets'!B:F,2,FALSE)","v":0},{"$f":"VLOOKUP($D163,'C.1 - Rate Sheets'!B:F,3,FALSE)","v":136.22},{"$f":"VLOOKUP($D163,'C.1 - Rate Sheets'!B:F,4,FALSE)","v":176.19},{"$f":"VLOOKUP($D163,'C.1 - Rate Sheets'!B:F,5,FALSE)","v":0},null,null,null,null,null,null,null,null,null,null,null,null,null,null,null,null,null,16,null,null,null,16,null,null,null,null,16,null,null,null,null,16,null,null,null,null,16,null,null,null,null,16,null,null,null,null,16,null,null,null,null,null,null,null,null,null,null,null,null,null,null,null,null,null,null,null,null,null,null,null,null,null,null,null,null,null,null,null,null,null,null,null,null,null,null,null,null,null,null,null,null,null,null,null,null,null,null,null,null,null,null,null,null,null,null,null,null,null,null,null,null,null,null,null,null,null,null,null,null,null,null,null,null,null,null,null,null,null,null,null,null,null,null,null,null,null,null,null,null,null,null,null,null,null,null,null,null,null,null,null,0,96,16,null,112,0,13077.119999999999,2819.04,0,15896.16,15896.16,"Yes",0,0,0]
[null,146,"Bobby Bahrami","Senior Lineman/Journeyman Lineman","Vendor No.02",null,"MIFPUC-2","2018-10-14","2018-10-20","Yes",{"$f":"VLOOKUP($D164,'C.1 - Rate Sheets'!B:F,2,FALSE)","v":0},{"$f":"VLOOKUP($D164,'C.1 - Rate Sheets'!B:F,3,FALSE)","v":136.22},{"$f":"VLOOKUP($D164,'C.1 - Rate Sheets'!B:F,4,FALSE)","v":176.19},{"$f":"VLOOKUP($D164,'C.1 - Rate Sheets'!B:F,5,FALSE)","v":0},null,null,null,null,null,null,null,null,null,null,null,null,null,null,null,null,null,16,null,null,null,16,null,null,null,null,16,null,null,null,null,16,null,null,null,null,16,null,null,null,null,16,null,null,null,null,16,null,null,null,null,null,null,null,null,null,null,null,null,null,null,null,null,null,null,null,null,null,null,null,null,null,null,null,null,null,null,null,null,null,null,null,null,null,null,null,null,null,null,null,null,null,null,null,null,null,null,null,null,null,null,null,null,null,null,null,null,null,null,null,null,null,null,null,null,null,null,null,null,null,null,null,null,null,null,null,null,null,null,null,null,null,null,null,null,null,null,null,null,null,null,null,null,null,null,null,null,null,null,null,0,96,16,null,112,0,13077.119999999999,2819.04,0,15896.16,15896.16,"Yes",0,0,0]
[null,147,"Mark Monaboe","Apprentice Helper","Vendor No.02",null,"MIFPUC-2","2018-10-14","2018-10-20","Yes",{"$f":"VLOOKUP($D165,'C.1 - Rate Sheets'!B:F,2,FALSE)","v":0},{"$f":"VLOOKUP($D165,'C.1 - Rate Sheets'!B:F,3,FALSE)","v":102.25},{"$f":"VLOOKUP($D165,'C.1 - Rate Sheets'!B:F,4,FALSE)","v":130.74},{"$f":"VLOOKUP($D165,'C.1 - Rate Sheets'!B:F,5,FALSE)","v":0},null,null,null,null,null,null,null,null,null,null,null,null,null,null,null,null,null,16,null,null,null,16,null,null,null,null,16,null,null,null,null,16,null,null,null,null,16,null,null,null,null,16,null,null,null,null,16,null,null,null,null,null,null,null,null,null,null,null,null,null,null,null,null,null,null,null,null,null,null,null,null,null,null,null,null,null,null,null,null,null,null,null,null,null,null,null,null,null,null,null,null,null,null,null,null,null,null,null,null,null,null,null,null,null,null,null,null,null,null,null,null,null,null,null,null,null,null,null,null,null,null,null,null,null,null,null,null,null,null,null,null,null,null,null,null,null,null,null,null,null,null,null,null,null,null,null,null,null,null,null,0,96,16,null,112,0,9816,2091.84,0,11907.84,11907.84,"Yes",0,0,0]
[null,148,"James Pinson","Foreman","Vendor No.02",null,"MIFPUC-2","2018-10-14","2018-10-20","Yes",{"$f":"VLOOKUP($D166,'C.1 - Rate Sheets'!B:F,2,FALSE)","v":0},{"$f":"VLOOKUP($D166,'C.1 - Rate Sheets'!B:F,3,FALSE)","v":148.21},{"$f":"VLOOKUP($D166,'C.1 - Rate Sheets'!B:F,4,FALSE)","v":192.19},{"$f":"VLOOKUP($D166,'C.1 - Rate Sheets'!B:F,5,FALSE)","v":0},null,null,null,null,null,null,null,null,null,null,null,null,null,null,null,null,null,16,null,null,null,16,null,null,null,null,16,null,null,null,null,16,null,null,null,null,16,null,null,null,null,16,null,null,null,null,16,null,null,null,null,null,null,null,null,null,null,null,null,null,null,null,null,null,null,null,null,null,null,null,null,null,null,null,null,null,null,null,null,null,null,null,null,null,null,null,null,null,null,null,null,null,null,null,null,null,null,null,null,null,null,null,null,null,null,null,null,null,null,null,null,null,null,null,null,null,null,null,null,null,null,null,null,null,null,null,null,null,null,null,null,null,null,null,null,null,null,null,null,null,null,null,null,null,null,null,null,null,null,null,0,96,16,null,112,0,14228.16,3075.04,0,17303.2,17303.2,"Yes",0,0,0]
[null,149,"Jorge Sotolongo","Groundman","Vendor No.02",null,"MIFPUC-2","2018-10-14","2018-10-20","Yes",{"$f":"VLOOKUP($D167,'C.1 - Rate Sheets'!B:F,2,FALSE)","v":0},{"$f":"VLOOKUP($D167,'C.1 - Rate Sheets'!B:F,3,FALSE)","v":99.27},{"$f":"VLOOKUP($D167,'C.1 - Rate Sheets'!B:F,4,FALSE)","v":117.21},{"$f":"VLOOKUP($D167,'C.1 - Rate Sheets'!B:F,5,FALSE)","v":0},null,null,null,null,null,null,null,null,null,null,null,null,null,null,null,null,null,16,null,null,null,16,null,null,null,null,16,null,null,null,null,16,null,null,null,null,16,null,null,null,null,16,null,null,null,null,16,null,null,null,null,null,null,null,null,null,null,null,null,null,null,null,null,null,null,null,null,null,null,null,null,null,null,null,null,null,null,null,null,null,null,null,null,null,null,null,null,null,null,null,null,null,null,null,null,null,null,null,null,null,null,null,null,null,null,null,null,null,null,null,null,null,null,null,null,null,null,null,null,null,null,null,null,null,null,null,null,null,null,null,null,null,null,null,null,null,null,null,null,null,null,null,null,null,null,null,null,null,null,null,0,96,16,null,112,0,9529.92,1875.36,0,11405.28,11405.28,"Yes",0,0,0]
[null,150,"Alex Herrnandez","Senior Lineman/Journeyman Lineman","Vendor No.02",null,"MIFPUC-2","2018-10-14","2018-10-20","Yes",{"$f":"VLOOKUP($D168,'C.1 - Rate Sheets'!B:F,2,FALSE)","v":0},{"$f":"VLOOKUP($D168,'C.1 - Rate Sheets'!B:F,3,FALSE)","v":136.22},{"$f":"VLOOKUP($D168,'C.1 - Rate Sheets'!B:F,4,FALSE)","v":176.19},{"$f":"VLOOKUP($D168,'C.1 - Rate Sheets'!B:F,5,FALSE)","v":0},null,null,null,null,null,null,null,null,null,null,null,null,null,null,null,null,null,16,null,null,null,16,null,null,null,null,16,null,null,null,null,16,null,null,null,null,16,null,null,null,null,16,null,null,null,null,16,null,null,null,null,null,null,null,null,null,null,null,null,null,null,null,null,null,null,null,null,null,null,null,null,null,null,null,null,null,null,null,null,null,null,null,null,null,null,null,null,null,null,null,null,null,null,null,null,null,null,null,null,null,null,null,null,null,null,null,null,null,null,null,null,null,null,null,null,null,null,null,null,null,null,null,null,null,null,null,null,null,null,null,null,null,null,null,null,null,null,null,null,null,null,null,null,null,null,null,null,null,null,null,0,96,16,null,112,0,13077.119999999999,2819.04,0,15896.16,15896.16,"Yes",0,0,0]
[null,151,"Garrett McDonald","Groundman","Vendor No.02",null,"MIFPUC-2","2018-10-14","2018-10-20","Yes",{"$f":"VLOOKUP($D169,'C.1 - Rate Sheets'!B:F,2,FALSE)","v":0},{"$f":"VLOOKUP($D169,'C.1 - Rate Sheets'!B:F,3,FALSE)","v":99.27},{"$f":"VLOOKUP($D169,'C.1 - Rate Sheets'!B:F,4,FALSE)","v":117.21},{"$f":"VLOOKUP($D169,'C.1 - Rate Sheets'!B:F,5,FALSE)","v":0},null,null,null,null,null,null,null,null,null,null,null,null,null,null,null,null,null,16,null,null,null,16,null,null,null,null,16,null,null,null,null,16,null,null,null,null,16,null,null,null,null,16,null,null,null,null,16,null,null,null,null,null,null,null,null,null,null,null,null,null,null,null,null,null,null,null,null,null,null,null,null,null,null,null,null,null,null,null,null,null,null,null,null,null,null,null,null,null,null,null,null,null,null,null,null,null,null,null,null,null,null,null,null,null,null,null,null,null,null,null,null,null,null,null,null,null,null,null,null,null,null,null,null,null,null,null,null,null,null,null,null,null,null,null,null,null,null,null,null,null,null,null,null,null,null,null,null,null,null,null,0,96,16,null,112,0,9529.92,1875.36,0,11405.28,11405.28,"Yes",0,0,0]
[null,152,"Joel Molina","Senior Lineman/Journeyman Lineman","Vendor No.02",null,"MIFPUC-2","2018-10-14","2018-10-20","Yes",{"$f":"VLOOKUP($D170,'C.1 - Rate Sheets'!B:F,2,FALSE)","v":0},{"$f":"VLOOKUP($D170,'C.1 - Rate Sheets'!B:F,3,FALSE)","v":136.22},{"$f":"VLOOKUP($D170,'C.1 - Rate Sheets'!B:F,4,FALSE)","v":176.19},{"$f":"VLOOKUP($D170,'C.1 - Rate Sheets'!B:F,5,FALSE)","v":0},null,null,null,null,null,null,null,null,null,null,null,null,null,null,null,null,null,16,null,null,null,16,null,null,null,null,16,null,null,null,null,16,null,null,null,null,16,null,null,null,null,16,null,null,null,null,16,null,null,null,null,null,null,null,null,null,null,null,null,null,null,null,null,null,null,null,null,null,null,null,null,null,null,null,null,null,null,null,null,null,null,null,null,null,null,null,null,null,null,null,null,null,null,null,null,null,null,null,null,null,null,null,null,null,null,null,null,null,null,null,null,null,null,null,null,null,null,null,null,null,null,null,null,null,null,null,null,null,null,null,null,null,null,null,null,null,null,null,null,null,null,null,null,null,null,null,null,null,null,null,0,96,16,null,112,0,13077.119999999999,2819.04,0,15896.16,15896.16,"Yes",0,0,0]
[null,153,"Vincent Miller","Apprentice Helper","Vendor No.02",null,"MIFPUC-2","2018-10-14","2018-10-20","Yes",{"$f":"VLOOKUP($D171,'C.1 - Rate Sheets'!B:F,2,FALSE)","v":0},{"$f":"VLOOKUP($D171,'C.1 - Rate Sheets'!B:F,3,FALSE)","v":102.25},{"$f":"VLOOKUP($D171,'C.1 - Rate Sheets'!B:F,4,FALSE)","v":130.74},{"$f":"VLOOKUP($D171,'C.1 - Rate Sheets'!B:F,5,FALSE)","v":0},null,null,null,null,null,null,null,null,null,null,null,null,null,null,null,null,null,16,null,null,null,16,null,null,null,null,16,null,null,null,null,16,null,null,null,null,16,null,null,null,null,16,null,null,null,null,16,null,null,null,null,null,null,null,null,null,null,null,null,null,null,null,null,null,null,null,null,null,null,null,null,null,null,null,null,null,null,null,null,null,null,null,null,null,null,null,null,null,null,null,null,null,null,null,null,null,null,null,null,null,null,null,null,null,null,null,null,null,null,null,null,null,null,null,null,null,null,null,null,null,null,null,null,null,null,null,null,null,null,null,null,null,null,null,null,null,null,null,null,null,null,null,null,null,null,null,null,null,null,null,0,96,16,null,112,0,9816,2091.84,0,11907.84,11907.84,"Yes",0,0,0]
[null,154,"Shannon Williams","Equipment Operator","Vendor No.02",null,"MIFPUC-2","2018-10-14","2018-10-20","Yes",{"$f":"VLOOKUP($D172,'C.1 - Rate Sheets'!B:F,2,FALSE)","v":0},{"$f":"VLOOKUP($D172,'C.1 - Rate Sheets'!B:F,3,FALSE)","v":116.87},{"$f":"VLOOKUP($D172,'C.1 - Rate Sheets'!B:F,4,FALSE)","v":151.13},{"$f":"VLOOKUP($D172,'C.1 - Rate Sheets'!B:F,5,FALSE)","v":0},null,null,null,null,null,null,null,null,null,null,null,null,null,null,null,null,null,null,null,null,null,16,null,null,null,null,16,null,null,null,null,16,null,null,null,null,16,null,null,null,null,16,null,null,null,null,16,null,null,null,null,null,null,null,null,null,null,null,null,null,null,null,null,null,null,null,null,null,null,null,null,null,null,null,null,null,null,null,null,null,null,null,null,null,null,null,null,null,null,null,null,null,null,null,null,null,null,null,null,null,null,null,null,null,null,null,null,null,null,null,null,null,null,null,null,null,null,null,null,null,null,null,null,null,null,null,null,null,null,null,null,null,null,null,null,null,null,null,null,null,null,null,null,null,null,null,null,null,null,null,0,96,0,null,96,0,11219.52,0,0,11219.52,11219.52,"Yes",0,0,0]
[null,155,"Lino Carreras","Equipment Operator","Vendor No.02",null,"MIFPUC-2","2018-10-14","2018-10-20","Yes",{"$f":"VLOOKUP($D173,'C.1 - Rate Sheets'!B:F,2,FALSE)","v":0},{"$f":"VLOOKUP($D173,'C.1 - Rate Sheets'!B:F,3,FALSE)","v":116.87},{"$f":"VLOOKUP($D173,'C.1 - Rate Sheets'!B:F,4,FALSE)","v":151.13},{"$f":"VLOOKUP($D173,'C.1 - Rate Sheets'!B:F,5,FALSE)","v":0},null,null,null,null,null,null,null,null,null,null,null,null,null,null,null,null,null,null,null,null,null,16,null,null,null,null,16,null,null,null,null,16,null,null,null,null,16,null,null,null,null,16,null,null,null,null,16,null,null,null,null,null,null,null,null,null,null,null,null,null,null,null,null,null,null,null,null,null,null,null,null,null,null,null,null,null,null,null,null,null,null,null,null,null,null,null,null,null,null,null,null,null,null,null,null,null,null,null,null,null,null,null,null,null,null,null,null,null,null,null,null,null,null,null,null,null,null,null,null,null,null,null,null,null,null,null,null,null,null,null,null,null,null,null,null,null,null,null,null,null,null,null,null,null,null,null,null,null,null,null,0,96,0,null,96,0,11219.52,0,0,11219.52,11219.52,"Yes",0,0,0]
[null,156,"Richard Byrd","Line Tech C","Vendor No.02",null,"MIFPUC-2","2018-10-14","2018-10-20","Yes",{"$f":"VLOOKUP($D174,'C.1 - Rate Sheets'!B:F,2,FALSE)","v":0},{"$f":"VLOOKUP($D174,'C.1 - Rate Sheets'!B:F,3,FALSE)","v":110.51},{"$f":"VLOOKUP($D174,'C.1 - Rate Sheets'!B:F,4,FALSE)","v":136.22999999999999},{"$f":"VLOOKUP($D174,'C.1 - Rate Sheets'!B:F,5,FALSE)","v":0},null,null,null,null,null,null,null,null,null,null,null,null,null,null,null,null,null,null,null,null,null,null,null,null,null,null,16,null,null,null,null,16,null,null,null,null,16,null,null,null,null,16,null,null,null,null,16,null,null,null,null,null,null,null,null,null,null,null,null,null,null,null,null,null,null,null,null,null,null,null,null,null,null,null,null,null,null,null,null,null,null,null,null,null,null,null,null,null,null,null,null,null,null,null,null,null,null,null,null,null,null,null,null,null,null,null,null,null,null,null,null,null,null,null,null,null,null,null,null,null,null,null,null,null,null,null,null,null,null,null,null,null,null,null,null,null,null,null,null,null,null,null,null,null,null,null,null,null,null,null,0,80,0,null,80,0,8840.8000000000011,0,0,8840.8000000000011,8840.8000000000011,"Yes",0,0,0]
[null,157,"Zeb Mondrella","Senior Lineman/Journeyman Lineman","Vendor No.02",null,"MIFPUC-2","2018-10-14","2018-10-20","Yes",{"$f":"VLOOKUP($D175,'C.1 - Rate Sheets'!B:F,2,FALSE)","v":0},{"$f":"VLOOKUP($D175,'C.1 - Rate Sheets'!B:F,3,FALSE)","v":136.22},{"$f":"VLOOKUP($D175,'C.1 - Rate Sheets'!B:F,4,FALSE)","v":176.19},{"$f":"VLOOKUP($D175,'C.1 - Rate Sheets'!B:F,5,FALSE)","v":0},null,null,null,null,null,null,null,null,null,null,null,null,null,null,null,null,null,null,null,null,null,null,null,null,null,null,16,null,null,null,null,16,null,null,null,null,16,null,null,null,null,16,null,null,null,null,16,null,null,null,null,null,null,null,null,null,null,null,null,null,null,null,null,null,null,null,null,null,null,null,null,null,null,null,null,null,null,null,null,null,null,null,null,null,null,null,null,null,null,null,null,null,null,null,null,null,null,null,null,null,null,null,null,null,null,null,null,null,null,null,null,null,null,null,null,null,null,null,null,null,null,null,null,null,null,null,null,null,null,null,null,null,null,null,null,null,null,null,null,null,null,null,null,null,null,null,null,null,null,null,0,80,0,null,80,0,10897.6,0,0,10897.6,10897.6,"Yes",0,0,0]
[null,158,"James Morrel","Senior Lineman/Journeyman Lineman","Vendor No.02",null,"MIFPUC-2","2018-10-14","2018-10-20","Yes",{"$f":"VLOOKUP($D176,'C.1 - Rate Sheets'!B:F,2,FALSE)","v":0},{"$f":"VLOOKUP($D176,'C.1 - Rate Sheets'!B:F,3,FALSE)","v":136.22},{"$f":"VLOOKUP($D176,'C.1 - Rate Sheets'!B:F,4,FALSE)","v":176.19},{"$f":"VLOOKUP($D176,'C.1 - Rate Sheets'!B:F,5,FALSE)","v":0},null,null,null,null,null,null,null,null,null,null,null,null,null,null,null,null,null,null,null,null,null,null,null,null,null,null,16,null,null,null,null,16,null,null,null,null,16,null,null,null,null,16,null,null,null,null,16,null,null,null,null,null,null,null,null,null,null,null,null,null,null,null,null,null,null,null,null,null,null,null,null,null,null,null,null,null,null,null,null,null,null,null,null,null,null,null,null,null,null,null,null,null,null,null,null,null,null,null,null,null,null,null,null,null,null,null,null,null,null,null,null,null,null,null,null,null,null,null,null,null,null,null,null,null,null,null,null,null,null,null,null,null,null,null,null,null,null,null,null,null,null,null,null,null,null,null,null,null,null,null,0,80,0,null,80,0,10897.6,0,0,10897.6,10897.6,"Yes",0,0,0]
[null,159,"Gregory Race","Line Tech C","Vendor No.02",null,"MIFPUC-2","2018-10-14","2018-10-20","Yes",{"$f":"VLOOKUP($D177,'C.1 - Rate Sheets'!B:F,2,FALSE)","v":0},{"$f":"VLOOKUP($D177,'C.1 - Rate Sheets'!B:F,3,FALSE)","v":110.51},{"$f":"VLOOKUP($D177,'C.1 - Rate Sheets'!B:F,4,FALSE)","v":136.22999999999999},{"$f":"VLOOKUP($D177,'C.1 - Rate Sheets'!B:F,5,FALSE)","v":0},null,null,null,null,null,null,null,null,null,null,null,null,null,null,null,null,null,null,null,null,null,null,null,null,null,null,16,null,null,null,null,16,null,null,null,null,16,null,null,null,null,16,null,null,null,null,16,null,null,null,null,null,null,null,null,null,null,null,null,null,null,null,null,null,null,null,null,null,null,null,null,null,null,null,null,null,null,null,null,null,null,null,null,null,null,null,null,null,null,null,null,null,null,null,null,null,null,null,null,null,null,null,null,null,null,null,null,null,null,null,null,null,null,null,null,null,null,null,null,null,null,null,null,null,null,null,null,null,null,null,null,null,null,null,null,null,null,null,null,null,null,null,null,null,null,null,null,null,null,null,0,80,0,null,80,0,8840.8000000000011,0,0,8840.8000000000011,8840.8000000000011,"Yes",0,0,0]
[null,160,"Neil Springman","Mechanic","Vendor No.02",null,"MIFPUC-2","2018-10-14","2018-10-20","Yes",{"$f":"VLOOKUP($D178,'C.1 - Rate Sheets'!B:F,2,FALSE)","v":0},{"$f":"VLOOKUP($D178,'C.1 - Rate Sheets'!B:F,3,FALSE)","v":116.87},{"$f":"VLOOKUP($D178,'C.1 - Rate Sheets'!B:F,4,FALSE)","v":151.13},{"$f":"VLOOKUP($D178,'C.1 - Rate Sheets'!B:F,5,FALSE)","v":0},null,null,null,null,null,null,null,null,null,null,null,null,null,null,null,null,null,null,null,null,null,null,null,null,null,null,null,null,null,null,null,16,null,null,null,null,16,null,null,null,null,16,null,null,null,null,16,null,null,null,null,null,null,null,null,null,null,null,null,null,null,null,null,null,null,null,null,null,null,null,null,null,null,null,null,null,null,null,null,null,null,null,null,null,null,null,null,null,null,null,null,null,null,null,null,null,null,null,null,null,null,null,null,null,null,null,null,null,null,null,null,null,null,null,null,null,null,null,null,null,null,null,null,null,null,null,null,null,null,null,null,null,null,null,null,null,null,null,null,null,null,null,null,null,null,null,null,null,null,null,0,64,0,null,64,0,7479.68,0,0,7479.68,7479.68,"Yes",0,0,0]
[null,161,"Ron Roush","General Foreman","Vendor No.02",null,"MIFPUC-2","2018-10-14","2018-10-20","Yes",{"$f":"VLOOKUP($D179,'C.1 - Rate Sheets'!B:F,2,FALSE)","v":0},{"$f":"VLOOKUP($D179,'C.1 - Rate Sheets'!B:F,3,FALSE)","v":160.21},{"$f":"VLOOKUP($D179,'C.1 - Rate Sheets'!B:F,4,FALSE)","v":208.18},{"$f":"VLOOKUP($D179,'C.1 - Rate Sheets'!B:F,5,FALSE)","v":0},null,null,null,null,null,null,null,null,null,null,null,null,null,null,null,null,null,null,null,null,null,null,null,null,null,null,null,null,null,null,null,16,null,null,null,null,16,null,null,null,null,16,null,null,null,null,16,null,null,null,null,null,null,null,null,null,null,null,null,null,null,null,null,null,null,null,null,null,null,null,null,null,null,null,null,null,null,null,null,null,null,null,null,null,null,null,null,null,null,null,null,null,null,null,null,null,null,null,null,null,null,null,null,null,null,null,null,null,null,null,null,null,null,null,null,null,null,null,null,null,null,null,null,null,null,null,null,null,null,null,null,null,null,null,null,null,null,null,null,null,null,null,null,null,null,null,null,null,null,null,0,64,0,null,64,0,10253.44,0,0,10253.44,10253.44,"Yes",0,0,0]
[null,162,"Ryan Timms","Foreman","Vendor No.02",null,"MIFPUC-2","2018-10-14","2018-10-20","Yes",{"$f":"VLOOKUP($D180,'C.1 - Rate Sheets'!B:F,2,FALSE)","v":0},{"$f":"VLOOKUP($D180,'C.1 - Rate Sheets'!B:F,3,FALSE)","v":148.21},{"$f":"VLOOKUP($D180,'C.1 - Rate Sheets'!B:F,4,FALSE)","v":192.19},{"$f":"VLOOKUP($D180,'C.1 - Rate Sheets'!B:F,5,FALSE)","v":0},null,null,null,null,null,null,null,null,null,null,null,null,null,null,null,null,null,null,null,null,null,null,null,null,null,null,null,null,null,null,null,16,null,null,null,null,16,null,null,null,null,16,null,null,null,null,16,null,null,null,null,null,null,null,null,null,null,null,null,null,null,null,null,null,null,null,null,null,null,null,null,null,null,null,null,null,null,null,null,null,null,null,null,null,null,null,null,null,null,null,null,null,null,null,null,null,null,null,null,null,null,null,null,null,null,null,null,null,null,null,null,null,null,null,null,null,null,null,null,null,null,null,null,null,null,null,null,null,null,null,null,null,null,null,null,null,null,null,null,null,null,null,null,null,null,null,null,null,null,null,0,64,0,null,64,0,9485.44,0,0,9485.44,9485.44,"Yes",0,0,0]
[null,163,"Aaron Mays","Senior Lineman/Journeyman Lineman","Vendor No.02",null,"MIFPUC-2","2018-10-14","2018-10-20","Yes",{"$f":"VLOOKUP($D181,'C.1 - Rate Sheets'!B:F,2,FALSE)","v":0},{"$f":"VLOOKUP($D181,'C.1 - Rate Sheets'!B:F,3,FALSE)","v":136.22},{"$f":"VLOOKUP($D181,'C.1 - Rate Sheets'!B:F,4,FALSE)","v":176.19},{"$f":"VLOOKUP($D181,'C.1 - Rate Sheets'!B:F,5,FALSE)","v":0},null,null,null,null,null,null,null,null,null,null,null,null,null,null,null,null,null,null,null,null,null,null,null,null,null,null,null,null,null,null,null,16,null,null,null,null,16,null,null,null,null,16,null,null,null,null,16,null,null,null,null,null,null,null,null,null,null,null,null,null,null,null,null,null,null,null,null,null,null,null,null,null,null,null,null,null,null,null,null,null,null,null,null,null,null,null,null,null,null,null,null,null,null,null,null,null,null,null,null,null,null,null,null,null,null,null,null,null,null,null,null,null,null,null,null,null,null,null,null,null,null,null,null,null,null,null,null,null,null,null,null,null,null,null,null,null,null,null,null,null,null,null,null,null,null,null,null,null,null,null,0,64,0,null,64,0,8718.08,0,0,8718.08,8718.08,"Yes",0,0,0]
[null,164,"Keith Kiphard","Apprentice Helper","Vendor No.02",null,"MIFPUC-2","2018-10-14","2018-10-20","Yes",{"$f":"VLOOKUP($D182,'C.1 - Rate Sheets'!B:F,2,FALSE)","v":0},{"$f":"VLOOKUP($D182,'C.1 - Rate Sheets'!B:F,3,FALSE)","v":102.25},{"$f":"VLOOKUP($D182,'C.1 - Rate Sheets'!B:F,4,FALSE)","v":130.74},{"$f":"VLOOKUP($D182,'C.1 - Rate Sheets'!B:F,5,FALSE)","v":0},null,null,null,null,null,null,null,null,null,null,null,null,null,null,null,null,null,null,null,null,null,null,null,null,null,null,null,null,null,null,null,16,null,null,null,null,16,null,null,null,null,16,null,null,null,null,16,null,null,null,null,null,null,null,null,null,null,null,null,null,null,null,null,null,null,null,null,null,null,null,null,null,null,null,null,null,null,null,null,null,null,null,null,null,null,null,null,null,null,null,null,null,null,null,null,null,null,null,null,null,null,null,null,null,null,null,null,null,null,null,null,null,null,null,null,null,null,null,null,null,null,null,null,null,null,null,null,null,null,null,null,null,null,null,null,null,null,null,null,null,null,null,null,null,null,null,null,null,null,null,0,64,0,null,64,0,6544,0,0,6544,6544,"Yes",0,0,0]
[null,165,"Evan Bryson","Groundman","Vendor No.02",null,"MIFPUC-2","2018-10-14","2018-10-20","Yes",{"$f":"VLOOKUP($D183,'C.1 - Rate Sheets'!B:F,2,FALSE)","v":0},{"$f":"VLOOKUP($D183,'C.1 - Rate Sheets'!B:F,3,FALSE)","v":99.27},{"$f":"VLOOKUP($D183,'C.1 - Rate Sheets'!B:F,4,FALSE)","v":117.21},{"$f":"VLOOKUP($D183,'C.1 - Rate Sheets'!B:F,5,FALSE)","v":0},null,null,null,null,null,null,null,null,null,null,null,null,null,null,null,null,null,null,null,null,null,null,null,null,null,null,null,null,null,null,null,16,null,null,null,null,16,null,null,null,null,16,null,null,null,null,16,null,null,null,null,null,null,null,null,null,null,null,null,null,null,null,null,null,null,null,null,null,null,null,null,null,null,null,null,null,null,null,null,null,null,null,null,null,null,null,null,null,null,null,null,null,null,null,null,null,null,null,null,null,null,null,null,null,null,null,null,null,null,null,null,null,null,null,null,null,null,null,null,null,null,null,null,null,null,null,null,null,null,null,null,null,null,null,null,null,null,null,null,null,null,null,null,null,null,null,null,null,null,null,0,64,0,null,64,0,6353.28,0,0,6353.28,6353.28,"Yes",0,0,0]
[null,166,"Cory Farris","Foreman","Vendor No.02",null,"MIFPUC-2","2018-10-14","2018-10-20","Yes",{"$f":"VLOOKUP($D184,'C.1 - Rate Sheets'!B:F,2,FALSE)","v":0},{"$f":"VLOOKUP($D184,'C.1 - Rate Sheets'!B:F,3,FALSE)","v":148.21},{"$f":"VLOOKUP($D184,'C.1 - Rate Sheets'!B:F,4,FALSE)","v":192.19},{"$f":"VLOOKUP($D184,'C.1 - Rate Sheets'!B:F,5,FALSE)","v":0},null,null,null,null,null,null,null,null,null,null,null,null,null,null,null,null,null,null,null,null,null,null,null,null,null,null,null,null,null,null,null,16,null,null,null,null,16,null,null,null,null,16,null,null,null,null,16,null,null,null,null,null,null,null,null,null,null,null,null,null,null,null,null,null,null,null,null,null,null,null,null,null,null,null,null,null,null,null,null,null,null,null,null,null,null,null,null,null,null,null,null,null,null,null,null,null,null,null,null,null,null,null,null,null,null,null,null,null,null,null,null,null,null,null,null,null,null,null,null,null,null,null,null,null,null,null,null,null,null,null,null,null,null,null,null,null,null,null,null,null,null,null,null,null,null,null,null,null,null,null,0,64,0,null,64,0,9485.44,0,0,9485.44,9485.44,"Yes",0,0,0]
[null,167,"Josh Parker","Senior Lineman/Journeyman Lineman","Vendor No.02",null,"MIFPUC-2","2018-10-14","2018-10-20","Yes",{"$f":"VLOOKUP($D185,'C.1 - Rate Sheets'!B:F,2,FALSE)","v":0},{"$f":"VLOOKUP($D185,'C.1 - Rate Sheets'!B:F,3,FALSE)","v":136.22},{"$f":"VLOOKUP($D185,'C.1 - Rate Sheets'!B:F,4,FALSE)","v":176.19},{"$f":"VLOOKUP($D185,'C.1 - Rate Sheets'!B:F,5,FALSE)","v":0},null,null,null,null,null,null,null,null,null,null,null,null,null,null,null,null,null,null,null,null,null,null,null,null,null,null,null,null,null,null,null,16,null,null,null,null,16,null,null,null,null,16,null,null,null,null,16,null,null,null,null,null,null,null,null,null,null,null,null,null,null,null,null,null,null,null,null,null,null,null,null,null,null,null,null,null,null,null,null,null,null,null,null,null,null,null,null,null,null,null,null,null,null,null,null,null,null,null,null,null,null,null,null,null,null,null,null,null,null,null,null,null,null,null,null,null,null,null,null,null,null,null,null,null,null,null,null,null,null,null,null,null,null,null,null,null,null,null,null,null,null,null,null,null,null,null,null,null,null,null,0,64,0,null,64,0,8718.08,0,0,8718.08,8718.08,"Yes",0,0,0]
[null,168,"Rodney Breedlove","Equipment Operator","Vendor No.02",null,"MIFPUC-2","2018-10-14","2018-10-20","Yes",{"$f":"VLOOKUP($D186,'C.1 - Rate Sheets'!B:F,2,FALSE)","v":0},{"$f":"VLOOKUP($D186,'C.1 - Rate Sheets'!B:F,3,FALSE)","v":116.87},{"$f":"VLOOKUP($D186,'C.1 - Rate Sheets'!B:F,4,FALSE)","v":151.13},{"$f":"VLOOKUP($D186,'C.1 - Rate Sheets'!B:F,5,FALSE)","v":0},null,null,null,null,null,null,null,null,null,null,null,null,null,null,null,null,null,null,null,null,null,null,null,null,null,null,null,null,null,null,null,16,null,null,null,null,16,null,null,null,null,16,null,null,null,null,16,null,null,null,null,null,null,null,null,null,null,null,null,null,null,null,null,null,null,null,null,null,null,null,null,null,null,null,null,null,null,null,null,null,null,null,null,null,null,null,null,null,null,null,null,null,null,null,null,null,null,null,null,null,null,null,null,null,null,null,null,null,null,null,null,null,null,null,null,null,null,null,null,null,null,null,null,null,null,null,null,null,null,null,null,null,null,null,null,null,null,null,null,null,null,null,null,null,null,null,null,null,null,null,0,64,0,null,64,0,7479.68,0,0,7479.68,7479.68,"Yes",0,0,0]
[null,169,"Ken Gardner","Groundman","Vendor No.02",null,"MIFPUC-2","2018-10-14","2018-10-20","Yes",{"$f":"VLOOKUP($D187,'C.1 - Rate Sheets'!B:F,2,FALSE)","v":0},{"$f":"VLOOKUP($D187,'C.1 - Rate Sheets'!B:F,3,FALSE)","v":99.27},{"$f":"VLOOKUP($D187,'C.1 - Rate Sheets'!B:F,4,FALSE)","v":117.21},{"$f":"VLOOKUP($D187,'C.1 - Rate Sheets'!B:F,5,FALSE)","v":0},null,null,null,null,null,null,null,null,null,null,null,null,null,null,null,null,null,null,null,null,null,null,null,null,null,null,null,null,null,null,null,16,null,null,null,null,16,null,null,null,null,16,null,null,null,null,16,null,null,null,null,null,null,null,null,null,null,null,null,null,null,null,null,null,null,null,null,null,null,null,null,null,null,null,null,null,null,null,null,null,null,null,null,null,null,null,null,null,null,null,null,null,null,null,null,null,null,null,null,null,null,null,null,null,null,null,null,null,null,null,null,null,null,null,null,null,null,null,null,null,null,null,null,null,null,null,null,null,null,null,null,null,null,null,null,null,null,null,null,null,null,null,null,null,null,null,null,null,null,null,0,64,0,null,64,0,6353.28,0,0,6353.28,6353.28,"Yes",0,0,0]
[null,170,"Nate McDonough","Foreman","Vendor No.02",null,"MIFPUC-2","2018-10-14","2018-10-20","Yes",{"$f":"VLOOKUP($D188,'C.1 - Rate Sheets'!B:F,2,FALSE)","v":0},{"$f":"VLOOKUP($D188,'C.1 - Rate Sheets'!B:F,3,FALSE)","v":148.21},{"$f":"VLOOKUP($D188,'C.1 - Rate Sheets'!B:F,4,FALSE)","v":192.19},{"$f":"VLOOKUP($D188,'C.1 - Rate Sheets'!B:F,5,FALSE)","v":0},null,null,null,null,null,null,null,null,null,null,null,null,null,null,null,null,null,null,null,null,null,null,null,null,null,null,null,null,null,null,null,16,null,null,null,null,16,null,null,null,null,16,null,null,null,null,16,null,null,null,null,null,null,null,null,null,null,null,null,null,null,null,null,null,null,null,null,null,null,null,null,null,null,null,null,null,null,null,null,null,null,null,null,null,null,null,null,null,null,null,null,null,null,null,null,null,null,null,null,null,null,null,null,null,null,null,null,null,null,null,null,null,null,null,null,null,null,null,null,null,null,null,null,null,null,null,null,null,null,null,null,null,null,null,null,null,null,null,null,null,null,null,null,null,null,null,null,null,null,null,0,64,0,null,64,0,9485.44,0,0,9485.44,9485.44,"Yes",0,0,0]
[null,171,"Will Magard","Senior Lineman/Journeyman Lineman","Vendor No.02",null,"MIFPUC-2","2018-10-14","2018-10-20","Yes",{"$f":"VLOOKUP($D189,'C.1 - Rate Sheets'!B:F,2,FALSE)","v":0},{"$f":"VLOOKUP($D189,'C.1 - Rate Sheets'!B:F,3,FALSE)","v":136.22},{"$f":"VLOOKUP($D189,'C.1 - Rate Sheets'!B:F,4,FALSE)","v":176.19},{"$f":"VLOOKUP($D189,'C.1 - Rate Sheets'!B:F,5,FALSE)","v":0},null,null,null,null,null,null,null,null,null,null,null,null,null,null,null,null,null,null,null,null,null,null,null,null,null,null,null,null,null,null,null,16,null,null,null,null,16,null,null,null,null,16,null,null,null,null,16,null,null,null,null,null,null,null,null,null,null,null,null,null,null,null,null,null,null,null,null,null,null,null,null,null,null,null,null,null,null,null,null,null,null,null,null,null,null,null,null,null,null,null,null,null,null,null,null,null,null,null,null,null,null,null,null,null,null,null,null,null,null,null,null,null,null,null,null,null,null,null,null,null,null,null,null,null,null,null,null,null,null,null,null,null,null,null,null,null,null,null,null,null,null,null,null,null,null,null,null,null,null,null,0,64,0,null,64,0,8718.08,0,0,8718.08,8718.08,"Yes",0,0,0]
[null,172,"Cody Delotell","Apprentice Helper","Vendor No.02",null,"MIFPUC-2","2018-10-14","2018-10-20","Yes",{"$f":"VLOOKUP($D190,'C.1 - Rate Sheets'!B:F,2,FALSE)","v":0},{"$f":"VLOOKUP($D190,'C.1 - Rate Sheets'!B:F,3,FALSE)","v":102.25},{"$f":"VLOOKUP($D190,'C.1 - Rate Sheets'!B:F,4,FALSE)","v":130.74},{"$f":"VLOOKUP($D190,'C.1 - Rate Sheets'!B:F,5,FALSE)","v":0},null,null,null,null,null,null,null,null,null,null,null,null,null,null,null,null,null,null,null,null,null,null,null,null,null,null,null,null,null,null,null,16,null,null,null,null,16,null,null,null,null,16,null,null,null,null,16,null,null,null,null,null,null,null,null,null,null,null,null,null,null,null,null,null,null,null,null,null,null,null,null,null,null,null,null,null,null,null,null,null,null,null,null,null,null,null,null,null,null,null,null,null,null,null,null,null,null,null,null,null,null,null,null,null,null,null,null,null,null,null,null,null,null,null,null,null,null,null,null,null,null,null,null,null,null,null,null,null,null,null,null,null,null,null,null,null,null,null,null,null,null,null,null,null,null,null,null,null,null,null,0,64,0,null,64,0,6544,0,0,6544,6544,"Yes",0,0,0]
[null,173,"Rusty Breedlove","Groundman","Vendor No.02",null,"MIFPUC-2","2018-10-14","2018-10-20","Yes",{"$f":"VLOOKUP($D191,'C.1 - Rate Sheets'!B:F,2,FALSE)","v":0},{"$f":"VLOOKUP($D191,'C.1 - Rate Sheets'!B:F,3,FALSE)","v":99.27},{"$f":"VLOOKUP($D191,'C.1 - Rate Sheets'!B:F,4,FALSE)","v":117.21},{"$f":"VLOOKUP($D191,'C.1 - Rate Sheets'!B:F,5,FALSE)","v":0},null,null,null,null,null,null,null,null,null,null,null,null,null,null,null,null,null,null,null,null,null,null,null,null,null,null,null,null,null,null,null,16,null,null,null,null,16,null,null,null,null,16,null,null,null,null,16,null,null,null,null,null,null,null,null,null,null,null,null,null,null,null,null,null,null,null,null,null,null,null,null,null,null,null,null,null,null,null,null,null,null,null,null,null,null,null,null,null,null,null,null,null,null,null,null,null,null,null,null,null,null,null,null,null,null,null,null,null,null,null,null,null,null,null,null,null,null,null,null,null,null,null,null,null,null,null,null,null,null,null,null,null,null,null,null,null,null,null,null,null,null,null,null,null,null,null,null,null,null,null,0,64,0,null,64,0,6353.28,0,0,6353.28,6353.28,"Yes",0,0,0]
[null,174,"Kelly Drummond","Foreman","Vendor No.02",null,"MIFPUC-2","2018-10-14","2018-10-20","Yes",{"$f":"VLOOKUP($D192,'C.1 - Rate Sheets'!B:F,2,FALSE)","v":0},{"$f":"VLOOKUP($D192,'C.1 - Rate Sheets'!B:F,3,FALSE)","v":148.21},{"$f":"VLOOKUP($D192,'C.1 - Rate Sheets'!B:F,4,FALSE)","v":192.19},{"$f":"VLOOKUP($D192,'C.1 - Rate Sheets'!B:F,5,FALSE)","v":0},null,null,null,null,null,null,null,null,null,null,null,null,null,null,null,null,null,null,null,null,null,null,null,null,null,null,null,null,null,null,null,16,null,null,null,null,16,null,null,null,null,16,null,null,null,null,16,null,null,null,null,null,null,null,null,null,null,null,null,null,null,null,null,null,null,null,null,null,null,null,null,null,null,null,null,null,null,null,null,null,null,null,null,null,null,null,null,null,null,null,null,null,null,null,null,null,null,null,null,null,null,null,null,null,null,null,null,null,null,null,null,null,null,null,null,null,null,null,null,null,null,null,null,null,null,null,null,null,null,null,null,null,null,null,null,null,null,null,null,null,null,null,null,null,null,null,null,null,null,null,0,64,0,null,64,0,9485.44,0,0,9485.44,9485.44,"Yes",0,0,0]
[null,175,"Selwyn Sampson","Senior Lineman/Journeyman Lineman","Vendor No.02",null,"MIFPUC-2","2018-10-14","2018-10-20","Yes",{"$f":"VLOOKUP($D193,'C.1 - Rate Sheets'!B:F,2,FALSE)","v":0},{"$f":"VLOOKUP($D193,'C.1 - Rate Sheets'!B:F,3,FALSE)","v":136.22},{"$f":"VLOOKUP($D193,'C.1 - Rate Sheets'!B:F,4,FALSE)","v":176.19},{"$f":"VLOOKUP($D193,'C.1 - Rate Sheets'!B:F,5,FALSE)","v":0},null,null,null,null,null,null,null,null,null,null,null,null,null,null,null,null,null,null,null,null,null,null,null,null,null,null,null,null,null,null,null,16,null,null,null,null,16,null,null,null,null,16,null,null,null,null,16,null,null,null,null,null,null,null,null,null,null,null,null,null,null,null,null,null,null,null,null,null,null,null,null,null,null,null,null,null,null,null,null,null,null,null,null,null,null,null,null,null,null,null,null,null,null,null,null,null,null,null,null,null,null,null,null,null,null,null,null,null,null,null,null,null,null,null,null,null,null,null,null,null,null,null,null,null,null,null,null,null,null,null,null,null,null,null,null,null,null,null,null,null,null,null,null,null,null,null,null,null,null,null,0,64,0,null,64,0,8718.08,0,0,8718.08,8718.08,"Yes",0,0,0]
[null,176,"Cody Maddox","Line Tech C","Vendor No.02",null,"MIFPUC-2","2018-10-14","2018-10-20","Yes",{"$f":"VLOOKUP($D194,'C.1 - Rate Sheets'!B:F,2,FALSE)","v":0},{"$f":"VLOOKUP($D194,'C.1 - Rate Sheets'!B:F,3,FALSE)","v":110.51},{"$f":"VLOOKUP($D194,'C.1 - Rate Sheets'!B:F,4,FALSE)","v":136.22999999999999},{"$f":"VLOOKUP($D194,'C.1 - Rate Sheets'!B:F,5,FALSE)","v":0},null,null,null,null,null,null,null,null,null,null,null,null,null,null,null,null,null,null,null,null,null,null,null,null,null,null,null,null,null,null,null,16,null,null,null,null,16,null,null,null,null,16,null,null,null,null,16,null,null,null,null,null,null,null,null,null,null,null,null,null,null,null,null,null,null,null,null,null,null,null,null,null,null,null,null,null,null,null,null,null,null,null,null,null,null,null,null,null,null,null,null,null,null,null,null,null,null,null,null,null,null,null,null,null,null,null,null,null,null,null,null,null,null,null,null,null,null,null,null,null,null,null,null,null,null,null,null,null,null,null,null,null,null,null,null,null,null,null,null,null,null,null,null,null,null,null,null,null,null,null,0,64,0,null,64,0,7072.64,0,0,7072.64,7072.64,"Yes",0,0,0]
[null,177,"Ray Campbell","Foreman","Vendor No.02",null,"MIFPUC-2","2018-10-14","2018-10-20","Yes",{"$f":"VLOOKUP($D195,'C.1 - Rate Sheets'!B:F,2,FALSE)","v":0},{"$f":"VLOOKUP($D195,'C.1 - Rate Sheets'!B:F,3,FALSE)","v":148.21},{"$f":"VLOOKUP($D195,'C.1 - Rate Sheets'!B:F,4,FALSE)","v":192.19},{"$f":"VLOOKUP($D195,'C.1 - Rate Sheets'!B:F,5,FALSE)","v":0},null,null,null,null,null,null,null,null,null,null,null,null,null,null,null,null,null,null,null,null,null,null,null,null,null,null,null,null,null,null,null,16,null,null,null,null,16,null,null,null,null,16,null,null,null,null,16,null,null,null,null,null,null,null,null,null,null,null,null,null,null,null,null,null,null,null,null,null,null,null,null,null,null,null,null,null,null,null,null,null,null,null,null,null,null,null,null,null,null,null,null,null,null,null,null,null,null,null,null,null,null,null,null,null,null,null,null,null,null,null,null,null,null,null,null,null,null,null,null,null,null,null,null,null,null,null,null,null,null,null,null,null,null,null,null,null,null,null,null,null,null,null,null,null,null,null,null,null,null,null,0,64,0,null,64,0,9485.44,0,0,9485.44,9485.44,"Yes",0,0,0]
[null,178,"Scotty Sansone","Senior Lineman/Journeyman Lineman","Vendor No.02",null,"MIFPUC-2","2018-10-14","2018-10-20","Yes",{"$f":"VLOOKUP($D196,'C.1 - Rate Sheets'!B:F,2,FALSE)","v":0},{"$f":"VLOOKUP($D196,'C.1 - Rate Sheets'!B:F,3,FALSE)","v":136.22},{"$f":"VLOOKUP($D196,'C.1 - Rate Sheets'!B:F,4,FALSE)","v":176.19},{"$f":"VLOOKUP($D196,'C.1 - Rate Sheets'!B:F,5,FALSE)","v":0},null,null,null,null,null,null,null,null,null,null,null,null,null,null,null,null,null,null,null,null,null,null,null,null,null,null,null,null,null,null,null,16,null,null,null,null,16,null,null,null,null,16,null,null,null,null,16,null,null,null,null,null,null,null,null,null,null,null,null,null,null,null,null,null,null,null,null,null,null,null,null,null,null,null,null,null,null,null,null,null,null,null,null,null,null,null,null,null,null,null,null,null,null,null,null,null,null,null,null,null,null,null,null,null,null,null,null,null,null,null,null,null,null,null,null,null,null,null,null,null,null,null,null,null,null,null,null,null,null,null,null,null,null,null,null,null,null,null,null,null,null,null,null,null,null,null,null,null,null,null,0,64,0,null,64,0,8718.08,0,0,8718.08,8718.08,"Yes",0,0,0]
[null,179,"Nick Schwarz","Apprentice Helper","Vendor No.02",null,"MIFPUC-2","2018-10-14","2018-10-20","Yes",{"$f":"VLOOKUP($D197,'C.1 - Rate Sheets'!B:F,2,FALSE)","v":0},{"$f":"VLOOKUP($D197,'C.1 - Rate Sheets'!B:F,3,FALSE)","v":102.25},{"$f":"VLOOKUP($D197,'C.1 - Rate Sheets'!B:F,4,FALSE)","v":130.74},{"$f":"VLOOKUP($D197,'C.1 - Rate Sheets'!B:F,5,FALSE)","v":0},null,null,null,null,null,null,null,null,null,null,null,null,null,null,null,null,null,null,null,null,null,null,null,null,null,null,null,null,null,null,null,16,null,null,null,null,16,null,null,null,null,16,null,null,null,null,16,null,null,null,null,null,null,null,null,null,null,null,null,null,null,null,null,null,null,null,null,null,null,null,null,null,null,null,null,null,null,null,null,null,null,null,null,null,null,null,null,null,null,null,null,null,null,null,null,null,null,null,null,null,null,null,null,null,null,null,null,null,null,null,null,null,null,null,null,null,null,null,null,null,null,null,null,null,null,null,null,null,null,null,null,null,null,null,null,null,null,null,null,null,null,null,null,null,null,null,null,null,null,null,0,64,0,null,64,0,6544,0,0,6544,6544,"Yes",0,0,0]
[null,180,"Mike Wellman","Groundman","Vendor No.02",null,"MIFPUC-2","2018-10-14","2018-10-20","Yes",{"$f":"VLOOKUP($D198,'C.1 - Rate Sheets'!B:F,2,FALSE)","v":0},{"$f":"VLOOKUP($D198,'C.1 - Rate Sheets'!B:F,3,FALSE)","v":99.27},{"$f":"VLOOKUP($D198,'C.1 - Rate Sheets'!B:F,4,FALSE)","v":117.21},{"$f":"VLOOKUP($D198,'C.1 - Rate Sheets'!B:F,5,FALSE)","v":0},null,null,null,null,null,null,null,null,null,null,null,null,null,null,null,null,null,null,null,null,null,null,null,null,null,null,null,null,null,null,null,16,null,null,null,null,16,null,null,null,null,16,null,null,null,null,16,null,null,null,null,null,null,null,null,null,null,null,null,null,null,null,null,null,null,null,null,null,null,null,null,null,null,null,null,null,null,null,null,null,null,null,null,null,null,null,null,null,null,null,null,null,null,null,null,null,null,null,null,null,null,null,null,null,null,null,null,null,null,null,null,null,null,null,null,null,null,null,null,null,null,null,null,null,null,null,null,null,null,null,null,null,null,null,null,null,null,null,null,null,null,null,null,null,null,null,null,null,null,null,0,64,0,null,64,0,6353.28,0,0,6353.28,6353.28,"Yes",0,0,0]
[null,181,"Larry Potter","Groundman","Vendor No.02",null,"MIFPUC-2","2018-10-14","2018-10-20","Yes",{"$f":"VLOOKUP($D199,'C.1 - Rate Sheets'!B:F,2,FALSE)","v":0},{"$f":"VLOOKUP($D199,'C.1 - Rate Sheets'!B:F,3,FALSE)","v":99.27},{"$f":"VLOOKUP($D199,'C.1 - Rate Sheets'!B:F,4,FALSE)","v":117.21},{"$f":"VLOOKUP($D199,'C.1 - Rate Sheets'!B:F,5,FALSE)","v":0},null,null,null,null,null,null,null,null,null,null,null,null,null,null,null,null,null,null,null,null,null,null,null,null,null,null,null,null,null,null,null,16,null,null,null,null,16,null,null,null,null,16,null,null,null,null,16,null,null,null,null,null,null,null,null,null,null,null,null,null,null,null,null,null,null,null,null,null,null,null,null,null,null,null,null,null,null,null,null,null,null,null,null,null,null,null,null,null,null,null,null,null,null,null,null,null,null,null,null,null,null,null,null,null,null,null,null,null,null,null,null,null,null,null,null,null,null,null,null,null,null,null,null,null,null,null,null,null,null,null,null,null,null,null,null,null,null,null,null,null,null,null,null,null,null,null,null,null,null,null,0,64,0,null,64,0,6353.28,0,0,6353.28,6353.28,"Yes",0,0,0]
[null,182,"Alex Rogers","Line Tech B","Vendor No.02",null,"MIFPUC-2","2018-10-14","2018-10-20","Yes",{"$f":"VLOOKUP($D200,'C.1 - Rate Sheets'!B:F,2,FALSE)","v":0},{"$f":"VLOOKUP($D200,'C.1 - Rate Sheets'!B:F,3,FALSE)","v":118.24},{"$f":"VLOOKUP($D200,'C.1 - Rate Sheets'!B:F,4,FALSE)","v":152.22},{"$f":"VLOOKUP($D200,'C.1 - Rate Sheets'!B:F,5,FALSE)","v":0},null,null,null,null,null,null,null,null,null,null,null,null,null,null,null,null,null,null,null,null,null,null,null,null,null,null,null,null,null,null,null,16,null,null,null,null,16,null,null,null,null,16,null,null,null,null,16,null,null,null,null,null,null,null,null,null,null,null,null,null,null,null,null,null,null,null,null,null,null,null,null,null,null,null,null,null,null,null,null,null,null,null,null,null,null,null,null,null,null,null,null,null,null,null,null,null,null,null,null,null,null,null,null,null,null,null,null,null,null,null,null,null,null,null,null,null,null,null,null,null,null,null,null,null,null,null,null,null,null,null,null,null,null,null,null,null,null,null,null,null,null,null,null,null,null,null,null,null,null,null,0,64,0,null,64,0,7567.36,0,0,7567.36,7567.36,"Yes",0,0,0]
[null,183,"Matt Montes","Groundman","Vendor No.02",null,"MIFPUC-2","2018-10-14","2018-10-20","Yes",{"$f":"VLOOKUP($D201,'C.1 - Rate Sheets'!B:F,2,FALSE)","v":0},{"$f":"VLOOKUP($D201,'C.1 - Rate Sheets'!B:F,3,FALSE)","v":99.27},{"$f":"VLOOKUP($D201,'C.1 - Rate Sheets'!B:F,4,FALSE)","v":117.21},{"$f":"VLOOKUP($D201,'C.1 - Rate Sheets'!B:F,5,FALSE)","v":0},null,null,null,null,null,null,null,null,null,null,null,null,null,null,null,null,null,null,null,null,null,null,null,null,null,null,null,null,null,null,null,16,null,null,null,null,16,null,null,null,null,16,null,null,null,null,16,null,null,null,null,null,null,null,null,null,null,null,null,null,null,null,null,null,null,null,null,null,null,null,null,null,null,null,null,null,null,null,null,null,null,null,null,null,null,null,null,null,null,null,null,null,null,null,null,null,null,null,null,null,null,null,null,null,null,null,null,null,null,null,null,null,null,null,null,null,null,null,null,null,null,null,null,null,null,null,null,null,null,null,null,null,null,null,null,null,null,null,null,null,null,null,null,null,null,null,null,null,null,null,0,64,0,null,64,0,6353.28,0,0,6353.28,6353.28,"Yes",0,0,0]
[null,184,"Jose De Jesus","Groundman","Vendor No.02",null,"MIFPUC-2","2018-10-14","2018-10-20","Yes",{"$f":"VLOOKUP($D202,'C.1 - Rate Sheets'!B:F,2,FALSE)","v":0},{"$f":"VLOOKUP($D202,'C.1 - Rate Sheets'!B:F,3,FALSE)","v":99.27},{"$f":"VLOOKUP($D202,'C.1 - Rate Sheets'!B:F,4,FALSE)","v":117.21},{"$f":"VLOOKUP($D202,'C.1 - Rate Sheets'!B:F,5,FALSE)","v":0},null,null,null,null,null,null,null,null,null,null,null,null,null,null,null,null,null,null,null,null,null,null,null,null,null,null,null,null,null,null,null,null,null,null,null,null,null,null,null,null,null,null,null,null,null,null,16,null,null,null,null,null,null,null,null,null,null,null,null,null,null,null,null,null,null,null,null,null,null,null,null,null,null,null,null,null,null,null,null,null,null,null,null,null,null,null,null,null,null,null,null,null,null,null,null,null,null,null,null,null,null,null,null,null,null,null,null,null,null,null,null,null,null,null,null,null,null,null,null,null,null,null,null,null,null,null,null,null,null,null,null,null,null,null,null,null,null,null,null,null,null,null,null,null,null,null,null,null,null,null,0,16,0,null,16,0,1588.32,0,0,1588.32,1588.32,"Yes",0,0,0]
[null,185,"Perry Chaffin","Senior Lineman/Journeyman Lineman","Vendor No.02",null,"MIFPUC-2","2018-10-14","2018-10-20","Yes",{"$f":"VLOOKUP($D203,'C.1 - Rate Sheets'!B:F,2,FALSE)","v":0},{"$f":"VLOOKUP($D203,'C.1 - Rate Sheets'!B:F,3,FALSE)","v":136.22},{"$f":"VLOOKUP($D203,'C.1 - Rate Sheets'!B:F,4,FALSE)","v":176.19},{"$f":"VLOOKUP($D203,'C.1 - Rate Sheets'!B:F,5,FALSE)","v":0},null,null,null,null,null,null,null,null,null,null,null,null,null,null,null,null,null,null,null,null,null,null,null,null,null,null,null,null,null,null,null,null,null,null,null,null,null,null,null,null,null,null,null,null,null,null,null,null,null,null,null,null,null,null,null,null,null,null,null,null,null,null,null,null,null,null,null,null,null,null,null,null,null,null,null,null,null,null,null,null,null,null,null,null,null,null,null,null,null,null,null,null,null,null,null,null,null,null,null,null,null,null,null,null,null,null,null,null,null,null,null,null,null,null,null,null,null,null,null,null,null,null,null,null,null,null,null,null,null,null,null,null,null,null,null,null,null,null,null,null,null,null,null,null,null,null,null,null,null,null,0,0,0,null,0,0,0,0,0,0,0,"Yes",0,0,0]
[null,186,null,null,null,null,null,null,null,null,null,null,null,null,null,null,null,null,null,null,null,null,null,null,null,null,null,null,null,null,null,null,null,null,null,null,null,null,null,null,null,null,null,null,null,null,null,null,null,null,null,null,null,null,null,null,null,null,null,null,null,null,null,null,null,null,null,null,null,null,null,null,null,null,null,null,null,null,null,null,null,null,null,null,null,null,null,null,null,null,null,null,null,null,null,null,null,null,null,null,null,null,null,null,null,null,null,null,null,null,null,null,null,null,null,null,null,null,null,null,null,null,null,null,null,null,null,null,null,null,null,null,null,null,null,null,null,null,null,null,null,null,null,null,null,null,null,null,null,null,null,null,null,null,null,null,null,null,null,null,null,null,null,null,0,0,0,null,0,0,0,0,0,0,0,"Yes",0,0,0]
[null,187,"Gustavo Monteagudo","Foreman","Vendor No.02",null,"MIFPUC-3","2018-10-21","2018-10-27","Yes",{"$f":"VLOOKUP($D205,'C.1 - Rate Sheets'!B:F,2,FALSE)","v":0},{"$f":"VLOOKUP($D205,'C.1 - Rate Sheets'!B:F,3,FALSE)","v":148.21},{"$f":"VLOOKUP($D205,'C.1 - Rate Sheets'!B:F,4,FALSE)","v":192.19},{"$f":"VLOOKUP($D205,'C.1 - Rate Sheets'!B:F,5,FALSE)","v":0},null,null,null,null,null,null,null,null,null,null,null,null,null,null,null,null,null,null,null,null,null,null,null,null,null,null,null,null,null,null,null,null,null,null,null,null,null,null,null,null,null,null,null,null,null,null,null,null,null,null,null,null,16,null,null,null,16,null,null,null,null,16,null,null,null,null,16,null,null,null,null,16,null,null,null,null,16,null,null,null,null,16,null,null,null,null,null,null,null,null,null,null,null,null,null,null,null,null,null,null,null,null,null,null,null,null,null,null,null,null,null,null,null,null,null,null,null,null,null,null,null,null,null,null,null,null,null,null,null,null,null,null,null,null,null,null,null,null,null,null,null,null,null,null,null,null,null,null,null,null,0,96,16,null,112,0,14228.16,3075.04,0,17303.2,17303.2,"Yes",0,0,0]
[null,188,"Aroy Fildalgo","Senior Lineman/Journeyman Lineman","Vendor No.02",null,"MIFPUC-3","2018-10-21","2018-10-27","Yes",{"$f":"VLOOKUP($D206,'C.1 - Rate Sheets'!B:F,2,FALSE)","v":0},{"$f":"VLOOKUP($D206,'C.1 - Rate Sheets'!B:F,3,FALSE)","v":136.22},{"$f":"VLOOKUP($D206,'C.1 - Rate Sheets'!B:F,4,FALSE)","v":176.19},{"$f":"VLOOKUP($D206,'C.1 - Rate Sheets'!B:F,5,FALSE)","v":0},null,null,null,null,null,null,null,null,null,null,null,null,null,null,null,null,null,null,null,null,null,null,null,null,null,null,null,null,null,null,null,null,null,null,null,null,null,null,null,null,null,null,null,null,null,null,null,null,null,null,null,null,16,null,null,null,16,null,null,null,null,16,null,null,null,null,16,null,null,null,null,16,null,null,null,null,16,null,null,null,null,16,null,null,null,null,null,null,null,null,null,null,null,null,null,null,null,null,null,null,null,null,null,null,null,null,null,null,null,null,null,null,null,null,null,null,null,null,null,null,null,null,null,null,null,null,null,null,null,null,null,null,null,null,null,null,null,null,null,null,null,null,null,null,null,null,null,null,null,null,0,96,16,null,112,0,13077.119999999999,2819.04,0,15896.16,15896.16,"Yes",0,0,0]
[null,189,"Addiel DeCardenas","Senior Lineman/Journeyman Lineman","Vendor No.02",null,"MIFPUC-3","2018-10-21","2018-10-27","Yes",{"$f":"VLOOKUP($D207,'C.1 - Rate Sheets'!B:F,2,FALSE)","v":0},{"$f":"VLOOKUP($D207,'C.1 - Rate Sheets'!B:F,3,FALSE)","v":136.22},{"$f":"VLOOKUP($D207,'C.1 - Rate Sheets'!B:F,4,FALSE)","v":176.19},{"$f":"VLOOKUP($D207,'C.1 - Rate Sheets'!B:F,5,FALSE)","v":0},null,null,null,null,null,null,null,null,null,null,null,null,null,null,null,null,null,null,null,null,null,null,null,null,null,null,null,null,null,null,null,null,null,null,null,null,null,null,null,null,null,null,null,null,null,null,null,null,null,null,null,null,16,null,null,null,16,null,null,null,null,16,null,null,null,null,16,null,null,null,null,16,null,null,null,null,16,null,null,null,null,16,null,null,null,null,null,null,null,null,null,null,null,null,null,null,null,null,null,null,null,null,null,null,null,null,null,null,null,null,null,null,null,null,null,null,null,null,null,null,null,null,null,null,null,null,null,null,null,null,null,null,null,null,null,null,null,null,null,null,null,null,null,null,null,null,null,null,null,null,0,96,16,null,112,0,13077.119999999999,2819.04,0,15896.16,15896.16,"Yes",0,0,0]
[null,190,"Bruno Thiago","Senior Lineman/Journeyman Lineman","Vendor No.02",null,"MIFPUC-3","2018-10-21","2018-10-27","Yes",{"$f":"VLOOKUP($D208,'C.1 - Rate Sheets'!B:F,2,FALSE)","v":0},{"$f":"VLOOKUP($D208,'C.1 - Rate Sheets'!B:F,3,FALSE)","v":136.22},{"$f":"VLOOKUP($D208,'C.1 - Rate Sheets'!B:F,4,FALSE)","v":176.19},{"$f":"VLOOKUP($D208,'C.1 - Rate Sheets'!B:F,5,FALSE)","v":0},null,null,null,null,null,null,null,null,null,null,null,null,null,null,null,null,null,null,null,null,null,null,null,null,null,null,null,null,null,null,null,null,null,null,null,null,null,null,null,null,null,null,null,null,null,null,null,null,null,null,null,null,16,null,null,null,16,null,null,null,null,16,null,null,null,null,16,null,null,null,null,16,null,null,null,null,16,null,null,null,null,16,null,null,null,null,null,null,null,null,null,null,null,null,null,null,null,null,null,null,null,null,null,null,null,null,null,null,null,null,null,null,null,null,null,null,null,null,null,null,null,null,null,null,null,null,null,null,null,null,null,null,null,null,null,null,null,null,null,null,null,null,null,null,null,null,null,null,null,null,0,96,16,null,112,0,13077.119999999999,2819.04,0,15896.16,15896.16,"Yes",0,0,0]
[null,191,"Iran Fernandez","Groundman","Vendor No.02",null,"MIFPUC-3","2018-10-21","2018-10-27","Yes",{"$f":"VLOOKUP($D209,'C.1 - Rate Sheets'!B:F,2,FALSE)","v":0},{"$f":"VLOOKUP($D209,'C.1 - Rate Sheets'!B:F,3,FALSE)","v":99.27},{"$f":"VLOOKUP($D209,'C.1 - Rate Sheets'!B:F,4,FALSE)","v":117.21},{"$f":"VLOOKUP($D209,'C.1 - Rate Sheets'!B:F,5,FALSE)","v":0},null,null,null,null,null,null,null,null,null,null,null,null,null,null,null,null,null,null,null,null,null,null,null,null,null,null,null,null,null,null,null,null,null,null,null,null,null,null,null,null,null,null,null,null,null,null,null,null,null,null,null,null,16,null,null,null,16,null,null,null,null,16,null,null,null,null,16,null,null,null,null,16,null,null,null,null,16,null,null,null,null,16,null,null,null,null,null,null,null,null,null,null,null,null,null,null,null,null,null,null,null,null,null,null,null,null,null,null,null,null,null,null,null,null,null,null,null,null,null,null,null,null,null,null,null,null,null,null,null,null,null,null,null,null,null,null,null,null,null,null,null,null,null,null,null,null,null,null,null,null,0,96,16,null,112,0,9529.92,1875.36,0,11405.28,11405.28,"Yes",0,0,0]
[null,192,"Deatrick Forbes","Foreman","Vendor No.02",null,"MIFPUC-3","2018-10-21","2018-10-27","Yes",{"$f":"VLOOKUP($D210,'C.1 - Rate Sheets'!B:F,2,FALSE)","v":0},{"$f":"VLOOKUP($D210,'C.1 - Rate Sheets'!B:F,3,FALSE)","v":148.21},{"$f":"VLOOKUP($D210,'C.1 - Rate Sheets'!B:F,4,FALSE)","v":192.19},{"$f":"VLOOKUP($D210,'C.1 - Rate Sheets'!B:F,5,FALSE)","v":0},null,null,null,null,null,null,null,null,null,null,null,null,null,null,null,null,null,null,null,null,null,null,null,null,null,null,null,null,null,null,null,null,null,null,null,null,null,null,null,null,null,null,null,null,null,null,null,null,null,null,null,null,16,null,null,null,16,null,null,null,null,16,null,null,null,null,16,null,null,null,null,16,null,null,null,null,16,null,null,null,null,16,null,null,null,null,null,null,null,null,null,null,null,null,null,null,null,null,null,null,null,null,null,null,null,null,null,null,null,null,null,null,null,null,null,null,null,null,null,null,null,null,null,null,null,null,null,null,null,null,null,null,null,null,null,null,null,null,null,null,null,null,null,null,null,null,null,null,null,null,0,96,16,null,112,0,14228.16,3075.04,0,17303.2,17303.2,"Yes",0,0,0]
[null,193,"Guilermo Arias","Senior Lineman/Journeyman Lineman","Vendor No.02",null,"MIFPUC-3","2018-10-21","2018-10-27","Yes",{"$f":"VLOOKUP($D211,'C.1 - Rate Sheets'!B:F,2,FALSE)","v":0},{"$f":"VLOOKUP($D211,'C.1 - Rate Sheets'!B:F,3,FALSE)","v":136.22},{"$f":"VLOOKUP($D211,'C.1 - Rate Sheets'!B:F,4,FALSE)","v":176.19},{"$f":"VLOOKUP($D211,'C.1 - Rate Sheets'!B:F,5,FALSE)","v":0},null,null,null,null,null,null,null,null,null,null,null,null,null,null,null,null,null,null,null,null,null,null,null,null,null,null,null,null,null,null,null,null,null,null,null,null,null,null,null,null,null,null,null,null,null,null,null,null,null,null,null,null,16,null,null,null,16,null,null,null,null,16,null,null,null,null,16,null,null,null,null,16,null,null,null,null,16,null,null,null,null,16,null,null,null,null,null,null,null,null,null,null,null,null,null,null,null,null,null,null,null,null,null,null,null,null,null,null,null,null,null,null,null,null,null,null,null,null,null,null,null,null,null,null,null,null,null,null,null,null,null,null,null,null,null,null,null,null,null,null,null,null,null,null,null,null,null,null,null,null,0,96,16,null,112,0,13077.119999999999,2819.04,0,15896.16,15896.16,"Yes",0,0,0]
[null,194,"Mark Machado","Senior Lineman/Journeyman Lineman","Vendor No.02",null,"MIFPUC-3","2018-10-21","2018-10-27","Yes",{"$f":"VLOOKUP($D212,'C.1 - Rate Sheets'!B:F,2,FALSE)","v":0},{"$f":"VLOOKUP($D212,'C.1 - Rate Sheets'!B:F,3,FALSE)","v":136.22},{"$f":"VLOOKUP($D212,'C.1 - Rate Sheets'!B:F,4,FALSE)","v":176.19},{"$f":"VLOOKUP($D212,'C.1 - Rate Sheets'!B:F,5,FALSE)","v":0},null,null,null,null,null,null,null,null,null,null,null,null,null,null,null,null,null,null,null,null,null,null,null,null,null,null,null,null,null,null,null,null,null,null,null,null,null,null,null,null,null,null,null,null,null,null,null,null,null,null,null,null,16,null,null,null,16,null,null,null,null,16,null,null,null,null,16,null,null,null,null,16,null,null,null,null,16,null,null,null,null,16,null,null,null,null,null,null,null,null,null,null,null,null,null,null,null,null,null,null,null,null,null,null,null,null,null,null,null,null,null,null,null,null,null,null,null,null,null,null,null,null,null,null,null,null,null,null,null,null,null,null,null,null,null,null,null,null,null,null,null,null,null,null,null,null,null,null,null,null,0,96,16,null,112,0,13077.119999999999,2819.04,0,15896.16,15896.16,"Yes",0,0,0]
[null,195,"Andrew Wilson","Line Tech C","Vendor No.02",null,"MIFPUC-3","2018-10-21","2018-10-27","Yes",{"$f":"VLOOKUP($D213,'C.1 - Rate Sheets'!B:F,2,FALSE)","v":0},{"$f":"VLOOKUP($D213,'C.1 - Rate Sheets'!B:F,3,FALSE)","v":110.51},{"$f":"VLOOKUP($D213,'C.1 - Rate Sheets'!B:F,4,FALSE)","v":136.22999999999999},{"$f":"VLOOKUP($D213,'C.1 - Rate Sheets'!B:F,5,FALSE)","v":0},null,null,null,null,null,null,null,null,null,null,null,null,null,null,null,null,null,null,null,null,null,null,null,null,null,null,null,null,null,null,null,null,null,null,null,null,null,null,null,null,null,null,null,null,null,null,null,null,null,null,null,null,16,null,null,null,16,null,null,null,null,16,null,null,null,null,16,null,null,null,null,16,null,null,null,null,16,null,null,null,null,16,null,null,null,null,null,null,null,null,null,null,null,null,null,null,null,null,null,null,null,null,null,null,null,null,null,null,null,null,null,null,null,null,null,null,null,null,null,null,null,null,null,null,null,null,null,null,null,null,null,null,null,null,null,null,null,null,null,null,null,null,null,null,null,null,null,null,null,null,{"$f":"FD213+EY213+ET213+EO213+EJ213+EE213+DZ213+DU213+DP213+DK213+DF213+DA213+CV213+CQ213+CL213+CG213+CB213+BW213+BR213+BM213+BH213+BC213+AX213+AS213+AN213+AI213+AD213+Y213+T213+O213","v":0},{"$f":"FE213+EZ213+EU213+EP213+EK213+EF213+EA213+DV213+DQ213+DL213+DG213+DB213+CW213+CR213+CM213+CH213+CC213+BX213+BS213+BN213+BI213+BD213+AY213+AT213+AO213+AJ213+AE213+Z213+U213+P213","v":96},{"$f":"FF213+FA213+EV213+EQ213+EL213+EG213+EB213+DW213+DR213+DM213+DH213+DC213+CX213+CS213+CN213+CI213+CD213+BY213+BT213+BO213+BJ213+BE213+AZ213+AU213+AP213+AK213+AF213+AA213+V213+Q213","v":16},null,{"$f":"SUM(FI213:FL213)","v":112},{"$f":"FI213*K213","v":0},{"$f":"FJ213*L213","v":10608.960000000001},{"$f":"FK213*M213","v":2179.6799999999998},{"$f":"FL213*N213","v":0},{"$f":"SUM(FN213:FQ213)","v":12788.640000000001},{"$f":"FR213-FU213","v":12788.640000000001},"Yes",0,0,0]
[null,196,"Aaron Bessent","Groundman","Vendor No.02",null,"MIFPUC-3","2018-10-21","2018-10-27","Yes",{"$f":"VLOOKUP($D214,'C.1 - Rate Sheets'!B:F,2,FALSE)","v":0},{"$f":"VLOOKUP($D214,'C.1 - Rate Sheets'!B:F,3,FALSE)","v":99.27},{"$f":"VLOOKUP($D214,'C.1 - Rate Sheets'!B:F,4,FALSE)","v":117.21},{"$f":"VLOOKUP($D214,'C.1 - Rate Sheets'!B:F,5,FALSE)","v":0},null,null,null,null,null,null,null,null,null,null,null,null,null,null,null,null,null,null,null,null,null,null,null,null,null,null,null,null,null,null,null,null,null,null,null,null,null,null,null,null,null,null,null,null,null,null,null,null,null,null,null,null,16,null,null,null,16,null,null,null,null,16,null,null,null,null,16,null,null,null,null,16,null,null,null,null,16,null,null,null,null,16,null,null,null,null,null,null,null,null,null,null,null,null,null,null,null,null,null,null,null,null,null,null,null,null,null,null,null,null,null,null,null,null,null,null,null,null,null,null,null,null,null,null,null,null,null,null,null,null,null,null,null,null,null,null,null,null,null,null,null,null,null,null,null,null,null,null,null,null,0,96,16,null,112,0,9529.92,1875.36,0,11405.28,11405.28,"Yes",0,0,0]
[null,197,"Kevin Leon","General Foreman","Vendor No.02",null,"MIFPUC-3","2018-10-21","2018-10-27","Yes",{"$f":"VLOOKUP($D215,'C.1 - Rate Sheets'!B:F,2,FALSE)","v":0},{"$f":"VLOOKUP($D215,'C.1 - Rate Sheets'!B:F,3,FALSE)","v":160.21},{"$f":"VLOOKUP($D215,'C.1 - Rate Sheets'!B:F,4,FALSE)","v":208.18},{"$f":"VLOOKUP($D215,'C.1 - Rate Sheets'!B:F,5,FALSE)","v":0},null,null,null,null,null,null,null,null,null,null,null,null,null,null,null,null,null,null,null,null,null,null,null,null,null,null,null,null,null,null,null,null,null,null,null,null,null,null,null,null,null,null,null,null,null,null,null,null,null,null,null,null,16,null,null,null,16,null,null,null,null,16,null,null,null,null,16,null,null,null,null,16,null,null,null,null,16,null,null,null,null,16,null,null,null,null,null,null,null,null,null,null,null,null,null,null,null,null,null,null,null,null,null,null,null,null,null,null,null,null,null,null,null,null,null,null,null,null,null,null,null,null,null,null,null,null,null,null,null,null,null,null,null,null,null,null,null,null,null,null,null,null,null,null,null,null,null,null,null,null,0,96,16,null,112,0,15380.16,3330.88,0,18711.04,18711.04,"Yes",0,0,0]
[null,198,"Joe Preilezo","Safety","Vendor No.02",null,"MIFPUC-3","2018-10-21","2018-10-27","Yes",{"$f":"VLOOKUP($D216,'C.1 - Rate Sheets'!B:F,2,FALSE)","v":0},{"$f":"VLOOKUP($D216,'C.1 - Rate Sheets'!B:F,3,FALSE)","v":148.21},{"$f":"VLOOKUP($D216,'C.1 - Rate Sheets'!B:F,4,FALSE)","v":192.19},{"$f":"VLOOKUP($D216,'C.1 - Rate Sheets'!B:F,5,FALSE)","v":0},null,null,null,null,null,null,null,null,null,null,null,null,null,null,null,null,null,null,null,null,null,null,null,null,null,null,null,null,null,null,null,null,null,null,null,null,null,null,null,null,null,null,null,null,null,null,null,null,null,null,null,null,16,null,null,null,16,null,null,null,null,16,null,null,null,null,16,null,null,null,null,16,null,null,null,null,16,null,null,null,null,16,null,null,null,null,null,null,null,null,null,null,null,null,null,null,null,null,null,null,null,null,null,null,null,null,null,null,null,null,null,null,null,null,null,null,null,null,null,null,null,null,null,null,null,null,null,null,null,null,null,null,null,null,null,null,null,null,null,null,null,null,null,null,null,null,null,null,null,null,0,96,16,null,112,0,14228.16,3075.04,0,17303.2,17303.2,"Yes",0,0,0]
[null,199,"Jon Morey","Safety","Vendor No.02",null,"MIFPUC-3","2018-10-21","2018-10-27","Yes",{"$f":"VLOOKUP($D217,'C.1 - Rate Sheets'!B:F,2,FALSE)","v":0},{"$f":"VLOOKUP($D217,'C.1 - Rate Sheets'!B:F,3,FALSE)","v":148.21},{"$f":"VLOOKUP($D217,'C.1 - Rate Sheets'!B:F,4,FALSE)","v":192.19},{"$f":"VLOOKUP($D217,'C.1 - Rate Sheets'!B:F,5,FALSE)","v":0},null,null,null,null,null,null,null,null,null,null,null,null,null,null,null,null,null,null,null,null,null,null,null,null,null,null,null,null,null,null,null,null,null,null,null,null,null,null,null,null,null,null,null,null,null,null,null,null,null,null,null,null,16,null,null,null,16,null,null,null,null,16,null,null,null,null,16,null,null,null,null,16,null,null,null,null,16,null,null,null,null,16,null,null,null,null,null,null,null,null,null,null,null,null,null,null,null,null,null,null,null,null,null,null,null,null,null,null,null,null,null,null,null,null,null,null,null,null,null,null,null,null,null,null,null,null,null,null,null,null,null,null,null,null,null,null,null,null,null,null,null,null,null,null,null,null,null,null,null,null,0,96,16,null,112,0,14228.16,3075.04,0,17303.2,17303.2,"Yes",0,0,0]
[null,200,"Reymond Ugalde","Mechanic","Vendor No.02",null,"MIFPUC-3","2018-10-21","2018-10-27","Yes",{"$f":"VLOOKUP($D218,'C.1 - Rate Sheets'!B:F,2,FALSE)","v":0},{"$f":"VLOOKUP($D218,'C.1 - Rate Sheets'!B:F,3,FALSE)","v":116.87},{"$f":"VLOOKUP($D218,'C.1 - Rate Sheets'!B:F,4,FALSE)","v":151.13},{"$f":"VLOOKUP($D218,'C.1 - Rate Sheets'!B:F,5,FALSE)","v":0},null,null,null,null,null,null,null,null,null,null,null,null,null,null,null,null,null,null,null,null,null,null,null,null,null,null,null,null,null,null,null,null,null,null,null,null,null,null,null,null,null,null,null,null,null,null,null,null,null,null,null,null,16,null,null,null,16,null,null,null,null,16,null,null,null,null,16,null,null,null,null,16,null,null,null,null,16,null,null,null,null,16,null,null,null,null,null,null,null,null,null,null,null,null,null,null,null,null,null,null,null,null,null,null,null,null,null,null,null,null,null,null,null,null,null,null,null,null,null,null,null,null,null,null,null,null,null,null,null,null,null,null,null,null,null,null,null,null,null,null,null,null,null,null,null,null,null,null,null,null,0,96,16,null,112,0,11219.52,2418.08,0,13637.6,13637.6,"Yes",0,0,0]
[null,201,"Nate Wells","Foreman","Vendor No.02",null,"MIFPUC-3","2018-10-21","2018-10-27","Yes",{"$f":"VLOOKUP($D219,'C.1 - Rate Sheets'!B:F,2,FALSE)","v":0},{"$f":"VLOOKUP($D219,'C.1 - Rate Sheets'!B:F,3,FALSE)","v":148.21},{"$f":"VLOOKUP($D219,'C.1 - Rate Sheets'!B:F,4,FALSE)","v":192.19},{"$f":"VLOOKUP($D219,'C.1 - Rate Sheets'!B:F,5,FALSE)","v":0},null,null,null,null,null,null,null,null,null,null,null,null,null,null,null,null,null,null,null,null,null,null,null,null,null,null,null,null,null,null,null,null,null,null,null,null,null,null,null,null,null,null,null,null,null,null,null,null,null,null,null,null,16,null,null,null,16,null,null,null,null,16,null,null,null,null,16,null,null,null,null,16,null,null,null,null,16,null,null,null,null,16,null,null,null,null,null,null,null,null,null,null,null,null,null,null,null,null,null,null,null,null,null,null,null,null,null,null,null,null,null,null,null,null,null,null,null,null,null,null,null,null,null,null,null,null,null,null,null,null,null,null,null,null,null,null,null,null,null,null,null,null,null,null,null,null,null,null,null,null,0,96,16,null,112,0,14228.16,3075.04,0,17303.2,17303.2,"Yes",0,0,0]
[null,202,"Emir Alvarado","Senior Lineman/Journeyman Lineman","Vendor No.02",null,"MIFPUC-3","2018-10-21","2018-10-27","Yes",{"$f":"VLOOKUP($D220,'C.1 - Rate Sheets'!B:F,2,FALSE)","v":0},{"$f":"VLOOKUP($D220,'C.1 - Rate Sheets'!B:F,3,FALSE)","v":136.22},{"$f":"VLOOKUP($D220,'C.1 - Rate Sheets'!B:F,4,FALSE)","v":176.19},{"$f":"VLOOKUP($D220,'C.1 - Rate Sheets'!B:F,5,FALSE)","v":0},null,null,null,null,null,null,null,null,null,null,null,null,null,null,null,null,null,null,null,null,null,null,null,null,null,null,null,null,null,null,null,null,null,null,null,null,null,null,null,null,null,null,null,null,null,null,null,null,null,null,null,null,16,null,null,null,16,null,null,null,null,16,null,null,null,null,16,null,null,null,null,16,null,null,null,null,16,null,null,null,null,16,null,null,null,null,null,null,null,null,null,null,null,null,null,null,null,null,null,null,null,null,null,null,null,null,null,null,null,null,null,null,null,null,null,null,null,null,null,null,null,null,null,null,null,null,null,null,null,null,null,null,null,null,null,null,null,null,null,null,null,null,null,null,null,null,null,null,null,null,0,96,16,null,112,0,13077.119999999999,2819.04,0,15896.16,15896.16,"Yes",0,0,0]
[null,203,"Doyle Rondtree","Senior Lineman/Journeyman Lineman","Vendor No.02",null,"MIFPUC-3","2018-10-21","2018-10-27","Yes",{"$f":"VLOOKUP($D221,'C.1 - Rate Sheets'!B:F,2,FALSE)","v":0},{"$f":"VLOOKUP($D221,'C.1 - Rate Sheets'!B:F,3,FALSE)","v":136.22},{"$f":"VLOOKUP($D221,'C.1 - Rate Sheets'!B:F,4,FALSE)","v":176.19},{"$f":"VLOOKUP($D221,'C.1 - Rate Sheets'!B:F,5,FALSE)","v":0},null,null,null,null,null,null,null,null,null,null,null,null,null,null,null,null,null,null,null,null,null,null,null,null,null,null,null,null,null,null,null,null,null,null,null,null,null,null,null,null,null,null,null,null,null,null,null,null,null,null,null,null,16,null,null,null,16,null,null,null,null,16,null,null,null,null,16,null,null,null,null,16,null,null,null,null,16,null,null,null,null,16,null,null,null,null,null,null,null,null,null,null,null,null,null,null,null,null,null,null,null,null,null,null,null,null,null,null,null,null,null,null,null,null,null,null,null,null,null,null,null,null,null,null,null,null,null,null,null,null,null,null,null,null,null,null,null,null,null,null,null,null,null,null,null,null,null,null,null,null,0,96,16,null,112,0,13077.119999999999,2819.04,0,15896.16,15896.16,"Yes",0,0,0]
[null,204,"Dominick Hernandez","Apprentice Helper","Vendor No.02",null,"MIFPUC-3","2018-10-21","2018-10-27","Yes",{"$f":"VLOOKUP($D222,'C.1 - Rate Sheets'!B:F,2,FALSE)","v":0},{"$f":"VLOOKUP($D222,'C.1 - Rate Sheets'!B:F,3,FALSE)","v":102.25},{"$f":"VLOOKUP($D222,'C.1 - Rate Sheets'!B:F,4,FALSE)","v":130.74},{"$f":"VLOOKUP($D222,'C.1 - Rate Sheets'!B:F,5,FALSE)","v":0},null,null,null,null,null,null,null,null,null,null,null,null,null,null,null,null,null,null,null,null,null,null,null,null,null,null,null,null,null,null,null,null,null,null,null,null,null,null,null,null,null,null,null,null,null,null,null,null,null,null,null,null,16,null,null,null,16,null,null,null,null,16,null,null,null,null,16,null,null,null,null,16,null,null,null,null,16,null,null,null,null,16,null,null,null,null,null,null,null,null,null,null,null,null,null,null,null,null,null,null,null,null,null,null,null,null,null,null,null,null,null,null,null,null,null,null,null,null,null,null,null,null,null,null,null,null,null,null,null,null,null,null,null,null,null,null,null,null,null,null,null,null,null,null,null,null,null,null,null,null,0,96,16,null,112,0,9816,2091.84,0,11907.84,11907.84,"Yes",0,0,0]
[null,205,"Brian Abbate","Groundman","Vendor No.02",null,"MIFPUC-3","2018-10-21","2018-10-27","Yes",{"$f":"VLOOKUP($D223,'C.1 - Rate Sheets'!B:F,2,FALSE)","v":0},{"$f":"VLOOKUP($D223,'C.1 - Rate Sheets'!B:F,3,FALSE)","v":99.27},{"$f":"VLOOKUP($D223,'C.1 - Rate Sheets'!B:F,4,FALSE)","v":117.21},{"$f":"VLOOKUP($D223,'C.1 - Rate Sheets'!B:F,5,FALSE)","v":0},null,null,null,null,null,null,null,null,null,null,null,null,null,null,null,null,null,null,null,null,null,null,null,null,null,null,null,null,null,null,null,null,null,null,null,null,null,null,null,null,null,null,null,null,null,null,null,null,null,null,null,null,16,null,null,null,16,null,null,null,null,16,null,null,null,null,16,null,null,null,null,16,null,null,null,null,16,null,null,null,null,16,null,null,null,null,null,null,null,null,null,null,null,null,null,null,null,null,null,null,null,null,null,null,null,null,null,null,null,null,null,null,null,null,null,null,null,null,null,null,null,null,null,null,null,null,null,null,null,null,null,null,null,null,null,null,null,null,null,null,null,null,null,null,null,null,null,null,null,null,0,96,16,null,112,0,9529.92,1875.36,0,11405.28,11405.28,"Yes",0,0,0]
[null,206,"Jose De Jesus","Foreman","Vendor No.02",null,"MIFPUC-3","2018-10-21","2018-10-27","Yes",{"$f":"VLOOKUP($D224,'C.1 - Rate Sheets'!B:F,2,FALSE)","v":0},{"$f":"VLOOKUP($D224,'C.1 - Rate Sheets'!B:F,3,FALSE)","v":148.21},{"$f":"VLOOKUP($D224,'C.1 - Rate Sheets'!B:F,4,FALSE)","v":192.19},{"$f":"VLOOKUP($D224,'C.1 - Rate Sheets'!B:F,5,FALSE)","v":0},null,null,null,null,null,null,null,null,null,null,null,null,null,null,null,null,null,null,null,null,null,null,null,null,null,null,null,null,null,null,null,null,null,null,null,null,null,null,null,null,null,null,null,null,null,null,null,null,null,null,null,null,16,null,null,null,16,null,null,null,null,16,null,null,null,null,16,null,null,null,null,16,null,null,null,null,16,null,null,null,null,16,null,null,null,null,null,null,null,null,null,null,null,null,null,null,null,null,null,null,null,null,null,null,null,null,null,null,null,null,null,null,null,null,null,null,null,null,null,null,null,null,null,null,null,null,null,null,null,null,null,null,null,null,null,null,null,null,null,null,null,null,null,null,null,null,null,null,null,null,0,96,16,null,112,0,14228.16,3075.04,0,17303.2,17303.2,"Yes",0,0,0]
[null,207,"Hector Rodriguez","Senior Lineman/Journeyman Lineman","Vendor No.02",null,"MIFPUC-3","2018-10-21","2018-10-27","Yes",{"$f":"VLOOKUP($D225,'C.1 - Rate Sheets'!B:F,2,FALSE)","v":0},{"$f":"VLOOKUP($D225,'C.1 - Rate Sheets'!B:F,3,FALSE)","v":136.22},{"$f":"VLOOKUP($D225,'C.1 - Rate Sheets'!B:F,4,FALSE)","v":176.19},{"$f":"VLOOKUP($D225,'C.1 - Rate Sheets'!B:F,5,FALSE)","v":0},null,null,null,null,null,null,null,null,null,null,null,null,null,null,null,null,null,null,null,null,null,null,null,null,null,null,null,null,null,null,null,null,null,null,null,null,null,null,null,null,null,null,null,null,null,null,null,null,null,null,null,null,16,null,null,null,16,null,null,null,null,16,null,null,null,null,16,null,null,null,null,16,null,null,null,null,16,null,null,null,null,16,null,null,null,null,null,null,null,null,null,null,null,null,null,null,null,null,null,null,null,null,null,null,null,null,null,null,null,null,null,null,null,null,null,null,null,null,null,null,null,null,null,null,null,null,null,null,null,null,null,null,null,null,null,null,null,null,null,null,null,null,null,null,null,null,null,null,null,null,0,96,16,null,112,0,13077.119999999999,2819.04,0,15896.16,15896.16,"Yes",0,0,0]
[null,208,"Randal Osteen","Line Tech B","Vendor No.02",null,"MIFPUC-3","2018-10-21","2018-10-27","Yes",{"$f":"VLOOKUP($D226,'C.1 - Rate Sheets'!B:F,2,FALSE)","v":0},{"$f":"VLOOKUP($D226,'C.1 - Rate Sheets'!B:F,3,FALSE)","v":118.24},{"$f":"VLOOKUP($D226,'C.1 - Rate Sheets'!B:F,4,FALSE)","v":152.22},{"$f":"VLOOKUP($D226,'C.1 - Rate Sheets'!B:F,5,FALSE)","v":0},null,null,null,null,null,null,null,null,null,null,null,null,null,null,null,null,null,null,null,null,null,null,null,null,null,null,null,null,null,null,null,null,null,null,null,null,null,null,null,null,null,null,null,null,null,null,null,null,null,null,null,null,16,null,null,null,16,null,null,null,null,16,null,null,null,null,16,null,null,null,null,16,null,null,null,null,16,null,null,null,null,16,null,null,null,null,null,null,null,null,null,null,null,null,null,null,null,null,null,null,null,null,null,null,null,null,null,null,null,null,null,null,null,null,null,null,null,null,null,null,null,null,null,null,null,null,null,null,null,null,null,null,null,null,null,null,null,null,null,null,null,null,null,null,null,null,null,null,null,null,0,96,16,null,112,0,11351.039999999999,2435.52,0,13786.56,13786.56,"Yes",0,0,0]
[null,209,"Jorge Barroso","Senior Lineman/Journeyman Lineman","Vendor No.02",null,"MIFPUC-3","2018-10-21","2018-10-27","Yes",{"$f":"VLOOKUP($D227,'C.1 - Rate Sheets'!B:F,2,FALSE)","v":0},{"$f":"VLOOKUP($D227,'C.1 - Rate Sheets'!B:F,3,FALSE)","v":136.22},{"$f":"VLOOKUP($D227,'C.1 - Rate Sheets'!B:F,4,FALSE)","v":176.19},{"$f":"VLOOKUP($D227,'C.1 - Rate Sheets'!B:F,5,FALSE)","v":0},null,null,null,null,null,null,null,null,null,null,null,null,null,null,null,null,null,null,null,null,null,null,null,null,null,null,null,null,null,null,null,null,null,null,null,null,null,null,null,null,null,null,null,null,null,null,null,null,null,null,null,null,16,null,null,null,16,null,null,null,null,16,null,null,null,null,16,null,null,null,null,16,null,null,null,null,16,null,null,null,null,16,null,null,null,null,null,null,null,null,null,null,null,null,null,null,null,null,null,null,null,null,null,null,null,null,null,null,null,null,null,null,null,null,null,null,null,null,null,null,null,null,null,null,null,null,null,null,null,null,null,null,null,null,null,null,null,null,null,null,null,null,null,null,null,null,null,null,null,null,0,96,16,null,112,0,13077.119999999999,2819.04,0,15896.16,15896.16,"Yes",0,0,0]
[null,210,"Chadwick Kern","Groundman","Vendor No.02",null,"MIFPUC-3","2018-10-21","2018-10-27","Yes",{"$f":"VLOOKUP($D228,'C.1 - Rate Sheets'!B:F,2,FALSE)","v":0},{"$f":"VLOOKUP($D228,'C.1 - Rate Sheets'!B:F,3,FALSE)","v":99.27},{"$f":"VLOOKUP($D228,'C.1 - Rate Sheets'!B:F,4,FALSE)","v":117.21},{"$f":"VLOOKUP($D228,'C.1 - Rate Sheets'!B:F,5,FALSE)","v":0},null,null,null,null,null,null,null,null,null,null,null,null,null,null,null,null,null,null,null,null,null,null,null,null,null,null,null,null,null,null,null,null,null,null,null,null,null,null,null,null,null,null,null,null,null,null,null,null,null,null,null,null,16,null,null,null,16,null,null,null,null,16,null,null,null,null,16,null,null,null,null,16,null,null,null,null,16,null,null,null,null,16,null,null,null,null,null,null,null,null,null,null,null,null,null,null,null,null,null,null,null,null,null,null,null,null,null,null,null,null,null,null,null,null,null,null,null,null,null,null,null,null,null,null,null,null,null,null,null,null,null,null,null,null,null,null,null,null,null,null,null,null,null,null,null,null,null,null,null,null,0,96,16,null,112,0,9529.92,1875.36,0,11405.28,11405.28,"Yes",0,0,0]
[null,211,"John Harn","General Foreman","Vendor No.02",null,"MIFPUC-3","2018-10-21","2018-10-27","Yes",{"$f":"VLOOKUP($D229,'C.1 - Rate Sheets'!B:F,2,FALSE)","v":0},{"$f":"VLOOKUP($D229,'C.1 - Rate Sheets'!B:F,3,FALSE)","v":160.21},{"$f":"VLOOKUP($D229,'C.1 - Rate Sheets'!B:F,4,FALSE)","v":208.18},{"$f":"VLOOKUP($D229,'C.1 - Rate Sheets'!B:F,5,FALSE)","v":0},null,null,null,null,null,null,null,null,null,null,null,null,null,null,null,null,null,null,null,null,null,null,null,null,null,null,null,null,null,null,null,null,null,null,null,null,null,null,null,null,null,null,null,null,null,null,null,null,null,null,null,null,16,null,null,null,16,null,null,null,null,16,null,null,null,null,16,null,null,null,null,16,null,null,null,null,16,null,null,null,null,16,null,null,null,null,null,null,null,null,null,null,null,null,null,null,null,null,null,null,null,null,null,null,null,null,null,null,null,null,null,null,null,null,null,null,null,null,null,null,null,null,null,null,null,null,null,null,null,null,null,null,null,null,null,null,null,null,null,null,null,null,null,null,null,null,null,null,null,null,0,96,16,null,112,0,15380.16,3330.88,0,18711.04,18711.04,"Yes",0,0,0]
[null,212,"Bonnie Knopf","Safety","Vendor No.02",null,"MIFPUC-3","2018-10-21","2018-10-27","Yes",{"$f":"VLOOKUP($D230,'C.1 - Rate Sheets'!B:F,2,FALSE)","v":0},{"$f":"VLOOKUP($D230,'C.1 - Rate Sheets'!B:F,3,FALSE)","v":148.21},{"$f":"VLOOKUP($D230,'C.1 - Rate Sheets'!B:F,4,FALSE)","v":192.19},{"$f":"VLOOKUP($D230,'C.1 - Rate Sheets'!B:F,5,FALSE)","v":0},null,null,null,null,null,null,null,null,null,null,null,null,null,null,null,null,null,null,null,null,null,null,null,null,null,null,null,null,null,null,null,null,null,null,null,null,null,null,null,null,null,null,null,null,null,null,null,null,null,null,null,null,16,null,null,null,16,null,null,null,null,16,null,null,null,null,16,null,null,null,null,16,null,null,null,null,16,null,null,null,null,16,null,null,null,null,null,null,null,null,null,null,null,null,null,null,null,null,null,null,null,null,null,null,null,null,null,null,null,null,null,null,null,null,null,null,null,null,null,null,null,null,null,null,null,null,null,null,null,null,null,null,null,null,null,null,null,null,null,null,null,null,null,null,null,null,null,null,null,null,0,96,16,null,112,0,14228.16,3075.04,0,17303.2,17303.2,"Yes",0,0,0]
[null,213,"John Cour","General Foreman","Vendor No.02",null,"MIFPUC-3","2018-10-21","2018-10-27","Yes",{"$f":"VLOOKUP($D231,'C.1 - Rate Sheets'!B:F,2,FALSE)","v":0},{"$f":"VLOOKUP($D231,'C.1 - Rate Sheets'!B:F,3,FALSE)","v":160.21},{"$f":"VLOOKUP($D231,'C.1 - Rate Sheets'!B:F,4,FALSE)","v":208.18},{"$f":"VLOOKUP($D231,'C.1 - Rate Sheets'!B:F,5,FALSE)","v":0},null,null,null,null,null,null,null,null,null,null,null,null,null,null,null,null,null,null,null,null,null,null,null,null,null,null,null,null,null,null,null,null,null,null,null,null,null,null,null,null,null,null,null,null,null,null,null,null,null,null,null,null,16,null,null,null,16,null,null,null,null,16,null,null,null,null,16,null,null,null,null,16,null,null,null,null,16,null,null,null,null,16,null,null,null,null,null,null,null,null,null,null,null,null,null,null,null,null,null,null,null,null,null,null,null,null,null,null,null,null,null,null,null,null,null,null,null,null,null,null,null,null,null,null,null,null,null,null,null,null,null,null,null,null,null,null,null,null,null,null,null,null,null,null,null,null,null,null,null,null,0,96,16,null,112,0,15380.16,3330.88,0,18711.04,18711.04,"Yes",0,0,0]
[null,214,"Kinsey Winstead","Senior Lineman/Journeyman Lineman","Vendor No.02",null,"MIFPUC-3","2018-10-21","2018-10-27","Yes",{"$f":"VLOOKUP($D232,'C.1 - Rate Sheets'!B:F,2,FALSE)","v":0},{"$f":"VLOOKUP($D232,'C.1 - Rate Sheets'!B:F,3,FALSE)","v":136.22},{"$f":"VLOOKUP($D232,'C.1 - Rate Sheets'!B:F,4,FALSE)","v":176.19},{"$f":"VLOOKUP($D232,'C.1 - Rate Sheets'!B:F,5,FALSE)","v":0},null,null,null,null,null,null,null,null,null,null,null,null,null,null,null,null,null,null,null,null,null,null,null,null,null,null,null,null,null,null,null,null,null,null,null,null,null,null,null,null,null,null,null,null,null,null,null,null,null,null,null,null,16,null,null,null,16,null,null,null,null,16,null,null,null,null,16,null,null,null,null,16,null,null,null,null,16,null,null,null,null,16,null,null,null,null,null,null,null,null,null,null,null,null,null,null,null,null,null,null,null,null,null,null,null,null,null,null,null,null,null,null,null,null,null,null,null,null,null,null,null,null,null,null,null,null,null,null,null,null,null,null,null,null,null,null,null,null,null,null,null,null,null,null,null,null,null,null,null,null,0,96,16,null,112,0,13077.119999999999,2819.04,0,15896.16,15896.16,"Yes",0,0,0]
[null,215,"Sigfrido Chiong","Foreman","Vendor No.02",null,"MIFPUC-3","2018-10-21","2018-10-27","Yes",{"$f":"VLOOKUP($D233,'C.1 - Rate Sheets'!B:F,2,FALSE)","v":0},{"$f":"VLOOKUP($D233,'C.1 - Rate Sheets'!B:F,3,FALSE)","v":148.21},{"$f":"VLOOKUP($D233,'C.1 - Rate Sheets'!B:F,4,FALSE)","v":192.19},{"$f":"VLOOKUP($D233,'C.1 - Rate Sheets'!B:F,5,FALSE)","v":0},null,null,null,null,null,null,null,null,null,null,null,null,null,null,null,null,null,null,null,null,null,null,null,null,null,null,null,null,null,null,null,null,null,null,null,null,null,null,null,null,null,null,null,null,null,null,null,null,null,null,null,null,16,null,null,null,16,null,null,null,null,16,null,null,null,null,16,null,null,null,null,16,null,null,null,null,16,null,null,null,null,16,null,null,null,null,null,null,null,null,null,null,null,null,null,null,null,null,null,null,null,null,null,null,null,null,null,null,null,null,null,null,null,null,null,null,null,null,null,null,null,null,null,null,null,null,null,null,null,null,null,null,null,null,null,null,null,null,null,null,null,null,null,null,null,null,null,null,null,null,0,96,16,null,112,0,14228.16,3075.04,0,17303.2,17303.2,"Yes",0,0,0]
[null,216,"Jose Guttierez","Senior Lineman/Journeyman Lineman","Vendor No.02",null,"MIFPUC-3","2018-10-21","2018-10-27","Yes",{"$f":"VLOOKUP($D234,'C.1 - Rate Sheets'!B:F,2,FALSE)","v":0},{"$f":"VLOOKUP($D234,'C.1 - Rate Sheets'!B:F,3,FALSE)","v":136.22},{"$f":"VLOOKUP($D234,'C.1 - Rate Sheets'!B:F,4,FALSE)","v":176.19},{"$f":"VLOOKUP($D234,'C.1 - Rate Sheets'!B:F,5,FALSE)","v":0},null,null,null,null,null,null,null,null,null,null,null,null,null,null,null,null,null,null,null,null,null,null,null,null,null,null,null,null,null,null,null,null,null,null,null,null,null,null,null,null,null,null,null,null,null,null,null,null,null,null,null,null,16,null,null,null,16,null,null,null,null,16,null,null,null,null,16,null,null,null,null,16,null,null,null,null,16,null,null,null,null,16,null,null,null,null,null,null,null,null,null,null,null,null,null,null,null,null,null,null,null,null,null,null,null,null,null,null,null,null,null,null,null,null,null,null,null,null,null,null,null,null,null,null,null,null,null,null,null,null,null,null,null,null,null,null,null,null,null,null,null,null,null,null,null,null,null,null,null,null,0,96,16,null,112,0,13077.119999999999,2819.04,0,15896.16,15896.16,"Yes",0,0,0]
[null,217,"Dakota Pickup","Apprentice Helper","Vendor No.02",null,"MIFPUC-3","2018-10-21","2018-10-27","Yes",{"$f":"VLOOKUP($D235,'C.1 - Rate Sheets'!B:F,2,FALSE)","v":0},{"$f":"VLOOKUP($D235,'C.1 - Rate Sheets'!B:F,3,FALSE)","v":102.25},{"$f":"VLOOKUP($D235,'C.1 - Rate Sheets'!B:F,4,FALSE)","v":130.74},{"$f":"VLOOKUP($D235,'C.1 - Rate Sheets'!B:F,5,FALSE)","v":0},null,null,null,null,null,null,null,null,null,null,null,null,null,null,null,null,null,null,null,null,null,null,null,null,null,null,null,null,null,null,null,null,null,null,null,null,null,null,null,null,null,null,null,null,null,null,null,null,null,null,null,null,16,null,null,null,16,null,null,null,null,16,null,null,null,null,16,null,null,null,null,16,null,null,null,null,16,null,null,null,null,16,null,null,null,null,null,null,null,null,null,null,null,null,null,null,null,null,null,null,null,null,null,null,null,null,null,null,null,null,null,null,null,null,null,null,null,null,null,null,null,null,null,null,null,null,null,null,null,null,null,null,null,null,null,null,null,null,null,null,null,null,null,null,null,null,null,null,null,null,0,96,16,null,112,0,9816,2091.84,0,11907.84,11907.84,"Yes",0,0,0]
[null,218,"Jeremy Minkler","Groundman","Vendor No.02",null,"MIFPUC-3","2018-10-21","2018-10-27","Yes",{"$f":"VLOOKUP($D236,'C.1 - Rate Sheets'!B:F,2,FALSE)","v":0},{"$f":"VLOOKUP($D236,'C.1 - Rate Sheets'!B:F,3,FALSE)","v":99.27},{"$f":"VLOOKUP($D236,'C.1 - Rate Sheets'!B:F,4,FALSE)","v":117.21},{"$f":"VLOOKUP($D236,'C.1 - Rate Sheets'!B:F,5,FALSE)","v":0},null,null,null,null,null,null,null,null,null,null,null,null,null,null,null,null,null,null,null,null,null,null,null,null,null,null,null,null,null,null,null,null,null,null,null,null,null,null,null,null,null,null,null,null,null,null,null,null,null,null,null,null,16,null,null,null,16,null,null,null,null,16,null,null,null,null,16,null,null,null,null,16,null,null,null,null,16,null,null,null,null,16,null,null,null,null,null,null,null,null,null,null,null,null,null,null,null,null,null,null,null,null,null,null,null,null,null,null,null,null,null,null,null,null,null,null,null,null,null,null,null,null,null,null,null,null,null,null,null,null,null,null,null,null,null,null,null,null,null,null,null,null,null,null,null,null,null,null,null,null,0,96,16,null,112,0,9529.92,1875.36,0,11405.28,11405.28,"Yes",0,0,0]
[null,219,"Billy Dillashaw","Equipment Operator","Vendor No.02",null,"MIFPUC-3","2018-10-21","2018-10-27","Yes",{"$f":"VLOOKUP($D237,'C.1 - Rate Sheets'!B:F,2,FALSE)","v":0},{"$f":"VLOOKUP($D237,'C.1 - Rate Sheets'!B:F,3,FALSE)","v":116.87},{"$f":"VLOOKUP($D237,'C.1 - Rate Sheets'!B:F,4,FALSE)","v":151.13},{"$f":"VLOOKUP($D237,'C.1 - Rate Sheets'!B:F,5,FALSE)","v":0},null,null,null,null,null,null,null,null,null,null,null,null,null,null,null,null,null,null,null,null,null,null,null,null,null,null,null,null,null,null,null,null,null,null,null,null,null,null,null,null,null,null,null,null,null,null,null,null,null,null,null,null,16,null,null,null,16,null,null,null,null,16,null,null,null,null,16,null,null,null,null,16,null,null,null,null,16,null,null,null,null,16,null,null,null,null,null,null,null,null,null,null,null,null,null,null,null,null,null,null,null,null,null,null,null,null,null,null,null,null,null,null,null,null,null,null,null,null,null,null,null,null,null,null,null,null,null,null,null,null,null,null,null,null,null,null,null,null,null,null,null,null,null,null,null,null,null,null,null,null,0,96,16,null,112,0,11219.52,2418.08,0,13637.6,13637.6,"Yes",0,0,0]
[null,220,"Mike Katulka","Foreman","Vendor No.02",null,"MIFPUC-3","2018-10-21","2018-10-27","Yes",{"$f":"VLOOKUP($D238,'C.1 - Rate Sheets'!B:F,2,FALSE)","v":0},{"$f":"VLOOKUP($D238,'C.1 - Rate Sheets'!B:F,3,FALSE)","v":148.21},{"$f":"VLOOKUP($D238,'C.1 - Rate Sheets'!B:F,4,FALSE)","v":192.19},{"$f":"VLOOKUP($D238,'C.1 - Rate Sheets'!B:F,5,FALSE)","v":0},null,null,null,null,null,null,null,null,null,null,null,null,null,null,null,null,null,null,null,null,null,null,null,null,null,null,null,null,null,null,null,null,null,null,null,null,null,null,null,null,null,null,null,null,null,null,null,null,null,null,null,null,16,null,null,null,16,null,null,null,null,16,null,null,null,null,16,null,null,null,null,16,null,null,null,null,16,null,null,null,null,16,null,null,null,null,null,null,null,null,null,null,null,null,null,null,null,null,null,null,null,null,null,null,null,null,null,null,null,null,null,null,null,null,null,null,null,null,null,null,null,null,null,null,null,null,null,null,null,null,null,null,null,null,null,null,null,null,null,null,null,null,null,null,null,null,null,null,null,null,0,96,16,null,112,0,14228.16,3075.04,0,17303.2,17303.2,"Yes",0,0,0]
[null,221,"Yonielt Alfonso","Senior Lineman/Journeyman Lineman","Vendor No.02",null,"MIFPUC-3","2018-10-21","2018-10-27","Yes",{"$f":"VLOOKUP($D239,'C.1 - Rate Sheets'!B:F,2,FALSE)","v":0},{"$f":"VLOOKUP($D239,'C.1 - Rate Sheets'!B:F,3,FALSE)","v":136.22},{"$f":"VLOOKUP($D239,'C.1 - Rate Sheets'!B:F,4,FALSE)","v":176.19},{"$f":"VLOOKUP($D239,'C.1 - Rate Sheets'!B:F,5,FALSE)","v":0},null,null,null,null,null,null,null,null,null,null,null,null,null,null,null,null,null,null,null,null,null,null,null,null,null,null,null,null,null,null,null,null,null,null,null,null,null,null,null,null,null,null,null,null,null,null,null,null,null,null,null,null,16,null,null,null,16,null,null,null,null,16,null,null,null,null,16,null,null,null,null,16,null,null,null,null,16,null,null,null,null,16,null,null,null,null,null,null,null,null,null,null,null,null,null,null,null,null,null,null,null,null,null,null,null,null,null,null,null,null,null,null,null,null,null,null,null,null,null,null,null,null,null,null,null,null,null,null,null,null,null,null,null,null,null,null,null,null,null,null,null,null,null,null,null,null,null,null,null,null,0,96,16,null,112,0,13077.119999999999,2819.04,0,15896.16,15896.16,"Yes",0,0,0]
[null,222,"Joseph Kelly","Line Tech B","Vendor No.02",null,"MIFPUC-3","2018-10-21","2018-10-27","Yes",{"$f":"VLOOKUP($D240,'C.1 - Rate Sheets'!B:F,2,FALSE)","v":0},{"$f":"VLOOKUP($D240,'C.1 - Rate Sheets'!B:F,3,FALSE)","v":118.24},{"$f":"VLOOKUP($D240,'C.1 - Rate Sheets'!B:F,4,FALSE)","v":152.22},{"$f":"VLOOKUP($D240,'C.1 - Rate Sheets'!B:F,5,FALSE)","v":0},null,null,null,null,null,null,null,null,null,null,null,null,null,null,null,null,null,null,null,null,null,null,null,null,null,null,null,null,null,null,null,null,null,null,null,null,null,null,null,null,null,null,null,null,null,null,null,null,null,null,null,null,16,null,null,null,16,null,null,null,null,16,null,null,null,null,16,null,null,null,null,16,null,null,null,null,16,null,null,null,null,16,null,null,null,null,null,null,null,null,null,null,null,null,null,null,null,null,null,null,null,null,null,null,null,null,null,null,null,null,null,null,null,null,null,null,null,null,null,null,null,null,null,null,null,null,null,null,null,null,null,null,null,null,null,null,null,null,null,null,null,null,null,null,null,null,null,null,null,null,0,96,16,null,112,0,11351.039999999999,2435.52,0,13786.56,13786.56,"Yes",0,0,0]
[null,223,"Chris Miller","Apprentice Helper","Vendor No.02",null,"MIFPUC-3","2018-10-21","2018-10-27","Yes",{"$f":"VLOOKUP($D241,'C.1 - Rate Sheets'!B:F,2,FALSE)","v":0},{"$f":"VLOOKUP($D241,'C.1 - Rate Sheets'!B:F,3,FALSE)","v":102.25},{"$f":"VLOOKUP($D241,'C.1 - Rate Sheets'!B:F,4,FALSE)","v":130.74},{"$f":"VLOOKUP($D241,'C.1 - Rate Sheets'!B:F,5,FALSE)","v":0},null,null,null,null,null,null,null,null,null,null,null,null,null,null,null,null,null,null,null,null,null,null,null,null,null,null,null,null,null,null,null,null,null,null,null,null,null,null,null,null,null,null,null,null,null,null,null,null,null,null,null,null,16,null,null,null,16,null,null,null,null,16,null,null,null,null,16,null,null,null,null,16,null,null,null,null,16,null,null,null,null,16,null,null,null,null,null,null,null,null,null,null,null,null,null,null,null,null,null,null,null,null,null,null,null,null,null,null,null,null,null,null,null,null,null,null,null,null,null,null,null,null,null,null,null,null,null,null,null,null,null,null,null,null,null,null,null,null,null,null,null,null,null,null,null,null,null,null,null,null,0,96,16,null,112,0,9816,2091.84,0,11907.84,11907.84,"Yes",0,0,0]
[null,224,"Anthony Quay","Equipment Operator","Vendor No.02",null,"MIFPUC-3","2018-10-21","2018-10-27","Yes",{"$f":"VLOOKUP($D242,'C.1 - Rate Sheets'!B:F,2,FALSE)","v":0},{"$f":"VLOOKUP($D242,'C.1 - Rate Sheets'!B:F,3,FALSE)","v":116.87},{"$f":"VLOOKUP($D242,'C.1 - Rate Sheets'!B:F,4,FALSE)","v":151.13},{"$f":"VLOOKUP($D242,'C.1 - Rate Sheets'!B:F,5,FALSE)","v":0},null,null,null,null,null,null,null,null,null,null,null,null,null,null,null,null,null,null,null,null,null,null,null,null,null,null,null,null,null,null,null,null,null,null,null,null,null,null,null,null,null,null,null,null,null,null,null,null,null,null,null,null,16,null,null,null,16,null,null,null,null,16,null,null,null,null,16,null,null,null,null,16,null,null,null,null,16,null,null,null,null,16,null,null,null,null,null,null,null,null,null,null,null,null,null,null,null,null,null,null,null,null,null,null,null,null,null,null,null,null,null,null,null,null,null,null,null,null,null,null,null,null,null,null,null,null,null,null,null,null,null,null,null,null,null,null,null,null,null,null,null,null,null,null,null,null,null,null,null,null,0,96,16,null,112,0,11219.52,2418.08,0,13637.6,13637.6,"Yes",0,0,0]
[null,225,"Ismael Rivera","Foreman","Vendor No.02",null,"MIFPUC-3","2018-10-21","2018-10-27","Yes",{"$f":"VLOOKUP($D243,'C.1 - Rate Sheets'!B:F,2,FALSE)","v":0},{"$f":"VLOOKUP($D243,'C.1 - Rate Sheets'!B:F,3,FALSE)","v":148.21},{"$f":"VLOOKUP($D243,'C.1 - Rate Sheets'!B:F,4,FALSE)","v":192.19},{"$f":"VLOOKUP($D243,'C.1 - Rate Sheets'!B:F,5,FALSE)","v":0},null,null,null,null,null,null,null,null,null,null,null,null,null,null,null,null,null,null,null,null,null,null,null,null,null,null,null,null,null,null,null,null,null,null,null,null,null,null,null,null,null,null,null,null,null,null,null,null,null,null,null,null,16,null,null,null,16,null,null,null,null,16,null,null,null,null,16,null,null,null,null,16,null,null,null,null,16,null,null,null,null,16,null,null,null,null,null,null,null,null,null,null,null,null,null,null,null,null,null,null,null,null,null,null,null,null,null,null,null,null,null,null,null,null,null,null,null,null,null,null,null,null,null,null,null,null,null,null,null,null,null,null,null,null,null,null,null,null,null,null,null,null,null,null,null,null,null,null,null,null,0,96,16,null,112,0,14228.16,3075.04,0,17303.2,17303.2,"Yes",0,0,0]
[null,226,"Cesar Bello","Senior Lineman/Journeyman Lineman","Vendor No.02",null,"MIFPUC-3","2018-10-21","2018-10-27","Yes",{"$f":"VLOOKUP($D244,'C.1 - Rate Sheets'!B:F,2,FALSE)","v":0},{"$f":"VLOOKUP($D244,'C.1 - Rate Sheets'!B:F,3,FALSE)","v":136.22},{"$f":"VLOOKUP($D244,'C.1 - Rate Sheets'!B:F,4,FALSE)","v":176.19},{"$f":"VLOOKUP($D244,'C.1 - Rate Sheets'!B:F,5,FALSE)","v":0},null,null,null,null,null,null,null,null,null,null,null,null,null,null,null,null,null,null,null,null,null,null,null,null,null,null,null,null,null,null,null,null,null,null,null,null,null,null,null,null,null,null,null,null,null,null,null,null,null,null,null,null,16,null,null,null,16,null,null,null,null,16,null,null,null,null,16,null,null,null,null,16,null,null,null,null,16,null,null,null,null,16,null,null,null,null,null,null,null,null,null,null,null,null,null,null,null,null,null,null,null,null,null,null,null,null,null,null,null,null,null,null,null,null,null,null,null,null,null,null,null,null,null,null,null,null,null,null,null,null,null,null,null,null,null,null,null,null,null,null,null,null,null,null,null,null,null,null,null,null,0,96,16,null,112,0,13077.119999999999,2819.04,0,15896.16,15896.16,"Yes",0,0,0]
[null,227,"Pedro Rico","Senior Lineman/Journeyman Lineman","Vendor No.02",null,"MIFPUC-3","2018-10-21","2018-10-27","Yes",{"$f":"VLOOKUP($D245,'C.1 - Rate Sheets'!B:F,2,FALSE)","v":0},{"$f":"VLOOKUP($D245,'C.1 - Rate Sheets'!B:F,3,FALSE)","v":136.22},{"$f":"VLOOKUP($D245,'C.1 - Rate Sheets'!B:F,4,FALSE)","v":176.19},{"$f":"VLOOKUP($D245,'C.1 - Rate Sheets'!B:F,5,FALSE)","v":0},null,null,null,null,null,null,null,null,null,null,null,null,null,null,null,null,null,null,null,null,null,null,null,null,null,null,null,null,null,null,null,null,null,null,null,null,null,null,null,null,null,null,null,null,null,null,null,null,null,null,null,null,16,null,null,null,16,null,null,null,null,16,null,null,null,null,16,null,null,null,null,16,null,null,null,null,16,null,null,null,null,16,null,null,null,null,null,null,null,null,null,null,null,null,null,null,null,null,null,null,null,null,null,null,null,null,null,null,null,null,null,null,null,null,null,null,null,null,null,null,null,null,null,null,null,null,null,null,null,null,null,null,null,null,null,null,null,null,null,null,null,null,null,null,null,null,null,null,null,null,0,96,16,null,112,0,13077.119999999999,2819.04,0,15896.16,15896.16,"Yes",0,0,0]
[null,228,"Giovanni Febus","Senior Lineman/Journeyman Lineman","Vendor No.02",null,"MIFPUC-3","2018-10-21","2018-10-27","Yes",{"$f":"VLOOKUP($D246,'C.1 - Rate Sheets'!B:F,2,FALSE)","v":0},{"$f":"VLOOKUP($D246,'C.1 - Rate Sheets'!B:F,3,FALSE)","v":136.22},{"$f":"VLOOKUP($D246,'C.1 - Rate Sheets'!B:F,4,FALSE)","v":176.19},{"$f":"VLOOKUP($D246,'C.1 - Rate Sheets'!B:F,5,FALSE)","v":0},null,null,null,null,null,null,null,null,null,null,null,null,null,null,null,null,null,null,null,null,null,null,null,null,null,null,null,null,null,null,null,null,null,null,null,null,null,null,null,null,null,null,null,null,null,null,null,null,null,null,null,null,16,null,null,null,16,null,null,null,null,16,null,null,null,null,16,null,null,null,null,16,null,null,null,null,16,null,null,null,null,16,null,null,null,null,null,null,null,null,null,null,null,null,null,null,null,null,null,null,null,null,null,null,null,null,null,null,null,null,null,null,null,null,null,null,null,null,null,null,null,null,null,null,null,null,null,null,null,null,null,null,null,null,null,null,null,null,null,null,null,null,null,null,null,null,null,null,null,null,0,96,16,null,112,0,13077.119999999999,2819.04,0,15896.16,15896.16,"Yes",0,0,0]
[null,229,"Tanner Lewis","Apprentice Helper","Vendor No.02",null,"MIFPUC-3","2018-10-21","2018-10-27","Yes",{"$f":"VLOOKUP($D247,'C.1 - Rate Sheets'!B:F,2,FALSE)","v":0},{"$f":"VLOOKUP($D247,'C.1 - Rate Sheets'!B:F,3,FALSE)","v":102.25},{"$f":"VLOOKUP($D247,'C.1 - Rate Sheets'!B:F,4,FALSE)","v":130.74},{"$f":"VLOOKUP($D247,'C.1 - Rate Sheets'!B:F,5,FALSE)","v":0},null,null,null,null,null,null,null,null,null,null,null,null,null,null,null,null,null,null,null,null,null,null,null,null,null,null,null,null,null,null,null,null,null,null,null,null,null,null,null,null,null,null,null,null,null,null,null,null,null,null,null,null,16,null,null,null,16,null,null,null,null,16,null,null,null,null,16,null,null,null,null,16,null,null,null,null,16,null,null,null,null,16,null,null,null,null,null,null,null,null,null,null,null,null,null,null,null,null,null,null,null,null,null,null,null,null,null,null,null,null,null,null,null,null,null,null,null,null,null,null,null,null,null,null,null,null,null,null,null,null,null,null,null,null,null,null,null,null,null,null,null,null,null,null,null,null,null,null,null,null,0,96,16,null,112,0,9816,2091.84,0,11907.84,11907.84,"Yes",0,0,0]
[null,230,"Yeudiel Rivera","Foreman","Vendor No.02",null,"MIFPUC-3","2018-10-21","2018-10-27","Yes",{"$f":"VLOOKUP($D248,'C.1 - Rate Sheets'!B:F,2,FALSE)","v":0},{"$f":"VLOOKUP($D248,'C.1 - Rate Sheets'!B:F,3,FALSE)","v":148.21},{"$f":"VLOOKUP($D248,'C.1 - Rate Sheets'!B:F,4,FALSE)","v":192.19},{"$f":"VLOOKUP($D248,'C.1 - Rate Sheets'!B:F,5,FALSE)","v":0},null,null,null,null,null,null,null,null,null,null,null,null,null,null,null,null,null,null,null,null,null,null,null,null,null,null,null,null,null,null,null,null,null,null,null,null,null,null,null,null,null,null,null,null,null,null,null,null,null,null,null,null,16,null,null,null,16,null,null,null,null,16,null,null,null,null,16,null,null,null,null,16,null,null,null,null,16,null,null,null,null,16,null,null,null,null,null,null,null,null,null,null,null,null,null,null,null,null,null,null,null,null,null,null,null,null,null,null,null,null,null,null,null,null,null,null,null,null,null,null,null,null,null,null,null,null,null,null,null,null,null,null,null,null,null,null,null,null,null,null,null,null,null,null,null,null,null,null,null,null,0,96,16,null,112,0,14228.16,3075.04,0,17303.2,17303.2,"Yes",0,0,0]
[null,231,"Angel Calo","Senior Lineman/Journeyman Lineman","Vendor No.02",null,"MIFPUC-3","2018-10-21","2018-10-27","Yes",{"$f":"VLOOKUP($D249,'C.1 - Rate Sheets'!B:F,2,FALSE)","v":0},{"$f":"VLOOKUP($D249,'C.1 - Rate Sheets'!B:F,3,FALSE)","v":136.22},{"$f":"VLOOKUP($D249,'C.1 - Rate Sheets'!B:F,4,FALSE)","v":176.19},{"$f":"VLOOKUP($D249,'C.1 - Rate Sheets'!B:F,5,FALSE)","v":0},null,null,null,null,null,null,null,null,null,null,null,null,null,null,null,null,null,null,null,null,null,null,null,null,null,null,null,null,null,null,null,null,null,null,null,null,null,null,null,null,null,null,null,null,null,null,null,null,null,null,null,null,16,null,null,null,16,null,null,null,null,16,null,null,null,null,16,null,null,null,null,16,null,null,null,null,16,null,null,null,null,16,null,null,null,null,null,null,null,null,null,null,null,null,null,null,null,null,null,null,null,null,null,null,null,null,null,null,null,null,null,null,null,null,null,null,null,null,null,null,null,null,null,null,null,null,null,null,null,null,null,null,null,null,null,null,null,null,null,null,null,null,null,null,null,null,null,null,null,null,0,96,16,null,112,0,13077.119999999999,2819.04,0,15896.16,15896.16,"Yes",0,0,0]
[null,232,"Jose Clinton","Senior Lineman/Journeyman Lineman","Vendor No.02",null,"MIFPUC-3","2018-10-21","2018-10-27","Yes",{"$f":"VLOOKUP($D250,'C.1 - Rate Sheets'!B:F,2,FALSE)","v":0},{"$f":"VLOOKUP($D250,'C.1 - Rate Sheets'!B:F,3,FALSE)","v":136.22},{"$f":"VLOOKUP($D250,'C.1 - Rate Sheets'!B:F,4,FALSE)","v":176.19},{"$f":"VLOOKUP($D250,'C.1 - Rate Sheets'!B:F,5,FALSE)","v":0},null,null,null,null,null,null,null,null,null,null,null,null,null,null,null,null,null,null,null,null,null,null,null,null,null,null,null,null,null,null,null,null,null,null,null,null,null,null,null,null,null,null,null,null,null,null,null,null,null,null,null,null,16,null,null,null,16,null,null,null,null,16,null,null,null,null,16,null,null,null,null,16,null,null,null,null,16,null,null,null,null,16,null,null,null,null,null,null,null,null,null,null,null,null,null,null,null,null,null,null,null,null,null,null,null,null,null,null,null,null,null,null,null,null,null,null,null,null,null,null,null,null,null,null,null,null,null,null,null,null,null,null,null,null,null,null,null,null,null,null,null,null,null,null,null,null,null,null,null,null,0,96,16,null,112,0,13077.119999999999,2819.04,0,15896.16,15896.16,"Yes",0,0,0]
[null,233,"Joseph Febus","Groundman","Vendor No.02",null,"MIFPUC-3","2018-10-21","2018-10-27","Yes",{"$f":"VLOOKUP($D251,'C.1 - Rate Sheets'!B:F,2,FALSE)","v":0},{"$f":"VLOOKUP($D251,'C.1 - Rate Sheets'!B:F,3,FALSE)","v":99.27},{"$f":"VLOOKUP($D251,'C.1 - Rate Sheets'!B:F,4,FALSE)","v":117.21},{"$f":"VLOOKUP($D251,'C.1 - Rate Sheets'!B:F,5,FALSE)","v":0},null,null,null,null,null,null,null,null,null,null,null,null,null,null,null,null,null,null,null,null,null,null,null,null,null,null,null,null,null,null,null,null,null,null,null,null,null,null,null,null,null,null,null,null,null,null,null,null,null,null,null,null,16,null,null,null,16,null,null,null,null,16,null,null,null,null,16,null,null,null,null,16,null,null,null,null,16,null,null,null,null,16,null,null,null,null,null,null,null,null,null,null,null,null,null,null,null,null,null,null,null,null,null,null,null,null,null,null,null,null,null,null,null,null,null,null,null,null,null,null,null,null,null,null,null,null,null,null,null,null,null,null,null,null,null,null,null,null,null,null,null,null,null,null,null,null,null,null,null,null,0,96,16,null,112,0,9529.92,1875.36,0,11405.28,11405.28,"Yes",0,0,0]
[null,234,"Scotty Hogan","Equipment Operator","Vendor No.02",null,"MIFPUC-3","2018-10-21","2018-10-27","Yes",{"$f":"VLOOKUP($D252,'C.1 - Rate Sheets'!B:F,2,FALSE)","v":0},{"$f":"VLOOKUP($D252,'C.1 - Rate Sheets'!B:F,3,FALSE)","v":116.87},{"$f":"VLOOKUP($D252,'C.1 - Rate Sheets'!B:F,4,FALSE)","v":151.13},{"$f":"VLOOKUP($D252,'C.1 - Rate Sheets'!B:F,5,FALSE)","v":0},null,null,null,null,null,null,null,null,null,null,null,null,null,null,null,null,null,null,null,null,null,null,null,null,null,null,null,null,null,null,null,null,null,null,null,null,null,null,null,null,null,null,null,null,null,null,null,null,null,null,null,null,16,null,null,null,16,null,null,null,null,16,null,null,null,null,16,null,null,null,null,16,null,null,null,null,16,null,null,null,null,16,null,null,null,null,null,null,null,null,null,null,null,null,null,null,null,null,null,null,null,null,null,null,null,null,null,null,null,null,null,null,null,null,null,null,null,null,null,null,null,null,null,null,null,null,null,null,null,null,null,null,null,null,null,null,null,null,null,null,null,null,null,null,null,null,null,null,null,null,0,96,16,null,112,0,11219.52,2418.08,0,13637.6,13637.6,"Yes",0,0,0]
[null,235,"John Davis","Foreman","Vendor No.02",null,"MIFPUC-3","2018-10-21","2018-10-27","Yes",{"$f":"VLOOKUP($D253,'C.1 - Rate Sheets'!B:F,2,FALSE)","v":0},{"$f":"VLOOKUP($D253,'C.1 - Rate Sheets'!B:F,3,FALSE)","v":148.21},{"$f":"VLOOKUP($D253,'C.1 - Rate Sheets'!B:F,4,FALSE)","v":192.19},{"$f":"VLOOKUP($D253,'C.1 - Rate Sheets'!B:F,5,FALSE)","v":0},null,null,null,null,null,null,null,null,null,null,null,null,null,null,null,null,null,null,null,null,null,null,null,null,null,null,null,null,null,null,null,null,null,null,null,null,null,null,null,null,null,null,null,null,null,null,null,null,null,null,null,null,16,null,null,null,16,null,null,null,null,16,null,null,null,null,16,null,null,null,null,16,null,null,null,null,16,null,null,null,null,16,null,null,null,null,null,null,null,null,null,null,null,null,null,null,null,null,null,null,null,null,null,null,null,null,null,null,null,null,null,null,null,null,null,null,null,null,null,null,null,null,null,null,null,null,null,null,null,null,null,null,null,null,null,null,null,null,null,null,null,null,null,null,null,null,null,null,null,null,0,96,16,null,112,0,14228.16,3075.04,0,17303.2,17303.2,"Yes",0,0,0]
[null,236,"Matthew Breiling","Senior Lineman/Journeyman Lineman","Vendor No.02",null,"MIFPUC-3","2018-10-21","2018-10-27","Yes",{"$f":"VLOOKUP($D254,'C.1 - Rate Sheets'!B:F,2,FALSE)","v":0},{"$f":"VLOOKUP($D254,'C.1 - Rate Sheets'!B:F,3,FALSE)","v":136.22},{"$f":"VLOOKUP($D254,'C.1 - Rate Sheets'!B:F,4,FALSE)","v":176.19},{"$f":"VLOOKUP($D254,'C.1 - Rate Sheets'!B:F,5,FALSE)","v":0},null,null,null,null,null,null,null,null,null,null,null,null,null,null,null,null,null,null,null,null,null,null,null,null,null,null,null,null,null,null,null,null,null,null,null,null,null,null,null,null,null,null,null,null,null,null,null,null,null,null,null,null,16,null,null,null,16,null,null,null,null,16,null,null,null,null,16,null,null,null,null,16,null,null,null,null,16,null,null,null,null,16,null,null,null,null,null,null,null,null,null,null,null,null,null,null,null,null,null,null,null,null,null,null,null,null,null,null,null,null,null,null,null,null,null,null,null,null,null,null,null,null,null,null,null,null,null,null,null,null,null,null,null,null,null,null,null,null,null,null,null,null,null,null,null,null,null,null,null,null,0,96,16,null,112,0,13077.119999999999,2819.04,0,15896.16,15896.16,"Yes",0,0,0]
[null,237,"Michael Donnellan","Groundman","Vendor No.02",null,"MIFPUC-3","2018-10-21","2018-10-27","Yes",{"$f":"VLOOKUP($D255,'C.1 - Rate Sheets'!B:F,2,FALSE)","v":0},{"$f":"VLOOKUP($D255,'C.1 - Rate Sheets'!B:F,3,FALSE)","v":99.27},{"$f":"VLOOKUP($D255,'C.1 - Rate Sheets'!B:F,4,FALSE)","v":117.21},{"$f":"VLOOKUP($D255,'C.1 - Rate Sheets'!B:F,5,FALSE)","v":0},null,null,null,null,null,null,null,null,null,null,null,null,null,null,null,null,null,null,null,null,null,null,null,null,null,null,null,null,null,null,null,null,null,null,null,null,null,null,null,null,null,null,null,null,null,null,null,null,null,null,null,null,16,null,null,null,16,null,null,null,null,16,null,null,null,null,16,null,null,null,null,16,null,null,null,null,16,null,null,null,null,16,null,null,null,null,null,null,null,null,null,null,null,null,null,null,null,null,null,null,null,null,null,null,null,null,null,null,null,null,null,null,null,null,null,null,null,null,null,null,null,null,null,null,null,null,null,null,null,null,null,null,null,null,null,null,null,null,null,null,null,null,null,null,null,null,null,null,null,null,0,96,16,null,112,0,9529.92,1875.36,0,11405.28,11405.28,"Yes",0,0,0]
[null,238,"Emanuel Gonzalez","Senior Lineman/Journeyman Lineman","Vendor No.02",null,"MIFPUC-3","2018-10-21","2018-10-27","Yes",{"$f":"VLOOKUP($D256,'C.1 - Rate Sheets'!B:F,2,FALSE)","v":0},{"$f":"VLOOKUP($D256,'C.1 - Rate Sheets'!B:F,3,FALSE)","v":136.22},{"$f":"VLOOKUP($D256,'C.1 - Rate Sheets'!B:F,4,FALSE)","v":176.19},{"$f":"VLOOKUP($D256,'C.1 - Rate Sheets'!B:F,5,FALSE)","v":0},null,null,null,null,null,null,null,null,null,null,null,null,null,null,null,null,null,null,null,null,null,null,null,null,null,null,null,null,null,null,null,null,null,null,null,null,null,null,null,null,null,null,null,null,null,null,null,null,null,null,null,null,16,null,null,null,16,null,null,null,null,16,null,null,null,null,16,null,null,null,null,16,null,null,null,null,16,null,null,null,null,16,null,null,null,null,null,null,null,null,null,null,null,null,null,null,null,null,null,null,null,null,null,null,null,null,null,null,null,null,null,null,null,null,null,null,null,null,null,null,null,null,null,null,null,null,null,null,null,null,null,null,null,null,null,null,null,null,null,null,null,null,null,null,null,null,null,null,null,null,0,96,16,null,112,0,13077.119999999999,2819.04,0,15896.16,15896.16,"Yes",0,0,0]
[null,239,"Bobby Bahrami","Senior Lineman/Journeyman Lineman","Vendor No.02",null,"MIFPUC-3","2018-10-21","2018-10-27","Yes",{"$f":"VLOOKUP($D257,'C.1 - Rate Sheets'!B:F,2,FALSE)","v":0},{"$f":"VLOOKUP($D257,'C.1 - Rate Sheets'!B:F,3,FALSE)","v":136.22},{"$f":"VLOOKUP($D257,'C.1 - Rate Sheets'!B:F,4,FALSE)","v":176.19},{"$f":"VLOOKUP($D257,'C.1 - Rate Sheets'!B:F,5,FALSE)","v":0},null,null,null,null,null,null,null,null,null,null,null,null,null,null,null,null,null,null,null,null,null,null,null,null,null,null,null,null,null,null,null,null,null,null,null,null,null,null,null,null,null,null,null,null,null,null,null,null,null,null,null,null,16,null,null,null,16,null,null,null,null,16,null,null,null,null,16,null,null,null,null,16,null,null,null,null,16,null,null,null,null,16,null,null,null,null,null,null,null,null,null,null,null,null,null,null,null,null,null,null,null,null,null,null,null,null,null,null,null,null,null,null,null,null,null,null,null,null,null,null,null,null,null,null,null,null,null,null,null,null,null,null,null,null,null,null,null,null,null,null,null,null,null,null,null,null,null,null,null,null,0,96,16,null,112,0,13077.119999999999,2819.04,0,15896.16,15896.16,"Yes",0,0,0]
[null,240,"Mark Monaboe","Apprentice Helper","Vendor No.02",null,"MIFPUC-3","2018-10-21","2018-10-27","Yes",{"$f":"VLOOKUP($D258,'C.1 - Rate Sheets'!B:F,2,FALSE)","v":0},{"$f":"VLOOKUP($D258,'C.1 - Rate Sheets'!B:F,3,FALSE)","v":102.25},{"$f":"VLOOKUP($D258,'C.1 - Rate Sheets'!B:F,4,FALSE)","v":130.74},{"$f":"VLOOKUP($D258,'C.1 - Rate Sheets'!B:F,5,FALSE)","v":0},null,null,null,null,null,null,null,null,null,null,null,null,null,null,null,null,null,null,null,null,null,null,null,null,null,null,null,null,null,null,null,null,null,null,null,null,null,null,null,null,null,null,null,null,null,null,null,null,null,null,null,null,16,null,null,null,16,null,null,null,null,16,null,null,null,null,16,null,null,null,null,16,null,null,null,null,16,null,null,null,null,16,null,null,null,null,null,null,null,null,null,null,null,null,null,null,null,null,null,null,null,null,null,null,null,null,null,null,null,null,null,null,null,null,null,null,null,null,null,null,null,null,null,null,null,null,null,null,null,null,null,null,null,null,null,null,null,null,null,null,null,null,null,null,null,null,null,null,null,null,0,96,16,null,112,0,9816,2091.84,0,11907.84,11907.84,"Yes",0,0,0]
[null,241,"James Pinson","Foreman","Vendor No.02",null,"MIFPUC-3","2018-10-21","2018-10-27","Yes",{"$f":"VLOOKUP($D259,'C.1 - Rate Sheets'!B:F,2,FALSE)","v":0},{"$f":"VLOOKUP($D259,'C.1 - Rate Sheets'!B:F,3,FALSE)","v":148.21},{"$f":"VLOOKUP($D259,'C.1 - Rate Sheets'!B:F,4,FALSE)","v":192.19},{"$f":"VLOOKUP($D259,'C.1 - Rate Sheets'!B:F,5,FALSE)","v":0},null,null,null,null,null,null,null,null,null,null,null,null,null,null,null,null,null,null,null,null,null,null,null,null,null,null,null,null,null,null,null,null,null,null,null,null,null,null,null,null,null,null,null,null,null,null,null,null,null,null,null,null,16,null,null,null,16,null,null,null,null,16,null,null,null,null,16,null,null,null,null,16,null,null,null,null,16,null,null,null,null,16,null,null,null,null,null,null,null,null,null,null,null,null,null,null,null,null,null,null,null,null,null,null,null,null,null,null,null,null,null,null,null,null,null,null,null,null,null,null,null,null,null,null,null,null,null,null,null,null,null,null,null,null,null,null,null,null,null,null,null,null,null,null,null,null,null,null,null,null,0,96,16,null,112,0,14228.16,3075.04,0,17303.2,17303.2,"Yes",0,0,0]
[null,242,"Jorge Sotolongo","Groundman","Vendor No.02",null,"MIFPUC-3","2018-10-21","2018-10-27","Yes",{"$f":"VLOOKUP($D260,'C.1 - Rate Sheets'!B:F,2,FALSE)","v":0},{"$f":"VLOOKUP($D260,'C.1 - Rate Sheets'!B:F,3,FALSE)","v":99.27},{"$f":"VLOOKUP($D260,'C.1 - Rate Sheets'!B:F,4,FALSE)","v":117.21},{"$f":"VLOOKUP($D260,'C.1 - Rate Sheets'!B:F,5,FALSE)","v":0},null,null,null,null,null,null,null,null,null,null,null,null,null,null,null,null,null,null,null,null,null,null,null,null,null,null,null,null,null,null,null,null,null,null,null,null,null,null,null,null,null,null,null,null,null,null,null,null,null,null,null,null,16,null,null,null,16,null,null,null,null,16,null,null,null,null,16,null,null,null,null,16,null,null,null,null,16,null,null,null,null,16,null,null,null,null,null,null,null,null,null,null,null,null,null,null,null,null,null,null,null,null,null,null,null,null,null,null,null,null,null,null,null,null,null,null,null,null,null,null,null,null,null,null,null,null,null,null,null,null,null,null,null,null,null,null,null,null,null,null,null,null,null,null,null,null,null,null,null,null,0,96,16,null,112,0,9529.92,1875.36,0,11405.28,11405.28,"Yes",0,0,0]
[null,243,"Alex Herrnandez","Senior Lineman/Journeyman Lineman","Vendor No.02",null,"MIFPUC-3","2018-10-21","2018-10-27","Yes",{"$f":"VLOOKUP($D261,'C.1 - Rate Sheets'!B:F,2,FALSE)","v":0},{"$f":"VLOOKUP($D261,'C.1 - Rate Sheets'!B:F,3,FALSE)","v":136.22},{"$f":"VLOOKUP($D261,'C.1 - Rate Sheets'!B:F,4,FALSE)","v":176.19},{"$f":"VLOOKUP($D261,'C.1 - Rate Sheets'!B:F,5,FALSE)","v":0},null,null,null,null,null,null,null,null,null,null,null,null,null,null,null,null,null,null,null,null,null,null,null,null,null,null,null,null,null,null,null,null,null,null,null,null,null,null,null,null,null,null,null,null,null,null,null,null,null,null,null,null,16,null,null,null,16,null,null,null,null,16,null,null,null,null,16,null,null,null,null,16,null,null,null,null,16,null,null,null,null,16,null,null,null,null,null,null,null,null,null,null,null,null,null,null,null,null,null,null,null,null,null,null,null,null,null,null,null,null,null,null,null,null,null,null,null,null,null,null,null,null,null,null,null,null,null,null,null,null,null,null,null,null,null,null,null,null,null,null,null,null,null,null,null,null,null,null,null,null,0,96,16,null,112,0,13077.119999999999,2819.04,0,15896.16,15896.16,"Yes",0,0,0]
[null,244,"Garrett McDonald","Groundman","Vendor No.02",null,"MIFPUC-3","2018-10-21","2018-10-27","Yes",{"$f":"VLOOKUP($D262,'C.1 - Rate Sheets'!B:F,2,FALSE)","v":0},{"$f":"VLOOKUP($D262,'C.1 - Rate Sheets'!B:F,3,FALSE)","v":99.27},{"$f":"VLOOKUP($D262,'C.1 - Rate Sheets'!B:F,4,FALSE)","v":117.21},{"$f":"VLOOKUP($D262,'C.1 - Rate Sheets'!B:F,5,FALSE)","v":0},null,null,null,null,null,null,null,null,null,null,null,null,null,null,null,null,null,null,null,null,null,null,null,null,null,null,null,null,null,null,null,null,null,null,null,null,null,null,null,null,null,null,null,null,null,null,null,null,null,null,null,null,16,null,null,null,16,null,null,null,null,16,null,null,null,null,16,null,null,null,null,16,null,null,null,null,16,null,null,null,null,16,null,null,null,null,null,null,null,null,null,null,null,null,null,null,null,null,null,null,null,null,null,null,null,null,null,null,null,null,null,null,null,null,null,null,null,null,null,null,null,null,null,null,null,null,null,null,null,null,null,null,null,null,null,null,null,null,null,null,null,null,null,null,null,null,null,null,null,null,0,96,16,null,112,0,9529.92,1875.36,0,11405.28,11405.28,"Yes",0,0,0]
[null,245,"Joel Molina","Senior Lineman/Journeyman Lineman","Vendor No.02",null,"MIFPUC-3","2018-10-21","2018-10-27","Yes",{"$f":"VLOOKUP($D263,'C.1 - Rate Sheets'!B:F,2,FALSE)","v":0},{"$f":"VLOOKUP($D263,'C.1 - Rate Sheets'!B:F,3,FALSE)","v":136.22},{"$f":"VLOOKUP($D263,'C.1 - Rate Sheets'!B:F,4,FALSE)","v":176.19},{"$f":"VLOOKUP($D263,'C.1 - Rate Sheets'!B:F,5,FALSE)","v":0},null,null,null,null,null,null,null,null,null,null,null,null,null,null,null,null,null,null,null,null,null,null,null,null,null,null,null,null,null,null,null,null,null,null,null,null,null,null,null,null,null,null,null,null,null,null,null,null,null,null,null,null,16,null,null,null,16,null,null,null,null,16,null,null,null,null,16,null,null,null,null,16,null,null,null,null,16,null,null,null,null,16,null,null,null,null,null,null,null,null,null,null,null,null,null,null,null,null,null,null,null,null,null,null,null,null,null,null,null,null,null,null,null,null,null,null,null,null,null,null,null,null,null,null,null,null,null,null,null,null,null,null,null,null,null,null,null,null,null,null,null,null,null,null,null,null,null,null,null,null,0,96,16,null,112,0,13077.119999999999,2819.04,0,15896.16,15896.16,"Yes",0,0,0]
[null,246,"Vincent Miller","Apprentice Helper","Vendor No.02",null,"MIFPUC-3","2018-10-21","2018-10-27","Yes",{"$f":"VLOOKUP($D264,'C.1 - Rate Sheets'!B:F,2,FALSE)","v":0},{"$f":"VLOOKUP($D264,'C.1 - Rate Sheets'!B:F,3,FALSE)","v":102.25},{"$f":"VLOOKUP($D264,'C.1 - Rate Sheets'!B:F,4,FALSE)","v":130.74},{"$f":"VLOOKUP($D264,'C.1 - Rate Sheets'!B:F,5,FALSE)","v":0},null,null,null,null,null,null,null,null,null,null,null,null,null,null,null,null,null,null,null,null,null,null,null,null,null,null,null,null,null,null,null,null,null,null,null,null,null,null,null,null,null,null,null,null,null,null,null,null,null,null,null,null,16,null,null,null,16,null,null,null,null,16,null,null,null,null,null,null,null,null,null,null,null,null,null,null,null,null,null,null,null,null,null,null,null,null,null,null,null,null,null,null,null,null,null,null,null,null,null,null,null,null,null,null,null,null,null,null,null,null,null,null,null,null,null,null,null,null,null,null,null,null,null,null,null,null,null,null,null,null,null,null,null,null,null,null,null,null,null,null,null,null,null,null,null,null,null,null,null,null,0,32,16,null,48,0,3272,2091.84,0,5363.84,5363.84,"Yes",0,0,0]
[null,247,"Shannon Williams","Equipment Operator","Vendor No.02",null,"MIFPUC-3","2018-10-21","2018-10-27","Yes",{"$f":"VLOOKUP($D265,'C.1 - Rate Sheets'!B:F,2,FALSE)","v":0},{"$f":"VLOOKUP($D265,'C.1 - Rate Sheets'!B:F,3,FALSE)","v":116.87},{"$f":"VLOOKUP($D265,'C.1 - Rate Sheets'!B:F,4,FALSE)","v":151.13},{"$f":"VLOOKUP($D265,'C.1 - Rate Sheets'!B:F,5,FALSE)","v":0},null,null,null,null,null,null,null,null,null,null,null,null,null,null,null,null,null,null,null,null,null,null,null,null,null,null,null,null,null,null,null,null,null,null,null,null,null,null,null,null,null,null,null,null,null,null,null,null,null,null,null,null,16,null,null,null,16,null,null,null,null,16,null,null,null,null,16,null,null,null,null,16,null,null,null,null,16,null,null,null,null,16,null,null,null,null,null,null,null,null,null,null,null,null,null,null,null,null,null,null,null,null,null,null,null,null,null,null,null,null,null,null,null,null,null,null,null,null,null,null,null,null,null,null,null,null,null,null,null,null,null,null,null,null,null,null,null,null,null,null,null,null,null,null,null,null,null,null,null,null,0,96,16,null,112,0,11219.52,2418.08,0,13637.6,13637.6,"Yes",0,0,0]
[null,248,"Lino Carreras","Equipment Operator","Vendor No.02",null,"MIFPUC-3","2018-10-21","2018-10-27","Yes",{"$f":"VLOOKUP($D266,'C.1 - Rate Sheets'!B:F,2,FALSE)","v":0},{"$f":"VLOOKUP($D266,'C.1 - Rate Sheets'!B:F,3,FALSE)","v":116.87},{"$f":"VLOOKUP($D266,'C.1 - Rate Sheets'!B:F,4,FALSE)","v":151.13},{"$f":"VLOOKUP($D266,'C.1 - Rate Sheets'!B:F,5,FALSE)","v":0},null,null,null,null,null,null,null,null,null,null,null,null,null,null,null,null,null,null,null,null,null,null,null,null,null,null,null,null,null,null,null,null,null,null,null,null,null,null,null,null,null,null,null,null,null,null,null,null,null,null,null,null,16,null,null,null,16,null,null,null,null,16,null,null,null,null,16,null,null,null,null,16,null,null,null,null,16,null,null,null,null,16,null,null,null,null,null,null,null,null,null,null,null,null,null,null,null,null,null,null,null,null,null,null,null,null,null,null,null,null,null,null,null,null,null,null,null,null,null,null,null,null,null,null,null,null,null,null,null,null,null,null,null,null,null,null,null,null,null,null,null,null,null,null,null,null,null,null,null,null,0,96,16,null,112,0,11219.52,2418.08,0,13637.6,13637.6,"Yes",0,0,0]
[null,249,"Richard Byrd","Line Tech C","Vendor No.02",null,"MIFPUC-3","2018-10-21","2018-10-27","Yes",{"$f":"VLOOKUP($D267,'C.1 - Rate Sheets'!B:F,2,FALSE)","v":0},{"$f":"VLOOKUP($D267,'C.1 - Rate Sheets'!B:F,3,FALSE)","v":110.51},{"$f":"VLOOKUP($D267,'C.1 - Rate Sheets'!B:F,4,FALSE)","v":136.22999999999999},{"$f":"VLOOKUP($D267,'C.1 - Rate Sheets'!B:F,5,FALSE)","v":0},null,null,null,null,null,null,null,null,null,null,null,null,null,null,null,null,null,null,null,null,null,null,null,null,null,null,null,null,null,null,null,null,null,null,null,null,null,null,null,null,null,null,null,null,null,null,null,null,null,null,null,null,16,null,null,null,16,null,null,null,null,16,null,null,null,null,16,null,null,null,null,16,null,null,null,null,16,null,null,null,null,16,null,null,null,null,null,null,null,null,null,null,null,null,null,null,null,null,null,null,null,null,null,null,null,null,null,null,null,null,null,null,null,null,null,null,null,null,null,null,null,null,null,null,null,null,null,null,null,null,null,null,null,null,null,null,null,null,null,null,null,null,null,null,null,null,null,null,null,null,0,96,16,null,112,0,10608.960000000001,2179.6799999999998,0,12788.640000000001,12788.640000000001,"Yes",0,0,0]
[null,250,"Zeb Mondrella","Senior Lineman/Journeyman Lineman","Vendor No.02",null,"MIFPUC-3","2018-10-21","2018-10-27","Yes",{"$f":"VLOOKUP($D268,'C.1 - Rate Sheets'!B:F,2,FALSE)","v":0},{"$f":"VLOOKUP($D268,'C.1 - Rate Sheets'!B:F,3,FALSE)","v":136.22},{"$f":"VLOOKUP($D268,'C.1 - Rate Sheets'!B:F,4,FALSE)","v":176.19},{"$f":"VLOOKUP($D268,'C.1 - Rate Sheets'!B:F,5,FALSE)","v":0},null,null,null,null,null,null,null,null,null,null,null,null,null,null,null,null,null,null,null,null,null,null,null,null,null,null,null,null,null,null,null,null,null,null,null,null,null,null,null,null,null,null,null,null,null,null,null,null,null,null,null,null,16,null,null,null,16,null,null,null,null,16,null,null,null,null,16,null,null,null,null,16,null,null,null,null,16,null,null,null,null,16,null,null,null,null,null,null,null,null,null,null,null,null,null,null,null,null,null,null,null,null,null,null,null,null,null,null,null,null,null,null,null,null,null,null,null,null,null,null,null,null,null,null,null,null,null,null,null,null,null,null,null,null,null,null,null,null,null,null,null,null,null,null,null,null,null,null,null,null,0,96,16,null,112,0,13077.119999999999,2819.04,0,15896.16,15896.16,"Yes",0,0,0]
[null,251,"James Morrel","Senior Lineman/Journeyman Lineman","Vendor No.02",null,"MIFPUC-3","2018-10-21","2018-10-27","Yes",{"$f":"VLOOKUP($D269,'C.1 - Rate Sheets'!B:F,2,FALSE)","v":0},{"$f":"VLOOKUP($D269,'C.1 - Rate Sheets'!B:F,3,FALSE)","v":136.22},{"$f":"VLOOKUP($D269,'C.1 - Rate Sheets'!B:F,4,FALSE)","v":176.19},{"$f":"VLOOKUP($D269,'C.1 - Rate Sheets'!B:F,5,FALSE)","v":0},null,null,null,null,null,null,null,null,null,null,null,null,null,null,null,null,null,null,null,null,null,null,null,null,null,null,null,null,null,null,null,null,null,null,null,null,null,null,null,null,null,null,null,null,null,null,null,null,null,null,null,null,16,null,null,null,16,null,null,null,null,16,null,null,null,null,16,null,null,null,null,16,null,null,null,null,16,null,null,null,null,16,null,null,null,null,null,null,null,null,null,null,null,null,null,null,null,null,null,null,null,null,null,null,null,null,null,null,null,null,null,null,null,null,null,null,null,null,null,null,null,null,null,null,null,null,null,null,null,null,null,null,null,null,null,null,null,null,null,null,null,null,null,null,null,null,null,null,null,null,{"$f":"FD269+EY269+ET269+EO269+EJ269+EE269+DZ269+DU269+DP269+DK269+DF269+DA269+CV269+CQ269+CL269+CG269+CB269+BW269+BR269+BM269+BH269+BC269+AX269+AS269+AN269+AI269+AD269+Y269+T269+O269","v":0},{"$f":"FE269+EZ269+EU269+EP269+EK269+EF269+EA269+DV269+DQ269+DL269+DG269+DB269+CW269+CR269+CM269+CH269+CC269+BX269+BS269+BN269+BI269+BD269+AY269+AT269+AO269+AJ269+AE269+Z269+U269+P269","v":96},{"$f":"FF269+FA269+EV269+EQ269+EL269+EG269+EB269+DW269+DR269+DM269+DH269+DC269+CX269+CS269+CN269+CI269+CD269+BY269+BT269+BO269+BJ269+BE269+AZ269+AU269+AP269+AK269+AF269+AA269+V269+Q269","v":16},null,112,0,13077.119999999999,2819.04,0,15896.16,15896.16,"Yes",0,0,0]
[null,252,"Gregory Race","Line Tech C","Vendor No.02",null,"MIFPUC-3","2018-10-21","2018-10-27","Yes",{"$f":"VLOOKUP($D270,'C.1 - Rate Sheets'!B:F,2,FALSE)","v":0},{"$f":"VLOOKUP($D270,'C.1 - Rate Sheets'!B:F,3,FALSE)","v":110.51},{"$f":"VLOOKUP($D270,'C.1 - Rate Sheets'!B:F,4,FALSE)","v":136.22999999999999},{"$f":"VLOOKUP($D270,'C.1 - Rate Sheets'!B:F,5,FALSE)","v":0},null,null,null,null,null,null,null,null,null,null,null,null,null,null,null,null,null,null,null,null,null,null,null,null,null,null,null,null,null,null,null,null,null,null,null,null,null,null,null,null,null,null,null,null,null,null,null,null,null,null,null,null,16,null,null,null,16,null,null,null,null,16,null,null,null,null,16,null,null,null,null,16,null,null,null,null,16,null,null,null,null,16,null,null,null,null,null,null,null,null,null,null,null,null,null,null,null,null,null,null,null,null,null,null,null,null,null,null,null,null,null,null,null,null,null,null,null,null,null,null,null,null,null,null,null,null,null,null,null,null,null,null,null,null,null,null,null,null,null,null,null,null,null,null,null,null,null,null,null,null,0,96,16,null,112,0,10608.960000000001,2179.6799999999998,0,12788.640000000001,12788.640000000001,"Yes",0,0,0]
[null,253,"Neil Springman","Mechanic","Vendor No.02",null,"MIFPUC-3","2018-10-21","2018-10-27","Yes",{"$f":"VLOOKUP($D271,'C.1 - Rate Sheets'!B:F,2,FALSE)","v":0},{"$f":"VLOOKUP($D271,'C.1 - Rate Sheets'!B:F,3,FALSE)","v":116.87},{"$f":"VLOOKUP($D271,'C.1 - Rate Sheets'!B:F,4,FALSE)","v":151.13},{"$f":"VLOOKUP($D271,'C.1 - Rate Sheets'!B:F,5,FALSE)","v":0},null,null,null,null,null,null,null,null,null,null,null,null,null,null,null,null,null,null,null,null,null,null,null,null,null,null,null,null,null,null,null,null,null,null,null,null,null,null,null,null,null,null,null,null,null,null,null,null,null,null,null,null,16,null,null,null,16,null,null,null,null,16,null,null,null,null,16,null,null,null,null,16,null,null,null,null,16,null,null,null,null,16,null,null,null,null,null,null,null,null,null,null,null,null,null,null,null,null,null,null,null,null,null,null,null,null,null,null,null,null,null,null,null,null,null,null,null,null,null,null,null,null,null,null,null,null,null,null,null,null,null,null,null,null,null,null,null,null,null,null,null,null,null,null,null,null,null,null,null,null,0,96,16,null,112,0,11219.52,2418.08,0,13637.6,13637.6,"Yes",0,0,0]
[null,254,"Ron Roush","General Foreman","Vendor No.02",null,"MIFPUC-3","2018-10-21","2018-10-27","Yes",{"$f":"VLOOKUP($D272,'C.1 - Rate Sheets'!B:F,2,FALSE)","v":0},{"$f":"VLOOKUP($D272,'C.1 - Rate Sheets'!B:F,3,FALSE)","v":160.21},{"$f":"VLOOKUP($D272,'C.1 - Rate Sheets'!B:F,4,FALSE)","v":208.18},{"$f":"VLOOKUP($D272,'C.1 - Rate Sheets'!B:F,5,FALSE)","v":0},null,null,null,null,null,null,null,null,null,null,null,null,null,null,null,null,null,null,null,null,null,null,null,null,null,null,null,null,null,null,null,null,null,null,null,null,null,null,null,null,null,null,null,null,null,null,null,null,null,null,null,null,16,null,null,null,16,null,null,null,null,16,null,null,null,null,16,null,null,null,null,16,null,null,null,null,16,null,null,null,null,16,null,null,null,null,null,null,null,null,null,null,null,null,null,null,null,null,null,null,null,null,null,null,null,null,null,null,null,null,null,null,null,null,null,null,null,null,null,null,null,null,null,null,null,null,null,null,null,null,null,null,null,null,null,null,null,null,null,null,null,null,null,null,null,null,null,null,null,null,0,96,16,null,112,0,15380.16,3330.88,0,18711.04,18711.04,"Yes",0,0,0]
[null,255,"Ryan Timms","Foreman","Vendor No.02",null,"MIFPUC-3","2018-10-21","2018-10-27","Yes",{"$f":"VLOOKUP($D273,'C.1 - Rate Sheets'!B:F,2,FALSE)","v":0},{"$f":"VLOOKUP($D273,'C.1 - Rate Sheets'!B:F,3,FALSE)","v":148.21},{"$f":"VLOOKUP($D273,'C.1 - Rate Sheets'!B:F,4,FALSE)","v":192.19},{"$f":"VLOOKUP($D273,'C.1 - Rate Sheets'!B:F,5,FALSE)","v":0},null,null,null,null,null,null,null,null,null,null,null,null,null,null,null,null,null,null,null,null,null,null,null,null,null,null,null,null,null,null,null,null,null,null,null,null,null,null,null,null,null,null,null,null,null,null,null,null,null,null,null,null,16,null,null,null,16,null,null,null,null,16,null,null,null,null,16,null,null,null,null,16,null,null,null,null,16,null,null,null,null,16,null,null,null,null,null,null,null,null,null,null,null,null,null,null,null,null,null,null,null,null,null,null,null,null,null,null,null,null,null,null,null,null,null,null,null,null,null,null,null,null,null,null,null,null,null,null,null,null,null,null,null,null,null,null,null,null,null,null,null,null,null,null,null,null,null,null,null,null,0,96,16,null,112,0,14228.16,3075.04,0,17303.2,17303.2,"Yes",0,0,0]
[null,256,"Aaron Mays","Senior Lineman/Journeyman Lineman","Vendor No.02",null,"MIFPUC-3","2018-10-21","2018-10-27","Yes",{"$f":"VLOOKUP($D274,'C.1 - Rate Sheets'!B:F,2,FALSE)","v":0},{"$f":"VLOOKUP($D274,'C.1 - Rate Sheets'!B:F,3,FALSE)","v":136.22},{"$f":"VLOOKUP($D274,'C.1 - Rate Sheets'!B:F,4,FALSE)","v":176.19},{"$f":"VLOOKUP($D274,'C.1 - Rate Sheets'!B:F,5,FALSE)","v":0},null,null,null,null,null,null,null,null,null,null,null,null,null,null,null,null,null,null,null,null,null,null,null,null,null,null,null,null,null,null,null,null,null,null,null,null,null,null,null,null,null,null,null,null,null,null,null,null,null,null,null,null,16,null,null,null,16,null,null,null,null,16,null,null,null,null,16,null,null,null,null,16,null,null,null,null,16,null,null,null,null,16,null,null,null,null,null,null,null,null,null,null,null,null,null,null,null,null,null,null,null,null,null,null,null,null,null,null,null,null,null,null,null,null,null,null,null,null,null,null,null,null,null,null,null,null,null,null,null,null,null,null,null,null,null,null,null,null,null,null,null,null,null,null,null,null,null,null,null,null,0,96,16,null,112,0,13077.119999999999,2819.04,0,15896.16,15896.16,"Yes",0,0,0]
[null,257,"Keith Kiphard","Apprentice Helper","Vendor No.02",null,"MIFPUC-3","2018-10-21","2018-10-27","Yes",{"$f":"VLOOKUP($D275,'C.1 - Rate Sheets'!B:F,2,FALSE)","v":0},{"$f":"VLOOKUP($D275,'C.1 - Rate Sheets'!B:F,3,FALSE)","v":102.25},{"$f":"VLOOKUP($D275,'C.1 - Rate Sheets'!B:F,4,FALSE)","v":130.74},{"$f":"VLOOKUP($D275,'C.1 - Rate Sheets'!B:F,5,FALSE)","v":0},null,null,null,null,null,null,null,null,null,null,null,null,null,null,null,null,null,null,null,null,null,null,null,null,null,null,null,null,null,null,null,null,null,null,null,null,null,null,null,null,null,null,null,null,null,null,null,null,null,null,null,null,16,null,null,null,16,null,null,null,null,16,null,null,null,null,16,null,null,null,null,16,null,null,null,null,16,null,null,null,null,16,null,null,null,null,null,null,null,null,null,null,null,null,null,null,null,null,null,null,null,null,null,null,null,null,null,null,null,null,null,null,null,null,null,null,null,null,null,null,null,null,null,null,null,null,null,null,null,null,null,null,null,null,null,null,null,null,null,null,null,null,null,null,null,null,null,null,null,null,0,96,16,null,112,0,9816,2091.84,0,11907.84,11907.84,"Yes",0,0,0]
[null,258,"Evan Bryson","Groundman","Vendor No.02",null,"MIFPUC-3","2018-10-21","2018-10-27","Yes",{"$f":"VLOOKUP($D276,'C.1 - Rate Sheets'!B:F,2,FALSE)","v":0},{"$f":"VLOOKUP($D276,'C.1 - Rate Sheets'!B:F,3,FALSE)","v":99.27},{"$f":"VLOOKUP($D276,'C.1 - Rate Sheets'!B:F,4,FALSE)","v":117.21},{"$f":"VLOOKUP($D276,'C.1 - Rate Sheets'!B:F,5,FALSE)","v":0},null,null,null,null,null,null,null,null,null,null,null,null,null,null,null,null,null,null,null,null,null,null,null,null,null,null,null,null,null,null,null,null,null,null,null,null,null,null,null,null,null,null,null,null,null,null,null,null,null,null,null,null,16,null,null,null,16,null,null,null,null,16,null,null,null,null,16,null,null,null,null,16,null,null,null,null,16,null,null,null,null,16,null,null,null,null,null,null,null,null,null,null,null,null,null,null,null,null,null,null,null,null,null,null,null,null,null,null,null,null,null,null,null,null,null,null,null,null,null,null,null,null,null,null,null,null,null,null,null,null,null,null,null,null,null,null,null,null,null,null,null,null,null,null,null,null,null,null,null,null,0,96,16,null,112,0,9529.92,1875.36,0,11405.28,11405.28,"Yes",0,0,0]
[null,259,"Cory Farris","Foreman","Vendor No.02",null,"MIFPUC-3","2018-10-21","2018-10-27","Yes",{"$f":"VLOOKUP($D277,'C.1 - Rate Sheets'!B:F,2,FALSE)","v":0},{"$f":"VLOOKUP($D277,'C.1 - Rate Sheets'!B:F,3,FALSE)","v":148.21},{"$f":"VLOOKUP($D277,'C.1 - Rate Sheets'!B:F,4,FALSE)","v":192.19},{"$f":"VLOOKUP($D277,'C.1 - Rate Sheets'!B:F,5,FALSE)","v":0},null,null,null,null,null,null,null,null,null,null,null,null,null,null,null,null,null,null,null,null,null,null,null,null,null,null,null,null,null,null,null,null,null,null,null,null,null,null,null,null,null,null,null,null,null,null,null,null,null,null,null,null,null,null,null,null,16,null,null,null,null,16,null,null,null,null,16,null,null,null,null,16,null,null,null,null,null,null,null,null,null,null,null,null,null,null,null,null,null,null,null,null,null,null,null,null,null,null,null,null,null,null,null,null,null,null,null,null,null,null,null,null,null,null,null,null,null,null,null,null,null,null,null,null,null,null,null,null,null,null,null,null,null,null,null,null,null,null,null,null,null,null,null,null,null,null,null,null,null,null,{"$f":"FD277+EY277+ET277+EO277+EJ277+EE277+DZ277+DU277+DP277+DK277+DF277+DA277+CV277+CQ277+CL277+CG277+CB277+BW277+BR277+BM277+BH277+BC277+AX277+AS277+AN277+AI277+AD277+Y277+T277+O277","v":0},{"$f":"FE277+EZ277+EU277+EP277+EK277+EF277+EA277+DV277+DQ277+DL277+DG277+DB277+CW277+CR277+CM277+CH277+CC277+BX277+BS277+BN277+BI277+BD277+AY277+AT277+AO277+AJ277+AE277+Z277+U277+P277","v":64},{"$f":"FF277+FA277+EV277+EQ277+EL277+EG277+EB277+DW277+DR277+DM277+DH277+DC277+CX277+CS277+CN277+CI277+CD277+BY277+BT277+BO277+BJ277+BE277+AZ277+AU277+AP277+AK277+AF277+AA277+V277+Q277","v":0},null,{"$f":"SUM(FI277:FL277)","v":64},{"$f":"FI277*K277","v":0},{"$f":"FJ277*L277","v":9485.44},{"$f":"FK277*M277","v":0},{"$f":"FL277*N277","v":0},{"$f":"SUM(FN277:FQ277)","v":9485.44},{"$f":"FR277-FU277","v":9485.44},"Yes",0,0,0]
[null,260,"Josh Parker","Senior Lineman/Journeyman Lineman","Vendor No.02",null,"MIFPUC-3","2018-10-21","2018-10-27","Yes",{"$f":"VLOOKUP($D278,'C.1 - Rate Sheets'!B:F,2,FALSE)","v":0},{"$f":"VLOOKUP($D278,'C.1 - Rate Sheets'!B:F,3,FALSE)","v":136.22},{"$f":"VLOOKUP($D278,'C.1 - Rate Sheets'!B:F,4,FALSE)","v":176.19},{"$f":"VLOOKUP($D278,'C.1 - Rate Sheets'!B:F,5,FALSE)","v":0},null,null,null,null,null,null,null,null,null,null,null,null,null,null,null,null,null,null,null,null,null,null,null,null,null,null,null,null,null,null,null,null,null,null,null,null,null,null,null,null,null,null,null,null,null,null,null,null,null,null,null,null,16,null,null,null,16,null,null,null,null,16,null,null,null,null,16,null,null,null,null,16,null,null,null,null,16,null,null,null,null,16,null,null,null,null,null,null,null,null,null,null,null,null,null,null,null,null,null,null,null,null,null,null,null,null,null,null,null,null,null,null,null,null,null,null,null,null,null,null,null,null,null,null,null,null,null,null,null,null,null,null,null,null,null,null,null,null,null,null,null,null,null,null,null,null,null,null,null,null,0,96,16,null,112,0,13077.119999999999,2819.04,0,15896.16,15896.16,"Yes",0,0,0]
[null,261,"Rodney Breedlove","Equipment Operator","Vendor No.02",null,"MIFPUC-3","2018-10-21","2018-10-27","Yes",{"$f":"VLOOKUP($D279,'C.1 - Rate Sheets'!B:F,2,FALSE)","v":0},{"$f":"VLOOKUP($D279,'C.1 - Rate Sheets'!B:F,3,FALSE)","v":116.87},{"$f":"VLOOKUP($D279,'C.1 - Rate Sheets'!B:F,4,FALSE)","v":151.13},{"$f":"VLOOKUP($D279,'C.1 - Rate Sheets'!B:F,5,FALSE)","v":0},null,null,null,null,null,null,null,null,null,null,null,null,null,null,null,null,null,null,null,null,null,null,null,null,null,null,null,null,null,null,null,null,null,null,null,null,null,null,null,null,null,null,null,null,null,null,null,null,null,null,null,null,16,null,null,null,16,null,null,null,null,16,null,null,null,null,16,null,null,null,null,16,null,null,null,null,16,null,null,null,null,null,null,null,null,null,null,null,null,null,null,null,null,null,null,null,null,null,null,null,null,null,null,null,null,null,null,null,null,null,null,null,null,null,null,null,null,null,null,null,null,null,null,null,null,null,null,null,null,null,null,null,null,null,null,null,null,null,null,null,null,null,null,null,null,null,null,null,null,null,0,80,16,null,96,0,9349.6,2418.08,0,11767.68,11767.68,"Yes",0,0,0]
[null,262,"Ken Gardner","Groundman","Vendor No.02",null,"MIFPUC-3","2018-10-21","2018-10-27","Yes",{"$f":"VLOOKUP($D280,'C.1 - Rate Sheets'!B:F,2,FALSE)","v":0},{"$f":"VLOOKUP($D280,'C.1 - Rate Sheets'!B:F,3,FALSE)","v":99.27},{"$f":"VLOOKUP($D280,'C.1 - Rate Sheets'!B:F,4,FALSE)","v":117.21},{"$f":"VLOOKUP($D280,'C.1 - Rate Sheets'!B:F,5,FALSE)","v":0},null,null,null,null,null,null,null,null,null,null,null,null,null,null,null,null,null,null,null,null,null,null,null,null,null,null,null,null,null,null,null,null,null,null,null,null,null,null,null,null,null,null,null,null,null,null,null,null,null,null,null,null,16,null,null,null,16,null,null,null,null,16,null,null,null,null,16,null,null,null,null,16,null,null,null,null,16,null,null,null,null,null,null,null,null,null,null,null,null,null,null,null,null,null,null,null,null,null,null,null,null,null,null,null,null,null,null,null,null,null,null,null,null,null,null,null,null,null,null,null,null,null,null,null,null,null,null,null,null,null,null,null,null,null,null,null,null,null,null,null,null,null,null,null,null,null,null,null,null,null,0,80,16,null,96,0,7941.5999999999995,1875.36,0,9816.9599999999991,9816.9599999999991,"Yes",0,0,0]
[null,263,"Nate McDonough","Foreman","Vendor No.02",null,"MIFPUC-3","2018-10-21","2018-10-27","Yes",{"$f":"VLOOKUP($D281,'C.1 - Rate Sheets'!B:F,2,FALSE)","v":0},{"$f":"VLOOKUP($D281,'C.1 - Rate Sheets'!B:F,3,FALSE)","v":148.21},{"$f":"VLOOKUP($D281,'C.1 - Rate Sheets'!B:F,4,FALSE)","v":192.19},{"$f":"VLOOKUP($D281,'C.1 - Rate Sheets'!B:F,5,FALSE)","v":0},null,null,null,null,null,null,null,null,null,null,null,null,null,null,null,null,null,null,null,null,null,null,null,null,null,null,null,null,null,null,null,null,null,null,null,null,null,null,null,null,null,null,null,null,null,null,null,null,null,null,null,null,16,null,null,null,16,null,null,null,null,16,null,null,null,null,16,null,null,null,null,16,null,null,null,null,16,null,null,null,null,16,null,null,null,null,null,null,null,null,null,null,null,null,null,null,null,null,null,null,null,null,null,null,null,null,null,null,null,null,null,null,null,null,null,null,null,null,null,null,null,null,null,null,null,null,null,null,null,null,null,null,null,null,null,null,null,null,null,null,null,null,null,null,null,null,null,null,null,null,0,96,16,null,112,0,14228.16,3075.04,0,17303.2,17303.2,"Yes",0,0,0]
[null,264,"Will Magard","Senior Lineman/Journeyman Lineman","Vendor No.02",null,"MIFPUC-3","2018-10-21","2018-10-27","Yes",{"$f":"VLOOKUP($D282,'C.1 - Rate Sheets'!B:F,2,FALSE)","v":0},{"$f":"VLOOKUP($D282,'C.1 - Rate Sheets'!B:F,3,FALSE)","v":136.22},{"$f":"VLOOKUP($D282,'C.1 - Rate Sheets'!B:F,4,FALSE)","v":176.19},{"$f":"VLOOKUP($D282,'C.1 - Rate Sheets'!B:F,5,FALSE)","v":0},null,null,null,null,null,null,null,null,null,null,null,null,null,null,null,null,null,null,null,null,null,null,null,null,null,null,null,null,null,null,null,null,null,null,null,null,null,null,null,null,null,null,null,null,null,null,null,null,null,null,null,null,16,null,null,null,16,null,null,null,null,16,null,null,null,null,16,null,null,null,null,16,null,null,null,null,16,null,null,null,null,16,null,null,null,null,null,null,null,null,null,null,null,null,null,null,null,null,null,null,null,null,null,null,null,null,null,null,null,null,null,null,null,null,null,null,null,null,null,null,null,null,null,null,null,null,null,null,null,null,null,null,null,null,null,null,null,null,null,null,null,null,null,null,null,null,null,null,null,null,0,96,16,null,112,0,13077.119999999999,2819.04,0,15896.16,15896.16,"Yes",0,0,0]
[null,265,"Cody Delotell","Apprentice Helper","Vendor No.02",null,"MIFPUC-3","2018-10-21","2018-10-27","Yes",{"$f":"VLOOKUP($D283,'C.1 - Rate Sheets'!B:F,2,FALSE)","v":0},{"$f":"VLOOKUP($D283,'C.1 - Rate Sheets'!B:F,3,FALSE)","v":102.25},{"$f":"VLOOKUP($D283,'C.1 - Rate Sheets'!B:F,4,FALSE)","v":130.74},{"$f":"VLOOKUP($D283,'C.1 - Rate Sheets'!B:F,5,FALSE)","v":0},null,null,null,null,null,null,null,null,null,null,null,null,null,null,null,null,null,null,null,null,null,null,null,null,null,null,null,null,null,null,null,null,null,null,null,null,null,null,null,null,null,null,null,null,null,null,null,null,null,null,null,null,16,null,null,null,16,null,null,null,null,16,null,null,null,null,16,null,null,null,null,16,null,null,null,null,16,null,null,null,null,16,null,null,null,null,null,null,null,null,null,null,null,null,null,null,null,null,null,null,null,null,null,null,null,null,null,null,null,null,null,null,null,null,null,null,null,null,null,null,null,null,null,null,null,null,null,null,null,null,null,null,null,null,null,null,null,null,null,null,null,null,null,null,null,null,null,null,null,null,0,96,16,null,112,0,9816,2091.84,0,11907.84,11907.84,"Yes",0,0,0]
[null,266,"Rusty Breedlove","Groundman","Vendor No.02",null,"MIFPUC-3","2018-10-21","2018-10-27","Yes",{"$f":"VLOOKUP($D284,'C.1 - Rate Sheets'!B:F,2,FALSE)","v":0},{"$f":"VLOOKUP($D284,'C.1 - Rate Sheets'!B:F,3,FALSE)","v":99.27},{"$f":"VLOOKUP($D284,'C.1 - Rate Sheets'!B:F,4,FALSE)","v":117.21},{"$f":"VLOOKUP($D284,'C.1 - Rate Sheets'!B:F,5,FALSE)","v":0},null,null,null,null,null,null,null,null,null,null,null,null,null,null,null,null,null,null,null,null,null,null,null,null,null,null,null,null,null,null,null,null,null,null,null,null,null,null,null,null,null,null,null,null,null,null,null,null,null,null,null,null,16,null,null,null,16,null,null,null,null,16,null,null,null,null,16,null,null,null,null,16,null,null,null,null,16,null,null,null,null,16,null,null,null,null,null,null,null,null,null,null,null,null,null,null,null,null,null,null,null,null,null,null,null,null,null,null,null,null,null,null,null,null,null,null,null,null,null,null,null,null,null,null,null,null,null,null,null,null,null,null,null,null,null,null,null,null,null,null,null,null,null,null,null,null,null,null,null,null,0,96,16,null,112,0,9529.92,1875.36,0,11405.28,11405.28,"Yes",0,0,0]
[null,267,"Kelly Drummond","Foreman","Vendor No.02",null,"MIFPUC-3","2018-10-21","2018-10-27","Yes",{"$f":"VLOOKUP($D285,'C.1 - Rate Sheets'!B:F,2,FALSE)","v":0},{"$f":"VLOOKUP($D285,'C.1 - Rate Sheets'!B:F,3,FALSE)","v":148.21},{"$f":"VLOOKUP($D285,'C.1 - Rate Sheets'!B:F,4,FALSE)","v":192.19},{"$f":"VLOOKUP($D285,'C.1 - Rate Sheets'!B:F,5,FALSE)","v":0},null,null,null,null,null,null,null,null,null,null,null,null,null,null,null,null,null,null,null,null,null,null,null,null,null,null,null,null,null,null,null,null,null,null,null,null,null,null,null,null,null,null,null,null,null,null,null,null,null,null,null,null,16,null,null,null,16,null,null,null,null,16,null,null,null,null,16,null,null,null,null,16,null,null,null,null,16,null,null,null,null,16,null,null,null,null,null,null,null,null,null,null,null,null,null,null,null,null,null,null,null,null,null,null,null,null,null,null,null,null,null,null,null,null,null,null,null,null,null,null,null,null,null,null,null,null,null,null,null,null,null,null,null,null,null,null,null,null,null,null,null,null,null,null,null,null,null,null,null,null,0,96,16,null,112,0,14228.16,3075.04,0,17303.2,17303.2,"Yes",0,0,0]
[null,268,"Selwyn Sampson","Senior Lineman/Journeyman Lineman","Vendor No.02",null,"MIFPUC-3","2018-10-21","2018-10-27","Yes",{"$f":"VLOOKUP($D286,'C.1 - Rate Sheets'!B:F,2,FALSE)","v":0},{"$f":"VLOOKUP($D286,'C.1 - Rate Sheets'!B:F,3,FALSE)","v":136.22},{"$f":"VLOOKUP($D286,'C.1 - Rate Sheets'!B:F,4,FALSE)","v":176.19},{"$f":"VLOOKUP($D286,'C.1 - Rate Sheets'!B:F,5,FALSE)","v":0},null,null,null,null,null,null,null,null,null,null,null,null,null,null,null,null,null,null,null,null,null,null,null,null,null,null,null,null,null,null,null,null,null,null,null,null,null,null,null,null,null,null,null,null,null,null,null,null,null,null,null,null,16,null,null,null,16,null,null,null,null,16,null,null,null,null,16,null,null,null,null,16,null,null,null,null,16,null,null,null,null,16,null,null,null,null,null,null,null,null,null,null,null,null,null,null,null,null,null,null,null,null,null,null,null,null,null,null,null,null,null,null,null,null,null,null,null,null,null,null,null,null,null,null,null,null,null,null,null,null,null,null,null,null,null,null,null,null,null,null,null,null,null,null,null,null,null,null,null,null,0,96,16,null,112,0,13077.119999999999,2819.04,0,15896.16,15896.16,"Yes",0,0,0]
[null,269,"Cody Maddox","Line Tech C","Vendor No.02",null,"MIFPUC-3","2018-10-21","2018-10-27","Yes",{"$f":"VLOOKUP($D287,'C.1 - Rate Sheets'!B:F,2,FALSE)","v":0},{"$f":"VLOOKUP($D287,'C.1 - Rate Sheets'!B:F,3,FALSE)","v":110.51},{"$f":"VLOOKUP($D287,'C.1 - Rate Sheets'!B:F,4,FALSE)","v":136.22999999999999},{"$f":"VLOOKUP($D287,'C.1 - Rate Sheets'!B:F,5,FALSE)","v":0},null,null,null,null,null,null,null,null,null,null,null,null,null,null,null,null,null,null,null,null,null,null,null,null,null,null,null,null,null,null,null,null,null,null,null,null,null,null,null,null,null,null,null,null,null,null,null,null,null,null,null,null,16,null,null,null,16,null,null,null,null,16,null,null,null,null,16,null,null,null,null,16,null,null,null,null,16,null,null,null,null,16,null,null,null,null,null,null,null,null,null,null,null,null,null,null,null,null,null,null,null,null,null,null,null,null,null,null,null,null,null,null,null,null,null,null,null,null,null,null,null,null,null,null,null,null,null,null,null,null,null,null,null,null,null,null,null,null,null,null,null,null,null,null,null,null,null,null,null,null,0,96,16,null,112,0,10608.960000000001,2179.6799999999998,0,12788.640000000001,12788.640000000001,"Yes",0,0,0]
[null,270,"Ray Campbell","Foreman","Vendor No.02",null,"MIFPUC-3","2018-10-21","2018-10-27","Yes",{"$f":"VLOOKUP($D288,'C.1 - Rate Sheets'!B:F,2,FALSE)","v":0},{"$f":"VLOOKUP($D288,'C.1 - Rate Sheets'!B:F,3,FALSE)","v":148.21},{"$f":"VLOOKUP($D288,'C.1 - Rate Sheets'!B:F,4,FALSE)","v":192.19},{"$f":"VLOOKUP($D288,'C.1 - Rate Sheets'!B:F,5,FALSE)","v":0},null,null,null,null,null,null,null,null,null,null,null,null,null,null,null,null,null,null,null,null,null,null,null,null,null,null,null,null,null,null,null,null,null,null,null,null,null,null,null,null,null,null,null,null,null,null,null,null,null,null,null,null,16,null,null,null,16,null,null,null,null,16,null,null,null,null,16,null,null,null,null,16,null,null,null,null,16,null,null,null,null,16,null,null,null,null,null,null,null,null,null,null,null,null,null,null,null,null,null,null,null,null,null,null,null,null,null,null,null,null,null,null,null,null,null,null,null,null,null,null,null,null,null,null,null,null,null,null,null,null,null,null,null,null,null,null,null,null,null,null,null,null,null,null,null,null,null,null,null,null,0,96,16,null,112,0,14228.16,3075.04,0,17303.2,17303.2,"Yes",0,0,0]
[null,271,"Scotty Sansone","Senior Lineman/Journeyman Lineman","Vendor No.02",null,"MIFPUC-3","2018-10-21","2018-10-27","Yes",{"$f":"VLOOKUP($D289,'C.1 - Rate Sheets'!B:F,2,FALSE)","v":0},{"$f":"VLOOKUP($D289,'C.1 - Rate Sheets'!B:F,3,FALSE)","v":136.22},{"$f":"VLOOKUP($D289,'C.1 - Rate Sheets'!B:F,4,FALSE)","v":176.19},{"$f":"VLOOKUP($D289,'C.1 - Rate Sheets'!B:F,5,FALSE)","v":0},null,null,null,null,null,null,null,null,null,null,null,null,null,null,null,null,null,null,null,null,null,null,null,null,null,null,null,null,null,null,null,null,null,null,null,null,null,null,null,null,null,null,null,null,null,null,null,null,null,null,null,null,16,null,null,null,16,null,null,null,null,16,null,null,null,null,16,null,null,null,null,16,null,null,null,null,16,null,null,null,null,16,null,null,null,null,null,null,null,null,null,null,null,null,null,null,null,null,null,null,null,null,null,null,null,null,null,null,null,null,null,null,null,null,null,null,null,null,null,null,null,null,null,null,null,null,null,null,null,null,null,null,null,null,null,null,null,null,null,null,null,null,null,null,null,null,null,null,null,null,0,96,16,null,112,0,13077.119999999999,2819.04,0,15896.16,15896.16,"Yes",0,0,0]
[null,272,"Nick Schwarz","Apprentice Helper","Vendor No.02",null,"MIFPUC-3","2018-10-21","2018-10-27","Yes",{"$f":"VLOOKUP($D290,'C.1 - Rate Sheets'!B:F,2,FALSE)","v":0},{"$f":"VLOOKUP($D290,'C.1 - Rate Sheets'!B:F,3,FALSE)","v":102.25},{"$f":"VLOOKUP($D290,'C.1 - Rate Sheets'!B:F,4,FALSE)","v":130.74},{"$f":"VLOOKUP($D290,'C.1 - Rate Sheets'!B:F,5,FALSE)","v":0},null,null,null,null,null,null,null,null,null,null,null,null,null,null,null,null,null,null,null,null,null,null,null,null,null,null,null,null,null,null,null,null,null,null,null,null,null,null,null,null,null,null,null,null,null,null,null,null,null,null,null,null,16,null,null,null,16,null,null,null,null,16,null,null,null,null,16,null,null,null,null,16,null,null,null,null,16,null,null,null,null,16,null,null,null,null,null,null,null,null,null,null,null,null,null,null,null,null,null,null,null,null,null,null,null,null,null,null,null,null,null,null,null,null,null,null,null,null,null,null,null,null,null,null,null,null,null,null,null,null,null,null,null,null,null,null,null,null,null,null,null,null,null,null,null,null,null,null,null,null,0,96,16,null,112,0,9816,2091.84,0,11907.84,11907.84,"Yes",0,0,0]
[null,273,"Mike Wellman","Groundman","Vendor No.02",null,"MIFPUC-3","2018-10-21","2018-10-27","Yes",{"$f":"VLOOKUP($D291,'C.1 - Rate Sheets'!B:F,2,FALSE)","v":0},{"$f":"VLOOKUP($D291,'C.1 - Rate Sheets'!B:F,3,FALSE)","v":99.27},{"$f":"VLOOKUP($D291,'C.1 - Rate Sheets'!B:F,4,FALSE)","v":117.21},{"$f":"VLOOKUP($D291,'C.1 - Rate Sheets'!B:F,5,FALSE)","v":0},null,null,null,null,null,null,null,null,null,null,null,null,null,null,null,null,null,null,null,null,null,null,null,null,null,null,null,null,null,null,null,null,null,null,null,null,null,null,null,null,null,null,null,null,null,null,null,null,null,null,null,null,16,null,null,null,16,null,null,null,null,16,null,null,null,null,16,null,null,null,null,16,null,null,null,null,16,null,null,null,null,16,null,null,null,null,null,null,null,null,null,null,null,null,null,null,null,null,null,null,null,null,null,null,null,null,null,null,null,null,null,null,null,null,null,null,null,null,null,null,null,null,null,null,null,null,null,null,null,null,null,null,null,null,null,null,null,null,null,null,null,null,null,null,null,null,null,null,null,null,0,96,16,null,112,0,9529.92,1875.36,0,11405.28,11405.28,"Yes",0,0,0]
[null,274,"Larry Potter","Groundman","Vendor No.02",null,"MIFPUC-3","2018-10-21","2018-10-27","Yes",{"$f":"VLOOKUP($D292,'C.1 - Rate Sheets'!B:F,2,FALSE)","v":0},{"$f":"VLOOKUP($D292,'C.1 - Rate Sheets'!B:F,3,FALSE)","v":99.27},{"$f":"VLOOKUP($D292,'C.1 - Rate Sheets'!B:F,4,FALSE)","v":117.21},{"$f":"VLOOKUP($D292,'C.1 - Rate Sheets'!B:F,5,FALSE)","v":0},null,null,null,null,null,null,null,null,null,null,null,null,null,null,null,null,null,null,null,null,null,null,null,null,null,null,null,null,null,null,null,null,null,null,null,null,null,null,null,null,null,null,null,null,null,null,null,null,null,null,null,null,16,null,null,null,16,null,null,null,null,16,null,null,null,null,16,null,null,null,null,16,null,null,null,null,16,null,null,null,null,16,null,null,null,null,null,null,null,null,null,null,null,null,null,null,null,null,null,null,null,null,null,null,null,null,null,null,null,null,null,null,null,null,null,null,null,null,null,null,null,null,null,null,null,null,null,null,null,null,null,null,null,null,null,null,null,null,null,null,null,null,null,null,null,null,null,null,null,null,0,96,16,null,112,0,9529.92,1875.36,0,11405.28,11405.28,"Yes",0,0,0]
[null,275,"Alex Rogers","Line Tech B","Vendor No.02",null,"MIFPUC-3","2018-10-21","2018-10-27","Yes",{"$f":"VLOOKUP($D293,'C.1 - Rate Sheets'!B:F,2,FALSE)","v":0},{"$f":"VLOOKUP($D293,'C.1 - Rate Sheets'!B:F,3,FALSE)","v":118.24},{"$f":"VLOOKUP($D293,'C.1 - Rate Sheets'!B:F,4,FALSE)","v":152.22},{"$f":"VLOOKUP($D293,'C.1 - Rate Sheets'!B:F,5,FALSE)","v":0},null,null,null,null,null,null,null,null,null,null,null,null,null,null,null,null,null,null,null,null,null,null,null,null,null,null,null,null,null,null,null,null,null,null,null,null,null,null,null,null,null,null,null,null,null,null,null,null,null,null,null,null,16,null,null,null,16,null,null,null,null,16,null,null,null,null,16,null,null,null,null,16,null,null,null,null,16,null,null,null,null,16,null,null,null,null,null,null,null,null,null,null,null,null,null,null,null,null,null,null,null,null,null,null,null,null,null,null,null,null,null,null,null,null,null,null,null,null,null,null,null,null,null,null,null,null,null,null,null,null,null,null,null,null,null,null,null,null,null,null,null,null,null,null,null,null,null,null,null,null,0,96,16,null,112,0,11351.039999999999,2435.52,0,13786.56,13786.56,"Yes",0,0,0]
[null,276,"Matt Montes","Groundman","Vendor No.02",null,"MIFPUC-3","2018-10-21","2018-10-27","Yes",{"$f":"VLOOKUP($D294,'C.1 - Rate Sheets'!B:F,2,FALSE)","v":0},{"$f":"VLOOKUP($D294,'C.1 - Rate Sheets'!B:F,3,FALSE)","v":99.27},{"$f":"VLOOKUP($D294,'C.1 - Rate Sheets'!B:F,4,FALSE)","v":117.21},{"$f":"VLOOKUP($D294,'C.1 - Rate Sheets'!B:F,5,FALSE)","v":0},null,null,null,null,null,null,null,null,null,null,null,null,null,null,null,null,null,null,null,null,null,null,null,null,null,null,null,null,null,null,null,null,null,null,null,null,null,null,null,null,null,null,null,null,null,null,null,null,null,null,null,null,16,null,null,null,16,null,null,null,null,16,null,null,null,null,16,null,null,null,null,16,null,null,null,null,16,null,null,null,null,16,null,null,null,null,null,null,null,null,null,null,null,null,null,null,null,null,null,null,null,null,null,null,null,null,null,null,null,null,null,null,null,null,null,null,null,null,null,null,null,null,null,null,null,null,null,null,null,null,null,null,null,null,null,null,null,null,null,null,null,null,null,null,null,null,null,null,null,null,0,96,16,null,112,0,9529.92,1875.36,0,11405.28,11405.28,"Yes",0,0,0]
[null,277,"Jose De Jesus","Groundman","Vendor No.02",null,"MIFPUC-3","2018-10-21","2018-10-27","Yes",{"$f":"VLOOKUP($D295,'C.1 - Rate Sheets'!B:F,2,FALSE)","v":0},{"$f":"VLOOKUP($D295,'C.1 - Rate Sheets'!B:F,3,FALSE)","v":99.27},{"$f":"VLOOKUP($D295,'C.1 - Rate Sheets'!B:F,4,FALSE)","v":117.21},{"$f":"VLOOKUP($D295,'C.1 - Rate Sheets'!B:F,5,FALSE)","v":0},null,null,null,null,null,null,null,null,null,null,null,null,null,null,null,null,null,null,null,null,null,null,null,null,null,null,null,null,null,null,null,null,null,null,null,null,null,null,null,null,null,null,null,null,null,null,null,null,null,null,null,null,16,null,null,null,16,null,null,null,null,16,null,null,null,null,16,null,null,null,null,16,null,null,null,null,16,null,null,null,null,16,null,null,null,null,null,null,null,null,null,null,null,null,null,null,null,null,null,null,null,null,null,null,null,null,null,null,null,null,null,null,null,null,null,null,null,null,null,null,null,null,null,null,null,null,null,null,null,null,null,null,null,null,null,null,null,null,null,null,null,null,null,null,null,null,null,null,null,null,0,96,16,null,112,0,9529.92,1875.36,0,11405.28,11405.28,"Yes",0,0,0]
[null,278,"Perry Chaffin","Senior Lineman/Journeyman Lineman","Vendor No.02",null,"MIFPUC-3","2018-10-21","2018-10-27","Yes",{"$f":"VLOOKUP($D296,'C.1 - Rate Sheets'!B:F,2,FALSE)","v":0},{"$f":"VLOOKUP($D296,'C.1 - Rate Sheets'!B:F,3,FALSE)","v":136.22},{"$f":"VLOOKUP($D296,'C.1 - Rate Sheets'!B:F,4,FALSE)","v":176.19},{"$f":"VLOOKUP($D296,'C.1 - Rate Sheets'!B:F,5,FALSE)","v":0},null,null,null,null,null,null,null,null,null,null,null,null,null,null,null,null,null,null,null,null,null,null,null,null,null,null,null,null,null,null,null,null,null,null,null,null,null,null,null,null,null,null,null,null,null,null,null,null,null,null,null,null,null,null,null,null,null,null,null,null,null,null,null,null,null,null,null,null,null,null,null,null,null,null,null,null,null,null,null,null,null,null,null,null,null,null,null,null,null,null,null,null,null,null,null,null,null,null,null,null,null,null,null,null,null,null,null,null,null,null,null,null,null,null,null,null,null,null,null,null,null,null,null,null,null,null,null,null,null,null,null,null,null,null,null,null,null,null,null,null,null,null,null,null,null,null,null,null,null,null,0,0,0,null,0,0,0,0,0,0,0,"Yes",0,0,0]
[null,279,null,null,null,null,null,null,null,null,null,null,null,null,null,null,null,null,null,null,null,null,null,null,null,null,null,null,null,null,null,null,null,null,null,null,null,null,null,null,null,null,null,null,null,null,null,null,null,null,null,null,null,null,null,null,null,null,null,null,null,null,null,null,null,null,null,null,null,null,null,null,null,null,null,null,null,null,null,null,null,null,null,null,null,null,null,null,null,null,null,null,null,null,null,null,null,null,null,null,null,null,null,null,null,null,null,null,null,null,null,null,null,null,null,null,null,null,null,null,null,null,null,null,null,null,null,null,null,null,null,null,null,null,null,null,null,null,null,null,null,null,null,null,null,null,null,null,null,null,null,null,null,null,null,null,null,null,null,null,null,null,null,null,0,0,0,null,0,0,0,0,0,0,0,"Yes",0,0,0]
[null,280,"Gustavo Monteagudo","Foreman","Vendor No.02",null,"MIFPUC-4","2018-10-28","2018-11-03","Yes",{"$f":"VLOOKUP($D298,'C.1 - Rate Sheets'!B:F,2,FALSE)","v":0},{"$f":"VLOOKUP($D298,'C.1 - Rate Sheets'!B:F,3,FALSE)","v":148.21},{"$f":"VLOOKUP($D298,'C.1 - Rate Sheets'!B:F,4,FALSE)","v":192.19},{"$f":"VLOOKUP($D298,'C.1 - Rate Sheets'!B:F,5,FALSE)","v":0},null,null,null,null,null,null,null,null,null,null,null,null,null,null,null,null,null,null,null,null,null,null,null,null,null,null,null,null,null,null,null,null,null,null,null,null,null,null,null,null,null,null,null,null,null,null,null,null,null,null,null,null,null,null,null,null,null,null,null,null,null,null,null,null,null,null,null,null,null,null,null,null,null,null,null,null,null,null,null,null,null,null,null,null,null,null,null,16,null,null,null,16,null,null,null,null,16,null,null,null,null,16,null,null,null,null,16,null,null,null,null,16,null,null,null,null,16,null,null,null,null,null,null,null,null,null,null,null,null,null,null,null,null,null,null,null,null,null,null,null,null,null,null,null,null,null,null,null,null,null,0,96,16,null,112,0,14228.16,3075.04,0,17303.2,17303.2,"Yes",0,0,0]
[null,281,"Aroy Fildalgo","Senior Lineman/Journeyman Lineman","Vendor No.02",null,"MIFPUC-4","2018-10-28","2018-11-03","Yes",{"$f":"VLOOKUP($D299,'C.1 - Rate Sheets'!B:F,2,FALSE)","v":0},{"$f":"VLOOKUP($D299,'C.1 - Rate Sheets'!B:F,3,FALSE)","v":136.22},{"$f":"VLOOKUP($D299,'C.1 - Rate Sheets'!B:F,4,FALSE)","v":176.19},{"$f":"VLOOKUP($D299,'C.1 - Rate Sheets'!B:F,5,FALSE)","v":0},null,null,null,null,null,null,null,null,null,null,null,null,null,null,null,null,null,null,null,null,null,null,null,null,null,null,null,null,null,null,null,null,null,null,null,null,null,null,null,null,null,null,null,null,null,null,null,null,null,null,null,null,null,null,null,null,null,null,null,null,null,null,null,null,null,null,null,null,null,null,null,null,null,null,null,null,null,null,null,null,null,null,null,null,null,null,null,16,null,null,null,16,null,null,null,null,16,null,null,null,null,16,null,null,null,null,16,null,null,null,null,16,null,null,null,null,16,null,null,null,null,null,null,null,null,null,null,null,null,null,null,null,null,null,null,null,null,null,null,null,null,null,null,null,null,null,null,null,null,null,0,96,16,null,112,0,13077.119999999999,2819.04,0,15896.16,15896.16,"Yes",0,0,0]
[null,282,"Addiel DeCardenas","Senior Lineman/Journeyman Lineman","Vendor No.02",null,"MIFPUC-4","2018-10-28","2018-11-03","Yes",{"$f":"VLOOKUP($D300,'C.1 - Rate Sheets'!B:F,2,FALSE)","v":0},{"$f":"VLOOKUP($D300,'C.1 - Rate Sheets'!B:F,3,FALSE)","v":136.22},{"$f":"VLOOKUP($D300,'C.1 - Rate Sheets'!B:F,4,FALSE)","v":176.19},{"$f":"VLOOKUP($D300,'C.1 - Rate Sheets'!B:F,5,FALSE)","v":0},null,null,null,null,null,null,null,null,null,null,null,null,null,null,null,null,null,null,null,null,null,null,null,null,null,null,null,null,null,null,null,null,null,null,null,null,null,null,null,null,null,null,null,null,null,null,null,null,null,null,null,null,null,null,null,null,null,null,null,null,null,null,null,null,null,null,null,null,null,null,null,null,null,null,null,null,null,null,null,null,null,null,null,null,null,null,null,16,null,null,null,16,null,null,null,null,16,null,null,null,null,16,null,null,null,null,16,null,null,null,null,16,null,null,null,null,16,null,null,null,null,null,null,null,null,null,null,null,null,null,null,null,null,null,null,null,null,null,null,null,null,null,null,null,null,null,null,null,null,null,0,96,16,null,112,0,13077.119999999999,2819.04,0,15896.16,15896.16,"Yes",0,0,0]
[null,283,"Bruno Thiago","Senior Lineman/Journeyman Lineman","Vendor No.02",null,"MIFPUC-4","2018-10-28","2018-11-03","Yes",{"$f":"VLOOKUP($D301,'C.1 - Rate Sheets'!B:F,2,FALSE)","v":0},{"$f":"VLOOKUP($D301,'C.1 - Rate Sheets'!B:F,3,FALSE)","v":136.22},{"$f":"VLOOKUP($D301,'C.1 - Rate Sheets'!B:F,4,FALSE)","v":176.19},{"$f":"VLOOKUP($D301,'C.1 - Rate Sheets'!B:F,5,FALSE)","v":0},null,null,null,null,null,null,null,null,null,null,null,null,null,null,null,null,null,null,null,null,null,null,null,null,null,null,null,null,null,null,null,null,null,null,null,null,null,null,null,null,null,null,null,null,null,null,null,null,null,null,null,null,null,null,null,null,null,null,null,null,null,null,null,null,null,null,null,null,null,null,null,null,null,null,null,null,null,null,null,null,null,null,null,null,null,null,null,16,null,null,null,16,null,null,null,null,16,null,null,null,null,16,null,null,null,null,16,null,null,null,null,16,null,null,null,null,16,null,null,null,null,null,null,null,null,null,null,null,null,null,null,null,null,null,null,null,null,null,null,null,null,null,null,null,null,null,null,null,null,null,0,96,16,null,112,0,13077.119999999999,2819.04,0,15896.16,15896.16,"Yes",0,0,0]
[null,284,"Iran Fernandez","Groundman","Vendor No.02",null,"MIFPUC-4","2018-10-28","2018-11-03","Yes",{"$f":"VLOOKUP($D302,'C.1 - Rate Sheets'!B:F,2,FALSE)","v":0},{"$f":"VLOOKUP($D302,'C.1 - Rate Sheets'!B:F,3,FALSE)","v":99.27},{"$f":"VLOOKUP($D302,'C.1 - Rate Sheets'!B:F,4,FALSE)","v":117.21},{"$f":"VLOOKUP($D302,'C.1 - Rate Sheets'!B:F,5,FALSE)","v":0},null,null,null,null,null,null,null,null,null,null,null,null,null,null,null,null,null,null,null,null,null,null,null,null,null,null,null,null,null,null,null,null,null,null,null,null,null,null,null,null,null,null,null,null,null,null,null,null,null,null,null,null,null,null,null,null,null,null,null,null,null,null,null,null,null,null,null,null,null,null,null,null,null,null,null,null,null,null,null,null,null,null,null,null,null,null,null,16,null,null,null,16,null,null,null,null,16,null,null,null,null,16,null,null,null,null,16,null,null,null,null,16,null,null,null,null,16,null,null,null,null,null,null,null,null,null,null,null,null,null,null,null,null,null,null,null,null,null,null,null,null,null,null,null,null,null,null,null,null,null,0,96,16,null,112,0,9529.92,1875.36,0,11405.28,11405.28,"Yes",0,0,0]
[null,285,"Deatrick Forbes","Foreman","Vendor No.02",null,"MIFPUC-4","2018-10-28","2018-11-03","Yes",{"$f":"VLOOKUP($D303,'C.1 - Rate Sheets'!B:F,2,FALSE)","v":0},{"$f":"VLOOKUP($D303,'C.1 - Rate Sheets'!B:F,3,FALSE)","v":148.21},{"$f":"VLOOKUP($D303,'C.1 - Rate Sheets'!B:F,4,FALSE)","v":192.19},{"$f":"VLOOKUP($D303,'C.1 - Rate Sheets'!B:F,5,FALSE)","v":0},null,null,null,null,null,null,null,null,null,null,null,null,null,null,null,null,null,null,null,null,null,null,null,null,null,null,null,null,null,null,null,null,null,null,null,null,null,null,null,null,null,null,null,null,null,null,null,null,null,null,null,null,null,null,null,null,null,null,null,null,null,null,null,null,null,null,null,null,null,null,null,null,null,null,null,null,null,null,null,null,null,null,null,null,null,null,null,16,null,null,null,16,null,null,null,null,16,null,null,null,null,16,null,null,null,null,16,null,null,null,null,16,null,null,null,null,16,null,null,null,null,null,null,null,null,null,null,null,null,null,null,null,null,null,null,null,null,null,null,null,null,null,null,null,null,null,null,null,null,null,0,96,16,null,112,0,14228.16,3075.04,0,17303.2,17303.2,"Yes",0,0,0]
[null,286,"Guilermo Arias","Senior Lineman/Journeyman Lineman","Vendor No.02",null,"MIFPUC-4","2018-10-28","2018-11-03","Yes",{"$f":"VLOOKUP($D304,'C.1 - Rate Sheets'!B:F,2,FALSE)","v":0},{"$f":"VLOOKUP($D304,'C.1 - Rate Sheets'!B:F,3,FALSE)","v":136.22},{"$f":"VLOOKUP($D304,'C.1 - Rate Sheets'!B:F,4,FALSE)","v":176.19},{"$f":"VLOOKUP($D304,'C.1 - Rate Sheets'!B:F,5,FALSE)","v":0},null,null,null,null,null,null,null,null,null,null,null,null,null,null,null,null,null,null,null,null,null,null,null,null,null,null,null,null,null,null,null,null,null,null,null,null,null,null,null,null,null,null,null,null,null,null,null,null,null,null,null,null,null,null,null,null,null,null,null,null,null,null,null,null,null,null,null,null,null,null,null,null,null,null,null,null,null,null,null,null,null,null,null,null,null,null,null,16,null,null,null,16,null,null,null,null,16,null,null,null,null,16,null,null,null,null,16,null,null,null,null,16,null,null,null,null,16,null,null,null,null,null,null,null,null,null,null,null,null,null,null,null,null,null,null,null,null,null,null,null,null,null,null,null,null,null,null,null,null,null,0,96,16,null,112,0,13077.119999999999,2819.04,0,15896.16,15896.16,"Yes",0,0,0]
[null,287,"Mark Machado","Senior Lineman/Journeyman Lineman","Vendor No.02",null,"MIFPUC-4","2018-10-28","2018-11-03","Yes",{"$f":"VLOOKUP($D305,'C.1 - Rate Sheets'!B:F,2,FALSE)","v":0},{"$f":"VLOOKUP($D305,'C.1 - Rate Sheets'!B:F,3,FALSE)","v":136.22},{"$f":"VLOOKUP($D305,'C.1 - Rate Sheets'!B:F,4,FALSE)","v":176.19},{"$f":"VLOOKUP($D305,'C.1 - Rate Sheets'!B:F,5,FALSE)","v":0},null,null,null,null,null,null,null,null,null,null,null,null,null,null,null,null,null,null,null,null,null,null,null,null,null,null,null,null,null,null,null,null,null,null,null,null,null,null,null,null,null,null,null,null,null,null,null,null,null,null,null,null,null,null,null,null,null,null,null,null,null,null,null,null,null,null,null,null,null,null,null,null,null,null,null,null,null,null,null,null,null,null,null,null,null,null,null,16,null,null,null,16,null,null,null,null,16,null,null,null,null,16,null,null,null,null,16,null,null,null,null,16,null,null,null,null,16,null,null,null,null,null,null,null,null,null,null,null,null,null,null,null,null,null,null,null,null,null,null,null,null,null,null,null,null,null,null,null,null,null,0,96,16,null,112,0,13077.119999999999,2819.04,0,15896.16,15896.16,"Yes",0,0,0]
[null,288,"Andrew Wilson","Line Tech C","Vendor No.02",null,"MIFPUC-4","2018-10-28","2018-11-03","Yes",{"$f":"VLOOKUP($D306,'C.1 - Rate Sheets'!B:F,2,FALSE)","v":0},{"$f":"VLOOKUP($D306,'C.1 - Rate Sheets'!B:F,3,FALSE)","v":110.51},{"$f":"VLOOKUP($D306,'C.1 - Rate Sheets'!B:F,4,FALSE)","v":136.22999999999999},{"$f":"VLOOKUP($D306,'C.1 - Rate Sheets'!B:F,5,FALSE)","v":0},null,null,null,null,null,null,null,null,null,null,null,null,null,null,null,null,null,null,null,null,null,null,null,null,null,null,null,null,null,null,null,null,null,null,null,null,null,null,null,null,null,null,null,null,null,null,null,null,null,null,null,null,null,null,null,null,null,null,null,null,null,null,null,null,null,null,null,null,null,null,null,null,null,null,null,null,null,null,null,null,null,null,null,null,null,null,null,16,null,null,null,16,null,null,null,null,16,null,null,null,null,16,null,null,null,null,16,null,null,null,null,16,null,null,null,null,16,null,null,null,null,null,null,null,null,null,null,null,null,null,null,null,null,null,null,null,null,null,null,null,null,null,null,null,null,null,null,null,null,null,0,96,16,null,112,0,10608.960000000001,2179.6799999999998,0,12788.640000000001,12788.640000000001,"Yes",0,0,0]
[null,289,"Aaron Bessent","Groundman","Vendor No.02",null,"MIFPUC-4","2018-10-28","2018-11-03","Yes",{"$f":"VLOOKUP($D307,'C.1 - Rate Sheets'!B:F,2,FALSE)","v":0},{"$f":"VLOOKUP($D307,'C.1 - Rate Sheets'!B:F,3,FALSE)","v":99.27},{"$f":"VLOOKUP($D307,'C.1 - Rate Sheets'!B:F,4,FALSE)","v":117.21},{"$f":"VLOOKUP($D307,'C.1 - Rate Sheets'!B:F,5,FALSE)","v":0},null,null,null,null,null,null,null,null,null,null,null,null,null,null,null,null,null,null,null,null,null,null,null,null,null,null,null,null,null,null,null,null,null,null,null,null,null,null,null,null,null,null,null,null,null,null,null,null,null,null,null,null,null,null,null,null,null,null,null,null,null,null,null,null,null,null,null,null,null,null,null,null,null,null,null,null,null,null,null,null,null,null,null,null,null,null,null,16,null,null,null,16,null,null,null,null,16,null,null,null,null,16,null,null,null,null,16,null,null,null,null,16,null,null,null,null,16,null,null,null,null,null,null,null,null,null,null,null,null,null,null,null,null,null,null,null,null,null,null,null,null,null,null,null,null,null,null,null,null,null,0,96,16,null,112,0,9529.92,1875.36,0,11405.28,11405.28,"Yes",0,0,0]
[null,290,"Kevin Leon","General Foreman","Vendor No.02",null,"MIFPUC-4","2018-10-28","2018-11-03","Yes",{"$f":"VLOOKUP($D308,'C.1 - Rate Sheets'!B:F,2,FALSE)","v":0},{"$f":"VLOOKUP($D308,'C.1 - Rate Sheets'!B:F,3,FALSE)","v":160.21},{"$f":"VLOOKUP($D308,'C.1 - Rate Sheets'!B:F,4,FALSE)","v":208.18},{"$f":"VLOOKUP($D308,'C.1 - Rate Sheets'!B:F,5,FALSE)","v":0},null,null,null,null,null,null,null,null,null,null,null,null,null,null,null,null,null,null,null,null,null,null,null,null,null,null,null,null,null,null,null,null,null,null,null,null,null,null,null,null,null,null,null,null,null,null,null,null,null,null,null,null,null,null,null,null,null,null,null,null,null,null,null,null,null,null,null,null,null,null,null,null,null,null,null,null,null,null,null,null,null,null,null,null,null,null,null,16,null,null,null,16,null,null,null,null,16,null,null,null,null,16,null,null,null,null,16,null,null,null,null,16,null,null,null,null,16,null,null,null,null,null,null,null,null,null,null,null,null,null,null,null,null,null,null,null,null,null,null,null,null,null,null,null,null,null,null,null,null,null,0,96,16,null,112,0,15380.16,3330.88,0,18711.04,18711.04,"Yes",0,0,0]
[null,291,"Joe Preilezo","Safety","Vendor No.02",null,"MIFPUC-4","2018-10-28","2018-11-03","Yes",{"$f":"VLOOKUP($D309,'C.1 - Rate Sheets'!B:F,2,FALSE)","v":0},{"$f":"VLOOKUP($D309,'C.1 - Rate Sheets'!B:F,3,FALSE)","v":148.21},{"$f":"VLOOKUP($D309,'C.1 - Rate Sheets'!B:F,4,FALSE)","v":192.19},{"$f":"VLOOKUP($D309,'C.1 - Rate Sheets'!B:F,5,FALSE)","v":0},null,null,null,null,null,null,null,null,null,null,null,null,null,null,null,null,null,null,null,null,null,null,null,null,null,null,null,null,null,null,null,null,null,null,null,null,null,null,null,null,null,null,null,null,null,null,null,null,null,null,null,null,null,null,null,null,null,null,null,null,null,null,null,null,null,null,null,null,null,null,null,null,null,null,null,null,null,null,null,null,null,null,null,null,null,null,null,16,null,null,null,16,null,null,null,null,16,null,null,null,null,16,null,null,null,null,16,null,null,null,null,16,null,null,null,null,16,null,null,null,null,null,null,null,null,null,null,null,null,null,null,null,null,null,null,null,null,null,null,null,null,null,null,null,null,null,null,null,null,null,0,96,16,null,112,0,14228.16,3075.04,0,17303.2,17303.2,"Yes",0,0,0]
[null,292,"Jon Morey","Safety","Vendor No.02",null,"MIFPUC-4","2018-10-28","2018-11-03","Yes",{"$f":"VLOOKUP($D310,'C.1 - Rate Sheets'!B:F,2,FALSE)","v":0},{"$f":"VLOOKUP($D310,'C.1 - Rate Sheets'!B:F,3,FALSE)","v":148.21},{"$f":"VLOOKUP($D310,'C.1 - Rate Sheets'!B:F,4,FALSE)","v":192.19},{"$f":"VLOOKUP($D310,'C.1 - Rate Sheets'!B:F,5,FALSE)","v":0},null,null,null,null,null,null,null,null,null,null,null,null,null,null,null,null,null,null,null,null,null,null,null,null,null,null,null,null,null,null,null,null,null,null,null,null,null,null,null,null,null,null,null,null,null,null,null,null,null,null,null,null,null,null,null,null,null,null,null,null,null,null,null,null,null,null,null,null,null,null,null,null,null,null,null,null,null,null,null,null,null,null,null,null,null,null,null,16,null,null,null,16,null,null,null,null,16,null,null,null,null,16,null,null,null,null,16,null,null,null,null,16,null,null,null,null,16,null,null,null,null,null,null,null,null,null,null,null,null,null,null,null,null,null,null,null,null,null,null,null,null,null,null,null,null,null,null,null,null,null,0,96,16,null,112,0,14228.16,3075.04,0,17303.2,17303.2,"Yes",0,0,0]
[null,293,"Reymond Ugalde","Mechanic","Vendor No.02",null,"MIFPUC-4","2018-10-28","2018-11-03","Yes",{"$f":"VLOOKUP($D311,'C.1 - Rate Sheets'!B:F,2,FALSE)","v":0},{"$f":"VLOOKUP($D311,'C.1 - Rate Sheets'!B:F,3,FALSE)","v":116.87},{"$f":"VLOOKUP($D311,'C.1 - Rate Sheets'!B:F,4,FALSE)","v":151.13},{"$f":"VLOOKUP($D311,'C.1 - Rate Sheets'!B:F,5,FALSE)","v":0},null,null,null,null,null,null,null,null,null,null,null,null,null,null,null,null,null,null,null,null,null,null,null,null,null,null,null,null,null,null,null,null,null,null,null,null,null,null,null,null,null,null,null,null,null,null,null,null,null,null,null,null,null,null,null,null,null,null,null,null,null,null,null,null,null,null,null,null,null,null,null,null,null,null,null,null,null,null,null,null,null,null,null,null,null,null,null,16,null,null,null,16,null,null,null,null,16,null,null,null,null,16,null,null,null,null,16,null,null,null,null,16,null,null,null,null,16,null,null,null,null,null,null,null,null,null,null,null,null,null,null,null,null,null,null,null,null,null,null,null,null,null,null,null,null,null,null,null,null,null,0,96,16,null,112,0,11219.52,2418.08,0,13637.6,13637.6,"Yes",0,0,0]
[null,294,"Nate Wells","Foreman","Vendor No.02",null,"MIFPUC-4","2018-10-28","2018-11-03","Yes",{"$f":"VLOOKUP($D312,'C.1 - Rate Sheets'!B:F,2,FALSE)","v":0},{"$f":"VLOOKUP($D312,'C.1 - Rate Sheets'!B:F,3,FALSE)","v":148.21},{"$f":"VLOOKUP($D312,'C.1 - Rate Sheets'!B:F,4,FALSE)","v":192.19},{"$f":"VLOOKUP($D312,'C.1 - Rate Sheets'!B:F,5,FALSE)","v":0},null,null,null,null,null,null,null,null,null,null,null,null,null,null,null,null,null,null,null,null,null,null,null,null,null,null,null,null,null,null,null,null,null,null,null,null,null,null,null,null,null,null,null,null,null,null,null,null,null,null,null,null,null,null,null,null,null,null,null,null,null,null,null,null,null,null,null,null,null,null,null,null,null,null,null,null,null,null,null,null,null,null,null,null,null,null,null,16,null,null,null,16,null,null,null,null,16,null,null,null,null,16,null,null,null,null,16,null,null,null,null,16,null,null,null,null,16,null,null,null,null,null,null,null,null,null,null,null,null,null,null,null,null,null,null,null,null,null,null,null,null,null,null,null,null,null,null,null,null,null,0,96,16,null,112,0,14228.16,3075.04,0,17303.2,17303.2,"Yes",0,0,0]
[null,295,"Emir Alvarado","Senior Lineman/Journeyman Lineman","Vendor No.02",null,"MIFPUC-4","2018-10-28","2018-11-03","Yes",{"$f":"VLOOKUP($D313,'C.1 - Rate Sheets'!B:F,2,FALSE)","v":0},{"$f":"VLOOKUP($D313,'C.1 - Rate Sheets'!B:F,3,FALSE)","v":136.22},{"$f":"VLOOKUP($D313,'C.1 - Rate Sheets'!B:F,4,FALSE)","v":176.19},{"$f":"VLOOKUP($D313,'C.1 - Rate Sheets'!B:F,5,FALSE)","v":0},null,null,null,null,null,null,null,null,null,null,null,null,null,null,null,null,null,null,null,null,null,null,null,null,null,null,null,null,null,null,null,null,null,null,null,null,null,null,null,null,null,null,null,null,null,null,null,null,null,null,null,null,null,null,null,null,null,null,null,null,null,null,null,null,null,null,null,null,null,null,null,null,null,null,null,null,null,null,null,null,null,null,null,null,null,null,null,16,null,null,null,16,null,null,null,null,16,null,null,null,null,16,null,null,null,null,16,null,null,null,null,16,null,null,null,null,16,null,null,null,null,null,null,null,null,null,null,null,null,null,null,null,null,null,null,null,null,null,null,null,null,null,null,null,null,null,null,null,null,null,0,96,16,null,112,0,13077.119999999999,2819.04,0,15896.16,15896.16,"Yes",0,0,0]
[null,296,"Doyle Rondtree","Senior Lineman/Journeyman Lineman","Vendor No.02",null,"MIFPUC-4","2018-10-28","2018-11-03","Yes",{"$f":"VLOOKUP($D314,'C.1 - Rate Sheets'!B:F,2,FALSE)","v":0},{"$f":"VLOOKUP($D314,'C.1 - Rate Sheets'!B:F,3,FALSE)","v":136.22},{"$f":"VLOOKUP($D314,'C.1 - Rate Sheets'!B:F,4,FALSE)","v":176.19},{"$f":"VLOOKUP($D314,'C.1 - Rate Sheets'!B:F,5,FALSE)","v":0},null,null,null,null,null,null,null,null,null,null,null,null,null,null,null,null,null,null,null,null,null,null,null,null,null,null,null,null,null,null,null,null,null,null,null,null,null,null,null,null,null,null,null,null,null,null,null,null,null,null,null,null,null,null,null,null,null,null,null,null,null,null,null,null,null,null,null,null,null,null,null,null,null,null,null,null,null,null,null,null,null,null,null,null,null,null,null,16,null,null,null,16,null,null,null,null,16,null,null,null,null,16,null,null,null,null,16,null,null,null,null,16,null,null,null,null,16,null,null,null,null,null,null,null,null,null,null,null,null,null,null,null,null,null,null,null,null,null,null,null,null,null,null,null,null,null,null,null,null,null,0,96,16,null,112,0,13077.119999999999,2819.04,0,15896.16,15896.16,"Yes",0,0,0]
[null,297,"Dominick Hernandez","Apprentice Helper","Vendor No.02",null,"MIFPUC-4","2018-10-28","2018-11-03","Yes",{"$f":"VLOOKUP($D315,'C.1 - Rate Sheets'!B:F,2,FALSE)","v":0},{"$f":"VLOOKUP($D315,'C.1 - Rate Sheets'!B:F,3,FALSE)","v":102.25},{"$f":"VLOOKUP($D315,'C.1 - Rate Sheets'!B:F,4,FALSE)","v":130.74},{"$f":"VLOOKUP($D315,'C.1 - Rate Sheets'!B:F,5,FALSE)","v":0},null,null,null,null,null,null,null,null,null,null,null,null,null,null,null,null,null,null,null,null,null,null,null,null,null,null,null,null,null,null,null,null,null,null,null,null,null,null,null,null,null,null,null,null,null,null,null,null,null,null,null,null,null,null,null,null,null,null,null,null,null,null,null,null,null,null,null,null,null,null,null,null,null,null,null,null,null,null,null,null,null,null,null,null,null,null,null,16,null,null,null,16,null,null,null,null,16,null,null,null,null,16,null,null,null,null,16,null,null,null,null,16,null,null,null,null,16,null,null,null,null,null,null,null,null,null,null,null,null,null,null,null,null,null,null,null,null,null,null,null,null,null,null,null,null,null,null,null,null,null,0,96,16,null,112,0,9816,2091.84,0,11907.84,11907.84,"Yes",0,0,0]
[null,298,"Brian Abbate","Groundman","Vendor No.02",null,"MIFPUC-4","2018-10-28","2018-11-03","Yes",{"$f":"VLOOKUP($D316,'C.1 - Rate Sheets'!B:F,2,FALSE)","v":0},{"$f":"VLOOKUP($D316,'C.1 - Rate Sheets'!B:F,3,FALSE)","v":99.27},{"$f":"VLOOKUP($D316,'C.1 - Rate Sheets'!B:F,4,FALSE)","v":117.21},{"$f":"VLOOKUP($D316,'C.1 - Rate Sheets'!B:F,5,FALSE)","v":0},null,null,null,null,null,null,null,null,null,null,null,null,null,null,null,null,null,null,null,null,null,null,null,null,null,null,null,null,null,null,null,null,null,null,null,null,null,null,null,null,null,null,null,null,null,null,null,null,null,null,null,null,null,null,null,null,null,null,null,null,null,null,null,null,null,null,null,null,null,null,null,null,null,null,null,null,null,null,null,null,null,null,null,null,null,null,null,16,null,null,null,16,null,null,null,null,16,null,null,null,null,16,null,null,null,null,16,null,null,null,null,16,null,null,null,null,16,null,null,null,null,null,null,null,null,null,null,null,null,null,null,null,null,null,null,null,null,null,null,null,null,null,null,null,null,null,null,null,null,null,0,96,16,null,112,0,9529.92,1875.36,0,11405.28,11405.28,"Yes",0,0,0]
[null,299,"Jose De Jesus","Foreman","Vendor No.02",null,"MIFPUC-4","2018-10-28","2018-11-03","Yes",{"$f":"VLOOKUP($D317,'C.1 - Rate Sheets'!B:F,2,FALSE)","v":0},{"$f":"VLOOKUP($D317,'C.1 - Rate Sheets'!B:F,3,FALSE)","v":148.21},{"$f":"VLOOKUP($D317,'C.1 - Rate Sheets'!B:F,4,FALSE)","v":192.19},{"$f":"VLOOKUP($D317,'C.1 - Rate Sheets'!B:F,5,FALSE)","v":0},null,null,null,null,null,null,null,null,null,null,null,null,null,null,null,null,null,null,null,null,null,null,null,null,null,null,null,null,null,null,null,null,null,null,null,null,null,null,null,null,null,null,null,null,null,null,null,null,null,null,null,null,null,null,null,null,null,null,null,null,null,null,null,null,null,null,null,null,null,null,null,null,null,null,null,null,null,null,null,null,null,null,null,null,null,null,null,16,null,null,null,16,null,null,null,null,16,null,null,null,null,16,null,null,null,null,16,null,null,null,null,16,null,null,null,null,16,null,null,null,null,null,null,null,null,null,null,null,null,null,null,null,null,null,null,null,null,null,null,null,null,null,null,null,null,null,null,null,null,null,0,96,16,null,112,0,14228.16,3075.04,0,17303.2,17303.2,"Yes",0,0,0]
[null,300,"Hector Rodriguez","Senior Lineman/Journeyman Lineman","Vendor No.02",null,"MIFPUC-4","2018-10-28","2018-11-03","Yes",{"$f":"VLOOKUP($D318,'C.1 - Rate Sheets'!B:F,2,FALSE)","v":0},{"$f":"VLOOKUP($D318,'C.1 - Rate Sheets'!B:F,3,FALSE)","v":136.22},{"$f":"VLOOKUP($D318,'C.1 - Rate Sheets'!B:F,4,FALSE)","v":176.19},{"$f":"VLOOKUP($D318,'C.1 - Rate Sheets'!B:F,5,FALSE)","v":0},null,null,null,null,null,null,null,null,null,null,null,null,null,null,null,null,null,null,null,null,null,null,null,null,null,null,null,null,null,null,null,null,null,null,null,null,null,null,null,null,null,null,null,null,null,null,null,null,null,null,null,null,null,null,null,null,null,null,null,null,null,null,null,null,null,null,null,null,null,null,null,null,null,null,null,null,null,null,null,null,null,null,null,null,null,null,null,16,null,null,null,16,null,null,null,null,16,null,null,null,null,16,null,null,null,null,16,null,null,null,null,16,null,null,null,null,16,null,null,null,null,null,null,null,null,null,null,null,null,null,null,null,null,null,null,null,null,null,null,null,null,null,null,null,null,null,null,null,null,null,0,96,16,null,112,0,13077.119999999999,2819.04,0,15896.16,15896.16,"Yes",0,0,0]
[null,301,"Randal Osteen","Line Tech B","Vendor No.02",null,"MIFPUC-4","2018-10-28","2018-11-03","Yes",{"$f":"VLOOKUP($D319,'C.1 - Rate Sheets'!B:F,2,FALSE)","v":0},{"$f":"VLOOKUP($D319,'C.1 - Rate Sheets'!B:F,3,FALSE)","v":118.24},{"$f":"VLOOKUP($D319,'C.1 - Rate Sheets'!B:F,4,FALSE)","v":152.22},{"$f":"VLOOKUP($D319,'C.1 - Rate Sheets'!B:F,5,FALSE)","v":0},null,null,null,null,null,null,null,null,null,null,null,null,null,null,null,null,null,null,null,null,null,null,null,null,null,null,null,null,null,null,null,null,null,null,null,null,null,null,null,null,null,null,null,null,null,null,null,null,null,null,null,null,null,null,null,null,null,null,null,null,null,null,null,null,null,null,null,null,null,null,null,null,null,null,null,null,null,null,null,null,null,null,null,null,null,null,null,16,null,null,null,16,null,null,null,null,16,null,null,null,null,16,null,null,null,null,16,null,null,null,null,16,null,null,null,null,16,null,null,null,null,null,null,null,null,null,null,null,null,null,null,null,null,null,null,null,null,null,null,null,null,null,null,null,null,null,null,null,null,null,0,96,16,null,112,0,11351.039999999999,2435.52,0,13786.56,13786.56,"Yes",0,0,0]
[null,302,"Jorge Barroso","Senior Lineman/Journeyman Lineman","Vendor No.02",null,"MIFPUC-4","2018-10-28","2018-11-03","Yes",{"$f":"VLOOKUP($D320,'C.1 - Rate Sheets'!B:F,2,FALSE)","v":0},{"$f":"VLOOKUP($D320,'C.1 - Rate Sheets'!B:F,3,FALSE)","v":136.22},{"$f":"VLOOKUP($D320,'C.1 - Rate Sheets'!B:F,4,FALSE)","v":176.19},{"$f":"VLOOKUP($D320,'C.1 - Rate Sheets'!B:F,5,FALSE)","v":0},null,null,null,null,null,null,null,null,null,null,null,null,null,null,null,null,null,null,null,null,null,null,null,null,null,null,null,null,null,null,null,null,null,null,null,null,null,null,null,null,null,null,null,null,null,null,null,null,null,null,null,null,null,null,null,null,null,null,null,null,null,null,null,null,null,null,null,null,null,null,null,null,null,null,null,null,null,null,null,null,null,null,null,null,null,null,null,16,null,null,null,16,null,null,null,null,16,null,null,null,null,16,null,null,null,null,16,null,null,null,null,16,null,null,null,null,16,null,null,null,null,null,null,null,null,null,null,null,null,null,null,null,null,null,null,null,null,null,null,null,null,null,null,null,null,null,null,null,null,null,0,96,16,null,112,0,13077.119999999999,2819.04,0,15896.16,15896.16,"Yes",0,0,0]
[null,303,"Chadwick Kern","Groundman","Vendor No.02",null,"MIFPUC-4","2018-10-28","2018-11-03","Yes",{"$f":"VLOOKUP($D321,'C.1 - Rate Sheets'!B:F,2,FALSE)","v":0},{"$f":"VLOOKUP($D321,'C.1 - Rate Sheets'!B:F,3,FALSE)","v":99.27},{"$f":"VLOOKUP($D321,'C.1 - Rate Sheets'!B:F,4,FALSE)","v":117.21},{"$f":"VLOOKUP($D321,'C.1 - Rate Sheets'!B:F,5,FALSE)","v":0},null,null,null,null,null,null,null,null,null,null,null,null,null,null,null,null,null,null,null,null,null,null,null,null,null,null,null,null,null,null,null,null,null,null,null,null,null,null,null,null,null,null,null,null,null,null,null,null,null,null,null,null,null,null,null,null,null,null,null,null,null,null,null,null,null,null,null,null,null,null,null,null,null,null,null,null,null,null,null,null,null,null,null,null,null,null,null,16,null,null,null,16,null,null,null,null,16,null,null,null,null,16,null,null,null,null,16,null,null,null,null,16,null,null,null,null,16,null,null,null,null,null,null,null,null,null,null,null,null,null,null,null,null,null,null,null,null,null,null,null,null,null,null,null,null,null,null,null,null,null,0,96,16,null,112,0,9529.92,1875.36,0,11405.28,11405.28,"Yes",0,0,0]
[null,304,"John Harn","General Foreman","Vendor No.02",null,"MIFPUC-4","2018-10-28","2018-11-03","Yes",{"$f":"VLOOKUP($D322,'C.1 - Rate Sheets'!B:F,2,FALSE)","v":0},{"$f":"VLOOKUP($D322,'C.1 - Rate Sheets'!B:F,3,FALSE)","v":160.21},{"$f":"VLOOKUP($D322,'C.1 - Rate Sheets'!B:F,4,FALSE)","v":208.18},{"$f":"VLOOKUP($D322,'C.1 - Rate Sheets'!B:F,5,FALSE)","v":0},null,null,null,null,null,null,null,null,null,null,null,null,null,null,null,null,null,null,null,null,null,null,null,null,null,null,null,null,null,null,null,null,null,null,null,null,null,null,null,null,null,null,null,null,null,null,null,null,null,null,null,null,null,null,null,null,null,null,null,null,null,null,null,null,null,null,null,null,null,null,null,null,null,null,null,null,null,null,null,null,null,null,null,null,null,null,null,16,null,null,null,16,null,null,null,null,16,null,null,null,null,16,null,null,null,null,16,null,null,null,null,16,null,null,null,null,null,null,null,null,null,null,null,null,null,null,null,null,null,null,null,null,null,null,null,null,null,null,null,null,null,null,null,null,null,null,null,null,null,null,0,80,16,null,96,0,12816.800000000001,3330.88,0,16147.68,16147.68,"Yes",0,0,0]
[null,305,"Bonnie Knopf","Safety","Vendor No.02",null,"MIFPUC-4","2018-10-28","2018-11-03","Yes",{"$f":"VLOOKUP($D323,'C.1 - Rate Sheets'!B:F,2,FALSE)","v":0},{"$f":"VLOOKUP($D323,'C.1 - Rate Sheets'!B:F,3,FALSE)","v":148.21},{"$f":"VLOOKUP($D323,'C.1 - Rate Sheets'!B:F,4,FALSE)","v":192.19},{"$f":"VLOOKUP($D323,'C.1 - Rate Sheets'!B:F,5,FALSE)","v":0},null,null,null,null,null,null,null,null,null,null,null,null,null,null,null,null,null,null,null,null,null,null,null,null,null,null,null,null,null,null,null,null,null,null,null,null,null,null,null,null,null,null,null,null,null,null,null,null,null,null,null,null,null,null,null,null,null,null,null,null,null,null,null,null,null,null,null,null,null,null,null,null,null,null,null,null,null,null,null,null,null,null,null,null,null,null,null,16,null,null,null,16,null,null,null,null,16,null,null,null,null,16,null,null,null,null,16,null,null,null,null,16,null,null,null,null,16,null,null,null,null,null,null,null,null,null,null,null,null,null,null,null,null,null,null,null,null,null,null,null,null,null,null,null,null,null,null,null,null,null,0,96,16,null,112,0,14228.16,3075.04,0,17303.2,17303.2,"Yes",0,0,0]
[null,306,"John Cour","General Foreman","Vendor No.02",null,"MIFPUC-4","2018-10-28","2018-11-03","Yes",{"$f":"VLOOKUP($D324,'C.1 - Rate Sheets'!B:F,2,FALSE)","v":0},{"$f":"VLOOKUP($D324,'C.1 - Rate Sheets'!B:F,3,FALSE)","v":160.21},{"$f":"VLOOKUP($D324,'C.1 - Rate Sheets'!B:F,4,FALSE)","v":208.18},{"$f":"VLOOKUP($D324,'C.1 - Rate Sheets'!B:F,5,FALSE)","v":0},null,null,null,null,null,null,null,null,null,null,null,null,null,null,null,null,null,null,null,null,null,null,null,null,null,null,null,null,null,null,null,null,null,null,null,null,null,null,null,null,null,null,null,null,null,null,null,null,null,null,null,null,null,null,null,null,null,null,null,null,null,null,null,null,null,null,null,null,null,null,null,null,null,null,null,null,null,null,null,null,null,null,null,null,null,null,null,16,null,null,null,16,null,null,null,null,16,null,null,null,null,16,null,null,null,null,16,null,null,null,null,16,null,null,null,null,16,null,null,null,null,null,null,null,null,null,null,null,null,null,null,null,null,null,null,null,null,null,null,null,null,null,null,null,null,null,null,null,null,null,0,96,16,null,112,0,15380.16,3330.88,0,18711.04,18711.04,"Yes",0,0,0]
[null,307,"Kinsey Winstead","Senior Lineman/Journeyman Lineman","Vendor No.02",null,"MIFPUC-4","2018-10-28","2018-11-03","Yes",{"$f":"VLOOKUP($D325,'C.1 - Rate Sheets'!B:F,2,FALSE)","v":0},{"$f":"VLOOKUP($D325,'C.1 - Rate Sheets'!B:F,3,FALSE)","v":136.22},{"$f":"VLOOKUP($D325,'C.1 - Rate Sheets'!B:F,4,FALSE)","v":176.19},{"$f":"VLOOKUP($D325,'C.1 - Rate Sheets'!B:F,5,FALSE)","v":0},null,null,null,null,null,null,null,null,null,null,null,null,null,null,null,null,null,null,null,null,null,null,null,null,null,null,null,null,null,null,null,null,null,null,null,null,null,null,null,null,null,null,null,null,null,null,null,null,null,null,null,null,null,null,null,null,null,null,null,null,null,null,null,null,null,null,null,null,null,null,null,null,null,null,null,null,null,null,null,null,null,null,null,null,null,null,null,16,null,null,null,16,null,null,null,null,16,null,null,null,null,16,null,null,null,null,16,null,null,null,null,16,null,null,null,null,16,null,null,null,null,null,null,null,null,null,null,null,null,null,null,null,null,null,null,null,null,null,null,null,null,null,null,null,null,null,null,null,null,null,0,96,16,null,112,0,13077.119999999999,2819.04,0,15896.16,15896.16,"Yes",0,0,0]
[null,308,"Sigfrido Chiong","Foreman","Vendor No.02",null,"MIFPUC-4","2018-10-28","2018-11-03","Yes",{"$f":"VLOOKUP($D326,'C.1 - Rate Sheets'!B:F,2,FALSE)","v":0},{"$f":"VLOOKUP($D326,'C.1 - Rate Sheets'!B:F,3,FALSE)","v":148.21},{"$f":"VLOOKUP($D326,'C.1 - Rate Sheets'!B:F,4,FALSE)","v":192.19},{"$f":"VLOOKUP($D326,'C.1 - Rate Sheets'!B:F,5,FALSE)","v":0},null,null,null,null,null,null,null,null,null,null,null,null,null,null,null,null,null,null,null,null,null,null,null,null,null,null,null,null,null,null,null,null,null,null,null,null,null,null,null,null,null,null,null,null,null,null,null,null,null,null,null,null,null,null,null,null,null,null,null,null,null,null,null,null,null,null,null,null,null,null,null,null,null,null,null,null,null,null,null,null,null,null,null,null,null,null,null,16,null,null,null,16,null,null,null,null,16,null,null,null,null,16,null,null,null,null,16,null,null,null,null,16,null,null,null,null,16,null,null,null,null,null,null,null,null,null,null,null,null,null,null,null,null,null,null,null,null,null,null,null,null,null,null,null,null,null,null,null,null,null,0,96,16,null,112,0,14228.16,3075.04,0,17303.2,17303.2,"Yes",0,0,0]
[null,309,"Jose Guttierez","Senior Lineman/Journeyman Lineman","Vendor No.02",null,"MIFPUC-4","2018-10-28","2018-11-03","Yes",{"$f":"VLOOKUP($D327,'C.1 - Rate Sheets'!B:F,2,FALSE)","v":0},{"$f":"VLOOKUP($D327,'C.1 - Rate Sheets'!B:F,3,FALSE)","v":136.22},{"$f":"VLOOKUP($D327,'C.1 - Rate Sheets'!B:F,4,FALSE)","v":176.19},{"$f":"VLOOKUP($D327,'C.1 - Rate Sheets'!B:F,5,FALSE)","v":0},null,null,null,null,null,null,null,null,null,null,null,null,null,null,null,null,null,null,null,null,null,null,null,null,null,null,null,null,null,null,null,null,null,null,null,null,null,null,null,null,null,null,null,null,null,null,null,null,null,null,null,null,null,null,null,null,null,null,null,null,null,null,null,null,null,null,null,null,null,null,null,null,null,null,null,null,null,null,null,null,null,null,null,null,null,null,null,16,null,null,null,16,null,null,null,null,16,null,null,null,null,16,null,null,null,null,16,null,null,null,null,16,null,null,null,null,16,null,null,null,null,null,null,null,null,null,null,null,null,null,null,null,null,null,null,null,null,null,null,null,null,null,null,null,null,null,null,null,null,null,0,96,16,null,112,0,13077.119999999999,2819.04,0,15896.16,15896.16,"Yes",0,0,0]
[null,310,"Dakota Pickup","Apprentice Helper","Vendor No.02",null,"MIFPUC-4","2018-10-28","2018-11-03","Yes",{"$f":"VLOOKUP($D328,'C.1 - Rate Sheets'!B:F,2,FALSE)","v":0},{"$f":"VLOOKUP($D328,'C.1 - Rate Sheets'!B:F,3,FALSE)","v":102.25},{"$f":"VLOOKUP($D328,'C.1 - Rate Sheets'!B:F,4,FALSE)","v":130.74},{"$f":"VLOOKUP($D328,'C.1 - Rate Sheets'!B:F,5,FALSE)","v":0},null,null,null,null,null,null,null,null,null,null,null,null,null,null,null,null,null,null,null,null,null,null,null,null,null,null,null,null,null,null,null,null,null,null,null,null,null,null,null,null,null,null,null,null,null,null,null,null,null,null,null,null,null,null,null,null,null,null,null,null,null,null,null,null,null,null,null,null,null,null,null,null,null,null,null,null,null,null,null,null,null,null,null,null,null,null,null,16,null,null,null,16,null,null,null,null,16,null,null,null,null,16,null,null,null,null,16,null,null,null,null,16,null,null,null,null,16,null,null,null,null,null,null,null,null,null,null,null,null,null,null,null,null,null,null,null,null,null,null,null,null,null,null,null,null,null,null,null,null,null,0,96,16,null,112,0,9816,2091.84,0,11907.84,11907.84,"Yes",0,0,0]
[null,311,"Jeremy Minkler","Groundman","Vendor No.02",null,"MIFPUC-4","2018-10-28","2018-11-03","Yes",{"$f":"VLOOKUP($D329,'C.1 - Rate Sheets'!B:F,2,FALSE)","v":0},{"$f":"VLOOKUP($D329,'C.1 - Rate Sheets'!B:F,3,FALSE)","v":99.27},{"$f":"VLOOKUP($D329,'C.1 - Rate Sheets'!B:F,4,FALSE)","v":117.21},{"$f":"VLOOKUP($D329,'C.1 - Rate Sheets'!B:F,5,FALSE)","v":0},null,null,null,null,null,null,null,null,null,null,null,null,null,null,null,null,null,null,null,null,null,null,null,null,null,null,null,null,null,null,null,null,null,null,null,null,null,null,null,null,null,null,null,null,null,null,null,null,null,null,null,null,null,null,null,null,null,null,null,null,null,null,null,null,null,null,null,null,null,null,null,null,null,null,null,null,null,null,null,null,null,null,null,null,null,null,null,16,null,null,null,16,null,null,null,null,16,null,null,null,null,16,null,null,null,null,16,null,null,null,null,16,null,null,null,null,16,null,null,null,null,null,null,null,null,null,null,null,null,null,null,null,null,null,null,null,null,null,null,null,null,null,null,null,null,null,null,null,null,null,0,96,16,null,112,0,9529.92,1875.36,0,11405.28,11405.28,"Yes",0,0,0]
[null,312,"Billy Dillashaw","Equipment Operator","Vendor No.02",null,"MIFPUC-4","2018-10-28","2018-11-03","Yes",{"$f":"VLOOKUP($D330,'C.1 - Rate Sheets'!B:F,2,FALSE)","v":0},{"$f":"VLOOKUP($D330,'C.1 - Rate Sheets'!B:F,3,FALSE)","v":116.87},{"$f":"VLOOKUP($D330,'C.1 - Rate Sheets'!B:F,4,FALSE)","v":151.13},{"$f":"VLOOKUP($D330,'C.1 - Rate Sheets'!B:F,5,FALSE)","v":0},null,null,null,null,null,null,null,null,null,null,null,null,null,null,null,null,null,null,null,null,null,null,null,null,null,null,null,null,null,null,null,null,null,null,null,null,null,null,null,null,null,null,null,null,null,null,null,null,null,null,null,null,null,null,null,null,null,null,null,null,null,null,null,null,null,null,null,null,null,null,null,null,null,null,null,null,null,null,null,null,null,null,null,null,null,null,null,16,null,null,null,16,null,null,null,null,16,null,null,null,null,16,null,null,null,null,16,null,null,null,null,16,null,null,null,null,16,null,null,null,null,null,null,null,null,null,null,null,null,null,null,null,null,null,null,null,null,null,null,null,null,null,null,null,null,null,null,null,null,null,0,96,16,null,112,0,11219.52,2418.08,0,13637.6,13637.6,"Yes",0,0,0]
[null,313,"Mike Katulka","Foreman","Vendor No.02",null,"MIFPUC-4","2018-10-28","2018-11-03","Yes",{"$f":"VLOOKUP($D331,'C.1 - Rate Sheets'!B:F,2,FALSE)","v":0},{"$f":"VLOOKUP($D331,'C.1 - Rate Sheets'!B:F,3,FALSE)","v":148.21},{"$f":"VLOOKUP($D331,'C.1 - Rate Sheets'!B:F,4,FALSE)","v":192.19},{"$f":"VLOOKUP($D331,'C.1 - Rate Sheets'!B:F,5,FALSE)","v":0},null,null,null,null,null,null,null,null,null,null,null,null,null,null,null,null,null,null,null,null,null,null,null,null,null,null,null,null,null,null,null,null,null,null,null,null,null,null,null,null,null,null,null,null,null,null,null,null,null,null,null,null,null,null,null,null,null,null,null,null,null,null,null,null,null,null,null,null,null,null,null,null,null,null,null,null,null,null,null,null,null,null,null,null,null,null,null,16,null,null,null,16,null,null,null,null,16,null,null,null,null,16,null,null,null,null,16,null,null,null,null,16,null,null,null,null,16,null,null,null,null,null,null,null,null,null,null,null,null,null,null,null,null,null,null,null,null,null,null,null,null,null,null,null,null,null,null,null,null,null,0,96,16,null,112,0,14228.16,3075.04,0,17303.2,17303.2,"Yes",0,0,0]
[null,314,"Yonielt Alfonso","Senior Lineman/Journeyman Lineman","Vendor No.02",null,"MIFPUC-4","2018-10-28","2018-11-03","Yes",{"$f":"VLOOKUP($D332,'C.1 - Rate Sheets'!B:F,2,FALSE)","v":0},{"$f":"VLOOKUP($D332,'C.1 - Rate Sheets'!B:F,3,FALSE)","v":136.22},{"$f":"VLOOKUP($D332,'C.1 - Rate Sheets'!B:F,4,FALSE)","v":176.19},{"$f":"VLOOKUP($D332,'C.1 - Rate Sheets'!B:F,5,FALSE)","v":0},null,null,null,null,null,null,null,null,null,null,null,null,null,null,null,null,null,null,null,null,null,null,null,null,null,null,null,null,null,null,null,null,null,null,null,null,null,null,null,null,null,null,null,null,null,null,null,null,null,null,null,null,null,null,null,null,null,null,null,null,null,null,null,null,null,null,null,null,null,null,null,null,null,null,null,null,null,null,null,null,null,null,null,null,null,null,null,16,null,null,null,16,null,null,null,null,16,null,null,null,null,16,null,null,null,null,16,null,null,null,null,16,null,null,null,null,16,null,null,null,null,null,null,null,null,null,null,null,null,null,null,null,null,null,null,null,null,null,null,null,null,null,null,null,null,null,null,null,null,null,0,96,16,null,112,0,13077.119999999999,2819.04,0,15896.16,15896.16,"Yes",0,0,0]
[null,315,"Joseph Kelly","Line Tech B","Vendor No.02",null,"MIFPUC-4","2018-10-28","2018-11-03","Yes",{"$f":"VLOOKUP($D333,'C.1 - Rate Sheets'!B:F,2,FALSE)","v":0},{"$f":"VLOOKUP($D333,'C.1 - Rate Sheets'!B:F,3,FALSE)","v":118.24},{"$f":"VLOOKUP($D333,'C.1 - Rate Sheets'!B:F,4,FALSE)","v":152.22},{"$f":"VLOOKUP($D333,'C.1 - Rate Sheets'!B:F,5,FALSE)","v":0},null,null,null,null,null,null,null,null,null,null,null,null,null,null,null,null,null,null,null,null,null,null,null,null,null,null,null,null,null,null,null,null,null,null,null,null,null,null,null,null,null,null,null,null,null,null,null,null,null,null,null,null,null,null,null,null,null,null,null,null,null,null,null,null,null,null,null,null,null,null,null,null,null,null,null,null,null,null,null,null,null,null,null,null,null,null,null,16,null,null,null,16,null,null,null,null,16,null,null,null,null,16,null,null,null,null,16,null,null,null,null,16,null,null,null,null,16,null,null,null,null,null,null,null,null,null,null,null,null,null,null,null,null,null,null,null,null,null,null,null,null,null,null,null,null,null,null,null,null,null,0,96,16,null,112,0,11351.039999999999,2435.52,0,13786.56,13786.56,"Yes",0,0,0]
[null,316,"Chris Miller","Apprentice Helper","Vendor No.02",null,"MIFPUC-4","2018-10-28","2018-11-03","Yes",{"$f":"VLOOKUP($D334,'C.1 - Rate Sheets'!B:F,2,FALSE)","v":0},{"$f":"VLOOKUP($D334,'C.1 - Rate Sheets'!B:F,3,FALSE)","v":102.25},{"$f":"VLOOKUP($D334,'C.1 - Rate Sheets'!B:F,4,FALSE)","v":130.74},{"$f":"VLOOKUP($D334,'C.1 - Rate Sheets'!B:F,5,FALSE)","v":0},null,null,null,null,null,null,null,null,null,null,null,null,null,null,null,null,null,null,null,null,null,null,null,null,null,null,null,null,null,null,null,null,null,null,null,null,null,null,null,null,null,null,null,null,null,null,null,null,null,null,null,null,null,null,null,null,null,null,null,null,null,null,null,null,null,null,null,null,null,null,null,null,null,null,null,null,null,null,null,null,null,null,null,null,null,null,null,16,null,null,null,16,null,null,null,null,16,null,null,null,null,16,null,null,null,null,16,null,null,null,null,16,null,null,null,null,16,null,null,null,null,null,null,null,null,null,null,null,null,null,null,null,null,null,null,null,null,null,null,null,null,null,null,null,null,null,null,null,null,null,0,96,16,null,112,0,9816,2091.84,0,11907.84,11907.84,"Yes",0,0,0]
[null,317,"Anthony Quay","Equipment Operator","Vendor No.02",null,"MIFPUC-4","2018-10-28","2018-11-03","Yes",{"$f":"VLOOKUP($D335,'C.1 - Rate Sheets'!B:F,2,FALSE)","v":0},{"$f":"VLOOKUP($D335,'C.1 - Rate Sheets'!B:F,3,FALSE)","v":116.87},{"$f":"VLOOKUP($D335,'C.1 - Rate Sheets'!B:F,4,FALSE)","v":151.13},{"$f":"VLOOKUP($D335,'C.1 - Rate Sheets'!B:F,5,FALSE)","v":0},null,null,null,null,null,null,null,null,null,null,null,null,null,null,null,null,null,null,null,null,null,null,null,null,null,null,null,null,null,null,null,null,null,null,null,null,null,null,null,null,null,null,null,null,null,null,null,null,null,null,null,null,null,null,null,null,null,null,null,null,null,null,null,null,null,null,null,null,null,null,null,null,null,null,null,null,null,null,null,null,null,null,null,null,null,null,null,16,null,null,null,16,null,null,null,null,16,null,null,null,null,16,null,null,null,null,16,null,null,null,null,16,null,null,null,null,16,null,null,null,null,null,null,null,null,null,null,null,null,null,null,null,null,null,null,null,null,null,null,null,null,null,null,null,null,null,null,null,null,null,0,96,16,null,112,0,11219.52,2418.08,0,13637.6,13637.6,"Yes",0,0,0]
[null,318,"Ismael Rivera","Foreman","Vendor No.02",null,"MIFPUC-4","2018-10-28","2018-11-03","Yes",{"$f":"VLOOKUP($D336,'C.1 - Rate Sheets'!B:F,2,FALSE)","v":0},{"$f":"VLOOKUP($D336,'C.1 - Rate Sheets'!B:F,3,FALSE)","v":148.21},{"$f":"VLOOKUP($D336,'C.1 - Rate Sheets'!B:F,4,FALSE)","v":192.19},{"$f":"VLOOKUP($D336,'C.1 - Rate Sheets'!B:F,5,FALSE)","v":0},null,null,null,null,null,null,null,null,null,null,null,null,null,null,null,null,null,null,null,null,null,null,null,null,null,null,null,null,null,null,null,null,null,null,null,null,null,null,null,null,null,null,null,null,null,null,null,null,null,null,null,null,null,null,null,null,null,null,null,null,null,null,null,null,null,null,null,null,null,null,null,null,null,null,null,null,null,null,null,null,null,null,null,null,null,null,null,16,null,null,null,16,null,null,null,null,16,null,null,null,null,16,null,null,null,null,16,null,null,null,null,16,null,null,null,null,16,null,null,null,null,null,null,null,null,null,null,null,null,null,null,null,null,null,null,null,null,null,null,null,null,null,null,null,null,null,null,null,null,null,0,96,16,null,112,0,14228.16,3075.04,0,17303.2,17303.2,"Yes",0,0,0]
[null,319,"Cesar Bello","Senior Lineman/Journeyman Lineman","Vendor No.02",null,"MIFPUC-4","2018-10-28","2018-11-03","Yes",{"$f":"VLOOKUP($D337,'C.1 - Rate Sheets'!B:F,2,FALSE)","v":0},{"$f":"VLOOKUP($D337,'C.1 - Rate Sheets'!B:F,3,FALSE)","v":136.22},{"$f":"VLOOKUP($D337,'C.1 - Rate Sheets'!B:F,4,FALSE)","v":176.19},{"$f":"VLOOKUP($D337,'C.1 - Rate Sheets'!B:F,5,FALSE)","v":0},null,null,null,null,null,null,null,null,null,null,null,null,null,null,null,null,null,null,null,null,null,null,null,null,null,null,null,null,null,null,null,null,null,null,null,null,null,null,null,null,null,null,null,null,null,null,null,null,null,null,null,null,null,null,null,null,null,null,null,null,null,null,null,null,null,null,null,null,null,null,null,null,null,null,null,null,null,null,null,null,null,null,null,null,null,null,null,16,null,null,null,16,null,null,null,null,16,null,null,null,null,16,null,null,null,null,16,null,null,null,null,16,null,null,null,null,16,null,null,null,null,null,null,null,null,null,null,null,null,null,null,null,null,null,null,null,null,null,null,null,null,null,null,null,null,null,null,null,null,null,0,96,16,null,112,0,13077.119999999999,2819.04,0,15896.16,15896.16,"Yes",0,0,0]
[null,320,"Pedro Rico","Senior Lineman/Journeyman Lineman","Vendor No.02",null,"MIFPUC-4","2018-10-28","2018-11-03","Yes",{"$f":"VLOOKUP($D338,'C.1 - Rate Sheets'!B:F,2,FALSE)","v":0},{"$f":"VLOOKUP($D338,'C.1 - Rate Sheets'!B:F,3,FALSE)","v":136.22},{"$f":"VLOOKUP($D338,'C.1 - Rate Sheets'!B:F,4,FALSE)","v":176.19},{"$f":"VLOOKUP($D338,'C.1 - Rate Sheets'!B:F,5,FALSE)","v":0},null,null,null,null,null,null,null,null,null,null,null,null,null,null,null,null,null,null,null,null,null,null,null,null,null,null,null,null,null,null,null,null,null,null,null,null,null,null,null,null,null,null,null,null,null,null,null,null,null,null,null,null,null,null,null,null,null,null,null,null,null,null,null,null,null,null,null,null,null,null,null,null,null,null,null,null,null,null,null,null,null,null,null,null,null,null,null,16,null,null,null,16,null,null,null,null,16,null,null,null,null,16,null,null,null,null,16,null,null,null,null,16,null,null,null,null,16,null,null,null,null,null,null,null,null,null,null,null,null,null,null,null,null,null,null,null,null,null,null,null,null,null,null,null,null,null,null,null,null,null,0,96,16,null,112,0,13077.119999999999,2819.04,0,15896.16,15896.16,"Yes",0,0,0]
[null,321,"Giovanni Febus","Senior Lineman/Journeyman Lineman","Vendor No.02",null,"MIFPUC-4","2018-10-28","2018-11-03","Yes",{"$f":"VLOOKUP($D339,'C.1 - Rate Sheets'!B:F,2,FALSE)","v":0},{"$f":"VLOOKUP($D339,'C.1 - Rate Sheets'!B:F,3,FALSE)","v":136.22},{"$f":"VLOOKUP($D339,'C.1 - Rate Sheets'!B:F,4,FALSE)","v":176.19},{"$f":"VLOOKUP($D339,'C.1 - Rate Sheets'!B:F,5,FALSE)","v":0},null,null,null,null,null,null,null,null,null,null,null,null,null,null,null,null,null,null,null,null,null,null,null,null,null,null,null,null,null,null,null,null,null,null,null,null,null,null,null,null,null,null,null,null,null,null,null,null,null,null,null,null,null,null,null,null,null,null,null,null,null,null,null,null,null,null,null,null,null,null,null,null,null,null,null,null,null,null,null,null,null,null,null,null,null,null,null,16,null,null,null,16,null,null,null,null,16,null,null,null,null,16,null,null,null,null,16,null,null,null,null,16,null,null,null,null,16,null,null,null,null,null,null,null,null,null,null,null,null,null,null,null,null,null,null,null,null,null,null,null,null,null,null,null,null,null,null,null,null,null,0,96,16,null,112,0,13077.119999999999,2819.04,0,15896.16,15896.16,"Yes",0,0,0]
[null,322,"Tanner Lewis","Apprentice Helper","Vendor No.02",null,"MIFPUC-4","2018-10-28","2018-11-03","Yes",{"$f":"VLOOKUP($D340,'C.1 - Rate Sheets'!B:F,2,FALSE)","v":0},{"$f":"VLOOKUP($D340,'C.1 - Rate Sheets'!B:F,3,FALSE)","v":102.25},{"$f":"VLOOKUP($D340,'C.1 - Rate Sheets'!B:F,4,FALSE)","v":130.74},{"$f":"VLOOKUP($D340,'C.1 - Rate Sheets'!B:F,5,FALSE)","v":0},null,null,null,null,null,null,null,null,null,null,null,null,null,null,null,null,null,null,null,null,null,null,null,null,null,null,null,null,null,null,null,null,null,null,null,null,null,null,null,null,null,null,null,null,null,null,null,null,null,null,null,null,null,null,null,null,null,null,null,null,null,null,null,null,null,null,null,null,null,null,null,null,null,null,null,null,null,null,null,null,null,null,null,null,null,null,null,16,null,null,null,16,null,null,null,null,16,null,null,null,null,16,null,null,null,null,16,null,null,null,null,16,null,null,null,null,16,null,null,null,null,null,null,null,null,null,null,null,null,null,null,null,null,null,null,null,null,null,null,null,null,null,null,null,null,null,null,null,null,null,0,96,16,null,112,0,9816,2091.84,0,11907.84,11907.84,"Yes",0,0,0]
[null,323,"Yeudiel Rivera","Foreman","Vendor No.02",null,"MIFPUC-4","2018-10-28","2018-11-03","Yes",{"$f":"VLOOKUP($D341,'C.1 - Rate Sheets'!B:F,2,FALSE)","v":0},{"$f":"VLOOKUP($D341,'C.1 - Rate Sheets'!B:F,3,FALSE)","v":148.21},{"$f":"VLOOKUP($D341,'C.1 - Rate Sheets'!B:F,4,FALSE)","v":192.19},{"$f":"VLOOKUP($D341,'C.1 - Rate Sheets'!B:F,5,FALSE)","v":0},null,null,null,null,null,null,null,null,null,null,null,null,null,null,null,null,null,null,null,null,null,null,null,null,null,null,null,null,null,null,null,null,null,null,null,null,null,null,null,null,null,null,null,null,null,null,null,null,null,null,null,null,null,null,null,null,null,null,null,null,null,null,null,null,null,null,null,null,null,null,null,null,null,null,null,null,null,null,null,null,null,null,null,null,null,null,null,16,null,null,null,16,null,null,null,null,16,null,null,null,null,16,null,null,null,null,16,null,null,null,null,16,null,null,null,null,16,null,null,null,null,null,null,null,null,null,null,null,null,null,null,null,null,null,null,null,null,null,null,null,null,null,null,null,null,null,null,null,null,null,{"$f":"FD341+EY341+ET341+EO341+EJ341+EE341+DZ341+DU341+DP341+DK341+DF341+DA341+CV341+CQ341+CL341+CG341+CB341+BW341+BR341+BM341+BH341+BC341+AX341+AS341+AN341+AI341+AD341+Y341+T341+O341","v":0},{"$f":"FE341+EZ341+EU341+EP341+EK341+EF341+EA341+DV341+DQ341+DL341+DG341+DB341+CW341+CR341+CM341+CH341+CC341+BX341+BS341+BN341+BI341+BD341+AY341+AT341+AO341+AJ341+AE341+Z341+U341+P341","v":96},{"$f":"FF341+FA341+EV341+EQ341+EL341+EG341+EB341+DW341+DR341+DM341+DH341+DC341+CX341+CS341+CN341+CI341+CD341+BY341+BT341+BO341+BJ341+BE341+AZ341+AU341+AP341+AK341+AF341+AA341+V341+Q341","v":16},null,{"$f":"SUM(FI341:FL341)","v":112},{"$f":"FI341*K341","v":0},{"$f":"FJ341*L341","v":14228.16},{"$f":"FK341*M341","v":3075.04},{"$f":"FL341*N341","v":0},{"$f":"SUM(FN341:FQ341)","v":17303.2},{"$f":"FR341-FU341","v":17303.2},"Yes",0,0,0]
[null,324,"Angel Calo","Senior Lineman/Journeyman Lineman","Vendor No.02",null,"MIFPUC-4","2018-10-28","2018-11-03","Yes",{"$f":"VLOOKUP($D342,'C.1 - Rate Sheets'!B:F,2,FALSE)","v":0},{"$f":"VLOOKUP($D342,'C.1 - Rate Sheets'!B:F,3,FALSE)","v":136.22},{"$f":"VLOOKUP($D342,'C.1 - Rate Sheets'!B:F,4,FALSE)","v":176.19},{"$f":"VLOOKUP($D342,'C.1 - Rate Sheets'!B:F,5,FALSE)","v":0},null,null,null,null,null,null,null,null,null,null,null,null,null,null,null,null,null,null,null,null,null,null,null,null,null,null,null,null,null,null,null,null,null,null,null,null,null,null,null,null,null,null,null,null,null,null,null,null,null,null,null,null,null,null,null,null,null,null,null,null,null,null,null,null,null,null,null,null,null,null,null,null,null,null,null,null,null,null,null,null,null,null,null,null,null,null,null,16,null,null,null,16,null,null,null,null,16,null,null,null,null,16,null,null,null,null,16,null,null,null,null,16,null,null,null,null,16,null,null,null,null,null,null,null,null,null,null,null,null,null,null,null,null,null,null,null,null,null,null,null,null,null,null,null,null,null,null,null,null,null,0,96,16,null,112,0,13077.119999999999,2819.04,0,15896.16,15896.16,"Yes",0,0,0]
[null,325,"Jose Clinton","Senior Lineman/Journeyman Lineman","Vendor No.02",null,"MIFPUC-4","2018-10-28","2018-11-03","Yes",{"$f":"VLOOKUP($D343,'C.1 - Rate Sheets'!B:F,2,FALSE)","v":0},{"$f":"VLOOKUP($D343,'C.1 - Rate Sheets'!B:F,3,FALSE)","v":136.22},{"$f":"VLOOKUP($D343,'C.1 - Rate Sheets'!B:F,4,FALSE)","v":176.19},{"$f":"VLOOKUP($D343,'C.1 - Rate Sheets'!B:F,5,FALSE)","v":0},null,null,null,null,null,null,null,null,null,null,null,null,null,null,null,null,null,null,null,null,null,null,null,null,null,null,null,null,null,null,null,null,null,null,null,null,null,null,null,null,null,null,null,null,null,null,null,null,null,null,null,null,null,null,null,null,null,null,null,null,null,null,null,null,null,null,null,null,null,null,null,null,null,null,null,null,null,null,null,null,null,null,null,null,null,null,null,16,null,null,null,16,null,null,null,null,16,null,null,null,null,16,null,null,null,null,16,null,null,null,null,16,null,null,null,null,16,null,null,null,null,null,null,null,null,null,null,null,null,null,null,null,null,null,null,null,null,null,null,null,null,null,null,null,null,null,null,null,null,null,0,96,16,null,112,0,13077.119999999999,2819.04,0,15896.16,15896.16,"Yes",0,0,0]
[null,326,"Joseph Febus","Groundman","Vendor No.02",null,"MIFPUC-4","2018-10-28","2018-11-03","Yes",{"$f":"VLOOKUP($D344,'C.1 - Rate Sheets'!B:F,2,FALSE)","v":0},{"$f":"VLOOKUP($D344,'C.1 - Rate Sheets'!B:F,3,FALSE)","v":99.27},{"$f":"VLOOKUP($D344,'C.1 - Rate Sheets'!B:F,4,FALSE)","v":117.21},{"$f":"VLOOKUP($D344,'C.1 - Rate Sheets'!B:F,5,FALSE)","v":0},null,null,null,null,null,null,null,null,null,null,null,null,null,null,null,null,null,null,null,null,null,null,null,null,null,null,null,null,null,null,null,null,null,null,null,null,null,null,null,null,null,null,null,null,null,null,null,null,null,null,null,null,null,null,null,null,null,null,null,null,null,null,null,null,null,null,null,null,null,null,null,null,null,null,null,null,null,null,null,null,null,null,null,null,null,null,null,16,null,null,null,16,null,null,null,null,16,null,null,null,null,16,null,null,null,null,16,null,null,null,null,16,null,null,null,null,16,null,null,null,null,null,null,null,null,null,null,null,null,null,null,null,null,null,null,null,null,null,null,null,null,null,null,null,null,null,null,null,null,null,0,96,16,null,112,0,9529.92,1875.36,0,11405.28,11405.28,"Yes",0,0,0]
[null,327,"Scotty Hogan","Equipment Operator","Vendor No.02",null,"MIFPUC-4","2018-10-28","2018-11-03","Yes",{"$f":"VLOOKUP($D345,'C.1 - Rate Sheets'!B:F,2,FALSE)","v":0},{"$f":"VLOOKUP($D345,'C.1 - Rate Sheets'!B:F,3,FALSE)","v":116.87},{"$f":"VLOOKUP($D345,'C.1 - Rate Sheets'!B:F,4,FALSE)","v":151.13},{"$f":"VLOOKUP($D345,'C.1 - Rate Sheets'!B:F,5,FALSE)","v":0},null,null,null,null,null,null,null,null,null,null,null,null,null,null,null,null,null,null,null,null,null,null,null,null,null,null,null,null,null,null,null,null,null,null,null,null,null,null,null,null,null,null,null,null,null,null,null,null,null,null,null,null,null,null,null,null,null,null,null,null,null,null,null,null,null,null,null,null,null,null,null,null,null,null,null,null,null,null,null,null,null,null,null,null,null,null,null,16,null,null,null,16,null,null,null,null,16,null,null,null,null,16,null,null,null,null,16,null,null,null,null,16,null,null,null,null,16,null,null,null,null,null,null,null,null,null,null,null,null,null,null,null,null,null,null,null,null,null,null,null,null,null,null,null,null,null,null,null,null,null,0,96,16,null,112,0,11219.52,2418.08,0,13637.6,13637.6,"Yes",0,0,0]
[null,328,"John Davis","Foreman","Vendor No.02",null,"MIFPUC-4","2018-10-28","2018-11-03","Yes",{"$f":"VLOOKUP($D346,'C.1 - Rate Sheets'!B:F,2,FALSE)","v":0},{"$f":"VLOOKUP($D346,'C.1 - Rate Sheets'!B:F,3,FALSE)","v":148.21},{"$f":"VLOOKUP($D346,'C.1 - Rate Sheets'!B:F,4,FALSE)","v":192.19},{"$f":"VLOOKUP($D346,'C.1 - Rate Sheets'!B:F,5,FALSE)","v":0},null,null,null,null,null,null,null,null,null,null,null,null,null,null,null,null,null,null,null,null,null,null,null,null,null,null,null,null,null,null,null,null,null,null,null,null,null,null,null,null,null,null,null,null,null,null,null,null,null,null,null,null,null,null,null,null,null,null,null,null,null,null,null,null,null,null,null,null,null,null,null,null,null,null,null,null,null,null,null,null,null,null,null,null,null,null,null,16,null,null,null,16,null,null,null,null,16,null,null,null,null,16,null,null,null,null,16,null,null,null,null,16,null,null,null,null,16,null,null,null,null,null,null,null,null,null,null,null,null,null,null,null,null,null,null,null,null,null,null,null,null,null,null,null,null,null,null,null,null,null,0,96,16,null,112,0,14228.16,3075.04,0,17303.2,17303.2,"Yes",0,0,0]
[null,329,"Matthew Breiling","Senior Lineman/Journeyman Lineman","Vendor No.02",null,"MIFPUC-4","2018-10-28","2018-11-03","Yes",{"$f":"VLOOKUP($D347,'C.1 - Rate Sheets'!B:F,2,FALSE)","v":0},{"$f":"VLOOKUP($D347,'C.1 - Rate Sheets'!B:F,3,FALSE)","v":136.22},{"$f":"VLOOKUP($D347,'C.1 - Rate Sheets'!B:F,4,FALSE)","v":176.19},{"$f":"VLOOKUP($D347,'C.1 - Rate Sheets'!B:F,5,FALSE)","v":0},null,null,null,null,null,null,null,null,null,null,null,null,null,null,null,null,null,null,null,null,null,null,null,null,null,null,null,null,null,null,null,null,null,null,null,null,null,null,null,null,null,null,null,null,null,null,null,null,null,null,null,null,null,null,null,null,null,null,null,null,null,null,null,null,null,null,null,null,null,null,null,null,null,null,null,null,null,null,null,null,null,null,null,null,null,null,null,16,null,null,null,16,null,null,null,null,16,null,null,null,null,16,null,null,null,null,16,null,null,null,null,16,null,null,null,null,16,null,null,null,null,null,null,null,null,null,null,null,null,null,null,null,null,null,null,null,null,null,null,null,null,null,null,null,null,null,null,null,null,null,0,96,16,null,112,0,13077.119999999999,2819.04,0,15896.16,15896.16,"Yes",0,0,0]
[null,330,"Michael Donnellan","Groundman","Vendor No.02",null,"MIFPUC-4","2018-10-28","2018-11-03","Yes",{"$f":"VLOOKUP($D348,'C.1 - Rate Sheets'!B:F,2,FALSE)","v":0},{"$f":"VLOOKUP($D348,'C.1 - Rate Sheets'!B:F,3,FALSE)","v":99.27},{"$f":"VLOOKUP($D348,'C.1 - Rate Sheets'!B:F,4,FALSE)","v":117.21},{"$f":"VLOOKUP($D348,'C.1 - Rate Sheets'!B:F,5,FALSE)","v":0},null,null,null,null,null,null,null,null,null,null,null,null,null,null,null,null,null,null,null,null,null,null,null,null,null,null,null,null,null,null,null,null,null,null,null,null,null,null,null,null,null,null,null,null,null,null,null,null,null,null,null,null,null,null,null,null,null,null,null,null,null,null,null,null,null,null,null,null,null,null,null,null,null,null,null,null,null,null,null,null,null,null,null,null,null,null,null,16,null,null,null,16,null,null,null,null,16,null,null,null,null,16,null,null,null,null,16,null,null,null,null,16,null,null,null,null,16,null,null,null,null,null,null,null,null,null,null,null,null,null,null,null,null,null,null,null,null,null,null,null,null,null,null,null,null,null,null,null,null,null,0,96,16,null,112,0,9529.92,1875.36,0,11405.28,11405.28,"Yes",0,0,0]
[null,331,"Emanuel Gonzalez","Senior Lineman/Journeyman Lineman","Vendor No.02",null,"MIFPUC-4","2018-10-28","2018-11-03","Yes",{"$f":"VLOOKUP($D349,'C.1 - Rate Sheets'!B:F,2,FALSE)","v":0},{"$f":"VLOOKUP($D349,'C.1 - Rate Sheets'!B:F,3,FALSE)","v":136.22},{"$f":"VLOOKUP($D349,'C.1 - Rate Sheets'!B:F,4,FALSE)","v":176.19},{"$f":"VLOOKUP($D349,'C.1 - Rate Sheets'!B:F,5,FALSE)","v":0},null,null,null,null,null,null,null,null,null,null,null,null,null,null,null,null,null,null,null,null,null,null,null,null,null,null,null,null,null,null,null,null,null,null,null,null,null,null,null,null,null,null,null,null,null,null,null,null,null,null,null,null,null,null,null,null,null,null,null,null,null,null,null,null,null,null,null,null,null,null,null,null,null,null,null,null,null,null,null,null,null,null,null,null,null,null,null,16,null,null,null,16,null,null,null,null,16,null,null,null,null,16,null,null,null,null,16,null,null,null,null,16,null,null,null,null,16,null,null,null,null,null,null,null,null,null,null,null,null,null,null,null,null,null,null,null,null,null,null,null,null,null,null,null,null,null,null,null,null,null,0,96,16,null,112,0,13077.119999999999,2819.04,0,15896.16,15896.16,"Yes",0,0,0]
[null,332,"Bobby Bahrami","Senior Lineman/Journeyman Lineman","Vendor No.02",null,"MIFPUC-4","2018-10-28","2018-11-03","Yes",{"$f":"VLOOKUP($D350,'C.1 - Rate Sheets'!B:F,2,FALSE)","v":0},{"$f":"VLOOKUP($D350,'C.1 - Rate Sheets'!B:F,3,FALSE)","v":136.22},{"$f":"VLOOKUP($D350,'C.1 - Rate Sheets'!B:F,4,FALSE)","v":176.19},{"$f":"VLOOKUP($D350,'C.1 - Rate Sheets'!B:F,5,FALSE)","v":0},null,null,null,null,null,null,null,null,null,null,null,null,null,null,null,null,null,null,null,null,null,null,null,null,null,null,null,null,null,null,null,null,null,null,null,null,null,null,null,null,null,null,null,null,null,null,null,null,null,null,null,null,null,null,null,null,null,null,null,null,null,null,null,null,null,null,null,null,null,null,null,null,null,null,null,null,null,null,null,null,null,null,null,null,null,null,null,16,null,null,null,16,null,null,null,null,16,null,null,null,null,16,null,null,null,null,16,null,null,null,null,16,null,null,null,null,16,null,null,null,null,null,null,null,null,null,null,null,null,null,null,null,null,null,null,null,null,null,null,null,null,null,null,null,null,null,null,null,null,null,0,96,16,null,112,0,13077.119999999999,2819.04,0,15896.16,15896.16,"Yes",0,0,0]
[null,333,"Mark Monaboe","Apprentice Helper","Vendor No.02",null,"MIFPUC-4","2018-10-28","2018-11-03","Yes",{"$f":"VLOOKUP($D351,'C.1 - Rate Sheets'!B:F,2,FALSE)","v":0},{"$f":"VLOOKUP($D351,'C.1 - Rate Sheets'!B:F,3,FALSE)","v":102.25},{"$f":"VLOOKUP($D351,'C.1 - Rate Sheets'!B:F,4,FALSE)","v":130.74},{"$f":"VLOOKUP($D351,'C.1 - Rate Sheets'!B:F,5,FALSE)","v":0},null,null,null,null,null,null,null,null,null,null,null,null,null,null,null,null,null,null,null,null,null,null,null,null,null,null,null,null,null,null,null,null,null,null,null,null,null,null,null,null,null,null,null,null,null,null,null,null,null,null,null,null,null,null,null,null,null,null,null,null,null,null,null,null,null,null,null,null,null,null,null,null,null,null,null,null,null,null,null,null,null,null,null,null,null,null,null,16,null,null,null,16,null,null,null,null,16,null,null,null,null,16,null,null,null,null,16,null,null,null,null,16,null,null,null,null,16,null,null,null,null,null,null,null,null,null,null,null,null,null,null,null,null,null,null,null,null,null,null,null,null,null,null,null,null,null,null,null,null,null,0,96,16,null,112,0,9816,2091.84,0,11907.84,11907.84,"Yes",0,0,0]
[null,334,"James Pinson","Foreman","Vendor No.02",null,"MIFPUC-4","2018-10-28","2018-11-03","Yes",{"$f":"VLOOKUP($D352,'C.1 - Rate Sheets'!B:F,2,FALSE)","v":0},{"$f":"VLOOKUP($D352,'C.1 - Rate Sheets'!B:F,3,FALSE)","v":148.21},{"$f":"VLOOKUP($D352,'C.1 - Rate Sheets'!B:F,4,FALSE)","v":192.19},{"$f":"VLOOKUP($D352,'C.1 - Rate Sheets'!B:F,5,FALSE)","v":0},null,null,null,null,null,null,null,null,null,null,null,null,null,null,null,null,null,null,null,null,null,null,null,null,null,null,null,null,null,null,null,null,null,null,null,null,null,null,null,null,null,null,null,null,null,null,null,null,null,null,null,null,null,null,null,null,null,null,null,null,null,null,null,null,null,null,null,null,null,null,null,null,null,null,null,null,null,null,null,null,null,null,null,null,null,null,null,16,null,null,null,16,null,null,null,null,16,null,null,null,null,16,null,null,null,null,16,null,null,null,null,16,null,null,null,null,16,null,null,null,null,null,null,null,null,null,null,null,null,null,null,null,null,null,null,null,null,null,null,null,null,null,null,null,null,null,null,null,null,null,0,96,16,null,112,0,14228.16,3075.04,0,17303.2,17303.2,"Yes",0,0,0]
[null,335,"Jorge Sotolongo","Groundman","Vendor No.02",null,"MIFPUC-4","2018-10-28","2018-11-03","Yes",{"$f":"VLOOKUP($D353,'C.1 - Rate Sheets'!B:F,2,FALSE)","v":0},{"$f":"VLOOKUP($D353,'C.1 - Rate Sheets'!B:F,3,FALSE)","v":99.27},{"$f":"VLOOKUP($D353,'C.1 - Rate Sheets'!B:F,4,FALSE)","v":117.21},{"$f":"VLOOKUP($D353,'C.1 - Rate Sheets'!B:F,5,FALSE)","v":0},null,null,null,null,null,null,null,null,null,null,null,null,null,null,null,null,null,null,null,null,null,null,null,null,null,null,null,null,null,null,null,null,null,null,null,null,null,null,null,null,null,null,null,null,null,null,null,null,null,null,null,null,null,null,null,null,null,null,null,null,null,null,null,null,null,null,null,null,null,null,null,null,null,null,null,null,null,null,null,null,null,null,null,null,null,null,null,16,null,null,null,16,null,null,null,null,16,null,null,null,null,16,null,null,null,null,16,null,null,null,null,16,null,null,null,null,16,null,null,null,null,null,null,null,null,null,null,null,null,null,null,null,null,null,null,null,null,null,null,null,null,null,null,null,null,null,null,null,null,null,0,96,16,null,112,0,9529.92,1875.36,0,11405.28,11405.28,"Yes",0,0,0]
[null,336,"Alex Herrnandez","Senior Lineman/Journeyman Lineman","Vendor No.02",null,"MIFPUC-4","2018-10-28","2018-11-03","Yes",{"$f":"VLOOKUP($D354,'C.1 - Rate Sheets'!B:F,2,FALSE)","v":0},{"$f":"VLOOKUP($D354,'C.1 - Rate Sheets'!B:F,3,FALSE)","v":136.22},{"$f":"VLOOKUP($D354,'C.1 - Rate Sheets'!B:F,4,FALSE)","v":176.19},{"$f":"VLOOKUP($D354,'C.1 - Rate Sheets'!B:F,5,FALSE)","v":0},null,null,null,null,null,null,null,null,null,null,null,null,null,null,null,null,null,null,null,null,null,null,null,null,null,null,null,null,null,null,null,null,null,null,null,null,null,null,null,null,null,null,null,null,null,null,null,null,null,null,null,null,null,null,null,null,null,null,null,null,null,null,null,null,null,null,null,null,null,null,null,null,null,null,null,null,null,null,null,null,null,null,null,null,null,null,null,16,null,null,null,16,null,null,null,null,16,null,null,null,null,16,null,null,null,null,16,null,null,null,null,16,null,null,null,null,16,null,null,null,null,null,null,null,null,null,null,null,null,null,null,null,null,null,null,null,null,null,null,null,null,null,null,null,null,null,null,null,null,null,0,96,16,null,112,0,13077.119999999999,2819.04,0,15896.16,15896.16,"Yes",0,0,0]
[null,337,"Garrett McDonald","Groundman","Vendor No.02",null,"MIFPUC-4","2018-10-28","2018-11-03","Yes",{"$f":"VLOOKUP($D355,'C.1 - Rate Sheets'!B:F,2,FALSE)","v":0},{"$f":"VLOOKUP($D355,'C.1 - Rate Sheets'!B:F,3,FALSE)","v":99.27},{"$f":"VLOOKUP($D355,'C.1 - Rate Sheets'!B:F,4,FALSE)","v":117.21},{"$f":"VLOOKUP($D355,'C.1 - Rate Sheets'!B:F,5,FALSE)","v":0},null,null,null,null,null,null,null,null,null,null,null,null,null,null,null,null,null,null,null,null,null,null,null,null,null,null,null,null,null,null,null,null,null,null,null,null,null,null,null,null,null,null,null,null,null,null,null,null,null,null,null,null,null,null,null,null,null,null,null,null,null,null,null,null,null,null,null,null,null,null,null,null,null,null,null,null,null,null,null,null,null,null,null,null,null,null,null,16,null,null,null,16,null,null,null,null,16,null,null,null,null,16,null,null,null,null,16,null,null,null,null,16,null,null,null,null,16,null,null,null,null,null,null,null,null,null,null,null,null,null,null,null,null,null,null,null,null,null,null,null,null,null,null,null,null,null,null,null,null,null,0,96,16,null,112,0,9529.92,1875.36,0,11405.28,11405.28,"Yes",0,0,0]
[null,338,"Joel Molina","Senior Lineman/Journeyman Lineman","Vendor No.02",null,"MIFPUC-4","2018-10-28","2018-11-03","Yes",{"$f":"VLOOKUP($D356,'C.1 - Rate Sheets'!B:F,2,FALSE)","v":0},{"$f":"VLOOKUP($D356,'C.1 - Rate Sheets'!B:F,3,FALSE)","v":136.22},{"$f":"VLOOKUP($D356,'C.1 - Rate Sheets'!B:F,4,FALSE)","v":176.19},{"$f":"VLOOKUP($D356,'C.1 - Rate Sheets'!B:F,5,FALSE)","v":0},null,null,null,null,null,null,null,null,null,null,null,null,null,null,null,null,null,null,null,null,null,null,null,null,null,null,null,null,null,null,null,null,null,null,null,null,null,null,null,null,null,null,null,null,null,null,null,null,null,null,null,null,null,null,null,null,null,null,null,null,null,null,null,null,null,null,null,null,null,null,null,null,null,null,null,null,null,null,null,null,null,null,null,null,null,null,null,16,null,null,null,16,null,null,null,null,16,null,null,null,null,16,null,null,null,null,16,null,null,null,null,16,null,null,null,null,16,null,null,null,null,null,null,null,null,null,null,null,null,null,null,null,null,null,null,null,null,null,null,null,null,null,null,null,null,null,null,null,null,null,0,96,16,null,112,0,13077.119999999999,2819.04,0,15896.16,15896.16,"Yes",0,0,0]
[null,339,"Vincent Miller","Apprentice Helper","Vendor No.02",null,"MIFPUC-4","2018-10-28","2018-11-03","Yes",{"$f":"VLOOKUP($D357,'C.1 - Rate Sheets'!B:F,2,FALSE)","v":0},{"$f":"VLOOKUP($D357,'C.1 - Rate Sheets'!B:F,3,FALSE)","v":102.25},{"$f":"VLOOKUP($D357,'C.1 - Rate Sheets'!B:F,4,FALSE)","v":130.74},{"$f":"VLOOKUP($D357,'C.1 - Rate Sheets'!B:F,5,FALSE)","v":0},null,null,null,null,null,null,null,null,null,null,null,null,null,null,null,null,null,null,null,null,null,null,null,null,null,null,null,null,null,null,null,null,null,null,null,null,null,null,null,null,null,null,null,null,null,null,null,null,null,null,null,null,null,null,null,null,null,null,null,null,null,null,null,null,null,null,null,null,null,null,null,null,null,null,null,null,null,null,null,null,null,null,null,null,null,null,null,null,null,null,null,null,null,null,null,null,null,null,null,null,null,null,null,null,null,null,null,null,null,null,null,null,null,null,null,null,null,null,null,null,null,null,null,null,null,null,null,null,null,null,null,null,null,null,null,null,null,null,null,null,null,null,null,null,null,null,null,null,null,null,0,0,0,null,0,0,0,0,0,0,0,"Yes",0,0,0]
[null,340,"Shannon Williams","Equipment Operator","Vendor No.02",null,"MIFPUC-4","2018-10-28","2018-11-03","Yes",{"$f":"VLOOKUP($D358,'C.1 - Rate Sheets'!B:F,2,FALSE)","v":0},{"$f":"VLOOKUP($D358,'C.1 - Rate Sheets'!B:F,3,FALSE)","v":116.87},{"$f":"VLOOKUP($D358,'C.1 - Rate Sheets'!B:F,4,FALSE)","v":151.13},{"$f":"VLOOKUP($D358,'C.1 - Rate Sheets'!B:F,5,FALSE)","v":0},null,null,null,null,null,null,null,null,null,null,null,null,null,null,null,null,null,null,null,null,null,null,null,null,null,null,null,null,null,null,null,null,null,null,null,null,null,null,null,null,null,null,null,null,null,null,null,null,null,null,null,null,null,null,null,null,null,null,null,null,null,null,null,null,null,null,null,null,null,null,null,null,null,null,null,null,null,null,null,null,null,null,null,null,null,null,null,16,null,null,null,16,null,null,null,null,16,null,null,null,null,16,null,null,null,null,16,null,null,null,null,16,null,null,null,null,16,null,null,null,null,null,null,null,null,null,null,null,null,null,null,null,null,null,null,null,null,null,null,null,null,null,null,null,null,null,null,null,null,null,0,96,16,null,112,0,11219.52,2418.08,0,13637.6,13637.6,"Yes",0,0,0]
[null,341,"Lino Carreras","Equipment Operator","Vendor No.02",null,"MIFPUC-4","2018-10-28","2018-11-03","Yes",{"$f":"VLOOKUP($D359,'C.1 - Rate Sheets'!B:F,2,FALSE)","v":0},{"$f":"VLOOKUP($D359,'C.1 - Rate Sheets'!B:F,3,FALSE)","v":116.87},{"$f":"VLOOKUP($D359,'C.1 - Rate Sheets'!B:F,4,FALSE)","v":151.13},{"$f":"VLOOKUP($D359,'C.1 - Rate Sheets'!B:F,5,FALSE)","v":0},null,null,null,null,null,null,null,null,null,null,null,null,null,null,null,null,null,null,null,null,null,null,null,null,null,null,null,null,null,null,null,null,null,null,null,null,null,null,null,null,null,null,null,null,null,null,null,null,null,null,null,null,null,null,null,null,null,null,null,null,null,null,null,null,null,null,null,null,null,null,null,null,null,null,null,null,null,null,null,null,null,null,null,null,null,null,null,16,null,null,null,16,null,null,null,null,16,null,null,null,null,16,null,null,null,null,16,null,null,null,null,16,null,null,null,null,16,null,null,null,null,null,null,null,null,null,null,null,null,null,null,null,null,null,null,null,null,null,null,null,null,null,null,null,null,null,null,null,null,null,0,96,16,null,112,0,11219.52,2418.08,0,13637.6,13637.6,"Yes",0,0,0]
[null,342,"Richard Byrd","Line Tech C","Vendor No.02",null,"MIFPUC-4","2018-10-28","2018-11-03","Yes",{"$f":"VLOOKUP($D360,'C.1 - Rate Sheets'!B:F,2,FALSE)","v":0},{"$f":"VLOOKUP($D360,'C.1 - Rate Sheets'!B:F,3,FALSE)","v":110.51},{"$f":"VLOOKUP($D360,'C.1 - Rate Sheets'!B:F,4,FALSE)","v":136.22999999999999},{"$f":"VLOOKUP($D360,'C.1 - Rate Sheets'!B:F,5,FALSE)","v":0},null,null,null,null,null,null,null,null,null,null,null,null,null,null,null,null,null,null,null,null,null,null,null,null,null,null,null,null,null,null,null,null,null,null,null,null,null,null,null,null,null,null,null,null,null,null,null,null,null,null,null,null,null,null,null,null,null,null,null,null,null,null,null,null,null,null,null,null,null,null,null,null,null,null,null,null,null,null,null,null,null,null,null,null,null,null,null,16,null,null,null,16,null,null,null,null,16,null,null,null,null,16,null,null,null,null,16,null,null,null,null,16,null,null,null,null,16,null,null,null,null,null,null,null,null,null,null,null,null,null,null,null,null,null,null,null,null,null,null,null,null,null,null,null,null,null,null,null,null,null,0,96,16,null,112,0,10608.960000000001,2179.6799999999998,0,12788.640000000001,12788.640000000001,"Yes",0,0,0]
[null,343,"Zeb Mondrella","Senior Lineman/Journeyman Lineman","Vendor No.02",null,"MIFPUC-4","2018-10-28","2018-11-03","Yes",{"$f":"VLOOKUP($D361,'C.1 - Rate Sheets'!B:F,2,FALSE)","v":0},{"$f":"VLOOKUP($D361,'C.1 - Rate Sheets'!B:F,3,FALSE)","v":136.22},{"$f":"VLOOKUP($D361,'C.1 - Rate Sheets'!B:F,4,FALSE)","v":176.19},{"$f":"VLOOKUP($D361,'C.1 - Rate Sheets'!B:F,5,FALSE)","v":0},null,null,null,null,null,null,null,null,null,null,null,null,null,null,null,null,null,null,null,null,null,null,null,null,null,null,null,null,null,null,null,null,null,null,null,null,null,null,null,null,null,null,null,null,null,null,null,null,null,null,null,null,null,null,null,null,null,null,null,null,null,null,null,null,null,null,null,null,null,null,null,null,null,null,null,null,null,null,null,null,null,null,null,null,null,null,null,16,null,null,null,16,null,null,null,null,16,null,null,null,null,16,null,null,null,null,16,null,null,null,null,null,null,null,null,null,null,null,null,null,null,null,null,null,null,null,null,null,null,null,null,null,null,null,null,null,null,null,null,null,null,null,null,null,null,null,null,null,null,null,0,64,16,null,80,0,8718.08,2819.04,0,11537.119999999999,11537.119999999999,"Yes",0,0,0]
[null,344,"James Morrel","Foreman","Vendor No.02",null,"MIFPUC-4","2018-10-28","2018-11-03","Yes",{"$f":"VLOOKUP($D362,'C.1 - Rate Sheets'!B:F,2,FALSE)","v":0},{"$f":"VLOOKUP($D362,'C.1 - Rate Sheets'!B:F,3,FALSE)","v":148.21},{"$f":"VLOOKUP($D362,'C.1 - Rate Sheets'!B:F,4,FALSE)","v":192.19},{"$f":"VLOOKUP($D362,'C.1 - Rate Sheets'!B:F,5,FALSE)","v":0},null,null,null,null,null,null,null,null,null,null,null,null,null,null,null,null,null,null,null,null,null,null,null,null,null,null,null,null,null,null,null,null,null,null,null,null,null,null,null,null,null,null,null,null,null,null,null,null,null,null,null,null,null,null,null,null,null,null,null,null,null,null,null,null,null,null,null,null,null,null,null,null,null,null,null,null,null,null,null,null,null,null,null,null,null,null,null,16,null,null,null,16,null,null,null,null,16,null,null,null,null,16,null,null,null,null,16,null,null,null,null,16,null,null,null,null,16,null,null,null,null,null,null,null,null,null,null,null,null,null,null,null,null,null,null,null,null,null,null,null,null,null,null,null,null,null,null,null,null,null,0,96,16,null,112,0,14228.16,3075.04,0,17303.2,17303.2,"Yes",0,0,0]
[null,345,"Gregory Race","Line Tech C","Vendor No.02",null,"MIFPUC-4","2018-10-28","2018-11-03","Yes",{"$f":"VLOOKUP($D363,'C.1 - Rate Sheets'!B:F,2,FALSE)","v":0},{"$f":"VLOOKUP($D363,'C.1 - Rate Sheets'!B:F,3,FALSE)","v":110.51},{"$f":"VLOOKUP($D363,'C.1 - Rate Sheets'!B:F,4,FALSE)","v":136.22999999999999},{"$f":"VLOOKUP($D363,'C.1 - Rate Sheets'!B:F,5,FALSE)","v":0},null,null,null,null,null,null,null,null,null,null,null,null,null,null,null,null,null,null,null,null,null,null,null,null,null,null,null,null,null,null,null,null,null,null,null,null,null,null,null,null,null,null,null,null,null,null,null,null,null,null,null,null,null,null,null,null,null,null,null,null,null,null,null,null,null,null,null,null,null,null,null,null,null,null,null,null,null,null,null,null,null,null,null,null,null,null,null,16,null,null,null,16,null,null,null,null,16,null,null,null,null,16,null,null,null,null,16,null,null,null,null,16,null,null,null,null,16,null,null,null,null,null,null,null,null,null,null,null,null,null,null,null,null,null,null,null,null,null,null,null,null,null,null,null,null,null,null,null,null,null,0,96,16,null,112,0,10608.960000000001,2179.6799999999998,0,12788.640000000001,12788.640000000001,"Yes",0,0,0]
[null,346,"Neil Springman","Mechanic","Vendor No.02",null,"MIFPUC-4","2018-10-28","2018-11-03","Yes",{"$f":"VLOOKUP($D364,'C.1 - Rate Sheets'!B:F,2,FALSE)","v":0},{"$f":"VLOOKUP($D364,'C.1 - Rate Sheets'!B:F,3,FALSE)","v":116.87},{"$f":"VLOOKUP($D364,'C.1 - Rate Sheets'!B:F,4,FALSE)","v":151.13},{"$f":"VLOOKUP($D364,'C.1 - Rate Sheets'!B:F,5,FALSE)","v":0},null,null,null,null,null,null,null,null,null,null,null,null,null,null,null,null,null,null,null,null,null,null,null,null,null,null,null,null,null,null,null,null,null,null,null,null,null,null,null,null,null,null,null,null,null,null,null,null,null,null,null,null,null,null,null,null,null,null,null,null,null,null,null,null,null,null,null,null,null,null,null,null,null,null,null,null,null,null,null,null,null,null,null,null,null,null,null,16,null,null,null,16,null,null,null,null,16,null,null,null,null,16,null,null,null,null,16,null,null,null,null,16,null,null,null,null,16,null,null,null,null,null,null,null,null,null,null,null,null,null,null,null,null,null,null,null,null,null,null,null,null,null,null,null,null,null,null,null,null,null,0,96,16,null,112,0,11219.52,2418.08,0,13637.6,13637.6,"Yes",0,0,0]
[null,347,"Ron Roush","General Foreman","Vendor No.02",null,"MIFPUC-4","2018-10-28","2018-11-03","Yes",{"$f":"VLOOKUP($D365,'C.1 - Rate Sheets'!B:F,2,FALSE)","v":0},{"$f":"VLOOKUP($D365,'C.1 - Rate Sheets'!B:F,3,FALSE)","v":160.21},{"$f":"VLOOKUP($D365,'C.1 - Rate Sheets'!B:F,4,FALSE)","v":208.18},{"$f":"VLOOKUP($D365,'C.1 - Rate Sheets'!B:F,5,FALSE)","v":0},null,null,null,null,null,null,null,null,null,null,null,null,null,null,null,null,null,null,null,null,null,null,null,null,null,null,null,null,null,null,null,null,null,null,null,null,null,null,null,null,null,null,null,null,null,null,null,null,null,null,null,null,null,null,null,null,null,null,null,null,null,null,null,null,null,null,null,null,null,null,null,null,null,null,null,null,null,null,null,null,null,null,null,null,null,null,null,16,null,null,null,16,null,null,null,null,16,null,null,null,null,16,null,null,null,null,16,null,null,null,null,16,null,null,null,null,16,null,null,null,null,null,null,null,null,null,null,null,null,null,null,null,null,null,null,null,null,null,null,null,null,null,null,null,null,null,null,null,null,null,0,96,16,null,112,0,15380.16,3330.88,0,18711.04,18711.04,"Yes",0,0,0]
[null,348,"Ryan Timms","Foreman","Vendor No.02",null,"MIFPUC-4","2018-10-28","2018-11-03","Yes",{"$f":"VLOOKUP($D366,'C.1 - Rate Sheets'!B:F,2,FALSE)","v":0},{"$f":"VLOOKUP($D366,'C.1 - Rate Sheets'!B:F,3,FALSE)","v":148.21},{"$f":"VLOOKUP($D366,'C.1 - Rate Sheets'!B:F,4,FALSE)","v":192.19},{"$f":"VLOOKUP($D366,'C.1 - Rate Sheets'!B:F,5,FALSE)","v":0},null,null,null,null,null,null,null,null,null,null,null,null,null,null,null,null,null,null,null,null,null,null,null,null,null,null,null,null,null,null,null,null,null,null,null,null,null,null,null,null,null,null,null,null,null,null,null,null,null,null,null,null,null,null,null,null,null,null,null,null,null,null,null,null,null,null,null,null,null,null,null,null,null,null,null,null,null,null,null,null,null,null,null,null,null,null,null,16,null,null,null,16,null,null,null,null,16,null,null,null,null,16,null,null,null,null,16,null,null,null,null,16,null,null,null,null,16,null,null,null,null,null,null,null,null,null,null,null,null,null,null,null,null,null,null,null,null,null,null,null,null,null,null,null,null,null,null,null,null,null,0,96,16,null,112,0,14228.16,3075.04,0,17303.2,17303.2,"Yes",0,0,0]
[null,349,"Aaron Mays","Senior Lineman/Journeyman Lineman","Vendor No.02",null,"MIFPUC-4","2018-10-28","2018-11-03","Yes",{"$f":"VLOOKUP($D367,'C.1 - Rate Sheets'!B:F,2,FALSE)","v":0},{"$f":"VLOOKUP($D367,'C.1 - Rate Sheets'!B:F,3,FALSE)","v":136.22},{"$f":"VLOOKUP($D367,'C.1 - Rate Sheets'!B:F,4,FALSE)","v":176.19},{"$f":"VLOOKUP($D367,'C.1 - Rate Sheets'!B:F,5,FALSE)","v":0},null,null,null,null,null,null,null,null,null,null,null,null,null,null,null,null,null,null,null,null,null,null,null,null,null,null,null,null,null,null,null,null,null,null,null,null,null,null,null,null,null,null,null,null,null,null,null,null,null,null,null,null,null,null,null,null,null,null,null,null,null,null,null,null,null,null,null,null,null,null,null,null,null,null,null,null,null,null,null,null,null,null,null,null,null,null,null,16,null,null,null,16,null,null,null,null,16,null,null,null,null,16,null,null,null,null,16,null,null,null,null,16,null,null,null,null,16,null,null,null,null,null,null,null,null,null,null,null,null,null,null,null,null,null,null,null,null,null,null,null,null,null,null,null,null,null,null,null,null,null,0,96,16,null,112,0,13077.119999999999,2819.04,0,15896.16,15896.16,"Yes",0,0,0]
[null,350,"Keith Kiphard","Apprentice Helper","Vendor No.02",null,"MIFPUC-4","2018-10-28","2018-11-03","Yes",{"$f":"VLOOKUP($D368,'C.1 - Rate Sheets'!B:F,2,FALSE)","v":0},{"$f":"VLOOKUP($D368,'C.1 - Rate Sheets'!B:F,3,FALSE)","v":102.25},{"$f":"VLOOKUP($D368,'C.1 - Rate Sheets'!B:F,4,FALSE)","v":130.74},{"$f":"VLOOKUP($D368,'C.1 - Rate Sheets'!B:F,5,FALSE)","v":0},null,null,null,null,null,null,null,null,null,null,null,null,null,null,null,null,null,null,null,null,null,null,null,null,null,null,null,null,null,null,null,null,null,null,null,null,null,null,null,null,null,null,null,null,null,null,null,null,null,null,null,null,null,null,null,null,null,null,null,null,null,null,null,null,null,null,null,null,null,null,null,null,null,null,null,null,null,null,null,null,null,null,null,null,null,null,null,16,null,null,null,16,null,null,null,null,16,null,null,null,null,16,null,null,null,null,16,null,null,null,null,16,null,null,null,null,16,null,null,null,null,null,null,null,null,null,null,null,null,null,null,null,null,null,null,null,null,null,null,null,null,null,null,null,null,null,null,null,null,null,0,96,16,null,112,0,9816,2091.84,0,11907.84,11907.84,"Yes",0,0,0]
[null,351,"Evan Bryson","Groundman","Vendor No.02",null,"MIFPUC-4","2018-10-28","2018-11-03","Yes",{"$f":"VLOOKUP($D369,'C.1 - Rate Sheets'!B:F,2,FALSE)","v":0},{"$f":"VLOOKUP($D369,'C.1 - Rate Sheets'!B:F,3,FALSE)","v":99.27},{"$f":"VLOOKUP($D369,'C.1 - Rate Sheets'!B:F,4,FALSE)","v":117.21},{"$f":"VLOOKUP($D369,'C.1 - Rate Sheets'!B:F,5,FALSE)","v":0},null,null,null,null,null,null,null,null,null,null,null,null,null,null,null,null,null,null,null,null,null,null,null,null,null,null,null,null,null,null,null,null,null,null,null,null,null,null,null,null,null,null,null,null,null,null,null,null,null,null,null,null,null,null,null,null,null,null,null,null,null,null,null,null,null,null,null,null,null,null,null,null,null,null,null,null,null,null,null,null,null,null,null,null,null,null,null,16,null,null,null,16,null,null,null,null,16,null,null,null,null,16,null,null,null,null,16,null,null,null,null,16,null,null,null,null,16,null,null,null,null,null,null,null,null,null,null,null,null,null,null,null,null,null,null,null,null,null,null,null,null,null,null,null,null,null,null,null,null,null,0,96,16,null,112,0,9529.92,1875.36,0,11405.28,11405.28,"Yes",0,0,0]
[null,352,"Cory Farris","Foreman","Vendor No.02",null,"MIFPUC-4","2018-10-28","2018-11-03","Yes",{"$f":"VLOOKUP($D370,'C.1 - Rate Sheets'!B:F,2,FALSE)","v":0},{"$f":"VLOOKUP($D370,'C.1 - Rate Sheets'!B:F,3,FALSE)","v":148.21},{"$f":"VLOOKUP($D370,'C.1 - Rate Sheets'!B:F,4,FALSE)","v":192.19},{"$f":"VLOOKUP($D370,'C.1 - Rate Sheets'!B:F,5,FALSE)","v":0},null,null,null,null,null,null,null,null,null,null,null,null,null,null,null,null,null,null,null,null,null,null,null,null,null,null,null,null,null,null,null,null,null,null,null,null,null,null,null,null,null,null,null,null,null,null,null,null,null,null,null,null,null,null,null,null,null,null,null,null,null,null,null,null,null,null,null,null,null,null,null,null,null,null,null,null,null,null,null,null,null,null,null,null,null,null,null,null,null,null,null,null,null,null,null,null,null,null,null,null,null,null,null,null,null,null,16,null,null,null,null,16,null,null,null,null,16,null,null,null,null,null,null,null,null,null,null,null,null,null,null,null,null,null,null,null,null,null,null,null,null,null,null,null,null,null,null,null,null,null,0,48,0,null,48,0,7114.08,0,0,7114.08,7114.08,"Yes",0,0,0]
[null,353,"Josh Parker","Senior Lineman/Journeyman Lineman","Vendor No.02",null,"MIFPUC-4","2018-10-28","2018-11-03","Yes",{"$f":"VLOOKUP($D371,'C.1 - Rate Sheets'!B:F,2,FALSE)","v":0},{"$f":"VLOOKUP($D371,'C.1 - Rate Sheets'!B:F,3,FALSE)","v":136.22},{"$f":"VLOOKUP($D371,'C.1 - Rate Sheets'!B:F,4,FALSE)","v":176.19},{"$f":"VLOOKUP($D371,'C.1 - Rate Sheets'!B:F,5,FALSE)","v":0},null,null,null,null,null,null,null,null,null,null,null,null,null,null,null,null,null,null,null,null,null,null,null,null,null,null,null,null,null,null,null,null,null,null,null,null,null,null,null,null,null,null,null,null,null,null,null,null,null,null,null,null,null,null,null,null,null,null,null,null,null,null,null,null,null,null,null,null,null,null,null,null,null,null,null,null,null,null,null,null,null,null,null,null,null,null,null,16,null,null,null,16,null,null,null,null,16,null,null,null,null,16,null,null,null,null,16,null,null,null,null,16,null,null,null,null,16,null,null,null,null,null,null,null,null,null,null,null,null,null,null,null,null,null,null,null,null,null,null,null,null,null,null,null,null,null,null,null,null,null,0,96,16,null,112,0,13077.119999999999,2819.04,0,15896.16,15896.16,"Yes",0,0,0]
[null,354,"Rodney Breedlove","Equipment Operator","Vendor No.02",null,"MIFPUC-4","2018-10-28","2018-11-03","Yes",{"$f":"VLOOKUP($D372,'C.1 - Rate Sheets'!B:F,2,FALSE)","v":0},{"$f":"VLOOKUP($D372,'C.1 - Rate Sheets'!B:F,3,FALSE)","v":116.87},{"$f":"VLOOKUP($D372,'C.1 - Rate Sheets'!B:F,4,FALSE)","v":151.13},{"$f":"VLOOKUP($D372,'C.1 - Rate Sheets'!B:F,5,FALSE)","v":0},null,null,null,null,null,null,null,null,null,null,null,null,null,null,null,null,null,null,null,null,null,null,null,null,null,null,null,null,null,null,null,null,null,null,null,null,null,null,null,null,null,null,null,null,null,null,null,null,null,null,null,null,null,null,null,null,null,null,null,null,null,null,null,null,null,null,null,null,null,null,null,null,null,null,null,null,null,null,null,null,null,null,null,null,null,null,null,null,null,null,null,null,null,null,null,null,null,null,null,null,null,null,null,null,null,null,null,null,null,null,null,null,null,null,null,null,null,null,null,null,null,null,null,null,null,null,null,null,null,null,null,null,null,null,null,null,null,null,null,null,null,null,null,null,null,null,null,null,null,null,0,0,0,null,0,0,0,0,0,0,0,"Yes",0,0,0]
[null,355,"Ken Gardner","Groundman","Vendor No.02",null,"MIFPUC-4","2018-10-28","2018-11-03","Yes",{"$f":"VLOOKUP($D373,'C.1 - Rate Sheets'!B:F,2,FALSE)","v":0},{"$f":"VLOOKUP($D373,'C.1 - Rate Sheets'!B:F,3,FALSE)","v":99.27},{"$f":"VLOOKUP($D373,'C.1 - Rate Sheets'!B:F,4,FALSE)","v":117.21},{"$f":"VLOOKUP($D373,'C.1 - Rate Sheets'!B:F,5,FALSE)","v":0},null,null,null,null,null,null,null,null,null,null,null,null,null,null,null,null,null,null,null,null,null,null,null,null,null,null,null,null,null,null,null,null,null,null,null,null,null,null,null,null,null,null,null,null,null,null,null,null,null,null,null,null,null,null,null,null,null,null,null,null,null,null,null,null,null,null,null,null,null,null,null,null,null,null,null,null,null,null,null,null,null,null,null,null,null,null,null,null,null,null,null,null,null,null,null,null,null,null,null,null,null,null,null,null,null,null,null,null,null,null,null,null,null,null,null,null,null,null,null,null,null,null,null,null,null,null,null,null,null,null,null,null,null,null,null,null,null,null,null,null,null,null,null,null,null,null,null,null,null,null,0,0,0,null,0,0,0,0,0,0,0,"Yes",0,0,0]
[null,356,"Nate McDonough","Foreman","Vendor No.02",null,"MIFPUC-4","2018-10-28","2018-11-03","Yes",{"$f":"VLOOKUP($D374,'C.1 - Rate Sheets'!B:F,2,FALSE)","v":0},{"$f":"VLOOKUP($D374,'C.1 - Rate Sheets'!B:F,3,FALSE)","v":148.21},{"$f":"VLOOKUP($D374,'C.1 - Rate Sheets'!B:F,4,FALSE)","v":192.19},{"$f":"VLOOKUP($D374,'C.1 - Rate Sheets'!B:F,5,FALSE)","v":0},null,null,null,null,null,null,null,null,null,null,null,null,null,null,null,null,null,null,null,null,null,null,null,null,null,null,null,null,null,null,null,null,null,null,null,null,null,null,null,null,null,null,null,null,null,null,null,null,null,null,null,null,null,null,null,null,null,null,null,null,null,null,null,null,null,null,null,null,null,null,null,null,null,null,null,null,null,null,null,null,null,null,null,null,null,null,null,16,null,null,null,16,null,null,null,null,16,null,null,null,null,16,null,null,null,null,16,null,null,null,null,16,null,null,null,null,16,null,null,null,null,null,null,null,null,null,null,null,null,null,null,null,null,null,null,null,null,null,null,null,null,null,null,null,null,null,null,null,null,null,0,96,16,null,112,0,14228.16,3075.04,0,17303.2,17303.2,"Yes",0,0,0]
[null,357,"Will Magard","Senior Lineman/Journeyman Lineman","Vendor No.02",null,"MIFPUC-4","2018-10-28","2018-11-03","Yes",{"$f":"VLOOKUP($D375,'C.1 - Rate Sheets'!B:F,2,FALSE)","v":0},{"$f":"VLOOKUP($D375,'C.1 - Rate Sheets'!B:F,3,FALSE)","v":136.22},{"$f":"VLOOKUP($D375,'C.1 - Rate Sheets'!B:F,4,FALSE)","v":176.19},{"$f":"VLOOKUP($D375,'C.1 - Rate Sheets'!B:F,5,FALSE)","v":0},null,null,null,null,null,null,null,null,null,null,null,null,null,null,null,null,null,null,null,null,null,null,null,null,null,null,null,null,null,null,null,null,null,null,null,null,null,null,null,null,null,null,null,null,null,null,null,null,null,null,null,null,null,null,null,null,null,null,null,null,null,null,null,null,null,null,null,null,null,null,null,null,null,null,null,null,null,null,null,null,null,null,null,null,null,null,null,16,null,null,null,16,null,null,null,null,16,null,null,null,null,16,null,null,null,null,16,null,null,null,null,16,null,null,null,null,16,null,null,null,null,null,null,null,null,null,null,null,null,null,null,null,null,null,null,null,null,null,null,null,null,null,null,null,null,null,null,null,null,null,0,96,16,null,112,0,13077.119999999999,2819.04,0,15896.16,15896.16,"Yes",0,0,0]
[null,358,"Cody Delotell","Apprentice Helper","Vendor No.02",null,"MIFPUC-4","2018-10-28","2018-11-03","Yes",{"$f":"VLOOKUP($D376,'C.1 - Rate Sheets'!B:F,2,FALSE)","v":0},{"$f":"VLOOKUP($D376,'C.1 - Rate Sheets'!B:F,3,FALSE)","v":102.25},{"$f":"VLOOKUP($D376,'C.1 - Rate Sheets'!B:F,4,FALSE)","v":130.74},{"$f":"VLOOKUP($D376,'C.1 - Rate Sheets'!B:F,5,FALSE)","v":0},null,null,null,null,null,null,null,null,null,null,null,null,null,null,null,null,null,null,null,null,null,null,null,null,null,null,null,null,null,null,null,null,null,null,null,null,null,null,null,null,null,null,null,null,null,null,null,null,null,null,null,null,null,null,null,null,null,null,null,null,null,null,null,null,null,null,null,null,null,null,null,null,null,null,null,null,null,null,null,null,null,null,null,null,null,null,null,16,null,null,null,16,null,null,null,null,16,null,null,null,null,16,null,null,null,null,16,null,null,null,null,16,null,null,null,null,16,null,null,null,null,null,null,null,null,null,null,null,null,null,null,null,null,null,null,null,null,null,null,null,null,null,null,null,null,null,null,null,null,null,0,96,16,null,112,0,9816,2091.84,0,11907.84,11907.84,"Yes",0,0,0]
[null,359,"Rusty Breedlove","Groundman","Vendor No.02",null,"MIFPUC-4","2018-10-28","2018-11-03","Yes",{"$f":"VLOOKUP($D377,'C.1 - Rate Sheets'!B:F,2,FALSE)","v":0},{"$f":"VLOOKUP($D377,'C.1 - Rate Sheets'!B:F,3,FALSE)","v":99.27},{"$f":"VLOOKUP($D377,'C.1 - Rate Sheets'!B:F,4,FALSE)","v":117.21},{"$f":"VLOOKUP($D377,'C.1 - Rate Sheets'!B:F,5,FALSE)","v":0},null,null,null,null,null,null,null,null,null,null,null,null,null,null,null,null,null,null,null,null,null,null,null,null,null,null,null,null,null,null,null,null,null,null,null,null,null,null,null,null,null,null,null,null,null,null,null,null,null,null,null,null,null,null,null,null,null,null,null,null,null,null,null,null,null,null,null,null,null,null,null,null,null,null,null,null,null,null,null,null,null,null,null,null,null,null,null,16,null,null,null,16,null,null,null,null,16,null,null,null,null,16,null,null,null,null,16,null,null,null,null,16,null,null,null,null,16,null,null,null,null,null,null,null,null,null,null,null,null,null,null,null,null,null,null,null,null,null,null,null,null,null,null,null,null,null,null,null,null,null,0,96,16,null,112,0,9529.92,1875.36,0,11405.28,11405.28,"Yes",0,0,0]
[null,360,"Kelly Drummond","Foreman","Vendor No.02",null,"MIFPUC-4","2018-10-28","2018-11-03","Yes",{"$f":"VLOOKUP($D378,'C.1 - Rate Sheets'!B:F,2,FALSE)","v":0},{"$f":"VLOOKUP($D378,'C.1 - Rate Sheets'!B:F,3,FALSE)","v":148.21},{"$f":"VLOOKUP($D378,'C.1 - Rate Sheets'!B:F,4,FALSE)","v":192.19},{"$f":"VLOOKUP($D378,'C.1 - Rate Sheets'!B:F,5,FALSE)","v":0},null,null,null,null,null,null,null,null,null,null,null,null,null,null,null,null,null,null,null,null,null,null,null,null,null,null,null,null,null,null,null,null,null,null,null,null,null,null,null,null,null,null,null,null,null,null,null,null,null,null,null,null,null,null,null,null,null,null,null,null,null,null,null,null,null,null,null,null,null,null,null,null,null,null,null,null,null,null,null,null,null,null,null,null,null,null,null,16,null,null,null,16,null,null,null,null,16,null,null,null,null,16,null,null,null,null,16,null,null,null,null,16,null,null,null,null,16,null,null,null,null,null,null,null,null,null,null,null,null,null,null,null,null,null,null,null,null,null,null,null,null,null,null,null,null,null,null,null,null,null,0,96,16,null,112,0,14228.16,3075.04,0,17303.2,17303.2,"Yes",0,0,0]
[null,361,"Selwyn Sampson","Senior Lineman/Journeyman Lineman","Vendor No.02",null,"MIFPUC-4","2018-10-28","2018-11-03","Yes",{"$f":"VLOOKUP($D379,'C.1 - Rate Sheets'!B:F,2,FALSE)","v":0},{"$f":"VLOOKUP($D379,'C.1 - Rate Sheets'!B:F,3,FALSE)","v":136.22},{"$f":"VLOOKUP($D379,'C.1 - Rate Sheets'!B:F,4,FALSE)","v":176.19},{"$f":"VLOOKUP($D379,'C.1 - Rate Sheets'!B:F,5,FALSE)","v":0},null,null,null,null,null,null,null,null,null,null,null,null,null,null,null,null,null,null,null,null,null,null,null,null,null,null,null,null,null,null,null,null,null,null,null,null,null,null,null,null,null,null,null,null,null,null,null,null,null,null,null,null,null,null,null,null,null,null,null,null,null,null,null,null,null,null,null,null,null,null,null,null,null,null,null,null,null,null,null,null,null,null,null,null,null,null,null,16,null,null,null,16,null,null,null,null,16,null,null,null,null,16,null,null,null,null,16,null,null,null,null,16,null,null,null,null,16,null,null,null,null,null,null,null,null,null,null,null,null,null,null,null,null,null,null,null,null,null,null,null,null,null,null,null,null,null,null,null,null,null,0,96,16,null,112,0,13077.119999999999,2819.04,0,15896.16,15896.16,"Yes",0,0,0]
[null,362,"Cody Maddox","Line Tech C","Vendor No.02",null,"MIFPUC-4","2018-10-28","2018-11-03","Yes",{"$f":"VLOOKUP($D380,'C.1 - Rate Sheets'!B:F,2,FALSE)","v":0},{"$f":"VLOOKUP($D380,'C.1 - Rate Sheets'!B:F,3,FALSE)","v":110.51},{"$f":"VLOOKUP($D380,'C.1 - Rate Sheets'!B:F,4,FALSE)","v":136.22999999999999},{"$f":"VLOOKUP($D380,'C.1 - Rate Sheets'!B:F,5,FALSE)","v":0},null,null,null,null,null,null,null,null,null,null,null,null,null,null,null,null,null,null,null,null,null,null,null,null,null,null,null,null,null,null,null,null,null,null,null,null,null,null,null,null,null,null,null,null,null,null,null,null,null,null,null,null,null,null,null,null,null,null,null,null,null,null,null,null,null,null,null,null,null,null,null,null,null,null,null,null,null,null,null,null,null,null,null,null,null,null,null,16,null,null,null,16,null,null,null,null,16,null,null,null,null,16,null,null,null,null,16,null,null,null,null,16,null,null,null,null,16,null,null,null,null,null,null,null,null,null,null,null,null,null,null,null,null,null,null,null,null,null,null,null,null,null,null,null,null,null,null,null,null,null,0,96,16,null,112,0,10608.960000000001,2179.6799999999998,0,12788.640000000001,12788.640000000001,"Yes",0,0,0]
[null,363,"Ray Campbell","Foreman","Vendor No.02",null,"MIFPUC-4","2018-10-28","2018-11-03","Yes",{"$f":"VLOOKUP($D381,'C.1 - Rate Sheets'!B:F,2,FALSE)","v":0},{"$f":"VLOOKUP($D381,'C.1 - Rate Sheets'!B:F,3,FALSE)","v":148.21},{"$f":"VLOOKUP($D381,'C.1 - Rate Sheets'!B:F,4,FALSE)","v":192.19},{"$f":"VLOOKUP($D381,'C.1 - Rate Sheets'!B:F,5,FALSE)","v":0},null,null,null,null,null,null,null,null,null,null,null,null,null,null,null,null,null,null,null,null,null,null,null,null,null,null,null,null,null,null,null,null,null,null,null,null,null,null,null,null,null,null,null,null,null,null,null,null,null,null,null,null,null,null,null,null,null,null,null,null,null,null,null,null,null,null,null,null,null,null,null,null,null,null,null,null,null,null,null,null,null,null,null,null,null,null,null,16,null,null,null,16,null,null,null,null,16,null,null,null,null,16,null,null,null,null,16,null,null,null,null,16,null,null,null,null,16,null,null,null,null,null,null,null,null,null,null,null,null,null,null,null,null,null,null,null,null,null,null,null,null,null,null,null,null,null,null,null,null,null,0,96,16,null,112,0,14228.16,3075.04,0,17303.2,17303.2,"Yes",0,0,0]
[null,364,"Scotty Sansone","Senior Lineman/Journeyman Lineman","Vendor No.02",null,"MIFPUC-4","2018-10-28","2018-11-03","Yes",{"$f":"VLOOKUP($D382,'C.1 - Rate Sheets'!B:F,2,FALSE)","v":0},{"$f":"VLOOKUP($D382,'C.1 - Rate Sheets'!B:F,3,FALSE)","v":136.22},{"$f":"VLOOKUP($D382,'C.1 - Rate Sheets'!B:F,4,FALSE)","v":176.19},{"$f":"VLOOKUP($D382,'C.1 - Rate Sheets'!B:F,5,FALSE)","v":0},null,null,null,null,null,null,null,null,null,null,null,null,null,null,null,null,null,null,null,null,null,null,null,null,null,null,null,null,null,null,null,null,null,null,null,null,null,null,null,null,null,null,null,null,null,null,null,null,null,null,null,null,null,null,null,null,null,null,null,null,null,null,null,null,null,null,null,null,null,null,null,null,null,null,null,null,null,null,null,null,null,null,null,null,null,null,null,16,null,null,null,16,null,null,null,null,16,null,null,null,null,16,null,null,null,null,16,null,null,null,null,16,null,null,null,null,16,null,null,null,null,null,null,null,null,null,null,null,null,null,null,null,null,null,null,null,null,null,null,null,null,null,null,null,null,null,null,null,null,null,0,96,16,null,112,0,13077.119999999999,2819.04,0,15896.16,15896.16,"Yes",0,0,0]
[null,365,"Nick Schwarz","Apprentice Helper","Vendor No.02",null,"MIFPUC-4","2018-10-28","2018-11-03","Yes",{"$f":"VLOOKUP($D383,'C.1 - Rate Sheets'!B:F,2,FALSE)","v":0},{"$f":"VLOOKUP($D383,'C.1 - Rate Sheets'!B:F,3,FALSE)","v":102.25},{"$f":"VLOOKUP($D383,'C.1 - Rate Sheets'!B:F,4,FALSE)","v":130.74},{"$f":"VLOOKUP($D383,'C.1 - Rate Sheets'!B:F,5,FALSE)","v":0},null,null,null,null,null,null,null,null,null,null,null,null,null,null,null,null,null,null,null,null,null,null,null,null,null,null,null,null,null,null,null,null,null,null,null,null,null,null,null,null,null,null,null,null,null,null,null,null,null,null,null,null,null,null,null,null,null,null,null,null,null,null,null,null,null,null,null,null,null,null,null,null,null,null,null,null,null,null,null,null,null,null,null,null,null,null,null,16,null,null,null,16,null,null,null,null,16,null,null,null,null,16,null,null,null,null,16,null,null,null,null,16,null,null,null,null,16,null,null,null,null,null,null,null,null,null,null,null,null,null,null,null,null,null,null,null,null,null,null,null,null,null,null,null,null,null,null,null,null,null,0,96,16,null,112,0,9816,2091.84,0,11907.84,11907.84,"Yes",0,0,0]
[null,366,"Mike Wellman","Groundman","Vendor No.02",null,"MIFPUC-4","2018-10-28","2018-11-03","Yes",{"$f":"VLOOKUP($D384,'C.1 - Rate Sheets'!B:F,2,FALSE)","v":0},{"$f":"VLOOKUP($D384,'C.1 - Rate Sheets'!B:F,3,FALSE)","v":99.27},{"$f":"VLOOKUP($D384,'C.1 - Rate Sheets'!B:F,4,FALSE)","v":117.21},{"$f":"VLOOKUP($D384,'C.1 - Rate Sheets'!B:F,5,FALSE)","v":0},null,null,null,null,null,null,null,null,null,null,null,null,null,null,null,null,null,null,null,null,null,null,null,null,null,null,null,null,null,null,null,null,null,null,null,null,null,null,null,null,null,null,null,null,null,null,null,null,null,null,null,null,null,null,null,null,null,null,null,null,null,null,null,null,null,null,null,null,null,null,null,null,null,null,null,null,null,null,null,null,null,null,null,null,null,null,null,16,null,null,null,16,null,null,null,null,16,null,null,null,null,16,null,null,null,null,16,null,null,null,null,16,null,null,null,null,16,null,null,null,null,null,null,null,null,null,null,null,null,null,null,null,null,null,null,null,null,null,null,null,null,null,null,null,null,null,null,null,null,null,0,96,16,null,112,0,9529.92,1875.36,0,11405.28,11405.28,"Yes",0,0,0]
[null,367,"Larry Potter","Groundman","Vendor No.02",null,"MIFPUC-4","2018-10-28","2018-11-03","Yes",{"$f":"VLOOKUP($D385,'C.1 - Rate Sheets'!B:F,2,FALSE)","v":0},{"$f":"VLOOKUP($D385,'C.1 - Rate Sheets'!B:F,3,FALSE)","v":99.27},{"$f":"VLOOKUP($D385,'C.1 - Rate Sheets'!B:F,4,FALSE)","v":117.21},{"$f":"VLOOKUP($D385,'C.1 - Rate Sheets'!B:F,5,FALSE)","v":0},null,null,null,null,null,null,null,null,null,null,null,null,null,null,null,null,null,null,null,null,null,null,null,null,null,null,null,null,null,null,null,null,null,null,null,null,null,null,null,null,null,null,null,null,null,null,null,null,null,null,null,null,null,null,null,null,null,null,null,null,null,null,null,null,null,null,null,null,null,null,null,null,null,null,null,null,null,null,null,null,null,null,null,null,null,null,null,16,null,null,null,16,null,null,null,null,16,null,null,null,null,16,null,null,null,null,16,null,null,null,null,16,null,null,null,null,16,null,null,null,null,null,null,null,null,null,null,null,null,null,null,null,null,null,null,null,null,null,null,null,null,null,null,null,null,null,null,null,null,null,0,96,16,null,112,0,9529.92,1875.36,0,11405.28,11405.28,"Yes",0,0,0]
[null,368,"Alex Rogers","Line Tech B","Vendor No.02",null,"MIFPUC-4","2018-10-28","2018-11-03","Yes",{"$f":"VLOOKUP($D386,'C.1 - Rate Sheets'!B:F,2,FALSE)","v":0},{"$f":"VLOOKUP($D386,'C.1 - Rate Sheets'!B:F,3,FALSE)","v":118.24},{"$f":"VLOOKUP($D386,'C.1 - Rate Sheets'!B:F,4,FALSE)","v":152.22},{"$f":"VLOOKUP($D386,'C.1 - Rate Sheets'!B:F,5,FALSE)","v":0},null,null,null,null,null,null,null,null,null,null,null,null,null,null,null,null,null,null,null,null,null,null,null,null,null,null,null,null,null,null,null,null,null,null,null,null,null,null,null,null,null,null,null,null,null,null,null,null,null,null,null,null,null,null,null,null,null,null,null,null,null,null,null,null,null,null,null,null,null,null,null,null,null,null,null,null,null,null,null,null,null,null,null,null,null,null,null,16,null,null,null,16,null,null,null,null,16,null,null,null,null,16,null,null,null,null,16,null,null,null,null,16,null,null,null,null,16,null,null,null,null,null,null,null,null,null,null,null,null,null,null,null,null,null,null,null,null,null,null,null,null,null,null,null,null,null,null,null,null,null,0,96,16,null,112,0,11351.039999999999,2435.52,0,13786.56,13786.56,"Yes",0,0,0]
[null,369,"Matt Montes","Groundman","Vendor No.02",null,"MIFPUC-4","2018-10-28","2018-11-03","Yes",{"$f":"VLOOKUP($D387,'C.1 - Rate Sheets'!B:F,2,FALSE)","v":0},{"$f":"VLOOKUP($D387,'C.1 - Rate Sheets'!B:F,3,FALSE)","v":99.27},{"$f":"VLOOKUP($D387,'C.1 - Rate Sheets'!B:F,4,FALSE)","v":117.21},{"$f":"VLOOKUP($D387,'C.1 - Rate Sheets'!B:F,5,FALSE)","v":0},null,null,null,null,null,null,null,null,null,null,null,null,null,null,null,null,null,null,null,null,null,null,null,null,null,null,null,null,null,null,null,null,null,null,null,null,null,null,null,null,null,null,null,null,null,null,null,null,null,null,null,null,null,null,null,null,null,null,null,null,null,null,null,null,null,null,null,null,null,null,null,null,null,null,null,null,null,null,null,null,null,null,null,null,null,null,null,16,null,null,null,16,null,null,null,null,16,null,null,null,null,16,null,null,null,null,16,null,null,null,null,16,null,null,null,null,16,null,null,null,null,null,null,null,null,null,null,null,null,null,null,null,null,null,null,null,null,null,null,null,null,null,null,null,null,null,null,null,null,null,0,96,16,null,112,0,9529.92,1875.36,0,11405.28,11405.28,"Yes",0,0,0]
[null,370,"Jose De Jesus","Groundman","Vendor No.02",null,"MIFPUC-4","2018-10-28","2018-11-03","Yes",{"$f":"VLOOKUP($D388,'C.1 - Rate Sheets'!B:F,2,FALSE)","v":0},{"$f":"VLOOKUP($D388,'C.1 - Rate Sheets'!B:F,3,FALSE)","v":99.27},{"$f":"VLOOKUP($D388,'C.1 - Rate Sheets'!B:F,4,FALSE)","v":117.21},{"$f":"VLOOKUP($D388,'C.1 - Rate Sheets'!B:F,5,FALSE)","v":0},null,null,null,null,null,null,null,null,null,null,null,null,null,null,null,null,null,null,null,null,null,null,null,null,null,null,null,null,null,null,null,null,null,null,null,null,null,null,null,null,null,null,null,null,null,null,null,null,null,null,null,null,null,null,null,null,null,null,null,null,null,null,null,null,null,null,null,null,null,null,null,null,null,null,null,null,null,null,null,null,null,null,null,null,null,null,null,16,null,null,null,16,null,null,null,null,16,null,null,null,null,16,null,null,null,null,16,null,null,null,null,16,null,null,null,null,16,null,null,null,null,null,null,null,null,null,null,null,null,null,null,null,null,null,null,null,null,null,null,null,null,null,null,null,null,null,null,null,null,null,0,96,16,null,112,0,9529.92,1875.36,0,11405.28,11405.28,"Yes",0,0,0]
[null,371,"Perry Chaffin","Senior Lineman/Journeyman Lineman","Vendor No.02",null,"MIFPUC-4","2018-10-28","2018-11-03","Yes",{"$f":"VLOOKUP($D389,'C.1 - Rate Sheets'!B:F,2,FALSE)","v":0},{"$f":"VLOOKUP($D389,'C.1 - Rate Sheets'!B:F,3,FALSE)","v":136.22},{"$f":"VLOOKUP($D389,'C.1 - Rate Sheets'!B:F,4,FALSE)","v":176.19},{"$f":"VLOOKUP($D389,'C.1 - Rate Sheets'!B:F,5,FALSE)","v":0},null,null,null,null,null,null,null,null,null,null,null,null,null,null,null,null,null,null,null,null,null,null,null,null,null,null,null,null,null,null,null,null,null,null,null,null,null,null,null,null,null,null,null,null,null,null,null,null,null,null,null,null,null,null,null,null,null,null,null,null,null,null,null,null,null,null,null,null,null,null,null,null,null,null,null,null,null,null,null,null,null,null,null,null,null,null,null,16,null,null,null,16,null,null,null,null,16,null,null,null,null,16,null,null,null,null,16,null,null,null,null,16,null,null,null,null,16,null,null,null,null,null,null,null,null,null,null,null,null,null,null,null,null,null,null,null,null,null,null,null,null,null,null,null,null,null,null,null,null,null,0,96,16,null,112,0,13077.119999999999,2819.04,0,15896.16,15896.16,"Yes",0,0,0]
[null,372,null,null,null,null,null,null,null,null,null,null,null,null,null,null,null,null,null,null,null,null,null,null,null,null,null,null,null,null,null,null,null,null,null,null,null,null,null,null,null,null,null,null,null,null,null,null,null,null,null,null,null,null,null,null,null,null,null,null,null,null,null,null,null,null,null,null,null,null,null,null,null,null,null,null,null,null,null,null,null,null,null,null,null,null,null,null,null,null,null,null,null,null,null,null,null,null,null,null,null,null,null,null,null,null,null,null,null,null,null,null,null,null,null,null,null,null,null,null,null,null,null,null,null,null,null,null,null,null,null,null,null,null,null,null,null,null,null,null,null,null,null,null,null,null,null,null,null,null,null,null,null,null,null,null,null,null,null,null,null,null,null,null,0,0,0,null,0,0,0,0,0,0,0,"Yes",0,0,0]
[null,373,"Gustavo Monteagudo","Foreman","Vendor No.02",null,"MIFPUC-5","2018-11-04","2018-11-05","Yes",{"$f":"VLOOKUP($D391,'C.1 - Rate Sheets'!B:F,2,FALSE)","v":0},{"$f":"VLOOKUP($D391,'C.1 - Rate Sheets'!B:F,3,FALSE)","v":148.21},{"$f":"VLOOKUP($D391,'C.1 - Rate Sheets'!B:F,4,FALSE)","v":192.19},{"$f":"VLOOKUP($D391,'C.1 - Rate Sheets'!B:F,5,FALSE)","v":0},null,null,null,null,null,null,null,null,null,null,null,null,null,null,null,null,null,null,null,null,null,null,null,null,null,null,null,null,null,null,null,null,null,null,null,null,null,null,null,null,null,null,null,null,null,null,null,null,null,null,null,null,null,null,null,null,null,null,null,null,null,null,null,null,null,null,null,null,null,null,null,null,null,null,null,null,null,null,null,null,null,null,null,null,null,null,null,null,null,null,null,null,null,null,null,null,null,null,null,null,null,null,null,null,null,null,null,null,null,null,null,null,null,null,null,null,null,null,null,null,null,null,16,null,null,null,16,null,null,null,null,null,null,null,null,null,null,null,null,null,null,null,null,null,null,null,null,null,null,null,0,16,16,null,32,0,2371.36,3075.04,0,5446.4,5446.4,"Yes",0,0,0]
[null,374,"Aroy Fildalgo","Senior Lineman/Journeyman Lineman","Vendor No.02",null,"MIFPUC-5","2018-11-04","2018-11-05","Yes",{"$f":"VLOOKUP($D392,'C.1 - Rate Sheets'!B:F,2,FALSE)","v":0},{"$f":"VLOOKUP($D392,'C.1 - Rate Sheets'!B:F,3,FALSE)","v":136.22},{"$f":"VLOOKUP($D392,'C.1 - Rate Sheets'!B:F,4,FALSE)","v":176.19},{"$f":"VLOOKUP($D392,'C.1 - Rate Sheets'!B:F,5,FALSE)","v":0},null,null,null,null,null,null,null,null,null,null,null,null,null,null,null,null,null,null,null,null,null,null,null,null,null,null,null,null,null,null,null,null,null,null,null,null,null,null,null,null,null,null,null,null,null,null,null,null,null,null,null,null,null,null,null,null,null,null,null,null,null,null,null,null,null,null,null,null,null,null,null,null,null,null,null,null,null,null,null,null,null,null,null,null,null,null,null,null,null,null,null,null,null,null,null,null,null,null,null,null,null,null,null,null,null,null,null,null,null,null,null,null,null,null,null,null,null,null,null,null,null,null,16,null,null,null,16,null,null,null,null,null,null,null,null,null,null,null,null,null,null,null,null,null,null,null,null,null,null,null,0,16,16,null,32,0,2179.52,2819.04,0,4998.5599999999995,4998.5599999999995,"Yes",0,0,0]
[null,375,"Addiel DeCardenas","Senior Lineman/Journeyman Lineman","Vendor No.02",null,"MIFPUC-5","2018-11-04","2018-11-05","Yes",{"$f":"VLOOKUP($D393,'C.1 - Rate Sheets'!B:F,2,FALSE)","v":0},{"$f":"VLOOKUP($D393,'C.1 - Rate Sheets'!B:F,3,FALSE)","v":136.22},{"$f":"VLOOKUP($D393,'C.1 - Rate Sheets'!B:F,4,FALSE)","v":176.19},{"$f":"VLOOKUP($D393,'C.1 - Rate Sheets'!B:F,5,FALSE)","v":0},null,null,null,null,null,null,null,null,null,null,null,null,null,null,null,null,null,null,null,null,null,null,null,null,null,null,null,null,null,null,null,null,null,null,null,null,null,null,null,null,null,null,null,null,null,null,null,null,null,null,null,null,null,null,null,null,null,null,null,null,null,null,null,null,null,null,null,null,null,null,null,null,null,null,null,null,null,null,null,null,null,null,null,null,null,null,null,null,null,null,null,null,null,null,null,null,null,null,null,null,null,null,null,null,null,null,null,null,null,null,null,null,null,null,null,null,null,null,null,null,null,null,16,null,null,null,16,null,null,null,null,null,null,null,null,null,null,null,null,null,null,null,null,null,null,null,null,null,null,null,0,16,16,null,32,0,2179.52,2819.04,0,4998.5599999999995,4998.5599999999995,"Yes",0,0,0]
[null,376,"Bruno Thiago","Senior Lineman/Journeyman Lineman","Vendor No.02",null,"MIFPUC-5","2018-11-04","2018-11-05","Yes",{"$f":"VLOOKUP($D394,'C.1 - Rate Sheets'!B:F,2,FALSE)","v":0},{"$f":"VLOOKUP($D394,'C.1 - Rate Sheets'!B:F,3,FALSE)","v":136.22},{"$f":"VLOOKUP($D394,'C.1 - Rate Sheets'!B:F,4,FALSE)","v":176.19},{"$f":"VLOOKUP($D394,'C.1 - Rate Sheets'!B:F,5,FALSE)","v":0},null,null,null,null,null,null,null,null,null,null,null,null,null,null,null,null,null,null,null,null,null,null,null,null,null,null,null,null,null,null,null,null,null,null,null,null,null,null,null,null,null,null,null,null,null,null,null,null,null,null,null,null,null,null,null,null,null,null,null,null,null,null,null,null,null,null,null,null,null,null,null,null,null,null,null,null,null,null,null,null,null,null,null,null,null,null,null,null,null,null,null,null,null,null,null,null,null,null,null,null,null,null,null,null,null,null,null,null,null,null,null,null,null,null,null,null,null,null,null,null,null,null,16,null,null,null,16,null,null,null,null,null,null,null,null,null,null,null,null,null,null,null,null,null,null,null,null,null,null,null,0,16,16,null,32,0,2179.52,2819.04,0,4998.5599999999995,4998.5599999999995,"Yes",0,0,0]
[null,377,"Iran Fernandez","Groundman","Vendor No.02",null,"MIFPUC-5","2018-11-04","2018-11-05","Yes",{"$f":"VLOOKUP($D395,'C.1 - Rate Sheets'!B:F,2,FALSE)","v":0},{"$f":"VLOOKUP($D395,'C.1 - Rate Sheets'!B:F,3,FALSE)","v":99.27},{"$f":"VLOOKUP($D395,'C.1 - Rate Sheets'!B:F,4,FALSE)","v":117.21},{"$f":"VLOOKUP($D395,'C.1 - Rate Sheets'!B:F,5,FALSE)","v":0},null,null,null,null,null,null,null,null,null,null,null,null,null,null,null,null,null,null,null,null,null,null,null,null,null,null,null,null,null,null,null,null,null,null,null,null,null,null,null,null,null,null,null,null,null,null,null,null,null,null,null,null,null,null,null,null,null,null,null,null,null,null,null,null,null,null,null,null,null,null,null,null,null,null,null,null,null,null,null,null,null,null,null,null,null,null,null,null,null,null,null,null,null,null,null,null,null,null,null,null,null,null,null,null,null,null,null,null,null,null,null,null,null,null,null,null,null,null,null,null,null,null,16,null,null,null,16,null,null,null,null,null,null,null,null,null,null,null,null,null,null,null,null,null,null,null,null,null,null,null,0,16,16,null,32,0,1588.32,1875.36,0,3463.68,3463.68,"Yes",0,0,0]
[null,378,"Deatrick Forbes","Foreman","Vendor No.02",null,"MIFPUC-5","2018-11-04","2018-11-05","Yes",{"$f":"VLOOKUP($D396,'C.1 - Rate Sheets'!B:F,2,FALSE)","v":0},{"$f":"VLOOKUP($D396,'C.1 - Rate Sheets'!B:F,3,FALSE)","v":148.21},{"$f":"VLOOKUP($D396,'C.1 - Rate Sheets'!B:F,4,FALSE)","v":192.19},{"$f":"VLOOKUP($D396,'C.1 - Rate Sheets'!B:F,5,FALSE)","v":0},null,null,null,null,null,null,null,null,null,null,null,null,null,null,null,null,null,null,null,null,null,null,null,null,null,null,null,null,null,null,null,null,null,null,null,null,null,null,null,null,null,null,null,null,null,null,null,null,null,null,null,null,null,null,null,null,null,null,null,null,null,null,null,null,null,null,null,null,null,null,null,null,null,null,null,null,null,null,null,null,null,null,null,null,null,null,null,null,null,null,null,null,null,null,null,null,null,null,null,null,null,null,null,null,null,null,null,null,null,null,null,null,null,null,null,null,null,null,null,null,null,null,16,null,null,null,16,null,null,null,null,null,null,null,null,null,null,null,null,null,null,null,null,null,null,null,null,null,null,null,0,16,16,null,32,0,2371.36,3075.04,0,5446.4,5446.4,"Yes",0,0,0]
[null,379,"Guilermo Arias","Senior Lineman/Journeyman Lineman","Vendor No.02",null,"MIFPUC-5","2018-11-04","2018-11-05","Yes",{"$f":"VLOOKUP($D397,'C.1 - Rate Sheets'!B:F,2,FALSE)","v":0},{"$f":"VLOOKUP($D397,'C.1 - Rate Sheets'!B:F,3,FALSE)","v":136.22},{"$f":"VLOOKUP($D397,'C.1 - Rate Sheets'!B:F,4,FALSE)","v":176.19},{"$f":"VLOOKUP($D397,'C.1 - Rate Sheets'!B:F,5,FALSE)","v":0},null,null,null,null,null,null,null,null,null,null,null,null,null,null,null,null,null,null,null,null,null,null,null,null,null,null,null,null,null,null,null,null,null,null,null,null,null,null,null,null,null,null,null,null,null,null,null,null,null,null,null,null,null,null,null,null,null,null,null,null,null,null,null,null,null,null,null,null,null,null,null,null,null,null,null,null,null,null,null,null,null,null,null,null,null,null,null,null,null,null,null,null,null,null,null,null,null,null,null,null,null,null,null,null,null,null,null,null,null,null,null,null,null,null,null,null,null,null,null,null,null,null,16,null,null,null,16,null,null,null,null,null,null,null,null,null,null,null,null,null,null,null,null,null,null,null,null,null,null,null,0,16,16,null,32,0,2179.52,2819.04,0,4998.5599999999995,4998.5599999999995,"Yes",0,0,0]
[null,380,"Mark Machado","Senior Lineman/Journeyman Lineman","Vendor No.02",null,"MIFPUC-5","2018-11-04","2018-11-05","Yes",{"$f":"VLOOKUP($D398,'C.1 - Rate Sheets'!B:F,2,FALSE)","v":0},{"$f":"VLOOKUP($D398,'C.1 - Rate Sheets'!B:F,3,FALSE)","v":136.22},{"$f":"VLOOKUP($D398,'C.1 - Rate Sheets'!B:F,4,FALSE)","v":176.19},{"$f":"VLOOKUP($D398,'C.1 - Rate Sheets'!B:F,5,FALSE)","v":0},null,null,null,null,null,null,null,null,null,null,null,null,null,null,null,null,null,null,null,null,null,null,null,null,null,null,null,null,null,null,null,null,null,null,null,null,null,null,null,null,null,null,null,null,null,null,null,null,null,null,null,null,null,null,null,null,null,null,null,null,null,null,null,null,null,null,null,null,null,null,null,null,null,null,null,null,null,null,null,null,null,null,null,null,null,null,null,null,null,null,null,null,null,null,null,null,null,null,null,null,null,null,null,null,null,null,null,null,null,null,null,null,null,null,null,null,null,null,null,null,null,null,16,null,null,null,16,null,null,null,null,null,null,null,null,null,null,null,null,null,null,null,null,null,null,null,null,null,null,null,0,16,16,null,32,0,2179.52,2819.04,0,4998.5599999999995,4998.5599999999995,"Yes",0,0,0]
[null,381,"Andrew Wilson","Line Tech C","Vendor No.02",null,"MIFPUC-5","2018-11-04","2018-11-05","Yes",{"$f":"VLOOKUP($D399,'C.1 - Rate Sheets'!B:F,2,FALSE)","v":0},{"$f":"VLOOKUP($D399,'C.1 - Rate Sheets'!B:F,3,FALSE)","v":110.51},{"$f":"VLOOKUP($D399,'C.1 - Rate Sheets'!B:F,4,FALSE)","v":136.22999999999999},{"$f":"VLOOKUP($D399,'C.1 - Rate Sheets'!B:F,5,FALSE)","v":0},null,null,null,null,null,null,null,null,null,null,null,null,null,null,null,null,null,null,null,null,null,null,null,null,null,null,null,null,null,null,null,null,null,null,null,null,null,null,null,null,null,null,null,null,null,null,null,null,null,null,null,null,null,null,null,null,null,null,null,null,null,null,null,null,null,null,null,null,null,null,null,null,null,null,null,null,null,null,null,null,null,null,null,null,null,null,null,null,null,null,null,null,null,null,null,null,null,null,null,null,null,null,null,null,null,null,null,null,null,null,null,null,null,null,null,null,null,null,null,null,null,null,16,null,null,null,16,null,null,null,null,null,null,null,null,null,null,null,null,null,null,null,null,null,null,null,null,null,null,null,0,16,16,null,32,0,1768.16,2179.6799999999998,0,3947.84,3947.84,"Yes",0,0,0]
[null,382,"Aaron Bessent","Groundman","Vendor No.02",null,"MIFPUC-5","2018-11-04","2018-11-05","Yes",{"$f":"VLOOKUP($D400,'C.1 - Rate Sheets'!B:F,2,FALSE)","v":0},{"$f":"VLOOKUP($D400,'C.1 - Rate Sheets'!B:F,3,FALSE)","v":99.27},{"$f":"VLOOKUP($D400,'C.1 - Rate Sheets'!B:F,4,FALSE)","v":117.21},{"$f":"VLOOKUP($D400,'C.1 - Rate Sheets'!B:F,5,FALSE)","v":0},null,null,null,null,null,null,null,null,null,null,null,null,null,null,null,null,null,null,null,null,null,null,null,null,null,null,null,null,null,null,null,null,null,null,null,null,null,null,null,null,null,null,null,null,null,null,null,null,null,null,null,null,null,null,null,null,null,null,null,null,null,null,null,null,null,null,null,null,null,null,null,null,null,null,null,null,null,null,null,null,null,null,null,null,null,null,null,null,null,null,null,null,null,null,null,null,null,null,null,null,null,null,null,null,null,null,null,null,null,null,null,null,null,null,null,null,null,null,null,null,null,null,16,null,null,null,16,null,null,null,null,null,null,null,null,null,null,null,null,null,null,null,null,null,null,null,null,null,null,null,0,16,16,null,32,0,1588.32,1875.36,0,3463.68,3463.68,"Yes",0,0,0]
[null,383,"Kevin Leon","General Foreman","Vendor No.02",null,"MIFPUC-5","2018-11-04","2018-11-05","Yes",{"$f":"VLOOKUP($D401,'C.1 - Rate Sheets'!B:F,2,FALSE)","v":0},{"$f":"VLOOKUP($D401,'C.1 - Rate Sheets'!B:F,3,FALSE)","v":160.21},{"$f":"VLOOKUP($D401,'C.1 - Rate Sheets'!B:F,4,FALSE)","v":208.18},{"$f":"VLOOKUP($D401,'C.1 - Rate Sheets'!B:F,5,FALSE)","v":0},null,null,null,null,null,null,null,null,null,null,null,null,null,null,null,null,null,null,null,null,null,null,null,null,null,null,null,null,null,null,null,null,null,null,null,null,null,null,null,null,null,null,null,null,null,null,null,null,null,null,null,null,null,null,null,null,null,null,null,null,null,null,null,null,null,null,null,null,null,null,null,null,null,null,null,null,null,null,null,null,null,null,null,null,null,null,null,null,null,null,null,null,null,null,null,null,null,null,null,null,null,null,null,null,null,null,null,null,null,null,null,null,null,null,null,null,null,null,null,null,null,null,16,null,null,null,16,null,null,null,null,null,null,null,null,null,null,null,null,null,null,null,null,null,null,null,null,null,null,null,0,16,16,null,32,0,2563.36,3330.88,0,5894.24,5894.24,"Yes",0,0,0]
[null,384,"Joe Preilezo","Safety","Vendor No.02",null,"MIFPUC-5","2018-11-04","2018-11-05","Yes",{"$f":"VLOOKUP($D402,'C.1 - Rate Sheets'!B:F,2,FALSE)","v":0},{"$f":"VLOOKUP($D402,'C.1 - Rate Sheets'!B:F,3,FALSE)","v":148.21},{"$f":"VLOOKUP($D402,'C.1 - Rate Sheets'!B:F,4,FALSE)","v":192.19},{"$f":"VLOOKUP($D402,'C.1 - Rate Sheets'!B:F,5,FALSE)","v":0},null,null,null,null,null,null,null,null,null,null,null,null,null,null,null,null,null,null,null,null,null,null,null,null,null,null,null,null,null,null,null,null,null,null,null,null,null,null,null,null,null,null,null,null,null,null,null,null,null,null,null,null,null,null,null,null,null,null,null,null,null,null,null,null,null,null,null,null,null,null,null,null,null,null,null,null,null,null,null,null,null,null,null,null,null,null,null,null,null,null,null,null,null,null,null,null,null,null,null,null,null,null,null,null,null,null,null,null,null,null,null,null,null,null,null,null,null,null,null,null,null,null,16,null,null,null,16,null,null,null,null,null,null,null,null,null,null,null,null,null,null,null,null,null,null,null,null,null,null,null,0,16,16,null,32,0,2371.36,3075.04,0,5446.4,5446.4,"Yes",0,0,0]
[null,385,"Jon Morey","Safety","Vendor No.02",null,"MIFPUC-5","2018-11-04","2018-11-05","Yes",{"$f":"VLOOKUP($D403,'C.1 - Rate Sheets'!B:F,2,FALSE)","v":0},{"$f":"VLOOKUP($D403,'C.1 - Rate Sheets'!B:F,3,FALSE)","v":148.21},{"$f":"VLOOKUP($D403,'C.1 - Rate Sheets'!B:F,4,FALSE)","v":192.19},{"$f":"VLOOKUP($D403,'C.1 - Rate Sheets'!B:F,5,FALSE)","v":0},null,null,null,null,null,null,null,null,null,null,null,null,null,null,null,null,null,null,null,null,null,null,null,null,null,null,null,null,null,null,null,null,null,null,null,null,null,null,null,null,null,null,null,null,null,null,null,null,null,null,null,null,null,null,null,null,null,null,null,null,null,null,null,null,null,null,null,null,null,null,null,null,null,null,null,null,null,null,null,null,null,null,null,null,null,null,null,null,null,null,null,null,null,null,null,null,null,null,null,null,null,null,null,null,null,null,null,null,null,null,null,null,null,null,null,null,null,null,null,null,null,null,16,null,null,null,16,null,null,null,null,null,null,null,null,null,null,null,null,null,null,null,null,null,null,null,null,null,null,null,0,16,16,null,32,0,2371.36,3075.04,0,5446.4,5446.4,"Yes",0,0,0]
[null,386,"Reymond Ugalde","Mechanic","Vendor No.02",null,"MIFPUC-5","2018-11-04","2018-11-05","Yes",{"$f":"VLOOKUP($D404,'C.1 - Rate Sheets'!B:F,2,FALSE)","v":0},{"$f":"VLOOKUP($D404,'C.1 - Rate Sheets'!B:F,3,FALSE)","v":116.87},{"$f":"VLOOKUP($D404,'C.1 - Rate Sheets'!B:F,4,FALSE)","v":151.13},{"$f":"VLOOKUP($D404,'C.1 - Rate Sheets'!B:F,5,FALSE)","v":0},null,null,null,null,null,null,null,null,null,null,null,null,null,null,null,null,null,null,null,null,null,null,null,null,null,null,null,null,null,null,null,null,null,null,null,null,null,null,null,null,null,null,null,null,null,null,null,null,null,null,null,null,null,null,null,null,null,null,null,null,null,null,null,null,null,null,null,null,null,null,null,null,null,null,null,null,null,null,null,null,null,null,null,null,null,null,null,null,null,null,null,null,null,null,null,null,null,null,null,null,null,null,null,null,null,null,null,null,null,null,null,null,null,null,null,null,null,null,null,null,null,null,16,null,null,null,16,null,null,null,null,null,null,null,null,null,null,null,null,null,null,null,null,null,null,null,null,null,null,null,0,16,16,null,32,0,1869.92,2418.08,0,4288,4288,"Yes",0,0,0]
[null,387,"Nate Wells","Foreman","Vendor No.02",null,"MIFPUC-5","2018-11-04","2018-11-05","Yes",{"$f":"VLOOKUP($D405,'C.1 - Rate Sheets'!B:F,2,FALSE)","v":0},{"$f":"VLOOKUP($D405,'C.1 - Rate Sheets'!B:F,3,FALSE)","v":148.21},{"$f":"VLOOKUP($D405,'C.1 - Rate Sheets'!B:F,4,FALSE)","v":192.19},{"$f":"VLOOKUP($D405,'C.1 - Rate Sheets'!B:F,5,FALSE)","v":0},null,null,null,null,null,null,null,null,null,null,null,null,null,null,null,null,null,null,null,null,null,null,null,null,null,null,null,null,null,null,null,null,null,null,null,null,null,null,null,null,null,null,null,null,null,null,null,null,null,null,null,null,null,null,null,null,null,null,null,null,null,null,null,null,null,null,null,null,null,null,null,null,null,null,null,null,null,null,null,null,null,null,null,null,null,null,null,null,null,null,null,null,null,null,null,null,null,null,null,null,null,null,null,null,null,null,null,null,null,null,null,null,null,null,null,null,null,null,null,null,null,null,16,null,null,null,16,null,null,null,null,null,null,null,null,null,null,null,null,null,null,null,null,null,null,null,null,null,null,null,{"$f":"FD405+EY405+ET405+EO405+EJ405+EE405+DZ405+DU405+DP405+DK405+DF405+DA405+CV405+CQ405+CL405+CG405+CB405+BW405+BR405+BM405+BH405+BC405+AX405+AS405+AN405+AI405+AD405+Y405+T405+O405","v":0},{"$f":"FE405+EZ405+EU405+EP405+EK405+EF405+EA405+DV405+DQ405+DL405+DG405+DB405+CW405+CR405+CM405+CH405+CC405+BX405+BS405+BN405+BI405+BD405+AY405+AT405+AO405+AJ405+AE405+Z405+U405+P405","v":16},{"$f":"FF405+FA405+EV405+EQ405+EL405+EG405+EB405+DW405+DR405+DM405+DH405+DC405+CX405+CS405+CN405+CI405+CD405+BY405+BT405+BO405+BJ405+BE405+AZ405+AU405+AP405+AK405+AF405+AA405+V405+Q405","v":16},null,{"$f":"SUM(FI405:FL405)","v":32},{"$f":"FI405*K405","v":0},{"$f":"FJ405*L405","v":2371.36},{"$f":"FK405*M405","v":3075.04},{"$f":"FL405*N405","v":0},{"$f":"SUM(FN405:FQ405)","v":5446.4},{"$f":"FR405-FU405","v":5446.4},"Yes",0,0,0]
[null,388,"Emir Alvarado","Senior Lineman/Journeyman Lineman","Vendor No.02",null,"MIFPUC-5","2018-11-04","2018-11-05","Yes",{"$f":"VLOOKUP($D406,'C.1 - Rate Sheets'!B:F,2,FALSE)","v":0},{"$f":"VLOOKUP($D406,'C.1 - Rate Sheets'!B:F,3,FALSE)","v":136.22},{"$f":"VLOOKUP($D406,'C.1 - Rate Sheets'!B:F,4,FALSE)","v":176.19},{"$f":"VLOOKUP($D406,'C.1 - Rate Sheets'!B:F,5,FALSE)","v":0},null,null,null,null,null,null,null,null,null,null,null,null,null,null,null,null,null,null,null,null,null,null,null,null,null,null,null,null,null,null,null,null,null,null,null,null,null,null,null,null,null,null,null,null,null,null,null,null,null,null,null,null,null,null,null,null,null,null,null,null,null,null,null,null,null,null,null,null,null,null,null,null,null,null,null,null,null,null,null,null,null,null,null,null,null,null,null,null,null,null,null,null,null,null,null,null,null,null,null,null,null,null,null,null,null,null,null,null,null,null,null,null,null,null,null,null,null,null,null,null,null,null,16,null,null,null,16,null,null,null,null,null,null,null,null,null,null,null,null,null,null,null,null,null,null,null,null,null,null,null,0,16,16,null,32,0,2179.52,2819.04,0,4998.5599999999995,4998.5599999999995,"Yes",0,0,0]
[null,389,"Doyle Rondtree","Senior Lineman/Journeyman Lineman","Vendor No.02",null,"MIFPUC-5","2018-11-04","2018-11-05","Yes",{"$f":"VLOOKUP($D407,'C.1 - Rate Sheets'!B:F,2,FALSE)","v":0},{"$f":"VLOOKUP($D407,'C.1 - Rate Sheets'!B:F,3,FALSE)","v":136.22},{"$f":"VLOOKUP($D407,'C.1 - Rate Sheets'!B:F,4,FALSE)","v":176.19},{"$f":"VLOOKUP($D407,'C.1 - Rate Sheets'!B:F,5,FALSE)","v":0},null,null,null,null,null,null,null,null,null,null,null,null,null,null,null,null,null,null,null,null,null,null,null,null,null,null,null,null,null,null,null,null,null,null,null,null,null,null,null,null,null,null,null,null,null,null,null,null,null,null,null,null,null,null,null,null,null,null,null,null,null,null,null,null,null,null,null,null,null,null,null,null,null,null,null,null,null,null,null,null,null,null,null,null,null,null,null,null,null,null,null,null,null,null,null,null,null,null,null,null,null,null,null,null,null,null,null,null,null,null,null,null,null,null,null,null,null,null,null,null,null,null,16,null,null,null,16,null,null,null,null,null,null,null,null,null,null,null,null,null,null,null,null,null,null,null,null,null,null,null,0,16,16,null,32,0,2179.52,2819.04,0,4998.5599999999995,4998.5599999999995,"Yes",0,0,0]
[null,390,"Dominick Hernandez","Apprentice Helper","Vendor No.02",null,"MIFPUC-5","2018-11-04","2018-11-05","Yes",{"$f":"VLOOKUP($D408,'C.1 - Rate Sheets'!B:F,2,FALSE)","v":0},{"$f":"VLOOKUP($D408,'C.1 - Rate Sheets'!B:F,3,FALSE)","v":102.25},{"$f":"VLOOKUP($D408,'C.1 - Rate Sheets'!B:F,4,FALSE)","v":130.74},{"$f":"VLOOKUP($D408,'C.1 - Rate Sheets'!B:F,5,FALSE)","v":0},null,null,null,null,null,null,null,null,null,null,null,null,null,null,null,null,null,null,null,null,null,null,null,null,null,null,null,null,null,null,null,null,null,null,null,null,null,null,null,null,null,null,null,null,null,null,null,null,null,null,null,null,null,null,null,null,null,null,null,null,null,null,null,null,null,null,null,null,null,null,null,null,null,null,null,null,null,null,null,null,null,null,null,null,null,null,null,null,null,null,null,null,null,null,null,null,null,null,null,null,null,null,null,null,null,null,null,null,null,null,null,null,null,null,null,null,null,null,null,null,null,null,16,null,null,null,16,null,null,null,null,null,null,null,null,null,null,null,null,null,null,null,null,null,null,null,null,null,null,null,0,16,16,null,32,0,1636,2091.84,0,3727.84,3727.84,"Yes",0,0,0]
[null,391,"Brian Abbate","Groundman","Vendor No.02",null,"MIFPUC-5","2018-11-04","2018-11-05","Yes",{"$f":"VLOOKUP($D409,'C.1 - Rate Sheets'!B:F,2,FALSE)","v":0},{"$f":"VLOOKUP($D409,'C.1 - Rate Sheets'!B:F,3,FALSE)","v":99.27},{"$f":"VLOOKUP($D409,'C.1 - Rate Sheets'!B:F,4,FALSE)","v":117.21},{"$f":"VLOOKUP($D409,'C.1 - Rate Sheets'!B:F,5,FALSE)","v":0},null,null,null,null,null,null,null,null,null,null,null,null,null,null,null,null,null,null,null,null,null,null,null,null,null,null,null,null,null,null,null,null,null,null,null,null,null,null,null,null,null,null,null,null,null,null,null,null,null,null,null,null,null,null,null,null,null,null,null,null,null,null,null,null,null,null,null,null,null,null,null,null,null,null,null,null,null,null,null,null,null,null,null,null,null,null,null,null,null,null,null,null,null,null,null,null,null,null,null,null,null,null,null,null,null,null,null,null,null,null,null,null,null,null,null,null,null,null,null,null,null,null,16,null,null,null,16,null,null,null,null,null,null,null,null,null,null,null,null,null,null,null,null,null,null,null,null,null,null,null,0,16,16,null,32,0,1588.32,1875.36,0,3463.68,3463.68,"Yes",0,0,0]
[null,392,"Jose De Jesus","Foreman","Vendor No.02",null,"MIFPUC-5","2018-11-04","2018-11-05","Yes",{"$f":"VLOOKUP($D410,'C.1 - Rate Sheets'!B:F,2,FALSE)","v":0},{"$f":"VLOOKUP($D410,'C.1 - Rate Sheets'!B:F,3,FALSE)","v":148.21},{"$f":"VLOOKUP($D410,'C.1 - Rate Sheets'!B:F,4,FALSE)","v":192.19},{"$f":"VLOOKUP($D410,'C.1 - Rate Sheets'!B:F,5,FALSE)","v":0},null,null,null,null,null,null,null,null,null,null,null,null,null,null,null,null,null,null,null,null,null,null,null,null,null,null,null,null,null,null,null,null,null,null,null,null,null,null,null,null,null,null,null,null,null,null,null,null,null,null,null,null,null,null,null,null,null,null,null,null,null,null,null,null,null,null,null,null,null,null,null,null,null,null,null,null,null,null,null,null,null,null,null,null,null,null,null,null,null,null,null,null,null,null,null,null,null,null,null,null,null,null,null,null,null,null,null,null,null,null,null,null,null,null,null,null,null,null,null,null,null,null,16,null,null,null,16,null,null,null,null,null,null,null,null,null,null,null,null,null,null,null,null,null,null,null,null,null,null,null,0,16,16,null,32,0,2371.36,3075.04,0,5446.4,5446.4,"Yes",0,0,0]
[null,393,"Hector Rodriguez","Senior Lineman/Journeyman Lineman","Vendor No.02",null,"MIFPUC-5","2018-11-04","2018-11-05","Yes",{"$f":"VLOOKUP($D411,'C.1 - Rate Sheets'!B:F,2,FALSE)","v":0},{"$f":"VLOOKUP($D411,'C.1 - Rate Sheets'!B:F,3,FALSE)","v":136.22},{"$f":"VLOOKUP($D411,'C.1 - Rate Sheets'!B:F,4,FALSE)","v":176.19},{"$f":"VLOOKUP($D411,'C.1 - Rate Sheets'!B:F,5,FALSE)","v":0},null,null,null,null,null,null,null,null,null,null,null,null,null,null,null,null,null,null,null,null,null,null,null,null,null,null,null,null,null,null,null,null,null,null,null,null,null,null,null,null,null,null,null,null,null,null,null,null,null,null,null,null,null,null,null,null,null,null,null,null,null,null,null,null,null,null,null,null,null,null,null,null,null,null,null,null,null,null,null,null,null,null,null,null,null,null,null,null,null,null,null,null,null,null,null,null,null,null,null,null,null,null,null,null,null,null,null,null,null,null,null,null,null,null,null,null,null,null,null,null,null,null,16,null,null,null,16,null,null,null,null,null,null,null,null,null,null,null,null,null,null,null,null,null,null,null,null,null,null,null,0,16,16,null,32,0,2179.52,2819.04,0,4998.5599999999995,4998.5599999999995,"Yes",0,0,0]
[null,394,"Randal Osteen","Line Tech B","Vendor No.02",null,"MIFPUC-5","2018-11-04","2018-11-05","Yes",{"$f":"VLOOKUP($D412,'C.1 - Rate Sheets'!B:F,2,FALSE)","v":0},{"$f":"VLOOKUP($D412,'C.1 - Rate Sheets'!B:F,3,FALSE)","v":118.24},{"$f":"VLOOKUP($D412,'C.1 - Rate Sheets'!B:F,4,FALSE)","v":152.22},{"$f":"VLOOKUP($D412,'C.1 - Rate Sheets'!B:F,5,FALSE)","v":0},null,null,null,null,null,null,null,null,null,null,null,null,null,null,null,null,null,null,null,null,null,null,null,null,null,null,null,null,null,null,null,null,null,null,null,null,null,null,null,null,null,null,null,null,null,null,null,null,null,null,null,null,null,null,null,null,null,null,null,null,null,null,null,null,null,null,null,null,null,null,null,null,null,null,null,null,null,null,null,null,null,null,null,null,null,null,null,null,null,null,null,null,null,null,null,null,null,null,null,null,null,null,null,null,null,null,null,null,null,null,null,null,null,null,null,null,null,null,null,null,null,null,16,null,null,null,16,null,null,null,null,null,null,null,null,null,null,null,null,null,null,null,null,null,null,null,null,null,null,null,0,16,16,null,32,0,1891.84,2435.52,0,4327.3599999999997,4327.3599999999997,"Yes",0,0,0]
[null,395,"Jorge Barroso","Senior Lineman/Journeyman Lineman","Vendor No.02",null,"MIFPUC-5","2018-11-04","2018-11-05","Yes",{"$f":"VLOOKUP($D413,'C.1 - Rate Sheets'!B:F,2,FALSE)","v":0},{"$f":"VLOOKUP($D413,'C.1 - Rate Sheets'!B:F,3,FALSE)","v":136.22},{"$f":"VLOOKUP($D413,'C.1 - Rate Sheets'!B:F,4,FALSE)","v":176.19},{"$f":"VLOOKUP($D413,'C.1 - Rate Sheets'!B:F,5,FALSE)","v":0},null,null,null,null,null,null,null,null,null,null,null,null,null,null,null,null,null,null,null,null,null,null,null,null,null,null,null,null,null,null,null,null,null,null,null,null,null,null,null,null,null,null,null,null,null,null,null,null,null,null,null,null,null,null,null,null,null,null,null,null,null,null,null,null,null,null,null,null,null,null,null,null,null,null,null,null,null,null,null,null,null,null,null,null,null,null,null,null,null,null,null,null,null,null,null,null,null,null,null,null,null,null,null,null,null,null,null,null,null,null,null,null,null,null,null,null,null,null,null,null,null,null,16,null,null,null,16,null,null,null,null,null,null,null,null,null,null,null,null,null,null,null,null,null,null,null,null,null,null,null,0,16,16,null,32,0,2179.52,2819.04,0,4998.5599999999995,4998.5599999999995,"Yes",0,0,0]
[null,396,"Chadwick Kern","Groundman","Vendor No.02",null,"MIFPUC-5","2018-11-04","2018-11-05","Yes",{"$f":"VLOOKUP($D414,'C.1 - Rate Sheets'!B:F,2,FALSE)","v":0},{"$f":"VLOOKUP($D414,'C.1 - Rate Sheets'!B:F,3,FALSE)","v":99.27},{"$f":"VLOOKUP($D414,'C.1 - Rate Sheets'!B:F,4,FALSE)","v":117.21},{"$f":"VLOOKUP($D414,'C.1 - Rate Sheets'!B:F,5,FALSE)","v":0},null,null,null,null,null,null,null,null,null,null,null,null,null,null,null,null,null,null,null,null,null,null,null,null,null,null,null,null,null,null,null,null,null,null,null,null,null,null,null,null,null,null,null,null,null,null,null,null,null,null,null,null,null,null,null,null,null,null,null,null,null,null,null,null,null,null,null,null,null,null,null,null,null,null,null,null,null,null,null,null,null,null,null,null,null,null,null,null,null,null,null,null,null,null,null,null,null,null,null,null,null,null,null,null,null,null,null,null,null,null,null,null,null,null,null,null,null,null,null,null,null,null,16,null,null,null,16,null,null,null,null,null,null,null,null,null,null,null,null,null,null,null,null,null,null,null,null,null,null,null,0,16,16,null,32,0,1588.32,1875.36,0,3463.68,3463.68,"Yes",0,0,0]
[null,397,"John Harn","General Foreman","Vendor No.02",null,"MIFPUC-5","2018-11-04","2018-11-05","Yes",{"$f":"VLOOKUP($D415,'C.1 - Rate Sheets'!B:F,2,FALSE)","v":0},{"$f":"VLOOKUP($D415,'C.1 - Rate Sheets'!B:F,3,FALSE)","v":160.21},{"$f":"VLOOKUP($D415,'C.1 - Rate Sheets'!B:F,4,FALSE)","v":208.18},{"$f":"VLOOKUP($D415,'C.1 - Rate Sheets'!B:F,5,FALSE)","v":0},null,null,null,null,null,null,null,null,null,null,null,null,null,null,null,null,null,null,null,null,null,null,null,null,null,null,null,null,null,null,null,null,null,null,null,null,null,null,null,null,null,null,null,null,null,null,null,null,null,null,null,null,null,null,null,null,null,null,null,null,null,null,null,null,null,null,null,null,null,null,null,null,null,null,null,null,null,null,null,null,null,null,null,null,null,null,null,null,null,null,null,null,null,null,null,null,null,null,null,null,null,null,null,null,null,null,null,null,null,null,null,null,null,null,null,null,null,null,null,null,null,null,null,null,null,null,null,null,null,null,null,null,null,null,null,null,null,null,null,null,null,null,null,null,null,null,null,null,null,null,0,0,0,null,0,0,0,0,0,0,0,"Yes",0,0,0]
[null,398,"Bonnie Knopf","Safety","Vendor No.02",null,"MIFPUC-5","2018-11-04","2018-11-05","Yes",{"$f":"VLOOKUP($D416,'C.1 - Rate Sheets'!B:F,2,FALSE)","v":0},{"$f":"VLOOKUP($D416,'C.1 - Rate Sheets'!B:F,3,FALSE)","v":148.21},{"$f":"VLOOKUP($D416,'C.1 - Rate Sheets'!B:F,4,FALSE)","v":192.19},{"$f":"VLOOKUP($D416,'C.1 - Rate Sheets'!B:F,5,FALSE)","v":0},null,null,null,null,null,null,null,null,null,null,null,null,null,null,null,null,null,null,null,null,null,null,null,null,null,null,null,null,null,null,null,null,null,null,null,null,null,null,null,null,null,null,null,null,null,null,null,null,null,null,null,null,null,null,null,null,null,null,null,null,null,null,null,null,null,null,null,null,null,null,null,null,null,null,null,null,null,null,null,null,null,null,null,null,null,null,null,null,null,null,null,null,null,null,null,null,null,null,null,null,null,null,null,null,null,null,null,null,null,null,null,null,null,null,null,null,null,null,null,null,null,null,16,null,null,null,16,null,null,null,null,null,null,null,null,null,null,null,null,null,null,null,null,null,null,null,null,null,null,null,0,16,16,null,32,0,2371.36,3075.04,0,5446.4,5446.4,"Yes",0,0,0]
[null,399,"John Cour","General Foreman","Vendor No.02",null,"MIFPUC-5","2018-11-04","2018-11-05","Yes",{"$f":"VLOOKUP($D417,'C.1 - Rate Sheets'!B:F,2,FALSE)","v":0},{"$f":"VLOOKUP($D417,'C.1 - Rate Sheets'!B:F,3,FALSE)","v":160.21},{"$f":"VLOOKUP($D417,'C.1 - Rate Sheets'!B:F,4,FALSE)","v":208.18},{"$f":"VLOOKUP($D417,'C.1 - Rate Sheets'!B:F,5,FALSE)","v":0},null,null,null,null,null,null,null,null,null,null,null,null,null,null,null,null,null,null,null,null,null,null,null,null,null,null,null,null,null,null,null,null,null,null,null,null,null,null,null,null,null,null,null,null,null,null,null,null,null,null,null,null,null,null,null,null,null,null,null,null,null,null,null,null,null,null,null,null,null,null,null,null,null,null,null,null,null,null,null,null,null,null,null,null,null,null,null,null,null,null,null,null,null,null,null,null,null,null,null,null,null,null,null,null,null,null,null,null,null,null,null,null,null,null,null,null,null,null,null,null,null,null,16,null,null,null,16,null,null,null,null,null,null,null,null,null,null,null,null,null,null,null,null,null,null,null,null,null,null,null,0,16,16,null,32,0,2563.36,3330.88,0,5894.24,5894.24,"Yes",0,0,0]
[null,400,"Kinsey Winstead","Senior Lineman/Journeyman Lineman","Vendor No.02",null,"MIFPUC-5","2018-11-04","2018-11-05","Yes",{"$f":"VLOOKUP($D418,'C.1 - Rate Sheets'!B:F,2,FALSE)","v":0},{"$f":"VLOOKUP($D418,'C.1 - Rate Sheets'!B:F,3,FALSE)","v":136.22},{"$f":"VLOOKUP($D418,'C.1 - Rate Sheets'!B:F,4,FALSE)","v":176.19},{"$f":"VLOOKUP($D418,'C.1 - Rate Sheets'!B:F,5,FALSE)","v":0},null,null,null,null,null,null,null,null,null,null,null,null,null,null,null,null,null,null,null,null,null,null,null,null,null,null,null,null,null,null,null,null,null,null,null,null,null,null,null,null,null,null,null,null,null,null,null,null,null,null,null,null,null,null,null,null,null,null,null,null,null,null,null,null,null,null,null,null,null,null,null,null,null,null,null,null,null,null,null,null,null,null,null,null,null,null,null,null,null,null,null,null,null,null,null,null,null,null,null,null,null,null,null,null,null,null,null,null,null,null,null,null,null,null,null,null,null,null,null,null,null,null,16,null,null,null,16,null,null,null,null,null,null,null,null,null,null,null,null,null,null,null,null,null,null,null,null,null,null,null,0,16,16,null,32,0,2179.52,2819.04,0,4998.5599999999995,4998.5599999999995,"Yes",0,0,0]
[null,401,"Sigfrido Chiong","Foreman","Vendor No.02",null,"MIFPUC-5","2018-11-04","2018-11-05","Yes",{"$f":"VLOOKUP($D419,'C.1 - Rate Sheets'!B:F,2,FALSE)","v":0},{"$f":"VLOOKUP($D419,'C.1 - Rate Sheets'!B:F,3,FALSE)","v":148.21},{"$f":"VLOOKUP($D419,'C.1 - Rate Sheets'!B:F,4,FALSE)","v":192.19},{"$f":"VLOOKUP($D419,'C.1 - Rate Sheets'!B:F,5,FALSE)","v":0},null,null,null,null,null,null,null,null,null,null,null,null,null,null,null,null,null,null,null,null,null,null,null,null,null,null,null,null,null,null,null,null,null,null,null,null,null,null,null,null,null,null,null,null,null,null,null,null,null,null,null,null,null,null,null,null,null,null,null,null,null,null,null,null,null,null,null,null,null,null,null,null,null,null,null,null,null,null,null,null,null,null,null,null,null,null,null,null,null,null,null,null,null,null,null,null,null,null,null,null,null,null,null,null,null,null,null,null,null,null,null,null,null,null,null,null,null,null,null,null,null,null,16,null,null,null,16,null,null,null,null,null,null,null,null,null,null,null,null,null,null,null,null,null,null,null,null,null,null,null,0,16,16,null,32,0,2371.36,3075.04,0,5446.4,5446.4,"Yes",0,0,0]
[null,402,"Jose Guttierez","Senior Lineman/Journeyman Lineman","Vendor No.02",null,"MIFPUC-5","2018-11-04","2018-11-05","Yes",{"$f":"VLOOKUP($D420,'C.1 - Rate Sheets'!B:F,2,FALSE)","v":0},{"$f":"VLOOKUP($D420,'C.1 - Rate Sheets'!B:F,3,FALSE)","v":136.22},{"$f":"VLOOKUP($D420,'C.1 - Rate Sheets'!B:F,4,FALSE)","v":176.19},{"$f":"VLOOKUP($D420,'C.1 - Rate Sheets'!B:F,5,FALSE)","v":0},null,null,null,null,null,null,null,null,null,null,null,null,null,null,null,null,null,null,null,null,null,null,null,null,null,null,null,null,null,null,null,null,null,null,null,null,null,null,null,null,null,null,null,null,null,null,null,null,null,null,null,null,null,null,null,null,null,null,null,null,null,null,null,null,null,null,null,null,null,null,null,null,null,null,null,null,null,null,null,null,null,null,null,null,null,null,null,null,null,null,null,null,null,null,null,null,null,null,null,null,null,null,null,null,null,null,null,null,null,null,null,null,null,null,null,null,null,null,null,null,null,null,16,null,null,null,16,null,null,null,null,null,null,null,null,null,null,null,null,null,null,null,null,null,null,null,null,null,null,null,0,16,16,null,32,0,2179.52,2819.04,0,4998.5599999999995,4998.5599999999995,"Yes",0,0,0]
[null,403,"Dakota Pickup","Apprentice Helper","Vendor No.02",null,"MIFPUC-5","2018-11-04","2018-11-05","Yes",{"$f":"VLOOKUP($D421,'C.1 - Rate Sheets'!B:F,2,FALSE)","v":0},{"$f":"VLOOKUP($D421,'C.1 - Rate Sheets'!B:F,3,FALSE)","v":102.25},{"$f":"VLOOKUP($D421,'C.1 - Rate Sheets'!B:F,4,FALSE)","v":130.74},{"$f":"VLOOKUP($D421,'C.1 - Rate Sheets'!B:F,5,FALSE)","v":0},null,null,null,null,null,null,null,null,null,null,null,null,null,null,null,null,null,null,null,null,null,null,null,null,null,null,null,null,null,null,null,null,null,null,null,null,null,null,null,null,null,null,null,null,null,null,null,null,null,null,null,null,null,null,null,null,null,null,null,null,null,null,null,null,null,null,null,null,null,null,null,null,null,null,null,null,null,null,null,null,null,null,null,null,null,null,null,null,null,null,null,null,null,null,null,null,null,null,null,null,null,null,null,null,null,null,null,null,null,null,null,null,null,null,null,null,null,null,null,null,null,null,16,null,null,null,16,null,null,null,null,null,null,null,null,null,null,null,null,null,null,null,null,null,null,null,null,null,null,null,0,16,16,null,32,0,1636,2091.84,0,3727.84,3727.84,"Yes",0,0,0]
[null,404,"Jeremy Minkler","Groundman","Vendor No.02",null,"MIFPUC-5","2018-11-04","2018-11-05","Yes",{"$f":"VLOOKUP($D422,'C.1 - Rate Sheets'!B:F,2,FALSE)","v":0},{"$f":"VLOOKUP($D422,'C.1 - Rate Sheets'!B:F,3,FALSE)","v":99.27},{"$f":"VLOOKUP($D422,'C.1 - Rate Sheets'!B:F,4,FALSE)","v":117.21},{"$f":"VLOOKUP($D422,'C.1 - Rate Sheets'!B:F,5,FALSE)","v":0},null,null,null,null,null,null,null,null,null,null,null,null,null,null,null,null,null,null,null,null,null,null,null,null,null,null,null,null,null,null,null,null,null,null,null,null,null,null,null,null,null,null,null,null,null,null,null,null,null,null,null,null,null,null,null,null,null,null,null,null,null,null,null,null,null,null,null,null,null,null,null,null,null,null,null,null,null,null,null,null,null,null,null,null,null,null,null,null,null,null,null,null,null,null,null,null,null,null,null,null,null,null,null,null,null,null,null,null,null,null,null,null,null,null,null,null,null,null,null,null,null,null,16,null,null,null,16,null,null,null,null,null,null,null,null,null,null,null,null,null,null,null,null,null,null,null,null,null,null,null,0,16,16,null,32,0,1588.32,1875.36,0,3463.68,3463.68,"Yes",0,0,0]
[null,405,"Billy Dillashaw","Equipment Operator","Vendor No.02",null,"MIFPUC-5","2018-11-04","2018-11-05","Yes",{"$f":"VLOOKUP($D423,'C.1 - Rate Sheets'!B:F,2,FALSE)","v":0},{"$f":"VLOOKUP($D423,'C.1 - Rate Sheets'!B:F,3,FALSE)","v":116.87},{"$f":"VLOOKUP($D423,'C.1 - Rate Sheets'!B:F,4,FALSE)","v":151.13},{"$f":"VLOOKUP($D423,'C.1 - Rate Sheets'!B:F,5,FALSE)","v":0},null,null,null,null,null,null,null,null,null,null,null,null,null,null,null,null,null,null,null,null,null,null,null,null,null,null,null,null,null,null,null,null,null,null,null,null,null,null,null,null,null,null,null,null,null,null,null,null,null,null,null,null,null,null,null,null,null,null,null,null,null,null,null,null,null,null,null,null,null,null,null,null,null,null,null,null,null,null,null,null,null,null,null,null,null,null,null,null,null,null,null,null,null,null,null,null,null,null,null,null,null,null,null,null,null,null,null,null,null,null,null,null,null,null,null,null,null,null,null,null,null,null,16,null,null,null,16,null,null,null,null,null,null,null,null,null,null,null,null,null,null,null,null,null,null,null,null,null,null,null,0,16,16,null,32,0,1869.92,2418.08,0,4288,4288,"Yes",0,0,0]
[null,406,"Mike Katulka","Foreman","Vendor No.02",null,"MIFPUC-5","2018-11-04","2018-11-05","Yes",{"$f":"VLOOKUP($D424,'C.1 - Rate Sheets'!B:F,2,FALSE)","v":0},{"$f":"VLOOKUP($D424,'C.1 - Rate Sheets'!B:F,3,FALSE)","v":148.21},{"$f":"VLOOKUP($D424,'C.1 - Rate Sheets'!B:F,4,FALSE)","v":192.19},{"$f":"VLOOKUP($D424,'C.1 - Rate Sheets'!B:F,5,FALSE)","v":0},null,null,null,null,null,null,null,null,null,null,null,null,null,null,null,null,null,null,null,null,null,null,null,null,null,null,null,null,null,null,null,null,null,null,null,null,null,null,null,null,null,null,null,null,null,null,null,null,null,null,null,null,null,null,null,null,null,null,null,null,null,null,null,null,null,null,null,null,null,null,null,null,null,null,null,null,null,null,null,null,null,null,null,null,null,null,null,null,null,null,null,null,null,null,null,null,null,null,null,null,null,null,null,null,null,null,null,null,null,null,null,null,null,null,null,null,null,null,null,null,null,null,16,null,null,null,16,null,null,null,null,null,null,null,null,null,null,null,null,null,null,null,null,null,null,null,null,null,null,null,0,16,16,null,32,0,2371.36,3075.04,0,5446.4,5446.4,"Yes",0,0,0]
[null,407,"Yonielt Alfonso","Senior Lineman/Journeyman Lineman","Vendor No.02",null,"MIFPUC-5","2018-11-04","2018-11-05","Yes",{"$f":"VLOOKUP($D425,'C.1 - Rate Sheets'!B:F,2,FALSE)","v":0},{"$f":"VLOOKUP($D425,'C.1 - Rate Sheets'!B:F,3,FALSE)","v":136.22},{"$f":"VLOOKUP($D425,'C.1 - Rate Sheets'!B:F,4,FALSE)","v":176.19},{"$f":"VLOOKUP($D425,'C.1 - Rate Sheets'!B:F,5,FALSE)","v":0},null,null,null,null,null,null,null,null,null,null,null,null,null,null,null,null,null,null,null,null,null,null,null,null,null,null,null,null,null,null,null,null,null,null,null,null,null,null,null,null,null,null,null,null,null,null,null,null,null,null,null,null,null,null,null,null,null,null,null,null,null,null,null,null,null,null,null,null,null,null,null,null,null,null,null,null,null,null,null,null,null,null,null,null,null,null,null,null,null,null,null,null,null,null,null,null,null,null,null,null,null,null,null,null,null,null,null,null,null,null,null,null,null,null,null,null,null,null,null,null,null,null,16,null,null,null,16,null,null,null,null,null,null,null,null,null,null,null,null,null,null,null,null,null,null,null,null,null,null,null,0,16,16,null,32,0,2179.52,2819.04,0,4998.5599999999995,4998.5599999999995,"Yes",0,0,0]
[null,408,"Joseph Kelly","Line Tech B","Vendor No.02",null,"MIFPUC-5","2018-11-04","2018-11-05","Yes",{"$f":"VLOOKUP($D426,'C.1 - Rate Sheets'!B:F,2,FALSE)","v":0},{"$f":"VLOOKUP($D426,'C.1 - Rate Sheets'!B:F,3,FALSE)","v":118.24},{"$f":"VLOOKUP($D426,'C.1 - Rate Sheets'!B:F,4,FALSE)","v":152.22},{"$f":"VLOOKUP($D426,'C.1 - Rate Sheets'!B:F,5,FALSE)","v":0},null,null,null,null,null,null,null,null,null,null,null,null,null,null,null,null,null,null,null,null,null,null,null,null,null,null,null,null,null,null,null,null,null,null,null,null,null,null,null,null,null,null,null,null,null,null,null,null,null,null,null,null,null,null,null,null,null,null,null,null,null,null,null,null,null,null,null,null,null,null,null,null,null,null,null,null,null,null,null,null,null,null,null,null,null,null,null,null,null,null,null,null,null,null,null,null,null,null,null,null,null,null,null,null,null,null,null,null,null,null,null,null,null,null,null,null,null,null,null,null,null,null,16,null,null,null,16,null,null,null,null,null,null,null,null,null,null,null,null,null,null,null,null,null,null,null,null,null,null,null,0,16,16,null,32,0,1891.84,2435.52,0,4327.3599999999997,4327.3599999999997,"Yes",0,0,0]
[null,409,"Chris Miller","Apprentice Helper","Vendor No.02",null,"MIFPUC-5","2018-11-04","2018-11-05","Yes",{"$f":"VLOOKUP($D427,'C.1 - Rate Sheets'!B:F,2,FALSE)","v":0},{"$f":"VLOOKUP($D427,'C.1 - Rate Sheets'!B:F,3,FALSE)","v":102.25},{"$f":"VLOOKUP($D427,'C.1 - Rate Sheets'!B:F,4,FALSE)","v":130.74},{"$f":"VLOOKUP($D427,'C.1 - Rate Sheets'!B:F,5,FALSE)","v":0},null,null,null,null,null,null,null,null,null,null,null,null,null,null,null,null,null,null,null,null,null,null,null,null,null,null,null,null,null,null,null,null,null,null,null,null,null,null,null,null,null,null,null,null,null,null,null,null,null,null,null,null,null,null,null,null,null,null,null,null,null,null,null,null,null,null,null,null,null,null,null,null,null,null,null,null,null,null,null,null,null,null,null,null,null,null,null,null,null,null,null,null,null,null,null,null,null,null,null,null,null,null,null,null,null,null,null,null,null,null,null,null,null,null,null,null,null,null,null,null,null,null,16,null,null,null,16,null,null,null,null,null,null,null,null,null,null,null,null,null,null,null,null,null,null,null,null,null,null,null,0,16,16,null,32,0,1636,2091.84,0,3727.84,3727.84,"Yes",0,0,0]
[null,410,"Anthony Quay","Equipment Operator","Vendor No.02",null,"MIFPUC-5","2018-11-04","2018-11-05","Yes",{"$f":"VLOOKUP($D428,'C.1 - Rate Sheets'!B:F,2,FALSE)","v":0},{"$f":"VLOOKUP($D428,'C.1 - Rate Sheets'!B:F,3,FALSE)","v":116.87},{"$f":"VLOOKUP($D428,'C.1 - Rate Sheets'!B:F,4,FALSE)","v":151.13},{"$f":"VLOOKUP($D428,'C.1 - Rate Sheets'!B:F,5,FALSE)","v":0},null,null,null,null,null,null,null,null,null,null,null,null,null,null,null,null,null,null,null,null,null,null,null,null,null,null,null,null,null,null,null,null,null,null,null,null,null,null,null,null,null,null,null,null,null,null,null,null,null,null,null,null,null,null,null,null,null,null,null,null,null,null,null,null,null,null,null,null,null,null,null,null,null,null,null,null,null,null,null,null,null,null,null,null,null,null,null,null,null,null,null,null,null,null,null,null,null,null,null,null,null,null,null,null,null,null,null,null,null,null,null,null,null,null,null,null,null,null,null,null,null,null,16,null,null,null,16,null,null,null,null,null,null,null,null,null,null,null,null,null,null,null,null,null,null,null,null,null,null,null,0,16,16,null,32,0,1869.92,2418.08,0,4288,4288,"Yes",0,0,0]
[null,411,"Ismael Rivera","Foreman","Vendor No.02",null,"MIFPUC-5","2018-11-04","2018-11-05","Yes",{"$f":"VLOOKUP($D429,'C.1 - Rate Sheets'!B:F,2,FALSE)","v":0},{"$f":"VLOOKUP($D429,'C.1 - Rate Sheets'!B:F,3,FALSE)","v":148.21},{"$f":"VLOOKUP($D429,'C.1 - Rate Sheets'!B:F,4,FALSE)","v":192.19},{"$f":"VLOOKUP($D429,'C.1 - Rate Sheets'!B:F,5,FALSE)","v":0},null,null,null,null,null,null,null,null,null,null,null,null,null,null,null,null,null,null,null,null,null,null,null,null,null,null,null,null,null,null,null,null,null,null,null,null,null,null,null,null,null,null,null,null,null,null,null,null,null,null,null,null,null,null,null,null,null,null,null,null,null,null,null,null,null,null,null,null,null,null,null,null,null,null,null,null,null,null,null,null,null,null,null,null,null,null,null,null,null,null,null,null,null,null,null,null,null,null,null,null,null,null,null,null,null,null,null,null,null,null,null,null,null,null,null,null,null,null,null,null,null,null,16,null,null,null,16,null,null,null,null,null,null,null,null,null,null,null,null,null,null,null,null,null,null,null,null,null,null,null,0,16,16,null,32,0,2371.36,3075.04,0,5446.4,5446.4,"Yes",0,0,0]
[null,412,"Cesar Bello","Senior Lineman/Journeyman Lineman","Vendor No.02",null,"MIFPUC-5","2018-11-04","2018-11-05","Yes",{"$f":"VLOOKUP($D430,'C.1 - Rate Sheets'!B:F,2,FALSE)","v":0},{"$f":"VLOOKUP($D430,'C.1 - Rate Sheets'!B:F,3,FALSE)","v":136.22},{"$f":"VLOOKUP($D430,'C.1 - Rate Sheets'!B:F,4,FALSE)","v":176.19},{"$f":"VLOOKUP($D430,'C.1 - Rate Sheets'!B:F,5,FALSE)","v":0},null,null,null,null,null,null,null,null,null,null,null,null,null,null,null,null,null,null,null,null,null,null,null,null,null,null,null,null,null,null,null,null,null,null,null,null,null,null,null,null,null,null,null,null,null,null,null,null,null,null,null,null,null,null,null,null,null,null,null,null,null,null,null,null,null,null,null,null,null,null,null,null,null,null,null,null,null,null,null,null,null,null,null,null,null,null,null,null,null,null,null,null,null,null,null,null,null,null,null,null,null,null,null,null,null,null,null,null,null,null,null,null,null,null,null,null,null,null,null,null,null,null,16,null,null,null,16,null,null,null,null,null,null,null,null,null,null,null,null,null,null,null,null,null,null,null,null,null,null,null,0,16,16,null,32,0,2179.52,2819.04,0,4998.5599999999995,4998.5599999999995,"Yes",0,0,0]
[null,413,"Pedro Rico","Senior Lineman/Journeyman Lineman","Vendor No.02",null,"MIFPUC-5","2018-11-04","2018-11-05","Yes",{"$f":"VLOOKUP($D431,'C.1 - Rate Sheets'!B:F,2,FALSE)","v":0},{"$f":"VLOOKUP($D431,'C.1 - Rate Sheets'!B:F,3,FALSE)","v":136.22},{"$f":"VLOOKUP($D431,'C.1 - Rate Sheets'!B:F,4,FALSE)","v":176.19},{"$f":"VLOOKUP($D431,'C.1 - Rate Sheets'!B:F,5,FALSE)","v":0},null,null,null,null,null,null,null,null,null,null,null,null,null,null,null,null,null,null,null,null,null,null,null,null,null,null,null,null,null,null,null,null,null,null,null,null,null,null,null,null,null,null,null,null,null,null,null,null,null,null,null,null,null,null,null,null,null,null,null,null,null,null,null,null,null,null,null,null,null,null,null,null,null,null,null,null,null,null,null,null,null,null,null,null,null,null,null,null,null,null,null,null,null,null,null,null,null,null,null,null,null,null,null,null,null,null,null,null,null,null,null,null,null,null,null,null,null,null,null,null,null,null,16,null,null,null,16,null,null,null,null,null,null,null,null,null,null,null,null,null,null,null,null,null,null,null,null,null,null,null,0,16,16,null,32,0,2179.52,2819.04,0,4998.5599999999995,4998.5599999999995,"Yes",0,0,0]
[null,414,"Giovanni Febus","Senior Lineman/Journeyman Lineman","Vendor No.02",null,"MIFPUC-5","2018-11-04","2018-11-05","Yes",{"$f":"VLOOKUP($D432,'C.1 - Rate Sheets'!B:F,2,FALSE)","v":0},{"$f":"VLOOKUP($D432,'C.1 - Rate Sheets'!B:F,3,FALSE)","v":136.22},{"$f":"VLOOKUP($D432,'C.1 - Rate Sheets'!B:F,4,FALSE)","v":176.19},{"$f":"VLOOKUP($D432,'C.1 - Rate Sheets'!B:F,5,FALSE)","v":0},null,null,null,null,null,null,null,null,null,null,null,null,null,null,null,null,null,null,null,null,null,null,null,null,null,null,null,null,null,null,null,null,null,null,null,null,null,null,null,null,null,null,null,null,null,null,null,null,null,null,null,null,null,null,null,null,null,null,null,null,null,null,null,null,null,null,null,null,null,null,null,null,null,null,null,null,null,null,null,null,null,null,null,null,null,null,null,null,null,null,null,null,null,null,null,null,null,null,null,null,null,null,null,null,null,null,null,null,null,null,null,null,null,null,null,null,null,null,null,null,null,null,16,null,null,null,16,null,null,null,null,null,null,null,null,null,null,null,null,null,null,null,null,null,null,null,null,null,null,null,0,16,16,null,32,0,2179.52,2819.04,0,4998.5599999999995,4998.5599999999995,"Yes",0,0,0]
[null,415,"Tanner Lewis","Apprentice Helper","Vendor No.02",null,"MIFPUC-5","2018-11-04","2018-11-05","Yes",{"$f":"VLOOKUP($D433,'C.1 - Rate Sheets'!B:F,2,FALSE)","v":0},{"$f":"VLOOKUP($D433,'C.1 - Rate Sheets'!B:F,3,FALSE)","v":102.25},{"$f":"VLOOKUP($D433,'C.1 - Rate Sheets'!B:F,4,FALSE)","v":130.74},{"$f":"VLOOKUP($D433,'C.1 - Rate Sheets'!B:F,5,FALSE)","v":0},null,null,null,null,null,null,null,null,null,null,null,null,null,null,null,null,null,null,null,null,null,null,null,null,null,null,null,null,null,null,null,null,null,null,null,null,null,null,null,null,null,null,null,null,null,null,null,null,null,null,null,null,null,null,null,null,null,null,null,null,null,null,null,null,null,null,null,null,null,null,null,null,null,null,null,null,null,null,null,null,null,null,null,null,null,null,null,null,null,null,null,null,null,null,null,null,null,null,null,null,null,null,null,null,null,null,null,null,null,null,null,null,null,null,null,null,null,null,null,null,null,null,16,null,null,null,16,null,null,null,null,null,null,null,null,null,null,null,null,null,null,null,null,null,null,null,null,null,null,null,0,16,16,null,32,0,1636,2091.84,0,3727.84,3727.84,"Yes",0,0,0]
[null,416,"Yeudiel Rivera","Foreman","Vendor No.02",null,"MIFPUC-5","2018-11-04","2018-11-05","Yes",{"$f":"VLOOKUP($D434,'C.1 - Rate Sheets'!B:F,2,FALSE)","v":0},{"$f":"VLOOKUP($D434,'C.1 - Rate Sheets'!B:F,3,FALSE)","v":148.21},{"$f":"VLOOKUP($D434,'C.1 - Rate Sheets'!B:F,4,FALSE)","v":192.19},{"$f":"VLOOKUP($D434,'C.1 - Rate Sheets'!B:F,5,FALSE)","v":0},null,null,null,null,null,null,null,null,null,null,null,null,null,null,null,null,null,null,null,null,null,null,null,null,null,null,null,null,null,null,null,null,null,null,null,null,null,null,null,null,null,null,null,null,null,null,null,null,null,null,null,null,null,null,null,null,null,null,null,null,null,null,null,null,null,null,null,null,null,null,null,null,null,null,null,null,null,null,null,null,null,null,null,null,null,null,null,null,null,null,null,null,null,null,null,null,null,null,null,null,null,null,null,null,null,null,null,null,null,null,null,null,null,null,null,null,null,null,null,null,null,null,16,null,null,null,16,null,null,null,null,null,null,null,null,null,null,null,null,null,null,null,null,null,null,null,null,null,null,null,0,16,16,null,32,0,2371.36,3075.04,0,5446.4,5446.4,"Yes",0,0,0]
[null,417,"Angel Calo","Senior Lineman/Journeyman Lineman","Vendor No.02",null,"MIFPUC-5","2018-11-04","2018-11-05","Yes",{"$f":"VLOOKUP($D435,'C.1 - Rate Sheets'!B:F,2,FALSE)","v":0},{"$f":"VLOOKUP($D435,'C.1 - Rate Sheets'!B:F,3,FALSE)","v":136.22},{"$f":"VLOOKUP($D435,'C.1 - Rate Sheets'!B:F,4,FALSE)","v":176.19},{"$f":"VLOOKUP($D435,'C.1 - Rate Sheets'!B:F,5,FALSE)","v":0},null,null,null,null,null,null,null,null,null,null,null,null,null,null,null,null,null,null,null,null,null,null,null,null,null,null,null,null,null,null,null,null,null,null,null,null,null,null,null,null,null,null,null,null,null,null,null,null,null,null,null,null,null,null,null,null,null,null,null,null,null,null,null,null,null,null,null,null,null,null,null,null,null,null,null,null,null,null,null,null,null,null,null,null,null,null,null,null,null,null,null,null,null,null,null,null,null,null,null,null,null,null,null,null,null,null,null,null,null,null,null,null,null,null,null,null,null,null,null,null,null,null,16,null,null,null,16,null,null,null,null,null,null,null,null,null,null,null,null,null,null,null,null,null,null,null,null,null,null,null,0,16,16,null,32,0,2179.52,2819.04,0,4998.5599999999995,4998.5599999999995,"Yes",0,0,0]
[null,418,"Jose Clinton","Senior Lineman/Journeyman Lineman","Vendor No.02",null,"MIFPUC-5","2018-11-04","2018-11-05","Yes",{"$f":"VLOOKUP($D436,'C.1 - Rate Sheets'!B:F,2,FALSE)","v":0},{"$f":"VLOOKUP($D436,'C.1 - Rate Sheets'!B:F,3,FALSE)","v":136.22},{"$f":"VLOOKUP($D436,'C.1 - Rate Sheets'!B:F,4,FALSE)","v":176.19},{"$f":"VLOOKUP($D436,'C.1 - Rate Sheets'!B:F,5,FALSE)","v":0},null,null,null,null,null,null,null,null,null,null,null,null,null,null,null,null,null,null,null,null,null,null,null,null,null,null,null,null,null,null,null,null,null,null,null,null,null,null,null,null,null,null,null,null,null,null,null,null,null,null,null,null,null,null,null,null,null,null,null,null,null,null,null,null,null,null,null,null,null,null,null,null,null,null,null,null,null,null,null,null,null,null,null,null,null,null,null,null,null,null,null,null,null,null,null,null,null,null,null,null,null,null,null,null,null,null,null,null,null,null,null,null,null,null,null,null,null,null,null,null,null,null,16,null,null,null,16,null,null,null,null,null,null,null,null,null,null,null,null,null,null,null,null,null,null,null,null,null,null,null,0,16,16,null,32,0,2179.52,2819.04,0,4998.5599999999995,4998.5599999999995,"Yes",0,0,0]
[null,419,"Joseph Febus","Groundman","Vendor No.02",null,"MIFPUC-5","2018-11-04","2018-11-05","Yes",{"$f":"VLOOKUP($D437,'C.1 - Rate Sheets'!B:F,2,FALSE)","v":0},{"$f":"VLOOKUP($D437,'C.1 - Rate Sheets'!B:F,3,FALSE)","v":99.27},{"$f":"VLOOKUP($D437,'C.1 - Rate Sheets'!B:F,4,FALSE)","v":117.21},{"$f":"VLOOKUP($D437,'C.1 - Rate Sheets'!B:F,5,FALSE)","v":0},null,null,null,null,null,null,null,null,null,null,null,null,null,null,null,null,null,null,null,null,null,null,null,null,null,null,null,null,null,null,null,null,null,null,null,null,null,null,null,null,null,null,null,null,null,null,null,null,null,null,null,null,null,null,null,null,null,null,null,null,null,null,null,null,null,null,null,null,null,null,null,null,null,null,null,null,null,null,null,null,null,null,null,null,null,null,null,null,null,null,null,null,null,null,null,null,null,null,null,null,null,null,null,null,null,null,null,null,null,null,null,null,null,null,null,null,null,null,null,null,null,null,16,null,null,null,16,null,null,null,null,null,null,null,null,null,null,null,null,null,null,null,null,null,null,null,null,null,null,null,0,16,16,null,32,0,1588.32,1875.36,0,3463.68,3463.68,"Yes",0,0,0]
[null,420,"Scotty Hogan","Equipment Operator","Vendor No.02",null,"MIFPUC-5","2018-11-04","2018-11-05","Yes",{"$f":"VLOOKUP($D438,'C.1 - Rate Sheets'!B:F,2,FALSE)","v":0},{"$f":"VLOOKUP($D438,'C.1 - Rate Sheets'!B:F,3,FALSE)","v":116.87},{"$f":"VLOOKUP($D438,'C.1 - Rate Sheets'!B:F,4,FALSE)","v":151.13},{"$f":"VLOOKUP($D438,'C.1 - Rate Sheets'!B:F,5,FALSE)","v":0},null,null,null,null,null,null,null,null,null,null,null,null,null,null,null,null,null,null,null,null,null,null,null,null,null,null,null,null,null,null,null,null,null,null,null,null,null,null,null,null,null,null,null,null,null,null,null,null,null,null,null,null,null,null,null,null,null,null,null,null,null,null,null,null,null,null,null,null,null,null,null,null,null,null,null,null,null,null,null,null,null,null,null,null,null,null,null,null,null,null,null,null,null,null,null,null,null,null,null,null,null,null,null,null,null,null,null,null,null,null,null,null,null,null,null,null,null,null,null,null,null,null,16,null,null,null,16,null,null,null,null,null,null,null,null,null,null,null,null,null,null,null,null,null,null,null,null,null,null,null,0,16,16,null,32,0,1869.92,2418.08,0,4288,4288,"Yes",0,0,0]
[null,421,"John Davis","Foreman","Vendor No.02",null,"MIFPUC-5","2018-11-04","2018-11-05","Yes",{"$f":"VLOOKUP($D439,'C.1 - Rate Sheets'!B:F,2,FALSE)","v":0},{"$f":"VLOOKUP($D439,'C.1 - Rate Sheets'!B:F,3,FALSE)","v":148.21},{"$f":"VLOOKUP($D439,'C.1 - Rate Sheets'!B:F,4,FALSE)","v":192.19},{"$f":"VLOOKUP($D439,'C.1 - Rate Sheets'!B:F,5,FALSE)","v":0},null,null,null,null,null,null,null,null,null,null,null,null,null,null,null,null,null,null,null,null,null,null,null,null,null,null,null,null,null,null,null,null,null,null,null,null,null,null,null,null,null,null,null,null,null,null,null,null,null,null,null,null,null,null,null,null,null,null,null,null,null,null,null,null,null,null,null,null,null,null,null,null,null,null,null,null,null,null,null,null,null,null,null,null,null,null,null,null,null,null,null,null,null,null,null,null,null,null,null,null,null,null,null,null,null,null,null,null,null,null,null,null,null,null,null,null,null,null,null,null,null,null,16,null,null,null,16,null,null,null,null,null,null,null,null,null,null,null,null,null,null,null,null,null,null,null,null,null,null,null,0,16,16,null,32,0,2371.36,3075.04,0,5446.4,5446.4,"Yes",0,0,0]
[null,422,"Matthew Breiling","Senior Lineman/Journeyman Lineman","Vendor No.02",null,"MIFPUC-5","2018-11-04","2018-11-05","Yes",{"$f":"VLOOKUP($D440,'C.1 - Rate Sheets'!B:F,2,FALSE)","v":0},{"$f":"VLOOKUP($D440,'C.1 - Rate Sheets'!B:F,3,FALSE)","v":136.22},{"$f":"VLOOKUP($D440,'C.1 - Rate Sheets'!B:F,4,FALSE)","v":176.19},{"$f":"VLOOKUP($D440,'C.1 - Rate Sheets'!B:F,5,FALSE)","v":0},null,null,null,null,null,null,null,null,null,null,null,null,null,null,null,null,null,null,null,null,null,null,null,null,null,null,null,null,null,null,null,null,null,null,null,null,null,null,null,null,null,null,null,null,null,null,null,null,null,null,null,null,null,null,null,null,null,null,null,null,null,null,null,null,null,null,null,null,null,null,null,null,null,null,null,null,null,null,null,null,null,null,null,null,null,null,null,null,null,null,null,null,null,null,null,null,null,null,null,null,null,null,null,null,null,null,null,null,null,null,null,null,null,null,null,null,null,null,null,null,null,null,16,null,null,null,16,null,null,null,null,null,null,null,null,null,null,null,null,null,null,null,null,null,null,null,null,null,null,null,0,16,16,null,32,0,2179.52,2819.04,0,4998.5599999999995,4998.5599999999995,"Yes",0,0,0]
[null,423,"Michael Donnellan","Groundman","Vendor No.02",null,"MIFPUC-5","2018-11-04","2018-11-05","Yes",{"$f":"VLOOKUP($D441,'C.1 - Rate Sheets'!B:F,2,FALSE)","v":0},{"$f":"VLOOKUP($D441,'C.1 - Rate Sheets'!B:F,3,FALSE)","v":99.27},{"$f":"VLOOKUP($D441,'C.1 - Rate Sheets'!B:F,4,FALSE)","v":117.21},{"$f":"VLOOKUP($D441,'C.1 - Rate Sheets'!B:F,5,FALSE)","v":0},null,null,null,null,null,null,null,null,null,null,null,null,null,null,null,null,null,null,null,null,null,null,null,null,null,null,null,null,null,null,null,null,null,null,null,null,null,null,null,null,null,null,null,null,null,null,null,null,null,null,null,null,null,null,null,null,null,null,null,null,null,null,null,null,null,null,null,null,null,null,null,null,null,null,null,null,null,null,null,null,null,null,null,null,null,null,null,null,null,null,null,null,null,null,null,null,null,null,null,null,null,null,null,null,null,null,null,null,null,null,null,null,null,null,null,null,null,null,null,null,null,null,16,null,null,null,16,null,null,null,null,null,null,null,null,null,null,null,null,null,null,null,null,null,null,null,null,null,null,null,0,16,16,null,32,0,1588.32,1875.36,0,3463.68,3463.68,"Yes",0,0,0]
[null,424,"Emanuel Gonzalez","Senior Lineman/Journeyman Lineman","Vendor No.02",null,"MIFPUC-5","2018-11-04","2018-11-05","Yes",{"$f":"VLOOKUP($D442,'C.1 - Rate Sheets'!B:F,2,FALSE)","v":0},{"$f":"VLOOKUP($D442,'C.1 - Rate Sheets'!B:F,3,FALSE)","v":136.22},{"$f":"VLOOKUP($D442,'C.1 - Rate Sheets'!B:F,4,FALSE)","v":176.19},{"$f":"VLOOKUP($D442,'C.1 - Rate Sheets'!B:F,5,FALSE)","v":0},null,null,null,null,null,null,null,null,null,null,null,null,null,null,null,null,null,null,null,null,null,null,null,null,null,null,null,null,null,null,null,null,null,null,null,null,null,null,null,null,null,null,null,null,null,null,null,null,null,null,null,null,null,null,null,null,null,null,null,null,null,null,null,null,null,null,null,null,null,null,null,null,null,null,null,null,null,null,null,null,null,null,null,null,null,null,null,null,null,null,null,null,null,null,null,null,null,null,null,null,null,null,null,null,null,null,null,null,null,null,null,null,null,null,null,null,null,null,null,null,null,null,16,null,null,null,16,null,null,null,null,null,null,null,null,null,null,null,null,null,null,null,null,null,null,null,null,null,null,null,0,16,16,null,32,0,2179.52,2819.04,0,4998.5599999999995,4998.5599999999995,"Yes",0,0,0]
[null,425,"Bobby Bahrami","Senior Lineman/Journeyman Lineman","Vendor No.02",null,"MIFPUC-5","2018-11-04","2018-11-05","Yes",{"$f":"VLOOKUP($D443,'C.1 - Rate Sheets'!B:F,2,FALSE)","v":0},{"$f":"VLOOKUP($D443,'C.1 - Rate Sheets'!B:F,3,FALSE)","v":136.22},{"$f":"VLOOKUP($D443,'C.1 - Rate Sheets'!B:F,4,FALSE)","v":176.19},{"$f":"VLOOKUP($D443,'C.1 - Rate Sheets'!B:F,5,FALSE)","v":0},null,null,null,null,null,null,null,null,null,null,null,null,null,null,null,null,null,null,null,null,null,null,null,null,null,null,null,null,null,null,null,null,null,null,null,null,null,null,null,null,null,null,null,null,null,null,null,null,null,null,null,null,null,null,null,null,null,null,null,null,null,null,null,null,null,null,null,null,null,null,null,null,null,null,null,null,null,null,null,null,null,null,null,null,null,null,null,null,null,null,null,null,null,null,null,null,null,null,null,null,null,null,null,null,null,null,null,null,null,null,null,null,null,null,null,null,null,null,null,null,null,null,16,null,null,null,16,null,null,null,null,null,null,null,null,null,null,null,null,null,null,null,null,null,null,null,null,null,null,null,0,16,16,null,32,0,2179.52,2819.04,0,4998.5599999999995,4998.5599999999995,"Yes",0,0,0]
[null,426,"Mark Monaboe","Apprentice Helper","Vendor No.02",null,"MIFPUC-5","2018-11-04","2018-11-05","Yes",{"$f":"VLOOKUP($D444,'C.1 - Rate Sheets'!B:F,2,FALSE)","v":0},{"$f":"VLOOKUP($D444,'C.1 - Rate Sheets'!B:F,3,FALSE)","v":102.25},{"$f":"VLOOKUP($D444,'C.1 - Rate Sheets'!B:F,4,FALSE)","v":130.74},{"$f":"VLOOKUP($D444,'C.1 - Rate Sheets'!B:F,5,FALSE)","v":0},null,null,null,null,null,null,null,null,null,null,null,null,null,null,null,null,null,null,null,null,null,null,null,null,null,null,null,null,null,null,null,null,null,null,null,null,null,null,null,null,null,null,null,null,null,null,null,null,null,null,null,null,null,null,null,null,null,null,null,null,null,null,null,null,null,null,null,null,null,null,null,null,null,null,null,null,null,null,null,null,null,null,null,null,null,null,null,null,null,null,null,null,null,null,null,null,null,null,null,null,null,null,null,null,null,null,null,null,null,null,null,null,null,null,null,null,null,null,null,null,null,null,16,null,null,null,16,null,null,null,null,null,null,null,null,null,null,null,null,null,null,null,null,null,null,null,null,null,null,null,0,16,16,null,32,0,1636,2091.84,0,3727.84,3727.84,"Yes",0,0,0]
[null,427,"James Pinson","Foreman","Vendor No.02",null,"MIFPUC-5","2018-11-04","2018-11-05","Yes",{"$f":"VLOOKUP($D445,'C.1 - Rate Sheets'!B:F,2,FALSE)","v":0},{"$f":"VLOOKUP($D445,'C.1 - Rate Sheets'!B:F,3,FALSE)","v":148.21},{"$f":"VLOOKUP($D445,'C.1 - Rate Sheets'!B:F,4,FALSE)","v":192.19},{"$f":"VLOOKUP($D445,'C.1 - Rate Sheets'!B:F,5,FALSE)","v":0},null,null,null,null,null,null,null,null,null,null,null,null,null,null,null,null,null,null,null,null,null,null,null,null,null,null,null,null,null,null,null,null,null,null,null,null,null,null,null,null,null,null,null,null,null,null,null,null,null,null,null,null,null,null,null,null,null,null,null,null,null,null,null,null,null,null,null,null,null,null,null,null,null,null,null,null,null,null,null,null,null,null,null,null,null,null,null,null,null,null,null,null,null,null,null,null,null,null,null,null,null,null,null,null,null,null,null,null,null,null,null,null,null,null,null,null,null,null,null,null,null,null,16,null,null,null,16,null,null,null,null,null,null,null,null,null,null,null,null,null,null,null,null,null,null,null,null,null,null,null,0,16,16,null,32,0,2371.36,3075.04,0,5446.4,5446.4,"Yes",0,0,0]
[null,428,"Jorge Sotolongo","Groundman","Vendor No.02",null,"MIFPUC-5","2018-11-04","2018-11-05","Yes",{"$f":"VLOOKUP($D446,'C.1 - Rate Sheets'!B:F,2,FALSE)","v":0},{"$f":"VLOOKUP($D446,'C.1 - Rate Sheets'!B:F,3,FALSE)","v":99.27},{"$f":"VLOOKUP($D446,'C.1 - Rate Sheets'!B:F,4,FALSE)","v":117.21},{"$f":"VLOOKUP($D446,'C.1 - Rate Sheets'!B:F,5,FALSE)","v":0},null,null,null,null,null,null,null,null,null,null,null,null,null,null,null,null,null,null,null,null,null,null,null,null,null,null,null,null,null,null,null,null,null,null,null,null,null,null,null,null,null,null,null,null,null,null,null,null,null,null,null,null,null,null,null,null,null,null,null,null,null,null,null,null,null,null,null,null,null,null,null,null,null,null,null,null,null,null,null,null,null,null,null,null,null,null,null,null,null,null,null,null,null,null,null,null,null,null,null,null,null,null,null,null,null,null,null,null,null,null,null,null,null,null,null,null,null,null,null,null,null,null,16,null,null,null,16,null,null,null,null,null,null,null,null,null,null,null,null,null,null,null,null,null,null,null,null,null,null,null,0,16,16,null,32,0,1588.32,1875.36,0,3463.68,3463.68,"Yes",0,0,0]
[null,429,"Alex Herrnandez","Senior Lineman/Journeyman Lineman","Vendor No.02",null,"MIFPUC-5","2018-11-04","2018-11-05","Yes",{"$f":"VLOOKUP($D447,'C.1 - Rate Sheets'!B:F,2,FALSE)","v":0},{"$f":"VLOOKUP($D447,'C.1 - Rate Sheets'!B:F,3,FALSE)","v":136.22},{"$f":"VLOOKUP($D447,'C.1 - Rate Sheets'!B:F,4,FALSE)","v":176.19},{"$f":"VLOOKUP($D447,'C.1 - Rate Sheets'!B:F,5,FALSE)","v":0},null,null,null,null,null,null,null,null,null,null,null,null,null,null,null,null,null,null,null,null,null,null,null,null,null,null,null,null,null,null,null,null,null,null,null,null,null,null,null,null,null,null,null,null,null,null,null,null,null,null,null,null,null,null,null,null,null,null,null,null,null,null,null,null,null,null,null,null,null,null,null,null,null,null,null,null,null,null,null,null,null,null,null,null,null,null,null,null,null,null,null,null,null,null,null,null,null,null,null,null,null,null,null,null,null,null,null,null,null,null,null,null,null,null,null,null,null,null,null,null,null,null,16,null,null,null,16,null,null,null,null,null,null,null,null,null,null,null,null,null,null,null,null,null,null,null,null,null,null,null,0,16,16,null,32,0,2179.52,2819.04,0,4998.5599999999995,4998.5599999999995,"Yes",0,0,0]
[null,430,"Garrett McDonald","Groundman","Vendor No.02",null,"MIFPUC-5","2018-11-04","2018-11-05","Yes",{"$f":"VLOOKUP($D448,'C.1 - Rate Sheets'!B:F,2,FALSE)","v":0},{"$f":"VLOOKUP($D448,'C.1 - Rate Sheets'!B:F,3,FALSE)","v":99.27},{"$f":"VLOOKUP($D448,'C.1 - Rate Sheets'!B:F,4,FALSE)","v":117.21},{"$f":"VLOOKUP($D448,'C.1 - Rate Sheets'!B:F,5,FALSE)","v":0},null,null,null,null,null,null,null,null,null,null,null,null,null,null,null,null,null,null,null,null,null,null,null,null,null,null,null,null,null,null,null,null,null,null,null,null,null,null,null,null,null,null,null,null,null,null,null,null,null,null,null,null,null,null,null,null,null,null,null,null,null,null,null,null,null,null,null,null,null,null,null,null,null,null,null,null,null,null,null,null,null,null,null,null,null,null,null,null,null,null,null,null,null,null,null,null,null,null,null,null,null,null,null,null,null,null,null,null,null,null,null,null,null,null,null,null,null,null,null,null,null,null,16,null,null,null,16,null,null,null,null,null,null,null,null,null,null,null,null,null,null,null,null,null,null,null,null,null,null,null,0,16,16,null,32,0,1588.32,1875.36,0,3463.68,3463.68,"Yes",0,0,0]
[null,431,"Joel Molina","Senior Lineman/Journeyman Lineman","Vendor No.02",null,"MIFPUC-5","2018-11-04","2018-11-05","Yes",{"$f":"VLOOKUP($D449,'C.1 - Rate Sheets'!B:F,2,FALSE)","v":0},{"$f":"VLOOKUP($D449,'C.1 - Rate Sheets'!B:F,3,FALSE)","v":136.22},{"$f":"VLOOKUP($D449,'C.1 - Rate Sheets'!B:F,4,FALSE)","v":176.19},{"$f":"VLOOKUP($D449,'C.1 - Rate Sheets'!B:F,5,FALSE)","v":0},null,null,null,null,null,null,null,null,null,null,null,null,null,null,null,null,null,null,null,null,null,null,null,null,null,null,null,null,null,null,null,null,null,null,null,null,null,null,null,null,null,null,null,null,null,null,null,null,null,null,null,null,null,null,null,null,null,null,null,null,null,null,null,null,null,null,null,null,null,null,null,null,null,null,null,null,null,null,null,null,null,null,null,null,null,null,null,null,null,null,null,null,null,null,null,null,null,null,null,null,null,null,null,null,null,null,null,null,null,null,null,null,null,null,null,null,null,null,null,null,null,null,16,null,null,null,16,null,null,null,null,null,null,null,null,null,null,null,null,null,null,null,null,null,null,null,null,null,null,null,0,16,16,null,32,0,2179.52,2819.04,0,4998.5599999999995,4998.5599999999995,"Yes",0,0,0]
[null,432,"Vincent Miller","Apprentice Helper","Vendor No.02",null,"MIFPUC-5","2018-11-04","2018-11-05","Yes",{"$f":"VLOOKUP($D450,'C.1 - Rate Sheets'!B:F,2,FALSE)","v":0},{"$f":"VLOOKUP($D450,'C.1 - Rate Sheets'!B:F,3,FALSE)","v":102.25},{"$f":"VLOOKUP($D450,'C.1 - Rate Sheets'!B:F,4,FALSE)","v":130.74},{"$f":"VLOOKUP($D450,'C.1 - Rate Sheets'!B:F,5,FALSE)","v":0},null,null,null,null,null,null,null,null,null,null,null,null,null,null,null,null,null,null,null,null,null,null,null,null,null,null,null,null,null,null,null,null,null,null,null,null,null,null,null,null,null,null,null,null,null,null,null,null,null,null,null,null,null,null,null,null,null,null,null,null,null,null,null,null,null,null,null,null,null,null,null,null,null,null,null,null,null,null,null,null,null,null,null,null,null,null,null,null,null,null,null,null,null,null,null,null,null,null,null,null,null,null,null,null,null,null,null,null,null,null,null,null,null,null,null,null,null,null,null,null,null,null,null,null,null,null,null,null,null,null,null,null,null,null,null,null,null,null,null,null,null,null,null,null,null,null,null,null,null,null,0,0,0,null,0,0,0,0,0,0,0,"Yes",0,0,0]
[null,433,"Shannon Williams","Equipment Operator","Vendor No.02",null,"MIFPUC-5","2018-11-04","2018-11-05","Yes",{"$f":"VLOOKUP($D451,'C.1 - Rate Sheets'!B:F,2,FALSE)","v":0},{"$f":"VLOOKUP($D451,'C.1 - Rate Sheets'!B:F,3,FALSE)","v":116.87},{"$f":"VLOOKUP($D451,'C.1 - Rate Sheets'!B:F,4,FALSE)","v":151.13},{"$f":"VLOOKUP($D451,'C.1 - Rate Sheets'!B:F,5,FALSE)","v":0},null,null,null,null,null,null,null,null,null,null,null,null,null,null,null,null,null,null,null,null,null,null,null,null,null,null,null,null,null,null,null,null,null,null,null,null,null,null,null,null,null,null,null,null,null,null,null,null,null,null,null,null,null,null,null,null,null,null,null,null,null,null,null,null,null,null,null,null,null,null,null,null,null,null,null,null,null,null,null,null,null,null,null,null,null,null,null,null,null,null,null,null,null,null,null,null,null,null,null,null,null,null,null,null,null,null,null,null,null,null,null,null,null,null,null,null,null,null,null,null,null,null,16,null,null,null,16,null,null,null,null,null,null,null,null,null,null,null,null,null,null,null,null,null,null,null,null,null,null,null,0,16,16,null,32,0,1869.92,2418.08,0,4288,4288,"Yes",0,0,0]
[null,434,"Lino Carreras","Equipment Operator","Vendor No.02",null,"MIFPUC-5","2018-11-04","2018-11-05","Yes",{"$f":"VLOOKUP($D452,'C.1 - Rate Sheets'!B:F,2,FALSE)","v":0},{"$f":"VLOOKUP($D452,'C.1 - Rate Sheets'!B:F,3,FALSE)","v":116.87},{"$f":"VLOOKUP($D452,'C.1 - Rate Sheets'!B:F,4,FALSE)","v":151.13},{"$f":"VLOOKUP($D452,'C.1 - Rate Sheets'!B:F,5,FALSE)","v":0},null,null,null,null,null,null,null,null,null,null,null,null,null,null,null,null,null,null,null,null,null,null,null,null,null,null,null,null,null,null,null,null,null,null,null,null,null,null,null,null,null,null,null,null,null,null,null,null,null,null,null,null,null,null,null,null,null,null,null,null,null,null,null,null,null,null,null,null,null,null,null,null,null,null,null,null,null,null,null,null,null,null,null,null,null,null,null,null,null,null,null,null,null,null,null,null,null,null,null,null,null,null,null,null,null,null,null,null,null,null,null,null,null,null,null,null,null,null,null,null,null,null,16,null,null,null,16,null,null,null,null,null,null,null,null,null,null,null,null,null,null,null,null,null,null,null,null,null,null,null,0,16,16,null,32,0,1869.92,2418.08,0,4288,4288,"Yes",0,0,0]
[null,435,"Richard Byrd","Line Tech C","Vendor No.02",null,"MIFPUC-5","2018-11-04","2018-11-05","Yes",{"$f":"VLOOKUP($D453,'C.1 - Rate Sheets'!B:F,2,FALSE)","v":0},{"$f":"VLOOKUP($D453,'C.1 - Rate Sheets'!B:F,3,FALSE)","v":110.51},{"$f":"VLOOKUP($D453,'C.1 - Rate Sheets'!B:F,4,FALSE)","v":136.22999999999999},{"$f":"VLOOKUP($D453,'C.1 - Rate Sheets'!B:F,5,FALSE)","v":0},null,null,null,null,null,null,null,null,null,null,null,null,null,null,null,null,null,null,null,null,null,null,null,null,null,null,null,null,null,null,null,null,null,null,null,null,null,null,null,null,null,null,null,null,null,null,null,null,null,null,null,null,null,null,null,null,null,null,null,null,null,null,null,null,null,null,null,null,null,null,null,null,null,null,null,null,null,null,null,null,null,null,null,null,null,null,null,null,null,null,null,null,null,null,null,null,null,null,null,null,null,null,null,null,null,null,null,null,null,null,null,null,null,null,null,null,null,null,null,null,null,null,16,null,null,null,16,null,null,null,null,null,null,null,null,null,null,null,null,null,null,null,null,null,null,null,null,null,null,null,0,16,16,null,32,0,1768.16,2179.6799999999998,0,3947.84,3947.84,"Yes",0,0,0]
[null,436,"Zeb Mondrella","Senior Lineman/Journeyman Lineman","Vendor No.02",null,"MIFPUC-5","2018-11-04","2018-11-05","Yes",{"$f":"VLOOKUP($D454,'C.1 - Rate Sheets'!B:F,2,FALSE)","v":0},{"$f":"VLOOKUP($D454,'C.1 - Rate Sheets'!B:F,3,FALSE)","v":136.22},{"$f":"VLOOKUP($D454,'C.1 - Rate Sheets'!B:F,4,FALSE)","v":176.19},{"$f":"VLOOKUP($D454,'C.1 - Rate Sheets'!B:F,5,FALSE)","v":0},null,null,null,null,null,null,null,null,null,null,null,null,null,null,null,null,null,null,null,null,null,null,null,null,null,null,null,null,null,null,null,null,null,null,null,null,null,null,null,null,null,null,null,null,null,null,null,null,null,null,null,null,null,null,null,null,null,null,null,null,null,null,null,null,null,null,null,null,null,null,null,null,null,null,null,null,null,null,null,null,null,null,null,null,null,null,null,null,null,null,null,null,null,null,null,null,null,null,null,null,null,null,null,null,null,null,null,null,null,null,null,null,null,null,null,null,null,null,null,null,null,null,null,null,null,null,null,null,null,null,null,null,null,null,null,null,null,null,null,null,null,null,null,null,null,null,null,null,null,null,0,0,0,null,0,0,0,0,0,0,0,"Yes",0,0,0]
[null,437,"James Morrel","Foreman","Vendor No.02",null,"MIFPUC-5","2018-11-04","2018-11-05","Yes",{"$f":"VLOOKUP($D455,'C.1 - Rate Sheets'!B:F,2,FALSE)","v":0},{"$f":"VLOOKUP($D455,'C.1 - Rate Sheets'!B:F,3,FALSE)","v":148.21},{"$f":"VLOOKUP($D455,'C.1 - Rate Sheets'!B:F,4,FALSE)","v":192.19},{"$f":"VLOOKUP($D455,'C.1 - Rate Sheets'!B:F,5,FALSE)","v":0},null,null,null,null,null,null,null,null,null,null,null,null,null,null,null,null,null,null,null,null,null,null,null,null,null,null,null,null,null,null,null,null,null,null,null,null,null,null,null,null,null,null,null,null,null,null,null,null,null,null,null,null,null,null,null,null,null,null,null,null,null,null,null,null,null,null,null,null,null,null,null,null,null,null,null,null,null,null,null,null,null,null,null,null,null,null,null,null,null,null,null,null,null,null,null,null,null,null,null,null,null,null,null,null,null,null,null,null,null,null,null,null,null,null,null,null,null,null,null,null,null,null,16,null,null,null,16,null,null,null,null,null,null,null,null,null,null,null,null,null,null,null,null,null,null,null,null,null,null,null,0,16,16,null,32,0,2371.36,3075.04,0,5446.4,5446.4,"Yes",0,0,0]
[null,438,"Gregory Race","Line Tech C","Vendor No.02",null,"MIFPUC-5","2018-11-04","2018-11-05","Yes",{"$f":"VLOOKUP($D456,'C.1 - Rate Sheets'!B:F,2,FALSE)","v":0},{"$f":"VLOOKUP($D456,'C.1 - Rate Sheets'!B:F,3,FALSE)","v":110.51},{"$f":"VLOOKUP($D456,'C.1 - Rate Sheets'!B:F,4,FALSE)","v":136.22999999999999},{"$f":"VLOOKUP($D456,'C.1 - Rate Sheets'!B:F,5,FALSE)","v":0},null,null,null,null,null,null,null,null,null,null,null,null,null,null,null,null,null,null,null,null,null,null,null,null,null,null,null,null,null,null,null,null,null,null,null,null,null,null,null,null,null,null,null,null,null,null,null,null,null,null,null,null,null,null,null,null,null,null,null,null,null,null,null,null,null,null,null,null,null,null,null,null,null,null,null,null,null,null,null,null,null,null,null,null,null,null,null,null,null,null,null,null,null,null,null,null,null,null,null,null,null,null,null,null,null,null,null,null,null,null,null,null,null,null,null,null,null,null,null,null,null,null,16,null,null,null,16,null,null,null,null,null,null,null,null,null,null,null,null,null,null,null,null,null,null,null,null,null,null,null,0,16,16,null,32,0,1768.16,2179.6799999999998,0,3947.84,3947.84,"Yes",0,0,0]
[null,439,"Neil Springman","Mechanic","Vendor No.02",null,"MIFPUC-5","2018-11-04","2018-11-05","Yes",{"$f":"VLOOKUP($D457,'C.1 - Rate Sheets'!B:F,2,FALSE)","v":0},{"$f":"VLOOKUP($D457,'C.1 - Rate Sheets'!B:F,3,FALSE)","v":116.87},{"$f":"VLOOKUP($D457,'C.1 - Rate Sheets'!B:F,4,FALSE)","v":151.13},{"$f":"VLOOKUP($D457,'C.1 - Rate Sheets'!B:F,5,FALSE)","v":0},null,null,null,null,null,null,null,null,null,null,null,null,null,null,null,null,null,null,null,null,null,null,null,null,null,null,null,null,null,null,null,null,null,null,null,null,null,null,null,null,null,null,null,null,null,null,null,null,null,null,null,null,null,null,null,null,null,null,null,null,null,null,null,null,null,null,null,null,null,null,null,null,null,null,null,null,null,null,null,null,null,null,null,null,null,null,null,null,null,null,null,null,null,null,null,null,null,null,null,null,null,null,null,null,null,null,null,null,null,null,null,null,null,null,null,null,null,null,null,null,null,null,16,null,null,null,16,null,null,null,null,null,null,null,null,null,null,null,null,null,null,null,null,null,null,null,null,null,null,null,0,16,16,null,32,0,1869.92,2418.08,0,4288,4288,"Yes",0,0,0]
[null,440,"Ron Roush","General Foreman","Vendor No.02",null,"MIFPUC-5","2018-11-04","2018-11-05","Yes",{"$f":"VLOOKUP($D458,'C.1 - Rate Sheets'!B:F,2,FALSE)","v":0},{"$f":"VLOOKUP($D458,'C.1 - Rate Sheets'!B:F,3,FALSE)","v":160.21},{"$f":"VLOOKUP($D458,'C.1 - Rate Sheets'!B:F,4,FALSE)","v":208.18},{"$f":"VLOOKUP($D458,'C.1 - Rate Sheets'!B:F,5,FALSE)","v":0},null,null,null,null,null,null,null,null,null,null,null,null,null,null,null,null,null,null,null,null,null,null,null,null,null,null,null,null,null,null,null,null,null,null,null,null,null,null,null,null,null,null,null,null,null,null,null,null,null,null,null,null,null,null,null,null,null,null,null,null,null,null,null,null,null,null,null,null,null,null,null,null,null,null,null,null,null,null,null,null,null,null,null,null,null,null,null,null,null,null,null,null,null,null,null,null,null,null,null,null,null,null,null,null,null,null,null,null,null,null,null,null,null,null,null,null,null,null,null,null,null,null,16,null,null,null,16,null,null,null,null,null,null,null,null,null,null,null,null,null,null,null,null,null,null,null,null,null,null,null,0,16,16,null,32,0,2563.36,3330.88,0,5894.24,5894.24,"Yes",0,0,0]
[null,441,"Ryan Timms","Foreman","Vendor No.02",null,"MIFPUC-5","2018-11-04","2018-11-05","Yes",{"$f":"VLOOKUP($D459,'C.1 - Rate Sheets'!B:F,2,FALSE)","v":0},{"$f":"VLOOKUP($D459,'C.1 - Rate Sheets'!B:F,3,FALSE)","v":148.21},{"$f":"VLOOKUP($D459,'C.1 - Rate Sheets'!B:F,4,FALSE)","v":192.19},{"$f":"VLOOKUP($D459,'C.1 - Rate Sheets'!B:F,5,FALSE)","v":0},null,null,null,null,null,null,null,null,null,null,null,null,null,null,null,null,null,null,null,null,null,null,null,null,null,null,null,null,null,null,null,null,null,null,null,null,null,null,null,null,null,null,null,null,null,null,null,null,null,null,null,null,null,null,null,null,null,null,null,null,null,null,null,null,null,null,null,null,null,null,null,null,null,null,null,null,null,null,null,null,null,null,null,null,null,null,null,null,null,null,null,null,null,null,null,null,null,null,null,null,null,null,null,null,null,null,null,null,null,null,null,null,null,null,null,null,null,null,null,null,null,null,16,null,null,null,16,null,null,null,null,null,null,null,null,null,null,null,null,null,null,null,null,null,null,null,null,null,null,null,0,16,16,null,32,0,2371.36,3075.04,0,5446.4,5446.4,"Yes",0,0,0]
[null,442,"Aaron Mays","Senior Lineman/Journeyman Lineman","Vendor No.02",null,"MIFPUC-5","2018-11-04","2018-11-05","Yes",{"$f":"VLOOKUP($D460,'C.1 - Rate Sheets'!B:F,2,FALSE)","v":0},{"$f":"VLOOKUP($D460,'C.1 - Rate Sheets'!B:F,3,FALSE)","v":136.22},{"$f":"VLOOKUP($D460,'C.1 - Rate Sheets'!B:F,4,FALSE)","v":176.19},{"$f":"VLOOKUP($D460,'C.1 - Rate Sheets'!B:F,5,FALSE)","v":0},null,null,null,null,null,null,null,null,null,null,null,null,null,null,null,null,null,null,null,null,null,null,null,null,null,null,null,null,null,null,null,null,null,null,null,null,null,null,null,null,null,null,null,null,null,null,null,null,null,null,null,null,null,null,null,null,null,null,null,null,null,null,null,null,null,null,null,null,null,null,null,null,null,null,null,null,null,null,null,null,null,null,null,null,null,null,null,null,null,null,null,null,null,null,null,null,null,null,null,null,null,null,null,null,null,null,null,null,null,null,null,null,null,null,null,null,null,null,null,null,null,null,16,null,null,null,16,null,null,null,null,null,null,null,null,null,null,null,null,null,null,null,null,null,null,null,null,null,null,null,0,16,16,null,32,0,2179.52,2819.04,0,4998.5599999999995,4998.5599999999995,"Yes",0,0,0]
[null,443,"Keith Kiphard","Apprentice Helper","Vendor No.02",null,"MIFPUC-5","2018-11-04","2018-11-05","Yes",{"$f":"VLOOKUP($D461,'C.1 - Rate Sheets'!B:F,2,FALSE)","v":0},{"$f":"VLOOKUP($D461,'C.1 - Rate Sheets'!B:F,3,FALSE)","v":102.25},{"$f":"VLOOKUP($D461,'C.1 - Rate Sheets'!B:F,4,FALSE)","v":130.74},{"$f":"VLOOKUP($D461,'C.1 - Rate Sheets'!B:F,5,FALSE)","v":0},null,null,null,null,null,null,null,null,null,null,null,null,null,null,null,null,null,null,null,null,null,null,null,null,null,null,null,null,null,null,null,null,null,null,null,null,null,null,null,null,null,null,null,null,null,null,null,null,null,null,null,null,null,null,null,null,null,null,null,null,null,null,null,null,null,null,null,null,null,null,null,null,null,null,null,null,null,null,null,null,null,null,null,null,null,null,null,null,null,null,null,null,null,null,null,null,null,null,null,null,null,null,null,null,null,null,null,null,null,null,null,null,null,null,null,null,null,null,null,null,null,null,16,null,null,null,16,null,null,null,null,null,null,null,null,null,null,null,null,null,null,null,null,null,null,null,null,null,null,null,0,16,16,null,32,0,1636,2091.84,0,3727.84,3727.84,"Yes",0,0,0]
[null,444,"Evan Bryson","Groundman","Vendor No.02",null,"MIFPUC-5","2018-11-04","2018-11-05","Yes",{"$f":"VLOOKUP($D462,'C.1 - Rate Sheets'!B:F,2,FALSE)","v":0},{"$f":"VLOOKUP($D462,'C.1 - Rate Sheets'!B:F,3,FALSE)","v":99.27},{"$f":"VLOOKUP($D462,'C.1 - Rate Sheets'!B:F,4,FALSE)","v":117.21},{"$f":"VLOOKUP($D462,'C.1 - Rate Sheets'!B:F,5,FALSE)","v":0},null,null,null,null,null,null,null,null,null,null,null,null,null,null,null,null,null,null,null,null,null,null,null,null,null,null,null,null,null,null,null,null,null,null,null,null,null,null,null,null,null,null,null,null,null,null,null,null,null,null,null,null,null,null,null,null,null,null,null,null,null,null,null,null,null,null,null,null,null,null,null,null,null,null,null,null,null,null,null,null,null,null,null,null,null,null,null,null,null,null,null,null,null,null,null,null,null,null,null,null,null,null,null,null,null,null,null,null,null,null,null,null,null,null,null,null,null,null,null,null,null,null,16,null,null,null,16,null,null,null,null,null,null,null,null,null,null,null,null,null,null,null,null,null,null,null,null,null,null,null,0,16,16,null,32,0,1588.32,1875.36,0,3463.68,3463.68,"Yes",0,0,0]
[null,445,"Cory Farris","Foreman","Vendor No.02",null,"MIFPUC-5","2018-11-04","2018-11-05","Yes",{"$f":"VLOOKUP($D463,'C.1 - Rate Sheets'!B:F,2,FALSE)","v":0},{"$f":"VLOOKUP($D463,'C.1 - Rate Sheets'!B:F,3,FALSE)","v":148.21},{"$f":"VLOOKUP($D463,'C.1 - Rate Sheets'!B:F,4,FALSE)","v":192.19},{"$f":"VLOOKUP($D463,'C.1 - Rate Sheets'!B:F,5,FALSE)","v":0},null,null,null,null,null,null,null,null,null,null,null,null,null,null,null,null,null,null,null,null,null,null,null,null,null,null,null,null,null,null,null,null,null,null,null,null,null,null,null,null,null,null,null,null,null,null,null,null,null,null,null,null,null,null,null,null,null,null,null,null,null,null,null,null,null,null,null,null,null,null,null,null,null,null,null,null,null,null,null,null,null,null,null,null,null,null,null,null,null,null,null,null,null,null,null,null,null,null,null,null,null,null,null,null,null,null,null,null,null,null,null,null,null,null,null,null,null,null,null,null,null,null,16,null,null,null,16,null,null,null,null,null,null,null,null,null,null,null,null,null,null,null,null,null,null,null,null,null,null,null,0,16,16,null,32,0,2371.36,3075.04,0,5446.4,5446.4,"Yes",0,0,0]
[null,446,"Josh Parker","Senior Lineman/Journeyman Lineman","Vendor No.02",null,"MIFPUC-5","2018-11-04","2018-11-05","Yes",{"$f":"VLOOKUP($D464,'C.1 - Rate Sheets'!B:F,2,FALSE)","v":0},{"$f":"VLOOKUP($D464,'C.1 - Rate Sheets'!B:F,3,FALSE)","v":136.22},{"$f":"VLOOKUP($D464,'C.1 - Rate Sheets'!B:F,4,FALSE)","v":176.19},{"$f":"VLOOKUP($D464,'C.1 - Rate Sheets'!B:F,5,FALSE)","v":0},null,null,null,null,null,null,null,null,null,null,null,null,null,null,null,null,null,null,null,null,null,null,null,null,null,null,null,null,null,null,null,null,null,null,null,null,null,null,null,null,null,null,null,null,null,null,null,null,null,null,null,null,null,null,null,null,null,null,null,null,null,null,null,null,null,null,null,null,null,null,null,null,null,null,null,null,null,null,null,null,null,null,null,null,null,null,null,null,null,null,null,null,null,null,null,null,null,null,null,null,null,null,null,null,null,null,null,null,null,null,null,null,null,null,null,null,null,null,null,null,null,null,16,null,null,null,16,null,null,null,null,null,null,null,null,null,null,null,null,null,null,null,null,null,null,null,null,null,null,null,0,16,16,null,32,0,2179.52,2819.04,0,4998.5599999999995,4998.5599999999995,"Yes",0,0,0]
[null,447,"Rodney Breedlove","Equipment Operator","Vendor No.02",null,"MIFPUC-5","2018-11-04","2018-11-05","Yes",{"$f":"VLOOKUP($D465,'C.1 - Rate Sheets'!B:F,2,FALSE)","v":0},{"$f":"VLOOKUP($D465,'C.1 - Rate Sheets'!B:F,3,FALSE)","v":116.87},{"$f":"VLOOKUP($D465,'C.1 - Rate Sheets'!B:F,4,FALSE)","v":151.13},{"$f":"VLOOKUP($D465,'C.1 - Rate Sheets'!B:F,5,FALSE)","v":0},null,null,null,null,null,null,null,null,null,null,null,null,null,null,null,null,null,null,null,null,null,null,null,null,null,null,null,null,null,null,null,null,null,null,null,null,null,null,null,null,null,null,null,null,null,null,null,null,null,null,null,null,null,null,null,null,null,null,null,null,null,null,null,null,null,null,null,null,null,null,null,null,null,null,null,null,null,null,null,null,null,null,null,null,null,null,null,null,null,null,null,null,null,null,null,null,null,null,null,null,null,null,null,null,null,null,null,null,null,null,null,null,null,null,null,null,null,null,null,null,null,null,null,null,null,null,null,null,null,null,null,null,null,null,null,null,null,null,null,null,null,null,null,null,null,null,null,null,null,null,0,0,0,null,0,0,0,0,0,0,0,"Yes",0,0,0]
[null,448,"Ken Gardner","Groundman","Vendor No.02",null,"MIFPUC-5","2018-11-04","2018-11-05","Yes",{"$f":"VLOOKUP($D466,'C.1 - Rate Sheets'!B:F,2,FALSE)","v":0},{"$f":"VLOOKUP($D466,'C.1 - Rate Sheets'!B:F,3,FALSE)","v":99.27},{"$f":"VLOOKUP($D466,'C.1 - Rate Sheets'!B:F,4,FALSE)","v":117.21},{"$f":"VLOOKUP($D466,'C.1 - Rate Sheets'!B:F,5,FALSE)","v":0},null,null,null,null,null,null,null,null,null,null,null,null,null,null,null,null,null,null,null,null,null,null,null,null,null,null,null,null,null,null,null,null,null,null,null,null,null,null,null,null,null,null,null,null,null,null,null,null,null,null,null,null,null,null,null,null,null,null,null,null,null,null,null,null,null,null,null,null,null,null,null,null,null,null,null,null,null,null,null,null,null,null,null,null,null,null,null,null,null,null,null,null,null,null,null,null,null,null,null,null,null,null,null,null,null,null,null,null,null,null,null,null,null,null,null,null,null,null,null,null,null,null,null,null,null,null,null,null,null,null,null,null,null,null,null,null,null,null,null,null,null,null,null,null,null,null,null,null,null,null,0,0,0,null,0,0,0,0,0,0,0,"Yes",0,0,0]
[null,449,"Nate McDonough","Foreman","Vendor No.02",null,"MIFPUC-5","2018-11-04","2018-11-05","Yes",{"$f":"VLOOKUP($D467,'C.1 - Rate Sheets'!B:F,2,FALSE)","v":0},{"$f":"VLOOKUP($D467,'C.1 - Rate Sheets'!B:F,3,FALSE)","v":148.21},{"$f":"VLOOKUP($D467,'C.1 - Rate Sheets'!B:F,4,FALSE)","v":192.19},{"$f":"VLOOKUP($D467,'C.1 - Rate Sheets'!B:F,5,FALSE)","v":0},null,null,null,null,null,null,null,null,null,null,null,null,null,null,null,null,null,null,null,null,null,null,null,null,null,null,null,null,null,null,null,null,null,null,null,null,null,null,null,null,null,null,null,null,null,null,null,null,null,null,null,null,null,null,null,null,null,null,null,null,null,null,null,null,null,null,null,null,null,null,null,null,null,null,null,null,null,null,null,null,null,null,null,null,null,null,null,null,null,null,null,null,null,null,null,null,null,null,null,null,null,null,null,null,null,null,null,null,null,null,null,null,null,null,null,null,null,null,null,null,null,null,16,null,null,null,16,null,null,null,null,null,null,null,null,null,null,null,null,null,null,null,null,null,null,null,null,null,null,null,0,16,16,null,32,0,2371.36,3075.04,0,5446.4,5446.4,"Yes",0,0,0]
[null,450,"Will Magard","Senior Lineman/Journeyman Lineman","Vendor No.02",null,"MIFPUC-5","2018-11-04","2018-11-05","Yes",{"$f":"VLOOKUP($D468,'C.1 - Rate Sheets'!B:F,2,FALSE)","v":0},{"$f":"VLOOKUP($D468,'C.1 - Rate Sheets'!B:F,3,FALSE)","v":136.22},{"$f":"VLOOKUP($D468,'C.1 - Rate Sheets'!B:F,4,FALSE)","v":176.19},{"$f":"VLOOKUP($D468,'C.1 - Rate Sheets'!B:F,5,FALSE)","v":0},null,null,null,null,null,null,null,null,null,null,null,null,null,null,null,null,null,null,null,null,null,null,null,null,null,null,null,null,null,null,null,null,null,null,null,null,null,null,null,null,null,null,null,null,null,null,null,null,null,null,null,null,null,null,null,null,null,null,null,null,null,null,null,null,null,null,null,null,null,null,null,null,null,null,null,null,null,null,null,null,null,null,null,null,null,null,null,null,null,null,null,null,null,null,null,null,null,null,null,null,null,null,null,null,null,null,null,null,null,null,null,null,null,null,null,null,null,null,null,null,null,null,16,null,null,null,16,null,null,null,null,null,null,null,null,null,null,null,null,null,null,null,null,null,null,null,null,null,null,null,0,16,16,null,32,0,2179.52,2819.04,0,4998.5599999999995,4998.5599999999995,"Yes",0,0,0]
[null,451,"Cody Delotell","Apprentice Helper","Vendor No.02",null,"MIFPUC-5","2018-11-04","2018-11-05","Yes",{"$f":"VLOOKUP($D469,'C.1 - Rate Sheets'!B:F,2,FALSE)","v":0},{"$f":"VLOOKUP($D469,'C.1 - Rate Sheets'!B:F,3,FALSE)","v":102.25},{"$f":"VLOOKUP($D469,'C.1 - Rate Sheets'!B:F,4,FALSE)","v":130.74},{"$f":"VLOOKUP($D469,'C.1 - Rate Sheets'!B:F,5,FALSE)","v":0},null,null,null,null,null,null,null,null,null,null,null,null,null,null,null,null,null,null,null,null,null,null,null,null,null,null,null,null,null,null,null,null,null,null,null,null,null,null,null,null,null,null,null,null,null,null,null,null,null,null,null,null,null,null,null,null,null,null,null,null,null,null,null,null,null,null,null,null,null,null,null,null,null,null,null,null,null,null,null,null,null,null,null,null,null,null,null,null,null,null,null,null,null,null,null,null,null,null,null,null,null,null,null,null,null,null,null,null,null,null,null,null,null,null,null,null,null,null,null,null,null,null,16,null,null,null,16,null,null,null,null,null,null,null,null,null,null,null,null,null,null,null,null,null,null,null,null,null,null,null,{"$f":"FD469+EY469+ET469+EO469+EJ469+EE469+DZ469+DU469+DP469+DK469+DF469+DA469+CV469+CQ469+CL469+CG469+CB469+BW469+BR469+BM469+BH469+BC469+AX469+AS469+AN469+AI469+AD469+Y469+T469+O469","v":0},{"$f":"FE469+EZ469+EU469+EP469+EK469+EF469+EA469+DV469+DQ469+DL469+DG469+DB469+CW469+CR469+CM469+CH469+CC469+BX469+BS469+BN469+BI469+BD469+AY469+AT469+AO469+AJ469+AE469+Z469+U469+P469","v":16},{"$f":"FF469+FA469+EV469+EQ469+EL469+EG469+EB469+DW469+DR469+DM469+DH469+DC469+CX469+CS469+CN469+CI469+CD469+BY469+BT469+BO469+BJ469+BE469+AZ469+AU469+AP469+AK469+AF469+AA469+V469+Q469","v":16},null,{"$f":"SUM(FI469:FL469)","v":32},{"$f":"FI469*K469","v":0},{"$f":"FJ469*L469","v":1636},{"$f":"FK469*M469","v":2091.84},{"$f":"FL469*N469","v":0},{"$f":"SUM(FN469:FQ469)","v":3727.84},{"$f":"FR469-FU469","v":3727.84},"Yes",0,0,0]
[null,452,"Rusty Breedlove","Groundman","Vendor No.02",null,"MIFPUC-5","2018-11-04","2018-11-05","Yes",{"$f":"VLOOKUP($D470,'C.1 - Rate Sheets'!B:F,2,FALSE)","v":0},{"$f":"VLOOKUP($D470,'C.1 - Rate Sheets'!B:F,3,FALSE)","v":99.27},{"$f":"VLOOKUP($D470,'C.1 - Rate Sheets'!B:F,4,FALSE)","v":117.21},{"$f":"VLOOKUP($D470,'C.1 - Rate Sheets'!B:F,5,FALSE)","v":0},null,null,null,null,null,null,null,null,null,null,null,null,null,null,null,null,null,null,null,null,null,null,null,null,null,null,null,null,null,null,null,null,null,null,null,null,null,null,null,null,null,null,null,null,null,null,null,null,null,null,null,null,null,null,null,null,null,null,null,null,null,null,null,null,null,null,null,null,null,null,null,null,null,null,null,null,null,null,null,null,null,null,null,null,null,null,null,null,null,null,null,null,null,null,null,null,null,null,null,null,null,null,null,null,null,null,null,null,null,null,null,null,null,null,null,null,null,null,null,null,null,null,16,null,null,null,16,null,null,null,null,null,null,null,null,null,null,null,null,null,null,null,null,null,null,null,null,null,null,null,0,16,16,null,32,0,1588.32,1875.36,0,3463.68,3463.68,"Yes",0,0,0]
[null,453,"Kelly Drummond","Foreman","Vendor No.02",null,"MIFPUC-5","2018-11-04","2018-11-05","Yes",{"$f":"VLOOKUP($D471,'C.1 - Rate Sheets'!B:F,2,FALSE)","v":0},{"$f":"VLOOKUP($D471,'C.1 - Rate Sheets'!B:F,3,FALSE)","v":148.21},{"$f":"VLOOKUP($D471,'C.1 - Rate Sheets'!B:F,4,FALSE)","v":192.19},{"$f":"VLOOKUP($D471,'C.1 - Rate Sheets'!B:F,5,FALSE)","v":0},null,null,null,null,null,null,null,null,null,null,null,null,null,null,null,null,null,null,null,null,null,null,null,null,null,null,null,null,null,null,null,null,null,null,null,null,null,null,null,null,null,null,null,null,null,null,null,null,null,null,null,null,null,null,null,null,null,null,null,null,null,null,null,null,null,null,null,null,null,null,null,null,null,null,null,null,null,null,null,null,null,null,null,null,null,null,null,null,null,null,null,null,null,null,null,null,null,null,null,null,null,null,null,null,null,null,null,null,null,null,null,null,null,null,null,null,null,null,null,null,null,null,16,null,null,null,16,null,null,null,null,null,null,null,null,null,null,null,null,null,null,null,null,null,null,null,null,null,null,null,0,16,16,null,32,0,2371.36,3075.04,0,5446.4,5446.4,"Yes",0,0,0]
[null,454,"Selwyn Sampson","Senior Lineman/Journeyman Lineman","Vendor No.02",null,"MIFPUC-5","2018-11-04","2018-11-05","Yes",{"$f":"VLOOKUP($D472,'C.1 - Rate Sheets'!B:F,2,FALSE)","v":0},{"$f":"VLOOKUP($D472,'C.1 - Rate Sheets'!B:F,3,FALSE)","v":136.22},{"$f":"VLOOKUP($D472,'C.1 - Rate Sheets'!B:F,4,FALSE)","v":176.19},{"$f":"VLOOKUP($D472,'C.1 - Rate Sheets'!B:F,5,FALSE)","v":0},null,null,null,null,null,null,null,null,null,null,null,null,null,null,null,null,null,null,null,null,null,null,null,null,null,null,null,null,null,null,null,null,null,null,null,null,null,null,null,null,null,null,null,null,null,null,null,null,null,null,null,null,null,null,null,null,null,null,null,null,null,null,null,null,null,null,null,null,null,null,null,null,null,null,null,null,null,null,null,null,null,null,null,null,null,null,null,null,null,null,null,null,null,null,null,null,null,null,null,null,null,null,null,null,null,null,null,null,null,null,null,null,null,null,null,null,null,null,null,null,null,null,16,null,null,null,16,null,null,null,null,null,null,null,null,null,null,null,null,null,null,null,null,null,null,null,null,null,null,null,0,16,16,null,32,0,2179.52,2819.04,0,4998.5599999999995,4998.5599999999995,"Yes",0,0,0]
[null,455,"Cody Maddox","Line Tech C","Vendor No.02",null,"MIFPUC-5","2018-11-04","2018-11-05","Yes",{"$f":"VLOOKUP($D473,'C.1 - Rate Sheets'!B:F,2,FALSE)","v":0},{"$f":"VLOOKUP($D473,'C.1 - Rate Sheets'!B:F,3,FALSE)","v":110.51},{"$f":"VLOOKUP($D473,'C.1 - Rate Sheets'!B:F,4,FALSE)","v":136.22999999999999},{"$f":"VLOOKUP($D473,'C.1 - Rate Sheets'!B:F,5,FALSE)","v":0},null,null,null,null,null,null,null,null,null,null,null,null,null,null,null,null,null,null,null,null,null,null,null,null,null,null,null,null,null,null,null,null,null,null,null,null,null,null,null,null,null,null,null,null,null,null,null,null,null,null,null,null,null,null,null,null,null,null,null,null,null,null,null,null,null,null,null,null,null,null,null,null,null,null,null,null,null,null,null,null,null,null,null,null,null,null,null,null,null,null,null,null,null,null,null,null,null,null,null,null,null,null,null,null,null,null,null,null,null,null,null,null,null,null,null,null,null,null,null,null,null,null,16,null,null,null,16,null,null,null,null,null,null,null,null,null,null,null,null,null,null,null,null,null,null,null,null,null,null,null,0,16,16,null,32,0,1768.16,2179.6799999999998,0,3947.84,3947.84,"Yes",0,0,0]
[null,456,"Ray Campbell","Foreman","Vendor No.02",null,"MIFPUC-5","2018-11-04","2018-11-05","Yes",{"$f":"VLOOKUP($D474,'C.1 - Rate Sheets'!B:F,2,FALSE)","v":0},{"$f":"VLOOKUP($D474,'C.1 - Rate Sheets'!B:F,3,FALSE)","v":148.21},{"$f":"VLOOKUP($D474,'C.1 - Rate Sheets'!B:F,4,FALSE)","v":192.19},{"$f":"VLOOKUP($D474,'C.1 - Rate Sheets'!B:F,5,FALSE)","v":0},null,null,null,null,null,null,null,null,null,null,null,null,null,null,null,null,null,null,null,null,null,null,null,null,null,null,null,null,null,null,null,null,null,null,null,null,null,null,null,null,null,null,null,null,null,null,null,null,null,null,null,null,null,null,null,null,null,null,null,null,null,null,null,null,null,null,null,null,null,null,null,null,null,null,null,null,null,null,null,null,null,null,null,null,null,null,null,null,null,null,null,null,null,null,null,null,null,null,null,null,null,null,null,null,null,null,null,null,null,null,null,null,null,null,null,null,null,null,null,null,null,null,16,null,null,null,16,null,null,null,null,null,null,null,null,null,null,null,null,null,null,null,null,null,null,null,null,null,null,null,0,16,16,null,32,0,2371.36,3075.04,0,5446.4,5446.4,"Yes",0,0,0]
[null,457,"Scotty Sansone","Senior Lineman/Journeyman Lineman","Vendor No.02",null,"MIFPUC-5","2018-11-04","2018-11-05","Yes",{"$f":"VLOOKUP($D475,'C.1 - Rate Sheets'!B:F,2,FALSE)","v":0},{"$f":"VLOOKUP($D475,'C.1 - Rate Sheets'!B:F,3,FALSE)","v":136.22},{"$f":"VLOOKUP($D475,'C.1 - Rate Sheets'!B:F,4,FALSE)","v":176.19},{"$f":"VLOOKUP($D475,'C.1 - Rate Sheets'!B:F,5,FALSE)","v":0},null,null,null,null,null,null,null,null,null,null,null,null,null,null,null,null,null,null,null,null,null,null,null,null,null,null,null,null,null,null,null,null,null,null,null,null,null,null,null,null,null,null,null,null,null,null,null,null,null,null,null,null,null,null,null,null,null,null,null,null,null,null,null,null,null,null,null,null,null,null,null,null,null,null,null,null,null,null,null,null,null,null,null,null,null,null,null,null,null,null,null,null,null,null,null,null,null,null,null,null,null,null,null,null,null,null,null,null,null,null,null,null,null,null,null,null,null,null,null,null,null,null,16,null,null,null,16,null,null,null,null,null,null,null,null,null,null,null,null,null,null,null,null,null,null,null,null,null,null,null,0,16,16,null,32,0,2179.52,2819.04,0,4998.5599999999995,4998.5599999999995,"Yes",0,0,0]
[null,458,"Nick Schwarz","Apprentice Helper","Vendor No.02",null,"MIFPUC-5","2018-11-04","2018-11-05","Yes",{"$f":"VLOOKUP($D476,'C.1 - Rate Sheets'!B:F,2,FALSE)","v":0},{"$f":"VLOOKUP($D476,'C.1 - Rate Sheets'!B:F,3,FALSE)","v":102.25},{"$f":"VLOOKUP($D476,'C.1 - Rate Sheets'!B:F,4,FALSE)","v":130.74},{"$f":"VLOOKUP($D476,'C.1 - Rate Sheets'!B:F,5,FALSE)","v":0},null,null,null,null,null,null,null,null,null,null,null,null,null,null,null,null,null,null,null,null,null,null,null,null,null,null,null,null,null,null,null,null,null,null,null,null,null,null,null,null,null,null,null,null,null,null,null,null,null,null,null,null,null,null,null,null,null,null,null,null,null,null,null,null,null,null,null,null,null,null,null,null,null,null,null,null,null,null,null,null,null,null,null,null,null,null,null,null,null,null,null,null,null,null,null,null,null,null,null,null,null,null,null,null,null,null,null,null,null,null,null,null,null,null,null,null,null,null,null,null,null,null,16,null,null,null,16,null,null,null,null,null,null,null,null,null,null,null,null,null,null,null,null,null,null,null,null,null,null,null,0,16,16,null,32,0,1636,2091.84,0,3727.84,3727.84,"Yes",0,0,0]
[null,459,"Mike Wellman","Groundman","Vendor No.02",null,"MIFPUC-5","2018-11-04","2018-11-05","Yes",{"$f":"VLOOKUP($D477,'C.1 - Rate Sheets'!B:F,2,FALSE)","v":0},{"$f":"VLOOKUP($D477,'C.1 - Rate Sheets'!B:F,3,FALSE)","v":99.27},{"$f":"VLOOKUP($D477,'C.1 - Rate Sheets'!B:F,4,FALSE)","v":117.21},{"$f":"VLOOKUP($D477,'C.1 - Rate Sheets'!B:F,5,FALSE)","v":0},null,null,null,null,null,null,null,null,null,null,null,null,null,null,null,null,null,null,null,null,null,null,null,null,null,null,null,null,null,null,null,null,null,null,null,null,null,null,null,null,null,null,null,null,null,null,null,null,null,null,null,null,null,null,null,null,null,null,null,null,null,null,null,null,null,null,null,null,null,null,null,null,null,null,null,null,null,null,null,null,null,null,null,null,null,null,null,null,null,null,null,null,null,null,null,null,null,null,null,null,null,null,null,null,null,null,null,null,null,null,null,null,null,null,null,null,null,null,null,null,null,null,16,null,null,null,16,null,null,null,null,null,null,null,null,null,null,null,null,null,null,null,null,null,null,null,null,null,null,null,0,16,16,null,32,0,1588.32,1875.36,0,3463.68,3463.68,"Yes",0,0,0]
[null,460,"Larry Potter","Groundman","Vendor No.02",null,"MIFPUC-5","2018-11-04","2018-11-05","Yes",{"$f":"VLOOKUP($D478,'C.1 - Rate Sheets'!B:F,2,FALSE)","v":0},{"$f":"VLOOKUP($D478,'C.1 - Rate Sheets'!B:F,3,FALSE)","v":99.27},{"$f":"VLOOKUP($D478,'C.1 - Rate Sheets'!B:F,4,FALSE)","v":117.21},{"$f":"VLOOKUP($D478,'C.1 - Rate Sheets'!B:F,5,FALSE)","v":0},null,null,null,null,null,null,null,null,null,null,null,null,null,null,null,null,null,null,null,null,null,null,null,null,null,null,null,null,null,null,null,null,null,null,null,null,null,null,null,null,null,null,null,null,null,null,null,null,null,null,null,null,null,null,null,null,null,null,null,null,null,null,null,null,null,null,null,null,null,null,null,null,null,null,null,null,null,null,null,null,null,null,null,null,null,null,null,null,null,null,null,null,null,null,null,null,null,null,null,null,null,null,null,null,null,null,null,null,null,null,null,null,null,null,null,null,null,null,null,null,null,null,16,null,null,null,16,null,null,null,null,null,null,null,null,null,null,null,null,null,null,null,null,null,null,null,null,null,null,null,0,16,16,null,32,0,1588.32,1875.36,0,3463.68,3463.68,"Yes",0,0,0]
[null,461,"Alex Rogers","Line Tech B","Vendor No.02",null,"MIFPUC-5","2018-11-04","2018-11-05","Yes",{"$f":"VLOOKUP($D479,'C.1 - Rate Sheets'!B:F,2,FALSE)","v":0},{"$f":"VLOOKUP($D479,'C.1 - Rate Sheets'!B:F,3,FALSE)","v":118.24},{"$f":"VLOOKUP($D479,'C.1 - Rate Sheets'!B:F,4,FALSE)","v":152.22},{"$f":"VLOOKUP($D479,'C.1 - Rate Sheets'!B:F,5,FALSE)","v":0},null,null,null,null,null,null,null,null,null,null,null,null,null,null,null,null,null,null,null,null,null,null,null,null,null,null,null,null,null,null,null,null,null,null,null,null,null,null,null,null,null,null,null,null,null,null,null,null,null,null,null,null,null,null,null,null,null,null,null,null,null,null,null,null,null,null,null,null,null,null,null,null,null,null,null,null,null,null,null,null,null,null,null,null,null,null,null,null,null,null,null,null,null,null,null,null,null,null,null,null,null,null,null,null,null,null,null,null,null,null,null,null,null,null,null,null,null,null,null,null,null,null,16,null,null,null,16,null,null,null,null,null,null,null,null,null,null,null,null,null,null,null,null,null,null,null,null,null,null,null,0,16,16,null,32,0,1891.84,2435.52,0,4327.3599999999997,4327.3599999999997,"Yes",0,0,0]
[null,462,"Matt Montes","Groundman","Vendor No.02",null,"MIFPUC-5","2018-11-04","2018-11-05","Yes",{"$f":"VLOOKUP($D480,'C.1 - Rate Sheets'!B:F,2,FALSE)","v":0},{"$f":"VLOOKUP($D480,'C.1 - Rate Sheets'!B:F,3,FALSE)","v":99.27},{"$f":"VLOOKUP($D480,'C.1 - Rate Sheets'!B:F,4,FALSE)","v":117.21},{"$f":"VLOOKUP($D480,'C.1 - Rate Sheets'!B:F,5,FALSE)","v":0},null,null,null,null,null,null,null,null,null,null,null,null,null,null,null,null,null,null,null,null,null,null,null,null,null,null,null,null,null,null,null,null,null,null,null,null,null,null,null,null,null,null,null,null,null,null,null,null,null,null,null,null,null,null,null,null,null,null,null,null,null,null,null,null,null,null,null,null,null,null,null,null,null,null,null,null,null,null,null,null,null,null,null,null,null,null,null,null,null,null,null,null,null,null,null,null,null,null,null,null,null,null,null,null,null,null,null,null,null,null,null,null,null,null,null,null,null,null,null,null,null,null,16,null,null,null,16,null,null,null,null,null,null,null,null,null,null,null,null,null,null,null,null,null,null,null,null,null,null,null,0,16,16,null,32,0,1588.32,1875.36,0,3463.68,3463.68,"Yes",0,0,0]
[null,463,"Jose De Jesus","Groundman","Vendor No.02",null,"MIFPUC-5","2018-11-04","2018-11-05","Yes",{"$f":"VLOOKUP($D481,'C.1 - Rate Sheets'!B:F,2,FALSE)","v":0},{"$f":"VLOOKUP($D481,'C.1 - Rate Sheets'!B:F,3,FALSE)","v":99.27},{"$f":"VLOOKUP($D481,'C.1 - Rate Sheets'!B:F,4,FALSE)","v":117.21},{"$f":"VLOOKUP($D481,'C.1 - Rate Sheets'!B:F,5,FALSE)","v":0},null,null,null,null,null,null,null,null,null,null,null,null,null,null,null,null,null,null,null,null,null,null,null,null,null,null,null,null,null,null,null,null,null,null,null,null,null,null,null,null,null,null,null,null,null,null,null,null,null,null,null,null,null,null,null,null,null,null,null,null,null,null,null,null,null,null,null,null,null,null,null,null,null,null,null,null,null,null,null,null,null,null,null,null,null,null,null,null,null,null,null,null,null,null,null,null,null,null,null,null,null,null,null,null,null,null,null,null,null,null,null,null,null,null,null,null,null,null,null,null,null,null,16,null,null,null,16,null,null,null,null,null,null,null,null,null,null,null,null,null,null,null,null,null,null,null,null,null,null,null,0,16,16,null,32,0,1588.32,1875.36,0,3463.68,3463.68,"Yes",0,0,0]
[null,464,"Perry Chaffin","Senior Lineman/Journeyman Lineman","Vendor No.02",null,"MIFPUC-5","2018-11-04","2018-11-05","Yes",{"$f":"VLOOKUP($D482,'C.1 - Rate Sheets'!B:F,2,FALSE)","v":0},{"$f":"VLOOKUP($D482,'C.1 - Rate Sheets'!B:F,3,FALSE)","v":136.22},{"$f":"VLOOKUP($D482,'C.1 - Rate Sheets'!B:F,4,FALSE)","v":176.19},{"$f":"VLOOKUP($D482,'C.1 - Rate Sheets'!B:F,5,FALSE)","v":0},null,null,null,null,null,null,null,null,null,null,null,null,null,null,null,null,null,null,null,null,null,null,null,null,null,null,null,null,null,null,null,null,null,null,null,null,null,null,null,null,null,null,null,null,null,null,null,null,null,null,null,null,null,null,null,null,null,null,null,null,null,null,null,null,null,null,null,null,null,null,null,null,null,null,null,null,null,null,null,null,null,null,null,null,null,null,null,null,null,null,null,null,null,null,null,null,null,null,null,null,null,null,null,null,null,null,null,null,null,null,null,null,null,null,null,null,null,null,null,null,null,null,16,null,null,null,16,null,null,null,null,null,null,null,null,null,null,null,null,null,null,null,null,null,null,null,null,null,null,null,0,16,16,null,32,0,2179.52,2819.04,0,4998.5599999999995,4998.5599999999995,"Yes",0,0,0]
[null,null,null,null,null,null,null,null,null,null,null,null,null,null,null,null,null,null,null,null,null,null,null,null,null,null,null,null,null,null,null,null,null,null,null,null,null,null,null,null,null,null,null,null,null,null,null,null,null,null,null,null,null,null,null,null,null,null,null,null,null,null,null,null,null,null,null,null,null,null,null,null,null,null,null,null,null,null,null,null,null,null,null,null,null,null,null,null,null,null,null,null,null,null,null,null,null,null,null,null,null,null,null,null,null,null,null,null,null,null,null,null,null,null,null,null,null,null,null,null,null,null,null,null,null,null,null,null,null,null,null,null,null,null,null,null,null,null,null,null,null,null,null,null,null,null,null,null,null,null,null,null,null,null,null,null,null,null,null,null,null,null,null,null,0,0,0,null,0,0,0,0,0,0,0,"Yes",0,0,0]
[null,null,null,null,null,null,null,null,null,null,null,null,null,null,null,null,null,null,null,null,null,null,null,null,null,null,null,null,null,null,null,null,null,null,null,null,null,null,null,null,null,null,null,null,null,null,null,null,null,null,null,null,null,null,null,null,null,null,null,null,null,null,null,null,null,null,null,null,null,null,null,null,null,null,null,null,null,null,null,null,null,null,null,null,null,null,null,null,null,null,null,null,null,null,null,null,null,null,null,null,null,null,null,null,null,null,null,null,null,null,null,null,null,null,null,null,null,null,null,null,null,null,null,null,null,null,null,null,null,null,null,null,null,null,null,null,null,null,null,null,null,null,null,null,null,null,null,null,null,null,null,null,null,null,null,null,null,null,null,null,null,null,null,null,0,0,0,null,0,0,0,0,0,0,0,"Yes",0,0,0]
[null,null,null,null,null,null,null,null,null,null,null,null,null,null,null,null,null,null,null,null,null,null,null,null,null,null,null,null,null,null,null,null,null,null,null,null,null,null,null,null,null,null,null,null,null,null,null,null,null,null,null,null,null,null,null,null,null,null,null,null,null,null,null,null,null,null,null,null,null,null,null,null,null,null,null,null,null,null,null,null,null,null,null,null,null,null,null,null,null,null,null,null,null,null,null,null,null,null,null,null,null,null,null,null,null,null,null,null,null,null,null,null,null,null,null,null,null,null,null,null,null,null,null,null,null,null,null,null,null,null,null,null,null,null,null,null,null,null,null,null,null,null,null,null,null,null,null,null,null,null,null,null,null,null,null,null,null,null,null,null,null,null,null,null,0,0,0,null,0,0,0,0,0,0,0,"Yes",0,0,0]
[null,null,null,null,null,null,null,null,null,null,null,null,null," ",{"$f":"SUM(O19:O485)","v":0},378,0,0,0,0,960,0,0,0,0,960,0,0,0,0,0,960,0,0,0,976,0,0,0,0,1040,0,0,0,0,1424,0,0,0,null,null,null,null,null,null,null,null,null,null,null,null,null,null,null,null,null,null,null,null,null,null,null,null,null,null,null,null,null,null,null,null,null,null,null,null,null,null,null,null,null,null,null,null,null,null,null,null,null,null,null,null,null,null,null,null,null,null,null,null,null,null,null,null,null,null,null,null,null,null,null,null,null,null,null,null,null,null,null,null,null,null,null,null,null,null,null,null,null,null,null,null,null,null,null,null,null,null,null,null,null,null,null,null,null,null,null,null,null,null,null,null,null,null,null,{"$f":"SUM(FI19:FI485)","v":0},{"$f":"SUM(FJ19:FJ485)","v":28490},{"$f":"SUM(FK19:FK485)","v":5200},null,{"$f":"SUM(FI486:FL486)","v":33690},{"$f":"SUM(FN19:FN485)","v":0},{"$f":"SUM(FO19:FO485)","v":3618125.1300000022},{"$f":"SUM(FP19:FP485)","v":843104.80000000075},{"$f":"SUM(FQ19:FQ485)","v":0},{"$f":"IFERROR(SUM(FR19:FR485),0)","v":4461229.93},{"$f":"FR486-FU486","v":4461229.93},null,{"$f":"SUM(FU19:FU485)","v":0},{"$f":"SUM(FV19:FV485)","v":0},{"$f":"SUM(FW19:FW485)","v":0},{"$f":"FU486-FV486-FW486","v":0},"check (b)"]
[null,null,null,null,null,null,null,null,null,null,null,null,null," ","Total # of Crew",null,null,null,null,null,{"$f":"COUNTIF(U19:U485,\">0\")","v":60},"Total # of Crew",null,null,null,null,"Total # of Crew",null,null,null,{"$f":"COUNTIF(AE19:AE485,\">0\")","v":0},"Total # of Crew",null,null,{"$f":"COUNTIF(AI19:AI485,\">0\")","v":0},"Total # of Crew",null,null,null,null,null,20,null,null,null,{"$f":"COUNTIF(AT19:AT485,\">0\")","v":89},"Total # of Crew",null,null,null,null,null,null,null,null,null,null,null,null,null,null,null,null,null,null,null,null,null,null,null,null,null,null,null,null,null,null,null,null,null,null,null,null,null,null,null,null,null,null,null,null,null,null,null,null,null,null,null,null,null,null,null,null,null,null,null,null,null,null,null,null,null,null,null,null,null,null,null,null,null,null,null,null,null,null,null,null,null,null,null,null,null,null,null,null,null,null,null,null,null,null,null,null,null,null,null,null,null,null,null,null,null,null,null,null,null,null,null,null,null,null,null,null,null,"# of time charges",null,null,null,null,null,null,null,null,null," "]
[]
[]
[]
[]
[]
[]
[]
[null,"Tickmark Explanation:"]
[]
[null,1,"EXCLUDED: First 40 hours not charged to straight time."]
[null,2,"REVIEWED: Crewmember arrived mid-week - deemed reasonable first 40 hours were not charged to straight time."]
[null,3,"EXCLUDED: Excluded time on 9/16 and 9/17 because he went to ---. "]

{"sheet":"C.3 - Asset by Company","index":6,"n_rows":1,"n_cols":3,"rows_kept":1,"cut":false,"hidden":false,"merged":[]}
["Asset Tag","Position","Name"]

{"sheet":"C.4 - Timesheets - Equipment","index":7,"n_rows":526,"n_cols":54,"rows_kept":526,"cut":false,"hidden":false,"merged":[[1,1,1,52],[14,50,16,50],[14,51,16,51],[14,52,16,52],[14,49,16,49],[14,47,16,47],[3,2,8,9],[14,46,16,46],[521,1,521,5],[14,10,16,10],[14,1,16,1],[14,2,16,2],[14,4,16,4],[14,5,16,5],[14,6,16,6],[14,9,16,9],[14,7,16,7],[14,8,16,8],[14,3,16,3]]}
[]
[null,"Equipment Charges - Time Card"]
[]
[null,"Test Plan:","Obtain the time cards.  (A) Populate the equipment names and types (if provided). Find additional information regarding individual equipment charge from related invoice. (B) Enter hours worked from time card(s).   (C) Confirm that the dates per the time cards fall between dates provided per 'A - Contractor Summary' tab. (D) Identify any equipment charges to be reviewed.  (E) For charges which required further review, document review (include why it was determined to be allowed/disallowed via a tickmark)."]
[]
[]
[]
[]
[]
[null,"Rx","Recalculated."]
[null,"a","Provided from tab 'C.1 - Rate Sheets'."]
[null,"b","Check figure should equal $0.  Cell will appear yellow if discrepancies are noted."]
[]
[null,null,"A ",null,null,null,null,"Rx",null,"C","a","B",null,null,null,null,null,null,"B",null,null,null,null,null,null,null,null,null,null,null,null,null,null,null,null,null,null,null,null,null,"B",null,null,null,null,null,null,null,null,"D","E"]
[null,"#","Equipment Name","Equipment ID","Company","Crew#","Invoice","Start Date","End Date","Dates Worked Reasonable?","Rates","2018-10-07","2018-10-08","2018-10-09","2018-10-10","2018-10-11","2018-10-12","2018-10-13","2018-10-14","2018-10-15","2018-10-16","2018-10-17","2018-10-18","2018-10-19","2018-10-20","2018-10-21","2018-10-22","2018-10-23","2018-10-24","2018-10-25","2018-10-26","2018-10-27","2018-10-28","2018-10-29","2018-10-30","2018-10-31","2018-11-01","2018-11-02","2018-11-03","2018-11-04","2018-11-05","2018-11-06","2018-11-07","2018-11-08","2018-11-09","2018-11-10","Total Hours","Total Equipment","Allowable Charges","To Be Reviewed","Reviewed - Allowable Charge","Reviewed - Unallowable Charge","Tickmarks"]
[null,null,null,null,null,null,null,null,null,null,null,"Sunday","Monday","Tuesday","Wednesday","Thursday","Friday","Saturday","Sunday","Monday","Tuesday","Wednesday","Thursday","Friday","Saturday","Sunday","Monday","Tuesday ","Wednesday","Thursday ","Friday","Saturday","Sunday","Monday","Tuesday","Wednesday","Thursday","Friday","Saturday","Sunday","Monday","Tuesday","Wednesday","Thursday","Friday","Saturday"]
[null,null,null,null,null,null,null,null,null,null,null,"Hours","Hours","Hours","Hours","Hours","Hours","Hours","Hours","Hours","Hours","Hours","Hours","Hours","Hours",null,null,null,null,null,null,null,null,null,null,null,null,null,null,"Hours","Hours","Hours","Hours","Hours","Hours","Hours"]
[null,1,"Pick Up Truck",null,"Vendor No 2",null,"MIFPUC-1","2018-10-11","2018-10-13",{"$f":"IF(AND(H18>='A - Contractor Summary'!$C$36,I18<='A - Contractor Summary'!$C$42),\"Yes\",\"No\")","v":"No"},{"$f":"VLOOKUP(C18,'C.1 - Rate Sheets'!$H$15:$I$46,2,FALSE)","v":20},null,null,null,null,9,16,16,null,null,null,null,null,null,null,null,null,null,null,null,null,null,null,null,null,null,null,null,null,null,null,null,null,null,null,null,{"$f":"SUM(L18:AT18)","v":41},{"$f":"AU18*K18","v":820},{"$f":"AV18-AX18","v":820},0,0,0]
[null,2,"Bucket Truck Up to 55'",null,"Vendor No 2",null,"MIFPUC-1","2018-10-11","2018-10-13",{"$f":"IF(AND(H19>='A - Contractor Summary'!$C$36,I19<='A - Contractor Summary'!$C$42),\"Yes\",\"No\")","v":"No"},{"$f":"VLOOKUP(C19,'C.1 - Rate Sheets'!$H$15:$I$46,2,FALSE)","v":50},null,null,null,null,9,16,16,null,null,null,null,null,null,null,null,null,null,null,null,null,null,null,null,null,null,null,null,null,null,null,null,null,null,null,null,{"$f":"SUM(L19:AT19)","v":41},{"$f":"AU19*K19","v":2050},{"$f":"AV19-AX19","v":2050},0,0,0]
[null,3,"Digger Derrick Greater Than 50'",null,"Vendor No 2",null,"MIFPUC-1","2018-10-11","2018-10-13",{"$f":"IF(AND(H20>='A - Contractor Summary'!$C$36,I20<='A - Contractor Summary'!$C$42),\"Yes\",\"No\")","v":"No"},{"$f":"VLOOKUP(C20,'C.1 - Rate Sheets'!$H$15:$I$46,2,FALSE)","v":60},null,null,null,null,9,16,16,null,null,null,null,null,null,null,null,null,null,null,null,null,null,null,null,null,null,null,null,null,null,null,null,null,null,null,null,{"$f":"SUM(L20:AT20)","v":41},{"$f":"AU20*K20","v":2460},{"$f":"AV20-AX20","v":2460},0,0,0]
[null,4,"Mechanic Truck",null,"Vendor No 2",null,"MIFPUC-1","2018-10-11","2018-10-13",{"$f":"IF(AND(H21>='A - Contractor Summary'!$C$36,I21<='A - Contractor Summary'!$C$42),\"Yes\",\"No\")","v":"No"},{"$f":"VLOOKUP(C21,'C.1 - Rate Sheets'!$H$15:$I$46,2,FALSE)","v":45},null,null,null,null,null,16,16,null,null,null,null,null,null,null,null,null,null,null,null,null,null,null,null,null,null,null,null,null,null,null,null,null,null,null,null,32,1440,1440,0,0,0]
[null,5,"-",null,"Vendor No 2",null,"MIFPUC-1","2018-10-11","2018-10-13",{"$f":"IF(AND(H22>='A - Contractor Summary'!$C$36,I22<='A - Contractor Summary'!$C$42),\"Yes\",\"No\")","v":"No"},null,null,null,null,null,null,null,null,null,null,null,null,null,null,null,null,null,null,null,null,null,null,null,null,null,null,null,null,null,null,null,null,null,null,null,null,0,0,0,0,0,0]
[null,6,"Pick Up Truck",null,"Vendor No 2",null,"MIFPUC-1","2018-10-11","2018-10-13",{"$f":"IF(AND(H23>='A - Contractor Summary'!$C$36,I23<='A - Contractor Summary'!$C$42),\"Yes\",\"No\")","v":"No"},{"$f":"VLOOKUP(C23,'C.1 - Rate Sheets'!$H$15:$I$46,2,FALSE)","v":20},null,null,null,null,9,16,16,null,null,null,null,null,null,null,null,null,null,null,null,null,null,null,null,null,null,null,null,null,null,null,null,null,null,null,null,41,820,820,0,0,0]
[null,7,"Bucket Truck Up to 55'",null,"Vendor No 2",null,"MIFPUC-1","2018-10-11","2018-10-13",{"$f":"IF(AND(H24>='A - Contractor Summary'!$C$36,I24<='A - Contractor Summary'!$C$42),\"Yes\",\"No\")","v":"No"},{"$f":"VLOOKUP(C24,'C.1 - Rate Sheets'!$H$15:$I$46,2,FALSE)","v":50},null,null,null,null,9,16,16,null,null,null,null,null,null,null,null,null,null,null,null,null,null,null,null,null,null,null,null,null,null,null,null,null,null,null,null,41,2050,2050,0,0,0]
[null,8,"Mechanic Truck",null,"Vendor No 2",null,"MIFPUC-1","2018-10-11","2018-10-13",{"$f":"IF(AND(H25>='A - Contractor Summary'!$C$36,I25<='A - Contractor Summary'!$C$42),\"Yes\",\"No\")","v":"No"},{"$f":"VLOOKUP(C25,'C.1 - Rate Sheets'!$H$15:$I$46,2,FALSE)","v":45},null,null,null,null,null,16,16,null,null,null,null,null,null,null,null,null,null,null,null,null,null,null,null,null,null,null,null,null,null,null,null,null,null,null,null,32,1440,1440,0,0,0]
[null,9,"Bucket Truck Up to 55'",null,"Vendor No 2",null,"MIFPUC-1","2018-10-11","2018-10-13",{"$f":"IF(AND(H26>='A - Contractor Summary'!$C$36,I26<='A - Contractor Summary'!$C$42),\"Yes\",\"No\")","v":"No"},{"$f":"VLOOKUP(C26,'C.1 - Rate Sheets'!$H$15:$I$46,2,FALSE)","v":50},null,null,null,null,9,16,16,null,null,null,null,null,null,null,null,null,null,null,null,null,null,null,null,null,null,null,null,null,null,null,null,null,null,null,null,41,2050,2050]
[null,10,"Digger Derrick Greater Than 50'",null,"Vendor No 2",null,"MIFPUC-1","2018-10-11","2018-10-13",{"$f":"IF(AND(H27>='A - Contractor Summary'!$C$36,I27<='A - Contractor Summary'!$C$42),\"Yes\",\"No\")","v":"No"},{"$f":"VLOOKUP(C27,'C.1 - Rate Sheets'!$H$15:$I$46,2,FALSE)","v":60},null,null,null,null,null,16,16,null,null,null,null,null,null,null,null,null,null,null,null,null,null,null,null,null,null,null,null,null,null,null,null,null,null,null,null,32,1920,1920,0,0,0]
[null,11,"Pick Up Truck",null,"Vendor No 2",null,"MIFPUC-1","2018-10-11","2018-10-13",{"$f":"IF(AND(H28>='A - Contractor Summary'!$C$36,I28<='A - Contractor Summary'!$C$42),\"Yes\",\"No\")","v":"No"},{"$f":"VLOOKUP(C28,'C.1 - Rate Sheets'!$H$15:$I$46,2,FALSE)","v":20},null,null,null,null,9,16,16,null,null,null,null,null,null,null,null,null,null,null,null,null,null,null,null,null,null,null,null,null,null,null,null,null,null,null,null,41,820,820,0,0,0]
[null,12,"Pick Up Truck",null,"Vendor No 2",null,"MIFPUC-1","2018-10-11","2018-10-13",{"$f":"IF(AND(H29>='A - Contractor Summary'!$C$36,I29<='A - Contractor Summary'!$C$42),\"Yes\",\"No\")","v":"No"},{"$f":"VLOOKUP(C29,'C.1 - Rate Sheets'!$H$15:$I$46,2,FALSE)","v":20},null,null,null,null,9,16,16,null,null,null,null,null,null,null,null,null,null,null,null,null,null,null,null,null,null,null,null,null,null,null,null,null,null,null,null,41,820,820,0,0,0]
[null,13,"Pick Up Truck",null,"Vendor No 2",null,"MIFPUC-1","2018-10-11","2018-10-13",{"$f":"IF(AND(H30>='A - Contractor Summary'!$C$36,I30<='A - Contractor Summary'!$C$42),\"Yes\",\"No\")","v":"No"},{"$f":"VLOOKUP(C30,'C.1 - Rate Sheets'!$H$15:$I$46,2,FALSE)","v":20},null,null,null,null,9,16,16,null,null,null,null,null,null,null,null,null,null,null,null,null,null,null,null,null,null,null,null,null,null,null,null,null,null,null,null,41,820,820,0,0,0]
[null,14,"Mechanic Truck",null,"Vendor No 2",null,"MIFPUC-1","2018-10-11","2018-10-13",{"$f":"IF(AND(H31>='A - Contractor Summary'!$C$36,I31<='A - Contractor Summary'!$C$42),\"Yes\",\"No\")","v":"No"},{"$f":"VLOOKUP(C31,'C.1 - Rate Sheets'!$H$15:$I$46,2,FALSE)","v":45},null,null,null,null,9,16,16,null,null,null,null,null,null,null,null,null,null,null,null,null,null,null,null,null,null,null,null,null,null,null,null,null,null,null,null,41,1845,1845,0,0,0]
[null,15,"Pick Up Truck",null,"Vendor No 2",null,"MIFPUC-1","2018-10-11","2018-10-13",{"$f":"IF(AND(H32>='A - Contractor Summary'!$C$36,I32<='A - Contractor Summary'!$C$42),\"Yes\",\"No\")","v":"No"},{"$f":"VLOOKUP(C32,'C.1 - Rate Sheets'!$H$15:$I$46,2,FALSE)","v":20},null,null,null,null,9,16,16,null,null,null,null,null,null,null,null,null,null,null,null,null,null,null,null,null,null,null,null,null,null,null,null,null,null,null,null,41,820,820,0,0,0]
[null,16,"Bucket Truck Up to 55'",null,"Vendor No 2",null,"MIFPUC-1","2018-10-11","2018-10-13",{"$f":"IF(AND(H33>='A - Contractor Summary'!$C$36,I33<='A - Contractor Summary'!$C$42),\"Yes\",\"No\")","v":"No"},{"$f":"VLOOKUP(C33,'C.1 - Rate Sheets'!$H$15:$I$46,2,FALSE)","v":50},null,null,null,null,9,16,16,null,null,null,null,null,null,null,null,null,null,null,null,null,null,null,null,null,null,null,null,null,null,null,null,null,null,null,null,41,2050,2050,0,0,0]
[null,17,"Bucket Truck Up to 55'",null,"Vendor No 2",null,"MIFPUC-1","2018-10-11","2018-10-13",{"$f":"IF(AND(H34>='A - Contractor Summary'!$C$36,I34<='A - Contractor Summary'!$C$42),\"Yes\",\"No\")","v":"No"},{"$f":"VLOOKUP(C34,'C.1 - Rate Sheets'!$H$15:$I$46,2,FALSE)","v":50},null,null,null,null,9,16,16,null,null,null,null,null,null,null,null,null,null,null,null,null,null,null,null,null,null,null,null,null,null,null,null,null,null,null,null,41,2050,2050,0,0,0]
[null,18,"Digger Derrick Up to 50'",null,"Vendor No 2",null,"MIFPUC-1","2018-10-11","2018-10-13",{"$f":"IF(AND(H35>='A - Contractor Summary'!$C$36,I35<='A - Contractor Summary'!$C$42),\"Yes\",\"No\")","v":"No"},{"$f":"VLOOKUP(C35,'C.1 - Rate Sheets'!$H$15:$I$46,2,FALSE)","v":50},null,null,null,null,9,16,16,null,null,null,null,null,null,null,null,null,null,null,null,null,null,null,null,null,null,null,null,null,null,null,null,null,null,null,null,41,2050,2050,0,0,0]
[null,19,"Rear Property Machine",null,"Vendor No 2",null,"MIFPUC-1","2018-10-11","2018-10-13",{"$f":"IF(AND(H36>='A - Contractor Summary'!$C$36,I36<='A - Contractor Summary'!$C$42),\"Yes\",\"No\")","v":"No"},{"$f":"VLOOKUP(C36,'C.1 - Rate Sheets'!$H$15:$I$46,2,FALSE)","v":50},null,null,null,null,9,16,16,null,null,null,null,null,null,null,null,null,null,null,null,null,null,null,null,null,null,null,null,null,null,null,null,null,null,null,null,41,2050,2050,0,0,0]
[null,20,"Pick Up Truck",null,"Vendor No 2",null,"MIFPUC-1","2018-10-11","2018-10-13",{"$f":"IF(AND(H37>='A - Contractor Summary'!$C$36,I37<='A - Contractor Summary'!$C$42),\"Yes\",\"No\")","v":"No"},{"$f":"VLOOKUP(C37,'C.1 - Rate Sheets'!$H$15:$I$46,2,FALSE)","v":20},null,null,null,null,9,16,16,null,null,null,null,null,null,null,null,null,null,null,null,null,null,null,null,null,null,null,null,null,null,null,null,null,null,null,null,41,820,820,0,0,0]
[null,21,"Bucket Truck Up to 55'",null,"Vendor No 2",null,"MIFPUC-1","2018-10-11","2018-10-13",{"$f":"IF(AND(H38>='A - Contractor Summary'!$C$36,I38<='A - Contractor Summary'!$C$42),\"Yes\",\"No\")","v":"No"},{"$f":"VLOOKUP(C38,'C.1 - Rate Sheets'!$H$15:$I$46,2,FALSE)","v":50},null,null,null,null,9,16,16,null,null,null,null,null,null,null,null,null,null,null,null,null,null,null,null,null,null,null,null,null,null,null,null,null,null,null,null,41,2050,2050,0,0,0]
[null,22,"Bucket Truck Up to 55'",null,"Vendor No 2",null,"MIFPUC-1","2018-10-11","2018-10-13",{"$f":"IF(AND(H39>='A - Contractor Summary'!$C$36,I39<='A - Contractor Summary'!$C$42),\"Yes\",\"No\")","v":"No"},{"$f":"VLOOKUP(C39,'C.1 - Rate Sheets'!$H$15:$I$46,2,FALSE)","v":50},null,null,null,null,9,16,16,null,null,null,null,null,null,null,null,null,null,null,null,null,null,null,null,null,null,null,null,null,null,null,null,null,null,null,null,41,2050,2050,0,0,0]
[null,23,"Digger Derrick Up to 50'",null,"Vendor No 2",null,"MIFPUC-1","2018-10-11","2018-10-13",{"$f":"IF(AND(H40>='A - Contractor Summary'!$C$36,I40<='A - Contractor Summary'!$C$42),\"Yes\",\"No\")","v":"No"},{"$f":"VLOOKUP(C40,'C.1 - Rate Sheets'!$H$15:$I$46,2,FALSE)","v":50},null,null,null,null,9,16,16,null,null,null,null,null,null,null,null,null,null,null,null,null,null,null,null,null,null,null,null,null,null,null,null,null,null,null,null,41,2050,2050,0,0,0]
[null,24,"Pole Trailer",null,"Vendor No 2",null,"MIFPUC-1","2018-10-11","2018-10-13",{"$f":"IF(AND(H41>='A - Contractor Summary'!$C$36,I41<='A - Contractor Summary'!$C$42),\"Yes\",\"No\")","v":"No"},{"$f":"VLOOKUP(C41,'C.1 - Rate Sheets'!$H$15:$I$46,2,FALSE)","v":15},null,null,null,null,9,16,16,null,null,null,null,null,null,null,null,null,null,null,null,null,null,null,null,null,null,null,null,null,null,null,null,null,null,null,null,41,615,615,0,0,0]
[null,25,"Pick Up Truck",null,"Vendor No 2",null,"MIFPUC-1","2018-10-11","2018-10-13",{"$f":"IF(AND(H42>='A - Contractor Summary'!$C$36,I42<='A - Contractor Summary'!$C$42),\"Yes\",\"No\")","v":"No"},{"$f":"VLOOKUP(C42,'C.1 - Rate Sheets'!$H$15:$I$46,2,FALSE)","v":20},null,null,null,null,9,16,16,null,null,null,null,null,null,null,null,null,null,null,null,null,null,null,null,null,null,null,null,null,null,null,null,null,null,null,null,41,820,820,0,0,0]
[null,26,"Pick Up Truck",null,"Vendor No 2",null,"MIFPUC-1","2018-10-11","2018-10-13",{"$f":"IF(AND(H43>='A - Contractor Summary'!$C$36,I43<='A - Contractor Summary'!$C$42),\"Yes\",\"No\")","v":"No"},{"$f":"VLOOKUP(C43,'C.1 - Rate Sheets'!$H$15:$I$46,2,FALSE)","v":20},null,null,null,null,9,16,16,null,null,null,null,null,null,null,null,null,null,null,null,null,null,null,null,null,null,null,null,null,null,null,null,null,null,null,null,41,820,820,0,0,0]
[null,27,"Pick Up Truck",null,"Vendor No 2",null,"MIFPUC-1","2018-10-11","2018-10-13",{"$f":"IF(AND(H44>='A - Contractor Summary'!$C$36,I44<='A - Contractor Summary'!$C$42),\"Yes\",\"No\")","v":"No"},{"$f":"VLOOKUP(C44,'C.1 - Rate Sheets'!$H$15:$I$46,2,FALSE)","v":20},null,null,null,null,9,16,16,null,null,null,null,null,null,null,null,null,null,null,null,null,null,null,null,null,null,null,null,null,null,null,null,null,null,null,null,41,820,820,0,0,0]
[null,28,"Pick Up Truck",null,"Vendor No 2",null,"MIFPUC-1","2018-10-11","2018-10-13",{"$f":"IF(AND(H45>='A - Contractor Summary'!$C$36,I45<='A - Contractor Summary'!$C$42),\"Yes\",\"No\")","v":"No"},{"$f":"VLOOKUP(C45,'C.1 - Rate Sheets'!$H$15:$I$46,2,FALSE)","v":20},null,null,null,null,9,16,16,null,null,null,null,null,null,null,null,null,null,null,null,null,null,null,null,null,null,null,null,null,null,null,null,null,null,null,null,41,820,820,0,0,0]
[null,29,"Pick Up Truck",null,"Vendor No 2",null,"MIFPUC-1","2018-10-11","2018-10-13",{"$f":"IF(AND(H46>='A - Contractor Summary'!$C$36,I46<='A - Contractor Summary'!$C$42),\"Yes\",\"No\")","v":"No"},{"$f":"VLOOKUP(C46,'C.1 - Rate Sheets'!$H$15:$I$46,2,FALSE)","v":20},null,null,null,null,9,16,16,null,null,null,null,null,null,null,null,null,null,null,null,null,null,null,null,null,null,null,null,null,null,null,null,null,null,null,null,41,820,820,0,0,0]
[null,30,"Bucket Truck Up to 55'",null,"Vendor No 2",null,"MIFPUC-1","2018-10-11","2018-10-13",{"$f":"IF(AND(H47>='A - Contractor Summary'!$C$36,I47<='A - Contractor Summary'!$C$42),\"Yes\",\"No\")","v":"No"},{"$f":"VLOOKUP(C47,'C.1 - Rate Sheets'!$H$15:$I$46,2,FALSE)","v":50},null,null,null,null,9,16,16,null,null,null,null,null,null,null,null,null,null,null,null,null,null,null,null,null,null,null,null,null,null,null,null,null,null,null,null,41,2050,2050,0,0,0]
[null,31,"Bucket Truck Up to 55'",null,"Vendor No 2",null,"MIFPUC-1","2018-10-11","2018-10-13",{"$f":"IF(AND(H48>='A - Contractor Summary'!$C$36,I48<='A - Contractor Summary'!$C$42),\"Yes\",\"No\")","v":"No"},{"$f":"VLOOKUP(C48,'C.1 - Rate Sheets'!$H$15:$I$46,2,FALSE)","v":50},null,null,null,null,9,16,16,null,null,null,null,null,null,null,null,null,null,null,null,null,null,null,null,null,null,null,null,null,null,null,null,null,null,null,null,41,2050,2050]
[null,32,"-",null,"Vendor No 2",null,"MIFPUC-1","2018-10-11","2018-10-13",{"$f":"IF(AND(H49>='A - Contractor Summary'!$C$36,I49<='A - Contractor Summary'!$C$42),\"Yes\",\"No\")","v":"No"},null,null,null,null,null,null,null,null,null,null,null,null,null,null,null,null,null,null,null,null,null,null,null,null,null,null,null,null,null,null,null,null,null,null,null,null,0,0,0,0,0,0]
[null,33,"Mini Excavator",null,"Vendor No 2",null,"MIFPUC-1","2018-10-11","2018-10-13",{"$f":"IF(AND(H50>='A - Contractor Summary'!$C$36,I50<='A - Contractor Summary'!$C$42),\"Yes\",\"No\")","v":"No"},{"$f":"VLOOKUP(C50,'C.1 - Rate Sheets'!$H$15:$I$46,2,FALSE)","v":35},null,null,null,null,null,16,16,null,null,null,null,null,null,null,null,null,null,null,null,null,null,null,null,null,null,null,null,null,null,null,null,null,null,null,null,32,1120,1120,0,0,0]
[null,34,"Pick Up Truck",null,"Vendor No 2",null,"MIFPUC-1","2018-10-11","2018-10-13",{"$f":"IF(AND(H51>='A - Contractor Summary'!$C$36,I51<='A - Contractor Summary'!$C$42),\"Yes\",\"No\")","v":"No"},{"$f":"VLOOKUP(C51,'C.1 - Rate Sheets'!$H$15:$I$46,2,FALSE)","v":20},null,null,null,null,9,16,16,null,null,null,null,null,null,null,null,null,null,null,null,null,null,null,null,null,null,null,null,null,null,null,null,null,null,null,null,41,820,820,0,0,0]
[null,35,"Bucket Truck Up to 55'",null,"Vendor No 2",null,"MIFPUC-1","2018-10-11","2018-10-13",{"$f":"IF(AND(H52>='A - Contractor Summary'!$C$36,I52<='A - Contractor Summary'!$C$42),\"Yes\",\"No\")","v":"No"},{"$f":"VLOOKUP(C52,'C.1 - Rate Sheets'!$H$15:$I$46,2,FALSE)","v":50},null,null,null,null,9,16,16,null,null,null,null,null,null,null,null,null,null,null,null,null,null,null,null,null,null,null,null,null,null,null,null,null,null,null,null,41,2050,2050,0,0,0]
[null,36,"Digger Derrick Greater Than 50'",null,"Vendor No 2",null,"MIFPUC-1","2018-10-11","2018-10-13",{"$f":"IF(AND(H53>='A - Contractor Summary'!$C$36,I53<='A - Contractor Summary'!$C$42),\"Yes\",\"No\")","v":"No"},{"$f":"VLOOKUP(C53,'C.1 - Rate Sheets'!$H$15:$I$46,2,FALSE)","v":60},null,null,null,null,9,16,16,null,null,null,null,null,null,null,null,null,null,null,null,null,null,null,null,null,null,null,null,null,null,null,null,null,null,null,null,41,2460,2460,0,0,0]
[null,37,"Rear Property Machine",null,"Vendor No 2",null,"MIFPUC-1","2018-10-11","2018-10-13",{"$f":"IF(AND(H54>='A - Contractor Summary'!$C$36,I54<='A - Contractor Summary'!$C$42),\"Yes\",\"No\")","v":"No"},{"$f":"VLOOKUP(C54,'C.1 - Rate Sheets'!$H$15:$I$46,2,FALSE)","v":50},null,null,null,null,9,16,16,null,null,null,null,null,null,null,null,null,null,null,null,null,null,null,null,null,null,null,null,null,null,null,null,null,null,null,null,41,2050,2050,0,0,0]
[null,38,"Bucket Truck Up to 55'",null,"Vendor No 2",null,"MIFPUC-1","2018-10-11","2018-10-13",{"$f":"IF(AND(H55>='A - Contractor Summary'!$C$36,I55<='A - Contractor Summary'!$C$42),\"Yes\",\"No\")","v":"No"},{"$f":"VLOOKUP(C55,'C.1 - Rate Sheets'!$H$15:$I$46,2,FALSE)","v":50},null,null,null,null,null,16,16,null,null,null,null,null,null,null,null,null,null,null,null,null,null,null,null,null,null,null,null,null,null,null,null,null,null,null,null,32,1600,1600,0,0,0]
[null,39,"Digger Derrick Greater Than 50'",null,"Vendor No 2",null,"MIFPUC-1","2018-10-11","2018-10-13",{"$f":"IF(AND(H56>='A - Contractor Summary'!$C$36,I56<='A - Contractor Summary'!$C$42),\"Yes\",\"No\")","v":"No"},{"$f":"VLOOKUP(C56,'C.1 - Rate Sheets'!$H$15:$I$46,2,FALSE)","v":60},null,null,null,null,9,16,16,null,null,null,null,null,null,null,null,null,null,null,null,null,null,null,null,null,null,null,null,null,null,null,null,null,null,null,null,41,2460,2460,0,0,0]
[null,40,"Bucket Truck Up to 55'",null,"Vendor No 2",null,"MIFPUC-1","2018-10-11","2018-10-13",{"$f":"IF(AND(H57>='A - Contractor Summary'!$C$36,I57<='A - Contractor Summary'!$C$42),\"Yes\",\"No\")","v":"No"},{"$f":"VLOOKUP(C57,'C.1 - Rate Sheets'!$H$15:$I$46,2,FALSE)","v":50},null,null,null,null,9,16,16,null,null,null,null,null,null,null,null,null,null,null,null,null,null,null,null,null,null,null,null,null,null,null,null,null,null,null,null,41,2050,2050,0,0,0]
[null,41,"Bucket Truck Up to 55'",null,"Vendor No 2",null,"MIFPUC-1","2018-10-11","2018-10-13",{"$f":"IF(AND(H58>='A - Contractor Summary'!$C$36,I58<='A - Contractor Summary'!$C$42),\"Yes\",\"No\")","v":"No"},{"$f":"VLOOKUP(C58,'C.1 - Rate Sheets'!$H$15:$I$46,2,FALSE)","v":50},null,null,null,null,9,16,16,null,null,null,null,null,null,null,null,null,null,null,null,null,null,null,null,null,null,null,null,null,null,null,null,null,null,null,null,41,2050,2050,0,0,0]
[null,42,"Pick Up Truck",null,"Vendor No 2",null,"MIFPUC-1","2018-10-11","2018-10-13",{"$f":"IF(AND(H59>='A - Contractor Summary'!$C$36,I59<='A - Contractor Summary'!$C$42),\"Yes\",\"No\")","v":"No"},{"$f":"VLOOKUP(C59,'C.1 - Rate Sheets'!$H$15:$I$46,2,FALSE)","v":20},null,null,null,null,9,16,16,null,null,null,null,null,null,null,null,null,null,null,null,null,null,null,null,null,null,null,null,null,null,null,null,null,null,null,null,41,820,820,0,0,0]
[null,43,"-",null,"Vendor No 2",null,"MIFPUC-1","2018-10-11","2018-10-13",{"$f":"IF(AND(H60>='A - Contractor Summary'!$C$36,I60<='A - Contractor Summary'!$C$42),\"Yes\",\"No\")","v":"No"},null,null,null,null,null,null,null,null,null,null,null,null,null,null,null,null,null,null,null,null,null,null,null,null,null,null,null,null,null,null,null,null,null,null,null,null,0,0,0,0,0,0]
[null,44,"Pick Up Truck",null,"Vendor No 2",null,"MIFPUC-1","2018-10-11","2018-10-13",{"$f":"IF(AND(H61>='A - Contractor Summary'!$C$36,I61<='A - Contractor Summary'!$C$42),\"Yes\",\"No\")","v":"No"},{"$f":"VLOOKUP(C61,'C.1 - Rate Sheets'!$H$15:$I$46,2,FALSE)","v":20},null,null,null,null,9,16,16,null,null,null,null,null,null,null,null,null,null,null,null,null,null,null,null,null,null,null,null,null,null,null,null,null,null,null,null,41,820,820,0,0,0]
[null,45,"Digger Derrick Up to 50'",null,"Vendor No 2",null,"MIFPUC-1","2018-10-11","2018-10-13",{"$f":"IF(AND(H62>='A - Contractor Summary'!$C$36,I62<='A - Contractor Summary'!$C$42),\"Yes\",\"No\")","v":"No"},{"$f":"VLOOKUP(C62,'C.1 - Rate Sheets'!$H$15:$I$46,2,FALSE)","v":50},null,null,null,null,9,16,16,null,null,null,null,null,null,null,null,null,null,null,null,null,null,null,null,null,null,null,null,null,null,null,null,null,null,null,null,41,2050,2050,0,0,0]
[null,46,"Bucket Truck Up to 55'",null,"Vendor No 2",null,"MIFPUC-1","2018-10-11","2018-10-13",{"$f":"IF(AND(H63>='A - Contractor Summary'!$C$36,I63<='A - Contractor Summary'!$C$42),\"Yes\",\"No\")","v":"No"},{"$f":"VLOOKUP(C63,'C.1 - Rate Sheets'!$H$15:$I$46,2,FALSE)","v":50},null,null,null,null,9,16,16,null,null,null,null,null,null,null,null,null,null,null,null,null,null,null,null,null,null,null,null,null,null,null,null,null,null,null,null,41,2050,2050,0,0,0]
[null,47,"Bucket Truck Up to 55'",null,"Vendor No 2",null,"MIFPUC-1","2018-10-11","2018-10-13",{"$f":"IF(AND(H64>='A - Contractor Summary'!$C$36,I64<='A - Contractor Summary'!$C$42),\"Yes\",\"No\")","v":"No"},{"$f":"VLOOKUP(C64,'C.1 - Rate Sheets'!$H$15:$I$46,2,FALSE)","v":50},null,null,null,null,9,16,16,null,null,null,null,null,null,null,null,null,null,null,null,null,null,null,null,null,null,null,null,null,null,null,null,null,null,null,null,41,2050,2050,0,0,0]
[null,48,"Bucket Truck Up to 55'",null,"Vendor No 2",null,"MIFPUC-1","2018-10-11","2018-10-13",{"$f":"IF(AND(H65>='A - Contractor Summary'!$C$36,I65<='A - Contractor Summary'!$C$42),\"Yes\",\"No\")","v":"No"},{"$f":"VLOOKUP(C65,'C.1 - Rate Sheets'!$H$15:$I$46,2,FALSE)","v":50},null,null,null,null,null,16,16,null,null,null,null,null,null,null,null,null,null,null,null,null,null,null,null,null,null,null,null,null,null,null,null,null,null,null,null,32,1600,1600,0,0,0]
[null,49,"Pick Up Truck",null,"Vendor No 2",null,"MIFPUC-1","2018-10-11","2018-10-13",{"$f":"IF(AND(H66>='A - Contractor Summary'!$C$36,I66<='A - Contractor Summary'!$C$42),\"Yes\",\"No\")","v":"No"},{"$f":"VLOOKUP(C66,'C.1 - Rate Sheets'!$H$15:$I$46,2,FALSE)","v":20},null,null,null,null,null,16,16,null,null,null,null,null,null,null,null,null,null,null,null,null,null,null,null,null,null,null,null,null,null,null,null,null,null,null,null,32,640,640,0,0,0]
[null,50,"Mechanic Truck",null,"Vendor No 2",null,"MIFPUC-1","2018-10-11","2018-10-13",{"$f":"IF(AND(H67>='A - Contractor Summary'!$C$36,I67<='A - Contractor Summary'!$C$42),\"Yes\",\"No\")","v":"No"},{"$f":"VLOOKUP(C67,'C.1 - Rate Sheets'!$H$15:$I$46,2,FALSE)","v":45},null,null,null,null,null,16,16,null,null,null,null,null,null,null,null,null,null,null,null,null,null,null,null,null,null,null,null,null,null,null,null,null,null,null,null,32,1440,1440,0,0,0]
[null,51,"Mini Excavator",null,"Vendor No 2",null,"MIFPUC-1","2018-10-11","2018-10-13",{"$f":"IF(AND(H68>='A - Contractor Summary'!$C$36,I68<='A - Contractor Summary'!$C$42),\"Yes\",\"No\")","v":"No"},{"$f":"VLOOKUP(C68,'C.1 - Rate Sheets'!$H$15:$I$46,2,FALSE)","v":35},null,null,null,null,null,16,16,null,null,null,null,null,null,null,null,null,null,null,null,null,null,null,null,null,null,null,null,null,null,null,null,null,null,null,null,32,1120,1120,0,0,0]
[null,52,"Mechanic Truck",null,"Vendor No 2",null,"MIFPUC-1","2018-10-11","2018-10-13",{"$f":"IF(AND(H69>='A - Contractor Summary'!$C$36,I69<='A - Contractor Summary'!$C$42),\"Yes\",\"No\")","v":"No"},{"$f":"VLOOKUP(C69,'C.1 - Rate Sheets'!$H$15:$I$46,2,FALSE)","v":45},null,null,null,null,null,16,16,null,null,null,null,null,null,null,null,null,null,null,null,null,null,null,null,null,null,null,null,null,null,null,null,null,null,null,null,32,1440,1440]
[null,53,"Mechanic Truck",null,"Vendor No 2",null,"MIFPUC-1","2018-10-11","2018-10-13",{"$f":"IF(AND(H70>='A - Contractor Summary'!$C$36,I70<='A - Contractor Summary'!$C$42),\"Yes\",\"No\")","v":"No"},{"$f":"VLOOKUP(C70,'C.1 - Rate Sheets'!$H$15:$I$46,2,FALSE)","v":45},null,null,null,null,null,16,16,null,null,null,null,null,null,null,null,null,null,null,null,null,null,null,null,null,null,null,null,null,null,null,null,null,null,null,null,32,1440,1440,0,0,0]
[null,54,"Tractor( Semi)",null,"Vendor No 2",null,"MIFPUC-1","2018-10-11","2018-10-13",{"$f":"IF(AND(H71>='A - Contractor Summary'!$C$36,I71<='A - Contractor Summary'!$C$42),\"Yes\",\"No\")","v":"No"},{"$f":"VLOOKUP(C71,'C.1 - Rate Sheets'!$H$15:$I$46,2,FALSE)","v":45},null,null,null,null,null,null,null,null,null,null,null,null,null,null,null,null,null,null,null,null,null,null,null,null,null,null,null,null,null,null,null,null,null,null,null,0,0,0,0,0,0]
[null,55,"Mechanic Truck",null,"Vendor No 2",null,"MIFPUC-1","2018-10-11","2018-10-13",{"$f":"IF(AND(H72>='A - Contractor Summary'!$C$36,I72<='A - Contractor Summary'!$C$42),\"Yes\",\"No\")","v":"No"},{"$f":"VLOOKUP(C72,'C.1 - Rate Sheets'!$H$15:$I$46,2,FALSE)","v":45},null,null,null,null,null,16,16,null,null,null,null,null,null,null,null,null,null,null,null,null,null,null,null,null,null,null,null,null,null,null,null,null,null,null,null,32,1440,1440,0,0,0]
[null,56,"Tractor( Semi)",null,"Vendor No 2",null,"MIFPUC-1","2018-10-11","2018-10-13",{"$f":"IF(AND(H73>='A - Contractor Summary'!$C$36,I73<='A - Contractor Summary'!$C$42),\"Yes\",\"No\")","v":"No"},{"$f":"VLOOKUP(C73,'C.1 - Rate Sheets'!$H$15:$I$46,2,FALSE)","v":45},null,null,null,null,null,null,null,null,null,null,null,null,null,null,null,null,null,null,null,null,null,null,null,null,null,null,null,null,null,null,null,null,null,null,null,0,0,0,0,0,0]
[null,57,"Mechanic Truck",null,"Vendor No 2",null,"MIFPUC-1","2018-10-11","2018-10-13",{"$f":"IF(AND(H74>='A - Contractor Summary'!$C$36,I74<='A - Contractor Summary'!$C$42),\"Yes\",\"No\")","v":"No"},{"$f":"VLOOKUP(C74,'C.1 - Rate Sheets'!$H$15:$I$46,2,FALSE)","v":45},null,null,null,null,null,16,16,null,null,null,null,null,null,null,null,null,null,null,null,null,null,null,null,null,null,null,null,null,null,null,null,null,null,null,null,32,1440,1440,0,0,0]
[null,58,"Low Boy",null,"Vendor No 2",null,"MIFPUC-1","2018-10-11","2018-10-13",{"$f":"IF(AND(H75>='A - Contractor Summary'!$C$36,I75<='A - Contractor Summary'!$C$42),\"Yes\",\"No\")","v":"No"},{"$f":"VLOOKUP(C75,'C.1 - Rate Sheets'!$H$15:$I$46,2,FALSE)","v":38},null,null,null,null,null,null,null,null,null,null,null,null,null,null,null,null,null,null,null,null,null,null,null,null,null,null,null,null,null,null,null,null,null,null,null,0,0,0,0,0,0]
[null,59,"Low Boy",null,"Vendor No 2",null,"MIFPUC-1","2018-10-11","2018-10-13",{"$f":"IF(AND(H76>='A - Contractor Summary'!$C$36,I76<='A - Contractor Summary'!$C$42),\"Yes\",\"No\")","v":"No"},{"$f":"VLOOKUP(C76,'C.1 - Rate Sheets'!$H$15:$I$46,2,FALSE)","v":38},null,null,null,null,null,null,null,null,null,null,null,null,null,null,null,null,null,null,null,null,null,null,null,null,null,null,null,null,null,null,null,null,null,null,null,0,0,0,0,0,0]
[null,60,"Digger Derrick Greater Than 50'",null,"Vendor No 2",null,"MIFPUC-1","2018-10-11","2018-10-13",{"$f":"IF(AND(H77>='A - Contractor Summary'!$C$36,I77<='A - Contractor Summary'!$C$42),\"Yes\",\"No\")","v":"No"},{"$f":"VLOOKUP(C77,'C.1 - Rate Sheets'!$H$15:$I$46,2,FALSE)","v":60},null,null,null,null,null,16,16,null,null,null,null,null,null,null,null,null,null,null,null,null,null,null,null,null,null,null,null,null,null,null,null,null,null,null,null,32,1920,1920,0,0,0]
[null,61,"Bucket Truck Tracked",null,"Vendor No 2",null,"MIFPUC-1","2018-10-11","2018-10-13",{"$f":"IF(AND(H78>='A - Contractor Summary'!$C$36,I78<='A - Contractor Summary'!$C$42),\"Yes\",\"No\")","v":"No"},{"$f":"VLOOKUP(C78,'C.1 - Rate Sheets'!$H$15:$I$46,2,FALSE)","v":70},null,null,null,null,null,null,null,null,null,null,null,null,null,null,null,null,null,null,null,null,null,null,null,null,null,null,null,null,null,null,null,null,null,null,null,0,0,0,0,0,0]
[null,62,"Digger Tracked",null,"Vendor No 2",null,"MIFPUC-1","2018-10-11","2018-10-13",{"$f":"IF(AND(H79>='A - Contractor Summary'!$C$36,I79<='A - Contractor Summary'!$C$42),\"Yes\",\"No\")","v":"No"},{"$f":"VLOOKUP(C79,'C.1 - Rate Sheets'!$H$15:$I$46,2,FALSE)","v":70},null,null,null,null,null,null,null,null,null,null,null,null,null,null,null,null,null,null,null,null,null,null,null,null,null,null,null,null,null,null,null,null,null,null,null,0,0,0,0,0,0]
[null,63,"Rope Rig (puller)",null,"Vendor No 2",null,"MIFPUC-1","2018-10-11","2018-10-13",{"$f":"IF(AND(H80>='A - Contractor Summary'!$C$36,I80<='A - Contractor Summary'!$C$42),\"Yes\",\"No\")","v":"No"},{"$f":"VLOOKUP(C80,'C.1 - Rate Sheets'!$H$15:$I$46,2,FALSE)","v":55},null,null,null,null,null,null,null,null,null,null,null,null,null,null,null,null,null,null,null,null,null,null,null,null,null,null,null,null,null,null,null,null,null,null,null,0,0,0,0,0,0]
[null,64,"Bucket Truck over 65'",null,"Vendor No 2",null,"MIFPUC-1","2018-10-11","2018-10-13",{"$f":"IF(AND(H81>='A - Contractor Summary'!$C$36,I81<='A - Contractor Summary'!$C$42),\"Yes\",\"No\")","v":"No"},{"$f":"VLOOKUP(C81,'C.1 - Rate Sheets'!$H$15:$I$46,2,FALSE)","v":65},null,null,null,null,null,null,null,null,null,null,null,null,null,null,null,null,null,null,null,null,null,null,null,null,null,null,null,null,null,null,null,null,null,null,null,0,0,0,0,0,0]
[null,65,"Bucket Truck Up to 55'",null,"Vendor No 2",null,"MIFPUC-1","2018-10-11","2018-10-13",{"$f":"IF(AND(H82>='A - Contractor Summary'!$C$36,I82<='A - Contractor Summary'!$C$42),\"Yes\",\"No\")","v":"No"},{"$f":"VLOOKUP(C82,'C.1 - Rate Sheets'!$H$15:$I$46,2,FALSE)","v":50},null,null,null,null,null,null,null,null,null,null,null,null,null,null,null,null,null,null,null,null,null,null,null,null,null,null,null,null,null,null,null,null,null,null,null,0,0,0,0,0,0]
[null,66,"Digger Derrick Up to 50'",null,"Vendor No 2",null,"MIFPUC-1","2018-10-11","2018-10-13",{"$f":"IF(AND(H83>='A - Contractor Summary'!$C$36,I83<='A - Contractor Summary'!$C$42),\"Yes\",\"No\")","v":"No"},{"$f":"VLOOKUP(C83,'C.1 - Rate Sheets'!$H$15:$I$46,2,FALSE)","v":50},null,null,null,null,null,null,null,null,null,null,null,null,null,null,null,null,null,null,null,null,null,null,null,null,null,null,null,null,null,null,null,null,null,null,null,0,0,0,0,0,0]
[null,67,"Rope Rig (puller)",null,"Vendor No 2",null,"MIFPUC-1","2018-10-11","2018-10-13",{"$f":"IF(AND(H84>='A - Contractor Summary'!$C$36,I84<='A - Contractor Summary'!$C$42),\"Yes\",\"No\")","v":"No"},{"$f":"VLOOKUP(C84,'C.1 - Rate Sheets'!$H$15:$I$46,2,FALSE)","v":55},null,null,null,null,null,null,null,null,null,null,null,null,null,null,null,null,null,null,null,null,null,null,null,null,null,null,null,null,null,null,null,null,null,null,null,{"$f":"SUM(L84:AT84)","v":0},{"$f":"AU84*K84","v":0},{"$f":"AV84-AX84","v":0},0,0,0]
[null,68,"Rope Rig (puller)",null,"Vendor No 2",null,"MIFPUC-1","2018-10-11","2018-10-13",{"$f":"IF(AND(H85>='A - Contractor Summary'!$C$36,I85<='A - Contractor Summary'!$C$42),\"Yes\",\"No\")","v":"No"},{"$f":"VLOOKUP(C85,'C.1 - Rate Sheets'!$H$15:$I$46,2,FALSE)","v":55},null,null,null,null,null,null,null,null,null,null,null,null,null,null,null,null,null,null,null,null,null,null,null,null,null,null,null,null,null,null,null,null,null,null,null,0,0,0,0,0,0]
[null,69,"45 Ton Crane",null,"Vendor No 2",null,"MIFPUC-1","2018-10-11","2018-10-13",{"$f":"IF(AND(H86>='A - Contractor Summary'!$C$36,I86<='A - Contractor Summary'!$C$42),\"Yes\",\"No\")","v":"No"},{"$f":"VLOOKUP(C86,'C.1 - Rate Sheets'!$H$15:$I$46,2,FALSE)","v":145},null,null,null,null,null,null,null,null,null,null,null,null,null,null,null,null,null,null,null,null,null,null,null,null,null,null,null,null,null,null,null,null,null,null,null,0,0,0,0,0,0]
[null,70,"Mechanic Truck",null,"Vendor No 2",null,"MIFPUC-1","2018-10-11","2018-10-13",{"$f":"IF(AND(H87>='A - Contractor Summary'!$C$36,I87<='A - Contractor Summary'!$C$42),\"Yes\",\"No\")","v":"No"},{"$f":"VLOOKUP(C87,'C.1 - Rate Sheets'!$H$15:$I$46,2,FALSE)","v":45},null,null,null,null,null,null,null,null,null,null,null,null,null,null,null,null,null,null,null,null,null,null,null,null,null,null,null,null,null,null,null,null,null,null,null,0,0,0,0,0,0]
[null,71,"Pick Up Truck",null,"Vendor No 2",null,"MIFPUC-1","2018-10-11","2018-10-13",{"$f":"IF(AND(H88>='A - Contractor Summary'!$C$36,I88<='A - Contractor Summary'!$C$42),\"Yes\",\"No\")","v":"No"},{"$f":"VLOOKUP(C88,'C.1 - Rate Sheets'!$H$15:$I$46,2,FALSE)","v":20},null,null,null,null,null,null,null,null,null,null,null,null,null,null,null,null,null,null,null,null,null,null,null,null,null,null,null,null,null,null,null,null,null,null,null,0,0,0,0,0,0]
[null,72,"Bucket Truck Up to 55'",null,"Vendor No 2",null,"MIFPUC-1","2018-10-11","2018-10-13",{"$f":"IF(AND(H89>='A - Contractor Summary'!$C$36,I89<='A - Contractor Summary'!$C$42),\"Yes\",\"No\")","v":"No"},{"$f":"VLOOKUP(C89,'C.1 - Rate Sheets'!$H$15:$I$46,2,FALSE)","v":50},null,null,null,null,null,null,null,null,null,null,null,null,null,null,null,null,null,null,null,null,null,null,null,null,null,null,null,null,null,null,null,null,null,null,null,0,0,0,0,0,0]
[null,73,"Bucket Truck Up to 55'",null,"Vendor No 2",null,"MIFPUC-1","2018-10-11","2018-10-13",{"$f":"IF(AND(H90>='A - Contractor Summary'!$C$36,I90<='A - Contractor Summary'!$C$42),\"Yes\",\"No\")","v":"No"},{"$f":"VLOOKUP(C90,'C.1 - Rate Sheets'!$H$15:$I$46,2,FALSE)","v":50},null,null,null,null,null,null,null,null,null,null,null,null,null,null,null,null,null,null,null,null,null,null,null,null,null,null,null,null,null,null,null,null,null,null,null,0,0,0,0,0,0]
[null,74,"Digger Derrick Up to 50'",null,"Vendor No 2",null,"MIFPUC-1","2018-10-11","2018-10-13",{"$f":"IF(AND(H91>='A - Contractor Summary'!$C$36,I91<='A - Contractor Summary'!$C$42),\"Yes\",\"No\")","v":"No"},{"$f":"VLOOKUP(C91,'C.1 - Rate Sheets'!$H$15:$I$46,2,FALSE)","v":50},null,null,null,null,null,null,null,null,null,null,null,null,null,null,null,null,null,null,null,null,null,null,null,null,null,null,null,null,null,null,null,null,null,null,null,0,0,0]
[null,75,"Rear Property Machine",null,"Vendor No 2",null,"MIFPUC-1","2018-10-11","2018-10-13",{"$f":"IF(AND(H92>='A - Contractor Summary'!$C$36,I92<='A - Contractor Summary'!$C$42),\"Yes\",\"No\")","v":"No"},{"$f":"VLOOKUP(C92,'C.1 - Rate Sheets'!$H$15:$I$46,2,FALSE)","v":50},null,null,null,null,null,null,null,null,null,null,null,null,null,null,null,null,null,null,null,null,null,null,null,null,null,null,null,null,null,null,null,null,null,null,null,0,0,0,0,0,0]
[null,76,"Bucket Truck Up to 55'",null,"Vendor No 2",null,"MIFPUC-1","2018-10-11","2018-10-13",{"$f":"IF(AND(H93>='A - Contractor Summary'!$C$36,I93<='A - Contractor Summary'!$C$42),\"Yes\",\"No\")","v":"No"},{"$f":"VLOOKUP(C93,'C.1 - Rate Sheets'!$H$15:$I$46,2,FALSE)","v":50},null,null,null,null,null,null,null,null,null,null,null,null,null,null,null,null,null,null,null,null,null,null,null,null,null,null,null,null,null,null,null,null,null,null,null,0,0,0,0,0,0]
[null,77,"Bucket Truck Up to 55'",null,"Vendor No 2",null,"MIFPUC-1","2018-10-11","2018-10-13",{"$f":"IF(AND(H94>='A - Contractor Summary'!$C$36,I94<='A - Contractor Summary'!$C$42),\"Yes\",\"No\")","v":"No"},{"$f":"VLOOKUP(C94,'C.1 - Rate Sheets'!$H$15:$I$46,2,FALSE)","v":50},null,null,null,null,null,null,null,null,null,null,null,null,null,null,null,null,null,null,null,null,null,null,null,null,null,null,null,null,null,null,null,null,null,null,null,0,0,0,0,0,0]
[null,78,"Digger Derrick Up to 50'",null,"Vendor No 2",null,"MIFPUC-1","2018-10-11","2018-10-13",{"$f":"IF(AND(H95>='A - Contractor Summary'!$C$36,I95<='A - Contractor Summary'!$C$42),\"Yes\",\"No\")","v":"No"},{"$f":"VLOOKUP(C95,'C.1 - Rate Sheets'!$H$15:$I$46,2,FALSE)","v":50},null,null,null,null,null,null,null,null,null,null,null,null,null,null,null,null,null,null,null,null,null,null,null,null,null,null,null,null,null,null,null,null,null,null,null,0,0,0,0,0,0]
[null,79,"Rear Property Machine",null,"Vendor No 2",null,"MIFPUC-1","2018-10-11","2018-10-13",{"$f":"IF(AND(H96>='A - Contractor Summary'!$C$36,I96<='A - Contractor Summary'!$C$42),\"Yes\",\"No\")","v":"No"},{"$f":"VLOOKUP(C96,'C.1 - Rate Sheets'!$H$15:$I$46,2,FALSE)","v":50},null,null,null,null,null,null,null,null,null,null,null,null,null,null,null,null,null,null,null,null,null,null,null,null,null,null,null,null,null,null,null,null,null,null,null,0,0,0,0,0,0]
[null,80,"Bucket Truck Up to 55'",null,"Vendor No 2",null,"MIFPUC-1","2018-10-11","2018-10-13",{"$f":"IF(AND(H97>='A - Contractor Summary'!$C$36,I97<='A - Contractor Summary'!$C$42),\"Yes\",\"No\")","v":"No"},{"$f":"VLOOKUP(C97,'C.1 - Rate Sheets'!$H$15:$I$46,2,FALSE)","v":50},null,null,null,null,null,null,null,null,null,null,null,null,null,null,null,null,null,null,null,null,null,null,null,null,null,null,null,null,null,null,null,null,null,null,null,0,0,0,0,0,0]
[null,81,"Bucket Truck Up to 55'",null,"Vendor No 2",null,"MIFPUC-1","2018-10-11","2018-10-13",{"$f":"IF(AND(H98>='A - Contractor Summary'!$C$36,I98<='A - Contractor Summary'!$C$42),\"Yes\",\"No\")","v":"No"},{"$f":"VLOOKUP(C98,'C.1 - Rate Sheets'!$H$15:$I$46,2,FALSE)","v":50},null,null,null,null,null,null,null,null,null,null,null,null,null,null,null,null,null,null,null,null,null,null,null,null,null,null,null,null,null,null,null,null,null,null,null,0,0,0,0,0,0]
[null,82,"Digger Derrick Up to 50'",null,"Vendor No 2",null,"MIFPUC-1","2018-10-11","2018-10-13",{"$f":"IF(AND(H99>='A - Contractor Summary'!$C$36,I99<='A - Contractor Summary'!$C$42),\"Yes\",\"No\")","v":"No"},{"$f":"VLOOKUP(C99,'C.1 - Rate Sheets'!$H$15:$I$46,2,FALSE)","v":50},null,null,null,null,null,null,null,null,null,null,null,null,null,null,null,null,null,null,null,null,null,null,null,null,null,null,null,null,null,null,null,null,null,null,null,0,0,0,0,0,0]
[null,83,"Rear Property Machine",null,"Vendor No 2",null,"MIFPUC-1","2018-10-11","2018-10-13",{"$f":"IF(AND(H100>='A - Contractor Summary'!$C$36,I100<='A - Contractor Summary'!$C$42),\"Yes\",\"No\")","v":"No"},{"$f":"VLOOKUP(C100,'C.1 - Rate Sheets'!$H$15:$I$46,2,FALSE)","v":50},null,null,null,null,null,null,null,null,null,null,null,null,null,null,null,null,null,null,null,null,null,null,null,null,null,null,null,null,null,null,null,null,null,null,null,0,0,0,0,0,0]
[null,84,"Pick Up Truck",null,"Vendor No 2",null,"MIFPUC-1","2018-10-11","2018-10-13",{"$f":"IF(AND(H101>='A - Contractor Summary'!$C$36,I101<='A - Contractor Summary'!$C$42),\"Yes\",\"No\")","v":"No"},{"$f":"VLOOKUP(C101,'C.1 - Rate Sheets'!$H$15:$I$46,2,FALSE)","v":20},null,null,null,null,null,null,null,null,null,null,null,null,null,null,null,null,null,null,null,null,null,null,null,null,null,null,null,null,null,null,null,null,null,null,null,0,0,0,0,0,0]
[null,85,"Bucket Truck Up to 55'",null,"Vendor No 2",null,"MIFPUC-1","2018-10-11","2018-10-13",{"$f":"IF(AND(H102>='A - Contractor Summary'!$C$36,I102<='A - Contractor Summary'!$C$42),\"Yes\",\"No\")","v":"No"},{"$f":"VLOOKUP(C102,'C.1 - Rate Sheets'!$H$15:$I$46,2,FALSE)","v":50},null,null,null,null,null,null,null,null,null,null,null,null,null,null,null,null,null,null,null,null,null,null,null,null,null,null,null,null,null,null,null,null,null,null,null,0,0,0,0,0,0]
[null,86,"Digger Derrick Up to 50'",null,"Vendor No 2",null,"MIFPUC-1","2018-10-11","2018-10-13",{"$f":"IF(AND(H103>='A - Contractor Summary'!$C$36,I103<='A - Contractor Summary'!$C$42),\"Yes\",\"No\")","v":"No"},{"$f":"VLOOKUP(C103,'C.1 - Rate Sheets'!$H$15:$I$46,2,FALSE)","v":50},null,null,null,null,null,null,null,null,null,null,null,null,null,null,null,null,null,null,null,null,null,null,null,null,null,null,null,null,null,null,null,null,null,null,null,0,0,0,0,0,0]
[null,87,"Pick Up Truck",null,"Vendor No 2",null,"MIFPUC-1","2018-10-11","2018-10-13",{"$f":"IF(AND(H104>='A - Contractor Summary'!$C$36,I104<='A - Contractor Summary'!$C$42),\"Yes\",\"No\")","v":"No"},{"$f":"VLOOKUP(C104,'C.1 - Rate Sheets'!$H$15:$I$46,2,FALSE)","v":20},null,null,null,null,null,null,null,null,null,null,null,null,null,null,null,null,null,null,null,null,null,null,null,null,null,null,null,null,null,null,null,null,null,null,null,0,0,0,0,0,0]
[null,88,"Bucket Truck Up to 55'",null,"Vendor No 2",null,"MIFPUC-1","2018-10-11","2018-10-13",{"$f":"IF(AND(H105>='A - Contractor Summary'!$C$36,I105<='A - Contractor Summary'!$C$42),\"Yes\",\"No\")","v":"No"},{"$f":"VLOOKUP(C105,'C.1 - Rate Sheets'!$H$15:$I$46,2,FALSE)","v":50},null,null,null,null,null,null,null,null,null,null,null,null,null,null,null,null,null,null,null,null,null,null,null,null,null,null,null,null,null,null,null,null,null,null,null,0,0,0,0,0,0]
[null,89,"Digger Derrick Up to 50'",null,"Vendor No 2",null,"MIFPUC-1","2018-10-11","2018-10-13",{"$f":"IF(AND(H106>='A - Contractor Summary'!$C$36,I106<='A - Contractor Summary'!$C$42),\"Yes\",\"No\")","v":"No"},{"$f":"VLOOKUP(C106,'C.1 - Rate Sheets'!$H$15:$I$46,2,FALSE)","v":50},null,null,null,null,null,null,null,null,null,null,null,null,null,null,null,null,null,null,null,null,null,null,null,null,null,null,null,null,null,null,null,null,null,null,null,0,0,0,0,0,0]
[null,90,"Digger Derrick Up to 50'",null,"Vendor No 2",null,"MIFPUC-1","2018-10-11","2018-10-13",{"$f":"IF(AND(H107>='A - Contractor Summary'!$C$36,I107<='A - Contractor Summary'!$C$42),\"Yes\",\"No\")","v":"No"},{"$f":"VLOOKUP(C107,'C.1 - Rate Sheets'!$H$15:$I$46,2,FALSE)","v":50},null,null,null,null,null,null,null,null,null,null,null,null,null,null,null,null,null,null,null,null,null,null,null,null,null,null,null,null,null,null,null,null,null,null,null,0,0,0,0,0,0]
[null,91,"X100 Blocks",null,"Vendor No 2",null,"MIFPUC-1","2018-10-11","2018-10-13",{"$f":"IF(AND(H108>='A - Contractor Summary'!$C$36,I108<='A - Contractor Summary'!$C$42),\"Yes\",\"No\")","v":"No"},{"$f":"VLOOKUP(C108,'C.1 - Rate Sheets'!$H$15:$I$46,2,FALSE)","v":2},null,null,null,null,null,null,null,null,null,null,null,null,null,null,null,null,null,null,null,null,null,null,null,null,null,null,null,null,null,null,null,null,null,null,null,0,0,0,0,0,0]
[null,92,"Wire Cart",null,"Vendor No 2",null,"MIFPUC-1","2018-10-11","2018-10-13",{"$f":"IF(AND(H109>='A - Contractor Summary'!$C$36,I109<='A - Contractor Summary'!$C$42),\"Yes\",\"No\")","v":"No"},{"$f":"VLOOKUP(C109,'C.1 - Rate Sheets'!$H$15:$I$46,2,FALSE)","v":20},null,null,null,null,null,null,null,null,null,null,null,null,null,null,null,null,null,null,null,null,null,null,null,null,null,null,null,null,null,null,null,null,null,null,null,0,0,0,0,0,0]
[null,93,"Air Compressor",null,"Vendor No 2",null,"MIFPUC-1","2018-10-11","2018-10-13",{"$f":"IF(AND(H110>='A - Contractor Summary'!$C$36,I110<='A - Contractor Summary'!$C$42),\"Yes\",\"No\")","v":"No"},{"$f":"VLOOKUP(C110,'C.1 - Rate Sheets'!$H$15:$I$46,2,FALSE)","v":15},null,null,null,null,null,null,null,null,null,null,null,null,null,null,null,null,null,null,null,null,null,null,null,null,null,null,null,null,null,null,null,null,null,null,null,0,0,0,0,0,0]
[null,94,"Hydrovac Excavation Truck(Vac Truck)",null,"Vendor No 2",null,"MIFPUC-1","2018-10-11","2018-10-13",{"$f":"IF(AND(H111>='A - Contractor Summary'!$C$36,I111<='A - Contractor Summary'!$C$42),\"Yes\",\"No\")","v":"No"},{"$f":"VLOOKUP(C111,'C.1 - Rate Sheets'!$H$15:$I$46,2,FALSE)","v":165},null,null,null,null,null,null,null,null,null,null,null,null,null,null,null,null,null,null,null,null,null,null,null,null,null,null,null,null,null,null,null,null,null,null,null,0,0,0]
[null,95,"Flat Bed Truck",null,"Vendor No 2",null,"MIFPUC-1","2018-10-11","2018-10-13",{"$f":"IF(AND(H112>='A - Contractor Summary'!$C$36,I112<='A - Contractor Summary'!$C$42),\"Yes\",\"No\")","v":"No"},{"$f":"VLOOKUP(C112,'C.1 - Rate Sheets'!$H$15:$I$46,2,FALSE)","v":35},null,null,null,null,null,null,null,null,null,null,null,null,null,null,null,null,null,null,null,null,null,null,null,null,null,null,null,null,null,null,null,null,null,null,null,0,0,0]
[null,96,"Wire Cart",null,"Vendor No 2",null,"MIFPUC-1","2018-10-11","2018-10-13",{"$f":"IF(AND(H113>='A - Contractor Summary'!$C$36,I113<='A - Contractor Summary'!$C$42),\"Yes\",\"No\")","v":"No"},{"$f":"VLOOKUP(C113,'C.1 - Rate Sheets'!$H$15:$I$46,2,FALSE)","v":20},null,null,null,null,null,null,null,null,null,null,null,null,null,null,null,null,null,null,null,null,null,null,null,null,null,null,null,null,null,null,null,null,null,null,null,0,0,0]
[null,97,"Digger Tracked",null,"Vendor No 2",null,"MIFPUC-1","2018-10-11","2018-10-13",{"$f":"IF(AND(H114>='A - Contractor Summary'!$C$36,I114<='A - Contractor Summary'!$C$42),\"Yes\",\"No\")","v":"No"},{"$f":"VLOOKUP(C114,'C.1 - Rate Sheets'!$H$15:$I$46,2,FALSE)","v":70},null,null,null,null,null,null,null,null,null,null,null,null,null,null,null,null,null,null,null,null,null,null,null,null,null,null,null,null,null,null,null,null,null,null,null,0,0,0]
[null,98,"Bucket Truck Up to 55'",null,"Vendor No 2",null,"MIFPUC-1","2018-10-11","2018-10-13",{"$f":"IF(AND(H115>='A - Contractor Summary'!$C$36,I115<='A - Contractor Summary'!$C$42),\"Yes\",\"No\")","v":"No"},{"$f":"VLOOKUP(C115,'C.1 - Rate Sheets'!$H$15:$I$46,2,FALSE)","v":50},null,null,null,null,null,null,null,null,null,null,null,null,null,null,null,null,null,null,null,null,null,null,null,null,null,null,null,null,null,null,null,null,null,null,null,0,0,0]
[null,99,"Rope Rig (puller)",null,"Vendor No 2",null,"MIFPUC-1","2018-10-11","2018-10-13",{"$f":"IF(AND(H116>='A - Contractor Summary'!$C$36,I116<='A - Contractor Summary'!$C$42),\"Yes\",\"No\")","v":"No"},{"$f":"VLOOKUP(C116,'C.1 - Rate Sheets'!$H$15:$I$46,2,FALSE)","v":55},null,null,null,null,null,null,null,null,null,null,null,null,null,null,null,null,null,null,null,null,null,null,null,null,null,null,null,null,null,null,null,null,null,null,null,0,0,0]
[null,100,"Excavator Rental",null,"Vendor No 2",null,"MIFPUC-1","2018-10-11","2018-10-13",{"$f":"IF(AND(H117>='A - Contractor Summary'!$C$36,I117<='A - Contractor Summary'!$C$42),\"Yes\",\"No\")","v":"No"},{"$f":"VLOOKUP(C117,'C.1 - Rate Sheets'!$H$15:$I$46,2,FALSE)","v":2253.84},null,null,null,null,null,null,null,null,null,null,null,null,null,null,null,null,null,null,null,null,null,null,null,null,null,null,null,null,null,null,null,null,null,null,null,0,0,0]
[null,101,null,null,"Vendor No 2",null,null,null,null,{"$f":"IF(AND(H118>='A - Contractor Summary'!$C$36,I118<='A - Contractor Summary'!$C$42),\"Yes\",\"No\")","v":"No"}]
[null,102,"Pick Up Truck",null,"Vendor No 2",null,"MIFPUC-2","2018-10-14","2018-10-20",{"$f":"IF(AND(H119>='A - Contractor Summary'!$C$36,I119<='A - Contractor Summary'!$C$42),\"Yes\",\"No\")","v":"No"},{"$f":"VLOOKUP(C119,'C.1 - Rate Sheets'!$H$15:$I$46,2,FALSE)","v":20},null,null,null,null,null,null,null,16,16,16,16,16,16,16,null,null,null,null,null,null,null,null,null,null,null,null,null,null,null,null,null,null,null,null,null,112,2240,2240]
[null,103,"Bucket Truck Up to 55'",null,"Vendor No 2",null,"MIFPUC-2","2018-10-14","2018-10-20",{"$f":"IF(AND(H120>='A - Contractor Summary'!$C$36,I120<='A - Contractor Summary'!$C$42),\"Yes\",\"No\")","v":"No"},{"$f":"VLOOKUP(C120,'C.1 - Rate Sheets'!$H$15:$I$46,2,FALSE)","v":50},null,null,null,null,null,null,null,16,16,16,16,16,16,16,null,null,null,null,null,null,null,null,null,null,null,null,null,null,null,null,null,null,null,null,null,112,5600,5600]
[null,104,"Digger Derrick Greater Than 50'",null,"Vendor No 2",null,"MIFPUC-2","2018-10-14","2018-10-20",{"$f":"IF(AND(H121>='A - Contractor Summary'!$C$36,I121<='A - Contractor Summary'!$C$42),\"Yes\",\"No\")","v":"No"},{"$f":"VLOOKUP(C121,'C.1 - Rate Sheets'!$H$15:$I$46,2,FALSE)","v":60},null,null,null,null,null,null,null,16,16,16,16,16,16,16,null,null,null,null,null,null,null,null,null,null,null,null,null,null,null,null,null,null,null,null,null,112,6720,6720]
[null,105,"Mechanic Truck",null,"Vendor No 2",null,"MIFPUC-2","2018-10-14","2018-10-20",{"$f":"IF(AND(H122>='A - Contractor Summary'!$C$36,I122<='A - Contractor Summary'!$C$42),\"Yes\",\"No\")","v":"No"},{"$f":"VLOOKUP(C122,'C.1 - Rate Sheets'!$H$15:$I$46,2,FALSE)","v":45},null,null,null,null,null,null,null,16,16,16,16,16,16,16,null,null,null,null,null,null,null,null,null,null,null,null,null,null,null,null,null,null,null,null,null,112,5040,5040]
[null,106,"40' Tri Cam Container",null,"Vendor No 2",null,"MIFPUC-2","2018-10-14","2018-10-20",{"$f":"IF(AND(H123>='A - Contractor Summary'!$C$36,I123<='A - Contractor Summary'!$C$42),\"Yes\",\"No\")","v":"No"},{"$f":"VLOOKUP(C123,'C.1 - Rate Sheets'!$H$15:$I$46,2,FALSE)","v":804.17},null,null,null,null,null,null,null,1,null,null,null,null,null,null,null,null,null,null,null,null,null,null,null,null,null,null,null,null,null,null,null,null,null,null,null,1,804.17,804.17]
[null,107,"Pick Up Truck",null,"Vendor No 2",null,"MIFPUC-2","2018-10-14","2018-10-20",{"$f":"IF(AND(H124>='A - Contractor Summary'!$C$36,I124<='A - Contractor Summary'!$C$42),\"Yes\",\"No\")","v":"No"},{"$f":"VLOOKUP(C124,'C.1 - Rate Sheets'!$H$15:$I$46,2,FALSE)","v":20},null,null,null,null,null,null,null,16,16,16,16,16,16,16,null,null,null,null,null,null,null,null,null,null,null,null,null,null,null,null,null,null,null,null,null,112,2240,2240]
[null,108,"Bucket Truck Up to 55'",null,"Vendor No 2",null,"MIFPUC-2","2018-10-14","2018-10-20",{"$f":"IF(AND(H125>='A - Contractor Summary'!$C$36,I125<='A - Contractor Summary'!$C$42),\"Yes\",\"No\")","v":"No"},{"$f":"VLOOKUP(C125,'C.1 - Rate Sheets'!$H$15:$I$46,2,FALSE)","v":50},null,null,null,null,null,null,null,16,16,16,16,16,16,16,null,null,null,null,null,null,null,null,null,null,null,null,null,null,null,null,null,null,null,null,null,112,5600,5600]
[null,109,"Mechanic Truck",null,"Vendor No 2",null,"MIFPUC-2","2018-10-14","2018-10-20",{"$f":"IF(AND(H126>='A - Contractor Summary'!$C$36,I126<='A - Contractor Summary'!$C$42),\"Yes\",\"No\")","v":"No"},{"$f":"VLOOKUP(C126,'C.1 - Rate Sheets'!$H$15:$I$46,2,FALSE)","v":45},null,null,null,null,null,null,null,16,16,16,16,16,16,16,null,null,null,null,null,null,null,null,null,null,null,null,null,null,null,null,null,null,null,null,null,112,5040,5040]
[null,110,"Bucket Truck Up to 55'",null,"Vendor No 2",null,"MIFPUC-2","2018-10-14","2018-10-20",{"$f":"IF(AND(H127>='A - Contractor Summary'!$C$36,I127<='A - Contractor Summary'!$C$42),\"Yes\",\"No\")","v":"No"},{"$f":"VLOOKUP(C127,'C.1 - Rate Sheets'!$H$15:$I$46,2,FALSE)","v":50},null,null,null,null,null,null,null,16,16,16,16,16,16,16,null,null,null,null,null,null,null,null,null,null,null,null,null,null,null,null,null,null,null,null,null,112,5600,5600]
[null,111,"Digger Derrick Greater Than 50'",null,"Vendor No 2",null,"MIFPUC-2","2018-10-14","2018-10-20",{"$f":"IF(AND(H128>='A - Contractor Summary'!$C$36,I128<='A - Contractor Summary'!$C$42),\"Yes\",\"No\")","v":"No"},{"$f":"VLOOKUP(C128,'C.1 - Rate Sheets'!$H$15:$I$46,2,FALSE)","v":60},null,null,null,null,null,null,null,16,16,16,16,16,16,16,null,null,null,null,null,null,null,null,null,null,null,null,null,null,null,null,null,null,null,null,null,112,6720,6720]
[null,112,"Pick Up Truck",null,"Vendor No 2",null,"MIFPUC-2","2018-10-14","2018-10-20",{"$f":"IF(AND(H129>='A - Contractor Summary'!$C$36,I129<='A - Contractor Summary'!$C$42),\"Yes\",\"No\")","v":"No"},{"$f":"VLOOKUP(C129,'C.1 - Rate Sheets'!$H$15:$I$46,2,FALSE)","v":20},null,null,null,null,null,null,null,16,16,16,16,16,16,16,null,null,null,null,null,null,null,null,null,null,null,null,null,null,null,null,null,null,null,null,null,112,2240,2240]
[null,113,"Pick Up Truck",null,"Vendor No 2",null,"MIFPUC-2","2018-10-14","2018-10-20",{"$f":"IF(AND(H130>='A - Contractor Summary'!$C$36,I130<='A - Contractor Summary'!$C$42),\"Yes\",\"No\")","v":"No"},{"$f":"VLOOKUP(C130,'C.1 - Rate Sheets'!$H$15:$I$46,2,FALSE)","v":20},null,null,null,null,null,null,null,16,16,16,16,16,16,16,null,null,null,null,null,null,null,null,null,null,null,null,null,null,null,null,null,null,null,null,null,112,2240,2240]
[null,114,"Pick Up Truck",null,"Vendor No 2",null,"MIFPUC-2","2018-10-14","2018-10-20",{"$f":"IF(AND(H131>='A - Contractor Summary'!$C$36,I131<='A - Contractor Summary'!$C$42),\"Yes\",\"No\")","v":"No"},{"$f":"VLOOKUP(C131,'C.1 - Rate Sheets'!$H$15:$I$46,2,FALSE)","v":20},null,null,null,null,null,null,null,16,16,16,16,16,16,16,null,null,null,null,null,null,null,null,null,null,null,null,null,null,null,null,null,null,null,null,null,112,2240,2240]
[null,115,"Mechanic Truck",null,"Vendor No 2",null,"MIFPUC-2","2018-10-14","2018-10-20",{"$f":"IF(AND(H132>='A - Contractor Summary'!$C$36,I132<='A - Contractor Summary'!$C$42),\"Yes\",\"No\")","v":"No"},{"$f":"VLOOKUP(C132,'C.1 - Rate Sheets'!$H$15:$I$46,2,FALSE)","v":45},null,null,null,null,null,null,null,16,16,16,16,16,16,16,null,null,null,null,null,null,null,null,null,null,null,null,null,null,null,null,null,null,null,null,null,112,5040,5040]
[null,116,"Pick Up Truck",null,"Vendor No 2",null,"MIFPUC-2","2018-10-14","2018-10-20",{"$f":"IF(AND(H133>='A - Contractor Summary'!$C$36,I133<='A - Contractor Summary'!$C$42),\"Yes\",\"No\")","v":"No"},{"$f":"VLOOKUP(C133,'C.1 - Rate Sheets'!$H$15:$I$46,2,FALSE)","v":20},null,null,null,null,null,null,null,16,16,16,16,16,16,16,null,null,null,null,null,null,null,null,null,null,null,null,null,null,null,null,null,null,null,null,null,112,2240,2240]
[null,117,"Bucket Truck Up to 55'",null,"Vendor No 2",null,"MIFPUC-2","2018-10-14","2018-10-20",{"$f":"IF(AND(H134>='A - Contractor Summary'!$C$36,I134<='A - Contractor Summary'!$C$42),\"Yes\",\"No\")","v":"No"},{"$f":"VLOOKUP(C134,'C.1 - Rate Sheets'!$H$15:$I$46,2,FALSE)","v":50},null,null,null,null,null,null,null,16,16,16,16,16,16,16,null,null,null,null,null,null,null,null,null,null,null,null,null,null,null,null,null,null,null,null,null,112,5600,5600]
[null,118,"Bucket Truck Up to 55'",null,"Vendor No 2",null,"MIFPUC-2","2018-10-14","2018-10-20",{"$f":"IF(AND(H135>='A - Contractor Summary'!$C$36,I135<='A - Contractor Summary'!$C$42),\"Yes\",\"No\")","v":"No"},{"$f":"VLOOKUP(C135,'C.1 - Rate Sheets'!$H$15:$I$46,2,FALSE)","v":50},null,null,null,null,null,null,null,16,16,16,16,16,16,16,null,null,null,null,null,null,null,null,null,null,null,null,null,null,null,null,null,null,null,null,null,112,5600,5600]
[null,119,"Digger Derrick Up to 50'",null,"Vendor No 2",null,"MIFPUC-2","2018-10-14","2018-10-20",{"$f":"IF(AND(H136>='A - Contractor Summary'!$C$36,I136<='A - Contractor Summary'!$C$42),\"Yes\",\"No\")","v":"No"},{"$f":"VLOOKUP(C136,'C.1 - Rate Sheets'!$H$15:$I$46,2,FALSE)","v":50},null,null,null,null,null,null,null,16,16,16,16,16,16,16,null,null,null,null,null,null,null,null,null,null,null,null,null,null,null,null,null,null,null,null,null,112,5600,5600]
[null,120,"Rear Property Machine",null,"Vendor No 2",null,"MIFPUC-2","2018-10-14","2018-10-20",{"$f":"IF(AND(H137>='A - Contractor Summary'!$C$36,I137<='A - Contractor Summary'!$C$42),\"Yes\",\"No\")","v":"No"},{"$f":"VLOOKUP(C137,'C.1 - Rate Sheets'!$H$15:$I$46,2,FALSE)","v":50},null,null,null,null,null,null,null,16,16,16,16,16,16,16,null,null,null,null,null,null,null,null,null,null,null,null,null,null,null,null,null,null,null,null,null,112,5600,5600]
[null,121,"Pick Up Truck",null,"Vendor No 2",null,"MIFPUC-2","2018-10-14","2018-10-20",{"$f":"IF(AND(H138>='A - Contractor Summary'!$C$36,I138<='A - Contractor Summary'!$C$42),\"Yes\",\"No\")","v":"No"},{"$f":"VLOOKUP(C138,'C.1 - Rate Sheets'!$H$15:$I$46,2,FALSE)","v":20},null,null,null,null,null,null,null,16,16,16,16,16,16,16,null,null,null,null,null,null,null,null,null,null,null,null,null,null,null,null,null,null,null,null,null,112,2240,2240]
[null,122,"Bucket Truck Up to 55'",null,"Vendor No 2",null,"MIFPUC-2","2018-10-14","2018-10-20",{"$f":"IF(AND(H139>='A - Contractor Summary'!$C$36,I139<='A - Contractor Summary'!$C$42),\"Yes\",\"No\")","v":"No"},{"$f":"VLOOKUP(C139,'C.1 - Rate Sheets'!$H$15:$I$46,2,FALSE)","v":50},null,null,null,null,null,null,null,16,16,16,16,16,16,16,null,null,null,null,null,null,null,null,null,null,null,null,null,null,null,null,null,null,null,null,null,112,5600,5600]
[null,123,"Bucket Truck Up to 55'",null,"Vendor No 2",null,"MIFPUC-2","2018-10-14","2018-10-20",{"$f":"IF(AND(H140>='A - Contractor Summary'!$C$36,I140<='A - Contractor Summary'!$C$42),\"Yes\",\"No\")","v":"No"},{"$f":"VLOOKUP(C140,'C.1 - Rate Sheets'!$H$15:$I$46,2,FALSE)","v":50},null,null,null,null,null,null,null,16,16,16,16,16,16,16,null,null,null,null,null,null,null,null,null,null,null,null,null,null,null,null,null,null,null,null,null,112,5600,5600]
[null,124,"Digger Derrick Up to 50'",null,"Vendor No 2",null,"MIFPUC-2","2018-10-14","2018-10-20",{"$f":"IF(AND(H141>='A - Contractor Summary'!$C$36,I141<='A - Contractor Summary'!$C$42),\"Yes\",\"No\")","v":"No"},{"$f":"VLOOKUP(C141,'C.1 - Rate Sheets'!$H$15:$I$46,2,FALSE)","v":50},null,null,null,null,null,null,null,16,16,16,16,16,16,16,null,null,null,null,null,null,null,null,null,null,null,null,null,null,null,null,null,null,null,null,null,112,5600,5600]
[null,125,"Pole Trailer",null,"Vendor No 2",null,"MIFPUC-2","2018-10-14","2018-10-20",{"$f":"IF(AND(H142>='A - Contractor Summary'!$C$36,I142<='A - Contractor Summary'!$C$42),\"Yes\",\"No\")","v":"No"},{"$f":"VLOOKUP(C142,'C.1 - Rate Sheets'!$H$15:$I$46,2,FALSE)","v":15},null,null,null,null,null,null,null,16,16,16,16,16,16,16,null,null,null,null,null,null,null,null,null,null,null,null,null,null,null,null,null,null,null,null,null,112,1680,1680]
[null,126,"Pick Up Truck",null,"Vendor No 2",null,"MIFPUC-2","2018-10-14","2018-10-20",{"$f":"IF(AND(H143>='A - Contractor Summary'!$C$36,I143<='A - Contractor Summary'!$C$42),\"Yes\",\"No\")","v":"No"},{"$f":"VLOOKUP(C143,'C.1 - Rate Sheets'!$H$15:$I$46,2,FALSE)","v":20},null,null,null,null,null,null,null,16,16,16,16,16,16,16,null,null,null,null,null,null,null,null,null,null,null,null,null,null,null,null,null,null,null,null,null,112,2240,2240]
[null,127,"Pick Up Truck",null,"Vendor No 2",null,"MIFPUC-2","2018-10-14","2018-10-20",{"$f":"IF(AND(H144>='A - Contractor Summary'!$C$36,I144<='A - Contractor Summary'!$C$42),\"Yes\",\"No\")","v":"No"},{"$f":"VLOOKUP(C144,'C.1 - Rate Sheets'!$H$15:$I$46,2,FALSE)","v":20},null,null,null,null,null,null,null,16,16,16,16,16,16,16,null,null,null,null,null,null,null,null,null,null,null,null,null,null,null,null,null,null,null,null,null,112,2240,2240]
[null,128,"Pick Up Truck",null,"Vendor No 2",null,"MIFPUC-2","2018-10-14","2018-10-20",{"$f":"IF(AND(H145>='A - Contractor Summary'!$C$36,I145<='A - Contractor Summary'!$C$42),\"Yes\",\"No\")","v":"No"},{"$f":"VLOOKUP(C145,'C.1 - Rate Sheets'!$H$15:$I$46,2,FALSE)","v":20},null,null,null,null,null,null,null,16,16,16,16,16,16,16,null,null,null,null,null,null,null,null,null,null,null,null,null,null,null,null,null,null,null,null,null,112,2240,2240]
[null,129,"Pick Up Truck",null,"Vendor No 2",null,"MIFPUC-2","2018-10-14","2018-10-20",{"$f":"IF(AND(H146>='A - Contractor Summary'!$C$36,I146<='A - Contractor Summary'!$C$42),\"Yes\",\"No\")","v":"No"},{"$f":"VLOOKUP(C146,'C.1 - Rate Sheets'!$H$15:$I$46,2,FALSE)","v":20},null,null,null,null,null,null,null,16,16,16,16,16,16,16,null,null,null,null,null,null,null,null,null,null,null,null,null,null,null,null,null,null,null,null,null,112,2240,2240]
[null,130,"Pick Up Truck",null,"Vendor No 2",null,"MIFPUC-2","2018-10-14","2018-10-20",{"$f":"IF(AND(H147>='A - Contractor Summary'!$C$36,I147<='A - Contractor Summary'!$C$42),\"Yes\",\"No\")","v":"No"},{"$f":"VLOOKUP(C147,'C.1 - Rate Sheets'!$H$15:$I$46,2,FALSE)","v":20},null,null,null,null,null,null,null,16,16,16,16,16,16,16,null,null,null,null,null,null,null,null,null,null,null,null,null,null,null,null,null,null,null,null,null,112,2240,2240]
[null,131,"Bucket Truck Up to 55'",null,"Vendor No 2",null,"MIFPUC-2","2018-10-14","2018-10-20",{"$f":"IF(AND(H148>='A - Contractor Summary'!$C$36,I148<='A - Contractor Summary'!$C$42),\"Yes\",\"No\")","v":"No"},{"$f":"VLOOKUP(C148,'C.1 - Rate Sheets'!$H$15:$I$46,2,FALSE)","v":50},null,null,null,null,null,null,null,16,16,16,16,16,16,16,null,null,null,null,null,null,null,null,null,null,null,null,null,null,null,null,null,null,null,null,null,112,5600,5600]
[null,132,"Bucket Truck Up to 55'",null,"Vendor No 2",null,"MIFPUC-2","2018-10-14","2018-10-20",{"$f":"IF(AND(H149>='A - Contractor Summary'!$C$36,I149<='A - Contractor Summary'!$C$42),\"Yes\",\"No\")","v":"No"},{"$f":"VLOOKUP(C149,'C.1 - Rate Sheets'!$H$15:$I$46,2,FALSE)","v":50},null,null,null,null,null,null,null,16,16,16,16,16,16,16,null,null,null,null,null,null,null,null,null,null,null,null,null,null,null,null,null,null,null,null,null,{"$f":"SUM(L149:AT149)","v":112},{"$f":"AU149*K149","v":5600},{"$f":"AV149-AX149","v":5600}]
[null,133,"-",null,"Vendor No 2",null,"MIFPUC-2","2018-10-14","2018-10-20",{"$f":"IF(AND(H150>='A - Contractor Summary'!$C$36,I150<='A - Contractor Summary'!$C$42),\"Yes\",\"No\")","v":"No"},null,null,null,null,null,null,null,null,null,null,null,null,null,null,null,null,null,null,null,null,null,null,null,null,null,null,null,null,null,null,null,null,null,null,null,null,0,0,0]
[null,134,"Mini Excavator",null,"Vendor No 2",null,"MIFPUC-2","2018-10-14","2018-10-20",{"$f":"IF(AND(H151>='A - Contractor Summary'!$C$36,I151<='A - Contractor Summary'!$C$42),\"Yes\",\"No\")","v":"No"},{"$f":"VLOOKUP(C151,'C.1 - Rate Sheets'!$H$15:$I$46,2,FALSE)","v":35},null,null,null,null,null,null,null,16,16,16,16,16,16,16,null,null,null,null,null,null,null,null,null,null,null,null,null,null,null,null,null,null,null,null,null,112,3920,3920]
[null,135,"Pick Up Truck",null,"Vendor No 2",null,"MIFPUC-2","2018-10-14","2018-10-20",{"$f":"IF(AND(H152>='A - Contractor Summary'!$C$36,I152<='A - Contractor Summary'!$C$42),\"Yes\",\"No\")","v":"No"},{"$f":"VLOOKUP(C152,'C.1 - Rate Sheets'!$H$15:$I$46,2,FALSE)","v":20},null,null,null,null,null,null,null,16,16,16,16,16,16,16,null,null,null,null,null,null,null,null,null,null,null,null,null,null,null,null,null,null,null,null,null,112,2240,2240]
[null,136,"Bucket Truck Up to 55'",null,"Vendor No 2",null,"MIFPUC-2","2018-10-14","2018-10-20",{"$f":"IF(AND(H153>='A - Contractor Summary'!$C$36,I153<='A - Contractor Summary'!$C$42),\"Yes\",\"No\")","v":"No"},{"$f":"VLOOKUP(C153,'C.1 - Rate Sheets'!$H$15:$I$46,2,FALSE)","v":50},null,null,null,null,null,null,null,16,16,16,16,16,16,16,null,null,null,null,null,null,null,null,null,null,null,null,null,null,null,null,null,null,null,null,null,112,5600,5600]
[null,137,"Digger Derrick Greater Than 50'",null,"Vendor No 2",null,"MIFPUC-2","2018-10-14","2018-10-20",{"$f":"IF(AND(H154>='A - Contractor Summary'!$C$36,I154<='A - Contractor Summary'!$C$42),\"Yes\",\"No\")","v":"No"},{"$f":"VLOOKUP(C154,'C.1 - Rate Sheets'!$H$15:$I$46,2,FALSE)","v":60},null,null,null,null,null,null,null,16,16,16,16,16,16,16,null,null,null,null,null,null,null,null,null,null,null,null,null,null,null,null,null,null,null,null,null,112,6720,6720]
[null,138,"Rear Property Machine",null,"Vendor No 2",null,"MIFPUC-2","2018-10-14","2018-10-20",{"$f":"IF(AND(H155>='A - Contractor Summary'!$C$36,I155<='A - Contractor Summary'!$C$42),\"Yes\",\"No\")","v":"No"},{"$f":"VLOOKUP(C155,'C.1 - Rate Sheets'!$H$15:$I$46,2,FALSE)","v":50},null,null,null,null,null,null,null,16,16,16,16,16,16,16,null,null,null,null,null,null,null,null,null,null,null,null,null,null,null,null,null,null,null,null,null,112,5600,5600]
[null,139,"Bucket Truck Up to 55'",null,"Vendor No 2",null,"MIFPUC-2","2018-10-14","2018-10-20",{"$f":"IF(AND(H156>='A - Contractor Summary'!$C$36,I156<='A - Contractor Summary'!$C$42),\"Yes\",\"No\")","v":"No"},{"$f":"VLOOKUP(C156,'C.1 - Rate Sheets'!$H$15:$I$46,2,FALSE)","v":50},null,null,null,null,null,null,null,16,16,16,16,16,16,16,null,null,null,null,null,null,null,null,null,null,null,null,null,null,null,null,null,null,null,null,null,112,5600,5600]
[null,140,"Digger Derrick Greater Than 50'",null,"Vendor No 2",null,"MIFPUC-2","2018-10-14","2018-10-20",{"$f":"IF(AND(H157>='A - Contractor Summary'!$C$36,I157<='A - Contractor Summary'!$C$42),\"Yes\",\"No\")","v":"No"},{"$f":"VLOOKUP(C157,'C.1 - Rate Sheets'!$H$15:$I$46,2,FALSE)","v":60},null,null,null,null,null,null,null,16,16,16,16,16,16,16,null,null,null,null,null,null,null,null,null,null,null,null,null,null,null,null,null,null,null,null,null,112,6720,6720]
[null,141,"Bucket Truck Up to 55'",null,"Vendor No 2",null,"MIFPUC-2","2018-10-14","2018-10-20",{"$f":"IF(AND(H158>='A - Contractor Summary'!$C$36,I158<='A - Contractor Summary'!$C$42),\"Yes\",\"No\")","v":"No"},{"$f":"VLOOKUP(C158,'C.1 - Rate Sheets'!$H$15:$I$46,2,FALSE)","v":50},null,null,null,null,null,null,null,16,16,16,16,16,16,16,null,null,null,null,null,null,null,null,null,null,null,null,null,null,null,null,null,null,null,null,null,112,5600,5600]
[null,142,"Bucket Truck Up to 55'",null,"Vendor No 2",null,"MIFPUC-2","2018-10-14","2018-10-20",{"$f":"IF(AND(H159>='A - Contractor Summary'!$C$36,I159<='A - Contractor Summary'!$C$42),\"Yes\",\"No\")","v":"No"},{"$f":"VLOOKUP(C159,'C.1 - Rate Sheets'!$H$15:$I$46,2,FALSE)","v":50},null,null,null,null,null,null,null,16,16,16,16,16,16,16,null,null,null,null,null,null,null,null,null,null,null,null,null,null,null,null,null,null,null,null,null,112,5600,5600]
[null,143,"Pick Up Truck",null,"Vendor No 2",null,"MIFPUC-2","2018-10-14","2018-10-20",{"$f":"IF(AND(H160>='A - Contractor Summary'!$C$36,I160<='A - Contractor Summary'!$C$42),\"Yes\",\"No\")","v":"No"},{"$f":"VLOOKUP(C160,'C.1 - Rate Sheets'!$H$15:$I$46,2,FALSE)","v":20},null,null,null,null,null,null,null,16,16,16,16,16,16,16,null,null,null,null,null,null,null,null,null,null,null,null,null,null,null,null,null,null,null,null,null,112,2240,2240]
[null,144,"-",null,"Vendor No 2",null,"MIFPUC-2","2018-10-14","2018-10-20",{"$f":"IF(AND(H161>='A - Contractor Summary'!$C$36,I161<='A - Contractor Summary'!$C$42),\"Yes\",\"No\")","v":"No"},null,null,null,null,null,null,null,null,null,null,null,null,null,null,null,null,null,null,null,null,null,null,null,null,null,null,null,null,null,null,null,null,null,null,null,null,0,0,0]
[null,145,"Pick Up Truck",null,"Vendor No 2",null,"MIFPUC-2","2018-10-14","2018-10-20",{"$f":"IF(AND(H162>='A - Contractor Summary'!$C$36,I162<='A - Contractor Summary'!$C$42),\"Yes\",\"No\")","v":"No"},{"$f":"VLOOKUP(C162,'C.1 - Rate Sheets'!$H$15:$I$46,2,FALSE)","v":20},null,null,null,null,null,null,null,16,16,16,16,16,16,16,null,null,null,null,null,null,null,null,null,null,null,null,null,null,null,null,null,null,null,null,null,112,2240,2240]
[null,146,"Digger Derrick Up to 50'",null,"Vendor No 2",null,"MIFPUC-2","2018-10-14","2018-10-20",{"$f":"IF(AND(H163>='A - Contractor Summary'!$C$36,I163<='A - Contractor Summary'!$C$42),\"Yes\",\"No\")","v":"No"},{"$f":"VLOOKUP(C163,'C.1 - Rate Sheets'!$H$15:$I$46,2,FALSE)","v":50},null,null,null,null,null,null,null,16,16,16,16,16,16,16,null,null,null,null,null,null,null,null,null,null,null,null,null,null,null,null,null,null,null,null,null,112,5600,5600]
[null,147,"Bucket Truck Up to 55'",null,"Vendor No 2",null,"MIFPUC-2","2018-10-14","2018-10-20",{"$f":"IF(AND(H164>='A - Contractor Summary'!$C$36,I164<='A - Contractor Summary'!$C$42),\"Yes\",\"No\")","v":"No"},{"$f":"VLOOKUP(C164,'C.1 - Rate Sheets'!$H$15:$I$46,2,FALSE)","v":50},null,null,null,null,null,null,null,16,16,16,16,16,16,16,null,null,null,null,null,null,null,null,null,null,null,null,null,null,null,null,null,null,null,null,null,112,5600,5600]
[null,148,"Bucket Truck Up to 55'",null,"Vendor No 2",null,"MIFPUC-2","2018-10-14","2018-10-20",{"$f":"IF(AND(H165>='A - Contractor Summary'!$C$36,I165<='A - Contractor Summary'!$C$42),\"Yes\",\"No\")","v":"No"},{"$f":"VLOOKUP(C165,'C.1 - Rate Sheets'!$H$15:$I$46,2,FALSE)","v":50},null,null,null,null,null,null,null,16,16,16,16,16,16,16,null,null,null,null,null,null,null,null,null,null,null,null,null,null,null,null,null,null,null,null,null,112,5600,5600]
[null,149,"Bucket Truck Up to 55'",null,"Vendor No 2",null,"MIFPUC-2","2018-10-14","2018-10-20",{"$f":"IF(AND(H166>='A - Contractor Summary'!$C$36,I166<='A - Contractor Summary'!$C$42),\"Yes\",\"No\")","v":"No"},{"$f":"VLOOKUP(C166,'C.1 - Rate Sheets'!$H$15:$I$46,2,FALSE)","v":50},null,null,null,null,null,null,null,16,16,16,16,16,16,16,null,null,null,null,null,null,null,null,null,null,null,null,null,null,null,null,null,null,null,null,null,112,5600,5600]
[null,150,"Pick Up Truck",null,"Vendor No 2",null,"MIFPUC-2","2018-10-14","2018-10-20",{"$f":"IF(AND(H167>='A - Contractor Summary'!$C$36,I167<='A - Contractor Summary'!$C$42),\"Yes\",\"No\")","v":"No"},{"$f":"VLOOKUP(C167,'C.1 - Rate Sheets'!$H$15:$I$46,2,FALSE)","v":20},null,null,null,null,null,null,null,16,16,16,16,16,16,16,null,null,null,null,null,null,null,null,null,null,null,null,null,null,null,null,null,null,null,null,null,112,2240,2240]
[null,151,"Mechanic Truck",null,"Vendor No 2",null,"MIFPUC-2","2018-10-14","2018-10-20",{"$f":"IF(AND(H168>='A - Contractor Summary'!$C$36,I168<='A - Contractor Summary'!$C$42),\"Yes\",\"No\")","v":"No"},{"$f":"VLOOKUP(C168,'C.1 - Rate Sheets'!$H$15:$I$46,2,FALSE)","v":45},null,null,null,null,null,null,null,16,16,16,16,16,16,16,null,null,null,null,null,null,null,null,null,null,null,null,null,null,null,null,null,null,null,null,null,112,5040,5040]
[null,152,"Mini Excavator",null,"Vendor No 2",null,"MIFPUC-2","2018-10-14","2018-10-20",{"$f":"IF(AND(H169>='A - Contractor Summary'!$C$36,I169<='A - Contractor Summary'!$C$42),\"Yes\",\"No\")","v":"No"},{"$f":"VLOOKUP(C169,'C.1 - Rate Sheets'!$H$15:$I$46,2,FALSE)","v":35},null,null,null,null,null,null,null,16,16,16,16,16,16,16,null,null,null,null,null,null,null,null,null,null,null,null,null,null,null,null,null,null,null,null,null,112,3920,3920]
[null,153,"Mechanic Truck",null,"Vendor No 2",null,"MIFPUC-2","2018-10-14","2018-10-20",{"$f":"IF(AND(H170>='A - Contractor Summary'!$C$36,I170<='A - Contractor Summary'!$C$42),\"Yes\",\"No\")","v":"No"},{"$f":"VLOOKUP(C170,'C.1 - Rate Sheets'!$H$15:$I$46,2,FALSE)","v":45},null,null,null,null,null,null,null,16,16,16,16,16,16,16,null,null,null,null,null,null,null,null,null,null,null,null,null,null,null,null,null,null,null,null,null,112,5040,5040]
[null,154,"Mechanic Truck",null,"Vendor No 2",null,"MIFPUC-2","2018-10-14","2018-10-20",{"$f":"IF(AND(H171>='A - Contractor Summary'!$C$36,I171<='A - Contractor Summary'!$C$42),\"Yes\",\"No\")","v":"No"},{"$f":"VLOOKUP(C171,'C.1 - Rate Sheets'!$H$15:$I$46,2,FALSE)","v":45},null,null,null,null,null,null,null,16,16,16,16,16,16,16,null,null,null,null,null,null,null,null,null,null,null,null,null,null,null,null,null,null,null,null,null,112,5040,5040]
[null,155,"Tractor( Semi)",null,"Vendor No 2",null,"MIFPUC-2","2018-10-14","2018-10-20",{"$f":"IF(AND(H172>='A - Contractor Summary'!$C$36,I172<='A - Contractor Summary'!$C$42),\"Yes\",\"No\")","v":"No"},{"$f":"VLOOKUP(C172,'C.1 - Rate Sheets'!$H$15:$I$46,2,FALSE)","v":45},null,null,null,null,null,null,null,null,null,null,16,16,16,16,null,null,null,null,null,null,null,null,null,null,null,null,null,null,null,null,null,null,null,null,null,64,2880,2880]
[null,156,"Mechanic Truck",null,"Vendor No 2",null,"MIFPUC-2","2018-10-14","2018-10-20",{"$f":"IF(AND(H173>='A - Contractor Summary'!$C$36,I173<='A - Contractor Summary'!$C$42),\"Yes\",\"No\")","v":"No"},{"$f":"VLOOKUP(C173,'C.1 - Rate Sheets'!$H$15:$I$46,2,FALSE)","v":45},null,null,null,null,null,null,null,16,16,16,16,16,16,16,null,null,null,null,null,null,null,null,null,null,null,null,null,null,null,null,null,null,null,null,null,112,5040,5040]
[null,157,"Tractor( Semi)",null,"Vendor No 2",null,"MIFPUC-2","2018-10-14","2018-10-20",{"$f":"IF(AND(H174>='A - Contractor Summary'!$C$36,I174<='A - Contractor Summary'!$C$42),\"Yes\",\"No\")","v":"No"},{"$f":"VLOOKUP(C174,'C.1 - Rate Sheets'!$H$15:$I$46,2,FALSE)","v":45},null,null,null,null,null,null,null,null,null,null,16,16,16,16,null,null,null,null,null,null,null,null,null,null,null,null,null,null,null,null,null,null,null,null,null,64,2880,2880]
[null,158,"Mechanic Truck",null,"Vendor No 2",null,"MIFPUC-2","2018-10-14","2018-10-20",{"$f":"IF(AND(H175>='A - Contractor Summary'!$C$36,I175<='A - Contractor Summary'!$C$42),\"Yes\",\"No\")","v":"No"},{"$f":"VLOOKUP(C175,'C.1 - Rate Sheets'!$H$15:$I$46,2,FALSE)","v":45},null,null,null,null,null,null,null,16,16,16,16,16,16,16,null,null,null,null,null,null,null,null,null,null,null,null,null,null,null,null,null,null,null,null,null,112,5040,5040]
[null,159,"Low Boy",null,"Vendor No 2",null,"MIFPUC-2","2018-10-14","2018-10-20",{"$f":"IF(AND(H176>='A - Contractor Summary'!$C$36,I176<='A - Contractor Summary'!$C$42),\"Yes\",\"No\")","v":"No"},{"$f":"VLOOKUP(C176,'C.1 - Rate Sheets'!$H$15:$I$46,2,FALSE)","v":38},null,null,null,null,null,null,null,null,null,null,16,16,16,16,null,null,null,null,null,null,null,null,null,null,null,null,null,null,null,null,null,null,null,null,null,64,2432,2432]
[null,160,"Low Boy",null,"Vendor No 2",null,"MIFPUC-2","2018-10-14","2018-10-20",{"$f":"IF(AND(H177>='A - Contractor Summary'!$C$36,I177<='A - Contractor Summary'!$C$42),\"Yes\",\"No\")","v":"No"},{"$f":"VLOOKUP(C177,'C.1 - Rate Sheets'!$H$15:$I$46,2,FALSE)","v":38},null,null,null,null,null,null,null,null,null,null,16,16,16,16,null,null,null,null,null,null,null,null,null,null,null,null,null,null,null,null,null,null,null,null,null,64,2432,2432]
[null,161,"Digger Derrick Greater Than 50'",null,"Vendor No 2",null,"MIFPUC-2","2018-10-14","2018-10-20",{"$f":"IF(AND(H178>='A - Contractor Summary'!$C$36,I178<='A - Contractor Summary'!$C$42),\"Yes\",\"No\")","v":"No"},{"$f":"VLOOKUP(C178,'C.1 - Rate Sheets'!$H$15:$I$46,2,FALSE)","v":60},null,null,null,null,null,null,null,16,16,16,16,16,16,16,null,null,null,null,null,null,null,null,null,null,null,null,null,null,null,null,null,null,null,null,null,112,6720,6720]
[null,162,"Bucket Truck Tracked",null,"Vendor No 2",null,"MIFPUC-2","2018-10-14","2018-10-20",{"$f":"IF(AND(H179>='A - Contractor Summary'!$C$36,I179<='A - Contractor Summary'!$C$42),\"Yes\",\"No\")","v":"No"},{"$f":"VLOOKUP(C179,'C.1 - Rate Sheets'!$H$15:$I$46,2,FALSE)","v":70},null,null,null,null,null,null,null,null,16,16,16,16,16,16,null,null,null,null,null,null,null,null,null,null,null,null,null,null,null,null,null,null,null,null,null,96,6720,6720]
[null,163,"Digger Tracked",null,"Vendor No 2",null,"MIFPUC-2","2018-10-14","2018-10-20",{"$f":"IF(AND(H180>='A - Contractor Summary'!$C$36,I180<='A - Contractor Summary'!$C$42),\"Yes\",\"No\")","v":"No"},{"$f":"VLOOKUP(C180,'C.1 - Rate Sheets'!$H$15:$I$46,2,FALSE)","v":70},null,null,null,null,null,null,null,null,16,16,16,16,16,16,null,null,null,null,null,null,null,null,null,null,null,null,null,null,null,null,null,null,null,null,null,96,6720,6720]
[null,164,"Rope Rig (puller)",null,"Vendor No 2",null,"MIFPUC-2","2018-10-14","2018-10-20",{"$f":"IF(AND(H181>='A - Contractor Summary'!$C$36,I181<='A - Contractor Summary'!$C$42),\"Yes\",\"No\")","v":"No"},{"$f":"VLOOKUP(C181,'C.1 - Rate Sheets'!$H$15:$I$46,2,FALSE)","v":55},null,null,null,null,null,null,null,null,null,null,null,null,null,16,null,null,null,null,null,null,null,null,null,null,null,null,null,null,null,null,null,null,null,null,null,16,880,880]
[null,165,"Bucket Truck over 65'",null,"Vendor No 2",null,"MIFPUC-2","2018-10-14","2018-10-20",{"$f":"IF(AND(H182>='A - Contractor Summary'!$C$36,I182<='A - Contractor Summary'!$C$42),\"Yes\",\"No\")","v":"No"},{"$f":"VLOOKUP(C182,'C.1 - Rate Sheets'!$H$15:$I$46,2,FALSE)","v":65},null,null,null,null,null,null,null,null,null,16,16,16,16,16,null,null,null,null,null,null,null,null,null,null,null,null,null,null,null,null,null,null,null,null,null,80,5200,5200]
[null,166,"Bucket Truck Up to 55'",null,"Vendor No 2",null,"MIFPUC-2","2018-10-14","2018-10-20",{"$f":"IF(AND(H183>='A - Contractor Summary'!$C$36,I183<='A - Contractor Summary'!$C$42),\"Yes\",\"No\")","v":"No"},{"$f":"VLOOKUP(C183,'C.1 - Rate Sheets'!$H$15:$I$46,2,FALSE)","v":50},null,null,null,null,null,null,null,null,null,16,16,16,16,16,null,null,null,null,null,null,null,null,null,null,null,null,null,null,null,null,null,null,null,null,null,80,4000,4000]
[null,167,"Digger Derrick Up to 50'",null,"Vendor No 2",null,"MIFPUC-2","2018-10-14","2018-10-20",{"$f":"IF(AND(H184>='A - Contractor Summary'!$C$36,I184<='A - Contractor Summary'!$C$42),\"Yes\",\"No\")","v":"No"},{"$f":"VLOOKUP(C184,'C.1 - Rate Sheets'!$H$15:$I$46,2,FALSE)","v":50},null,null,null,null,null,null,null,null,null,null,null,null,null,null,null,null,null,null,null,null,null,null,null,null,null,null,null,null,null,null,null,null,null,null,null,0,0,0]
[null,168,"Rope Rig (puller)",null,"Vendor No 2",null,"MIFPUC-2","2018-10-14","2018-10-20",{"$f":"IF(AND(H185>='A - Contractor Summary'!$C$36,I185<='A - Contractor Summary'!$C$42),\"Yes\",\"No\")","v":"No"},{"$f":"VLOOKUP(C185,'C.1 - Rate Sheets'!$H$15:$I$46,2,FALSE)","v":55},null,null,null,null,null,null,null,null,null,null,16,16,16,16,null,null,null,null,null,null,null,null,null,null,null,null,null,null,null,null,null,null,null,null,null,64,3520,3520]
[null,169,"Rope Rig (puller)",null,"Vendor No 2",null,"MIFPUC-2","2018-10-14","2018-10-20",{"$f":"IF(AND(H186>='A - Contractor Summary'!$C$36,I186<='A - Contractor Summary'!$C$42),\"Yes\",\"No\")","v":"No"},{"$f":"VLOOKUP(C186,'C.1 - Rate Sheets'!$H$15:$I$46,2,FALSE)","v":55},null,null,null,null,null,null,null,null,null,null,16,16,16,16,null,null,null,null,null,null,null,null,null,null,null,null,null,null,null,null,null,null,null,null,null,64,3520,3520]
[null,170,"45 Ton Crane",null,"Vendor No 2",null,"MIFPUC-2","2018-10-14","2018-10-20",{"$f":"IF(AND(H187>='A - Contractor Summary'!$C$36,I187<='A - Contractor Summary'!$C$42),\"Yes\",\"No\")","v":"No"},{"$f":"VLOOKUP(C187,'C.1 - Rate Sheets'!$H$15:$I$46,2,FALSE)","v":145},null,null,null,null,null,null,null,null,null,null,16,16,16,16,null,null,null,null,null,null,null,null,null,null,null,null,null,null,null,null,null,null,null,null,null,64,9280,9280]
[null,171,"Mechanic Truck",null,"Vendor No 2",null,"MIFPUC-2","2018-10-14","2018-10-20",{"$f":"IF(AND(H188>='A - Contractor Summary'!$C$36,I188<='A - Contractor Summary'!$C$42),\"Yes\",\"No\")","v":"No"},{"$f":"VLOOKUP(C188,'C.1 - Rate Sheets'!$H$15:$I$46,2,FALSE)","v":45},null,null,null,null,null,null,null,null,null,null,16,16,16,16,null,null,null,null,null,null,null,null,null,null,null,null,null,null,null,null,null,null,null,null,null,64,2880,2880]
[null,172,"Pick Up Truck",null,"Vendor No 2",null,"MIFPUC-2","2018-10-14","2018-10-20",{"$f":"IF(AND(H189>='A - Contractor Summary'!$C$36,I189<='A - Contractor Summary'!$C$42),\"Yes\",\"No\")","v":"No"},{"$f":"VLOOKUP(C189,'C.1 - Rate Sheets'!$H$15:$I$46,2,FALSE)","v":20},null,null,null,null,null,null,null,null,null,null,16,16,16,16,null,null,null,null,null,null,null,null,null,null,null,null,null,null,null,null,null,null,null,null,null,64,1280,1280]
[null,173,"Bucket Truck Up to 55'",null,"Vendor No 2",null,"MIFPUC-2","2018-10-14","2018-10-20",{"$f":"IF(AND(H190>='A - Contractor Summary'!$C$36,I190<='A - Contractor Summary'!$C$42),\"Yes\",\"No\")","v":"No"},{"$f":"VLOOKUP(C190,'C.1 - Rate Sheets'!$H$15:$I$46,2,FALSE)","v":50},null,null,null,null,null,null,null,null,null,null,16,16,16,16,null,null,null,null,null,null,null,null,null,null,null,null,null,null,null,null,null,null,null,null,null,64,3200,3200]
[null,174,"Bucket Truck Up to 55'",null,"Vendor No 2",null,"MIFPUC-2","2018-10-14","2018-10-20",{"$f":"IF(AND(H191>='A - Contractor Summary'!$C$36,I191<='A - Contractor Summary'!$C$42),\"Yes\",\"No\")","v":"No"},{"$f":"VLOOKUP(C191,'C.1 - Rate Sheets'!$H$15:$I$46,2,FALSE)","v":50},null,null,null,null,null,null,null,null,null,null,16,16,16,16,null,null,null,null,null,null,null,null,null,null,null,null,null,null,null,null,null,null,null,null,null,64,3200,3200]
[null,175,"Digger Derrick Up to 50'",null,"Vendor No 2",null,"MIFPUC-2","2018-10-14","2018-10-20",{"$f":"IF(AND(H192>='A - Contractor Summary'!$C$36,I192<='A - Contractor Summary'!$C$42),\"Yes\",\"No\")","v":"No"},{"$f":"VLOOKUP(C192,'C.1 - Rate Sheets'!$H$15:$I$46,2,FALSE)","v":50},null,null,null,null,null,null,null,null,null,16,16,16,16,16,null,null,null,null,null,null,null,null,null,null,null,null,null,null,null,null,null,null,null,null,null,80,4000,4000]
[null,176,"Rear Property Machine",null,"Vendor No 2",null,"MIFPUC-2","2018-10-14","2018-10-20",{"$f":"IF(AND(H193>='A - Contractor Summary'!$C$36,I193<='A - Contractor Summary'!$C$42),\"Yes\",\"No\")","v":"No"},{"$f":"VLOOKUP(C193,'C.1 - Rate Sheets'!$H$15:$I$46,2,FALSE)","v":50},null,null,null,null,null,null,null,null,null,null,16,16,16,16,null,null,null,null,null,null,null,null,null,null,null,null,null,null,null,null,null,null,null,null,null,64,3200,3200]
[null,177,"Bucket Truck Up to 55'",null,"Vendor No 2",null,"MIFPUC-2","2018-10-14","2018-10-20",{"$f":"IF(AND(H194>='A - Contractor Summary'!$C$36,I194<='A - Contractor Summary'!$C$42),\"Yes\",\"No\")","v":"No"},{"$f":"VLOOKUP(C194,'C.1 - Rate Sheets'!$H$15:$I$46,2,FALSE)","v":50},null,null,null,null,null,null,null,null,null,null,16,16,16,16,null,null,null,null,null,null,null,null,null,null,null,null,null,null,null,null,null,null,null,null,null,64,3200,3200]
[null,178,"Bucket Truck Up to 55'",null,"Vendor No 2",null,"MIFPUC-2","2018-10-14","2018-10-20",{"$f":"IF(AND(H195>='A - Contractor Summary'!$C$36,I195<='A - Contractor Summary'!$C$42),\"Yes\",\"No\")","v":"No"},{"$f":"VLOOKUP(C195,'C.1 - Rate Sheets'!$H$15:$I$46,2,FALSE)","v":50},null,null,null,null,null,null,null,null,null,null,16,16,16,16,null,null,null,null,null,null,null,null,null,null,null,null,null,null,null,null,null,null,null,null,null,64,3200,3200]
[null,179,"Digger Derrick Up to 50'",null,"Vendor No 2",null,"MIFPUC-2","2018-10-14","2018-10-20",{"$f":"IF(AND(H196>='A - Contractor Summary'!$C$36,I196<='A - Contractor Summary'!$C$42),\"Yes\",\"No\")","v":"No"},{"$f":"VLOOKUP(C196,'C.1 - Rate Sheets'!$H$15:$I$46,2,FALSE)","v":50},null,null,null,null,null,null,null,null,null,16,16,16,16,16,null,null,null,null,null,null,null,null,null,null,null,null,null,null,null,null,null,null,null,null,null,80,4000,4000]
[null,180,"Rear Property Machine",null,"Vendor No 2",null,"MIFPUC-2","2018-10-14","2018-10-20",{"$f":"IF(AND(H197>='A - Contractor Summary'!$C$36,I197<='A - Contractor Summary'!$C$42),\"Yes\",\"No\")","v":"No"},{"$f":"VLOOKUP(C197,'C.1 - Rate Sheets'!$H$15:$I$46,2,FALSE)","v":50},null,null,null,null,null,null,null,null,null,null,16,16,16,16,null,null,null,null,null,null,null,null,null,null,null,null,null,null,null,null,null,null,null,null,null,64,3200,3200]
[null,181,"Bucket Truck Up to 55'",null,"Vendor No 2",null,"MIFPUC-2","2018-10-14","2018-10-20",{"$f":"IF(AND(H198>='A - Contractor Summary'!$C$36,I198<='A - Contractor Summary'!$C$42),\"Yes\",\"No\")","v":"No"},{"$f":"VLOOKUP(C198,'C.1 - Rate Sheets'!$H$15:$I$46,2,FALSE)","v":50},null,null,null,null,null,null,null,null,null,null,16,16,16,16,null,null,null,null,null,null,null,null,null,null,null,null,null,null,null,null,null,null,null,null,null,64,3200,3200]
[null,182,"Bucket Truck Up to 55'",null,"Vendor No 2",null,"MIFPUC-2","2018-10-14","2018-10-20",{"$f":"IF(AND(H199>='A - Contractor Summary'!$C$36,I199<='A - Contractor Summary'!$C$42),\"Yes\",\"No\")","v":"No"},{"$f":"VLOOKUP(C199,'C.1 - Rate Sheets'!$H$15:$I$46,2,FALSE)","v":50},null,null,null,null,null,null,null,null,null,null,16,16,16,16,null,null,null,null,null,null,null,null,null,null,null,null,null,null,null,null,null,null,null,null,null,64,3200,3200]
[null,183,"Digger Derrick Up to 50'",null,"Vendor No 2",null,"MIFPUC-2","2018-10-14","2018-10-20",{"$f":"IF(AND(H200>='A - Contractor Summary'!$C$36,I200<='A - Contractor Summary'!$C$42),\"Yes\",\"No\")","v":"No"},{"$f":"VLOOKUP(C200,'C.1 - Rate Sheets'!$H$15:$I$46,2,FALSE)","v":50},null,null,null,null,null,null,null,null,null,null,16,16,16,16,null,null,null,null,null,null,null,null,null,null,null,null,null,null,null,null,null,null,null,null,null,64,3200,3200]
[null,184,"Rear Property Machine",null,"Vendor No 2",null,"MIFPUC-2","2018-10-14","2018-10-20",{"$f":"IF(AND(H201>='A - Contractor Summary'!$C$36,I201<='A - Contractor Summary'!$C$42),\"Yes\",\"No\")","v":"No"},{"$f":"VLOOKUP(C201,'C.1 - Rate Sheets'!$H$15:$I$46,2,FALSE)","v":50},null,null,null,null,null,null,null,null,null,null,16,16,16,16,null,null,null,null,null,null,null,null,null,null,null,null,null,null,null,null,null,null,null,null,null,64,3200,3200]
[null,185,"Pick Up Truck",null,"Vendor No 2",null,"MIFPUC-2","2018-10-14","2018-10-20",{"$f":"IF(AND(H202>='A - Contractor Summary'!$C$36,I202<='A - Contractor Summary'!$C$42),\"Yes\",\"No\")","v":"No"},{"$f":"VLOOKUP(C202,'C.1 - Rate Sheets'!$H$15:$I$46,2,FALSE)","v":20},null,null,null,null,null,null,null,null,null,null,16,16,16,16,null,null,null,null,null,null,null,null,null,null,null,null,null,null,null,null,null,null,null,null,null,64,1280,1280]
[null,186,"Bucket Truck Up to 55'",null,"Vendor No 2",null,"MIFPUC-2","2018-10-14","2018-10-20",{"$f":"IF(AND(H203>='A - Contractor Summary'!$C$36,I203<='A - Contractor Summary'!$C$42),\"Yes\",\"No\")","v":"No"},{"$f":"VLOOKUP(C203,'C.1 - Rate Sheets'!$H$15:$I$46,2,FALSE)","v":50},null,null,null,null,null,null,null,null,null,null,16,16,16,16,null,null,null,null,null,null,null,null,null,null,null,null,null,null,null,null,null,null,null,null,null,64,3200,3200]
[null,187,"Digger Derrick Up to 50'",null,"Vendor No 2",null,"MIFPUC-2","2018-10-14","2018-10-20",{"$f":"IF(AND(H204>='A - Contractor Summary'!$C$36,I204<='A - Contractor Summary'!$C$42),\"Yes\",\"No\")","v":"No"},{"$f":"VLOOKUP(C204,'C.1 - Rate Sheets'!$H$15:$I$46,2,FALSE)","v":50},null,null,null,null,null,null,null,null,null,null,16,16,16,16,null,null,null,null,null,null,null,null,null,null,null,null,null,null,null,null,null,null,null,null,null,64,3200,3200]
[null,188,"Pick Up Truck",null,"Vendor No 2",null,"MIFPUC-2","2018-10-14","2018-10-20",{"$f":"IF(AND(H205>='A - Contractor Summary'!$C$36,I205<='A - Contractor Summary'!$C$42),\"Yes\",\"No\")","v":"No"},{"$f":"VLOOKUP(C205,'C.1 - Rate Sheets'!$H$15:$I$46,2,FALSE)","v":20},null,null,null,null,null,null,null,null,null,null,16,16,16,16,null,null,null,null,null,null,null,null,null,null,null,null,null,null,null,null,null,null,null,null,null,64,1280,1280]
[null,189,"Bucket Truck Up to 55'",null,"Vendor No 2",null,"MIFPUC-2","2018-10-14","2018-10-20",{"$f":"IF(AND(H206>='A - Contractor Summary'!$C$36,I206<='A - Contractor Summary'!$C$42),\"Yes\",\"No\")","v":"No"},{"$f":"VLOOKUP(C206,'C.1 - Rate Sheets'!$H$15:$I$46,2,FALSE)","v":50},null,null,null,null,null,null,null,null,null,null,16,16,16,16,null,null,null,null,null,null,null,null,null,null,null,null,null,null,null,null,null,null,null,null,null,64,3200,3200]
[null,190,"Digger Derrick Greater Than 50'",null,"Vendor No 2",null,"MIFPUC-2","2018-10-14","2018-10-20",{"$f":"IF(AND(H207>='A - Contractor Summary'!$C$36,I207<='A - Contractor Summary'!$C$42),\"Yes\",\"No\")","v":"No"},{"$f":"VLOOKUP(C207,'C.1 - Rate Sheets'!$H$15:$I$46,2,FALSE)","v":60},null,null,null,null,null,null,null,null,null,null,16,16,16,16,null,null,null,null,null,null,null,null,null,null,null,null,null,null,null,null,null,null,null,null,null,64,3840,3840]
[null,191,"Digger Derrick Up to 50'",null,"Vendor No 2",null,"MIFPUC-2","2018-10-14","2018-10-20",{"$f":"IF(AND(H208>='A - Contractor Summary'!$C$36,I208<='A - Contractor Summary'!$C$42),\"Yes\",\"No\")","v":"No"},{"$f":"VLOOKUP(C208,'C.1 - Rate Sheets'!$H$15:$I$46,2,FALSE)","v":50},null,null,null,null,null,null,null,null,null,null,16,16,16,16,null,null,null,null,null,null,null,null,null,null,null,null,null,null,null,null,null,null,null,null,null,64,3200,3200]
[null,192,"X100 Blocks",null,"Vendor No 2",null,"MIFPUC-2","2018-10-14","2018-10-20",{"$f":"IF(AND(H209>='A - Contractor Summary'!$C$36,I209<='A - Contractor Summary'!$C$42),\"Yes\",\"No\")","v":"No"},{"$f":"VLOOKUP(C209,'C.1 - Rate Sheets'!$H$15:$I$46,2,FALSE)","v":2},null,null,null,null,null,null,null,null,null,null,16,16,16,16,null,null,null,null,null,null,null,null,null,null,null,null,null,null,null,null,null,null,null,null,null,64,128,128]
[null,193,"Wire Cart",null,"Vendor No 2",null,"MIFPUC-2","2018-10-14","2018-10-20",{"$f":"IF(AND(H210>='A - Contractor Summary'!$C$36,I210<='A - Contractor Summary'!$C$42),\"Yes\",\"No\")","v":"No"},{"$f":"VLOOKUP(C210,'C.1 - Rate Sheets'!$H$15:$I$46,2,FALSE)","v":20},null,null,null,null,null,null,null,null,null,null,16,16,16,16,null,null,null,null,null,null,null,null,null,null,null,null,null,null,null,null,null,null,null,null,null,64,1280,1280]
[null,194,"Air Compressor",null,"Vendor No 2",null,"MIFPUC-2","2018-10-14","2018-10-20",{"$f":"IF(AND(H211>='A - Contractor Summary'!$C$36,I211<='A - Contractor Summary'!$C$42),\"Yes\",\"No\")","v":"No"},{"$f":"VLOOKUP(C211,'C.1 - Rate Sheets'!$H$15:$I$46,2,FALSE)","v":15},null,null,null,null,null,null,null,null,null,null,null,null,16,16,null,null,null,null,null,null,null,null,null,null,null,null,null,null,null,null,null,null,null,null,null,32,480,480]
[null,195,"Hydrovac Excavation Truck(Vac Truck)",null,"Vendor No 2",null,"MIFPUC-2","2018-10-14","2018-10-20",{"$f":"IF(AND(H212>='A - Contractor Summary'!$C$36,I212<='A - Contractor Summary'!$C$42),\"Yes\",\"No\")","v":"No"},{"$f":"VLOOKUP(C212,'C.1 - Rate Sheets'!$H$15:$I$46,2,FALSE)","v":165},null,null,null,null,null,null,null,null,null,null,null,null,16,16,null,null,null,null,null,null,null,null,null,null,null,null,null,null,null,null,null,null,null,null,null,32,5280,5280]
[null,196,"Flat Bed Truck",null,"Vendor No 2",null,"MIFPUC-2","2018-10-14","2018-10-20",{"$f":"IF(AND(H213>='A - Contractor Summary'!$C$36,I213<='A - Contractor Summary'!$C$42),\"Yes\",\"No\")","v":"No"},{"$f":"VLOOKUP(C213,'C.1 - Rate Sheets'!$H$15:$I$46,2,FALSE)","v":35},null,null,null,null,null,null,null,null,null,null,null,null,16,16,null,null,null,null,null,null,null,null,null,null,null,null,null,null,null,null,null,null,null,null,null,{"$f":"SUM(L213:AT213)","v":32},{"$f":"AU213*K213","v":1120},{"$f":"AV213-AX213","v":1120}]
[null,197,"Wire Cart",null,"Vendor No 2",null,"MIFPUC-2","2018-10-14","2018-10-20",{"$f":"IF(AND(H214>='A - Contractor Summary'!$C$36,I214<='A - Contractor Summary'!$C$42),\"Yes\",\"No\")","v":"No"},{"$f":"VLOOKUP(C214,'C.1 - Rate Sheets'!$H$15:$I$46,2,FALSE)","v":20},null,null,null,null,null,null,null,null,null,null,null,null,null,16,null,null,null,null,null,null,null,null,null,null,null,null,null,null,null,null,null,null,null,null,null,16,320,320]
[null,198,"Digger Tracked",null,"Vendor No 2",null,"MIFPUC-2","2018-10-14","2018-10-20",{"$f":"IF(AND(H215>='A - Contractor Summary'!$C$36,I215<='A - Contractor Summary'!$C$42),\"Yes\",\"No\")","v":"No"},{"$f":"VLOOKUP(C215,'C.1 - Rate Sheets'!$H$15:$I$46,2,FALSE)","v":70},null,null,null,null,null,null,null,null,null,null,null,null,null,16,null,null,null,null,null,null,null,null,null,null,null,null,null,null,null,null,null,null,null,null,null,16,1120,1120]
[null,199,"Bucket Truck Up to 55'",null,"Vendor No 2",null,"MIFPUC-2","2018-10-14","2018-10-20",{"$f":"IF(AND(H216>='A - Contractor Summary'!$C$36,I216<='A - Contractor Summary'!$C$42),\"Yes\",\"No\")","v":"No"},{"$f":"VLOOKUP(C216,'C.1 - Rate Sheets'!$H$15:$I$46,2,FALSE)","v":50},null,null,null,null,null,null,null,null,null,null,null,null,null,16,null,null,null,null,null,null,null,null,null,null,null,null,null,null,null,null,null,null,null,null,null,16,800,800]
[null,200,"Rope Rig (puller)",null,"Vendor No 2",null,"MIFPUC-2","2018-10-14","2018-10-20",{"$f":"IF(AND(H217>='A - Contractor Summary'!$C$36,I217<='A - Contractor Summary'!$C$42),\"Yes\",\"No\")","v":"No"},{"$f":"VLOOKUP(C217,'C.1 - Rate Sheets'!$H$15:$I$46,2,FALSE)","v":55},null,null,null,null,null,null,null,null,null,null,null,null,null,16,null,null,null,null,null,null,null,null,null,null,null,null,null,null,null,null,null,null,null,null,null,16,880,880]
[null,201,"Excavator Rental",null,"Vendor No 2",null,"MIFPUC-2","2018-10-14","2018-10-20",{"$f":"IF(AND(H218>='A - Contractor Summary'!$C$36,I218<='A - Contractor Summary'!$C$42),\"Yes\",\"No\")","v":"No"},{"$f":"VLOOKUP(C218,'C.1 - Rate Sheets'!$H$15:$I$46,2,FALSE)","v":2253.84},null,null,null,null,null,null,null,null,null,null,null,null,null,null,null,null,null,null,null,null,null,null,null,null,null,null,null,null,null,null,null,null,null,null,null,0,0,0]
[null,202,null,null,"Vendor No 2",null,null,null,null,{"$f":"IF(AND(H219>='A - Contractor Summary'!$C$36,I219<='A - Contractor Summary'!$C$42),\"Yes\",\"No\")","v":"No"}]
[null,203,"Pick Up Truck",null,"Vendor No 2",null,"MIFPUC-3","2018-10-21","2018-10-27",{"$f":"IF(AND(H220>='A - Contractor Summary'!$C$36,I220<='A - Contractor Summary'!$C$42),\"Yes\",\"No\")","v":"No"},{"$f":"VLOOKUP(C220,'C.1 - Rate Sheets'!$H$15:$I$46,2,FALSE)","v":20},null,null,null,null,null,null,null,null,null,null,null,null,null,null,16,16,16,16,16,16,16,null,null,null,null,null,null,null,null,null,null,null,null,null,null,112,2240,2240]
[null,204,"Bucket Truck Up to 55'",null,"Vendor No 2",null,"MIFPUC-3","2018-10-21","2018-10-27",{"$f":"IF(AND(H221>='A - Contractor Summary'!$C$36,I221<='A - Contractor Summary'!$C$42),\"Yes\",\"No\")","v":"No"},{"$f":"VLOOKUP(C221,'C.1 - Rate Sheets'!$H$15:$I$46,2,FALSE)","v":50},null,null,null,null,null,null,null,null,null,null,null,null,null,null,16,16,16,16,16,16,16,null,null,null,null,null,null,null,null,null,null,null,null,null,null,112,5600,5600]
[null,205,"Digger Derrick Greater Than 50'",null,"Vendor No 2",null,"MIFPUC-3","2018-10-21","2018-10-27",{"$f":"IF(AND(H222>='A - Contractor Summary'!$C$36,I222<='A - Contractor Summary'!$C$42),\"Yes\",\"No\")","v":"No"},{"$f":"VLOOKUP(C222,'C.1 - Rate Sheets'!$H$15:$I$46,2,FALSE)","v":60},null,null,null,null,null,null,null,null,null,null,null,null,null,null,16,16,16,16,16,16,16,null,null,null,null,null,null,null,null,null,null,null,null,null,null,112,6720,6720]
[null,206,"Mechanic Truck",null,"Vendor No 2",null,"MIFPUC-3","2018-10-21","2018-10-27",{"$f":"IF(AND(H223>='A - Contractor Summary'!$C$36,I223<='A - Contractor Summary'!$C$42),\"Yes\",\"No\")","v":"No"},{"$f":"VLOOKUP(C223,'C.1 - Rate Sheets'!$H$15:$I$46,2,FALSE)","v":45},null,null,null,null,null,null,null,null,null,null,null,null,null,null,16,16,16,16,16,16,16,null,null,null,null,null,null,null,null,null,null,null,null,null,null,112,5040,5040]
[null,207,"-",null,"Vendor No 2",null,"MIFPUC-3","2018-10-21","2018-10-27",{"$f":"IF(AND(H224>='A - Contractor Summary'!$C$36,I224<='A - Contractor Summary'!$C$42),\"Yes\",\"No\")","v":"No"},null,null,null,null,null,null,null,null,null,null,null,null,null,null,null,null,null,null,null,null,null,null,null,null,null,null,null,null,null,null,null,null,null,null,null,null,0,0,0]
[null,208,"Pick Up Truck",null,"Vendor No 2",null,"MIFPUC-3","2018-10-21","2018-10-27",{"$f":"IF(AND(H225>='A - Contractor Summary'!$C$36,I225<='A - Contractor Summary'!$C$42),\"Yes\",\"No\")","v":"No"},{"$f":"VLOOKUP(C225,'C.1 - Rate Sheets'!$H$15:$I$46,2,FALSE)","v":20},null,null,null,null,null,null,null,null,null,null,null,null,null,null,16,16,16,16,16,16,16,null,null,null,null,null,null,null,null,null,null,null,null,null,null,112,2240,2240]
[null,209,"Bucket Truck Up to 55'",null,"Vendor No 2",null,"MIFPUC-3","2018-10-21","2018-10-27",{"$f":"IF(AND(H226>='A - Contractor Summary'!$C$36,I226<='A - Contractor Summary'!$C$42),\"Yes\",\"No\")","v":"No"},{"$f":"VLOOKUP(C226,'C.1 - Rate Sheets'!$H$15:$I$46,2,FALSE)","v":50},null,null,null,null,null,null,null,null,null,null,null,null,null,null,16,16,16,16,16,16,16,null,null,null,null,null,null,null,null,null,null,null,null,null,null,112,5600,5600]
[null,210,"Mechanic Truck",null,"Vendor No 2",null,"MIFPUC-3","2018-10-21","2018-10-27",{"$f":"IF(AND(H227>='A - Contractor Summary'!$C$36,I227<='A - Contractor Summary'!$C$42),\"Yes\",\"No\")","v":"No"},{"$f":"VLOOKUP(C227,'C.1 - Rate Sheets'!$H$15:$I$46,2,FALSE)","v":45},null,null,null,null,null,null,null,null,null,null,null,null,null,null,16,16,16,16,16,16,16,null,null,null,null,null,null,null,null,null,null,null,null,null,null,112,5040,5040]
[null,211,"Bucket Truck Up to 55'",null,"Vendor No 2",null,"MIFPUC-3","2018-10-21","2018-10-27",{"$f":"IF(AND(H228>='A - Contractor Summary'!$C$36,I228<='A - Contractor Summary'!$C$42),\"Yes\",\"No\")","v":"No"},{"$f":"VLOOKUP(C228,'C.1 - Rate Sheets'!$H$15:$I$46,2,FALSE)","v":50},null,null,null,null,null,null,null,null,null,null,null,null,null,null,16,16,16,16,16,16,16,null,null,null,null,null,null,null,null,null,null,null,null,null,null,112,5600,5600]
[null,212,"Digger Derrick Greater Than 50'",null,"Vendor No 2",null,"MIFPUC-3","2018-10-21","2018-10-27",{"$f":"IF(AND(H229>='A - Contractor Summary'!$C$36,I229<='A - Contractor Summary'!$C$42),\"Yes\",\"No\")","v":"No"},{"$f":"VLOOKUP(C229,'C.1 - Rate Sheets'!$H$15:$I$46,2,FALSE)","v":60},null,null,null,null,null,null,null,null,null,null,null,null,null,null,16,16,16,16,16,16,16,null,null,null,null,null,null,null,null,null,null,null,null,null,null,112,6720,6720]
[null,213,"Pick Up Truck",null,"Vendor No 2",null,"MIFPUC-3","2018-10-21","2018-10-27",{"$f":"IF(AND(H230>='A - Contractor Summary'!$C$36,I230<='A - Contractor Summary'!$C$42),\"Yes\",\"No\")","v":"No"},{"$f":"VLOOKUP(C230,'C.1 - Rate Sheets'!$H$15:$I$46,2,FALSE)","v":20},null,null,null,null,null,null,null,null,null,null,null,null,null,null,16,16,16,16,16,16,16,null,null,null,null,null,null,null,null,null,null,null,null,null,null,112,2240,2240]
[null,214,"Pick Up Truck",null,"Vendor No 2",null,"MIFPUC-3","2018-10-21","2018-10-27",{"$f":"IF(AND(H231>='A - Contractor Summary'!$C$36,I231<='A - Contractor Summary'!$C$42),\"Yes\",\"No\")","v":"No"},{"$f":"VLOOKUP(C231,'C.1 - Rate Sheets'!$H$15:$I$46,2,FALSE)","v":20},null,null,null,null,null,null,null,null,null,null,null,null,null,null,16,16,16,16,16,16,16,null,null,null,null,null,null,null,null,null,null,null,null,null,null,112,2240,2240]
[null,215,"Pick Up Truck",null,"Vendor No 2",null,"MIFPUC-3","2018-10-21","2018-10-27",{"$f":"IF(AND(H232>='A - Contractor Summary'!$C$36,I232<='A - Contractor Summary'!$C$42),\"Yes\",\"No\")","v":"No"},{"$f":"VLOOKUP(C232,'C.1 - Rate Sheets'!$H$15:$I$46,2,FALSE)","v":20},null,null,null,null,null,null,null,null,null,null,null,null,null,null,16,16,16,16,16,16,16,null,null,null,null,null,null,null,null,null,null,null,null,null,null,112,2240,2240]
[null,216,"Mechanic Truck",null,"Vendor No 2",null,"MIFPUC-3","2018-10-21","2018-10-27",{"$f":"IF(AND(H233>='A - Contractor Summary'!$C$36,I233<='A - Contractor Summary'!$C$42),\"Yes\",\"No\")","v":"No"},{"$f":"VLOOKUP(C233,'C.1 - Rate Sheets'!$H$15:$I$46,2,FALSE)","v":45},null,null,null,null,null,null,null,null,null,null,null,null,null,null,16,16,16,16,16,16,16,null,null,null,null,null,null,null,null,null,null,null,null,null,null,112,5040,5040]
[null,217,"Pick Up Truck",null,"Vendor No 2",null,"MIFPUC-3","2018-10-21","2018-10-27",{"$f":"IF(AND(H234>='A - Contractor Summary'!$C$36,I234<='A - Contractor Summary'!$C$42),\"Yes\",\"No\")","v":"No"},{"$f":"VLOOKUP(C234,'C.1 - Rate Sheets'!$H$15:$I$46,2,FALSE)","v":20},null,null,null,null,null,null,null,null,null,null,null,null,null,null,16,16,16,16,16,16,16,null,null,null,null,null,null,null,null,null,null,null,null,null,null,112,2240,2240]
[null,218,"Bucket Truck Up to 55'",null,"Vendor No 2",null,"MIFPUC-3","2018-10-21","2018-10-27",{"$f":"IF(AND(H235>='A - Contractor Summary'!$C$36,I235<='A - Contractor Summary'!$C$42),\"Yes\",\"No\")","v":"No"},{"$f":"VLOOKUP(C235,'C.1 - Rate Sheets'!$H$15:$I$46,2,FALSE)","v":50},null,null,null,null,null,null,null,null,null,null,null,null,null,null,16,16,16,16,16,16,16,null,null,null,null,null,null,null,null,null,null,null,null,null,null,112,5600,5600]
[null,219,"Bucket Truck Up to 55'",null,"Vendor No 2",null,"MIFPUC-3","2018-10-21","2018-10-27",{"$f":"IF(AND(H236>='A - Contractor Summary'!$C$36,I236<='A - Contractor Summary'!$C$42),\"Yes\",\"No\")","v":"No"},{"$f":"VLOOKUP(C236,'C.1 - Rate Sheets'!$H$15:$I$46,2,FALSE)","v":50},null,null,null,null,null,null,null,null,null,null,null,null,null,null,16,16,16,16,16,16,16,null,null,null,null,null,null,null,null,null,null,null,null,null,null,112,5600,5600]
[null,220,"Digger Derrick Up to 50'",null,"Vendor No 2",null,"MIFPUC-3","2018-10-21","2018-10-27",{"$f":"IF(AND(H237>='A - Contractor Summary'!$C$36,I237<='A - Contractor Summary'!$C$42),\"Yes\",\"No\")","v":"No"},{"$f":"VLOOKUP(C237,'C.1 - Rate Sheets'!$H$15:$I$46,2,FALSE)","v":50},null,null,null,null,null,null,null,null,null,null,null,null,null,null,16,16,16,16,16,16,16,null,null,null,null,null,null,null,null,null,null,null,null,null,null,112,5600,5600]
[null,221,"Rear Property Machine",null,"Vendor No 2",null,"MIFPUC-3","2018-10-21","2018-10-27",{"$f":"IF(AND(H238>='A - Contractor Summary'!$C$36,I238<='A - Contractor Summary'!$C$42),\"Yes\",\"No\")","v":"No"},{"$f":"VLOOKUP(C238,'C.1 - Rate Sheets'!$H$15:$I$46,2,FALSE)","v":50},null,null,null,null,null,null,null,null,null,null,null,null,null,null,16,16,16,16,16,16,16,null,null,null,null,null,null,null,null,null,null,null,null,null,null,112,5600,5600]
[null,222,"Pick Up Truck",null,"Vendor No 2",null,"MIFPUC-3","2018-10-21","2018-10-27",{"$f":"IF(AND(H239>='A - Contractor Summary'!$C$36,I239<='A - Contractor Summary'!$C$42),\"Yes\",\"No\")","v":"No"},{"$f":"VLOOKUP(C239,'C.1 - Rate Sheets'!$H$15:$I$46,2,FALSE)","v":20},null,null,null,null,null,null,null,null,null,null,null,null,null,null,16,16,16,16,16,16,16,null,null,null,null,null,null,null,null,null,null,null,null,null,null,112,2240,2240]
[null,223,"Bucket Truck Up to 55'",null,"Vendor No 2",null,"MIFPUC-3","2018-10-21","2018-10-27",{"$f":"IF(AND(H240>='A - Contractor Summary'!$C$36,I240<='A - Contractor Summary'!$C$42),\"Yes\",\"No\")","v":"No"},{"$f":"VLOOKUP(C240,'C.1 - Rate Sheets'!$H$15:$I$46,2,FALSE)","v":50},null,null,null,null,null,null,null,null,null,null,null,null,null,null,16,16,16,16,16,16,16,null,null,null,null,null,null,null,null,null,null,null,null,null,null,112,5600,5600]
[null,224,"Bucket Truck Up to 55'",null,"Vendor No 2",null,"MIFPUC-3","2018-10-21","2018-10-27",{"$f":"IF(AND(H241>='A - Contractor Summary'!$C$36,I241<='A - Contractor Summary'!$C$42),\"Yes\",\"No\")","v":"No"},{"$f":"VLOOKUP(C241,'C.1 - Rate Sheets'!$H$15:$I$46,2,FALSE)","v":50},null,null,null,null,null,null,null,null,null,null,null,null,null,null,16,16,16,16,16,16,16,null,null,null,null,null,null,null,null,null,null,null,null,null,null,112,5600,5600]
[null,225,"Digger Derrick Up to 50'",null,"Vendor No 2",null,"MIFPUC-3","2018-10-21","2018-10-27",{"$f":"IF(AND(H242>='A - Contractor Summary'!$C$36,I242<='A - Contractor Summary'!$C$42),\"Yes\",\"No\")","v":"No"},{"$f":"VLOOKUP(C242,'C.1 - Rate Sheets'!$H$15:$I$46,2,FALSE)","v":50},null,null,null,null,null,null,null,null,null,null,null,null,null,null,16,16,16,16,16,16,16,null,null,null,null,null,null,null,null,null,null,null,null,null,null,112,5600,5600]
[null,226,"Pole Trailer",null,"Vendor No 2",null,"MIFPUC-3","2018-10-21","2018-10-27",{"$f":"IF(AND(H243>='A - Contractor Summary'!$C$36,I243<='A - Contractor Summary'!$C$42),\"Yes\",\"No\")","v":"No"},{"$f":"VLOOKUP(C243,'C.1 - Rate Sheets'!$H$15:$I$46,2,FALSE)","v":15},null,null,null,null,null,null,null,null,null,null,null,null,null,null,16,16,16,16,16,16,16,null,null,null,null,null,null,null,null,null,null,null,null,null,null,112,1680,1680]
[null,227,"Pick Up Truck",null,"Vendor No 2",null,"MIFPUC-3","2018-10-21","2018-10-27",{"$f":"IF(AND(H244>='A - Contractor Summary'!$C$36,I244<='A - Contractor Summary'!$C$42),\"Yes\",\"No\")","v":"No"},{"$f":"VLOOKUP(C244,'C.1 - Rate Sheets'!$H$15:$I$46,2,FALSE)","v":20},null,null,null,null,null,null,null,null,null,null,null,null,null,null,16,16,16,16,16,16,16,null,null,null,null,null,null,null,null,null,null,null,null,null,null,112,2240,2240]
[null,228,"Pick Up Truck",null,"Vendor No 2",null,"MIFPUC-3","2018-10-21","2018-10-27",{"$f":"IF(AND(H245>='A - Contractor Summary'!$C$36,I245<='A - Contractor Summary'!$C$42),\"Yes\",\"No\")","v":"No"},{"$f":"VLOOKUP(C245,'C.1 - Rate Sheets'!$H$15:$I$46,2,FALSE)","v":20},null,null,null,null,null,null,null,null,null,null,null,null,null,null,16,16,16,16,16,16,16,null,null,null,null,null,null,null,null,null,null,null,null,null,null,112,2240,2240]
[null,229,"Pick Up Truck",null,"Vendor No 2",null,"MIFPUC-3","2018-10-21","2018-10-27",{"$f":"IF(AND(H246>='A - Contractor Summary'!$C$36,I246<='A - Contractor Summary'!$C$42),\"Yes\",\"No\")","v":"No"},{"$f":"VLOOKUP(C246,'C.1 - Rate Sheets'!$H$15:$I$46,2,FALSE)","v":20},null,null,null,null,null,null,null,null,null,null,null,null,null,null,16,16,16,16,16,16,16,null,null,null,null,null,null,null,null,null,null,null,null,null,null,112,2240,2240]
[null,230,"Pick Up Truck",null,"Vendor No 2",null,"MIFPUC-3","2018-10-21","2018-10-27",{"$f":"IF(AND(H247>='A - Contractor Summary'!$C$36,I247<='A - Contractor Summary'!$C$42),\"Yes\",\"No\")","v":"No"},{"$f":"VLOOKUP(C247,'C.1 - Rate Sheets'!$H$15:$I$46,2,FALSE)","v":20},null,null,null,null,null,null,null,null,null,null,null,null,null,null,16,16,16,16,16,16,16,null,null,null,null,null,null,null,null,null,null,null,null,null,null,112,2240,2240]
[null,231,"Pick Up Truck",null,"Vendor No 2",null,"MIFPUC-3","2018-10-21","2018-10-27",{"$f":"IF(AND(H248>='A - Contractor Summary'!$C$36,I248<='A - Contractor Summary'!$C$42),\"Yes\",\"No\")","v":"No"},{"$f":"VLOOKUP(C248,'C.1 - Rate Sheets'!$H$15:$I$46,2,FALSE)","v":20},null,null,null,null,null,null,null,null,null,null,null,null,null,null,16,16,16,16,16,16,16,null,null,null,null,null,null,null,null,null,null,null,null,null,null,112,2240,2240]
[null,232,"Bucket Truck Up to 55'",null,"Vendor No 2",null,"MIFPUC-3","2018-10-21","2018-10-27",{"$f":"IF(AND(H249>='A - Contractor Summary'!$C$36,I249<='A - Contractor Summary'!$C$42),\"Yes\",\"No\")","v":"No"},{"$f":"VLOOKUP(C249,'C.1 - Rate Sheets'!$H$15:$I$46,2,FALSE)","v":50},null,null,null,null,null,null,null,null,null,null,null,null,null,null,16,16,16,16,16,16,16,null,null,null,null,null,null,null,null,null,null,null,null,null,null,112,5600,5600]
[null,233,"Bucket Truck Up to 55'",null,"Vendor No 2",null,"MIFPUC-3","2018-10-21","2018-10-27",{"$f":"IF(AND(H250>='A - Contractor Summary'!$C$36,I250<='A - Contractor Summary'!$C$42),\"Yes\",\"No\")","v":"No"},{"$f":"VLOOKUP(C250,'C.1 - Rate Sheets'!$H$15:$I$46,2,FALSE)","v":50},null,null,null,null,null,null,null,null,null,null,null,null,null,null,16,16,16,16,16,16,16,null,null,null,null,null,null,null,null,null,null,null,null,null,null,112,5600,5600]
[null,234,"-",null,"Vendor No 2",null,"MIFPUC-3","2018-10-21","2018-10-27",{"$f":"IF(AND(H251>='A - Contractor Summary'!$C$36,I251<='A - Contractor Summary'!$C$42),\"Yes\",\"No\")","v":"No"},null,null,null,null,null,null,null,null,null,null,null,null,null,null,null,null,null,null,null,null,null,null,null,null,null,null,null,null,null,null,null,null,null,null,null,null,0,0,0]
[null,235,"Mini Excavator",null,"Vendor No 2",null,"MIFPUC-3","2018-10-21","2018-10-27",{"$f":"IF(AND(H252>='A - Contractor Summary'!$C$36,I252<='A - Contractor Summary'!$C$42),\"Yes\",\"No\")","v":"No"},{"$f":"VLOOKUP(C252,'C.1 - Rate Sheets'!$H$15:$I$46,2,FALSE)","v":35},null,null,null,null,null,null,null,null,null,null,null,null,null,null,16,16,16,16,16,16,16,null,null,null,null,null,null,null,null,null,null,null,null,null,null,112,3920,3920]
[null,236,"Pick Up Truck",null,"Vendor No 2",null,"MIFPUC-3","2018-10-21","2018-10-27",{"$f":"IF(AND(H253>='A - Contractor Summary'!$C$36,I253<='A - Contractor Summary'!$C$42),\"Yes\",\"No\")","v":"No"},{"$f":"VLOOKUP(C253,'C.1 - Rate Sheets'!$H$15:$I$46,2,FALSE)","v":20},null,null,null,null,null,null,null,null,null,null,null,null,null,null,16,16,16,16,16,16,16,null,null,null,null,null,null,null,null,null,null,null,null,null,null,112,2240,2240]
[null,237,"Bucket Truck Up to 55'",null,"Vendor No 2",null,"MIFPUC-3","2018-10-21","2018-10-27",{"$f":"IF(AND(H254>='A - Contractor Summary'!$C$36,I254<='A - Contractor Summary'!$C$42),\"Yes\",\"No\")","v":"No"},{"$f":"VLOOKUP(C254,'C.1 - Rate Sheets'!$H$15:$I$46,2,FALSE)","v":50},null,null,null,null,null,null,null,null,null,null,null,null,null,null,16,16,16,16,16,16,16,null,null,null,null,null,null,null,null,null,null,null,null,null,null,112,5600,5600]
[null,238,"Digger Derrick Greater Than 50'",null,"Vendor No 2",null,"MIFPUC-3","2018-10-21","2018-10-27",{"$f":"IF(AND(H255>='A - Contractor Summary'!$C$36,I255<='A - Contractor Summary'!$C$42),\"Yes\",\"No\")","v":"No"},{"$f":"VLOOKUP(C255,'C.1 - Rate Sheets'!$H$15:$I$46,2,FALSE)","v":60},null,null,null,null,null,null,null,null,null,null,null,null,null,null,16,16,16,16,16,16,16,null,null,null,null,null,null,null,null,null,null,null,null,null,null,112,6720,6720]
[null,239,"Rear Property Machine",null,"Vendor No 2",null,"MIFPUC-3","2018-10-21","2018-10-27",{"$f":"IF(AND(H256>='A - Contractor Summary'!$C$36,I256<='A - Contractor Summary'!$C$42),\"Yes\",\"No\")","v":"No"},{"$f":"VLOOKUP(C256,'C.1 - Rate Sheets'!$H$15:$I$46,2,FALSE)","v":50},null,null,null,null,null,null,null,null,null,null,null,null,null,null,16,16,16,16,16,16,16,null,null,null,null,null,null,null,null,null,null,null,null,null,null,112,5600,5600]
[null,240,"Bucket Truck Up to 55'",null,"Vendor No 2",null,"MIFPUC-3","2018-10-21","2018-10-27",{"$f":"IF(AND(H257>='A - Contractor Summary'!$C$36,I257<='A - Contractor Summary'!$C$42),\"Yes\",\"No\")","v":"No"},{"$f":"VLOOKUP(C257,'C.1 - Rate Sheets'!$H$15:$I$46,2,FALSE)","v":50},null,null,null,null,null,null,null,null,null,null,null,null,null,null,16,16,16,16,16,16,16,null,null,null,null,null,null,null,null,null,null,null,null,null,null,112,5600,5600]
[null,241,"Digger Derrick Greater Than 50'",null,"Vendor No 2",null,"MIFPUC-3","2018-10-21","2018-10-27",{"$f":"IF(AND(H258>='A - Contractor Summary'!$C$36,I258<='A - Contractor Summary'!$C$42),\"Yes\",\"No\")","v":"No"},{"$f":"VLOOKUP(C258,'C.1 - Rate Sheets'!$H$15:$I$46,2,FALSE)","v":60},null,null,null,null,null,null,null,null,null,null,null,null,null,null,16,16,16,16,16,16,16,null,null,null,null,null,null,null,null,null,null,null,null,null,null,112,6720,6720]
[null,242,"Bucket Truck Up to 55'",null,"Vendor No 2",null,"MIFPUC-3","2018-10-21","2018-10-27",{"$f":"IF(AND(H259>='A - Contractor Summary'!$C$36,I259<='A - Contractor Summary'!$C$42),\"Yes\",\"No\")","v":"No"},{"$f":"VLOOKUP(C259,'C.1 - Rate Sheets'!$H$15:$I$46,2,FALSE)","v":50},null,null,null,null,null,null,null,null,null,null,null,null,null,null,16,16,16,16,16,16,16,null,null,null,null,null,null,null,null,null,null,null,null,null,null,112,5600,5600]
[null,243,"Bucket Truck Up to 55'",null,"Vendor No 2",null,"MIFPUC-3","2018-10-21","2018-10-27",{"$f":"IF(AND(H260>='A - Contractor Summary'!$C$36,I260<='A - Contractor Summary'!$C$42),\"Yes\",\"No\")","v":"No"},{"$f":"VLOOKUP(C260,'C.1 - Rate Sheets'!$H$15:$I$46,2,FALSE)","v":50},null,null,null,null,null,null,null,null,null,null,null,null,null,null,16,16,16,16,16,16,16,null,null,null,null,null,null,null,null,null,null,null,null,null,null,112,5600,5600]
[null,244,"Pick Up Truck",null,"Vendor No 2",null,"MIFPUC-3","2018-10-21","2018-10-27",{"$f":"IF(AND(H261>='A - Contractor Summary'!$C$36,I261<='A - Contractor Summary'!$C$42),\"Yes\",\"No\")","v":"No"},{"$f":"VLOOKUP(C261,'C.1 - Rate Sheets'!$H$15:$I$46,2,FALSE)","v":20},null,null,null,null,null,null,null,null,null,null,null,null,null,null,16,16,16,16,16,16,16,null,null,null,null,null,null,null,null,null,null,null,null,null,null,112,2240,2240]
[null,245,"-",null,"Vendor No 2",null,"MIFPUC-3","2018-10-21","2018-10-27",{"$f":"IF(AND(H262>='A - Contractor Summary'!$C$36,I262<='A - Contractor Summary'!$C$42),\"Yes\",\"No\")","v":"No"},null,null,null,null,null,null,null,null,null,null,null,null,null,null,null,null,null,null,null,null,null,null,null,null,null,null,null,null,null,null,null,null,null,null,null,null,0,0,0]
[null,246,"Pick Up Truck",null,"Vendor No 2",null,"MIFPUC-3","2018-10-21","2018-10-27",{"$f":"IF(AND(H263>='A - Contractor Summary'!$C$36,I263<='A - Contractor Summary'!$C$42),\"Yes\",\"No\")","v":"No"},{"$f":"VLOOKUP(C263,'C.1 - Rate Sheets'!$H$15:$I$46,2,FALSE)","v":20},null,null,null,null,null,null,null,null,null,null,null,null,null,null,16,16,16,16,16,16,16,null,null,null,null,null,null,null,null,null,null,null,null,null,null,112,2240,2240]
[null,247,"Digger Derrick Up to 50'",null,"Vendor No 2",null,"MIFPUC-3","2018-10-21","2018-10-27",{"$f":"IF(AND(H264>='A - Contractor Summary'!$C$36,I264<='A - Contractor Summary'!$C$42),\"Yes\",\"No\")","v":"No"},{"$f":"VLOOKUP(C264,'C.1 - Rate Sheets'!$H$15:$I$46,2,FALSE)","v":50},null,null,null,null,null,null,null,null,null,null,null,null,null,null,16,16,16,16,16,16,16,null,null,null,null,null,null,null,null,null,null,null,null,null,null,112,5600,5600]
[null,248,"Bucket Truck Up to 55'",null,"Vendor No 2",null,"MIFPUC-3","2018-10-21","2018-10-27",{"$f":"IF(AND(H265>='A - Contractor Summary'!$C$36,I265<='A - Contractor Summary'!$C$42),\"Yes\",\"No\")","v":"No"},{"$f":"VLOOKUP(C265,'C.1 - Rate Sheets'!$H$15:$I$46,2,FALSE)","v":50},null,null,null,null,null,null,null,null,null,null,null,null,null,null,16,16,16,16,16,16,16,null,null,null,null,null,null,null,null,null,null,null,null,null,null,112,5600,5600]
[null,249,"Bucket Truck Up to 55'",null,"Vendor No 2",null,"MIFPUC-3","2018-10-21","2018-10-27",{"$f":"IF(AND(H266>='A - Contractor Summary'!$C$36,I266<='A - Contractor Summary'!$C$42),\"Yes\",\"No\")","v":"No"},{"$f":"VLOOKUP(C266,'C.1 - Rate Sheets'!$H$15:$I$46,2,FALSE)","v":50},null,null,null,null,null,null,null,null,null,null,null,null,null,null,16,16,16,16,16,16,16,null,null,null,null,null,null,null,null,null,null,null,null,null,null,112,5600,5600]
[null,250,"Bucket Truck Up to 55'",null,"Vendor No 2",null,"MIFPUC-3","2018-10-21","2018-10-27",{"$f":"IF(AND(H267>='A - Contractor Summary'!$C$36,I267<='A - Contractor Summary'!$C$42),\"Yes\",\"No\")","v":"No"},{"$f":"VLOOKUP(C267,'C.1 - Rate Sheets'!$H$15:$I$46,2,FALSE)","v":50},null,null,null,null,null,null,null,null,null,null,null,null,null,null,16,16,16,16,16,16,16,null,null,null,null,null,null,null,null,null,null,null,null,null,null,112,5600,5600]
[null,251,"Pick Up Truck",null,"Vendor No 2",null,"MIFPUC-3","2018-10-21","2018-10-27",{"$f":"IF(AND(H268>='A - Contractor Summary'!$C$36,I268<='A - Contractor Summary'!$C$42),\"Yes\",\"No\")","v":"No"},{"$f":"VLOOKUP(C268,'C.1 - Rate Sheets'!$H$15:$I$46,2,FALSE)","v":20},null,null,null,null,null,null,null,null,null,null,null,null,null,null,16,16,16,16,16,16,16,null,null,null,null,null,null,null,null,null,null,null,null,null,null,112,2240,2240]
[null,252,"Mechanic Truck",null,"Vendor No 2",null,"MIFPUC-3","2018-10-21","2018-10-27",{"$f":"IF(AND(H269>='A - Contractor Summary'!$C$36,I269<='A - Contractor Summary'!$C$42),\"Yes\",\"No\")","v":"No"},{"$f":"VLOOKUP(C269,'C.1 - Rate Sheets'!$H$15:$I$46,2,FALSE)","v":45},null,null,null,null,null,null,null,null,null,null,null,null,null,null,16,16,16,16,16,16,16,null,null,null,null,null,null,null,null,null,null,null,null,null,null,112,5040,5040]
[null,253,"Mini Excavator",null,"Vendor No 2",null,"MIFPUC-3","2018-10-21","2018-10-27",{"$f":"IF(AND(H270>='A - Contractor Summary'!$C$36,I270<='A - Contractor Summary'!$C$42),\"Yes\",\"No\")","v":"No"},{"$f":"VLOOKUP(C270,'C.1 - Rate Sheets'!$H$15:$I$46,2,FALSE)","v":35},null,null,null,null,null,null,null,null,null,null,null,null,null,null,16,16,16,16,16,16,16,null,null,null,null,null,null,null,null,null,null,null,null,null,null,112,3920,3920]
[null,254,"Mechanic Truck",null,"Vendor No 2",null,"MIFPUC-3","2018-10-21","2018-10-27",{"$f":"IF(AND(H271>='A - Contractor Summary'!$C$36,I271<='A - Contractor Summary'!$C$42),\"Yes\",\"No\")","v":"No"},{"$f":"VLOOKUP(C271,'C.1 - Rate Sheets'!$H$15:$I$46,2,FALSE)","v":45},null,null,null,null,null,null,null,null,null,null,null,null,null,null,16,16,16,16,16,16,16,null,null,null,null,null,null,null,null,null,null,null,null,null,null,112,5040,5040]
[null,255,"Mechanic Truck",null,"Vendor No 2",null,"MIFPUC-3","2018-10-21","2018-10-27",{"$f":"IF(AND(H272>='A - Contractor Summary'!$C$36,I272<='A - Contractor Summary'!$C$42),\"Yes\",\"No\")","v":"No"},{"$f":"VLOOKUP(C272,'C.1 - Rate Sheets'!$H$15:$I$46,2,FALSE)","v":45},null,null,null,null,null,null,null,null,null,null,null,null,null,null,16,16,16,16,16,16,16,null,null,null,null,null,null,null,null,null,null,null,null,null,null,112,5040,5040]
[null,256,"Tractor( Semi)",null,"Vendor No 2",null,"MIFPUC-3","2018-10-21","2018-10-27",{"$f":"IF(AND(H273>='A - Contractor Summary'!$C$36,I273<='A - Contractor Summary'!$C$42),\"Yes\",\"No\")","v":"No"},{"$f":"VLOOKUP(C273,'C.1 - Rate Sheets'!$H$15:$I$46,2,FALSE)","v":45},null,null,null,null,null,null,null,null,null,null,null,null,null,null,16,16,16,16,16,16,16,null,null,null,null,null,null,null,null,null,null,null,null,null,null,112,5040,5040]
[null,257,"Mechanic Truck",null,"Vendor No 2",null,"MIFPUC-3","2018-10-21","2018-10-27",{"$f":"IF(AND(H274>='A - Contractor Summary'!$C$36,I274<='A - Contractor Summary'!$C$42),\"Yes\",\"No\")","v":"No"},{"$f":"VLOOKUP(C274,'C.1 - Rate Sheets'!$H$15:$I$46,2,FALSE)","v":45},null,null,null,null,null,null,null,null,null,null,null,null,null,null,16,16,16,16,16,16,16,null,null,null,null,null,null,null,null,null,null,null,null,null,null,112,5040,5040]
[null,258,"Tractor( Semi)",null,"Vendor No 2",null,"MIFPUC-3","2018-10-21","2018-10-27",{"$f":"IF(AND(H275>='A - Contractor Summary'!$C$36,I275<='A - Contractor Summary'!$C$42),\"Yes\",\"No\")","v":"No"},{"$f":"VLOOKUP(C275,'C.1 - Rate Sheets'!$H$15:$I$46,2,FALSE)","v":45},null,null,null,null,null,null,null,null,null,null,null,null,null,null,16,16,16,16,16,16,16,null,null,null,null,null,null,null,null,null,null,null,null,null,null,112,5040,5040]
[null,259,"Mechanic Truck",null,"Vendor No 2",null,"MIFPUC-3","2018-10-21","2018-10-27",{"$f":"IF(AND(H276>='A - Contractor Summary'!$C$36,I276<='A - Contractor Summary'!$C$42),\"Yes\",\"No\")","v":"No"},{"$f":"VLOOKUP(C276,'C.1 - Rate Sheets'!$H$15:$I$46,2,FALSE)","v":45},null,null,null,null,null,null,null,null,null,null,null,null,null,null,16,16,16,16,16,16,16,null,null,null,null,null,null,null,null,null,null,null,null,null,null,112,5040,5040]
[null,260,"Low Boy",null,"Vendor No 2",null,"MIFPUC-3","2018-10-21","2018-10-27",{"$f":"IF(AND(H277>='A - Contractor Summary'!$C$36,I277<='A - Contractor Summary'!$C$42),\"Yes\",\"No\")","v":"No"},{"$f":"VLOOKUP(C277,'C.1 - Rate Sheets'!$H$15:$I$46,2,FALSE)","v":38},null,null,null,null,null,null,null,null,null,null,null,null,null,null,16,16,16,16,16,16,16,null,null,null,null,null,null,null,null,null,null,null,null,null,null,112,4256,4256]
[null,261,"Low Boy",null,"Vendor No 2",null,"MIFPUC-3","2018-10-21","2018-10-27",{"$f":"IF(AND(H278>='A - Contractor Summary'!$C$36,I278<='A - Contractor Summary'!$C$42),\"Yes\",\"No\")","v":"No"},{"$f":"VLOOKUP(C278,'C.1 - Rate Sheets'!$H$15:$I$46,2,FALSE)","v":38},null,null,null,null,null,null,null,null,null,null,null,null,null,null,16,16,16,16,16,16,16,null,null,null,null,null,null,null,null,null,null,null,null,null,null,{"$f":"SUM(L278:AT278)","v":112},{"$f":"AU278*K278","v":4256},{"$f":"AV278-AX278","v":4256}]
[null,262,"Digger Derrick Greater Than 50'",null,"Vendor No 2",null,"MIFPUC-3","2018-10-21","2018-10-27",{"$f":"IF(AND(H279>='A - Contractor Summary'!$C$36,I279<='A - Contractor Summary'!$C$42),\"Yes\",\"No\")","v":"No"},{"$f":"VLOOKUP(C279,'C.1 - Rate Sheets'!$H$15:$I$46,2,FALSE)","v":60},null,null,null,null,null,null,null,null,null,null,null,null,null,null,16,16,16,16,16,16,16,null,null,null,null,null,null,null,null,null,null,null,null,null,null,112,6720,6720]
[null,263,"Bucket Truck Tracked",null,"Vendor No 2",null,"MIFPUC-3","2018-10-21","2018-10-27",{"$f":"IF(AND(H280>='A - Contractor Summary'!$C$36,I280<='A - Contractor Summary'!$C$42),\"Yes\",\"No\")","v":"No"},{"$f":"VLOOKUP(C280,'C.1 - Rate Sheets'!$H$15:$I$46,2,FALSE)","v":70},null,null,null,null,null,null,null,null,null,null,null,null,null,null,16,16,16,16,16,16,16,null,null,null,null,null,null,null,null,null,null,null,null,null,null,112,7840,7840]
[null,264,"Digger Tracked",null,"Vendor No 2",null,"MIFPUC-3","2018-10-21","2018-10-27",{"$f":"IF(AND(H281>='A - Contractor Summary'!$C$36,I281<='A - Contractor Summary'!$C$42),\"Yes\",\"No\")","v":"No"},{"$f":"VLOOKUP(C281,'C.1 - Rate Sheets'!$H$15:$I$46,2,FALSE)","v":70},null,null,null,null,null,null,null,null,null,null,null,null,null,null,16,16,16,16,16,16,16,null,null,null,null,null,null,null,null,null,null,null,null,null,null,112,7840,7840]
[null,265,"Rope Rig (puller)",null,"Vendor No 2",null,"MIFPUC-3","2018-10-21","2018-10-27",{"$f":"IF(AND(H282>='A - Contractor Summary'!$C$36,I282<='A - Contractor Summary'!$C$42),\"Yes\",\"No\")","v":"No"},{"$f":"VLOOKUP(C282,'C.1 - Rate Sheets'!$H$15:$I$46,2,FALSE)","v":55},null,null,null,null,null,null,null,null,null,null,null,null,null,null,16,16,16,16,16,16,16,null,null,null,null,null,null,null,null,null,null,null,null,null,null,112,6160,6160]
[null,266,"Bucket Truck over 65'",null,"Vendor No 2",null,"MIFPUC-3","2018-10-21","2018-10-27",{"$f":"IF(AND(H283>='A - Contractor Summary'!$C$36,I283<='A - Contractor Summary'!$C$42),\"Yes\",\"No\")","v":"No"},{"$f":"VLOOKUP(C283,'C.1 - Rate Sheets'!$H$15:$I$46,2,FALSE)","v":65},null,null,null,null,null,null,null,null,null,null,null,null,null,null,16,16,16,16,16,16,16,null,null,null,null,null,null,null,null,null,null,null,null,null,null,112,7280,7280]
[null,267,"Bucket Truck Up to 55'",null,"Vendor No 2",null,"MIFPUC-3","2018-10-21","2018-10-27",{"$f":"IF(AND(H284>='A - Contractor Summary'!$C$36,I284<='A - Contractor Summary'!$C$42),\"Yes\",\"No\")","v":"No"},{"$f":"VLOOKUP(C284,'C.1 - Rate Sheets'!$H$15:$I$46,2,FALSE)","v":50},null,null,null,null,null,null,null,null,null,null,null,null,null,null,16,16,16,16,16,16,16,null,null,null,null,null,null,null,null,null,null,null,null,null,null,112,5600,5600]
[null,268,"Digger Derrick Up to 50'",null,"Vendor No 2",null,"MIFPUC-3","2018-10-21","2018-10-27",{"$f":"IF(AND(H285>='A - Contractor Summary'!$C$36,I285<='A - Contractor Summary'!$C$42),\"Yes\",\"No\")","v":"No"},{"$f":"VLOOKUP(C285,'C.1 - Rate Sheets'!$H$15:$I$46,2,FALSE)","v":50},null,null,null,null,null,null,null,null,null,null,null,null,null,null,16,16,16,16,16,16,16,null,null,null,null,null,null,null,null,null,null,null,null,null,null,112,5600,5600]
[null,269,"Rope Rig (puller)",null,"Vendor No 2",null,"MIFPUC-3","2018-10-21","2018-10-27",{"$f":"IF(AND(H286>='A - Contractor Summary'!$C$36,I286<='A - Contractor Summary'!$C$42),\"Yes\",\"No\")","v":"No"},{"$f":"VLOOKUP(C286,'C.1 - Rate Sheets'!$H$15:$I$46,2,FALSE)","v":55},null,null,null,null,null,null,null,null,null,null,null,null,null,null,16,16,16,16,16,16,16,null,null,null,null,null,null,null,null,null,null,null,null,null,null,112,6160,6160]
[null,270,"Rope Rig (puller)",null,"Vendor No 2",null,"MIFPUC-3","2018-10-21","2018-10-27",{"$f":"IF(AND(H287>='A - Contractor Summary'!$C$36,I287<='A - Contractor Summary'!$C$42),\"Yes\",\"No\")","v":"No"},{"$f":"VLOOKUP(C287,'C.1 - Rate Sheets'!$H$15:$I$46,2,FALSE)","v":55},null,null,null,null,null,null,null,null,null,null,null,null,null,null,16,16,16,16,16,16,16,null,null,null,null,null,null,null,null,null,null,null,null,null,null,112,6160,6160]
[null,271,"45 Ton Crane",null,"Vendor No 2",null,"MIFPUC-3","2018-10-21","2018-10-27",{"$f":"IF(AND(H288>='A - Contractor Summary'!$C$36,I288<='A - Contractor Summary'!$C$42),\"Yes\",\"No\")","v":"No"},{"$f":"VLOOKUP(C288,'C.1 - Rate Sheets'!$H$15:$I$46,2,FALSE)","v":145},null,null,null,null,null,null,null,null,null,null,null,null,null,null,16,16,16,16,16,16,16,null,null,null,null,null,null,null,null,null,null,null,null,null,null,112,16240,16240]
[null,272,"Mechanic Truck",null,"Vendor No 2",null,"MIFPUC-3","2018-10-21","2018-10-27",{"$f":"IF(AND(H289>='A - Contractor Summary'!$C$36,I289<='A - Contractor Summary'!$C$42),\"Yes\",\"No\")","v":"No"},{"$f":"VLOOKUP(C289,'C.1 - Rate Sheets'!$H$15:$I$46,2,FALSE)","v":45},null,null,null,null,null,null,null,null,null,null,null,null,null,null,16,16,16,16,16,16,16,null,null,null,null,null,null,null,null,null,null,null,null,null,null,112,5040,5040]
[null,273,"Pick Up Truck",null,"Vendor No 2",null,"MIFPUC-3","2018-10-21","2018-10-27",{"$f":"IF(AND(H290>='A - Contractor Summary'!$C$36,I290<='A - Contractor Summary'!$C$42),\"Yes\",\"No\")","v":"No"},{"$f":"VLOOKUP(C290,'C.1 - Rate Sheets'!$H$15:$I$46,2,FALSE)","v":20},null,null,null,null,null,null,null,null,null,null,null,null,null,null,16,16,16,16,16,16,16,null,null,null,null,null,null,null,null,null,null,null,null,null,null,112,2240,2240]
[null,274,"Bucket Truck Up to 55'",null,"Vendor No 2",null,"MIFPUC-3","2018-10-21","2018-10-27",{"$f":"IF(AND(H291>='A - Contractor Summary'!$C$36,I291<='A - Contractor Summary'!$C$42),\"Yes\",\"No\")","v":"No"},{"$f":"VLOOKUP(C291,'C.1 - Rate Sheets'!$H$15:$I$46,2,FALSE)","v":50},null,null,null,null,null,null,null,null,null,null,null,null,null,null,16,16,16,16,16,16,16,null,null,null,null,null,null,null,null,null,null,null,null,null,null,112,5600,5600]
[null,275,"Bucket Truck Up to 55'",null,"Vendor No 2",null,"MIFPUC-3","2018-10-21","2018-10-27",{"$f":"IF(AND(H292>='A - Contractor Summary'!$C$36,I292<='A - Contractor Summary'!$C$42),\"Yes\",\"No\")","v":"No"},{"$f":"VLOOKUP(C292,'C.1 - Rate Sheets'!$H$15:$I$46,2,FALSE)","v":50},null,null,null,null,null,null,null,null,null,null,null,null,null,null,16,16,16,16,16,16,16,null,null,null,null,null,null,null,null,null,null,null,null,null,null,112,5600,5600]
[null,276,"Digger Derrick Up to 50'",null,"Vendor No 2",null,"MIFPUC-3","2018-10-21","2018-10-27",{"$f":"IF(AND(H293>='A - Contractor Summary'!$C$36,I293<='A - Contractor Summary'!$C$42),\"Yes\",\"No\")","v":"No"},{"$f":"VLOOKUP(C293,'C.1 - Rate Sheets'!$H$15:$I$46,2,FALSE)","v":50},null,null,null,null,null,null,null,null,null,null,null,null,null,null,16,16,16,16,16,16,16,null,null,null,null,null,null,null,null,null,null,null,null,null,null,112,5600,5600]
[null,277,"Rear Property Machine",null,"Vendor No 2",null,"MIFPUC-3","2018-10-21","2018-10-27",{"$f":"IF(AND(H294>='A - Contractor Summary'!$C$36,I294<='A - Contractor Summary'!$C$42),\"Yes\",\"No\")","v":"No"},{"$f":"VLOOKUP(C294,'C.1 - Rate Sheets'!$H$15:$I$46,2,FALSE)","v":50},null,null,null,null,null,null,null,null,null,null,null,null,null,null,16,16,16,16,16,16,16,null,null,null,null,null,null,null,null,null,null,null,null,null,null,112,5600,5600]
[null,278,"Bucket Truck Up to 55'",null,"Vendor No 2",null,"MIFPUC-3","2018-10-21","2018-10-27",{"$f":"IF(AND(H295>='A - Contractor Summary'!$C$36,I295<='A - Contractor Summary'!$C$42),\"Yes\",\"No\")","v":"No"},{"$f":"VLOOKUP(C295,'C.1 - Rate Sheets'!$H$15:$I$46,2,FALSE)","v":50},null,null,null,null,null,null,null,null,null,null,null,null,null,null,16,16,16,16,16,16,16,null,null,null,null,null,null,null,null,null,null,null,null,null,null,112,5600,5600]
[null,279,"Bucket Truck Up to 55'",null,"Vendor No 2",null,"MIFPUC-3","2018-10-21","2018-10-27",{"$f":"IF(AND(H296>='A - Contractor Summary'!$C$36,I296<='A - Contractor Summary'!$C$42),\"Yes\",\"No\")","v":"No"},{"$f":"VLOOKUP(C296,'C.1 - Rate Sheets'!$H$15:$I$46,2,FALSE)","v":50},null,null,null,null,null,null,null,null,null,null,null,null,null,null,16,16,16,16,16,16,16,null,null,null,null,null,null,null,null,null,null,null,null,null,null,112,5600,5600]
[null,280,"Digger Derrick Up to 50'",null,"Vendor No 2",null,"MIFPUC-3","2018-10-21","2018-10-27",{"$f":"IF(AND(H297>='A - Contractor Summary'!$C$36,I297<='A - Contractor Summary'!$C$42),\"Yes\",\"No\")","v":"No"},{"$f":"VLOOKUP(C297,'C.1 - Rate Sheets'!$H$15:$I$46,2,FALSE)","v":50},null,null,null,null,null,null,null,null,null,null,null,null,null,null,16,16,16,16,16,16,16,null,null,null,null,null,null,null,null,null,null,null,null,null,null,112,5600,5600]
[null,281,"Rear Property Machine",null,"Vendor No 2",null,"MIFPUC-3","2018-10-21","2018-10-27",{"$f":"IF(AND(H298>='A - Contractor Summary'!$C$36,I298<='A - Contractor Summary'!$C$42),\"Yes\",\"No\")","v":"No"},{"$f":"VLOOKUP(C298,'C.1 - Rate Sheets'!$H$15:$I$46,2,FALSE)","v":50},null,null,null,null,null,null,null,null,null,null,null,null,null,null,16,16,16,16,16,16,16,null,null,null,null,null,null,null,null,null,null,null,null,null,null,112,5600,5600]
[null,282,"Bucket Truck Up to 55'",null,"Vendor No 2",null,"MIFPUC-3","2018-10-21","2018-10-27",{"$f":"IF(AND(H299>='A - Contractor Summary'!$C$36,I299<='A - Contractor Summary'!$C$42),\"Yes\",\"No\")","v":"No"},{"$f":"VLOOKUP(C299,'C.1 - Rate Sheets'!$H$15:$I$46,2,FALSE)","v":50},null,null,null,null,null,null,null,null,null,null,null,null,null,null,16,16,16,16,16,16,16,null,null,null,null,null,null,null,null,null,null,null,null,null,null,112,5600,5600]
[null,283,"Bucket Truck Up to 55'",null,"Vendor No 2",null,"MIFPUC-3","2018-10-21","2018-10-27",{"$f":"IF(AND(H300>='A - Contractor Summary'!$C$36,I300<='A - Contractor Summary'!$C$42),\"Yes\",\"No\")","v":"No"},{"$f":"VLOOKUP(C300,'C.1 - Rate Sheets'!$H$15:$I$46,2,FALSE)","v":50},null,null,null,null,null,null,null,null,null,null,null,null,null,null,16,16,16,16,16,16,16,null,null,null,null,null,null,null,null,null,null,null,null,null,null,112,5600,5600]
[null,284,"Digger Derrick Up to 50'",null,"Vendor No 2",null,"MIFPUC-3","2018-10-21","2018-10-27",{"$f":"IF(AND(H301>='A - Contractor Summary'!$C$36,I301<='A - Contractor Summary'!$C$42),\"Yes\",\"No\")","v":"No"},{"$f":"VLOOKUP(C301,'C.1 - Rate Sheets'!$H$15:$I$46,2,FALSE)","v":50},null,null,null,null,null,null,null,null,null,null,null,null,null,null,16,16,16,16,16,16,16,null,null,null,null,null,null,null,null,null,null,null,null,null,null,112,5600,5600]
[null,285,"Rear Property Machine",null,"Vendor No 2",null,"MIFPUC-3","2018-10-21","2018-10-27",{"$f":"IF(AND(H302>='A - Contractor Summary'!$C$36,I302<='A - Contractor Summary'!$C$42),\"Yes\",\"No\")","v":"No"},{"$f":"VLOOKUP(C302,'C.1 - Rate Sheets'!$H$15:$I$46,2,FALSE)","v":50},null,null,null,null,null,null,null,null,null,null,null,null,null,null,16,16,16,16,16,16,16,null,null,null,null,null,null,null,null,null,null,null,null,null,null,112,5600,5600]
[null,286,"Pick Up Truck",null,"Vendor No 2",null,"MIFPUC-3","2018-10-21","2018-10-27",{"$f":"IF(AND(H303>='A - Contractor Summary'!$C$36,I303<='A - Contractor Summary'!$C$42),\"Yes\",\"No\")","v":"No"},{"$f":"VLOOKUP(C303,'C.1 - Rate Sheets'!$H$15:$I$46,2,FALSE)","v":20},null,null,null,null,null,null,null,null,null,null,null,null,null,null,16,16,16,16,16,16,16,null,null,null,null,null,null,null,null,null,null,null,null,null,null,112,2240,2240]
[null,287,"Bucket Truck Up to 55'",null,"Vendor No 2",null,"MIFPUC-3","2018-10-21","2018-10-27",{"$f":"IF(AND(H304>='A - Contractor Summary'!$C$36,I304<='A - Contractor Summary'!$C$42),\"Yes\",\"No\")","v":"No"},{"$f":"VLOOKUP(C304,'C.1 - Rate Sheets'!$H$15:$I$46,2,FALSE)","v":50},null,null,null,null,null,null,null,null,null,null,null,null,null,null,16,16,16,16,16,16,16,null,null,null,null,null,null,null,null,null,null,null,null,null,null,112,5600,5600]
[null,288,"Digger Derrick Up to 50'",null,"Vendor No 2",null,"MIFPUC-3","2018-10-21","2018-10-27",{"$f":"IF(AND(H305>='A - Contractor Summary'!$C$36,I305<='A - Contractor Summary'!$C$42),\"Yes\",\"No\")","v":"No"},{"$f":"VLOOKUP(C305,'C.1 - Rate Sheets'!$H$15:$I$46,2,FALSE)","v":50},null,null,null,null,null,null,null,null,null,null,null,null,null,null,16,16,16,16,16,16,16,null,null,null,null,null,null,null,null,null,null,null,null,null,null,112,5600,5600]
[null,289,"Pick Up Truck",null,"Vendor No 2",null,"MIFPUC-3","2018-10-21","2018-10-27",{"$f":"IF(AND(H306>='A - Contractor Summary'!$C$36,I306<='A - Contractor Summary'!$C$42),\"Yes\",\"No\")","v":"No"},{"$f":"VLOOKUP(C306,'C.1 - Rate Sheets'!$H$15:$I$46,2,FALSE)","v":20},null,null,null,null,null,null,null,null,null,null,null,null,null,null,16,16,16,16,16,16,16,null,null,null,null,null,null,null,null,null,null,null,null,null,null,112,2240,2240]
[null,290,"Bucket Truck Up to 55'",null,"Vendor No 2",null,"MIFPUC-3","2018-10-21","2018-10-27",{"$f":"IF(AND(H307>='A - Contractor Summary'!$C$36,I307<='A - Contractor Summary'!$C$42),\"Yes\",\"No\")","v":"No"},{"$f":"VLOOKUP(C307,'C.1 - Rate Sheets'!$H$15:$I$46,2,FALSE)","v":50},null,null,null,null,null,null,null,null,null,null,null,null,null,null,16,16,16,16,16,16,16,null,null,null,null,null,null,null,null,null,null,null,null,null,null,112,5600,5600]
[null,291,"Digger Derrick Greater Than 50'",null,"Vendor No 2",null,"MIFPUC-3","2018-10-21","2018-10-27",{"$f":"IF(AND(H308>='A - Contractor Summary'!$C$36,I308<='A - Contractor Summary'!$C$42),\"Yes\",\"No\")","v":"No"},{"$f":"VLOOKUP(C308,'C.1 - Rate Sheets'!$H$15:$I$46,2,FALSE)","v":60},null,null,null,null,null,null,null,null,null,null,null,null,null,null,16,16,16,16,16,16,16,null,null,null,null,null,null,null,null,null,null,null,null,null,null,112,6720,6720]
[null,292,"Digger Derrick Greater Than 50'",null,"Vendor No 2",null,"MIFPUC-3","2018-10-21","2018-10-27",{"$f":"IF(AND(H309>='A - Contractor Summary'!$C$36,I309<='A - Contractor Summary'!$C$42),\"Yes\",\"No\")","v":"No"},{"$f":"VLOOKUP(C309,'C.1 - Rate Sheets'!$H$15:$I$46,2,FALSE)","v":60},null,null,null,null,null,null,null,null,null,null,null,null,null,null,16,16,16,16,16,16,16,null,null,null,null,null,null,null,null,null,null,null,null,null,null,112,6720,6720]
[null,293,"X100 Blocks",null,"Vendor No 2",null,"MIFPUC-3","2018-10-21","2018-10-27",{"$f":"IF(AND(H310>='A - Contractor Summary'!$C$36,I310<='A - Contractor Summary'!$C$42),\"Yes\",\"No\")","v":"No"},{"$f":"VLOOKUP(C310,'C.1 - Rate Sheets'!$H$15:$I$46,2,FALSE)","v":2},null,null,null,null,null,null,null,null,null,null,null,null,null,null,16,16,16,16,16,16,16,null,null,null,null,null,null,null,null,null,null,null,null,null,null,112,224,224]
[null,294,"Wire Cart",null,"Vendor No 2",null,"MIFPUC-3","2018-10-21","2018-10-27",{"$f":"IF(AND(H311>='A - Contractor Summary'!$C$36,I311<='A - Contractor Summary'!$C$42),\"Yes\",\"No\")","v":"No"},{"$f":"VLOOKUP(C311,'C.1 - Rate Sheets'!$H$15:$I$46,2,FALSE)","v":20},null,null,null,null,null,null,null,null,null,null,null,null,null,null,16,16,16,16,16,16,16,null,null,null,null,null,null,null,null,null,null,null,null,null,null,112,2240,2240]
[null,295,"Air Compressor",null,"Vendor No 2",null,"MIFPUC-3","2018-10-21","2018-10-27",{"$f":"IF(AND(H312>='A - Contractor Summary'!$C$36,I312<='A - Contractor Summary'!$C$42),\"Yes\",\"No\")","v":"No"},{"$f":"VLOOKUP(C312,'C.1 - Rate Sheets'!$H$15:$I$46,2,FALSE)","v":15},null,null,null,null,null,null,null,null,null,null,null,null,null,null,16,16,16,16,16,16,16,null,null,null,null,null,null,null,null,null,null,null,null,null,null,112,1680,1680]
[null,296,"Hydrovac Excavation Truck(Vac Truck)",null,"Vendor No 2",null,"MIFPUC-3","2018-10-21","2018-10-27",{"$f":"IF(AND(H313>='A - Contractor Summary'!$C$36,I313<='A - Contractor Summary'!$C$42),\"Yes\",\"No\")","v":"No"},{"$f":"VLOOKUP(C313,'C.1 - Rate Sheets'!$H$15:$I$46,2,FALSE)","v":165},null,null,null,null,null,null,null,null,null,null,null,null,null,null,16,16,16,16,16,16,16,null,null,null,null,null,null,null,null,null,null,null,null,null,null,112,18480,18480]
[null,297,"Flat Bed Truck",null,"Vendor No 2",null,"MIFPUC-3","2018-10-21","2018-10-27",{"$f":"IF(AND(H314>='A - Contractor Summary'!$C$36,I314<='A - Contractor Summary'!$C$42),\"Yes\",\"No\")","v":"No"},{"$f":"VLOOKUP(C314,'C.1 - Rate Sheets'!$H$15:$I$46,2,FALSE)","v":35},null,null,null,null,null,null,null,null,null,null,null,null,null,null,16,16,16,16,16,16,16,null,null,null,null,null,null,null,null,null,null,null,null,null,null,112,3920,3920]
[null,298,"Wire Cart",null,"Vendor No 2",null,"MIFPUC-3","2018-10-21","2018-10-27",{"$f":"IF(AND(H315>='A - Contractor Summary'!$C$36,I315<='A - Contractor Summary'!$C$42),\"Yes\",\"No\")","v":"No"},{"$f":"VLOOKUP(C315,'C.1 - Rate Sheets'!$H$15:$I$46,2,FALSE)","v":20},null,null,null,null,null,null,null,null,null,null,null,null,null,null,16,16,16,16,16,16,16,null,null,null,null,null,null,null,null,null,null,null,null,null,null,112,2240,2240]
[null,299,"Digger Tracked",null,"Vendor No 2",null,"MIFPUC-3","2018-10-21","2018-10-27",{"$f":"IF(AND(H316>='A - Contractor Summary'!$C$36,I316<='A - Contractor Summary'!$C$42),\"Yes\",\"No\")","v":"No"},{"$f":"VLOOKUP(C316,'C.1 - Rate Sheets'!$H$15:$I$46,2,FALSE)","v":70},null,null,null,null,null,null,null,null,null,null,null,null,null,null,16,16,16,16,16,16,16,null,null,null,null,null,null,null,null,null,null,null,null,null,null,112,7840,7840]
[null,300,"Bucket Truck Up to 55'",null,"Vendor No 2",null,"MIFPUC-3","2018-10-21","2018-10-27",{"$f":"IF(AND(H317>='A - Contractor Summary'!$C$36,I317<='A - Contractor Summary'!$C$42),\"Yes\",\"No\")","v":"No"},{"$f":"VLOOKUP(C317,'C.1 - Rate Sheets'!$H$15:$I$46,2,FALSE)","v":50},null,null,null,null,null,null,null,null,null,null,null,null,null,null,16,16,16,16,16,16,16,null,null,null,null,null,null,null,null,null,null,null,null,null,null,112,5600,5600]
[null,301,"Rope Rig (puller)",null,"Vendor No 2",null,"MIFPUC-3","2018-10-21","2018-10-27",{"$f":"IF(AND(H318>='A - Contractor Summary'!$C$36,I318<='A - Contractor Summary'!$C$42),\"Yes\",\"No\")","v":"No"},{"$f":"VLOOKUP(C318,'C.1 - Rate Sheets'!$H$15:$I$46,2,FALSE)","v":55},null,null,null,null,null,null,null,null,null,null,null,null,null,null,null,null,null,null,null,16,16,null,null,null,null,null,null,null,null,null,null,null,null,null,null,32,1760,1760]
[null,302,"Excavator Rental",null,"Vendor No 2",null,"MIFPUC-3","2018-10-21","2018-10-27",{"$f":"IF(AND(H319>='A - Contractor Summary'!$C$36,I319<='A - Contractor Summary'!$C$42),\"Yes\",\"No\")","v":"No"},{"$f":"VLOOKUP(C319,'C.1 - Rate Sheets'!$H$15:$I$46,2,FALSE)","v":2253.84},null,null,null,null,null,null,null,null,null,null,null,null,null,null,null,null,null,null,null,null,null,null,null,null,null,null,null,null,null,null,null,null,null,null,null,0,0,0]
[null,303,null,null,"Vendor No 2",null,null,null,null,{"$f":"IF(AND(H320>='A - Contractor Summary'!$C$36,I320<='A - Contractor Summary'!$C$42),\"Yes\",\"No\")","v":"No"}]
[null,304,"Pick Up Truck",null,"Vendor No 2",null,"MIFPUC-4","2018-10-28","2018-11-03",{"$f":"IF(AND(H321>='A - Contractor Summary'!$C$36,I321<='A - Contractor Summary'!$C$42),\"Yes\",\"No\")","v":"No"},{"$f":"VLOOKUP(C321,'C.1 - Rate Sheets'!$H$15:$I$46,2,FALSE)","v":20},null,null,null,null,null,null,null,null,null,null,null,null,null,null,null,null,null,null,null,null,null,16,16,16,16,16,16,16,null,null,null,null,null,null,null,112,2240,2240]
[null,305,"Bucket Truck Up to 55'",null,"Vendor No 2",null,"MIFPUC-4","2018-10-28","2018-11-03",{"$f":"IF(AND(H322>='A - Contractor Summary'!$C$36,I322<='A - Contractor Summary'!$C$42),\"Yes\",\"No\")","v":"No"},{"$f":"VLOOKUP(C322,'C.1 - Rate Sheets'!$H$15:$I$46,2,FALSE)","v":50},null,null,null,null,null,null,null,null,null,null,null,null,null,null,null,null,null,null,null,null,null,16,16,16,16,16,16,16,null,null,null,null,null,null,null,112,5600,5600]
[null,306,"Digger Derrick Greater Than 50'",null,"Vendor No 2",null,"MIFPUC-4","2018-10-28","2018-11-03",{"$f":"IF(AND(H323>='A - Contractor Summary'!$C$36,I323<='A - Contractor Summary'!$C$42),\"Yes\",\"No\")","v":"No"},{"$f":"VLOOKUP(C323,'C.1 - Rate Sheets'!$H$15:$I$46,2,FALSE)","v":60},null,null,null,null,null,null,null,null,null,null,null,null,null,null,null,null,null,null,null,null,null,16,16,16,16,16,16,16,null,null,null,null,null,null,null,112,6720,6720]
[null,307,"Mechanic Truck",null,"Vendor No 2",null,"MIFPUC-4","2018-10-28","2018-11-03",{"$f":"IF(AND(H324>='A - Contractor Summary'!$C$36,I324<='A - Contractor Summary'!$C$42),\"Yes\",\"No\")","v":"No"},{"$f":"VLOOKUP(C324,'C.1 - Rate Sheets'!$H$15:$I$46,2,FALSE)","v":45},null,null,null,null,null,null,null,null,null,null,null,null,null,null,null,null,null,null,null,null,null,16,16,16,16,16,16,16,null,null,null,null,null,null,null,112,5040,5040]
[null,308,"-",null,"Vendor No 2",null,"MIFPUC-4","2018-10-28","2018-11-03",{"$f":"IF(AND(H325>='A - Contractor Summary'!$C$36,I325<='A - Contractor Summary'!$C$42),\"Yes\",\"No\")","v":"No"},null,null,null,null,null,null,null,null,null,null,null,null,null,null,null,null,null,null,null,null,null,null,null,null,null,null,null,null,null,null,null,null,null,null,null,null,0,0,0]
[null,309,"Pick Up Truck",null,"Vendor No 2",null,"MIFPUC-4","2018-10-28","2018-11-03",{"$f":"IF(AND(H326>='A - Contractor Summary'!$C$36,I326<='A - Contractor Summary'!$C$42),\"Yes\",\"No\")","v":"No"},{"$f":"VLOOKUP(C326,'C.1 - Rate Sheets'!$H$15:$I$46,2,FALSE)","v":20},null,null,null,null,null,null,null,null,null,null,null,null,null,null,null,null,null,null,null,null,null,16,16,16,16,16,16,16,null,null,null,null,null,null,null,112,2240,2240]
[null,310,"Bucket Truck Up to 55'",null,"Vendor No 2",null,"MIFPUC-4","2018-10-28","2018-11-03",{"$f":"IF(AND(H327>='A - Contractor Summary'!$C$36,I327<='A - Contractor Summary'!$C$42),\"Yes\",\"No\")","v":"No"},{"$f":"VLOOKUP(C327,'C.1 - Rate Sheets'!$H$15:$I$46,2,FALSE)","v":50},null,null,null,null,null,null,null,null,null,null,null,null,null,null,null,null,null,null,null,null,null,16,16,16,16,16,16,16,null,null,null,null,null,null,null,112,5600,5600]
[null,311,"Mechanic Truck",null,"Vendor No 2",null,"MIFPUC-4","2018-10-28","2018-11-03",{"$f":"IF(AND(H328>='A - Contractor Summary'!$C$36,I328<='A - Contractor Summary'!$C$42),\"Yes\",\"No\")","v":"No"},{"$f":"VLOOKUP(C328,'C.1 - Rate Sheets'!$H$15:$I$46,2,FALSE)","v":45},null,null,null,null,null,null,null,null,null,null,null,null,null,null,null,null,null,null,null,null,null,16,16,16,16,16,16,16,null,null,null,null,null,null,null,112,5040,5040]
[null,312,"Bucket Truck Up to 55'",null,"Vendor No 2",null,"MIFPUC-4","2018-10-28","2018-11-03",{"$f":"IF(AND(H329>='A - Contractor Summary'!$C$36,I329<='A - Contractor Summary'!$C$42),\"Yes\",\"No\")","v":"No"},{"$f":"VLOOKUP(C329,'C.1 - Rate Sheets'!$H$15:$I$46,2,FALSE)","v":50},null,null,null,null,null,null,null,null,null,null,null,null,null,null,null,null,null,null,null,null,null,16,16,16,16,16,16,16,null,null,null,null,null,null,null,112,5600,5600]
[null,313,"Digger Derrick Greater Than 50'",null,"Vendor No 2",null,"MIFPUC-4","2018-10-28","2018-11-03",{"$f":"IF(AND(H330>='A - Contractor Summary'!$C$36,I330<='A - Contractor Summary'!$C$42),\"Yes\",\"No\")","v":"No"},{"$f":"VLOOKUP(C330,'C.1 - Rate Sheets'!$H$15:$I$46,2,FALSE)","v":60},null,null,null,null,null,null,null,null,null,null,null,null,null,null,null,null,null,null,null,null,null,16,16,16,16,16,16,16,null,null,null,null,null,null,null,112,6720,6720]
[null,314,"Pick Up Truck",null,"Vendor No 2",null,"MIFPUC-4","2018-10-28","2018-11-03",{"$f":"IF(AND(H331>='A - Contractor Summary'!$C$36,I331<='A - Contractor Summary'!$C$42),\"Yes\",\"No\")","v":"No"},{"$f":"VLOOKUP(C331,'C.1 - Rate Sheets'!$H$15:$I$46,2,FALSE)","v":20},null,null,null,null,null,null,null,null,null,null,null,null,null,null,null,null,null,null,null,null,null,16,16,16,16,16,16,16,null,null,null,null,null,null,null,112,2240,2240]
[null,315,"Pick Up Truck",null,"Vendor No 2",null,"MIFPUC-4","2018-10-28","2018-11-03",{"$f":"IF(AND(H332>='A - Contractor Summary'!$C$36,I332<='A - Contractor Summary'!$C$42),\"Yes\",\"No\")","v":"No"},{"$f":"VLOOKUP(C332,'C.1 - Rate Sheets'!$H$15:$I$46,2,FALSE)","v":20},null,null,null,null,null,null,null,null,null,null,null,null,null,null,null,null,null,null,null,null,null,16,16,16,16,16,16,16,null,null,null,null,null,null,null,112,2240,2240]
[null,316,"Pick Up Truck",null,"Vendor No 2",null,"MIFPUC-4","2018-10-28","2018-11-03",{"$f":"IF(AND(H333>='A - Contractor Summary'!$C$36,I333<='A - Contractor Summary'!$C$42),\"Yes\",\"No\")","v":"No"},{"$f":"VLOOKUP(C333,'C.1 - Rate Sheets'!$H$15:$I$46,2,FALSE)","v":20},null,null,null,null,null,null,null,null,null,null,null,null,null,null,null,null,null,null,null,null,null,16,16,16,16,16,16,16,null,null,null,null,null,null,null,112,2240,2240]
[null,317,"Mechanic Truck",null,"Vendor No 2",null,"MIFPUC-4","2018-10-28","2018-11-03",{"$f":"IF(AND(H334>='A - Contractor Summary'!$C$36,I334<='A - Contractor Summary'!$C$42),\"Yes\",\"No\")","v":"No"},{"$f":"VLOOKUP(C334,'C.1 - Rate Sheets'!$H$15:$I$46,2,FALSE)","v":45},null,null,null,null,null,null,null,null,null,null,null,null,null,null,null,null,null,null,null,null,null,16,16,16,16,16,16,16,null,null,null,null,null,null,null,112,5040,5040]
[null,318,"Pick Up Truck",null,"Vendor No 2",null,"MIFPUC-4","2018-10-28","2018-11-03",{"$f":"IF(AND(H335>='A - Contractor Summary'!$C$36,I335<='A - Contractor Summary'!$C$42),\"Yes\",\"No\")","v":"No"},{"$f":"VLOOKUP(C335,'C.1 - Rate Sheets'!$H$15:$I$46,2,FALSE)","v":20},null,null,null,null,null,null,null,null,null,null,null,null,null,null,null,null,null,null,null,null,null,16,16,16,16,16,16,16,null,null,null,null,null,null,null,112,2240,2240]
[null,319,"Bucket Truck Up to 55'",null,"Vendor No 2",null,"MIFPUC-4","2018-10-28","2018-11-03",{"$f":"IF(AND(H336>='A - Contractor Summary'!$C$36,I336<='A - Contractor Summary'!$C$42),\"Yes\",\"No\")","v":"No"},{"$f":"VLOOKUP(C336,'C.1 - Rate Sheets'!$H$15:$I$46,2,FALSE)","v":50},null,null,null,null,null,null,null,null,null,null,null,null,null,null,null,null,null,null,null,null,null,16,16,16,16,16,16,16,null,null,null,null,null,null,null,112,5600,5600]
[null,320,"Bucket Truck Up to 55'",null,"Vendor No 2",null,"MIFPUC-4","2018-10-28","2018-11-03",{"$f":"IF(AND(H337>='A - Contractor Summary'!$C$36,I337<='A - Contractor Summary'!$C$42),\"Yes\",\"No\")","v":"No"},{"$f":"VLOOKUP(C337,'C.1 - Rate Sheets'!$H$15:$I$46,2,FALSE)","v":50},null,null,null,null,null,null,null,null,null,null,null,null,null,null,null,null,null,null,null,null,null,16,16,16,16,16,16,16,null,null,null,null,null,null,null,112,5600,5600]
[null,321,"Digger Derrick Up to 50'",null,"Vendor No 2",null,"MIFPUC-4","2018-10-28","2018-11-03",{"$f":"IF(AND(H338>='A - Contractor Summary'!$C$36,I338<='A - Contractor Summary'!$C$42),\"Yes\",\"No\")","v":"No"},{"$f":"VLOOKUP(C338,'C.1 - Rate Sheets'!$H$15:$I$46,2,FALSE)","v":50},null,null,null,null,null,null,null,null,null,null,null,null,null,null,null,null,null,null,null,null,null,16,16,16,16,16,16,16,null,null,null,null,null,null,null,112,5600,5600]
[null,322,"Rear Property Machine",null,"Vendor No 2",null,"MIFPUC-4","2018-10-28","2018-11-03",{"$f":"IF(AND(H339>='A - Contractor Summary'!$C$36,I339<='A - Contractor Summary'!$C$42),\"Yes\",\"No\")","v":"No"},{"$f":"VLOOKUP(C339,'C.1 - Rate Sheets'!$H$15:$I$46,2,FALSE)","v":50},null,null,null,null,null,null,null,null,null,null,null,null,null,null,null,null,null,null,null,null,null,16,16,16,16,16,16,16,null,null,null,null,null,null,null,112,5600,5600]
[null,323,"Pick Up Truck",null,"Vendor No 2",null,"MIFPUC-4","2018-10-28","2018-11-03",{"$f":"IF(AND(H340>='A - Contractor Summary'!$C$36,I340<='A - Contractor Summary'!$C$42),\"Yes\",\"No\")","v":"No"},{"$f":"VLOOKUP(C340,'C.1 - Rate Sheets'!$H$15:$I$46,2,FALSE)","v":20},null,null,null,null,null,null,null,null,null,null,null,null,null,null,null,null,null,null,null,null,null,16,16,16,16,16,16,16,null,null,null,null,null,null,null,112,2240,2240]
[null,324,"Bucket Truck Up to 55'",null,"Vendor No 2",null,"MIFPUC-4","2018-10-28","2018-11-03",{"$f":"IF(AND(H341>='A - Contractor Summary'!$C$36,I341<='A - Contractor Summary'!$C$42),\"Yes\",\"No\")","v":"No"},{"$f":"VLOOKUP(C341,'C.1 - Rate Sheets'!$H$15:$I$46,2,FALSE)","v":50},null,null,null,null,null,null,null,null,null,null,null,null,null,null,null,null,null,null,null,null,null,16,16,16,16,16,16,16,null,null,null,null,null,null,null,112,5600,5600]
[null,325,"Bucket Truck Up to 55'",null,"Vendor No 2",null,"MIFPUC-4","2018-10-28","2018-11-03",{"$f":"IF(AND(H342>='A - Contractor Summary'!$C$36,I342<='A - Contractor Summary'!$C$42),\"Yes\",\"No\")","v":"No"},{"$f":"VLOOKUP(C342,'C.1 - Rate Sheets'!$H$15:$I$46,2,FALSE)","v":50},null,null,null,null,null,null,null,null,null,null,null,null,null,null,null,null,null,null,null,null,null,16,16,16,16,16,16,16,null,null,null,null,null,null,null,112,5600,5600]
[null,326,"Digger Derrick Up to 50'",null,"Vendor No 2",null,"MIFPUC-4","2018-10-28","2018-11-03",{"$f":"IF(AND(H343>='A - Contractor Summary'!$C$36,I343<='A - Contractor Summary'!$C$42),\"Yes\",\"No\")","v":"No"},{"$f":"VLOOKUP(C343,'C.1 - Rate Sheets'!$H$15:$I$46,2,FALSE)","v":50},null,null,null,null,null,null,null,null,null,null,null,null,null,null,null,null,null,null,null,null,null,16,16,16,16,16,16,16,null,null,null,null,null,null,null,{"$f":"SUM(L343:AT343)","v":112},{"$f":"AU343*K343","v":5600},{"$f":"AV343-AX343","v":5600}]
[null,327,"Pole Trailer",null,"Vendor No 2",null,"MIFPUC-4","2018-10-28","2018-11-03",{"$f":"IF(AND(H344>='A - Contractor Summary'!$C$36,I344<='A - Contractor Summary'!$C$42),\"Yes\",\"No\")","v":"No"},{"$f":"VLOOKUP(C344,'C.1 - Rate Sheets'!$H$15:$I$46,2,FALSE)","v":15},null,null,null,null,null,null,null,null,null,null,null,null,null,null,null,null,null,null,null,null,null,16,16,16,16,16,16,16,null,null,null,null,null,null,null,112,1680,1680]
[null,328,"Pick Up Truck",null,"Vendor No 2",null,"MIFPUC-4","2018-10-28","2018-11-03",{"$f":"IF(AND(H345>='A - Contractor Summary'!$C$36,I345<='A - Contractor Summary'!$C$42),\"Yes\",\"No\")","v":"No"},{"$f":"VLOOKUP(C345,'C.1 - Rate Sheets'!$H$15:$I$46,2,FALSE)","v":20},null,null,null,null,null,null,null,null,null,null,null,null,null,null,null,null,null,null,null,null,null,16,16,16,16,16,16,16,null,null,null,null,null,null,null,112,2240,2240]
[null,329,"Pick Up Truck",null,"Vendor No 2",null,"MIFPUC-4","2018-10-28","2018-11-03",{"$f":"IF(AND(H346>='A - Contractor Summary'!$C$36,I346<='A - Contractor Summary'!$C$42),\"Yes\",\"No\")","v":"No"},{"$f":"VLOOKUP(C346,'C.1 - Rate Sheets'!$H$15:$I$46,2,FALSE)","v":20},null,null,null,null,null,null,null,null,null,null,null,null,null,null,null,null,null,null,null,null,null,16,16,16,16,16,16,16,null,null,null,null,null,null,null,112,2240,2240]
[null,330,"Pick Up Truck",null,"Vendor No 2",null,"MIFPUC-4","2018-10-28","2018-11-03",{"$f":"IF(AND(H347>='A - Contractor Summary'!$C$36,I347<='A - Contractor Summary'!$C$42),\"Yes\",\"No\")","v":"No"},{"$f":"VLOOKUP(C347,'C.1 - Rate Sheets'!$H$15:$I$46,2,FALSE)","v":20},null,null,null,null,null,null,null,null,null,null,null,null,null,null,null,null,null,null,null,null,null,16,16,16,16,16,16,16,null,null,null,null,null,null,null,112,2240,2240]
[null,331,"Pick Up Truck",null,"Vendor No 2",null,"MIFPUC-4","2018-10-28","2018-11-03",{"$f":"IF(AND(H348>='A - Contractor Summary'!$C$36,I348<='A - Contractor Summary'!$C$42),\"Yes\",\"No\")","v":"No"},{"$f":"VLOOKUP(C348,'C.1 - Rate Sheets'!$H$15:$I$46,2,FALSE)","v":20},null,null,null,null,null,null,null,null,null,null,null,null,null,null,null,null,null,null,null,null,null,16,16,16,16,16,16,16,null,null,null,null,null,null,null,112,2240,2240]
[null,332,"Pick Up Truck",null,"Vendor No 2",null,"MIFPUC-4","2018-10-28","2018-11-03",{"$f":"IF(AND(H349>='A - Contractor Summary'!$C$36,I349<='A - Contractor Summary'!$C$42),\"Yes\",\"No\")","v":"No"},{"$f":"VLOOKUP(C349,'C.1 - Rate Sheets'!$H$15:$I$46,2,FALSE)","v":20},null,null,null,null,null,null,null,null,null,null,null,null,null,null,null,null,null,null,null,null,null,16,16,16,16,16,16,16,null,null,null,null,null,null,null,112,2240,2240]
[null,333,"Bucket Truck Up to 55'",null,"Vendor No 2",null,"MIFPUC-4","2018-10-28","2018-11-03",{"$f":"IF(AND(H350>='A - Contractor Summary'!$C$36,I350<='A - Contractor Summary'!$C$42),\"Yes\",\"No\")","v":"No"},{"$f":"VLOOKUP(C350,'C.1 - Rate Sheets'!$H$15:$I$46,2,FALSE)","v":50},null,null,null,null,null,null,null,null,null,null,null,null,null,null,null,null,null,null,null,null,null,16,16,16,16,16,16,16,null,null,null,null,null,null,null,112,5600,5600]
[null,334,"Bucket Truck Up to 55'",null,"Vendor No 2",null,"MIFPUC-4","2018-10-28","2018-11-03",{"$f":"IF(AND(H351>='A - Contractor Summary'!$C$36,I351<='A - Contractor Summary'!$C$42),\"Yes\",\"No\")","v":"No"},{"$f":"VLOOKUP(C351,'C.1 - Rate Sheets'!$H$15:$I$46,2,FALSE)","v":50},null,null,null,null,null,null,null,null,null,null,null,null,null,null,null,null,null,null,null,null,null,16,16,16,16,16,16,16,null,null,null,null,null,null,null,112,5600,5600]
[null,335,"-",null,"Vendor No 2",null,"MIFPUC-4","2018-10-28","2018-11-03",{"$f":"IF(AND(H352>='A - Contractor Summary'!$C$36,I352<='A - Contractor Summary'!$C$42),\"Yes\",\"No\")","v":"No"},null,null,null,null,null,null,null,null,null,null,null,null,null,null,null,null,null,null,null,null,null,null,null,null,null,null,null,null,null,null,null,null,null,null,null,null,0,0,0]
[null,336,"Mini Excavator",null,"Vendor No 2",null,"MIFPUC-4","2018-10-28","2018-11-03",{"$f":"IF(AND(H353>='A - Contractor Summary'!$C$36,I353<='A - Contractor Summary'!$C$42),\"Yes\",\"No\")","v":"No"},{"$f":"VLOOKUP(C353,'C.1 - Rate Sheets'!$H$15:$I$46,2,FALSE)","v":35},null,null,null,null,null,null,null,null,null,null,null,null,null,null,null,null,null,null,null,null,null,16,16,16,16,16,16,16,null,null,null,null,null,null,null,112,3920,3920]
[null,337,"Pick Up Truck",null,"Vendor No 2",null,"MIFPUC-4","2018-10-28","2018-11-03",{"$f":"IF(AND(H354>='A - Contractor Summary'!$C$36,I354<='A - Contractor Summary'!$C$42),\"Yes\",\"No\")","v":"No"},{"$f":"VLOOKUP(C354,'C.1 - Rate Sheets'!$H$15:$I$46,2,FALSE)","v":20},null,null,null,null,null,null,null,null,null,null,null,null,null,null,null,null,null,null,null,null,null,16,16,16,16,16,16,16,null,null,null,null,null,null,null,112,2240,2240]
[null,338,"Bucket Truck Up to 55'",null,"Vendor No 2",null,"MIFPUC-4","2018-10-28","2018-11-03",{"$f":"IF(AND(H355>='A - Contractor Summary'!$C$36,I355<='A - Contractor Summary'!$C$42),\"Yes\",\"No\")","v":"No"},{"$f":"VLOOKUP(C355,'C.1 - Rate Sheets'!$H$15:$I$46,2,FALSE)","v":50},null,null,null,null,null,null,null,null,null,null,null,null,null,null,null,null,null,null,null,null,null,16,16,16,16,16,16,16,null,null,null,null,null,null,null,112,5600,5600]
[null,339,"Digger Derrick Greater Than 50'",null,"Vendor No 2",null,"MIFPUC-4","2018-10-28","2018-11-03",{"$f":"IF(AND(H356>='A - Contractor Summary'!$C$36,I356<='A - Contractor Summary'!$C$42),\"Yes\",\"No\")","v":"No"},{"$f":"VLOOKUP(C356,'C.1 - Rate Sheets'!$H$15:$I$46,2,FALSE)","v":60},null,null,null,null,null,null,null,null,null,null,null,null,null,null,null,null,null,null,null,null,null,16,16,16,16,16,16,16,null,null,null,null,null,null,null,112,6720,6720]
[null,340,"Rear Property Machine",null,"Vendor No 2",null,"MIFPUC-4","2018-10-28","2018-11-03",{"$f":"IF(AND(H357>='A - Contractor Summary'!$C$36,I357<='A - Contractor Summary'!$C$42),\"Yes\",\"No\")","v":"No"},{"$f":"VLOOKUP(C357,'C.1 - Rate Sheets'!$H$15:$I$46,2,FALSE)","v":50},null,null,null,null,null,null,null,null,null,null,null,null,null,null,null,null,null,null,null,null,null,16,16,16,16,16,16,16,null,null,null,null,null,null,null,112,5600,5600]
[null,341,"Bucket Truck Up to 55'",null,"Vendor No 2",null,"MIFPUC-4","2018-10-28","2018-11-03",{"$f":"IF(AND(H358>='A - Contractor Summary'!$C$36,I358<='A - Contractor Summary'!$C$42),\"Yes\",\"No\")","v":"No"},{"$f":"VLOOKUP(C358,'C.1 - Rate Sheets'!$H$15:$I$46,2,FALSE)","v":50},null,null,null,null,null,null,null,null,null,null,null,null,null,null,null,null,null,null,null,null,null,16,16,16,16,16,16,16,null,null,null,null,null,null,null,112,5600,5600]
[null,342,"Digger Derrick Greater Than 50'",null,"Vendor No 2",null,"MIFPUC-4","2018-10-28","2018-11-03",{"$f":"IF(AND(H359>='A - Contractor Summary'!$C$36,I359<='A - Contractor Summary'!$C$42),\"Yes\",\"No\")","v":"No"},{"$f":"VLOOKUP(C359,'C.1 - Rate Sheets'!$H$15:$I$46,2,FALSE)","v":60},null,null,null,null,null,null,null,null,null,null,null,null,null,null,null,null,null,null,null,null,null,16,16,16,16,16,16,16,null,null,null,null,null,null,null,112,6720,6720]
[null,343,"Bucket Truck Up to 55'",null,"Vendor No 2",null,"MIFPUC-4","2018-10-28","2018-11-03",{"$f":"IF(AND(H360>='A - Contractor Summary'!$C$36,I360<='A - Contractor Summary'!$C$42),\"Yes\",\"No\")","v":"No"},{"$f":"VLOOKUP(C360,'C.1 - Rate Sheets'!$H$15:$I$46,2,FALSE)","v":50},null,null,null,null,null,null,null,null,null,null,null,null,null,null,null,null,null,null,null,null,null,16,16,16,16,16,16,16,null,null,null,null,null,null,null,112,5600,5600]
[null,344,"Bucket Truck Up to 55'",null,"Vendor No 2",null,"MIFPUC-4","2018-10-28","2018-11-03",{"$f":"IF(AND(H361>='A - Contractor Summary'!$C$36,I361<='A - Contractor Summary'!$C$42),\"Yes\",\"No\")","v":"No"},{"$f":"VLOOKUP(C361,'C.1 - Rate Sheets'!$H$15:$I$46,2,FALSE)","v":50},null,null,null,null,null,null,null,null,null,null,null,null,null,null,null,null,null,null,null,null,null,16,16,16,16,16,16,16,null,null,null,null,null,null,null,112,5600,5600]
[null,345,"Pick Up Truck",null,"Vendor No 2",null,"MIFPUC-4","2018-10-28","2018-11-03",{"$f":"IF(AND(H362>='A - Contractor Summary'!$C$36,I362<='A - Contractor Summary'!$C$42),\"Yes\",\"No\")","v":"No"},{"$f":"VLOOKUP(C362,'C.1 - Rate Sheets'!$H$15:$I$46,2,FALSE)","v":20},null,null,null,null,null,null,null,null,null,null,null,null,null,null,null,null,null,null,null,null,null,16,16,16,16,16,16,16,null,null,null,null,null,null,null,112,2240,2240]
[null,346,"-",null,"Vendor No 2",null,"MIFPUC-4","2018-10-28","2018-11-03",{"$f":"IF(AND(H363>='A - Contractor Summary'!$C$36,I363<='A - Contractor Summary'!$C$42),\"Yes\",\"No\")","v":"No"},null,null,null,null,null,null,null,null,null,null,null,null,null,null,null,null,null,null,null,null,null,null,null,null,null,null,null,null,null,null,null,null,null,null,null,null,0,0,0]
[null,347,"Pick Up Truck",null,"Vendor No 2",null,"MIFPUC-4","2018-10-28","2018-11-03",{"$f":"IF(AND(H364>='A - Contractor Summary'!$C$36,I364<='A - Contractor Summary'!$C$42),\"Yes\",\"No\")","v":"No"},{"$f":"VLOOKUP(C364,'C.1 - Rate Sheets'!$H$15:$I$46,2,FALSE)","v":20},null,null,null,null,null,null,null,null,null,null,null,null,null,null,null,null,null,null,null,null,null,16,16,16,16,16,16,16,null,null,null,null,null,null,null,112,2240,2240]
[null,348,"Digger Derrick Up to 50'",null,"Vendor No 2",null,"MIFPUC-4","2018-10-28","2018-11-03",{"$f":"IF(AND(H365>='A - Contractor Summary'!$C$36,I365<='A - Contractor Summary'!$C$42),\"Yes\",\"No\")","v":"No"},{"$f":"VLOOKUP(C365,'C.1 - Rate Sheets'!$H$15:$I$46,2,FALSE)","v":50},null,null,null,null,null,null,null,null,null,null,null,null,null,null,null,null,null,null,null,null,null,16,16,16,16,16,16,16,null,null,null,null,null,null,null,112,5600,5600]
[null,349,"Bucket Truck Up to 55'",null,"Vendor No 2",null,"MIFPUC-4","2018-10-28","2018-11-03",{"$f":"IF(AND(H366>='A - Contractor Summary'!$C$36,I366<='A - Contractor Summary'!$C$42),\"Yes\",\"No\")","v":"No"},{"$f":"VLOOKUP(C366,'C.1 - Rate Sheets'!$H$15:$I$46,2,FALSE)","v":50},null,null,null,null,null,null,null,null,null,null,null,null,null,null,null,null,null,null,null,null,null,16,16,16,16,16,16,16,null,null,null,null,null,null,null,112,5600,5600]
[null,350,"Bucket Truck Up to 55'",null,"Vendor No 2",null,"MIFPUC-4","2018-10-28","2018-11-03",{"$f":"IF(AND(H367>='A - Contractor Summary'!$C$36,I367<='A - Contractor Summary'!$C$42),\"Yes\",\"No\")","v":"No"},{"$f":"VLOOKUP(C367,'C.1 - Rate Sheets'!$H$15:$I$46,2,FALSE)","v":50},null,null,null,null,null,null,null,null,null,null,null,null,null,null,null,null,null,null,null,null,null,16,16,16,16,16,16,16,null,null,null,null,null,null,null,112,5600,5600]
[null,351,"Bucket Truck Up to 55'",null,"Vendor No 2",null,"MIFPUC-4","2018-10-28","2018-11-03",{"$f":"IF(AND(H368>='A - Contractor Summary'!$C$36,I368<='A - Contractor Summary'!$C$42),\"Yes\",\"No\")","v":"No"},{"$f":"VLOOKUP(C368,'C.1 - Rate Sheets'!$H$15:$I$46,2,FALSE)","v":50},null,null,null,null,null,null,null,null,null,null,null,null,null,null,null,null,null,null,null,null,null,16,16,16,16,16,16,16,null,null,null,null,null,null,null,112,5600,5600]
[null,352,"Pick Up Truck",null,"Vendor No 2",null,"MIFPUC-4","2018-10-28","2018-11-03",{"$f":"IF(AND(H369>='A - Contractor Summary'!$C$36,I369<='A - Contractor Summary'!$C$42),\"Yes\",\"No\")","v":"No"},{"$f":"VLOOKUP(C369,'C.1 - Rate Sheets'!$H$15:$I$46,2,FALSE)","v":20},null,null,null,null,null,null,null,null,null,null,null,null,null,null,null,null,null,null,null,null,null,16,16,16,16,16,16,16,null,null,null,null,null,null,null,112,2240,2240]
[null,353,"Mechanic Truck",null,"Vendor No 2",null,"MIFPUC-4","2018-10-28","2018-11-03",{"$f":"IF(AND(H370>='A - Contractor Summary'!$C$36,I370<='A - Contractor Summary'!$C$42),\"Yes\",\"No\")","v":"No"},{"$f":"VLOOKUP(C370,'C.1 - Rate Sheets'!$H$15:$I$46,2,FALSE)","v":45},null,null,null,null,null,null,null,null,null,null,null,null,null,null,null,null,null,null,null,null,null,16,16,16,16,16,16,16,null,null,null,null,null,null,null,112,5040,5040]
[null,354,"Mini Excavator",null,"Vendor No 2",null,"MIFPUC-4","2018-10-28","2018-11-03",{"$f":"IF(AND(H371>='A - Contractor Summary'!$C$36,I371<='A - Contractor Summary'!$C$42),\"Yes\",\"No\")","v":"No"},{"$f":"VLOOKUP(C371,'C.1 - Rate Sheets'!$H$15:$I$46,2,FALSE)","v":35},null,null,null,null,null,null,null,null,null,null,null,null,null,null,null,null,null,null,null,null,null,16,16,16,16,16,16,16,null,null,null,null,null,null,null,112,3920,3920]
[null,355,"Mechanic Truck",null,"Vendor No 2",null,"MIFPUC-4","2018-10-28","2018-11-03",{"$f":"IF(AND(H372>='A - Contractor Summary'!$C$36,I372<='A - Contractor Summary'!$C$42),\"Yes\",\"No\")","v":"No"},{"$f":"VLOOKUP(C372,'C.1 - Rate Sheets'!$H$15:$I$46,2,FALSE)","v":45},null,null,null,null,null,null,null,null,null,null,null,null,null,null,null,null,null,null,null,null,null,16,16,16,16,16,16,16,null,null,null,null,null,null,null,112,5040,5040]
[null,356,"Mechanic Truck",null,"Vendor No 2",null,"MIFPUC-4","2018-10-28","2018-11-03",{"$f":"IF(AND(H373>='A - Contractor Summary'!$C$36,I373<='A - Contractor Summary'!$C$42),\"Yes\",\"No\")","v":"No"},{"$f":"VLOOKUP(C373,'C.1 - Rate Sheets'!$H$15:$I$46,2,FALSE)","v":45},null,null,null,null,null,null,null,null,null,null,null,null,null,null,null,null,null,null,null,null,null,16,16,16,16,16,16,16,null,null,null,null,null,null,null,112,5040,5040]
[null,357,"Tractor( Semi)",null,"Vendor No 2",null,"MIFPUC-4","2018-10-28","2018-11-03",{"$f":"IF(AND(H374>='A - Contractor Summary'!$C$36,I374<='A - Contractor Summary'!$C$42),\"Yes\",\"No\")","v":"No"},{"$f":"VLOOKUP(C374,'C.1 - Rate Sheets'!$H$15:$I$46,2,FALSE)","v":45},null,null,null,null,null,null,null,null,null,null,null,null,null,null,null,null,null,null,null,null,null,16,16,16,16,16,16,16,null,null,null,null,null,null,null,112,5040,5040]
[null,358,"Mechanic Truck",null,"Vendor No 2",null,"MIFPUC-4","2018-10-28","2018-11-03",{"$f":"IF(AND(H375>='A - Contractor Summary'!$C$36,I375<='A - Contractor Summary'!$C$42),\"Yes\",\"No\")","v":"No"},{"$f":"VLOOKUP(C375,'C.1 - Rate Sheets'!$H$15:$I$46,2,FALSE)","v":45},null,null,null,null,null,null,null,null,null,null,null,null,null,null,null,null,null,null,null,null,null,16,16,16,16,16,16,16,null,null,null,null,null,null,null,112,5040,5040]
[null,359,"Tractor( Semi)",null,"Vendor No 2",null,"MIFPUC-4","2018-10-28","2018-11-03",{"$f":"IF(AND(H376>='A - Contractor Summary'!$C$36,I376<='A - Contractor Summary'!$C$42),\"Yes\",\"No\")","v":"No"},{"$f":"VLOOKUP(C376,'C.1 - Rate Sheets'!$H$15:$I$46,2,FALSE)","v":45},null,null,null,null,null,null,null,null,null,null,null,null,null,null,null,null,null,null,null,null,null,16,16,16,16,16,16,16,null,null,null,null,null,null,null,112,5040,5040]
[null,360,"Mechanic Truck",null,"Vendor No 2",null,"MIFPUC-4","2018-10-28","2018-11-03",{"$f":"IF(AND(H377>='A - Contractor Summary'!$C$36,I377<='A - Contractor Summary'!$C$42),\"Yes\",\"No\")","v":"No"},{"$f":"VLOOKUP(C377,'C.1 - Rate Sheets'!$H$15:$I$46,2,FALSE)","v":45},null,null,null,null,null,null,null,null,null,null,null,null,null,null,null,null,null,null,null,null,null,16,16,16,16,16,16,16,null,null,null,null,null,null,null,112,5040,5040]
[null,361,"Low Boy",null,"Vendor No 2",null,"MIFPUC-4","2018-10-28","2018-11-03",{"$f":"IF(AND(H378>='A - Contractor Summary'!$C$36,I378<='A - Contractor Summary'!$C$42),\"Yes\",\"No\")","v":"No"},{"$f":"VLOOKUP(C378,'C.1 - Rate Sheets'!$H$15:$I$46,2,FALSE)","v":38},null,null,null,null,null,null,null,null,null,null,null,null,null,null,null,null,null,null,null,null,null,16,16,16,16,16,16,16,null,null,null,null,null,null,null,112,4256,4256]
[null,362,"Low Boy",null,"Vendor No 2",null,"MIFPUC-4","2018-10-28","2018-11-03",{"$f":"IF(AND(H379>='A - Contractor Summary'!$C$36,I379<='A - Contractor Summary'!$C$42),\"Yes\",\"No\")","v":"No"},{"$f":"VLOOKUP(C379,'C.1 - Rate Sheets'!$H$15:$I$46,2,FALSE)","v":38},null,null,null,null,null,null,null,null,null,null,null,null,null,null,null,null,null,null,null,null,null,16,16,16,16,16,16,16,null,null,null,null,null,null,null,112,4256,4256]
[null,363,"Digger Derrick Greater Than 50'",null,"Vendor No 2",null,"MIFPUC-4","2018-10-28","2018-11-03",{"$f":"IF(AND(H380>='A - Contractor Summary'!$C$36,I380<='A - Contractor Summary'!$C$42),\"Yes\",\"No\")","v":"No"},{"$f":"VLOOKUP(C380,'C.1 - Rate Sheets'!$H$15:$I$46,2,FALSE)","v":60},null,null,null,null,null,null,null,null,null,null,null,null,null,null,null,null,null,null,null,null,null,16,16,16,16,16,16,16,null,null,null,null,null,null,null,112,6720,6720]
[null,364,"Bucket Truck Tracked",null,"Vendor No 2",null,"MIFPUC-4","2018-10-28","2018-11-03",{"$f":"IF(AND(H381>='A - Contractor Summary'!$C$36,I381<='A - Contractor Summary'!$C$42),\"Yes\",\"No\")","v":"No"},{"$f":"VLOOKUP(C381,'C.1 - Rate Sheets'!$H$15:$I$46,2,FALSE)","v":70},null,null,null,null,null,null,null,null,null,null,null,null,null,null,null,null,null,null,null,null,null,16,16,16,16,16,16,16,null,null,null,null,null,null,null,112,7840,7840]
[null,365,"Digger Tracked",null,"Vendor No 2",null,"MIFPUC-4","2018-10-28","2018-11-03",{"$f":"IF(AND(H382>='A - Contractor Summary'!$C$36,I382<='A - Contractor Summary'!$C$42),\"Yes\",\"No\")","v":"No"},{"$f":"VLOOKUP(C382,'C.1 - Rate Sheets'!$H$15:$I$46,2,FALSE)","v":70},null,null,null,null,null,null,null,null,null,null,null,null,null,null,null,null,null,null,null,null,null,16,16,16,16,16,16,16,null,null,null,null,null,null,null,112,7840,7840]
[null,366,"Rope Rig (puller)",null,"Vendor No 2",null,"MIFPUC-4","2018-10-28","2018-11-03",{"$f":"IF(AND(H383>='A - Contractor Summary'!$C$36,I383<='A - Contractor Summary'!$C$42),\"Yes\",\"No\")","v":"No"},{"$f":"VLOOKUP(C383,'C.1 - Rate Sheets'!$H$15:$I$46,2,FALSE)","v":55},null,null,null,null,null,null,null,null,null,null,null,null,null,null,null,null,null,null,null,null,null,16,16,16,16,16,16,16,null,null,null,null,null,null,null,112,6160,6160]
[null,367,"Bucket Truck over 65'",null,"Vendor No 2",null,"MIFPUC-4","2018-10-28","2018-11-03",{"$f":"IF(AND(H384>='A - Contractor Summary'!$C$36,I384<='A - Contractor Summary'!$C$42),\"Yes\",\"No\")","v":"No"},{"$f":"VLOOKUP(C384,'C.1 - Rate Sheets'!$H$15:$I$46,2,FALSE)","v":65},null,null,null,null,null,null,null,null,null,null,null,null,null,null,null,null,null,null,null,null,null,16,16,16,16,16,16,16,null,null,null,null,null,null,null,112,7280,7280]
[null,368,"Bucket Truck Up to 55'",null,"Vendor No 2",null,"MIFPUC-4","2018-10-28","2018-11-03",{"$f":"IF(AND(H385>='A - Contractor Summary'!$C$36,I385<='A - Contractor Summary'!$C$42),\"Yes\",\"No\")","v":"No"},{"$f":"VLOOKUP(C385,'C.1 - Rate Sheets'!$H$15:$I$46,2,FALSE)","v":50},null,null,null,null,null,null,null,null,null,null,null,null,null,null,null,null,null,null,null,null,null,16,16,16,16,16,16,16,null,null,null,null,null,null,null,112,5600,5600]
[null,369,"Digger Derrick Up to 50'",null,"Vendor No 2",null,"MIFPUC-4","2018-10-28","2018-11-03",{"$f":"IF(AND(H386>='A - Contractor Summary'!$C$36,I386<='A - Contractor Summary'!$C$42),\"Yes\",\"No\")","v":"No"},{"$f":"VLOOKUP(C386,'C.1 - Rate Sheets'!$H$15:$I$46,2,FALSE)","v":50},null,null,null,null,null,null,null,null,null,null,null,null,null,null,null,null,null,null,null,null,null,16,16,16,16,16,16,16,null,null,null,null,null,null,null,112,5600,5600]
[null,370,"Rope Rig (puller)",null,"Vendor No 2",null,"MIFPUC-4","2018-10-28","2018-11-03",{"$f":"IF(AND(H387>='A - Contractor Summary'!$C$36,I387<='A - Contractor Summary'!$C$42),\"Yes\",\"No\")","v":"No"},{"$f":"VLOOKUP(C387,'C.1 - Rate Sheets'!$H$15:$I$46,2,FALSE)","v":55},null,null,null,null,null,null,null,null,null,null,null,null,null,null,null,null,null,null,null,null,null,16,16,16,16,16,16,16,null,null,null,null,null,null,null,112,6160,6160]
[null,371,"Rope Rig (puller)",null,"Vendor No 2",null,"MIFPUC-4","2018-10-28","2018-11-03",{"$f":"IF(AND(H388>='A - Contractor Summary'!$C$36,I388<='A - Contractor Summary'!$C$42),\"Yes\",\"No\")","v":"No"},{"$f":"VLOOKUP(C388,'C.1 - Rate Sheets'!$H$15:$I$46,2,FALSE)","v":55},null,null,null,null,null,null,null,null,null,null,null,null,null,null,null,null,null,null,null,null,null,16,16,16,16,16,16,16,null,null,null,null,null,null,null,112,6160,6160]
[null,372,"45 Ton Crane",null,"Vendor No 2",null,"MIFPUC-4","2018-10-28","2018-11-03",{"$f":"IF(AND(H389>='A - Contractor Summary'!$C$36,I389<='A - Contractor Summary'!$C$42),\"Yes\",\"No\")","v":"No"},{"$f":"VLOOKUP(C389,'C.1 - Rate Sheets'!$H$15:$I$46,2,FALSE)","v":145},null,null,null,null,null,null,null,null,null,null,null,null,null,null,null,null,null,null,null,null,null,16,16,16,16,16,16,16,null,null,null,null,null,null,null,112,16240,16240]
[null,373,"Mechanic Truck",null,"Vendor No 2",null,"MIFPUC-4","2018-10-28","2018-11-03",{"$f":"IF(AND(H390>='A - Contractor Summary'!$C$36,I390<='A - Contractor Summary'!$C$42),\"Yes\",\"No\")","v":"No"},{"$f":"VLOOKUP(C390,'C.1 - Rate Sheets'!$H$15:$I$46,2,FALSE)","v":45},null,null,null,null,null,null,null,null,null,null,null,null,null,null,null,null,null,null,null,null,null,16,16,16,16,16,16,16,null,null,null,null,null,null,null,112,5040,5040]
[null,374,"Pick Up Truck",null,"Vendor No 2",null,"MIFPUC-4","2018-10-28","2018-11-03",{"$f":"IF(AND(H391>='A - Contractor Summary'!$C$36,I391<='A - Contractor Summary'!$C$42),\"Yes\",\"No\")","v":"No"},{"$f":"VLOOKUP(C391,'C.1 - Rate Sheets'!$H$15:$I$46,2,FALSE)","v":20},null,null,null,null,null,null,null,null,null,null,null,null,null,null,null,null,null,null,null,null,null,16,16,16,16,16,16,16,null,null,null,null,null,null,null,112,2240,2240]
[null,375,"Bucket Truck Up to 55'",null,"Vendor No 2",null,"MIFPUC-4","2018-10-28","2018-11-03",{"$f":"IF(AND(H392>='A - Contractor Summary'!$C$36,I392<='A - Contractor Summary'!$C$42),\"Yes\",\"No\")","v":"No"},{"$f":"VLOOKUP(C392,'C.1 - Rate Sheets'!$H$15:$I$46,2,FALSE)","v":50},null,null,null,null,null,null,null,null,null,null,null,null,null,null,null,null,null,null,null,null,null,16,16,16,16,16,16,16,null,null,null,null,null,null,null,112,5600,5600]
[null,376,"Bucket Truck Up to 55'",null,"Vendor No 2",null,"MIFPUC-4","2018-10-28","2018-11-03",{"$f":"IF(AND(H393>='A - Contractor Summary'!$C$36,I393<='A - Contractor Summary'!$C$42),\"Yes\",\"No\")","v":"No"},{"$f":"VLOOKUP(C393,'C.1 - Rate Sheets'!$H$15:$I$46,2,FALSE)","v":50},null,null,null,null,null,null,null,null,null,null,null,null,null,null,null,null,null,null,null,null,null,16,16,16,16,16,16,16,null,null,null,null,null,null,null,112,5600,5600]
[null,377,"Digger Derrick Up to 50'",null,"Vendor No 2",null,"MIFPUC-4","2018-10-28","2018-11-03",{"$f":"IF(AND(H394>='A - Contractor Summary'!$C$36,I394<='A - Contractor Summary'!$C$42),\"Yes\",\"No\")","v":"No"},{"$f":"VLOOKUP(C394,'C.1 - Rate Sheets'!$H$15:$I$46,2,FALSE)","v":50},null,null,null,null,null,null,null,null,null,null,null,null,null,null,null,null,null,null,null,null,null,16,16,16,16,16,16,16,null,null,null,null,null,null,null,112,5600,5600]
[null,378,"Rear Property Machine",null,"Vendor No 2",null,"MIFPUC-4","2018-10-28","2018-11-03",{"$f":"IF(AND(H395>='A - Contractor Summary'!$C$36,I395<='A - Contractor Summary'!$C$42),\"Yes\",\"No\")","v":"No"},{"$f":"VLOOKUP(C395,'C.1 - Rate Sheets'!$H$15:$I$46,2,FALSE)","v":50},null,null,null,null,null,null,null,null,null,null,null,null,null,null,null,null,null,null,null,null,null,16,16,16,16,16,16,16,null,null,null,null,null,null,null,112,5600,5600]
[null,379,"Bucket Truck Up to 55'",null,"Vendor No 2",null,"MIFPUC-4","2018-10-28","2018-11-03",{"$f":"IF(AND(H396>='A - Contractor Summary'!$C$36,I396<='A - Contractor Summary'!$C$42),\"Yes\",\"No\")","v":"No"},{"$f":"VLOOKUP(C396,'C.1 - Rate Sheets'!$H$15:$I$46,2,FALSE)","v":50},null,null,null,null,null,null,null,null,null,null,null,null,null,null,null,null,null,null,null,null,null,16,16,16,16,16,16,16,null,null,null,null,null,null,null,112,5600,5600]
[null,380,"Bucket Truck Up to 55'",null,"Vendor No 2",null,"MIFPUC-4","2018-10-28","2018-11-03",{"$f":"IF(AND(H397>='A - Contractor Summary'!$C$36,I397<='A - Contractor Summary'!$C$42),\"Yes\",\"No\")","v":"No"},{"$f":"VLOOKUP(C397,'C.1 - Rate Sheets'!$H$15:$I$46,2,FALSE)","v":50},null,null,null,null,null,null,null,null,null,null,null,null,null,null,null,null,null,null,null,null,null,16,16,16,16,16,16,16,null,null,null,null,null,null,null,112,5600,5600]
[null,381,"Digger Derrick Up to 50'",null,"Vendor No 2",null,"MIFPUC-4","2018-10-28","2018-11-03",{"$f":"IF(AND(H398>='A - Contractor Summary'!$C$36,I398<='A - Contractor Summary'!$C$42),\"Yes\",\"No\")","v":"No"},{"$f":"VLOOKUP(C398,'C.1 - Rate Sheets'!$H$15:$I$46,2,FALSE)","v":50},null,null,null,null,null,null,null,null,null,null,null,null,null,null,null,null,null,null,null,null,null,16,16,16,16,16,16,16,null,null,null,null,null,null,null,112,5600,5600]
[null,382,"Rear Property Machine",null,"Vendor No 2",null,"MIFPUC-4","2018-10-28","2018-11-03",{"$f":"IF(AND(H399>='A - Contractor Summary'!$C$36,I399<='A - Contractor Summary'!$C$42),\"Yes\",\"No\")","v":"No"},{"$f":"VLOOKUP(C399,'C.1 - Rate Sheets'!$H$15:$I$46,2,FALSE)","v":50},null,null,null,null,null,null,null,null,null,null,null,null,null,null,null,null,null,null,null,null,null,16,16,16,16,16,16,16,null,null,null,null,null,null,null,112,5600,5600]
[null,383,"Bucket Truck Up to 55'",null,"Vendor No 2",null,"MIFPUC-4","2018-10-28","2018-11-03",{"$f":"IF(AND(H400>='A - Contractor Summary'!$C$36,I400<='A - Contractor Summary'!$C$42),\"Yes\",\"No\")","v":"No"},{"$f":"VLOOKUP(C400,'C.1 - Rate Sheets'!$H$15:$I$46,2,FALSE)","v":50},null,null,null,null,null,null,null,null,null,null,null,null,null,null,null,null,null,null,null,null,null,16,16,16,16,16,16,16,null,null,null,null,null,null,null,112,5600,5600]
[null,384,"Bucket Truck Up to 55'",null,"Vendor No 2",null,"MIFPUC-4","2018-10-28","2018-11-03",{"$f":"IF(AND(H401>='A - Contractor Summary'!$C$36,I401<='A - Contractor Summary'!$C$42),\"Yes\",\"No\")","v":"No"},{"$f":"VLOOKUP(C401,'C.1 - Rate Sheets'!$H$15:$I$46,2,FALSE)","v":50},null,null,null,null,null,null,null,null,null,null,null,null,null,null,null,null,null,null,null,null,null,16,16,16,16,16,16,16,null,null,null,null,null,null,null,112,5600,5600]
[null,385,"Digger Derrick Up to 50'",null,"Vendor No 2",null,"MIFPUC-4","2018-10-28","2018-11-03",{"$f":"IF(AND(H402>='A - Contractor Summary'!$C$36,I402<='A - Contractor Summary'!$C$42),\"Yes\",\"No\")","v":"No"},{"$f":"VLOOKUP(C402,'C.1 - Rate Sheets'!$H$15:$I$46,2,FALSE)","v":50},null,null,null,null,null,null,null,null,null,null,null,null,null,null,null,null,null,null,null,null,null,16,16,16,16,16,16,16,null,null,null,null,null,null,null,112,5600,5600]
[null,386,"Rear Property Machine",null,"Vendor No 2",null,"MIFPUC-4","2018-10-28","2018-11-03",{"$f":"IF(AND(H403>='A - Contractor Summary'!$C$36,I403<='A - Contractor Summary'!$C$42),\"Yes\",\"No\")","v":"No"},{"$f":"VLOOKUP(C403,'C.1 - Rate Sheets'!$H$15:$I$46,2,FALSE)","v":50},null,null,null,null,null,null,null,null,null,null,null,null,null,null,null,null,null,null,null,null,null,16,16,16,16,16,16,null,null,null,null,null,null,null,null,96,4800,4800]
[null,387,"Pick Up Truck",null,"Vendor No 2",null,"MIFPUC-4","2018-10-28","2018-11-03",{"$f":"IF(AND(H404>='A - Contractor Summary'!$C$36,I404<='A - Contractor Summary'!$C$42),\"Yes\",\"No\")","v":"No"},{"$f":"VLOOKUP(C404,'C.1 - Rate Sheets'!$H$15:$I$46,2,FALSE)","v":20},null,null,null,null,null,null,null,null,null,null,null,null,null,null,null,null,null,null,null,null,null,16,16,16,16,16,16,16,null,null,null,null,null,null,null,112,2240,2240]
[null,388,"Bucket Truck Up to 55'",null,"Vendor No 2",null,"MIFPUC-4","2018-10-28","2018-11-03",{"$f":"IF(AND(H405>='A - Contractor Summary'!$C$36,I405<='A - Contractor Summary'!$C$42),\"Yes\",\"No\")","v":"No"},{"$f":"VLOOKUP(C405,'C.1 - Rate Sheets'!$H$15:$I$46,2,FALSE)","v":50},null,null,null,null,null,null,null,null,null,null,null,null,null,null,null,null,null,null,null,null,null,16,16,16,16,16,16,16,null,null,null,null,null,null,null,112,5600,5600]
[null,389,"Digger Derrick Up to 50'",null,"Vendor No 2",null,"MIFPUC-4","2018-10-28","2018-11-03",{"$f":"IF(AND(H406>='A - Contractor Summary'!$C$36,I406<='A - Contractor Summary'!$C$42),\"Yes\",\"No\")","v":"No"},{"$f":"VLOOKUP(C406,'C.1 - Rate Sheets'!$H$15:$I$46,2,FALSE)","v":50},null,null,null,null,null,null,null,null,null,null,null,null,null,null,null,null,null,null,null,null,null,16,16,16,16,16,16,null,null,null,null,null,null,null,null,96,4800,4800]
[null,390,"Pick Up Truck",null,"Vendor No 2",null,"MIFPUC-4","2018-10-28","2018-11-03",{"$f":"IF(AND(H407>='A - Contractor Summary'!$C$36,I407<='A - Contractor Summary'!$C$42),\"Yes\",\"No\")","v":"No"},{"$f":"VLOOKUP(C407,'C.1 - Rate Sheets'!$H$15:$I$46,2,FALSE)","v":20},null,null,null,null,null,null,null,null,null,null,null,null,null,null,null,null,null,null,null,null,null,16,16,16,16,16,16,null,null,null,null,null,null,null,null,{"$f":"SUM(L407:AT407)","v":96},{"$f":"AU407*K407","v":1920},{"$f":"AV407-AX407","v":1920}]
[null,391,"Bucket Truck Up to 55'",null,"Vendor No 2",null,"MIFPUC-4","2018-10-28","2018-11-03",{"$f":"IF(AND(H408>='A - Contractor Summary'!$C$36,I408<='A - Contractor Summary'!$C$42),\"Yes\",\"No\")","v":"No"},{"$f":"VLOOKUP(C408,'C.1 - Rate Sheets'!$H$15:$I$46,2,FALSE)","v":50},null,null,null,null,null,null,null,null,null,null,null,null,null,null,null,null,null,null,null,null,null,16,16,16,16,16,16,16,null,null,null,null,null,null,null,112,5600,5600]
[null,392,"Digger Derrick Greater Than 50'",null,"Vendor No 2",null,"MIFPUC-4","2018-10-28","2018-11-03",{"$f":"IF(AND(H409>='A - Contractor Summary'!$C$36,I409<='A - Contractor Summary'!$C$42),\"Yes\",\"No\")","v":"No"},{"$f":"VLOOKUP(C409,'C.1 - Rate Sheets'!$H$15:$I$46,2,FALSE)","v":60},null,null,null,null,null,null,null,null,null,null,null,null,null,null,null,null,null,null,null,null,null,16,16,16,16,16,16,16,null,null,null,null,null,null,null,112,6720,6720]
[null,393,"Digger Derrick Greater Than 50'",null,"Vendor No 2",null,"MIFPUC-4","2018-10-28","2018-11-03",{"$f":"IF(AND(H410>='A - Contractor Summary'!$C$36,I410<='A - Contractor Summary'!$C$42),\"Yes\",\"No\")","v":"No"},{"$f":"VLOOKUP(C410,'C.1 - Rate Sheets'!$H$15:$I$46,2,FALSE)","v":60},null,null,null,null,null,null,null,null,null,null,null,null,null,null,null,null,null,null,null,null,null,16,16,16,16,16,16,16,null,null,null,null,null,null,null,112,6720,6720]
[null,394,"X100 Blocks",null,"Vendor No 2",null,"MIFPUC-4","2018-10-28","2018-11-03",{"$f":"IF(AND(H411>='A - Contractor Summary'!$C$36,I411<='A - Contractor Summary'!$C$42),\"Yes\",\"No\")","v":"No"},{"$f":"VLOOKUP(C411,'C.1 - Rate Sheets'!$H$15:$I$46,2,FALSE)","v":2},null,null,null,null,null,null,null,null,null,null,null,null,null,null,null,null,null,null,null,null,null,16,16,16,16,16,16,16,null,null,null,null,null,null,null,112,224,224]
[null,395,"Wire Cart",null,"Vendor No 2",null,"MIFPUC-4","2018-10-28","2018-11-03",{"$f":"IF(AND(H412>='A - Contractor Summary'!$C$36,I412<='A - Contractor Summary'!$C$42),\"Yes\",\"No\")","v":"No"},{"$f":"VLOOKUP(C412,'C.1 - Rate Sheets'!$H$15:$I$46,2,FALSE)","v":20},null,null,null,null,null,null,null,null,null,null,null,null,null,null,null,null,null,null,null,null,null,16,16,16,16,16,16,16,null,null,null,null,null,null,null,112,2240,2240]
[null,396,"Air Compressor",null,"Vendor No 2",null,"MIFPUC-4","2018-10-28","2018-11-03",{"$f":"IF(AND(H413>='A - Contractor Summary'!$C$36,I413<='A - Contractor Summary'!$C$42),\"Yes\",\"No\")","v":"No"},{"$f":"VLOOKUP(C413,'C.1 - Rate Sheets'!$H$15:$I$46,2,FALSE)","v":15},null,null,null,null,null,null,null,null,null,null,null,null,null,null,null,null,null,null,null,null,null,16,16,16,16,16,16,16,null,null,null,null,null,null,null,112,1680,1680]
[null,397,"Hydrovac Excavation Truck(Vac Truck)",null,"Vendor No 2",null,"MIFPUC-4","2018-10-28","2018-11-03",{"$f":"IF(AND(H414>='A - Contractor Summary'!$C$36,I414<='A - Contractor Summary'!$C$42),\"Yes\",\"No\")","v":"No"},{"$f":"VLOOKUP(C414,'C.1 - Rate Sheets'!$H$15:$I$46,2,FALSE)","v":165},null,null,null,null,null,null,null,null,null,null,null,null,null,null,null,null,null,null,null,null,null,16,16,16,16,16,16,16,null,null,null,null,null,null,null,112,18480,18480]
[null,398,"Flat Bed Truck",null,"Vendor No 2",null,"MIFPUC-4","2018-10-28","2018-11-03",{"$f":"IF(AND(H415>='A - Contractor Summary'!$C$36,I415<='A - Contractor Summary'!$C$42),\"Yes\",\"No\")","v":"No"},{"$f":"VLOOKUP(C415,'C.1 - Rate Sheets'!$H$15:$I$46,2,FALSE)","v":35},null,null,null,null,null,null,null,null,null,null,null,null,null,null,null,null,null,null,null,null,null,16,16,16,16,16,16,16,null,null,null,null,null,null,null,112,3920,3920]
[null,399,"Wire Cart",null,"Vendor No 2",null,"MIFPUC-4","2018-10-28","2018-11-03",{"$f":"IF(AND(H416>='A - Contractor Summary'!$C$36,I416<='A - Contractor Summary'!$C$42),\"Yes\",\"No\")","v":"No"},{"$f":"VLOOKUP(C416,'C.1 - Rate Sheets'!$H$15:$I$46,2,FALSE)","v":20},null,null,null,null,null,null,null,null,null,null,null,null,null,null,null,null,null,null,null,null,null,16,16,16,16,16,16,16,null,null,null,null,null,null,null,112,2240,2240]
[null,400,"Digger Tracked",null,"Vendor No 2",null,"MIFPUC-4","2018-10-28","2018-11-03",{"$f":"IF(AND(H417>='A - Contractor Summary'!$C$36,I417<='A - Contractor Summary'!$C$42),\"Yes\",\"No\")","v":"No"},{"$f":"VLOOKUP(C417,'C.1 - Rate Sheets'!$H$15:$I$46,2,FALSE)","v":70},null,null,null,null,null,null,null,null,null,null,null,null,null,null,null,null,null,null,null,null,null,16,16,16,16,16,16,16,null,null,null,null,null,null,null,112,7840,7840]
[null,401,"Bucket Truck Up to 55'",null,"Vendor No 2",null,"MIFPUC-4","2018-10-28","2018-11-03",{"$f":"IF(AND(H418>='A - Contractor Summary'!$C$36,I418<='A - Contractor Summary'!$C$42),\"Yes\",\"No\")","v":"No"},{"$f":"VLOOKUP(C418,'C.1 - Rate Sheets'!$H$15:$I$46,2,FALSE)","v":50},null,null,null,null,null,null,null,null,null,null,null,null,null,null,null,null,null,null,null,null,null,16,16,16,16,16,16,null,null,null,null,null,null,null,null,96,4800,4800]
[null,402,"Rope Rig (puller)",null,"Vendor No 2",null,"MIFPUC-4","2018-10-28","2018-11-03",{"$f":"IF(AND(H419>='A - Contractor Summary'!$C$36,I419<='A - Contractor Summary'!$C$42),\"Yes\",\"No\")","v":"No"},{"$f":"VLOOKUP(C419,'C.1 - Rate Sheets'!$H$15:$I$46,2,FALSE)","v":55},null,null,null,null,null,null,null,null,null,null,null,null,null,null,null,null,null,null,null,null,null,16,16,16,16,16,16,16,null,null,null,null,null,null,null,112,6160,6160]
[null,403,"Excavator Rental",null,"Vendor No 2",null,"MIFPUC-4","2018-10-28","2018-11-03",{"$f":"IF(AND(H420>='A - Contractor Summary'!$C$36,I420<='A - Contractor Summary'!$C$42),\"Yes\",\"No\")","v":"No"},{"$f":"VLOOKUP(C420,'C.1 - Rate Sheets'!$H$15:$I$46,2,FALSE)","v":2253.84},null,null,null,null,null,null,null,null,null,null,null,null,null,null,null,null,null,null,null,null,null,null,null,null,null,null,16,16,null,null,null,null,null,null,null,32,2253.84,2253.84]
[null,404,null,null,"Vendor No 2",null,null,null,null,{"$f":"IF(AND(H421>='A - Contractor Summary'!$C$36,I421<='A - Contractor Summary'!$C$42),\"Yes\",\"No\")","v":"No"}]
[null,405,"Pick Up Truck",null,"Vendor No 2",null,"MIFPUC-5","2018-11-04","2018-11-05",{"$f":"IF(AND(H422>='A - Contractor Summary'!$C$36,I422<='A - Contractor Summary'!$C$42),\"Yes\",\"No\")","v":"No"},{"$f":"VLOOKUP(C422,'C.1 - Rate Sheets'!$H$15:$I$46,2,FALSE)","v":20},null,null,null,null,null,null,null,null,null,null,null,null,null,null,null,null,null,null,null,null,null,null,null,null,null,null,null,null,16,16,null,null,null,null,null,32,640,640]
[null,406,"Bucket Truck Up to 55'",null,"Vendor No 2",null,"MIFPUC-5","2018-11-04","2018-11-05",{"$f":"IF(AND(H423>='A - Contractor Summary'!$C$36,I423<='A - Contractor Summary'!$C$42),\"Yes\",\"No\")","v":"No"},{"$f":"VLOOKUP(C423,'C.1 - Rate Sheets'!$H$15:$I$46,2,FALSE)","v":50},null,null,null,null,null,null,null,null,null,null,null,null,null,null,null,null,null,null,null,null,null,null,null,null,null,null,null,null,16,16,null,null,null,null,null,32,1600,1600]
[null,407,"Digger Derrick Greater Than 50'",null,"Vendor No 2",null,"MIFPUC-5","2018-11-04","2018-11-05",{"$f":"IF(AND(H424>='A - Contractor Summary'!$C$36,I424<='A - Contractor Summary'!$C$42),\"Yes\",\"No\")","v":"No"},{"$f":"VLOOKUP(C424,'C.1 - Rate Sheets'!$H$15:$I$46,2,FALSE)","v":60},null,null,null,null,null,null,null,null,null,null,null,null,null,null,null,null,null,null,null,null,null,null,null,null,null,null,null,null,16,16,null,null,null,null,null,32,1920,1920]
[null,408,"Mechanic Truck",null,"Vendor No 2",null,"MIFPUC-5","2018-11-04","2018-11-05",{"$f":"IF(AND(H425>='A - Contractor Summary'!$C$36,I425<='A - Contractor Summary'!$C$42),\"Yes\",\"No\")","v":"No"},{"$f":"VLOOKUP(C425,'C.1 - Rate Sheets'!$H$15:$I$46,2,FALSE)","v":45},null,null,null,null,null,null,null,null,null,null,null,null,null,null,null,null,null,null,null,null,null,null,null,null,null,null,null,null,16,16,null,null,null,null,null,32,1440,1440]
[null,409,"-",null,"Vendor No 2",null,"MIFPUC-5","2018-11-04","2018-11-05",{"$f":"IF(AND(H426>='A - Contractor Summary'!$C$36,I426<='A - Contractor Summary'!$C$42),\"Yes\",\"No\")","v":"No"},null,null,null,null,null,null,null,null,null,null,null,null,null,null,null,null,null,null,null,null,null,null,null,null,null,null,null,null,null,null,null,null,null,null,null,null,0,0,0]
[null,410,"Pick Up Truck",null,"Vendor No 2",null,"MIFPUC-5","2018-11-04","2018-11-05",{"$f":"IF(AND(H427>='A - Contractor Summary'!$C$36,I427<='A - Contractor Summary'!$C$42),\"Yes\",\"No\")","v":"No"},{"$f":"VLOOKUP(C427,'C.1 - Rate Sheets'!$H$15:$I$46,2,FALSE)","v":20},null,null,null,null,null,null,null,null,null,null,null,null,null,null,null,null,null,null,null,null,null,null,null,null,null,null,null,null,16,16,null,null,null,null,null,32,640,640]
[null,411,"Bucket Truck Up to 55'",null,"Vendor No 2",null,"MIFPUC-5","2018-11-04","2018-11-05",{"$f":"IF(AND(H428>='A - Contractor Summary'!$C$36,I428<='A - Contractor Summary'!$C$42),\"Yes\",\"No\")","v":"No"},{"$f":"VLOOKUP(C428,'C.1 - Rate Sheets'!$H$15:$I$46,2,FALSE)","v":50},null,null,null,null,null,null,null,null,null,null,null,null,null,null,null,null,null,null,null,null,null,null,null,null,null,null,null,null,16,16,null,null,null,null,null,32,1600,1600]
[null,412,"Mechanic Truck",null,"Vendor No 2",null,"MIFPUC-5","2018-11-04","2018-11-05",{"$f":"IF(AND(H429>='A - Contractor Summary'!$C$36,I429<='A - Contractor Summary'!$C$42),\"Yes\",\"No\")","v":"No"},{"$f":"VLOOKUP(C429,'C.1 - Rate Sheets'!$H$15:$I$46,2,FALSE)","v":45},null,null,null,null,null,null,null,null,null,null,null,null,null,null,null,null,null,null,null,null,null,null,null,null,null,null,null,null,16,16,null,null,null,null,null,32,1440,1440]
[null,413,"Bucket Truck Up to 55'",null,"Vendor No 2",null,"MIFPUC-5","2018-11-04","2018-11-05",{"$f":"IF(AND(H430>='A - Contractor Summary'!$C$36,I430<='A - Contractor Summary'!$C$42),\"Yes\",\"No\")","v":"No"},{"$f":"VLOOKUP(C430,'C.1 - Rate Sheets'!$H$15:$I$46,2,FALSE)","v":50},null,null,null,null,null,null,null,null,null,null,null,null,null,null,null,null,null,null,null,null,null,null,null,null,null,null,null,null,16,16,null,null,null,null,null,32,1600,1600]
[null,414,"Digger Derrick Greater Than 50'",null,"Vendor No 2",null,"MIFPUC-5","2018-11-04","2018-11-05",{"$f":"IF(AND(H431>='A - Contractor Summary'!$C$36,I431<='A - Contractor Summary'!$C$42),\"Yes\",\"No\")","v":"No"},{"$f":"VLOOKUP(C431,'C.1 - Rate Sheets'!$H$15:$I$46,2,FALSE)","v":60},null,null,null,null,null,null,null,null,null,null,null,null,null,null,null,null,null,null,null,null,null,null,null,null,null,null,null,null,16,16,null,null,null,null,null,32,1920,1920]
[null,415,"Pick Up Truck",null,"Vendor No 2",null,"MIFPUC-5","2018-11-04","2018-11-05",{"$f":"IF(AND(H432>='A - Contractor Summary'!$C$36,I432<='A - Contractor Summary'!$C$42),\"Yes\",\"No\")","v":"No"},{"$f":"VLOOKUP(C432,'C.1 - Rate Sheets'!$H$15:$I$46,2,FALSE)","v":20},null,null,null,null,null,null,null,null,null,null,null,null,null,null,null,null,null,null,null,null,null,null,null,null,null,null,null,null,16,16,null,null,null,null,null,32,640,640]
[null,416,"Pick Up Truck",null,"Vendor No 2",null,"MIFPUC-5","2018-11-04","2018-11-05",{"$f":"IF(AND(H433>='A - Contractor Summary'!$C$36,I433<='A - Contractor Summary'!$C$42),\"Yes\",\"No\")","v":"No"},{"$f":"VLOOKUP(C433,'C.1 - Rate Sheets'!$H$15:$I$46,2,FALSE)","v":20},null,null,null,null,null,null,null,null,null,null,null,null,null,null,null,null,null,null,null,null,null,null,null,null,null,null,null,null,16,16,null,null,null,null,null,32,640,640]
[null,417,"Pick Up Truck",null,"Vendor No 2",null,"MIFPUC-5","2018-11-04","2018-11-05",{"$f":"IF(AND(H434>='A - Contractor Summary'!$C$36,I434<='A - Contractor Summary'!$C$42),\"Yes\",\"No\")","v":"No"},{"$f":"VLOOKUP(C434,'C.1 - Rate Sheets'!$H$15:$I$46,2,FALSE)","v":20},null,null,null,null,null,null,null,null,null,null,null,null,null,null,null,null,null,null,null,null,null,null,null,null,null,null,null,null,16,16,null,null,null,null,null,32,640,640]
[null,418,"Mechanic Truck",null,"Vendor No 2",null,"MIFPUC-5","2018-11-04","2018-11-05",{"$f":"IF(AND(H435>='A - Contractor Summary'!$C$36,I435<='A - Contractor Summary'!$C$42),\"Yes\",\"No\")","v":"No"},{"$f":"VLOOKUP(C435,'C.1 - Rate Sheets'!$H$15:$I$46,2,FALSE)","v":45},null,null,null,null,null,null,null,null,null,null,null,null,null,null,null,null,null,null,null,null,null,null,null,null,null,null,null,null,16,16,null,null,null,null,null,32,1440,1440]
[null,419,"Pick Up Truck",null,"Vendor No 2",null,"MIFPUC-5","2018-11-04","2018-11-05",{"$f":"IF(AND(H436>='A - Contractor Summary'!$C$36,I436<='A - Contractor Summary'!$C$42),\"Yes\",\"No\")","v":"No"},{"$f":"VLOOKUP(C436,'C.1 - Rate Sheets'!$H$15:$I$46,2,FALSE)","v":20},null,null,null,null,null,null,null,null,null,null,null,null,null,null,null,null,null,null,null,null,null,null,null,null,null,null,null,null,16,16,null,null,null,null,null,32,640,640]
[null,420,"Bucket Truck Up to 55'",null,"Vendor No 2",null,"MIFPUC-5","2018-11-04","2018-11-05",{"$f":"IF(AND(H437>='A - Contractor Summary'!$C$36,I437<='A - Contractor Summary'!$C$42),\"Yes\",\"No\")","v":"No"},{"$f":"VLOOKUP(C437,'C.1 - Rate Sheets'!$H$15:$I$46,2,FALSE)","v":50},null,null,null,null,null,null,null,null,null,null,null,null,null,null,null,null,null,null,null,null,null,null,null,null,null,null,null,null,16,16,null,null,null,null,null,32,1600,1600]
[null,421,"Bucket Truck Up to 55'",null,"Vendor No 2",null,"MIFPUC-5","2018-11-04","2018-11-05",{"$f":"IF(AND(H438>='A - Contractor Summary'!$C$36,I438<='A - Contractor Summary'!$C$42),\"Yes\",\"No\")","v":"No"},{"$f":"VLOOKUP(C438,'C.1 - Rate Sheets'!$H$15:$I$46,2,FALSE)","v":50},null,null,null,null,null,null,null,null,null,null,null,null,null,null,null,null,null,null,null,null,null,null,null,null,null,null,null,null,16,16,null,null,null,null,null,32,1600,1600]
[null,422,"Digger Derrick Up to 50'",null,"Vendor No 2",null,"MIFPUC-5","2018-11-04","2018-11-05",{"$f":"IF(AND(H439>='A - Contractor Summary'!$C$36,I439<='A - Contractor Summary'!$C$42),\"Yes\",\"No\")","v":"No"},{"$f":"VLOOKUP(C439,'C.1 - Rate Sheets'!$H$15:$I$46,2,FALSE)","v":50},null,null,null,null,null,null,null,null,null,null,null,null,null,null,null,null,null,null,null,null,null,null,null,null,null,null,null,null,16,16,null,null,null,null,null,32,1600,1600]
[null,423,"Rear Property Machine",null,"Vendor No 2",null,"MIFPUC-5","2018-11-04","2018-11-05",{"$f":"IF(AND(H440>='A - Contractor Summary'!$C$36,I440<='A - Contractor Summary'!$C$42),\"Yes\",\"No\")","v":"No"},{"$f":"VLOOKUP(C440,'C.1 - Rate Sheets'!$H$15:$I$46,2,FALSE)","v":50},null,null,null,null,null,null,null,null,null,null,null,null,null,null,null,null,null,null,null,null,null,null,null,null,null,null,null,null,16,16,null,null,null,null,null,32,1600,1600]
[null,424,"Pick Up Truck",null,"Vendor No 2",null,"MIFPUC-5","2018-11-04","2018-11-05",{"$f":"IF(AND(H441>='A - Contractor Summary'!$C$36,I441<='A - Contractor Summary'!$C$42),\"Yes\",\"No\")","v":"No"},{"$f":"VLOOKUP(C441,'C.1 - Rate Sheets'!$H$15:$I$46,2,FALSE)","v":20},null,null,null,null,null,null,null,null,null,null,null,null,null,null,null,null,null,null,null,null,null,null,null,null,null,null,null,null,16,16,null,null,null,null,null,32,640,640]
[null,425,"Bucket Truck Up to 55'",null,"Vendor No 2",null,"MIFPUC-5","2018-11-04","2018-11-05",{"$f":"IF(AND(H442>='A - Contractor Summary'!$C$36,I442<='A - Contractor Summary'!$C$42),\"Yes\",\"No\")","v":"No"},{"$f":"VLOOKUP(C442,'C.1 - Rate Sheets'!$H$15:$I$46,2,FALSE)","v":50},null,null,null,null,null,null,null,null,null,null,null,null,null,null,null,null,null,null,null,null,null,null,null,null,null,null,null,null,16,16,null,null,null,null,null,32,1600,1600]
[null,426,"Bucket Truck Up to 55'",null,"Vendor No 2",null,"MIFPUC-5","2018-11-04","2018-11-05",{"$f":"IF(AND(H443>='A - Contractor Summary'!$C$36,I443<='A - Contractor Summary'!$C$42),\"Yes\",\"No\")","v":"No"},{"$f":"VLOOKUP(C443,'C.1 - Rate Sheets'!$H$15:$I$46,2,FALSE)","v":50},null,null,null,null,null,null,null,null,null,null,null,null,null,null,null,null,null,null,null,null,null,null,null,null,null,null,null,null,16,16,null,null,null,null,null,32,1600,1600]
[null,427,"Digger Derrick Up to 50'",null,"Vendor No 2",null,"MIFPUC-5","2018-11-04","2018-11-05",{"$f":"IF(AND(H444>='A - Contractor Summary'!$C$36,I444<='A - Contractor Summary'!$C$42),\"Yes\",\"No\")","v":"No"},{"$f":"VLOOKUP(C444,'C.1 - Rate Sheets'!$H$15:$I$46,2,FALSE)","v":50},null,null,null,null,null,null,null,null,null,null,null,null,null,null,null,null,null,null,null,null,null,null,null,null,null,null,null,null,16,16,null,null,null,null,null,32,1600,1600]
[null,428,"Pole Trailer",null,"Vendor No 2",null,"MIFPUC-5","2018-11-04","2018-11-05",{"$f":"IF(AND(H445>='A - Contractor Summary'!$C$36,I445<='A - Contractor Summary'!$C$42),\"Yes\",\"No\")","v":"No"},{"$f":"VLOOKUP(C445,'C.1 - Rate Sheets'!$H$15:$I$46,2,FALSE)","v":15},null,null,null,null,null,null,null,null,null,null,null,null,null,null,null,null,null,null,null,null,null,null,null,null,null,null,null,null,16,16,null,null,null,null,null,32,480,480]
[null,429,"Pick Up Truck",null,"Vendor No 2",null,"MIFPUC-5","2018-11-04","2018-11-05",{"$f":"IF(AND(H446>='A - Contractor Summary'!$C$36,I446<='A - Contractor Summary'!$C$42),\"Yes\",\"No\")","v":"No"},{"$f":"VLOOKUP(C446,'C.1 - Rate Sheets'!$H$15:$I$46,2,FALSE)","v":20},null,null,null,null,null,null,null,null,null,null,null,null,null,null,null,null,null,null,null,null,null,null,null,null,null,null,null,null,16,16,null,null,null,null,null,32,640,640]
[null,430,"Pick Up Truck",null,"Vendor No 2",null,"MIFPUC-5","2018-11-04","2018-11-05",{"$f":"IF(AND(H447>='A - Contractor Summary'!$C$36,I447<='A - Contractor Summary'!$C$42),\"Yes\",\"No\")","v":"No"},{"$f":"VLOOKUP(C447,'C.1 - Rate Sheets'!$H$15:$I$46,2,FALSE)","v":20},null,null,null,null,null,null,null,null,null,null,null,null,null,null,null,null,null,null,null,null,null,null,null,null,null,null,null,null,16,16,null,null,null,null,null,32,640,640]
[null,431,"Pick Up Truck",null,"Vendor No 2",null,"MIFPUC-5","2018-11-04","2018-11-05",{"$f":"IF(AND(H448>='A - Contractor Summary'!$C$36,I448<='A - Contractor Summary'!$C$42),\"Yes\",\"No\")","v":"No"},{"$f":"VLOOKUP(C448,'C.1 - Rate Sheets'!$H$15:$I$46,2,FALSE)","v":20},null,null,null,null,null,null,null,null,null,null,null,null,null,null,null,null,null,null,null,null,null,null,null,null,null,null,null,null,16,16,null,null,null,null,null,32,640,640]
[null,432,"Pick Up Truck",null,"Vendor No 2",null,"MIFPUC-5","2018-11-04","2018-11-05",{"$f":"IF(AND(H449>='A - Contractor Summary'!$C$36,I449<='A - Contractor Summary'!$C$42),\"Yes\",\"No\")","v":"No"},{"$f":"VLOOKUP(C449,'C.1 - Rate Sheets'!$H$15:$I$46,2,FALSE)","v":20},null,null,null,null,null,null,null,null,null,null,null,null,null,null,null,null,null,null,null,null,null,null,null,null,null,null,null,null,16,16,null,null,null,null,null,32,640,640]
[null,433,"Pick Up Truck",null,"Vendor No 2",null,"MIFPUC-5","2018-11-04","2018-11-05",{"$f":"IF(AND(H450>='A - Contractor Summary'!$C$36,I450<='A - Contractor Summary'!$C$42),\"Yes\",\"No\")","v":"No"},{"$f":"VLOOKUP(C450,'C.1 - Rate Sheets'!$H$15:$I$46,2,FALSE)","v":20},null,null,null,null,null,null,null,null,null,null,null,null,null,null,null,null,null,null,null,null,null,null,null,null,null,null,null,null,16,16,null,null,null,null,null,32,640,640]
[null,434,"Bucket Truck Up to 55'",null,"Vendor No 2",null,"MIFPUC-5","2018-11-04","2018-11-05",{"$f":"IF(AND(H451>='A - Contractor Summary'!$C$36,I451<='A - Contractor Summary'!$C$42),\"Yes\",\"No\")","v":"No"},{"$f":"VLOOKUP(C451,'C.1 - Rate Sheets'!$H$15:$I$46,2,FALSE)","v":50},null,null,null,null,null,null,null,null,null,null,null,null,null,null,null,null,null,null,null,null,null,null,null,null,null,null,null,null,16,16,null,null,null,null,null,32,1600,1600]
[null,435,"Bucket Truck Up to 55'",null,"Vendor No 2",null,"MIFPUC-5","2018-11-04","2018-11-05",{"$f":"IF(AND(H452>='A - Contractor Summary'!$C$36,I452<='A - Contractor Summary'!$C$42),\"Yes\",\"No\")","v":"No"},{"$f":"VLOOKUP(C452,'C.1 - Rate Sheets'!$H$15:$I$46,2,FALSE)","v":50},null,null,null,null,null,null,null,null,null,null,null,null,null,null,null,null,null,null,null,null,null,null,null,null,null,null,null,null,16,16,null,null,null,null,null,32,1600,1600]
[null,436,"-",null,"Vendor No 2",null,"MIFPUC-5","2018-11-04","2018-11-05",{"$f":"IF(AND(H453>='A - Contractor Summary'!$C$36,I453<='A - Contractor Summary'!$C$42),\"Yes\",\"No\")","v":"No"},null,null,null,null,null,null,null,null,null,null,null,null,null,null,null,null,null,null,null,null,null,null,null,null,null,null,null,null,null,null,null,null,null,null,null,null,0,0,0]
[null,437,"Mini Excavator",null,"Vendor No 2",null,"MIFPUC-5","2018-11-04","2018-11-05",{"$f":"IF(AND(H454>='A - Contractor Summary'!$C$36,I454<='A - Contractor Summary'!$C$42),\"Yes\",\"No\")","v":"No"},{"$f":"VLOOKUP(C454,'C.1 - Rate Sheets'!$H$15:$I$46,2,FALSE)","v":35},null,null,null,null,null,null,null,null,null,null,null,null,null,null,null,null,null,null,null,null,null,null,null,null,null,null,null,null,16,16,null,null,null,null,null,32,1120,1120]
[null,438,"Pick Up Truck",null,"Vendor No 2",null,"MIFPUC-5","2018-11-04","2018-11-05",{"$f":"IF(AND(H455>='A - Contractor Summary'!$C$36,I455<='A - Contractor Summary'!$C$42),\"Yes\",\"No\")","v":"No"},{"$f":"VLOOKUP(C455,'C.1 - Rate Sheets'!$H$15:$I$46,2,FALSE)","v":20},null,null,null,null,null,null,null,null,null,null,null,null,null,null,null,null,null,null,null,null,null,null,null,null,null,null,null,null,16,16,null,null,null,null,null,32,640,640]
[null,439,"Bucket Truck Up to 55'",null,"Vendor No 2",null,"MIFPUC-5","2018-11-04","2018-11-05",{"$f":"IF(AND(H456>='A - Contractor Summary'!$C$36,I456<='A - Contractor Summary'!$C$42),\"Yes\",\"No\")","v":"No"},{"$f":"VLOOKUP(C456,'C.1 - Rate Sheets'!$H$15:$I$46,2,FALSE)","v":50},null,null,null,null,null,null,null,null,null,null,null,null,null,null,null,null,null,null,null,null,null,null,null,null,null,null,null,null,16,16,null,null,null,null,null,32,1600,1600]
[null,440,"Digger Derrick Greater Than 50'",null,"Vendor No 2",null,"MIFPUC-5","2018-11-04","2018-11-05",{"$f":"IF(AND(H457>='A - Contractor Summary'!$C$36,I457<='A - Contractor Summary'!$C$42),\"Yes\",\"No\")","v":"No"},{"$f":"VLOOKUP(C457,'C.1 - Rate Sheets'!$H$15:$I$46,2,FALSE)","v":60},null,null,null,null,null,null,null,null,null,null,null,null,null,null,null,null,null,null,null,null,null,null,null,null,null,null,null,null,16,16,null,null,null,null,null,32,1920,1920]
[null,441,"Rear Property Machine",null,"Vendor No 2",null,"MIFPUC-5","2018-11-04","2018-11-05",{"$f":"IF(AND(H458>='A - Contractor Summary'!$C$36,I458<='A - Contractor Summary'!$C$42),\"Yes\",\"No\")","v":"No"},{"$f":"VLOOKUP(C458,'C.1 - Rate Sheets'!$H$15:$I$46,2,FALSE)","v":50},null,null,null,null,null,null,null,null,null,null,null,null,null,null,null,null,null,null,null,null,null,null,null,null,null,null,null,null,16,16,null,null,null,null,null,32,1600,1600]
[null,442,"Bucket Truck Up to 55'",null,"Vendor No 2",null,"MIFPUC-5","2018-11-04","2018-11-05",{"$f":"IF(AND(H459>='A - Contractor Summary'!$C$36,I459<='A - Contractor Summary'!$C$42),\"Yes\",\"No\")","v":"No"},{"$f":"VLOOKUP(C459,'C.1 - Rate Sheets'!$H$15:$I$46,2,FALSE)","v":50},null,null,null,null,null,null,null,null,null,null,null,null,null,null,null,null,null,null,null,null,null,null,null,null,null,null,null,null,16,16,null,null,null,null,null,32,1600,1600]
[null,443,"Digger Derrick Greater Than 50'",null,"Vendor No 2",null,"MIFPUC-5","2018-11-04","2018-11-05",{"$f":"IF(AND(H460>='A - Contractor Summary'!$C$36,I460<='A - Contractor Summary'!$C$42),\"Yes\",\"No\")","v":"No"},{"$f":"VLOOKUP(C460,'C.1 - Rate Sheets'!$H$15:$I$46,2,FALSE)","v":60},null,null,null,null,null,null,null,null,null,null,null,null,null,null,null,null,null,null,null,null,null,null,null,null,null,null,null,null,16,16,null,null,null,null,null,32,1920,1920]
[null,444,"Bucket Truck Up to 55'",null,"Vendor No 2",null,"MIFPUC-5","2018-11-04","2018-11-05",{"$f":"IF(AND(H461>='A - Contractor Summary'!$C$36,I461<='A - Contractor Summary'!$C$42),\"Yes\",\"No\")","v":"No"},{"$f":"VLOOKUP(C461,'C.1 - Rate Sheets'!$H$15:$I$46,2,FALSE)","v":50},null,null,null,null,null,null,null,null,null,null,null,null,null,null,null,null,null,null,null,null,null,null,null,null,null,null,null,null,16,16,null,null,null,null,null,32,1600,1600]
[null,445,"Bucket Truck Up to 55'",null,"Vendor No 2",null,"MIFPUC-5","2018-11-04","2018-11-05",{"$f":"IF(AND(H462>='A - Contractor Summary'!$C$36,I462<='A - Contractor Summary'!$C$42),\"Yes\",\"No\")","v":"No"},{"$f":"VLOOKUP(C462,'C.1 - Rate Sheets'!$H$15:$I$46,2,FALSE)","v":50},null,null,null,null,null,null,null,null,null,null,null,null,null,null,null,null,null,null,null,null,null,null,null,null,null,null,null,null,16,16,null,null,null,null,null,32,1600,1600]
[null,446,"Pick Up Truck",null,"Vendor No 2",null,"MIFPUC-5","2018-11-04","2018-11-05",{"$f":"IF(AND(H463>='A - Contractor Summary'!$C$36,I463<='A - Contractor Summary'!$C$42),\"Yes\",\"No\")","v":"No"},{"$f":"VLOOKUP(C463,'C.1 - Rate Sheets'!$H$15:$I$46,2,FALSE)","v":20},null,null,null,null,null,null,null,null,null,null,null,null,null,null,null,null,null,null,null,null,null,null,null,null,null,null,null,null,16,16,null,null,null,null,null,32,640,640]
[null,447,"-",null,"Vendor No 2",null,"MIFPUC-5","2018-11-04","2018-11-05",{"$f":"IF(AND(H464>='A - Contractor Summary'!$C$36,I464<='A - Contractor Summary'!$C$42),\"Yes\",\"No\")","v":"No"},null,null,null,null,null,null,null,null,null,null,null,null,null,null,null,null,null,null,null,null,null,null,null,null,null,null,null,null,null,null,null,null,null,null,null,null,0,0,0]
[null,448,"Pick Up Truck",null,"Vendor No 2",null,"MIFPUC-5","2018-11-04","2018-11-05",{"$f":"IF(AND(H465>='A - Contractor Summary'!$C$36,I465<='A - Contractor Summary'!$C$42),\"Yes\",\"No\")","v":"No"},{"$f":"VLOOKUP(C465,'C.1 - Rate Sheets'!$H$15:$I$46,2,FALSE)","v":20},null,null,null,null,null,null,null,null,null,null,null,null,null,null,null,null,null,null,null,null,null,null,null,null,null,null,null,null,16,16,null,null,null,null,null,32,640,640]
[null,449,"Digger Derrick Up to 50'",null,"Vendor No 2",null,"MIFPUC-5","2018-11-04","2018-11-05",{"$f":"IF(AND(H466>='A - Contractor Summary'!$C$36,I466<='A - Contractor Summary'!$C$42),\"Yes\",\"No\")","v":"No"},{"$f":"VLOOKUP(C466,'C.1 - Rate Sheets'!$H$15:$I$46,2,FALSE)","v":50},null,null,null,null,null,null,null,null,null,null,null,null,null,null,null,null,null,null,null,null,null,null,null,null,null,null,null,null,16,16,null,null,null,null,null,32,1600,1600]
[null,450,"Bucket Truck Up to 55'",null,"Vendor No 2",null,"MIFPUC-5","2018-11-04","2018-11-05",{"$f":"IF(AND(H467>='A - Contractor Summary'!$C$36,I467<='A - Contractor Summary'!$C$42),\"Yes\",\"No\")","v":"No"},{"$f":"VLOOKUP(C467,'C.1 - Rate Sheets'!$H$15:$I$46,2,FALSE)","v":50},null,null,null,null,null,null,null,null,null,null,null,null,null,null,null,null,null,null,null,null,null,null,null,null,null,null,null,null,16,16,null,null,null,null,null,32,1600,1600]
[null,451,"Bucket Truck Up to 55'",null,"Vendor No 2",null,"MIFPUC-5","2018-11-04","2018-11-05",{"$f":"IF(AND(H468>='A - Contractor Summary'!$C$36,I468<='A - Contractor Summary'!$C$42),\"Yes\",\"No\")","v":"No"},{"$f":"VLOOKUP(C468,'C.1 - Rate Sheets'!$H$15:$I$46,2,FALSE)","v":50},null,null,null,null,null,null,null,null,null,null,null,null,null,null,null,null,null,null,null,null,null,null,null,null,null,null,null,null,16,16,null,null,null,null,null,32,1600,1600]
[null,452,"Bucket Truck Up to 55'",null,"Vendor No 2",null,"MIFPUC-5","2018-11-04","2018-11-05",{"$f":"IF(AND(H469>='A - Contractor Summary'!$C$36,I469<='A - Contractor Summary'!$C$42),\"Yes\",\"No\")","v":"No"},{"$f":"VLOOKUP(C469,'C.1 - Rate Sheets'!$H$15:$I$46,2,FALSE)","v":50},null,null,null,null,null,null,null,null,null,null,null,null,null,null,null,null,null,null,null,null,null,null,null,null,null,null,null,null,16,16,null,null,null,null,null,32,1600,1600]
[null,453,"Pick Up Truck",null,"Vendor No 2",null,"MIFPUC-5","2018-11-04","2018-11-05",{"$f":"IF(AND(H470>='A - Contractor Summary'!$C$36,I470<='A - Contractor Summary'!$C$42),\"Yes\",\"No\")","v":"No"},{"$f":"VLOOKUP(C470,'C.1 - Rate Sheets'!$H$15:$I$46,2,FALSE)","v":20},null,null,null,null,null,null,null,null,null,null,null,null,null,null,null,null,null,null,null,null,null,null,null,null,null,null,null,null,16,16,null,null,null,null,null,32,640,640]
[null,454,"Mechanic Truck",null,"Vendor No 2",null,"MIFPUC-5","2018-11-04","2018-11-05",{"$f":"IF(AND(H471>='A - Contractor Summary'!$C$36,I471<='A - Contractor Summary'!$C$42),\"Yes\",\"No\")","v":"No"},{"$f":"VLOOKUP(C471,'C.1 - Rate Sheets'!$H$15:$I$46,2,FALSE)","v":45},null,null,null,null,null,null,null,null,null,null,null,null,null,null,null,null,null,null,null,null,null,null,null,null,null,null,null,null,16,16,null,null,null,null,null,32,1440,1440]
[null,455,"Mini Excavator",null,"Vendor No 2",null,"MIFPUC-5","2018-11-04","2018-11-05",{"$f":"IF(AND(H472>='A - Contractor Summary'!$C$36,I472<='A - Contractor Summary'!$C$42),\"Yes\",\"No\")","v":"No"},{"$f":"VLOOKUP(C472,'C.1 - Rate Sheets'!$H$15:$I$46,2,FALSE)","v":35},null,null,null,null,null,null,null,null,null,null,null,null,null,null,null,null,null,null,null,null,null,null,null,null,null,null,null,null,16,16,null,null,null,null,null,{"$f":"SUM(L472:AT472)","v":32},{"$f":"AU472*K472","v":1120},{"$f":"AV472-AX472","v":1120}]
[null,456,"Mechanic Truck",null,"Vendor No 2",null,"MIFPUC-5","2018-11-04","2018-11-05",{"$f":"IF(AND(H473>='A - Contractor Summary'!$C$36,I473<='A - Contractor Summary'!$C$42),\"Yes\",\"No\")","v":"No"},{"$f":"VLOOKUP(C473,'C.1 - Rate Sheets'!$H$15:$I$46,2,FALSE)","v":45},null,null,null,null,null,null,null,null,null,null,null,null,null,null,null,null,null,null,null,null,null,null,null,null,null,null,null,null,16,16,null,null,null,null,null,32,1440,1440]
[null,457,"Mechanic Truck",null,"Vendor No 2",null,"MIFPUC-5","2018-11-04","2018-11-05",{"$f":"IF(AND(H474>='A - Contractor Summary'!$C$36,I474<='A - Contractor Summary'!$C$42),\"Yes\",\"No\")","v":"No"},{"$f":"VLOOKUP(C474,'C.1 - Rate Sheets'!$H$15:$I$46,2,FALSE)","v":45},null,null,null,null,null,null,null,null,null,null,null,null,null,null,null,null,null,null,null,null,null,null,null,null,null,null,null,null,16,16,null,null,null,null,null,32,1440,1440]
[null,458,"Tractor( Semi)",null,"Vendor No 2",null,"MIFPUC-5","2018-11-04","2018-11-05",{"$f":"IF(AND(H475>='A - Contractor Summary'!$C$36,I475<='A - Contractor Summary'!$C$42),\"Yes\",\"No\")","v":"No"},{"$f":"VLOOKUP(C475,'C.1 - Rate Sheets'!$H$15:$I$46,2,FALSE)","v":45},null,null,null,null,null,null,null,null,null,null,null,null,null,null,null,null,null,null,null,null,null,null,null,null,null,null,null,null,16,16,null,null,null,null,null,32,1440,1440]
[null,459,"Mechanic Truck",null,"Vendor No 2",null,"MIFPUC-5","2018-11-04","2018-11-05",{"$f":"IF(AND(H476>='A - Contractor Summary'!$C$36,I476<='A - Contractor Summary'!$C$42),\"Yes\",\"No\")","v":"No"},{"$f":"VLOOKUP(C476,'C.1 - Rate Sheets'!$H$15:$I$46,2,FALSE)","v":45},null,null,null,null,null,null,null,null,null,null,null,null,null,null,null,null,null,null,null,null,null,null,null,null,null,null,null,null,16,16,null,null,null,null,null,32,1440,1440]
[null,460,"Tractor( Semi)",null,"Vendor No 2",null,"MIFPUC-5","2018-11-04","2018-11-05",{"$f":"IF(AND(H477>='A - Contractor Summary'!$C$36,I477<='A - Contractor Summary'!$C$42),\"Yes\",\"No\")","v":"No"},{"$f":"VLOOKUP(C477,'C.1 - Rate Sheets'!$H$15:$I$46,2,FALSE)","v":45},null,null,null,null,null,null,null,null,null,null,null,null,null,null,null,null,null,null,null,null,null,null,null,null,null,null,null,null,16,16,null,null,null,null,null,32,1440,1440]
[null,461,"Mechanic Truck",null,"Vendor No 2",null,"MIFPUC-5","2018-11-04","2018-11-05",{"$f":"IF(AND(H478>='A - Contractor Summary'!$C$36,I478<='A - Contractor Summary'!$C$42),\"Yes\",\"No\")","v":"No"},{"$f":"VLOOKUP(C478,'C.1 - Rate Sheets'!$H$15:$I$46,2,FALSE)","v":45},null,null,null,null,null,null,null,null,null,null,null,null,null,null,null,null,null,null,null,null,null,null,null,null,null,null,null,null,16,16,null,null,null,null,null,32,1440,1440]
[null,462,"Low Boy",null,"Vendor No 2",null,"MIFPUC-5","2018-11-04","2018-11-05",{"$f":"IF(AND(H479>='A - Contractor Summary'!$C$36,I479<='A - Contractor Summary'!$C$42),\"Yes\",\"No\")","v":"No"},{"$f":"VLOOKUP(C479,'C.1 - Rate Sheets'!$H$15:$I$46,2,FALSE)","v":38},null,null,null,null,null,null,null,null,null,null,null,null,null,null,null,null,null,null,null,null,null,null,null,null,null,null,null,null,16,16,null,null,null,null,null,32,1216,1216]
[null,463,"Low Boy",null,"Vendor No 2",null,"MIFPUC-5","2018-11-04","2018-11-05",{"$f":"IF(AND(H480>='A - Contractor Summary'!$C$36,I480<='A - Contractor Summary'!$C$42),\"Yes\",\"No\")","v":"No"},{"$f":"VLOOKUP(C480,'C.1 - Rate Sheets'!$H$15:$I$46,2,FALSE)","v":38},null,null,null,null,null,null,null,null,null,null,null,null,null,null,null,null,null,null,null,null,null,null,null,null,null,null,null,null,16,16,null,null,null,null,null,32,1216,1216]
[null,464,"Digger Derrick Greater Than 50'",null,"Vendor No 2",null,"MIFPUC-5","2018-11-04","2018-11-05",{"$f":"IF(AND(H481>='A - Contractor Summary'!$C$36,I481<='A - Contractor Summary'!$C$42),\"Yes\",\"No\")","v":"No"},{"$f":"VLOOKUP(C481,'C.1 - Rate Sheets'!$H$15:$I$46,2,FALSE)","v":60},null,null,null,null,null,null,null,null,null,null,null,null,null,null,null,null,null,null,null,null,null,null,null,null,null,null,null,null,16,16,null,null,null,null,null,32,1920,1920]
[null,465,"Bucket Truck Tracked",null,"Vendor No 2",null,"MIFPUC-5","2018-11-04","2018-11-05",{"$f":"IF(AND(H482>='A - Contractor Summary'!$C$36,I482<='A - Contractor Summary'!$C$42),\"Yes\",\"No\")","v":"No"},{"$f":"VLOOKUP(C482,'C.1 - Rate Sheets'!$H$15:$I$46,2,FALSE)","v":70},null,null,null,null,null,null,null,null,null,null,null,null,null,null,null,null,null,null,null,null,null,null,null,null,null,null,null,null,16,16,null,null,null,null,null,32,2240,2240]
[null,466,"Digger Tracked",null,"Vendor No 2",null,"MIFPUC-5","2018-11-04","2018-11-05",{"$f":"IF(AND(H483>='A - Contractor Summary'!$C$36,I483<='A - Contractor Summary'!$C$42),\"Yes\",\"No\")","v":"No"},{"$f":"VLOOKUP(C483,'C.1 - Rate Sheets'!$H$15:$I$46,2,FALSE)","v":70},null,null,null,null,null,null,null,null,null,null,null,null,null,null,null,null,null,null,null,null,null,null,null,null,null,null,null,null,16,16,null,null,null,null,null,32,2240,2240]
[null,467,"Rope Rig (puller)",null,"Vendor No 2",null,"MIFPUC-5","2018-11-04","2018-11-05",{"$f":"IF(AND(H484>='A - Contractor Summary'!$C$36,I484<='A - Contractor Summary'!$C$42),\"Yes\",\"No\")","v":"No"},{"$f":"VLOOKUP(C484,'C.1 - Rate Sheets'!$H$15:$I$46,2,FALSE)","v":55},null,null,null,null,null,null,null,null,null,null,null,null,null,null,null,null,null,null,null,null,null,null,null,null,null,null,null,null,16,16,null,null,null,null,null,32,1760,1760]
[null,468,"Bucket Truck over 65'",null,"Vendor No 2",null,"MIFPUC-5","2018-11-04","2018-11-05",{"$f":"IF(AND(H485>='A - Contractor Summary'!$C$36,I485<='A - Contractor Summary'!$C$42),\"Yes\",\"No\")","v":"No"},{"$f":"VLOOKUP(C485,'C.1 - Rate Sheets'!$H$15:$I$46,2,FALSE)","v":65},null,null,null,null,null,null,null,null,null,null,null,null,null,null,null,null,null,null,null,null,null,null,null,null,null,null,null,null,16,16,null,null,null,null,null,32,2080,2080]
[null,469,"Bucket Truck Up to 55'",null,"Vendor No 2",null,"MIFPUC-5","2018-11-04","2018-11-05",{"$f":"IF(AND(H486>='A - Contractor Summary'!$C$36,I486<='A - Contractor Summary'!$C$42),\"Yes\",\"No\")","v":"No"},{"$f":"VLOOKUP(C486,'C.1 - Rate Sheets'!$H$15:$I$46,2,FALSE)","v":50},null,null,null,null,null,null,null,null,null,null,null,null,null,null,null,null,null,null,null,null,null,null,null,null,null,null,null,null,16,16,null,null,null,null,null,32,1600,1600]
[null,470,"Digger Derrick Up to 50'",null,"Vendor No 2",null,"MIFPUC-5","2018-11-04","2018-11-05",{"$f":"IF(AND(H487>='A - Contractor Summary'!$C$36,I487<='A - Contractor Summary'!$C$42),\"Yes\",\"No\")","v":"No"},{"$f":"VLOOKUP(C487,'C.1 - Rate Sheets'!$H$15:$I$46,2,FALSE)","v":50},null,null,null,null,null,null,null,null,null,null,null,null,null,null,null,null,null,null,null,null,null,null,null,null,null,null,null,null,16,16,null,null,null,null,null,32,1600,1600]
[null,471,"Rope Rig (puller)",null,"Vendor No 2",null,"MIFPUC-5","2018-11-04","2018-11-05",{"$f":"IF(AND(H488>='A - Contractor Summary'!$C$36,I488<='A - Contractor Summary'!$C$42),\"Yes\",\"No\")","v":"No"},{"$f":"VLOOKUP(C488,'C.1 - Rate Sheets'!$H$15:$I$46,2,FALSE)","v":55},null,null,null,null,null,null,null,null,null,null,null,null,null,null,null,null,null,null,null,null,null,null,null,null,null,null,null,null,16,16,null,null,null,null,null,32,1760,1760]
[null,472,"Rope Rig (puller)",null,"Vendor No 2",null,"MIFPUC-5","2018-11-04","2018-11-05",{"$f":"IF(AND(H489>='A - Contractor Summary'!$C$36,I489<='A - Contractor Summary'!$C$42),\"Yes\",\"No\")","v":"No"},{"$f":"VLOOKUP(C489,'C.1 - Rate Sheets'!$H$15:$I$46,2,FALSE)","v":55},null,null,null,null,null,null,null,null,null,null,null,null,null,null,null,null,null,null,null,null,null,null,null,null,null,null,null,null,16,16,null,null,null,null,null,32,1760,1760]
[null,473,"45 Ton Crane",null,"Vendor No 2",null,"MIFPUC-5","2018-11-04","2018-11-05",{"$f":"IF(AND(H490>='A - Contractor Summary'!$C$36,I490<='A - Contractor Summary'!$C$42),\"Yes\",\"No\")","v":"No"},{"$f":"VLOOKUP(C490,'C.1 - Rate Sheets'!$H$15:$I$46,2,FALSE)","v":145},null,null,null,null,null,null,null,null,null,null,null,null,null,null,null,null,null,null,null,null,null,null,null,null,null,null,null,null,16,16,null,null,null,null,null,32,4640,4640]
[null,474,"Mechanic Truck",null,"Vendor No 2",null,"MIFPUC-5","2018-11-04","2018-11-05",{"$f":"IF(AND(H491>='A - Contractor Summary'!$C$36,I491<='A - Contractor Summary'!$C$42),\"Yes\",\"No\")","v":"No"},{"$f":"VLOOKUP(C491,'C.1 - Rate Sheets'!$H$15:$I$46,2,FALSE)","v":45},null,null,null,null,null,null,null,null,null,null,null,null,null,null,null,null,null,null,null,null,null,null,null,null,null,null,null,null,16,16,null,null,null,null,null,32,1440,1440]
[null,475,"Pick Up Truck",null,"Vendor No 2",null,"MIFPUC-5","2018-11-04","2018-11-05",{"$f":"IF(AND(H492>='A - Contractor Summary'!$C$36,I492<='A - Contractor Summary'!$C$42),\"Yes\",\"No\")","v":"No"},{"$f":"VLOOKUP(C492,'C.1 - Rate Sheets'!$H$15:$I$46,2,FALSE)","v":20},null,null,null,null,null,null,null,null,null,null,null,null,null,null,null,null,null,null,null,null,null,null,null,null,null,null,null,null,16,16,null,null,null,null,null,32,640,640]
[null,476,"Bucket Truck Up to 55'",null,"Vendor No 2",null,"MIFPUC-5","2018-11-04","2018-11-05",{"$f":"IF(AND(H493>='A - Contractor Summary'!$C$36,I493<='A - Contractor Summary'!$C$42),\"Yes\",\"No\")","v":"No"},{"$f":"VLOOKUP(C493,'C.1 - Rate Sheets'!$H$15:$I$46,2,FALSE)","v":50},null,null,null,null,null,null,null,null,null,null,null,null,null,null,null,null,null,null,null,null,null,null,null,null,null,null,null,null,16,16,null,null,null,null,null,32,1600,1600]
[null,477,"Bucket Truck Up to 55'",null,"Vendor No 2",null,"MIFPUC-5","2018-11-04","2018-11-05",{"$f":"IF(AND(H494>='A - Contractor Summary'!$C$36,I494<='A - Contractor Summary'!$C$42),\"Yes\",\"No\")","v":"No"},{"$f":"VLOOKUP(C494,'C.1 - Rate Sheets'!$H$15:$I$46,2,FALSE)","v":50},null,null,null,null,null,null,null,null,null,null,null,null,null,null,null,null,null,null,null,null,null,null,null,null,null,null,null,null,16,16,null,null,null,null,null,32,1600,1600]
[null,478,"Digger Derrick Up to 50'",null,"Vendor No 2",null,"MIFPUC-5","2018-11-04","2018-11-05",{"$f":"IF(AND(H495>='A - Contractor Summary'!$C$36,I495<='A - Contractor Summary'!$C$42),\"Yes\",\"No\")","v":"No"},{"$f":"VLOOKUP(C495,'C.1 - Rate Sheets'!$H$15:$I$46,2,FALSE)","v":50},null,null,null,null,null,null,null,null,null,null,null,null,null,null,null,null,null,null,null,null,null,null,null,null,null,null,null,null,16,16,null,null,null,null,null,32,1600,1600]
[null,479,"Rear Property Machine",null,"Vendor No 2",null,"MIFPUC-5","2018-11-04","2018-11-05",{"$f":"IF(AND(H496>='A - Contractor Summary'!$C$36,I496<='A - Contractor Summary'!$C$42),\"Yes\",\"No\")","v":"No"},{"$f":"VLOOKUP(C496,'C.1 - Rate Sheets'!$H$15:$I$46,2,FALSE)","v":50},null,null,null,null,null,null,null,null,null,null,null,null,null,null,null,null,null,null,null,null,null,null,null,null,null,null,null,null,16,16,null,null,null,null,null,32,1600,1600]
[null,480,"Bucket Truck Up to 55'",null,"Vendor No 2",null,"MIFPUC-5","2018-11-04","2018-11-05",{"$f":"IF(AND(H497>='A - Contractor Summary'!$C$36,I497<='A - Contractor Summary'!$C$42),\"Yes\",\"No\")","v":"No"},{"$f":"VLOOKUP(C497,'C.1 - Rate Sheets'!$H$15:$I$46,2,FALSE)","v":50},null,null,null,null,null,null,null,null,null,null,null,null,null,null,null,null,null,null,null,null,null,null,null,null,null,null,null,null,16,16,null,null,null,null,null,32,1600,1600]
[null,481,"Bucket Truck Up to 55'",null,"Vendor No 2",null,"MIFPUC-5","2018-11-04","2018-11-05",{"$f":"IF(AND(H498>='A - Contractor Summary'!$C$36,I498<='A - Contractor Summary'!$C$42),\"Yes\",\"No\")","v":"No"},{"$f":"VLOOKUP(C498,'C.1 - Rate Sheets'!$H$15:$I$46,2,FALSE)","v":50},null,null,null,null,null,null,null,null,null,null,null,null,null,null,null,null,null,null,null,null,null,null,null,null,null,null,null,null,16,16,null,null,null,null,null,32,1600,1600]
[null,482,"Digger Derrick Up to 50'",null,"Vendor No 2",null,"MIFPUC-5","2018-11-04","2018-11-05",{"$f":"IF(AND(H499>='A - Contractor Summary'!$C$36,I499<='A - Contractor Summary'!$C$42),\"Yes\",\"No\")","v":"No"},{"$f":"VLOOKUP(C499,'C.1 - Rate Sheets'!$H$15:$I$46,2,FALSE)","v":50},null,null,null,null,null,null,null,null,null,null,null,null,null,null,null,null,null,null,null,null,null,null,null,null,null,null,null,null,16,16,null,null,null,null,null,32,1600,1600]
[null,483,"Rear Property Machine",null,"Vendor No 2",null,"MIFPUC-5","2018-11-04","2018-11-05",{"$f":"IF(AND(H500>='A - Contractor Summary'!$C$36,I500<='A - Contractor Summary'!$C$42),\"Yes\",\"No\")","v":"No"},{"$f":"VLOOKUP(C500,'C.1 - Rate Sheets'!$H$15:$I$46,2,FALSE)","v":50},null,null,null,null,null,null,null,null,null,null,null,null,null,null,null,null,null,null,null,null,null,null,null,null,null,null,null,null,16,16,null,null,null,null,null,32,1600,1600]
[null,484,"Bucket Truck Up to 55'",null,"Vendor No 2",null,"MIFPUC-5","2018-11-04","2018-11-05",{"$f":"IF(AND(H501>='A - Contractor Summary'!$C$36,I501<='A - Contractor Summary'!$C$42),\"Yes\",\"No\")","v":"No"},{"$f":"VLOOKUP(C501,'C.1 - Rate Sheets'!$H$15:$I$46,2,FALSE)","v":50},null,null,null,null,null,null,null,null,null,null,null,null,null,null,null,null,null,null,null,null,null,null,null,null,null,null,null,null,16,16,null,null,null,null,null,32,1600,1600]
[null,485,"Bucket Truck Up to 55'",null,"Vendor No 2",null,"MIFPUC-5","2018-11-04","2018-11-05",{"$f":"IF(AND(H502>='A - Contractor Summary'!$C$36,I502<='A - Contractor Summary'!$C$42),\"Yes\",\"No\")","v":"No"},{"$f":"VLOOKUP(C502,'C.1 - Rate Sheets'!$H$15:$I$46,2,FALSE)","v":50},null,null,null,null,null,null,null,null,null,null,null,null,null,null,null,null,null,null,null,null,null,null,null,null,null,null,null,null,16,16,null,null,null,null,null,32,1600,1600]
[null,486,"Digger Derrick Up to 50'",null,"Vendor No 2",null,"MIFPUC-5","2018-11-04","2018-11-05",{"$f":"IF(AND(H503>='A - Contractor Summary'!$C$36,I503<='A - Contractor Summary'!$C$42),\"Yes\",\"No\")","v":"No"},{"$f":"VLOOKUP(C503,'C.1 - Rate Sheets'!$H$15:$I$46,2,FALSE)","v":50},null,null,null,null,null,null,null,null,null,null,null,null,null,null,null,null,null,null,null,null,null,null,null,null,null,null,null,null,16,16,null,null,null,null,null,32,1600,1600]
[null,487,"Rear Property Machine",null,"Vendor No 2",null,"MIFPUC-5","2018-11-04","2018-11-05",{"$f":"IF(AND(H504>='A - Contractor Summary'!$C$36,I504<='A - Contractor Summary'!$C$42),\"Yes\",\"No\")","v":"No"},{"$f":"VLOOKUP(C504,'C.1 - Rate Sheets'!$H$15:$I$46,2,FALSE)","v":50},null,null,null,null,null,null,null,null,null,null,null,null,null,null,null,null,null,null,null,null,null,null,null,null,null,null,null,null,16,16,null,null,null,null,null,32,1600,1600]
[null,488,"Pick Up Truck",null,"Vendor No 2",null,"MIFPUC-5","2018-11-04","2018-11-05",{"$f":"IF(AND(H505>='A - Contractor Summary'!$C$36,I505<='A - Contractor Summary'!$C$42),\"Yes\",\"No\")","v":"No"},{"$f":"VLOOKUP(C505,'C.1 - Rate Sheets'!$H$15:$I$46,2,FALSE)","v":20},null,null,null,null,null,null,null,null,null,null,null,null,null,null,null,null,null,null,null,null,null,null,null,null,null,null,null,null,16,null,null,null,null,null,null,16,320,320]
[null,489,"Bucket Truck Up to 55'",null,"Vendor No 2",null,"MIFPUC-5","2018-11-04","2018-11-05",{"$f":"IF(AND(H506>='A - Contractor Summary'!$C$36,I506<='A - Contractor Summary'!$C$42),\"Yes\",\"No\")","v":"No"},{"$f":"VLOOKUP(C506,'C.1 - Rate Sheets'!$H$15:$I$46,2,FALSE)","v":50},null,null,null,null,null,null,null,null,null,null,null,null,null,null,null,null,null,null,null,null,null,null,null,null,null,null,null,null,16,16,null,null,null,null,null,32,1600,1600]
[null,490,"Digger Derrick Up to 50'",null,"Vendor No 2",null,"MIFPUC-5","2018-11-04","2018-11-05",{"$f":"IF(AND(H507>='A - Contractor Summary'!$C$36,I507<='A - Contractor Summary'!$C$42),\"Yes\",\"No\")","v":"No"},{"$f":"VLOOKUP(C507,'C.1 - Rate Sheets'!$H$15:$I$46,2,FALSE)","v":50},null,null,null,null,null,null,null,null,null,null,null,null,null,null,null,null,null,null,null,null,null,null,null,null,null,null,null,null,16,16,null,null,null,null,null,32,1600,1600]
[null,491,"Pick Up Truck",null,"Vendor No 2",null,"MIFPUC-5","2018-11-04","2018-11-05",{"$f":"IF(AND(H508>='A - Contractor Summary'!$C$36,I508<='A - Contractor Summary'!$C$42),\"Yes\",\"No\")","v":"No"},{"$f":"VLOOKUP(C508,'C.1 - Rate Sheets'!$H$15:$I$46,2,FALSE)","v":20},null,null,null,null,null,null,null,null,null,null,null,null,null,null,null,null,null,null,null,null,null,null,null,null,null,null,null,null,16,null,null,null,null,null,null,16,320,320]
[null,492,"Bucket Truck Up to 55'",null,"Vendor No 2",null,"MIFPUC-5","2018-11-04","2018-11-05",{"$f":"IF(AND(H509>='A - Contractor Summary'!$C$36,I509<='A - Contractor Summary'!$C$42),\"Yes\",\"No\")","v":"No"},{"$f":"VLOOKUP(C509,'C.1 - Rate Sheets'!$H$15:$I$46,2,FALSE)","v":50},null,null,null,null,null,null,null,null,null,null,null,null,null,null,null,null,null,null,null,null,null,null,null,null,null,null,null,null,16,16,null,null,null,null,null,32,1600,1600]
[null,493,"Digger Derrick Greater Than 50'",null,"Vendor No 2",null,"MIFPUC-5","2018-11-04","2018-11-05",{"$f":"IF(AND(H510>='A - Contractor Summary'!$C$36,I510<='A - Contractor Summary'!$C$42),\"Yes\",\"No\")","v":"No"},{"$f":"VLOOKUP(C510,'C.1 - Rate Sheets'!$H$15:$I$46,2,FALSE)","v":60},null,null,null,null,null,null,null,null,null,null,null,null,null,null,null,null,null,null,null,null,null,null,null,null,null,null,null,null,16,16,null,null,null,null,null,32,1920,1920]
[null,494,"Digger Derrick Greater Than 50'",null,"Vendor No 2",null,"MIFPUC-5","2018-11-04","2018-11-05",{"$f":"IF(AND(H511>='A - Contractor Summary'!$C$36,I511<='A - Contractor Summary'!$C$42),\"Yes\",\"No\")","v":"No"},{"$f":"VLOOKUP(C511,'C.1 - Rate Sheets'!$H$15:$I$46,2,FALSE)","v":60},null,null,null,null,null,null,null,null,null,null,null,null,null,null,null,null,null,null,null,null,null,null,null,null,null,null,null,null,16,16,null,null,null,null,null,32,1920,1920]
[null,495,"X100 Blocks",null,"Vendor No 2",null,"MIFPUC-5","2018-11-04","2018-11-05",{"$f":"IF(AND(H512>='A - Contractor Summary'!$C$36,I512<='A - Contractor Summary'!$C$42),\"Yes\",\"No\")","v":"No"},{"$f":"VLOOKUP(C512,'C.1 - Rate Sheets'!$H$15:$I$46,2,FALSE)","v":2},null,null,null,null,null,null,null,null,null,null,null,null,null,null,null,null,null,null,null,null,null,null,null,null,null,null,null,null,16,16,null,null,null,null,null,32,64,64]
[null,496,"Wire Cart",null,"Vendor No 2",null,"MIFPUC-5","2018-11-04","2018-11-05",{"$f":"IF(AND(H513>='A - Contractor Summary'!$C$36,I513<='A - Contractor Summary'!$C$42),\"Yes\",\"No\")","v":"No"},{"$f":"VLOOKUP(C513,'C.1 - Rate Sheets'!$H$15:$I$46,2,FALSE)","v":20},null,null,null,null,null,null,null,null,null,null,null,null,null,null,null,null,null,null,null,null,null,null,null,null,null,null,null,null,16,16,null,null,null,null,null,32,640,640]
[null,497,"Air Compressor",null,"Vendor No 2",null,"MIFPUC-5","2018-11-04","2018-11-05",{"$f":"IF(AND(H514>='A - Contractor Summary'!$C$36,I514<='A - Contractor Summary'!$C$42),\"Yes\",\"No\")","v":"No"},{"$f":"VLOOKUP(C514,'C.1 - Rate Sheets'!$H$15:$I$46,2,FALSE)","v":15},null,null,null,null,null,null,null,null,null,null,null,null,null,null,null,null,null,null,null,null,null,null,null,null,null,null,null,null,16,16,null,null,null,null,null,32,480,480]
[null,498,"Hydrovac Excavation Truck(Vac Truck)",null,"Vendor No 2",null,"MIFPUC-5","2018-11-04","2018-11-05",{"$f":"IF(AND(H515>='A - Contractor Summary'!$C$36,I515<='A - Contractor Summary'!$C$42),\"Yes\",\"No\")","v":"No"},{"$f":"VLOOKUP(C515,'C.1 - Rate Sheets'!$H$15:$I$46,2,FALSE)","v":165},null,null,null,null,null,null,null,null,null,null,null,null,null,null,null,null,null,null,null,null,null,null,null,null,null,null,null,null,16,16,null,null,null,null,null,32,5280,5280]
[null,499,"Flat Bed Truck",null,"Vendor No 2",null,"MIFPUC-5","2018-11-04","2018-11-05",{"$f":"IF(AND(H516>='A - Contractor Summary'!$C$36,I516<='A - Contractor Summary'!$C$42),\"Yes\",\"No\")","v":"No"},{"$f":"VLOOKUP(C516,'C.1 - Rate Sheets'!$H$15:$I$46,2,FALSE)","v":35},null,null,null,null,null,null,null,null,null,null,null,null,null,null,null,null,null,null,null,null,null,null,null,null,null,null,null,null,16,16,null,null,null,null,null,32,1120,1120]
[null,500,"Wire Cart",null,"Vendor No 2",null,"MIFPUC-5","2018-11-04","2018-11-05",{"$f":"IF(AND(H517>='A - Contractor Summary'!$C$36,I517<='A - Contractor Summary'!$C$42),\"Yes\",\"No\")","v":"No"},{"$f":"VLOOKUP(C517,'C.1 - Rate Sheets'!$H$15:$I$46,2,FALSE)","v":20},null,null,null,null,null,null,null,null,null,null,null,null,null,null,null,null,null,null,null,null,null,null,null,null,null,null,null,null,16,16,null,null,null,null,null,32,640,640]
[null,501,"Digger Tracked",null,"Vendor No 2",null,"MIFPUC-5","2018-11-04","2018-11-05",{"$f":"IF(AND(H518>='A - Contractor Summary'!$C$36,I518<='A - Contractor Summary'!$C$42),\"Yes\",\"No\")","v":"No"},{"$f":"VLOOKUP(C518,'C.1 - Rate Sheets'!$H$15:$I$46,2,FALSE)","v":70},null,null,null,null,null,null,null,null,null,null,null,null,null,null,null,null,null,null,null,null,null,null,null,null,null,null,null,null,16,16,null,null,null,null,null,32,2240,2240]
[null,502,"Bucket Truck Up to 55'",null,"Vendor No 2",null,"MIFPUC-5","2018-11-04","2018-11-05",{"$f":"IF(AND(H519>='A - Contractor Summary'!$C$36,I519<='A - Contractor Summary'!$C$42),\"Yes\",\"No\")","v":"No"},{"$f":"VLOOKUP(C519,'C.1 - Rate Sheets'!$H$15:$I$46,2,FALSE)","v":50},null,null,null,null,null,null,null,null,null,null,null,null,null,null,null,null,null,null,null,null,null,null,null,null,null,null,null,null,16,16,null,null,null,null,null,32,1600,1600]
[null,503,"Rope Rig (puller)",null,"Vendor No 2",null,"MIFPUC-5","2018-11-04","2018-11-05",{"$f":"IF(AND(H520>='A - Contractor Summary'!$C$36,I520<='A - Contractor Summary'!$C$42),\"Yes\",\"No\")","v":"No"},{"$f":"VLOOKUP(C520,'C.1 - Rate Sheets'!$H$15:$I$46,2,FALSE)","v":55},null,null,null,null,null,null,null,null,null,null,null,null,null,null,null,null,null,null,null,null,null,null,null,null,null,null,null,null,16,16,null,null,null,null,null,32,1760,1760]
[null,504,"Excavator Rental",null,"Vendor No 2",null,"MIFPUC-5","2018-11-04","2018-11-05",{"$f":"IF(AND(H521>='A - Contractor Summary'!$C$36,I521<='A - Contractor Summary'!$C$42),\"Yes\",\"No\")","v":"No"},{"$f":"VLOOKUP(C521,'C.1 - Rate Sheets'!$H$15:$I$46,2,FALSE)","v":2253.84},null,null,null,null,null,null,null,null,null,null,null,null,null,null,null,null,null,null,null,null,null,null,null,null,null,null,null,null,16,16,null,null,null,null,null,32,null,0,0,0,0]
[null,null,null,null,null,null,null,null,null,null,null,{"$f":"SUM(L18:L521)","v":0},0,0,0,351,848,848,849,880,944,1392,1392,1440,1520,1520,1520,1520,1520,1520,1536,1536,1536,1536,1536,1536,1536,1552,1488,1552,1520,0,0,0,0,0,34928,1540068.01,1540068.01,0,0,0,{"$f":"AX522-AY522-AZ522","v":0},"check (b)"]
[]
[]
[]
[null,"Tickmark Explanation:"]

{"sheet":"D - Lodging","index":8,"n_rows":23,"n_cols":25,"rows_kept":23,"cut":false,"hidden":false,"merged":[[1,1,1,23],[11,15,11,23],[11,1,11,14],[3,1,6,14]]}
[]
[null,"Lodging Charges"]
[]
[null,"Test Plan:  (A) Obtain support of individual charges. (B) Enter Yes/No if receipt is itemized (C) Enter Yes/No if proof of payment has been provided. (D) Ensure charges fall between the dates the vendor was mobilized and the date they arrived.  (E) Ensure charges are prior to the date the vendor arrived home or was released to another utility.  (F) Ensure the location of stay was reasonable (G) Determine the amount(s) to be reviewed, allowed and/or disallowed.  (H) For charges which required further review, document review (include why it was determined to be allowed/disallowed via a tickmark)."]
[]
[]
[]
[null,"Rx","Recalculated."]
[null,"a","Check figure should equal $0.  Cell will appear yellow if discrepancies are noted."]
[]
[null,null,"A",null,null,null,null,null,null,null,null,null,"Rx","B","C","D","E","F","G",null,null,"H"]
[null,"Support Reviewed",null,null,null,null,null,null,null,null,null,null,null,null,null,"Conclusion"]
[null,"#","Type of Support","Support Identifier","Crew","Company","Check In Date","Person","Hotel Name","Location","# of Nights","Total Invoice","$ / Night","Itemized Receipt","Proof of Payment","Reasonable based on Mobilization date(s)","Reasonable based on Demobilization date(s)","Location Reasonable","Conclusion","$ Allowable Charge","$ To Be Reviewed","Reviewed - Allowable $","Reviewed - Unallowable $","Tickmark"]
[null,1,"Receipt","MIFPUC-4",null,"Vendor No. 02","2018-11-02","Jim Murrell","Quality Inn",null,1,80.56,{"$f":"L14/K14","v":80.56},null,null,{"$f":"IF(AND(G14>='A - Contractor Summary'!$C$36,G14<='A - Contractor Summary'!$C$38),\"Yes\",IF(G14<'A - Contractor Summary'!$C$36,\"No\",IF(G14>'A - Contractor Summary'!$C$39,\"\",\"\")))","v":"No"},{"$f":"IF(OR(P14=\"Yes\",P14=\"No\")*AND(G14<'A - Contractor Summary'!$C$39),\"\",IF(AND(G14>'A - Contractor Summary'!$C$39,G14<'A - Contractor Summary'!$C$42),\"Yes\",IF(G14>'A - Contractor Summary'!$C$42,\"No\",\"Needs Review\")))","v":""},null,{"$f":"IF(AND(R14=\"YES\",O14=\"Yes\",N14=\"Yes\")*OR(P14=\"Yes\",Q14=\"Yes\"),\"Yes\",IF(OR(N14=\"No\",O14=\"No\",P14=\"No\",Q14=\"No\",R14=\"No\"),\"No\",\"Needs Review\"))","v":"No"},{"$f":"+L14","v":80.56},{"$f":"IF(S14=\"Needs Review\",L14,0)","v":0},null,null,1]
[null,2,"Receipt","MIFPUC-1",null,"Vendor No. 02","2018-10-09","Kelly Drummond","Comfort Suites","Ocala Fl",2,308.58,154.29,null,null,{"$f":"IF(AND(G15>='A - Contractor Summary'!$C$36,G15<='A - Contractor Summary'!$C$38),\"Yes\",IF(G15<'A - Contractor Summary'!$C$36,\"No\",IF(G15>'A - Contractor Summary'!$C$39,\"\",\"\")))","v":"No"},{"$f":"IF(OR(P15=\"Yes\",P15=\"No\")*AND(G15<'A - Contractor Summary'!$C$39),\"\",IF(AND(G15>'A - Contractor Summary'!$C$39,G15<'A - Contractor Summary'!$C$42),\"Yes\",IF(G15>'A - Contractor Summary'!$C$42,\"No\",\"Needs Review\")))","v":""},null,"No",{"$f":"+L15","v":308.58},0,null,null,1]
[null,3,"Receipt","MIFPUC-1",null,"Vendor No. 02","2018-10-11","Bonnie Knopf ","Courtyard Marriott","Jacksonville Beach Fl",2,7902.09,3951.0450000000001,null,null,{"$f":"IF(AND(G16>='A - Contractor Summary'!$C$36,G16<='A - Contractor Summary'!$C$38),\"Yes\",IF(G16<'A - Contractor Summary'!$C$36,\"No\",IF(G16>'A - Contractor Summary'!$C$39,\"\",\"\")))","v":"No"},{"$f":"IF(OR(P16=\"Yes\",P16=\"No\")*AND(G16<'A - Contractor Summary'!$C$39),\"\",IF(AND(G16>'A - Contractor Summary'!$C$39,G16<'A - Contractor Summary'!$C$42),\"Yes\",IF(G16>'A - Contractor Summary'!$C$42,\"No\",\"Needs Review\")))","v":""},null,"No",7902.09,0,null,null,1]
[null,4,"Receipt","MIFPUC-2",null,"Vendor No. 02","2018-10-17","Bonnie Knopf ","Courtyard Marriott","Jacksonville Beach Fl",1,2349.27,2349.27,null,null,{"$f":"IF(AND(G17>='A - Contractor Summary'!$C$36,G17<='A - Contractor Summary'!$C$38),\"Yes\",IF(G17<'A - Contractor Summary'!$C$36,\"No\",IF(G17>'A - Contractor Summary'!$C$39,\"\",\"\")))","v":"No"},{"$f":"IF(OR(P17=\"Yes\",P17=\"No\")*AND(G17<'A - Contractor Summary'!$C$39),\"\",IF(AND(G17>'A - Contractor Summary'!$C$39,G17<'A - Contractor Summary'!$C$42),\"Yes\",IF(G17>'A - Contractor Summary'!$C$42,\"No\",\"Needs Review\")))","v":""},null,"No",2349.27,0,null,null,1]
[null,5,null,null,null,"Vendor No. 02",null,null,null,null,null,null,{"$error":"#DIV/0!"},null,null,{"$f":"IF(AND(G18>='A - Contractor Summary'!$C$36,G18<='A - Contractor Summary'!$C$38),\"Yes\",IF(G18<'A - Contractor Summary'!$C$36,\"No\",IF(G18>'A - Contractor Summary'!$C$39,\"\",\"\")))","v":"No"},{"$f":"IF(OR(P18=\"Yes\",P18=\"No\")*AND(G18<'A - Contractor Summary'!$C$39),\"\",IF(AND(G18>'A - Contractor Summary'!$C$39,G18<'A - Contractor Summary'!$C$42),\"Yes\",IF(G18>'A - Contractor Summary'!$C$42,\"No\",\"Needs Review\")))","v":""},null,"No",0,0]
[null,null,null,null,null,null,null,null,null,null,null,{"$f":"SUM(L14:L18)","v":10640.5},null,null,null,null,null,null,null,{"$f":"IFERROR(SUM(T14:T18),0)","v":10640.5},{"$f":"IFERROR(SUM(U14:U18),0)","v":0},{"$f":"IFERROR(SUM(V14:V18),0)","v":0},{"$f":"IFERROR(SUM(W14:W18),0)","v":0},{"$f":"U19-V19-W19","v":0},"check (a)"]
[]
[]
[null,"Tickmark Explanation:"]
[null,"1 Receipts Provided"]

{"sheet":"E - Fuel","index":9,"n_rows":368,"n_cols":22,"rows_kept":368,"cut":false,"hidden":false,"merged":[[1,1,1,20],[3,1,6,11],[11,12,11,20],[11,1,11,11],[4,15,6,20]]}
[]
[null,"Fuel Charges"]
[]
[null,"Test Plan: (A) Obtain support of individual charges. (B) Enter Yes/No if receipt is itemized (C) Enter Yes/No if proof of payment has been provided. (D) Ensure charges fall between the dates the vendor was mobilized and the date they arrived.  (E) Ensure charges are prior to the date the vendor arrived home or was released to another utility.  (F) Ensure the location of charge was reasonable (G) Determine the amount(s) to be reviewed, allowed  and/or disallowed.  (H)  For charges which required further review, document review (include why it was determined to be allowed/disallowed via a tickmark)."]
[null,null,null,null,null,null,null,null,null,null,null,null,null,null,null,"No Fuel Charges"]
[]
[]
[]
[null,"a","Check figure should equal $0.  Cell will appear yellow if discrepancies are noted."]
[]
[null,null,"A",null,null,null,null,null,null,null,"B","C","D","E","F","G",null,null,"H"]
[null,"Support Reviewed",null,null,null,null,null,null,null,null,null,null,"Conclusions"]
[null,"#","Type of Support","Support Identifier","Company","Date","Person","Name","Location","Total Charge","Itemized Receipt","Proof of Payment","Reasonable based on Mobilization date(s)","Reasonable based on Demobilization date(s)","Locations Reasonable","Conclusion","$ Allowable Charge","$ To Be Reviewed","Reviewed - Allowable Charge","Reviewed - Unallowable Charge","Tickmarks"]
[null,1,"Spreadsheet",35,"Vendor No. 2","2018-10-12",1060,"MIFPUC-1","Cocoa Fl",23.21,null,null,{"$f":"IF(AND(F14>='A - Contractor Summary'!$C$36,F14<='A - Contractor Summary'!$C$38),\"Yes\",IF(F14<'A - Contractor Summary'!$C$36,\"No\",IF(F14>'A - Contractor Summary'!$C$39,\"\",\"\")))","v":"No"},{"$f":"IF(OR(M14=\"Yes\",M14=\"No\")*AND(F14<'A - Contractor Summary'!$C$39),\"\",IF(AND(F14>'A - Contractor Summary'!$C$39,F14<'A - Contractor Summary'!$C$42),\"Yes\",IF(F14>'A - Contractor Summary'!$C$42,\"No\",\"Needs Review\")))","v":""},null,{"$f":"IF(AND(O14=\"Yes\",K14=\"Yes\",L14=\"Yes\")*OR(N14=\"Yes\",M14=\"Yes\"),\"Yes\",IF(OR(K14=\"No\",M14=\"No\",N14=\"No\",O14=\"No\",L14=\"No\"),\"No\",\"Needs Review\"))","v":"No"},{"$f":"+J14","v":23.21},{"$f":"IF(P14=\"Needs Review\",J14,0)","v":0},null,null,1]
[null,2,"Spreadsheet",151,"Vendor No. 2","2018-10-12",1060,"MIFPUC-1","Miami Garden Fl",68.94,null,null,{"$f":"IF(AND(F15>='A - Contractor Summary'!$C$36,F15<='A - Contractor Summary'!$C$38),\"Yes\",IF(F15<'A - Contractor Summary'!$C$36,\"No\",IF(F15>'A - Contractor Summary'!$C$39,\"\",\"\")))","v":"No"},{"$f":"IF(OR(M15=\"Yes\",M15=\"No\")*AND(F15<'A - Contractor Summary'!$C$39),\"\",IF(AND(F15>'A - Contractor Summary'!$C$39,F15<'A - Contractor Summary'!$C$42),\"Yes\",IF(F15>'A - Contractor Summary'!$C$42,\"No\",\"Needs Review\")))","v":""},null,{"$f":"IF(AND(O15=\"Yes\",K15=\"Yes\",L15=\"Yes\")*OR(N15=\"Yes\",M15=\"Yes\"),\"Yes\",IF(OR(K15=\"No\",M15=\"No\",N15=\"No\",O15=\"No\",L15=\"No\"),\"No\",\"Needs Review\"))","v":"No"},68.94,0,null,null,1]
[null,3,"Spreadsheet",151,"Vendor No. 2","2018-10-12",1060,"MIFPUC-1","Punta Gorda Fl",100.93,null,null,{"$f":"IF(AND(F16>='A - Contractor Summary'!$C$36,F16<='A - Contractor Summary'!$C$38),\"Yes\",IF(F16<'A - Contractor Summary'!$C$36,\"No\",IF(F16>'A - Contractor Summary'!$C$39,\"\",\"\")))","v":"No"},{"$f":"IF(OR(M16=\"Yes\",M16=\"No\")*AND(F16<'A - Contractor Summary'!$C$39),\"\",IF(AND(F16>'A - Contractor Summary'!$C$39,F16<'A - Contractor Summary'!$C$42),\"Yes\",IF(F16>'A - Contractor Summary'!$C$42,\"No\",\"Needs Review\")))","v":""},null,"No",100.93,0,null,null,1]
[null,4,"Spreadsheet",227,"Vendor No. 2","2018-10-12",1060,"MIFPUC-1","Baldwin Fl",32.4,null,null,{"$f":"IF(AND(F17>='A - Contractor Summary'!$C$36,F17<='A - Contractor Summary'!$C$38),\"Yes\",IF(F17<'A - Contractor Summary'!$C$36,\"No\",IF(F17>'A - Contractor Summary'!$C$39,\"\",\"\")))","v":"No"},{"$f":"IF(OR(M17=\"Yes\",M17=\"No\")*AND(F17<'A - Contractor Summary'!$C$39),\"\",IF(AND(F17>'A - Contractor Summary'!$C$39,F17<'A - Contractor Summary'!$C$42),\"Yes\",IF(F17>'A - Contractor Summary'!$C$42,\"No\",\"Needs Review\")))","v":""},null,"No",32.4,0,null,null,1]
[null,5,"Spreadsheet",275,"Vendor No. 2","2018-10-12",1060,"MIFPUC-1","Cocoa Fl",15.64,null,null,{"$f":"IF(AND(F18>='A - Contractor Summary'!$C$36,F18<='A - Contractor Summary'!$C$38),\"Yes\",IF(F18<'A - Contractor Summary'!$C$36,\"No\",IF(F18>'A - Contractor Summary'!$C$39,\"\",\"\")))","v":"No"},null,null,null,15.64,null,null,null,1]
[null,6,"Spreadsheet",275,"Vendor No. 2","2018-10-12",1060,"MIFPUC-1","Cocoa Fl",107.09,null,null,{"$f":"IF(AND(F19>='A - Contractor Summary'!$C$36,F19<='A - Contractor Summary'!$C$38),\"Yes\",IF(F19<'A - Contractor Summary'!$C$36,\"No\",IF(F19>'A - Contractor Summary'!$C$39,\"\",\"\")))","v":"No"},null,null,null,107.09,null,null,null,1]
[null,7,"Spreadsheet",276,"Vendor No. 2","2018-10-12",1060,"MIFPUC-1","Cocoa Fl",70,null,null,{"$f":"IF(AND(F20>='A - Contractor Summary'!$C$36,F20<='A - Contractor Summary'!$C$38),\"Yes\",IF(F20<'A - Contractor Summary'!$C$36,\"No\",IF(F20>'A - Contractor Summary'!$C$39,\"\",\"\")))","v":"No"},null,null,null,70,null,null,null,1]
[null,8,"Spreadsheet",279,"Vendor No. 2","2018-10-12",1060,"MIFPUC-1","Cocoa Fl",65.64,null,null,{"$f":"IF(AND(F21>='A - Contractor Summary'!$C$36,F21<='A - Contractor Summary'!$C$38),\"Yes\",IF(F21<'A - Contractor Summary'!$C$36,\"No\",IF(F21>'A - Contractor Summary'!$C$39,\"\",\"\")))","v":"No"},null,null,null,65.64,null,null,null,1]
[null,9,"Spreadsheet",289,"Vendor No. 2","2018-10-12",1060,"MIFPUC-1","Baldwin Fl",35.200000000000003,null,null,{"$f":"IF(AND(F22>='A - Contractor Summary'!$C$36,F22<='A - Contractor Summary'!$C$38),\"Yes\",IF(F22<'A - Contractor Summary'!$C$36,\"No\",IF(F22>'A - Contractor Summary'!$C$39,\"\",\"\")))","v":"No"},null,null,null,35.200000000000003,null,null,null,1]
[null,10,"Spreadsheet",297,"Vendor No. 2","2018-10-12",1060,"MIFPUC-1","Cocoa Fl",30.95,null,null,{"$f":"IF(AND(F23>='A - Contractor Summary'!$C$36,F23<='A - Contractor Summary'!$C$38),\"Yes\",IF(F23<'A - Contractor Summary'!$C$36,\"No\",IF(F23>'A - Contractor Summary'!$C$39,\"\",\"\")))","v":"No"},null,null,null,30.95,null,null,null,1]
[null,11,"Spreadsheet",303,"Vendor No. 2","2018-10-12",1060,"MIFPUC-1","Baldwin Fl",14.83,null,null,{"$f":"IF(AND(F24>='A - Contractor Summary'!$C$36,F24<='A - Contractor Summary'!$C$38),\"Yes\",IF(F24<'A - Contractor Summary'!$C$36,\"No\",IF(F24>'A - Contractor Summary'!$C$39,\"\",\"\")))","v":"No"},null,null,null,14.83,null,null,null,1]
[null,12,"Spreadsheet",319,"Vendor No. 2","2018-10-12",1060,"MIFPUC-1","Baldwin Fl",39.29,null,null,{"$f":"IF(AND(F25>='A - Contractor Summary'!$C$36,F25<='A - Contractor Summary'!$C$38),\"Yes\",IF(F25<'A - Contractor Summary'!$C$36,\"No\",IF(F25>'A - Contractor Summary'!$C$39,\"\",\"\")))","v":"No"},null,null,null,39.29,null,null,null,1]
[null,13,"Spreadsheet",130,"Vendor No. 2","2018-10-13",1060,"MIFPUC-1","Midway Fl",50.31,null,null,{"$f":"IF(AND(F26>='A - Contractor Summary'!$C$36,F26<='A - Contractor Summary'!$C$38),\"Yes\",IF(F26<'A - Contractor Summary'!$C$36,\"No\",IF(F26>'A - Contractor Summary'!$C$39,\"\",\"\")))","v":"No"},null,null,null,50.31,null,null,null,1]
[null,14,"Spreadsheet",135,"Vendor No. 2","2018-10-13",1060,"MIFPUC-1","Baldwin Fl",99.71,null,null,{"$f":"IF(AND(F27>='A - Contractor Summary'!$C$36,F27<='A - Contractor Summary'!$C$38),\"Yes\",IF(F27<'A - Contractor Summary'!$C$36,\"No\",IF(F27>'A - Contractor Summary'!$C$39,\"\",\"\")))","v":"No"},null,null,null,99.71,null,null,null,1]
[null,15,"Spreadsheet",135,"Vendor No. 2","2018-10-13",1060,"MIFPUC-1","Midway Fl",75.290000000000006,null,null,{"$f":"IF(AND(F28>='A - Contractor Summary'!$C$36,F28<='A - Contractor Summary'!$C$38),\"Yes\",IF(F28<'A - Contractor Summary'!$C$36,\"No\",IF(F28>'A - Contractor Summary'!$C$39,\"\",\"\")))","v":"No"},null,null,null,75.290000000000006,null,null,null,1]
[null,16,"Spreadsheet",151,"Vendor No. 2","2018-10-13",1060,"MIFPUC-1","Baldwin Fl",55.74,null,null,{"$f":"IF(AND(F29>='A - Contractor Summary'!$C$36,F29<='A - Contractor Summary'!$C$38),\"Yes\",IF(F29<'A - Contractor Summary'!$C$36,\"No\",IF(F29>'A - Contractor Summary'!$C$39,\"\",\"\")))","v":"No"},null,null,null,55.74,null,null,null,1]
[null,17,"Spreadsheet",151,"Vendor No. 2","2018-10-13",1060,"MIFPUC-1","Baldwin Fl",58.83,null,null,{"$f":"IF(AND(F30>='A - Contractor Summary'!$C$36,F30<='A - Contractor Summary'!$C$38),\"Yes\",IF(F30<'A - Contractor Summary'!$C$36,\"No\",IF(F30>'A - Contractor Summary'!$C$39,\"\",\"\")))","v":"No"},null,null,null,58.83,null,null,null,1]
[null,18,"Spreadsheet",151,"Vendor No. 2","2018-10-13",1060,"MIFPUC-1","Midway Fl",350,null,null,{"$f":"IF(AND(F31>='A - Contractor Summary'!$C$36,F31<='A - Contractor Summary'!$C$38),\"Yes\",IF(F31<'A - Contractor Summary'!$C$36,\"No\",IF(F31>'A - Contractor Summary'!$C$39,\"\",\"\")))","v":"No"},null,null,null,350,null,null,null,1]
[null,19,"Spreadsheet",275,"Vendor No. 2","2018-10-13",1601,"MIFPUC-1","Baldwin Fl",92.53,null,null,{"$f":"IF(AND(F32>='A - Contractor Summary'!$C$36,F32<='A - Contractor Summary'!$C$38),\"Yes\",IF(F32<'A - Contractor Summary'!$C$36,\"No\",IF(F32>'A - Contractor Summary'!$C$39,\"\",\"\")))","v":"No"},null,null,null,92.53,null,null,null,1]
[null,20,"Spreadsheet",275,"Vendor No. 2","2018-10-13",1601,"MIFPUC-1","Midway Fl",40.47,null,null,{"$f":"IF(AND(F33>='A - Contractor Summary'!$C$36,F33<='A - Contractor Summary'!$C$38),\"Yes\",IF(F33<'A - Contractor Summary'!$C$36,\"No\",IF(F33>'A - Contractor Summary'!$C$39,\"\",\"\")))","v":"No"},null,null,null,40.47,null,null,null,1]
[null,21,"Spreadsheet",276,"Vendor No. 2","2018-10-13",1060,"MIFPUC-1","Baldwin Fl",44.01,null,null,{"$f":"IF(AND(F34>='A - Contractor Summary'!$C$36,F34<='A - Contractor Summary'!$C$38),\"Yes\",IF(F34<'A - Contractor Summary'!$C$36,\"No\",IF(F34>'A - Contractor Summary'!$C$39,\"\",\"\")))","v":"No"},null,null,null,44.01,null,null,null,1]
[null,22,"Spreadsheet",276,"Vendor No. 2","2018-10-13",1060,"MIFPUC-1","Midway Fl",55.47,null,null,{"$f":"IF(AND(F35>='A - Contractor Summary'!$C$36,F35<='A - Contractor Summary'!$C$38),\"Yes\",IF(F35<'A - Contractor Summary'!$C$36,\"No\",IF(F35>'A - Contractor Summary'!$C$39,\"\",\"\")))","v":"No"},null,null,null,55.47,null,null,null,1]
[null,23,"Spreadsheet",279,"Vendor No. 2","2018-10-13",1060,"MIFPUC-1","Baldwin Fl",74.02,null,null,{"$f":"IF(AND(F36>='A - Contractor Summary'!$C$36,F36<='A - Contractor Summary'!$C$38),\"Yes\",IF(F36<'A - Contractor Summary'!$C$36,\"No\",IF(F36>'A - Contractor Summary'!$C$39,\"\",\"\")))","v":"No"},null,null,null,74.02,null,null,null,1]
[null,24,"Spreadsheet",279,"Vendor No. 2","2018-10-13",1060,"MIFPUC-1","Midway Fl",67.2,null,null,{"$f":"IF(AND(F37>='A - Contractor Summary'!$C$36,F37<='A - Contractor Summary'!$C$38),\"Yes\",IF(F37<'A - Contractor Summary'!$C$36,\"No\",IF(F37>'A - Contractor Summary'!$C$39,\"\",\"\")))","v":"No"},null,null,null,67.2,null,null,null,1]
[null,25,"Spreadsheet",297,"Vendor No. 2","2018-10-13",1060,"MIFPUC-1","Baldwin Fl",132.13999999999999,null,null,{"$f":"IF(AND(F38>='A - Contractor Summary'!$C$36,F38<='A - Contractor Summary'!$C$38),\"Yes\",IF(F38<'A - Contractor Summary'!$C$36,\"No\",IF(F38>'A - Contractor Summary'!$C$39,\"\",\"\")))","v":"No"},null,null,null,132.13999999999999,null,null,null,1]
[null,26,"Spreadsheet",297,"Vendor No. 2","2018-10-13",1060,"MIFPUC-1","Baldwin Fl",25.02,null,null,{"$f":"IF(AND(F39>='A - Contractor Summary'!$C$36,F39<='A - Contractor Summary'!$C$38),\"Yes\",IF(F39<'A - Contractor Summary'!$C$36,\"No\",IF(F39>'A - Contractor Summary'!$C$39,\"\",\"\")))","v":"No"},null,null,null,25.02,null,null,null,1]
[null,27,"Spreadsheet",297,"Vendor No. 2","2018-10-13",1060,"MIFPUC-1","Baldwin Fl",22.52,null,null,{"$f":"IF(AND(F40>='A - Contractor Summary'!$C$36,F40<='A - Contractor Summary'!$C$38),\"Yes\",IF(F40<'A - Contractor Summary'!$C$36,\"No\",IF(F40>'A - Contractor Summary'!$C$39,\"\",\"\")))","v":"No"},{"$f":"IF(OR(M40=\"Yes\",M40=\"No\")*AND(F40<'A - Contractor Summary'!$C$39),\"\",IF(AND(F40>'A - Contractor Summary'!$C$39,F40<'A - Contractor Summary'!$C$42),\"Yes\",IF(F40>'A - Contractor Summary'!$C$42,\"No\",\"Needs Review\")))","v":""},null,"No",22.52,0,null,null,1]
[null,28,"Spreadsheet",297,"Vendor No. 2","2018-10-13",1060,"MIFPUC-1","Midway Fl",47.7,null,null,{"$f":"IF(AND(F41>='A - Contractor Summary'!$C$36,F41<='A - Contractor Summary'!$C$38),\"Yes\",IF(F41<'A - Contractor Summary'!$C$36,\"No\",IF(F41>'A - Contractor Summary'!$C$39,\"\",\"\")))","v":"No"},{"$f":"IF(OR(M41=\"Yes\",M41=\"No\")*AND(F41<'A - Contractor Summary'!$C$39),\"\",IF(AND(F41>'A - Contractor Summary'!$C$39,F41<'A - Contractor Summary'!$C$42),\"Yes\",IF(F41>'A - Contractor Summary'!$C$42,\"No\",\"Needs Review\")))","v":""},null,"No",47.7,0,null,null,1]
[null,29,"Spreadsheet",47,"Vendor No. 2","2018-10-11",1009,"MIFPUC-1","Callahan Fl",30.05,null,null,{"$f":"IF(AND(F42>='A - Contractor Summary'!$C$36,F42<='A - Contractor Summary'!$C$38),\"Yes\",IF(F42<'A - Contractor Summary'!$C$36,\"No\",IF(F42>'A - Contractor Summary'!$C$39,\"\",\"\")))","v":"No"},{"$f":"IF(OR(M42=\"Yes\",M42=\"No\")*AND(F42<'A - Contractor Summary'!$C$39),\"\",IF(AND(F42>'A - Contractor Summary'!$C$39,F42<'A - Contractor Summary'!$C$42),\"Yes\",IF(F42>'A - Contractor Summary'!$C$42,\"No\",\"Needs Review\")))","v":""},null,"No",30.05,0,null,null,1]
[null,30,"Spreadsheet",106,"Vendor No. 2","2018-10-11",1009,"MIFPUC-1","Milton Fl",77.09,null,null,{"$f":"IF(AND(F43>='A - Contractor Summary'!$C$36,F43<='A - Contractor Summary'!$C$38),\"Yes\",IF(F43<'A - Contractor Summary'!$C$36,\"No\",IF(F43>'A - Contractor Summary'!$C$39,\"\",\"\")))","v":"No"},{"$f":"IF(OR(M43=\"Yes\",M43=\"No\")*AND(F43<'A - Contractor Summary'!$C$39),\"\",IF(AND(F43>'A - Contractor Summary'!$C$39,F43<'A - Contractor Summary'!$C$42),\"Yes\",IF(F43>'A - Contractor Summary'!$C$42,\"No\",\"Needs Review\")))","v":""},null,"No",77.09,0,null,null,1]
[null,31,"Spreadsheet",204,"Vendor No. 2","2018-10-11",1009,"MIFPUC-1","Jacksonville Fl",54.45,null,null,{"$f":"IF(AND(F44>='A - Contractor Summary'!$C$36,F44<='A - Contractor Summary'!$C$38),\"Yes\",IF(F44<'A - Contractor Summary'!$C$36,\"No\",IF(F44>'A - Contractor Summary'!$C$39,\"\",\"\")))","v":"No"},{"$f":"IF(OR(M44=\"Yes\",M44=\"No\")*AND(F44<'A - Contractor Summary'!$C$39),\"\",IF(AND(F44>'A - Contractor Summary'!$C$39,F44<'A - Contractor Summary'!$C$42),\"Yes\",IF(F44>'A - Contractor Summary'!$C$42,\"No\",\"Needs Review\")))","v":""},null,"No",54.45,0,null,null,1]
[null,32,"Spreadsheet",227,"Vendor No. 2","2018-10-11",1009,"MIFPUC-1","Jacksonville Fl",82.22,null,null,{"$f":"IF(AND(F45>='A - Contractor Summary'!$C$36,F45<='A - Contractor Summary'!$C$38),\"Yes\",IF(F45<'A - Contractor Summary'!$C$36,\"No\",IF(F45>'A - Contractor Summary'!$C$39,\"\",\"\")))","v":"No"},{"$f":"IF(OR(M45=\"Yes\",M45=\"No\")*AND(F45<'A - Contractor Summary'!$C$39),\"\",IF(AND(F45>'A - Contractor Summary'!$C$39,F45<'A - Contractor Summary'!$C$42),\"Yes\",IF(F45>'A - Contractor Summary'!$C$42,\"No\",\"Needs Review\")))","v":""},null,"No",82.22,0,null,null,1]
[null,33,"Spreadsheet",289,"Vendor No. 2","2018-10-11",8035,"MIFPUC-1","St Augustine Fl",26.05,null,null,{"$f":"IF(AND(F46>='A - Contractor Summary'!$C$36,F46<='A - Contractor Summary'!$C$38),\"Yes\",IF(F46<'A - Contractor Summary'!$C$36,\"No\",IF(F46>'A - Contractor Summary'!$C$39,\"\",\"\")))","v":"No"},{"$f":"IF(OR(M46=\"Yes\",M46=\"No\")*AND(F46<'A - Contractor Summary'!$C$39),\"\",IF(AND(F46>'A - Contractor Summary'!$C$39,F46<'A - Contractor Summary'!$C$42),\"Yes\",IF(F46>'A - Contractor Summary'!$C$42,\"No\",\"Needs Review\")))","v":""},null,"No",26.05,0,null,null,1]
[null,34,"Spreadsheet",294,"Vendor No. 2","2018-10-11",1009,"MIFPUC-1","Ocala Fl",102.71,null,null,{"$f":"IF(AND(F47>='A - Contractor Summary'!$C$36,F47<='A - Contractor Summary'!$C$38),\"Yes\",IF(F47<'A - Contractor Summary'!$C$36,\"No\",IF(F47>'A - Contractor Summary'!$C$39,\"\",\"\")))","v":"No"},{"$f":"IF(OR(M47=\"Yes\",M47=\"No\")*AND(F47<'A - Contractor Summary'!$C$39),\"\",IF(AND(F47>'A - Contractor Summary'!$C$39,F47<'A - Contractor Summary'!$C$42),\"Yes\",IF(F47>'A - Contractor Summary'!$C$42,\"No\",\"Needs Review\")))","v":""},null,"No",102.71,0,null,null,1]
[null,35,"Spreadsheet",294,"Vendor No. 2","2018-10-11",1009,"MIFPUC-1","Ocala Fl",36.68,null,null,{"$f":"IF(AND(F48>='A - Contractor Summary'!$C$36,F48<='A - Contractor Summary'!$C$38),\"Yes\",IF(F48<'A - Contractor Summary'!$C$36,\"No\",IF(F48>'A - Contractor Summary'!$C$39,\"\",\"\")))","v":"No"},{"$f":"IF(OR(M48=\"Yes\",M48=\"No\")*AND(F48<'A - Contractor Summary'!$C$39),\"\",IF(AND(F48>'A - Contractor Summary'!$C$39,F48<'A - Contractor Summary'!$C$42),\"Yes\",IF(F48>'A - Contractor Summary'!$C$42,\"No\",\"Needs Review\")))","v":""},null,"No",36.68,0,null,null,1]
[null,36,"Spreadsheet",294,"Vendor No. 2","2018-10-11",1009,"MIFPUC-1","Ocala Fl",62.16,null,null,{"$f":"IF(AND(F49>='A - Contractor Summary'!$C$36,F49<='A - Contractor Summary'!$C$38),\"Yes\",IF(F49<'A - Contractor Summary'!$C$36,\"No\",IF(F49>'A - Contractor Summary'!$C$39,\"\",\"\")))","v":"No"},{"$f":"IF(OR(M49=\"Yes\",M49=\"No\")*AND(F49<'A - Contractor Summary'!$C$39),\"\",IF(AND(F49>'A - Contractor Summary'!$C$39,F49<'A - Contractor Summary'!$C$42),\"Yes\",IF(F49>'A - Contractor Summary'!$C$42,\"No\",\"Needs Review\")))","v":""},null,"No",62.16,0,null,null,1]
[null,37,"Spreadsheet",294,"Vendor No. 2","2018-10-11",1009,"MIFPUC-1","Ruskin Fl",74.81,null,null,{"$f":"IF(AND(F50>='A - Contractor Summary'!$C$36,F50<='A - Contractor Summary'!$C$38),\"Yes\",IF(F50<'A - Contractor Summary'!$C$36,\"No\",IF(F50>'A - Contractor Summary'!$C$39,\"\",\"\")))","v":"No"},{"$f":"IF(OR(M50=\"Yes\",M50=\"No\")*AND(F50<'A - Contractor Summary'!$C$39),\"\",IF(AND(F50>'A - Contractor Summary'!$C$39,F50<'A - Contractor Summary'!$C$42),\"Yes\",IF(F50>'A - Contractor Summary'!$C$42,\"No\",\"Needs Review\")))","v":""},null,"No",74.81,0,null,null,1]
[null,38,"Spreadsheet",294,"Vendor No. 2","2018-10-11",1009,"MIFPUC-1","Ruskin Fl",77.42,null,null,{"$f":"IF(AND(F51>='A - Contractor Summary'!$C$36,F51<='A - Contractor Summary'!$C$38),\"Yes\",IF(F51<'A - Contractor Summary'!$C$36,\"No\",IF(F51>'A - Contractor Summary'!$C$39,\"\",\"\")))","v":"No"},{"$f":"IF(OR(M51=\"Yes\",M51=\"No\")*AND(F51<'A - Contractor Summary'!$C$39),\"\",IF(AND(F51>'A - Contractor Summary'!$C$39,F51<'A - Contractor Summary'!$C$42),\"Yes\",IF(F51>'A - Contractor Summary'!$C$42,\"No\",\"Needs Review\")))","v":""},null,"No",77.42,0,null,null,1]
[null,39,"Spreadsheet",299,"Vendor No. 2","2018-10-11",1009,"MIFPUC-1","Jacksonville Fl",62.9,null,null,{"$f":"IF(AND(F52>='A - Contractor Summary'!$C$36,F52<='A - Contractor Summary'!$C$38),\"Yes\",IF(F52<'A - Contractor Summary'!$C$36,\"No\",IF(F52>'A - Contractor Summary'!$C$39,\"\",\"\")))","v":"No"},{"$f":"IF(OR(M52=\"Yes\",M52=\"No\")*AND(F52<'A - Contractor Summary'!$C$39),\"\",IF(AND(F52>'A - Contractor Summary'!$C$39,F52<'A - Contractor Summary'!$C$42),\"Yes\",IF(F52>'A - Contractor Summary'!$C$42,\"No\",\"Needs Review\")))","v":""},null,"No",62.9,0,null,null,1]
[null,40,"Spreadsheet",300,"Vendor No. 2","2018-10-11",1009,"MIFPUC-1","Jacksonville Fl",84.98,null,null,{"$f":"IF(AND(F53>='A - Contractor Summary'!$C$36,F53<='A - Contractor Summary'!$C$38),\"Yes\",IF(F53<'A - Contractor Summary'!$C$36,\"No\",IF(F53>'A - Contractor Summary'!$C$39,\"\",\"\")))","v":"No"},{"$f":"IF(OR(M53=\"Yes\",M53=\"No\")*AND(F53<'A - Contractor Summary'!$C$39),\"\",IF(AND(F53>'A - Contractor Summary'!$C$39,F53<'A - Contractor Summary'!$C$42),\"Yes\",IF(F53>'A - Contractor Summary'!$C$42,\"No\",\"Needs Review\")))","v":""},null,"No",84.98,{"$f":"IF(P53=\"ED Review\",#REF!,0)","v":0},null,null,1]
[null,41,"Spreadsheet",303,"Vendor No. 2","2018-10-11",1009,"MIFPUC-1","St Augustine Fl",69.11,null,null,{"$f":"IF(AND(F54>='A - Contractor Summary'!$C$36,F54<='A - Contractor Summary'!$C$38),\"Yes\",IF(F54<'A - Contractor Summary'!$C$36,\"No\",IF(F54>'A - Contractor Summary'!$C$39,\"\",\"\")))","v":"No"},{"$f":"IF(OR(M54=\"Yes\",M54=\"No\")*AND(F54<'A - Contractor Summary'!$C$39),\"\",IF(AND(F54>'A - Contractor Summary'!$C$39,F54<'A - Contractor Summary'!$C$42),\"Yes\",IF(F54>'A - Contractor Summary'!$C$42,\"No\",\"Needs Review\")))","v":""},null,"No",69.11,{"$f":"IF(P54=\"ED Review\",#REF!,0)","v":0},null,null,1]
[null,42,"Spreadsheet",304,"Vendor No. 2","2018-10-11",1009,"MIFPUC-1","St Augustine Fl",5.88,null,null,{"$f":"IF(AND(F55>='A - Contractor Summary'!$C$36,F55<='A - Contractor Summary'!$C$38),\"Yes\",IF(F55<'A - Contractor Summary'!$C$36,\"No\",IF(F55>'A - Contractor Summary'!$C$39,\"\",\"\")))","v":"No"},{"$f":"IF(OR(M55=\"Yes\",M55=\"No\")*AND(F55<'A - Contractor Summary'!$C$39),\"\",IF(AND(F55>'A - Contractor Summary'!$C$39,F55<'A - Contractor Summary'!$C$42),\"Yes\",IF(F55>'A - Contractor Summary'!$C$42,\"No\",\"Needs Review\")))","v":""},null,"No",5.88,{"$f":"IF(P55=\"ED Review\",#REF!,0)","v":0},null,null,1]
[null,43,"Spreadsheet",306,"Vendor No. 2","2018-10-11",1009,"MIFPUC-1","Jacksonville Fl",113.45,null,null,{"$f":"IF(AND(F56>='A - Contractor Summary'!$C$36,F56<='A - Contractor Summary'!$C$38),\"Yes\",IF(F56<'A - Contractor Summary'!$C$36,\"No\",IF(F56>'A - Contractor Summary'!$C$39,\"\",\"\")))","v":"No"},{"$f":"IF(OR(M56=\"Yes\",M56=\"No\")*AND(F56<'A - Contractor Summary'!$C$39),\"\",IF(AND(F56>'A - Contractor Summary'!$C$39,F56<'A - Contractor Summary'!$C$42),\"Yes\",IF(F56>'A - Contractor Summary'!$C$42,\"No\",\"Needs Review\")))","v":""},null,"No",113.45,{"$f":"IF(P56=\"ED Review\",#REF!,0)","v":0},null,null,1]
[null,44,"Spreadsheet",317,"Vendor No. 2","2018-10-11",3752,"MIFPUC-1","Miami Garden Fl",87.01,null,null,{"$f":"IF(AND(F57>='A - Contractor Summary'!$C$36,F57<='A - Contractor Summary'!$C$38),\"Yes\",IF(F57<'A - Contractor Summary'!$C$36,\"No\",IF(F57>'A - Contractor Summary'!$C$39,\"\",\"\")))","v":"No"},{"$f":"IF(OR(M57=\"Yes\",M57=\"No\")*AND(F57<'A - Contractor Summary'!$C$39),\"\",IF(AND(F57>'A - Contractor Summary'!$C$39,F57<'A - Contractor Summary'!$C$42),\"Yes\",IF(F57>'A - Contractor Summary'!$C$42,\"No\",\"Needs Review\")))","v":""},null,"No",87.01,{"$f":"IF(P57=\"ED Review\",#REF!,0)","v":0},null,null,1]
[null,45,"Spreadsheet",318,"Vendor No. 2","2018-10-11",1009,"MIFPUC-1","Jacksonville Fl",112.76,null,null,{"$f":"IF(AND(F58>='A - Contractor Summary'!$C$36,F58<='A - Contractor Summary'!$C$38),\"Yes\",IF(F58<'A - Contractor Summary'!$C$36,\"No\",IF(F58>'A - Contractor Summary'!$C$39,\"\",\"\")))","v":"No"},{"$f":"IF(OR(M58=\"Yes\",M58=\"No\")*AND(F58<'A - Contractor Summary'!$C$39),\"\",IF(AND(F58>'A - Contractor Summary'!$C$39,F58<'A - Contractor Summary'!$C$42),\"Yes\",IF(F58>'A - Contractor Summary'!$C$42,\"No\",\"Needs Review\")))","v":""},null,"No",112.76,{"$f":"IF(P58=\"ED Review\",#REF!,0)","v":0},null,null,1]
[null,46,"Spreadsheet",319,"Vendor No. 2","2018-10-11",1009,"MIFPUC-1","St Augustine Fl",23.36,null,null,{"$f":"IF(AND(F59>='A - Contractor Summary'!$C$36,F59<='A - Contractor Summary'!$C$38),\"Yes\",IF(F59<'A - Contractor Summary'!$C$36,\"No\",IF(F59>'A - Contractor Summary'!$C$39,\"\",\"\")))","v":"No"},{"$f":"IF(OR(M59=\"Yes\",M59=\"No\")*AND(F59<'A - Contractor Summary'!$C$39),\"\",IF(AND(F59>'A - Contractor Summary'!$C$39,F59<'A - Contractor Summary'!$C$42),\"Yes\",IF(F59>'A - Contractor Summary'!$C$42,\"No\",\"Needs Review\")))","v":""},null,"No",23.36,{"$f":"IF(P59=\"ED Review\",#REF!,0)","v":0},null,null,1]
[null,47,"Spreadsheet",322,"Vendor No. 2","2018-10-11",1009,"MIFPUC-1","Callahan Fl",41.01,null,null,{"$f":"IF(AND(F60>='A - Contractor Summary'!$C$36,F60<='A - Contractor Summary'!$C$38),\"Yes\",IF(F60<'A - Contractor Summary'!$C$36,\"No\",IF(F60>'A - Contractor Summary'!$C$39,\"\",\"\")))","v":"No"},{"$f":"IF(OR(M60=\"Yes\",M60=\"No\")*AND(F60<'A - Contractor Summary'!$C$39),\"\",IF(AND(F60>'A - Contractor Summary'!$C$39,F60<'A - Contractor Summary'!$C$42),\"Yes\",IF(F60>'A - Contractor Summary'!$C$42,\"No\",\"Needs Review\")))","v":""},null,"No",41.01,{"$f":"IF(P60=\"ED Review\",#REF!,0)","v":0},null,null,1]
[null,48,"Spreadsheet",347,"Vendor No. 2","2018-10-11",6471,"MIFPUC-1","West Palm Fl",100,null,null,{"$f":"IF(AND(F61>='A - Contractor Summary'!$C$36,F61<='A - Contractor Summary'!$C$38),\"Yes\",IF(F61<'A - Contractor Summary'!$C$36,\"No\",IF(F61>'A - Contractor Summary'!$C$39,\"\",\"\")))","v":"No"},{"$f":"IF(OR(M61=\"Yes\",M61=\"No\")*AND(F61<'A - Contractor Summary'!$C$39),\"\",IF(AND(F61>'A - Contractor Summary'!$C$39,F61<'A - Contractor Summary'!$C$42),\"Yes\",IF(F61>'A - Contractor Summary'!$C$42,\"No\",\"Needs Review\")))","v":""},null,"No",100,{"$f":"IF(P61=\"ED Review\",#REF!,0)","v":0},null,null,1]
[null,49,"Spreadsheet",355,"Vendor No. 2","2018-10-11",1009,"MIFPUC-1","Fort Pierce Fl",89.78,null,null,{"$f":"IF(AND(F62>='A - Contractor Summary'!$C$36,F62<='A - Contractor Summary'!$C$38),\"Yes\",IF(F62<'A - Contractor Summary'!$C$36,\"No\",IF(F62>'A - Contractor Summary'!$C$39,\"\",\"\")))","v":"No"},{"$f":"IF(OR(M62=\"Yes\",M62=\"No\")*AND(F62<'A - Contractor Summary'!$C$39),\"\",IF(AND(F62>'A - Contractor Summary'!$C$39,F62<'A - Contractor Summary'!$C$42),\"Yes\",IF(F62>'A - Contractor Summary'!$C$42,\"No\",\"Needs Review\")))","v":""},null,"No",89.78,{"$f":"IF(P62=\"ED Review\",#REF!,0)","v":0},null,null,1]
[null,50,"Spreadsheet",35,"Vendor No. 2","2018-10-12",3403,"MIFPUC-1","Miami Garden Fl",50,null,null,{"$f":"IF(AND(F63>='A - Contractor Summary'!$C$36,F63<='A - Contractor Summary'!$C$38),\"Yes\",IF(F63<'A - Contractor Summary'!$C$36,\"No\",IF(F63>'A - Contractor Summary'!$C$39,\"\",\"\")))","v":"No"},{"$f":"IF(OR(M63=\"Yes\",M63=\"No\")*AND(F63<'A - Contractor Summary'!$C$39),\"\",IF(AND(F63>'A - Contractor Summary'!$C$39,F63<'A - Contractor Summary'!$C$42),\"Yes\",IF(F63>'A - Contractor Summary'!$C$42,\"No\",\"Needs Review\")))","v":""},null,"No",50,{"$f":"IF(P63=\"ED Review\",#REF!,0)","v":0},null,null,1]
[null,51,"Spreadsheet",47,"Vendor No. 2","2018-10-12",1060,"MIFPUC-1","Lamont Fl",107.61,null,null,{"$f":"IF(AND(F64>='A - Contractor Summary'!$C$36,F64<='A - Contractor Summary'!$C$38),\"Yes\",IF(F64<'A - Contractor Summary'!$C$36,\"No\",IF(F64>'A - Contractor Summary'!$C$39,\"\",\"\")))","v":"No"},{"$f":"IF(OR(M64=\"Yes\",M64=\"No\")*AND(F64<'A - Contractor Summary'!$C$39),\"\",IF(AND(F64>'A - Contractor Summary'!$C$39,F64<'A - Contractor Summary'!$C$42),\"Yes\",IF(F64>'A - Contractor Summary'!$C$42,\"No\",\"Needs Review\")))","v":""},null,"No",107.61,{"$f":"IF(P64=\"ED Review\",#REF!,0)","v":0},null,null,1]
[null,52,"Spreadsheet",151,"Vendor No. 2","2018-10-12",1060,"MIFPUC-1","Bushnell Fl",73.16,null,null,{"$f":"IF(AND(F65>='A - Contractor Summary'!$C$36,F65<='A - Contractor Summary'!$C$38),\"Yes\",IF(F65<'A - Contractor Summary'!$C$36,\"No\",IF(F65>'A - Contractor Summary'!$C$39,\"\",\"\")))","v":"No"},{"$f":"IF(OR(M65=\"Yes\",M65=\"No\")*AND(F65<'A - Contractor Summary'!$C$39),\"\",IF(AND(F65>'A - Contractor Summary'!$C$39,F65<'A - Contractor Summary'!$C$42),\"Yes\",IF(F65>'A - Contractor Summary'!$C$42,\"No\",\"Needs Review\")))","v":""},null,"No",73.16,{"$f":"IF(P65=\"ED Review\",#REF!,0)","v":0},null,null,1]
[null,53,"Spreadsheet",204,"Vendor No. 2","2018-10-12",1060,"MIFPUC-1","Lamont Fl",57.1,null,null,{"$f":"IF(AND(F66>='A - Contractor Summary'!$C$36,F66<='A - Contractor Summary'!$C$38),\"Yes\",IF(F66<'A - Contractor Summary'!$C$36,\"No\",IF(F66>'A - Contractor Summary'!$C$39,\"\",\"\")))","v":"No"},{"$f":"IF(OR(M66=\"Yes\",M66=\"No\")*AND(F66<'A - Contractor Summary'!$C$39),\"\",IF(AND(F66>'A - Contractor Summary'!$C$39,F66<'A - Contractor Summary'!$C$42),\"Yes\",IF(F66>'A - Contractor Summary'!$C$42,\"No\",\"Needs Review\")))","v":""},null,"No",57.1,{"$f":"IF(P66=\"ED Review\",#REF!,0)","v":0},null,null,1]
[null,54,"Spreadsheet",209,"Vendor No. 2","2018-10-12",1060,"MIFPUC-1","Live Oak Fl",141.04,null,null,{"$f":"IF(AND(F67>='A - Contractor Summary'!$C$36,F67<='A - Contractor Summary'!$C$38),\"Yes\",IF(F67<'A - Contractor Summary'!$C$36,\"No\",IF(F67>'A - Contractor Summary'!$C$39,\"\",\"\")))","v":"No"},{"$f":"IF(OR(M67=\"Yes\",M67=\"No\")*AND(F67<'A - Contractor Summary'!$C$39),\"\",IF(AND(F67>'A - Contractor Summary'!$C$39,F67<'A - Contractor Summary'!$C$42),\"Yes\",IF(F67>'A - Contractor Summary'!$C$42,\"No\",\"Needs Review\")))","v":""},null,"No",141.04,{"$f":"IF(P67=\"ED Review\",#REF!,0)","v":0},null,null,1]
[null,55,"Spreadsheet",227,"Vendor No. 2","2018-10-12",1060,"MIFPUC-1","Lamont Fl",43.26,null,null,{"$f":"IF(AND(F68>='A - Contractor Summary'!$C$36,F68<='A - Contractor Summary'!$C$38),\"Yes\",IF(F68<'A - Contractor Summary'!$C$36,\"No\",IF(F68>'A - Contractor Summary'!$C$39,\"\",\"\")))","v":"No"},{"$f":"IF(OR(M68=\"Yes\",M68=\"No\")*AND(F68<'A - Contractor Summary'!$C$39),\"\",IF(AND(F68>'A - Contractor Summary'!$C$39,F68<'A - Contractor Summary'!$C$42),\"Yes\",IF(F68>'A - Contractor Summary'!$C$42,\"No\",\"Needs Review\")))","v":""},null,"No",43.26,{"$f":"IF(P68=\"ED Review\",#REF!,0)","v":0},null,null,1]
[null,56,"Spreadsheet",275,"Vendor No. 2","2018-10-12",1061,"MIFPUC-1","Miami Garden Fl",50,null,null,{"$f":"IF(AND(F69>='A - Contractor Summary'!$C$36,F69<='A - Contractor Summary'!$C$38),\"Yes\",IF(F69<'A - Contractor Summary'!$C$36,\"No\",IF(F69>'A - Contractor Summary'!$C$39,\"\",\"\")))","v":"No"},{"$f":"IF(OR(M69=\"Yes\",M69=\"No\")*AND(F69<'A - Contractor Summary'!$C$39),\"\",IF(AND(F69>'A - Contractor Summary'!$C$39,F69<'A - Contractor Summary'!$C$42),\"Yes\",IF(F69>'A - Contractor Summary'!$C$42,\"No\",\"Needs Review\")))","v":""},null,"No",50,{"$f":"IF(P69=\"ED Review\",#REF!,0)","v":0},null,null,1]
[null,57,"Spreadsheet",276,"Vendor No. 2","2018-10-12",1060,"MIFPUC-1","Miami Garden Fl",0.66,null,null,{"$f":"IF(AND(F70>='A - Contractor Summary'!$C$36,F70<='A - Contractor Summary'!$C$38),\"Yes\",IF(F70<'A - Contractor Summary'!$C$36,\"No\",IF(F70>'A - Contractor Summary'!$C$39,\"\",\"\")))","v":"No"},{"$f":"IF(OR(M70=\"Yes\",M70=\"No\")*AND(F70<'A - Contractor Summary'!$C$39),\"\",IF(AND(F70>'A - Contractor Summary'!$C$39,F70<'A - Contractor Summary'!$C$42),\"Yes\",IF(F70>'A - Contractor Summary'!$C$42,\"No\",\"Needs Review\")))","v":""},null,"No",0.66,{"$f":"IF(P70=\"ED Review\",#REF!,0)","v":0},null,null,1]
[null,58,"Spreadsheet",276,"Vendor No. 2","2018-10-12",1060,"MIFPUC-1","Miami Garden Fl",40,null,null,{"$f":"IF(AND(F71>='A - Contractor Summary'!$C$36,F71<='A - Contractor Summary'!$C$38),\"Yes\",IF(F71<'A - Contractor Summary'!$C$36,\"No\",IF(F71>'A - Contractor Summary'!$C$39,\"\",\"\")))","v":"No"},{"$f":"IF(OR(M71=\"Yes\",M71=\"No\")*AND(F71<'A - Contractor Summary'!$C$39),\"\",IF(AND(F71>'A - Contractor Summary'!$C$39,F71<'A - Contractor Summary'!$C$42),\"Yes\",IF(F71>'A - Contractor Summary'!$C$42,\"No\",\"Needs Review\")))","v":""},null,"No",40,{"$f":"IF(P71=\"ED Review\",#REF!,0)","v":0},null,null,1]
[null,59,"Spreadsheet",279,"Vendor No. 2","2018-10-12",1060,"MIFPUC-1","Miami Garden Fl",144.38,null,null,{"$f":"IF(AND(F72>='A - Contractor Summary'!$C$36,F72<='A - Contractor Summary'!$C$38),\"Yes\",IF(F72<'A - Contractor Summary'!$C$36,\"No\",IF(F72>'A - Contractor Summary'!$C$39,\"\",\"\")))","v":"No"},{"$f":"IF(OR(M72=\"Yes\",M72=\"No\")*AND(F72<'A - Contractor Summary'!$C$39),\"\",IF(AND(F72>'A - Contractor Summary'!$C$39,F72<'A - Contractor Summary'!$C$42),\"Yes\",IF(F72>'A - Contractor Summary'!$C$42,\"No\",\"Needs Review\")))","v":""},null,"No",144.38,{"$f":"IF(P72=\"ED Review\",#REF!,0)","v":0},null,null,1]
[null,60,"Spreadsheet",282,"Vendor No. 2","2018-10-12",1060,"MIFPUC-1","Atlantic Beach Fl",34.33,null,null,{"$f":"IF(AND(F73>='A - Contractor Summary'!$C$36,F73<='A - Contractor Summary'!$C$38),\"Yes\",IF(F73<'A - Contractor Summary'!$C$36,\"No\",IF(F73>'A - Contractor Summary'!$C$39,\"\",\"\")))","v":"No"},{"$f":"IF(OR(M73=\"Yes\",M73=\"No\")*AND(F73<'A - Contractor Summary'!$C$39),\"\",IF(AND(F73>'A - Contractor Summary'!$C$39,F73<'A - Contractor Summary'!$C$42),\"Yes\",IF(F73>'A - Contractor Summary'!$C$42,\"No\",\"Needs Review\")))","v":""},null,"No",34.33,{"$f":"IF(P73=\"ED Review\",#REF!,0)","v":0},null,null,1]
[null,61,"Spreadsheet",286,"Vendor No. 2","2018-10-12",1060,"MIFPUC-1","Lamont Fl",103.38,null,null,{"$f":"IF(AND(F74>='A - Contractor Summary'!$C$36,F74<='A - Contractor Summary'!$C$38),\"Yes\",IF(F74<'A - Contractor Summary'!$C$36,\"No\",IF(F74>'A - Contractor Summary'!$C$39,\"\",\"\")))","v":"No"},{"$f":"IF(OR(M74=\"Yes\",M74=\"No\")*AND(F74<'A - Contractor Summary'!$C$39),\"\",IF(AND(F74>'A - Contractor Summary'!$C$39,F74<'A - Contractor Summary'!$C$42),\"Yes\",IF(F74>'A - Contractor Summary'!$C$42,\"No\",\"Needs Review\")))","v":""},null,"No",103.38,{"$f":"IF(P74=\"ED Review\",#REF!,0)","v":0},null,null,1]
[null,62,"Spreadsheet",289,"Vendor No. 2","2018-10-12",1060,"MIFPUC-1","Lamont Fl",47.65,null,null,{"$f":"IF(AND(F75>='A - Contractor Summary'!$C$36,F75<='A - Contractor Summary'!$C$38),\"Yes\",IF(F75<'A - Contractor Summary'!$C$36,\"No\",IF(F75>'A - Contractor Summary'!$C$39,\"\",\"\")))","v":"No"},null,null,null,47.65,null,null,null,1]
[null,63,"Spreadsheet",289,"Vendor No. 2","2018-10-12",1060,"MIFPUC-1","Lamont Fl",91.77,null,null,{"$f":"IF(AND(F76>='A - Contractor Summary'!$C$36,F76<='A - Contractor Summary'!$C$38),\"Yes\",IF(F76<'A - Contractor Summary'!$C$36,\"No\",IF(F76>'A - Contractor Summary'!$C$39,\"\",\"\")))","v":"No"},null,null,null,91.77,null,null,null,1]
[null,64,"Spreadsheet",297,"Vendor No. 2","2018-10-12",1060,"MIFPUC-1","Miami Garden Fl",90,null,null,{"$f":"IF(AND(F77>='A - Contractor Summary'!$C$36,F77<='A - Contractor Summary'!$C$38),\"Yes\",IF(F77<'A - Contractor Summary'!$C$36,\"No\",IF(F77>'A - Contractor Summary'!$C$39,\"\",\"\")))","v":"No"},null,null,null,90,null,null,null,1]
[null,65,"Spreadsheet",299,"Vendor No. 2","2018-10-12",1060,"MIFPUC-1","Atlantic Beach Fl",16.12,null,null,{"$f":"IF(AND(F78>='A - Contractor Summary'!$C$36,F78<='A - Contractor Summary'!$C$38),\"Yes\",IF(F78<'A - Contractor Summary'!$C$36,\"No\",IF(F78>'A - Contractor Summary'!$C$39,\"\",\"\")))","v":"No"},null,null,null,{"$f":"+J78","v":16.12},null,null,null,1]
[null,66,"Spreadsheet",299,"Vendor No. 2","2018-10-12",1060,"MIFPUC-1","Monticello Fl",56.79,null,null,{"$f":"IF(AND(F79>='A - Contractor Summary'!$C$36,F79<='A - Contractor Summary'!$C$38),\"Yes\",IF(F79<'A - Contractor Summary'!$C$36,\"No\",IF(F79>'A - Contractor Summary'!$C$39,\"\",\"\")))","v":"No"},null,null,null,56.79,null,null,null,1]
[null,67,"Spreadsheet",300,"Vendor No. 2","2018-10-12",1060,"MIFPUC-1","Live Oak Fl",51.39,null,null,{"$f":"IF(AND(F80>='A - Contractor Summary'!$C$36,F80<='A - Contractor Summary'!$C$38),\"Yes\",IF(F80<'A - Contractor Summary'!$C$36,\"No\",IF(F80>'A - Contractor Summary'!$C$39,\"\",\"\")))","v":"No"},null,null,null,51.39,null,null,null,1]
[null,68,"Spreadsheet",303,"Vendor No. 2","2018-10-12",1060,"MIFPUC-1","Lamont Fl",34,null,null,{"$f":"IF(AND(F81>='A - Contractor Summary'!$C$36,F81<='A - Contractor Summary'!$C$38),\"Yes\",IF(F81<'A - Contractor Summary'!$C$36,\"No\",IF(F81>'A - Contractor Summary'!$C$39,\"\",\"\")))","v":"No"},null,null,null,34,null,null,null,1]
[null,69,"Spreadsheet",304,"Vendor No. 2","2018-10-12",1060,"MIFPUC-1","Lamont Fl",205.13,null,null,{"$f":"IF(AND(F82>='A - Contractor Summary'!$C$36,F82<='A - Contractor Summary'!$C$38),\"Yes\",IF(F82<'A - Contractor Summary'!$C$36,\"No\",IF(F82>'A - Contractor Summary'!$C$39,\"\",\"\")))","v":"No"},null,null,null,205.13,null,null,null,1]
[null,70,"Spreadsheet",306,"Vendor No. 2","2018-10-12",1060,"MIFPUC-1","Live Oak Fl",77.45,null,null,{"$f":"IF(AND(F83>='A - Contractor Summary'!$C$36,F83<='A - Contractor Summary'!$C$38),\"Yes\",IF(F83<'A - Contractor Summary'!$C$36,\"No\",IF(F83>'A - Contractor Summary'!$C$39,\"\",\"\")))","v":"No"},null,null,null,77.45,null,null,null,1]
[null,71,"Spreadsheet",308,"Vendor No. 2","2018-10-12",1060,"MIFPUC-1","Atlantic Beach Fl",30.18,null,null,{"$f":"IF(AND(F84>='A - Contractor Summary'!$C$36,F84<='A - Contractor Summary'!$C$38),\"Yes\",IF(F84<'A - Contractor Summary'!$C$36,\"No\",IF(F84>'A - Contractor Summary'!$C$39,\"\",\"\")))","v":"No"},null,null,null,30.18,null,null,null,1]
[null,72,"Spreadsheet",308,"Vendor No. 2","2018-10-12",1060,"MIFPUC-1","Lamont Fl",46.62,null,null,{"$f":"IF(AND(F85>='A - Contractor Summary'!$C$36,F85<='A - Contractor Summary'!$C$38),\"Yes\",IF(F85<'A - Contractor Summary'!$C$36,\"No\",IF(F85>'A - Contractor Summary'!$C$39,\"\",\"\")))","v":"No"},null,null,null,46.62,null,null,null,1]
[null,73,"Spreadsheet",310,"Vendor No. 2","2018-10-12",1060,"MIFPUC-1","Live Oak Fl",47.41,null,null,{"$f":"IF(AND(F86>='A - Contractor Summary'!$C$36,F86<='A - Contractor Summary'!$C$38),\"Yes\",IF(F86<'A - Contractor Summary'!$C$36,\"No\",IF(F86>'A - Contractor Summary'!$C$39,\"\",\"\")))","v":"No"},null,null,null,47.41,null,null,null,1]
[null,74,"Spreadsheet",318,"Vendor No. 2","2018-10-12",1060,"MIFPUC-1","Atlantic Beach Fl",31.98,null,null,{"$f":"IF(AND(F87>='A - Contractor Summary'!$C$36,F87<='A - Contractor Summary'!$C$38),\"Yes\",IF(F87<'A - Contractor Summary'!$C$36,\"No\",IF(F87>'A - Contractor Summary'!$C$39,\"\",\"\")))","v":"No"},null,null,null,31.98,null,null,null,1]
[null,75,"Spreadsheet",318,"Vendor No. 2","2018-10-12",1060,"MIFPUC-1","Monticello Fl",125.89,null,null,{"$f":"IF(AND(F88>='A - Contractor Summary'!$C$36,F88<='A - Contractor Summary'!$C$38),\"Yes\",IF(F88<'A - Contractor Summary'!$C$36,\"No\",IF(F88>'A - Contractor Summary'!$C$39,\"\",\"\")))","v":"No"},null,null,null,125.89,null,null,null,1]
[null,76,"Spreadsheet",319,"Vendor No. 2","2018-10-12",1060,"MIFPUC-1","Lamont Fl",59.27,null,null,{"$f":"IF(AND(F89>='A - Contractor Summary'!$C$36,F89<='A - Contractor Summary'!$C$38),\"Yes\",IF(F89<'A - Contractor Summary'!$C$36,\"No\",IF(F89>'A - Contractor Summary'!$C$39,\"\",\"\")))","v":"No"},null,null,null,59.27,null,null,null,1]
[null,77,"Spreadsheet",320,"Vendor No. 2","2018-10-12",1060,"MIFPUC-1","Live Oak Fl",103.54,null,null,{"$f":"IF(AND(F90>='A - Contractor Summary'!$C$36,F90<='A - Contractor Summary'!$C$38),\"Yes\",IF(F90<'A - Contractor Summary'!$C$36,\"No\",IF(F90>'A - Contractor Summary'!$C$39,\"\",\"\")))","v":"No"},null,null,null,103.54,null,null,null,1]
[null,78,"Spreadsheet",321,"Vendor No. 2","2018-10-12",1009,"MIFPUC-1","Gainsville Fl",35.729999999999997,null,null,{"$f":"IF(AND(F91>='A - Contractor Summary'!$C$36,F91<='A - Contractor Summary'!$C$38),\"Yes\",IF(F91<'A - Contractor Summary'!$C$36,\"No\",IF(F91>'A - Contractor Summary'!$C$39,\"\",\"\")))","v":"No"},null,null,null,35.729999999999997,null,null,null,1]
[null,79,"Spreadsheet",322,"Vendor No. 2","2018-10-12",1060,"MIFPUC-1","Lamont Fl",96.08,null,null,{"$f":"IF(AND(F92>='A - Contractor Summary'!$C$36,F92<='A - Contractor Summary'!$C$38),\"Yes\",IF(F92<'A - Contractor Summary'!$C$36,\"No\",IF(F92>'A - Contractor Summary'!$C$39,\"\",\"\")))","v":"No"},null,null,null,96.08,null,null,null,1]
[null,null,"Spreadsheet",322,"Vendor No. 2","2018-10-12",1060,"MIFPUC-1","Lamont Fl",57.89,null,null,{"$f":"IF(AND(F93>='A - Contractor Summary'!$C$36,F93<='A - Contractor Summary'!$C$38),\"Yes\",IF(F93<'A - Contractor Summary'!$C$36,\"No\",IF(F93>'A - Contractor Summary'!$C$39,\"\",\"\")))","v":"No"},null,null,null,57.89,null,null,null,1]
[null,null,"Spreadsheet",323,"Vendor No. 2","2018-10-12",1473,"MIFPUC-1","Atlantic Beach Fl",53.78,null,null,{"$f":"IF(AND(F94>='A - Contractor Summary'!$C$36,F94<='A - Contractor Summary'!$C$38),\"Yes\",IF(F94<'A - Contractor Summary'!$C$36,\"No\",IF(F94>'A - Contractor Summary'!$C$39,\"\",\"\")))","v":"No"},null,null,null,53.78,null,null,null,1]
[null,null,"Spreadsheet",323,"Vendor No. 2","2018-10-12",1060,"MIFPUC-1","Lamont Fl",123.77,null,null,{"$f":"IF(AND(F95>='A - Contractor Summary'!$C$36,F95<='A - Contractor Summary'!$C$38),\"Yes\",IF(F95<'A - Contractor Summary'!$C$36,\"No\",IF(F95>'A - Contractor Summary'!$C$39,\"\",\"\")))","v":"No"},null,null,null,123.77,null,null,null,1]
[null,null,"Spreadsheet",324,"Vendor No. 2","2018-10-12",1060,"MIFPUC-1","Lamont Fl",101.81,null,null,{"$f":"IF(AND(F96>='A - Contractor Summary'!$C$36,F96<='A - Contractor Summary'!$C$38),\"Yes\",IF(F96<'A - Contractor Summary'!$C$36,\"No\",IF(F96>'A - Contractor Summary'!$C$39,\"\",\"\")))","v":"No"},null,null,null,101.81,null,null,null,1]
[null,null,"Spreadsheet",355,"Vendor No. 2","2018-10-12",1060,"MIFPUC-1","Jacksonville Fl",48.35,null,null,{"$f":"IF(AND(F97>='A - Contractor Summary'!$C$36,F97<='A - Contractor Summary'!$C$38),\"Yes\",IF(F97<'A - Contractor Summary'!$C$36,\"No\",IF(F97>'A - Contractor Summary'!$C$39,\"\",\"\")))","v":"No"},null,null,null,48.35,null,null,null,1]
[null,null,"Spreadsheet",35,"Vendor No. 2","2018-10-13",1060,"MIFPUC-1","Baldwin Fl",115.03,null,null,{"$f":"IF(AND(F98>='A - Contractor Summary'!$C$36,F98<='A - Contractor Summary'!$C$38),\"Yes\",IF(F98<'A - Contractor Summary'!$C$36,\"No\",IF(F98>'A - Contractor Summary'!$C$39,\"\",\"\")))","v":"No"},null,null,null,115.03,null,null,null,1]
[null,null,"Spreadsheet",63,"Vendor No. 2","2018-10-13",1060,"MIFPUC-1","Baldwin Fl",69,null,null,{"$f":"IF(AND(F99>='A - Contractor Summary'!$C$36,F99<='A - Contractor Summary'!$C$38),\"Yes\",IF(F99<'A - Contractor Summary'!$C$36,\"No\",IF(F99>'A - Contractor Summary'!$C$39,\"\",\"\")))","v":"No"},null,null,null,69,null,null,null,1]
[null,null,"Spreadsheet",118,"Vendor No. 2","2018-10-13",1060,"MIFPUC-1","Jacksonville Fl",57.87,null,null,{"$f":"IF(AND(F100>='A - Contractor Summary'!$C$36,F100<='A - Contractor Summary'!$C$38),\"Yes\",IF(F100<'A - Contractor Summary'!$C$36,\"No\",IF(F100>'A - Contractor Summary'!$C$39,\"\",\"\")))","v":"No"},null,null,null,57.87,null,null,null,1]
[null,null,"Spreadsheet",118,"Vendor No. 2","2018-10-13",1060,"MIFPUC-1","Lamont Fl",300,null,null,{"$f":"IF(AND(F101>='A - Contractor Summary'!$C$36,F101<='A - Contractor Summary'!$C$38),\"Yes\",IF(F101<'A - Contractor Summary'!$C$36,\"No\",IF(F101>'A - Contractor Summary'!$C$39,\"\",\"\")))","v":"No"},null,null,null,300,null,null,null,1]
[null,null,"Spreadsheet",130,"Vendor No. 2","2018-10-13",1060,"MIFPUC-1","Baldwin Fl",67.040000000000006,null,null,{"$f":"IF(AND(F102>='A - Contractor Summary'!$C$36,F102<='A - Contractor Summary'!$C$38),\"Yes\",IF(F102<'A - Contractor Summary'!$C$36,\"No\",IF(F102>'A - Contractor Summary'!$C$39,\"\",\"\")))","v":"No"},null,null,null,67.040000000000006,null,null,null,1]
[null,null,"Spreadsheet",184,"Vendor No. 2","2018-10-13",1060,"MIFPUC-1","Lamont Fl",77.22,null,null,{"$f":"IF(AND(F103>='A - Contractor Summary'!$C$36,F103<='A - Contractor Summary'!$C$38),\"Yes\",IF(F103<'A - Contractor Summary'!$C$36,\"No\",IF(F103>'A - Contractor Summary'!$C$39,\"\",\"\")))","v":"No"},null,null,null,77.22,null,null,null,1]
[null,null,"Spreadsheet",281,"Vendor No. 2","2018-10-12",1060,"MIFPUC-1","Lamont Fl",41.75,null,null,{"$f":"IF(AND(F104>='A - Contractor Summary'!$C$36,F104<='A - Contractor Summary'!$C$38),\"Yes\",IF(F104<'A - Contractor Summary'!$C$36,\"No\",IF(F104>'A - Contractor Summary'!$C$39,\"\",\"\")))","v":"No"},null,null,null,41.75,null,null,null,1]
[null,null,"Spreadsheet",292,"Vendor No. 2","2018-10-12",1060,"MIFPUC-1","Jacksonville Fl",36.64,null,null,{"$f":"IF(AND(F105>='A - Contractor Summary'!$C$36,F105<='A - Contractor Summary'!$C$38),\"Yes\",IF(F105<'A - Contractor Summary'!$C$36,\"No\",IF(F105>'A - Contractor Summary'!$C$39,\"\",\"\")))","v":"No"},null,null,null,36.64,null,null,null,1]
[null,null,"Spreadsheet",14,"Vendor No. 2","2018-10-11",1009,"MIFPUC-1","St Augustine Fl",53.6,null,null,{"$f":"IF(AND(F106>='A - Contractor Summary'!$C$36,F106<='A - Contractor Summary'!$C$38),\"Yes\",IF(F106<'A - Contractor Summary'!$C$36,\"No\",IF(F106>'A - Contractor Summary'!$C$39,\"\",\"\")))","v":"No"},null,null,null,53.6,null,null,null,1]
[null,null,"Spreadsheet",136,"Vendor No. 2","2018-10-11",1009,"MIFPUC-1","Callahan Fl",34.94,null,null,{"$f":"IF(AND(F107>='A - Contractor Summary'!$C$36,F107<='A - Contractor Summary'!$C$38),\"Yes\",IF(F107<'A - Contractor Summary'!$C$36,\"No\",IF(F107>'A - Contractor Summary'!$C$39,\"\",\"\")))","v":"No"},null,null,null,34.94,null,null,null,1]
[null,null,"Spreadsheet",183,"Vendor No. 2","2018-10-11",1009,"MIFPUC-1","Callahan Fl",33.64,null,null,{"$f":"IF(AND(F108>='A - Contractor Summary'!$C$36,F108<='A - Contractor Summary'!$C$38),\"Yes\",IF(F108<'A - Contractor Summary'!$C$36,\"No\",IF(F108>'A - Contractor Summary'!$C$39,\"\",\"\")))","v":"No"},null,null,null,33.64,null,null,null,1]
[null,null,"Spreadsheet",199,"Vendor No. 2","2018-10-11",1009,"MIFPUC-1","St Augustine Fl",76.42,null,null,{"$f":"IF(AND(F109>='A - Contractor Summary'!$C$36,F109<='A - Contractor Summary'!$C$38),\"Yes\",IF(F109<'A - Contractor Summary'!$C$36,\"No\",IF(F109>'A - Contractor Summary'!$C$39,\"\",\"\")))","v":"No"},null,null,null,76.42,null,null,null,1]
[null,null,"Spreadsheet",220,"Vendor No. 2","2018-10-11",1009,"MIFPUC-1","St Augustine Fl",51.58,null,null,{"$f":"IF(AND(F110>='A - Contractor Summary'!$C$36,F110<='A - Contractor Summary'!$C$38),\"Yes\",IF(F110<'A - Contractor Summary'!$C$36,\"No\",IF(F110>'A - Contractor Summary'!$C$39,\"\",\"\")))","v":"No"},null,null,null,51.58,null,null,null,1]
[null,null,"Spreadsheet",282,"Vendor No. 2","2018-10-11",1009,"MIFPUC-1","Callahan Fl",34.5,null,null,{"$f":"IF(AND(F111>='A - Contractor Summary'!$C$36,F111<='A - Contractor Summary'!$C$38),\"Yes\",IF(F111<'A - Contractor Summary'!$C$36,\"No\",IF(F111>'A - Contractor Summary'!$C$39,\"\",\"\")))","v":"No"},null,null,null,34.5,null,null,null,1]
[null,null,"Spreadsheet",285,"Vendor No. 2","2018-10-11",1009,"MIFPUC-1","Callahan Fl",41.07,null,null,{"$f":"IF(AND(F112>='A - Contractor Summary'!$C$36,F112<='A - Contractor Summary'!$C$38),\"Yes\",IF(F112<'A - Contractor Summary'!$C$36,\"No\",IF(F112>'A - Contractor Summary'!$C$39,\"\",\"\")))","v":"No"},null,null,null,41.07,null,null,null,1]
[null,null,"Spreadsheet",291,"Vendor No. 2","2018-10-11",1009,"MIFPUC-1","Callahan Fl",40.01,null,null,{"$f":"IF(AND(F113>='A - Contractor Summary'!$C$36,F113<='A - Contractor Summary'!$C$38),\"Yes\",IF(F113<'A - Contractor Summary'!$C$36,\"No\",IF(F113>'A - Contractor Summary'!$C$39,\"\",\"\")))","v":"No"},null,null,null,40.01,null,null,null,1]
[null,null,"Spreadsheet",292,"Vendor No. 2","2018-10-11",1009,"MIFPUC-1","Jacksonville Fl",65.27,null,null,{"$f":"IF(AND(F114>='A - Contractor Summary'!$C$36,F114<='A - Contractor Summary'!$C$38),\"Yes\",IF(F114<'A - Contractor Summary'!$C$36,\"No\",IF(F114>'A - Contractor Summary'!$C$39,\"\",\"\")))","v":"No"},null,null,null,65.27,null,null,null,1]
[null,null,"Spreadsheet",317,"Vendor No. 2","2018-10-11",3752,"MIFPUC-1","Miami Garden Fl",14.01,null,null,{"$f":"IF(AND(F115>='A - Contractor Summary'!$C$36,F115<='A - Contractor Summary'!$C$38),\"Yes\",IF(F115<'A - Contractor Summary'!$C$36,\"No\",IF(F115>'A - Contractor Summary'!$C$39,\"\",\"\")))","v":"No"},null,null,null,14.01,null,null,null,1]
[null,null,"Spreadsheet",14,"Vendor No. 2","2018-10-12",1060,"MIFPUC-1","Lamont Fl",41.45,null,null,{"$f":"IF(AND(F116>='A - Contractor Summary'!$C$36,F116<='A - Contractor Summary'!$C$38),\"Yes\",IF(F116<'A - Contractor Summary'!$C$36,\"No\",IF(F116>'A - Contractor Summary'!$C$39,\"\",\"\")))","v":"No"},null,null,null,41.45,null,null,null,1]
[null,null,"Spreadsheet",153,"Vendor No. 2","2018-10-12",1009,"MIFPUC-1","Gainsville Fl",12.91,null,null,{"$f":"IF(AND(F117>='A - Contractor Summary'!$C$36,F117<='A - Contractor Summary'!$C$38),\"Yes\",IF(F117<'A - Contractor Summary'!$C$36,\"No\",IF(F117>'A - Contractor Summary'!$C$39,\"\",\"\")))","v":"No"},null,null,null,12.91,null,null,null,1]
[null,null,"Spreadsheet",183,"Vendor No. 2","2018-10-12",1060,"MIFPUC-1","Macclenny Fl",27.51,null,null,{"$f":"IF(AND(F118>='A - Contractor Summary'!$C$36,F118<='A - Contractor Summary'!$C$38),\"Yes\",IF(F118<'A - Contractor Summary'!$C$36,\"No\",IF(F118>'A - Contractor Summary'!$C$39,\"\",\"\")))","v":"No"},null,null,null,27.51,null,null,null,1]
[null,null,"Spreadsheet",183,"Vendor No. 2","2018-10-12",1060,"MIFPUC-1","Lamont Fl",23.12,null,null,{"$f":"IF(AND(F119>='A - Contractor Summary'!$C$36,F119<='A - Contractor Summary'!$C$38),\"Yes\",IF(F119<'A - Contractor Summary'!$C$36,\"No\",IF(F119>'A - Contractor Summary'!$C$39,\"\",\"\")))","v":"No"},null,null,null,23.12,null,null,null,1]
[null,null,"Spreadsheet",199,"Vendor No. 2","2018-10-12",1060,"MIFPUC-1","Lamont Fl",36.29,null,null,{"$f":"IF(AND(F120>='A - Contractor Summary'!$C$36,F120<='A - Contractor Summary'!$C$38),\"Yes\",IF(F120<'A - Contractor Summary'!$C$36,\"No\",IF(F120>'A - Contractor Summary'!$C$39,\"\",\"\")))","v":"No"},null,null,null,36.29,null,null,null,1]
[null,null,"Spreadsheet",220,"Vendor No. 2","2018-10-12",1060,"MIFPUC-1","Lamont Fl",36.31,null,null,{"$f":"IF(AND(F121>='A - Contractor Summary'!$C$36,F121<='A - Contractor Summary'!$C$38),\"Yes\",IF(F121<'A - Contractor Summary'!$C$36,\"No\",IF(F121>'A - Contractor Summary'!$C$39,\"\",\"\")))","v":"No"},null,null,null,36.31,null,null,null,1]
[null,null,"Spreadsheet",282,"Vendor No. 2","2018-10-12",1060,"MIFPUC-1","Atlantic Beach Fl",24.35,null,null,{"$f":"IF(AND(F122>='A - Contractor Summary'!$C$36,F122<='A - Contractor Summary'!$C$38),\"Yes\",IF(F122<'A - Contractor Summary'!$C$36,\"No\",IF(F122>'A - Contractor Summary'!$C$39,\"\",\"\")))","v":"No"},null,null,null,24.35,null,null,null,1]
[null,null,"Spreadsheet",282,"Vendor No. 2","2018-10-12",1060,"MIFPUC-1","Lamont Fl",23.97,null,null,{"$f":"IF(AND(F123>='A - Contractor Summary'!$C$36,F123<='A - Contractor Summary'!$C$38),\"Yes\",IF(F123<'A - Contractor Summary'!$C$36,\"No\",IF(F123>'A - Contractor Summary'!$C$39,\"\",\"\")))","v":"No"},null,null,null,23.97,null,null,null,1]
[null,null,"Spreadsheet",284,"Vendor No. 2","2018-10-12",1060,"MIFPUC-1","Lamont Fl",30.86,null,null,{"$f":"IF(AND(F124>='A - Contractor Summary'!$C$36,F124<='A - Contractor Summary'!$C$38),\"Yes\",IF(F124<'A - Contractor Summary'!$C$36,\"No\",IF(F124>'A - Contractor Summary'!$C$39,\"\",\"\")))","v":"No"},null,null,null,30.86,null,null,null,1]
[null,null,"Spreadsheet",291,"Vendor No. 2","2018-10-12",1060,"MIFPUC-1","Live Oak Fl",38.590000000000003,null,null,{"$f":"IF(AND(F125>='A - Contractor Summary'!$C$36,F125<='A - Contractor Summary'!$C$38),\"Yes\",IF(F125<'A - Contractor Summary'!$C$36,\"No\",IF(F125>'A - Contractor Summary'!$C$39,\"\",\"\")))","v":"No"},null,null,null,38.590000000000003,null,null,null,1]
[null,null,"Spreadsheet",349,"Vendor No. 2","2018-10-12",1060,"MIFPUC-1","Stuart Fl",63.6,null,null,{"$f":"IF(AND(F126>='A - Contractor Summary'!$C$36,F126<='A - Contractor Summary'!$C$38),\"Yes\",IF(F126<'A - Contractor Summary'!$C$36,\"No\",IF(F126>'A - Contractor Summary'!$C$39,\"\",\"\")))","v":"No"},null,null,null,63.6,null,null,null,1]
[null,null,"Spreadsheet",349,"Vendor No. 2","2018-10-13",1060,"MIFPUC-1","Baldwin Fl",41.12,null,null,{"$f":"IF(AND(F127>='A - Contractor Summary'!$C$36,F127<='A - Contractor Summary'!$C$38),\"Yes\",IF(F127<'A - Contractor Summary'!$C$36,\"No\",IF(F127>'A - Contractor Summary'!$C$39,\"\",\"\")))","v":"No"},null,null,null,41.12,null,null,null,1]
[null,null,"Spreadsheet",349,"Vendor No. 2","2018-10-13",5259,"MIFPUC-1","Midway Fl",17.920000000000002,null,null,{"$f":"IF(AND(F128>='A - Contractor Summary'!$C$36,F128<='A - Contractor Summary'!$C$38),\"Yes\",IF(F128<'A - Contractor Summary'!$C$36,\"No\",IF(F128>'A - Contractor Summary'!$C$39,\"\",\"\")))","v":"No"},null,null,null,17.920000000000002,null,null,null,1]
[null,null,"Spreadsheet",21,"Vendor No. 2","2018-10-26",1009,"MIFPUC-3","Montegomery Al",100.19,null,null,{"$f":"IF(AND(F129>='A - Contractor Summary'!$C$36,F129<='A - Contractor Summary'!$C$38),\"Yes\",IF(F129<'A - Contractor Summary'!$C$36,\"No\",IF(F129>'A - Contractor Summary'!$C$39,\"\",\"\")))","v":"No"},null,null,null,100.19,null,null,null,1]
[null,null,"Spreadsheet",38,"Vendor No. 2","2018-10-24",7048,"MIFPUC-3","Miami Garden Fl",75.290000000000006,null,null,{"$f":"IF(AND(F130>='A - Contractor Summary'!$C$36,F130<='A - Contractor Summary'!$C$38),\"Yes\",IF(F130<'A - Contractor Summary'!$C$36,\"No\",IF(F130>'A - Contractor Summary'!$C$39,\"\",\"\")))","v":"No"},null,null,null,75.290000000000006,null,null,null,1]
[null,null,"Spreadsheet",106,"Vendor No. 2","2018-10-24",4305,"MIFPUC-3","Niceville Fl",89.99,null,null,{"$f":"IF(AND(F131>='A - Contractor Summary'!$C$36,F131<='A - Contractor Summary'!$C$38),\"Yes\",IF(F131<'A - Contractor Summary'!$C$36,\"No\",IF(F131>'A - Contractor Summary'!$C$39,\"\",\"\")))","v":"No"},null,null,null,89.99,null,null,null,1]
[null,null,"Spreadsheet",118,"Vendor No. 2","2018-10-24",7011,"MIFPUC-3","Marianna Fl",60,null,null,{"$f":"IF(AND(F132>='A - Contractor Summary'!$C$36,F132<='A - Contractor Summary'!$C$38),\"Yes\",IF(F132<'A - Contractor Summary'!$C$36,\"No\",IF(F132>'A - Contractor Summary'!$C$39,\"\",\"\")))","v":"No"},null,null,null,60,null,null,null,1]
[null,null,"Spreadsheet",347,"Vendor No. 2","2018-10-15",6471,"MIFPUC-2","Dothan Al",136.15,null,null,{"$f":"IF(AND(F133>='A - Contractor Summary'!$C$36,F133<='A - Contractor Summary'!$C$38),\"Yes\",IF(F133<'A - Contractor Summary'!$C$36,\"No\",IF(F133>'A - Contractor Summary'!$C$39,\"\",\"\")))","v":"No"},null,null,null,136.15,null,null,null,1]
[null,null,"Spreadsheet",38,"Vendor No. 2","2018-10-16",1060,"MIFPUC-2","Smyrna Fl",93.89,null,null,{"$f":"IF(AND(F134>='A - Contractor Summary'!$C$36,F134<='A - Contractor Summary'!$C$38),\"Yes\",IF(F134<'A - Contractor Summary'!$C$36,\"No\",IF(F134>'A - Contractor Summary'!$C$39,\"\",\"\")))","v":"No"},null,null,null,93.89,null,null,null,1]
[null,null,"Spreadsheet",38,"Vendor No. 2","2018-10-16",1060,"MIFPUC-2","Lamont Fl",48.62,null,null,{"$f":"IF(AND(F135>='A - Contractor Summary'!$C$36,F135<='A - Contractor Summary'!$C$38),\"Yes\",IF(F135<'A - Contractor Summary'!$C$36,\"No\",IF(F135>'A - Contractor Summary'!$C$39,\"\",\"\")))","v":"No"},null,null,null,48.62,null,null,null,1]
[null,null,"Spreadsheet",38,"Vendor No. 2","2018-10-17",1060,"MIFPUC-2","Ocoee Fl",76.56,null,null,{"$f":"IF(AND(F136>='A - Contractor Summary'!$C$36,F136<='A - Contractor Summary'!$C$38),\"Yes\",IF(F136<'A - Contractor Summary'!$C$36,\"No\",IF(F136>'A - Contractor Summary'!$C$39,\"\",\"\")))","v":"No"},null,null,null,76.56,null,null,null,1]
[null,null,"Spreadsheet",274,"Vendor No. 2","2018-10-17",3752,"MIFPUC-2","Okeechhobee Fl",84.47,null,null,{"$f":"IF(AND(F137>='A - Contractor Summary'!$C$36,F137<='A - Contractor Summary'!$C$38),\"Yes\",IF(F137<'A - Contractor Summary'!$C$36,\"No\",IF(F137>'A - Contractor Summary'!$C$39,\"\",\"\")))","v":"No"},null,null,null,84.47,null,null,null,1]
[null,null,"Spreadsheet",294,"Vendor No. 2","2018-10-17",1009,"MIFPUC-2","Atlantic Beach Fl",60.92,null,null,{"$f":"IF(AND(F138>='A - Contractor Summary'!$C$36,F138<='A - Contractor Summary'!$C$38),\"Yes\",IF(F138<'A - Contractor Summary'!$C$36,\"No\",IF(F138>'A - Contractor Summary'!$C$39,\"\",\"\")))","v":"No"},null,null,null,60.92,null,null,null,1]
[null,null,"Spreadsheet",294,"Vendor No. 2","2018-10-17",1009,"MIFPUC-2","Jacksonville Fl",102.04,null,null,{"$f":"IF(AND(F139>='A - Contractor Summary'!$C$36,F139<='A - Contractor Summary'!$C$38),\"Yes\",IF(F139<'A - Contractor Summary'!$C$36,\"No\",IF(F139>'A - Contractor Summary'!$C$39,\"\",\"\")))","v":"No"},null,null,null,102.04,null,null,null,1]
[null,null,"Spreadsheet",305,"Vendor No. 2","2018-10-17",1009,"MIFPUC-2","Atlantic Beach Fl",62.25,null,null,{"$f":"IF(AND(F140>='A - Contractor Summary'!$C$36,F140<='A - Contractor Summary'!$C$38),\"Yes\",IF(F140<'A - Contractor Summary'!$C$36,\"No\",IF(F140>'A - Contractor Summary'!$C$39,\"\",\"\")))","v":"No"},null,null,null,62.25,null,null,null,1]
[null,null,"Spreadsheet",321,"Vendor No. 2","2018-10-17",1009,"MIFPUC-2","Jacksonville Fl",68.37,null,null,{"$f":"IF(AND(F141>='A - Contractor Summary'!$C$36,F141<='A - Contractor Summary'!$C$38),\"Yes\",IF(F141<'A - Contractor Summary'!$C$36,\"No\",IF(F141>'A - Contractor Summary'!$C$39,\"\",\"\")))","v":"No"},null,null,null,68.37,null,null,null,1]
[null,null,"Spreadsheet",39,"Vendor No. 2","2018-10-18",1060,"MIFPUC-2","Live Oak Fl",103.21,null,null,{"$f":"IF(AND(F142>='A - Contractor Summary'!$C$36,F142<='A - Contractor Summary'!$C$38),\"Yes\",IF(F142<'A - Contractor Summary'!$C$36,\"No\",IF(F142>'A - Contractor Summary'!$C$39,\"\",\"\")))","v":"No"},null,null,null,{"$f":"+J142","v":103.21},null,null,null,1]
[null,null,"Spreadsheet",39,"Vendor No. 2","2018-10-18",1060,"MIFPUC-2","Marianna Fl",44.18,null,null,{"$f":"IF(AND(F143>='A - Contractor Summary'!$C$36,F143<='A - Contractor Summary'!$C$38),\"Yes\",IF(F143<'A - Contractor Summary'!$C$36,\"No\",IF(F143>'A - Contractor Summary'!$C$39,\"\",\"\")))","v":"No"},null,null,null,44.18,null,null,null,1]
[null,null,"Spreadsheet",153,"Vendor No. 2","2018-10-18",1009,"MIFPUC-2","Madison Fl",49.76,null,null,{"$f":"IF(AND(F144>='A - Contractor Summary'!$C$36,F144<='A - Contractor Summary'!$C$38),\"Yes\",IF(F144<'A - Contractor Summary'!$C$36,\"No\",IF(F144>'A - Contractor Summary'!$C$39,\"\",\"\")))","v":"No"},null,null,null,49.76,null,null,null,1]
[null,null,"Spreadsheet",294,"Vendor No. 2","2018-10-18",1009,"MIFPUC-2","Madison Fl",38.68,null,null,{"$f":"IF(AND(F145>='A - Contractor Summary'!$C$36,F145<='A - Contractor Summary'!$C$38),\"Yes\",IF(F145<'A - Contractor Summary'!$C$36,\"No\",IF(F145>'A - Contractor Summary'!$C$39,\"\",\"\")))","v":"No"},null,null,null,38.68,null,null,null,1]
[null,null,"Spreadsheet",321,"Vendor No. 2","2018-10-18",1009,"MIFPUC-2","Midway Fl",70.73,null,null,{"$f":"IF(AND(F146>='A - Contractor Summary'!$C$36,F146<='A - Contractor Summary'!$C$38),\"Yes\",IF(F146<'A - Contractor Summary'!$C$36,\"No\",IF(F146>'A - Contractor Summary'!$C$39,\"\",\"\")))","v":"No"},null,null,null,70.73,null,null,null,1]
[null,null,"Spreadsheet",321,"Vendor No. 2","2018-10-18",1009,"MIFPUC-2","Midway Fl",93.7,null,null,{"$f":"IF(AND(F147>='A - Contractor Summary'!$C$36,F147<='A - Contractor Summary'!$C$38),\"Yes\",IF(F147<'A - Contractor Summary'!$C$36,\"No\",IF(F147>'A - Contractor Summary'!$C$39,\"\",\"\")))","v":"No"},null,null,null,93.7,null,null,null,1]
[null,null,"Spreadsheet",274,"Vendor No. 2","2018-10-19",3752,"MIFPUC-2","Miami Garden Fl",76.86,null,null,{"$f":"IF(AND(F148>='A - Contractor Summary'!$C$36,F148<='A - Contractor Summary'!$C$38),\"Yes\",IF(F148<'A - Contractor Summary'!$C$36,\"No\",IF(F148>'A - Contractor Summary'!$C$39,\"\",\"\")))","v":"No"},null,null,null,76.86,null,null,null,1]
[null,null,"Spreadsheet",276,"Vendor No. 2","2018-10-19",1060,"MIFPUC-2","Okeechhobee Fl",127.91,null,null,{"$f":"IF(AND(F149>='A - Contractor Summary'!$C$36,F149<='A - Contractor Summary'!$C$38),\"Yes\",IF(F149<'A - Contractor Summary'!$C$36,\"No\",IF(F149>'A - Contractor Summary'!$C$39,\"\",\"\")))","v":"No"},null,null,null,127.91,null,null,null,1]
[null,null,"Spreadsheet",276,"Vendor No. 2","2018-10-20",1060,"MIFPUC-2","Miami Garden Fl",52.73,null,null,{"$f":"IF(AND(F150>='A - Contractor Summary'!$C$36,F150<='A - Contractor Summary'!$C$38),\"Yes\",IF(F150<'A - Contractor Summary'!$C$36,\"No\",IF(F150>'A - Contractor Summary'!$C$39,\"\",\"\")))","v":"No"},null,null,null,52.73,null,null,null,1]
[null,null,"Spreadsheet",276,"Vendor No. 2","2018-10-20",1060,"MIFPUC-2","Miami Garden Fl",152.27000000000001,null,null,{"$f":"IF(AND(F151>='A - Contractor Summary'!$C$36,F151<='A - Contractor Summary'!$C$38),\"Yes\",IF(F151<'A - Contractor Summary'!$C$36,\"No\",IF(F151>'A - Contractor Summary'!$C$39,\"\",\"\")))","v":"No"},null,null,null,152.27000000000001,null,null,null,1]
[null,null,"Spreadsheet",317,"Vendor No. 2","2018-10-20",1060,"MIFPUC-2","Clermont Fl",115.77,null,null,{"$f":"IF(AND(F152>='A - Contractor Summary'!$C$36,F152<='A - Contractor Summary'!$C$38),\"Yes\",IF(F152<'A - Contractor Summary'!$C$36,\"No\",IF(F152>'A - Contractor Summary'!$C$39,\"\",\"\")))","v":"No"},null,null,null,115.77,null,null,null,1]
[null,null,"Spreadsheet",317,"Vendor No. 2","2018-10-20",1060,"MIFPUC-2","Lamont Fl",77.13,null,null,{"$f":"IF(AND(F153>='A - Contractor Summary'!$C$36,F153<='A - Contractor Summary'!$C$38),\"Yes\",IF(F153<'A - Contractor Summary'!$C$36,\"No\",IF(F153>'A - Contractor Summary'!$C$39,\"\",\"\")))","v":"No"},null,null,null,77.13,null,null,null,1]
[null,null,"Spreadsheet",347,"Vendor No. 2","2018-10-20",6471,"MIFPUC-2","Midway Fl",80.58,null,null,{"$f":"IF(AND(F154>='A - Contractor Summary'!$C$36,F154<='A - Contractor Summary'!$C$38),\"Yes\",IF(F154<'A - Contractor Summary'!$C$36,\"No\",IF(F154>'A - Contractor Summary'!$C$39,\"\",\"\")))","v":"No"},null,null,null,80.58,null,null,null,1]
[null,null,"Spreadsheet",347,"Vendor No. 2","2018-10-16",6471,"MIFPUC-2","Albany Ga",110,null,null,{"$f":"IF(AND(F155>='A - Contractor Summary'!$C$36,F155<='A - Contractor Summary'!$C$38),\"Yes\",IF(F155<'A - Contractor Summary'!$C$36,\"No\",IF(F155>'A - Contractor Summary'!$C$39,\"\",\"\")))","v":"No"},null,null,null,110,null,null,null,1]
[null,null,"Spreadsheet",39,"Vendor No. 2","2018-10-17",1060,"MIFPUC-2","Kingsland Ga",53.55,null,null,{"$f":"IF(AND(F156>='A - Contractor Summary'!$C$36,F156<='A - Contractor Summary'!$C$38),\"Yes\",IF(F156<'A - Contractor Summary'!$C$36,\"No\",IF(F156>'A - Contractor Summary'!$C$39,\"\",\"\")))","v":"No"},null,null,null,53.55,null,null,null,1]
[null,null,"Spreadsheet",347,"Vendor No. 2","2018-10-18",6471,"MIFPUC-2","Albany Ga",71.3,null,null,{"$f":"IF(AND(F157>='A - Contractor Summary'!$C$36,F157<='A - Contractor Summary'!$C$38),\"Yes\",IF(F157<'A - Contractor Summary'!$C$36,\"No\",IF(F157>'A - Contractor Summary'!$C$39,\"\",\"\")))","v":"No"},null,null,null,71.3,null,null,null,1]
[null,null,"Spreadsheet",14,"Vendor No. 2","2018-11-05",1060,"MIFPUC-5","Wilwood Fl",59.77,null,null,{"$f":"IF(AND(F158>='A - Contractor Summary'!$C$36,F158<='A - Contractor Summary'!$C$38),\"Yes\",IF(F158<'A - Contractor Summary'!$C$36,\"No\",IF(F158>'A - Contractor Summary'!$C$39,\"\",\"\")))","v":"No"},null,null,null,59.77,null,null,null,1]
[null,null,"Spreadsheet",14,"Vendor No. 2","2018-11-05",1060,"MIFPUC-5","Lake Worth Fl",39.33,null,null,{"$f":"IF(AND(F159>='A - Contractor Summary'!$C$36,F159<='A - Contractor Summary'!$C$38),\"Yes\",IF(F159<'A - Contractor Summary'!$C$36,\"No\",IF(F159>'A - Contractor Summary'!$C$39,\"\",\"\")))","v":"No"},null,null,null,39.33,null,null,null,1]
[null,null,"Spreadsheet",38,"Vendor No. 2","2018-11-05",7048,"MIFPUC-5","Lake Wales Fl",65.16,null,null,{"$f":"IF(AND(F160>='A - Contractor Summary'!$C$36,F160<='A - Contractor Summary'!$C$38),\"Yes\",IF(F160<'A - Contractor Summary'!$C$36,\"No\",IF(F160>'A - Contractor Summary'!$C$39,\"\",\"\")))","v":"No"},null,null,null,65.16,null,null,null,1]
[null,null,"Spreadsheet",47,"Vendor No. 2","2018-11-05",1060,"MIFPUC-5","Reddick Fl",121.34,null,null,{"$f":"IF(AND(F161>='A - Contractor Summary'!$C$36,F161<='A - Contractor Summary'!$C$38),\"Yes\",IF(F161<'A - Contractor Summary'!$C$36,\"No\",IF(F161>'A - Contractor Summary'!$C$39,\"\",\"\")))","v":"No"},null,null,null,121.34,null,null,null,1]
[null,null,"Spreadsheet",47,"Vendor No. 2","2018-11-05",1060,"MIFPUC-5","Lake Worth Fl",100,null,null,{"$f":"IF(AND(F162>='A - Contractor Summary'!$C$36,F162<='A - Contractor Summary'!$C$38),\"Yes\",IF(F162<'A - Contractor Summary'!$C$36,\"No\",IF(F162>'A - Contractor Summary'!$C$39,\"\",\"\")))","v":"No"},null,null,null,100,null,null,null,1]
[null,null,"Spreadsheet",63,"Vendor No. 2","2018-11-05",1060,"MIFPUC-5","Marianna Fl",65.59,null,null,{"$f":"IF(AND(F163>='A - Contractor Summary'!$C$36,F163<='A - Contractor Summary'!$C$38),\"Yes\",IF(F163<'A - Contractor Summary'!$C$36,\"No\",IF(F163>'A - Contractor Summary'!$C$39,\"\",\"\")))","v":"No"},null,null,null,65.59,null,null,null,1]
[null,null,"Spreadsheet",63,"Vendor No. 2","2018-11-05",1060,"MIFPUC-5","Ocala Fl",48.65,null,null,{"$f":"IF(AND(F164>='A - Contractor Summary'!$C$36,F164<='A - Contractor Summary'!$C$38),\"Yes\",IF(F164<'A - Contractor Summary'!$C$36,\"No\",IF(F164>'A - Contractor Summary'!$C$39,\"\",\"\")))","v":"No"},null,null,null,48.65,null,null,null,1]
[null,null,"Spreadsheet",63,"Vendor No. 2","2018-11-05",1060,"MIFPUC-5","Ocala Fl",42.55,null,null,{"$f":"IF(AND(F165>='A - Contractor Summary'!$C$36,F165<='A - Contractor Summary'!$C$38),\"Yes\",IF(F165<'A - Contractor Summary'!$C$36,\"No\",IF(F165>'A - Contractor Summary'!$C$39,\"\",\"\")))","v":"No"},null,null,null,42.55,null,null,null,1]
[null,null,"Spreadsheet",63,"Vendor No. 2","2018-11-05",1060,"MIFPUC-5","Naples Fl",42.72,null,null,{"$f":"IF(AND(F166>='A - Contractor Summary'!$C$36,F166<='A - Contractor Summary'!$C$38),\"Yes\",IF(F166<'A - Contractor Summary'!$C$36,\"No\",IF(F166>'A - Contractor Summary'!$C$39,\"\",\"\")))","v":"No"},null,null,null,42.72,null,null,null,1]
[null,null,"Spreadsheet",63,"Vendor No. 2","2018-11-05",1060,"MIFPUC-5","Naples Fl",33,null,null,{"$f":"IF(AND(F167>='A - Contractor Summary'!$C$36,F167<='A - Contractor Summary'!$C$38),\"Yes\",IF(F167<'A - Contractor Summary'!$C$36,\"No\",IF(F167>'A - Contractor Summary'!$C$39,\"\",\"\")))","v":"No"},null,null,null,33,null,null,null,1]
[null,null,"Spreadsheet",63,"Vendor No. 2","2018-11-05",1060,"MIFPUC-5","Homestead Fl",45.58,null,null,{"$f":"IF(AND(F168>='A - Contractor Summary'!$C$36,F168<='A - Contractor Summary'!$C$38),\"Yes\",IF(F168<'A - Contractor Summary'!$C$36,\"No\",IF(F168>'A - Contractor Summary'!$C$39,\"\",\"\")))","v":"No"},null,null,null,45.58,null,null,null,1]
[null,null,"Spreadsheet",118,"Vendor No. 2","2018-11-05",1060,"MIFPUC-5","Marianna Fl",86.45,null,null,{"$f":"IF(AND(F169>='A - Contractor Summary'!$C$36,F169<='A - Contractor Summary'!$C$38),\"Yes\",IF(F169<'A - Contractor Summary'!$C$36,\"No\",IF(F169>'A - Contractor Summary'!$C$39,\"\",\"\")))","v":"No"},null,null,null,86.45,null,null,null,1]
[null,null,"Spreadsheet",118,"Vendor No. 2","2018-11-05",1060,"MIFPUC-5","Wilwood Fl",60,null,null,{"$f":"IF(AND(F170>='A - Contractor Summary'!$C$36,F170<='A - Contractor Summary'!$C$38),\"Yes\",IF(F170<'A - Contractor Summary'!$C$36,\"No\",IF(F170>'A - Contractor Summary'!$C$39,\"\",\"\")))","v":"No"},null,null,null,60,null,null,null,1]
[null,null,"Spreadsheet",130,"Vendor No. 2","2018-11-05",1060,"MIFPUC-5","Lake City Fl",146.63,null,null,{"$f":"IF(AND(F171>='A - Contractor Summary'!$C$36,F171<='A - Contractor Summary'!$C$38),\"Yes\",IF(F171<'A - Contractor Summary'!$C$36,\"No\",IF(F171>'A - Contractor Summary'!$C$39,\"\",\"\")))","v":"No"},null,null,null,146.63,null,null,null,1]
[null,null,"Spreadsheet",130,"Vendor No. 2","2018-11-05",1060,"MIFPUC-5","Okeechhobee Fl",100,null,null,{"$f":"IF(AND(F172>='A - Contractor Summary'!$C$36,F172<='A - Contractor Summary'!$C$38),\"Yes\",IF(F172<'A - Contractor Summary'!$C$36,\"No\",IF(F172>'A - Contractor Summary'!$C$39,\"\",\"\")))","v":"No"},null,null,null,100,null,null,null,1]
[null,null,"Spreadsheet",135,"Vendor No. 2","2018-11-05",1060,"MIFPUC-5","Reddick Fl",113.01,null,null,{"$f":"IF(AND(F173>='A - Contractor Summary'!$C$36,F173<='A - Contractor Summary'!$C$38),\"Yes\",IF(F173<'A - Contractor Summary'!$C$36,\"No\",IF(F173>'A - Contractor Summary'!$C$39,\"\",\"\")))","v":"No"},null,null,null,113.01,null,null,null,1]
[null,null,"Spreadsheet",135,"Vendor No. 2","2018-11-05",1060,"MIFPUC-5","Reddick Fl",167.6,null,null,{"$f":"IF(AND(F174>='A - Contractor Summary'!$C$36,F174<='A - Contractor Summary'!$C$38),\"Yes\",IF(F174<'A - Contractor Summary'!$C$36,\"No\",IF(F174>'A - Contractor Summary'!$C$39,\"\",\"\")))","v":"No"},null,null,null,167.6,null,null,null,1]
[null,null,"Spreadsheet",136,"Vendor No. 2","2018-11-05",1060,"MIFPUC-5","Marianna Fl",22.53,null,null,{"$f":"IF(AND(F175>='A - Contractor Summary'!$C$36,F175<='A - Contractor Summary'!$C$38),\"Yes\",IF(F175<'A - Contractor Summary'!$C$36,\"No\",IF(F175>'A - Contractor Summary'!$C$39,\"\",\"\")))","v":"No"},null,null,null,22.53,null,null,null,1]
[null,null,"Spreadsheet",136,"Vendor No. 2","2018-11-05",1060,"MIFPUC-5","Lake City Fl",141.33000000000001,null,null,{"$f":"IF(AND(F176>='A - Contractor Summary'!$C$36,F176<='A - Contractor Summary'!$C$38),\"Yes\",IF(F176<'A - Contractor Summary'!$C$36,\"No\",IF(F176>'A - Contractor Summary'!$C$39,\"\",\"\")))","v":"No"},null,null,null,141.33000000000001,null,null,null,1]
[null,null,"Spreadsheet",136,"Vendor No. 2","2018-11-05",1060,"MIFPUC-5","Ocoee Fl",34.39,null,null,{"$f":"IF(AND(F177>='A - Contractor Summary'!$C$36,F177<='A - Contractor Summary'!$C$38),\"Yes\",IF(F177<'A - Contractor Summary'!$C$36,\"No\",IF(F177>'A - Contractor Summary'!$C$39,\"\",\"\")))","v":"No"},null,null,null,34.39,null,null,null,1]
[null,null,"Spreadsheet",151,"Vendor No. 2","2018-11-05",1060,"MIFPUC-5","Bushnell Fl",117.6,null,null,{"$f":"IF(AND(F178>='A - Contractor Summary'!$C$36,F178<='A - Contractor Summary'!$C$38),\"Yes\",IF(F178<'A - Contractor Summary'!$C$36,\"No\",IF(F178>'A - Contractor Summary'!$C$39,\"\",\"\")))","v":"No"},null,null,null,117.6,null,null,null,1]
[null,null,"Spreadsheet",183,"Vendor No. 2","2018-11-05",1060,"MIFPUC-5","Tampa Fl",57.26,null,null,{"$f":"IF(AND(F179>='A - Contractor Summary'!$C$36,F179<='A - Contractor Summary'!$C$38),\"Yes\",IF(F179<'A - Contractor Summary'!$C$36,\"No\",IF(F179>'A - Contractor Summary'!$C$39,\"\",\"\")))","v":"No"},null,null,null,57.26,null,null,null,1]
[null,null,"Spreadsheet",184,"Vendor No. 2","2018-11-05",1060,"MIFPUC-5","Lake Worth Fl",80,null,null,{"$f":"IF(AND(F180>='A - Contractor Summary'!$C$36,F180<='A - Contractor Summary'!$C$38),\"Yes\",IF(F180<'A - Contractor Summary'!$C$36,\"No\",IF(F180>'A - Contractor Summary'!$C$39,\"\",\"\")))","v":"No"},null,null,null,80,null,null,null,1]
[null,null,"Spreadsheet",199,"Vendor No. 2","2018-11-05",1060,"MIFPUC-5","Marianna Fl",72.8,null,null,{"$f":"IF(AND(F181>='A - Contractor Summary'!$C$36,F181<='A - Contractor Summary'!$C$38),\"Yes\",IF(F181<'A - Contractor Summary'!$C$36,\"No\",IF(F181>'A - Contractor Summary'!$C$39,\"\",\"\")))","v":"No"},null,null,null,72.8,null,null,null,1]
[null,null,"Spreadsheet",199,"Vendor No. 2","2018-11-05",1060,"MIFPUC-5","Saint Cloud Fl",50.35,null,null,{"$f":"IF(AND(F182>='A - Contractor Summary'!$C$36,F182<='A - Contractor Summary'!$C$38),\"Yes\",IF(F182<'A - Contractor Summary'!$C$36,\"No\",IF(F182>'A - Contractor Summary'!$C$39,\"\",\"\")))","v":"No"},null,null,null,50.35,null,null,null,1]
[null,null,"Spreadsheet",204,"Vendor No. 2","2018-11-05",1060,"MIFPUC-5","Wildwood Fl",102.66,null,null,{"$f":"IF(AND(F183>='A - Contractor Summary'!$C$36,F183<='A - Contractor Summary'!$C$38),\"Yes\",IF(F183<'A - Contractor Summary'!$C$36,\"No\",IF(F183>'A - Contractor Summary'!$C$39,\"\",\"\")))","v":"No"},null,null,null,102.66,null,null,null,1]
[null,null,"Spreadsheet",204,"Vendor No. 2","2018-11-05",1009,"MIFPUC-5","Riverview Fl",0.06,null,null,{"$f":"IF(AND(F184>='A - Contractor Summary'!$C$36,F184<='A - Contractor Summary'!$C$38),\"Yes\",IF(F184<'A - Contractor Summary'!$C$36,\"No\",IF(F184>'A - Contractor Summary'!$C$39,\"\",\"\")))","v":"No"},null,null,null,0.06,null,null,null,1]
[null,null,"Spreadsheet",204,"Vendor No. 2","2018-11-05",1009,"MIFPUC-5","Riverview Fl",255.73,null,null,{"$f":"IF(AND(F185>='A - Contractor Summary'!$C$36,F185<='A - Contractor Summary'!$C$38),\"Yes\",IF(F185<'A - Contractor Summary'!$C$36,\"No\",IF(F185>'A - Contractor Summary'!$C$39,\"\",\"\")))","v":"No"},null,null,null,255.73,null,null,null,1]
[null,null,"Spreadsheet",204,"Vendor No. 2","2018-11-05",1060,"MIFPUC-5","Florida City Fl",76.78,null,null,{"$f":"IF(AND(F186>='A - Contractor Summary'!$C$36,F186<='A - Contractor Summary'!$C$38),\"Yes\",IF(F186<'A - Contractor Summary'!$C$36,\"No\",IF(F186>'A - Contractor Summary'!$C$39,\"\",\"\")))","v":"No"},null,null,null,76.78,null,null,null,1]
[null,null,"Spreadsheet",209,"Vendor No. 2","2018-11-05",1060,"MIFPUC-5","Lake City Fl",129.5,null,null,{"$f":"IF(AND(F187>='A - Contractor Summary'!$C$36,F187<='A - Contractor Summary'!$C$38),\"Yes\",IF(F187<'A - Contractor Summary'!$C$36,\"No\",IF(F187>'A - Contractor Summary'!$C$39,\"\",\"\")))","v":"No"},null,null,null,129.5,null,null,null,1]
[null,null,"Spreadsheet",209,"Vendor No. 2","2018-11-05",1060,"MIFPUC-5","Saint Cloud Fl",39.92,null,null,{"$f":"IF(AND(F188>='A - Contractor Summary'!$C$36,F188<='A - Contractor Summary'!$C$38),\"Yes\",IF(F188<'A - Contractor Summary'!$C$36,\"No\",IF(F188>'A - Contractor Summary'!$C$39,\"\",\"\")))","v":"No"},null,null,null,39.92,null,null,null,1]
[null,null,"Spreadsheet",209,"Vendor No. 2","2018-11-05",1060,"MIFPUC-5","Saint Cloud Fl",55.84,null,null,{"$f":"IF(AND(F189>='A - Contractor Summary'!$C$36,F189<='A - Contractor Summary'!$C$38),\"Yes\",IF(F189<'A - Contractor Summary'!$C$36,\"No\",IF(F189>'A - Contractor Summary'!$C$39,\"\",\"\")))","v":"No"},null,null,null,55.84,null,null,null,1]
[null,null,"Spreadsheet",227,"Vendor No. 2","2018-11-05",1060,"MIFPUC-5","Marianna Fl",109.52,null,null,{"$f":"IF(AND(F190>='A - Contractor Summary'!$C$36,F190<='A - Contractor Summary'!$C$38),\"Yes\",IF(F190<'A - Contractor Summary'!$C$36,\"No\",IF(F190>'A - Contractor Summary'!$C$39,\"\",\"\")))","v":"No"},null,null,null,109.52,null,null,null,1]
[null,null,"Spreadsheet",227,"Vendor No. 2","2018-11-05",1026,"MIFPUC-5","Ocala Fl",115.97,null,null,{"$f":"IF(AND(F191>='A - Contractor Summary'!$C$36,F191<='A - Contractor Summary'!$C$38),\"Yes\",IF(F191<'A - Contractor Summary'!$C$36,\"No\",IF(F191>'A - Contractor Summary'!$C$39,\"\",\"\")))","v":"No"},null,null,null,115.97,null,null,null,1]
[null,null,"Spreadsheet",227,"Vendor No. 2","2018-11-05",1026,"MIFPUC-5","Port Saint Fl",91.16,null,null,{"$f":"IF(AND(F192>='A - Contractor Summary'!$C$36,F192<='A - Contractor Summary'!$C$38),\"Yes\",IF(F192<'A - Contractor Summary'!$C$36,\"No\",IF(F192>'A - Contractor Summary'!$C$39,\"\",\"\")))","v":"No"},null,null,null,91.16,null,null,null,1]
[null,null,"Spreadsheet",274,"Vendor No. 2","2018-11-05",1060,"MIFPUC-5","Miami Garden Fl",103.41,null,null,{"$f":"IF(AND(F193>='A - Contractor Summary'!$C$36,F193<='A - Contractor Summary'!$C$38),\"Yes\",IF(F193<'A - Contractor Summary'!$C$36,\"No\",IF(F193>'A - Contractor Summary'!$C$39,\"\",\"\")))","v":"No"},null,null,null,103.41,null,null,null,1]
[null,null,"Spreadsheet",274,"Vendor No. 2","2018-11-05",3752,"MIFPUC-5","Miami Garden Fl",93,null,null,{"$f":"IF(AND(F194>='A - Contractor Summary'!$C$36,F194<='A - Contractor Summary'!$C$38),\"Yes\",IF(F194<'A - Contractor Summary'!$C$36,\"No\",IF(F194>'A - Contractor Summary'!$C$39,\"\",\"\")))","v":"No"},null,null,null,93,null,null,null,1]
[null,null,"Spreadsheet",274,"Vendor No. 2","2018-11-05",3752,"MIFPUC-5","Opa Locka Fl",25.55,null,null,{"$f":"IF(AND(F195>='A - Contractor Summary'!$C$36,F195<='A - Contractor Summary'!$C$38),\"Yes\",IF(F195<'A - Contractor Summary'!$C$36,\"No\",IF(F195>'A - Contractor Summary'!$C$39,\"\",\"\")))","v":"No"},null,null,null,25.55,null,null,null,1]
[null,null,"Spreadsheet",275,"Vendor No. 2","2018-11-05",1601,"MIFPUC-5","Saint Cloud Fl",100,null,null,{"$f":"IF(AND(F196>='A - Contractor Summary'!$C$36,F196<='A - Contractor Summary'!$C$38),\"Yes\",IF(F196<'A - Contractor Summary'!$C$36,\"No\",IF(F196>'A - Contractor Summary'!$C$39,\"\",\"\")))","v":"No"},null,null,null,100,null,null,null,1]
[null,null,"Spreadsheet",276,"Vendor No. 2","2018-11-05",1060,"MIFPUC-5","Ocoee Fl",132.03,null,null,{"$f":"IF(AND(F197>='A - Contractor Summary'!$C$36,F197<='A - Contractor Summary'!$C$38),\"Yes\",IF(F197<'A - Contractor Summary'!$C$36,\"No\",IF(F197>'A - Contractor Summary'!$C$39,\"\",\"\")))","v":"No"},null,null,null,132.03,null,null,null,1]
[null,null,"Spreadsheet",279,"Vendor No. 2","2018-11-05",1060,"MIFPUC-5","Marianna Fl",124.72,null,null,{"$f":"IF(AND(F198>='A - Contractor Summary'!$C$36,F198<='A - Contractor Summary'!$C$38),\"Yes\",IF(F198<'A - Contractor Summary'!$C$36,\"No\",IF(F198>'A - Contractor Summary'!$C$39,\"\",\"\")))","v":"No"},null,null,null,124.72,null,null,null,1]
[null,null,"Spreadsheet",279,"Vendor No. 2","2018-11-05",1060,"MIFPUC-5","Alachua Fl",103.9,null,null,null,null,null,null,103.9,null,null,null,1]
[null,null,"Spreadsheet",279,"Vendor No. 2","2018-11-05",1060,"MIFPUC-5","Okeechhobee Fl",96.79,null,null,{"$f":"IF(AND(F200>='A - Contractor Summary'!$C$36,F200<='A - Contractor Summary'!$C$38),\"Yes\",IF(F200<'A - Contractor Summary'!$C$36,\"No\",IF(F200>'A - Contractor Summary'!$C$39,\"\",\"\")))","v":"No"},null,null,null,96.79,null,null,null,1]
[null,null,"Spreadsheet",281,"Vendor No. 2","2018-11-05",1060,"MIFPUC-5","Reddick Fl",60.87,null,null,{"$f":"IF(AND(F201>='A - Contractor Summary'!$C$36,F201<='A - Contractor Summary'!$C$38),\"Yes\",IF(F201<'A - Contractor Summary'!$C$36,\"No\",IF(F201>'A - Contractor Summary'!$C$39,\"\",\"\")))","v":"No"},null,null,null,60.87,null,null,null,1]
[null,null,"Spreadsheet",281,"Vendor No. 2","2018-11-05",1060,"MIFPUC-5","West Palm Fl",250.05,null,null,{"$f":"IF(AND(F202>='A - Contractor Summary'!$C$36,F202<='A - Contractor Summary'!$C$38),\"Yes\",IF(F202<'A - Contractor Summary'!$C$36,\"No\",IF(F202>'A - Contractor Summary'!$C$39,\"\",\"\")))","v":"No"},null,null,null,250.05,null,null,null,1]
[null,null,"Spreadsheet",282,"Vendor No. 2","2018-11-05",1060,"MIFPUC-5","Port Saint Fl",79.23,null,null,{"$f":"IF(AND(F203>='A - Contractor Summary'!$C$36,F203<='A - Contractor Summary'!$C$38),\"Yes\",IF(F203<'A - Contractor Summary'!$C$36,\"No\",IF(F203>'A - Contractor Summary'!$C$39,\"\",\"\")))","v":"No"},null,null,null,79.23,null,null,null,1]
[null,null,"Spreadsheet",284,"Vendor No. 2","2018-11-05",1060,"MIFPUC-5","Okeechhobee Fl",63.24,null,null,{"$f":"IF(AND(F204>='A - Contractor Summary'!$C$36,F204<='A - Contractor Summary'!$C$38),\"Yes\",IF(F204<'A - Contractor Summary'!$C$36,\"No\",IF(F204>'A - Contractor Summary'!$C$39,\"\",\"\")))","v":"No"},null,null,null,63.24,null,null,null,1]
[null,null,"Spreadsheet",286,"Vendor No. 2","2018-11-05",1060,"MIFPUC-5","Lamont Fl",59.34,null,null,{"$f":"IF(AND(F205>='A - Contractor Summary'!$C$36,F205<='A - Contractor Summary'!$C$38),\"Yes\",IF(F205<'A - Contractor Summary'!$C$36,\"No\",IF(F205>'A - Contractor Summary'!$C$39,\"\",\"\")))","v":"No"},null,null,null,59.34,null,null,null,1]
[null,null,"Spreadsheet",286,"Vendor No. 2","2018-11-05",1060,"MIFPUC-5","Reddick Fl",64.63,null,null,{"$f":"IF(AND(F206>='A - Contractor Summary'!$C$36,F206<='A - Contractor Summary'!$C$38),\"Yes\",IF(F206<'A - Contractor Summary'!$C$36,\"No\",IF(F206>'A - Contractor Summary'!$C$39,\"\",\"\")))","v":"No"},null,null,null,{"$f":"+J206","v":64.63},null,null,null,1]
[null,null,"Spreadsheet",286,"Vendor No. 2","2018-11-05",1060,"MIFPUC-5","Yeehaw Junction Fl",73.7,null,null,{"$f":"IF(AND(F207>='A - Contractor Summary'!$C$36,F207<='A - Contractor Summary'!$C$38),\"Yes\",IF(F207<'A - Contractor Summary'!$C$36,\"No\",IF(F207>'A - Contractor Summary'!$C$39,\"\",\"\")))","v":"No"},null,null,null,73.7,null,null,null,1]
[null,null,"Spreadsheet",289,"Vendor No. 2","2018-11-05",1060,"MIFPUC-5","Lee Fl",42.6,null,null,{"$f":"IF(AND(F208>='A - Contractor Summary'!$C$36,F208<='A - Contractor Summary'!$C$38),\"Yes\",IF(F208<'A - Contractor Summary'!$C$36,\"No\",IF(F208>'A - Contractor Summary'!$C$39,\"\",\"\")))","v":"No"},null,null,null,42.6,null,null,null,1]
[null,null,"Spreadsheet",289,"Vendor No. 2","2018-11-05",1060,"MIFPUC-5","Wildwood Fl",59.26,null,null,{"$f":"IF(AND(F209>='A - Contractor Summary'!$C$36,F209<='A - Contractor Summary'!$C$38),\"Yes\",IF(F209<'A - Contractor Summary'!$C$36,\"No\",IF(F209>'A - Contractor Summary'!$C$39,\"\",\"\")))","v":"No"},null,null,null,59.26,null,null,null,1]
[null,null,"Spreadsheet",289,"Vendor No. 2","2018-11-05",1060,"MIFPUC-5","Port Saint Fl",111.63,null,null,{"$f":"IF(AND(F210>='A - Contractor Summary'!$C$36,F210<='A - Contractor Summary'!$C$38),\"Yes\",IF(F210<'A - Contractor Summary'!$C$36,\"No\",IF(F210>'A - Contractor Summary'!$C$39,\"\",\"\")))","v":"No"},null,null,null,111.63,null,null,null,1]
[null,null,"Spreadsheet",290,"Vendor No. 2","2018-11-05",1060,"MIFPUC-5","Wildwood Fl",111.25,null,null,{"$f":"IF(AND(F211>='A - Contractor Summary'!$C$36,F211<='A - Contractor Summary'!$C$38),\"Yes\",IF(F211<'A - Contractor Summary'!$C$36,\"No\",IF(F211>'A - Contractor Summary'!$C$39,\"\",\"\")))","v":"No"},null,null,null,111.25,null,null,null,1]
[null,null,"Spreadsheet",290,"Vendor No. 2","2018-11-05",1060,"MIFPUC-5","Port Saint Fl",116.01,null,null,{"$f":"IF(AND(F212>='A - Contractor Summary'!$C$36,F212<='A - Contractor Summary'!$C$38),\"Yes\",IF(F212<'A - Contractor Summary'!$C$36,\"No\",IF(F212>'A - Contractor Summary'!$C$39,\"\",\"\")))","v":"No"},null,null,null,116.01,null,null,null,1]
[null,null,"Spreadsheet",290,"Vendor No. 2","2018-11-05",1060,"MIFPUC-5","Florida City Fl",102.5,null,null,{"$f":"IF(AND(F213>='A - Contractor Summary'!$C$36,F213<='A - Contractor Summary'!$C$38),\"Yes\",IF(F213<'A - Contractor Summary'!$C$36,\"No\",IF(F213>'A - Contractor Summary'!$C$39,\"\",\"\")))","v":"No"},null,null,null,102.5,null,null,null,1]
[null,null,"Spreadsheet",291,"Vendor No. 2","2018-11-05",1060,"MIFPUC-5","Lake City Fl",33.46,null,null,{"$f":"IF(AND(F214>='A - Contractor Summary'!$C$36,F214<='A - Contractor Summary'!$C$38),\"Yes\",IF(F214<'A - Contractor Summary'!$C$36,\"No\",IF(F214>'A - Contractor Summary'!$C$39,\"\",\"\")))","v":"No"},null,null,null,33.46,null,null,null,1]
[null,null,"Spreadsheet",291,"Vendor No. 2","2018-11-05",1060,"MIFPUC-5","Okeechhobee Fl",26.47,null,null,{"$f":"IF(AND(F215>='A - Contractor Summary'!$C$36,F215<='A - Contractor Summary'!$C$38),\"Yes\",IF(F215<'A - Contractor Summary'!$C$36,\"No\",IF(F215>'A - Contractor Summary'!$C$39,\"\",\"\")))","v":"No"},null,null,null,26.47,null,null,null,1]
[null,null,"Spreadsheet",291,"Vendor No. 2","2018-11-05",1060,"MIFPUC-5","Pompano Fl",26.79,null,null,{"$f":"IF(AND(F216>='A - Contractor Summary'!$C$36,F216<='A - Contractor Summary'!$C$38),\"Yes\",IF(F216<'A - Contractor Summary'!$C$36,\"No\",IF(F216>'A - Contractor Summary'!$C$39,\"\",\"\")))","v":"No"},null,null,null,26.79,null,null,null,1]
[null,null,"Spreadsheet",297,"Vendor No. 2","2018-11-05",1060,"MIFPUC-5","Lake City Fl",57.32,null,null,{"$f":"IF(AND(F217>='A - Contractor Summary'!$C$36,F217<='A - Contractor Summary'!$C$38),\"Yes\",IF(F217<'A - Contractor Summary'!$C$36,\"No\",IF(F217>'A - Contractor Summary'!$C$39,\"\",\"\")))","v":"No"},null,null,null,57.32,null,null,null,1]
[null,null,"Spreadsheet",297,"Vendor No. 2","2018-11-05",1060,"MIFPUC-5","Okeechhobee Fl",70.260000000000005,null,null,{"$f":"IF(AND(F218>='A - Contractor Summary'!$C$36,F218<='A - Contractor Summary'!$C$38),\"Yes\",IF(F218<'A - Contractor Summary'!$C$36,\"No\",IF(F218>'A - Contractor Summary'!$C$39,\"\",\"\")))","v":"No"},null,null,null,70.260000000000005,null,null,null,1]
[null,null,"Spreadsheet",299,"Vendor No. 2","2018-11-05",1060,"MIFPUC-5","Lake City Fl",147.1,null,null,{"$f":"IF(AND(F219>='A - Contractor Summary'!$C$36,F219<='A - Contractor Summary'!$C$38),\"Yes\",IF(F219<'A - Contractor Summary'!$C$36,\"No\",IF(F219>'A - Contractor Summary'!$C$39,\"\",\"\")))","v":"No"},null,null,null,147.1,null,null,null,1]
[null,null,"Spreadsheet",299,"Vendor No. 2","2018-11-05",1060,"MIFPUC-5","Lake City Fl",93.22,null,null,{"$f":"IF(AND(F220>='A - Contractor Summary'!$C$36,F220<='A - Contractor Summary'!$C$38),\"Yes\",IF(F220<'A - Contractor Summary'!$C$36,\"No\",IF(F220>'A - Contractor Summary'!$C$39,\"\",\"\")))","v":"No"},null,null,null,93.22,null,null,null,1]
[null,null,"Spreadsheet",299,"Vendor No. 2","2018-11-05",1060,"MIFPUC-5","Saint Cloud Fl",135.06,null,null,{"$f":"IF(AND(F221>='A - Contractor Summary'!$C$36,F221<='A - Contractor Summary'!$C$38),\"Yes\",IF(F221<'A - Contractor Summary'!$C$36,\"No\",IF(F221>'A - Contractor Summary'!$C$39,\"\",\"\")))","v":"No"},null,null,null,135.06,null,null,null,1]
[null,null,"Spreadsheet",299,"Vendor No. 2","2018-11-05",1060,"MIFPUC-5","Saint Cloud Fl",73.540000000000006,null,null,{"$f":"IF(AND(F222>='A - Contractor Summary'!$C$36,F222<='A - Contractor Summary'!$C$38),\"Yes\",IF(F222<'A - Contractor Summary'!$C$36,\"No\",IF(F222>'A - Contractor Summary'!$C$39,\"\",\"\")))","v":"No"},null,null,null,73.540000000000006,null,null,null,1]
[null,null,"Spreadsheet",299,"Vendor No. 2","2018-11-05",1060,"MIFPUC-5","Lake Worth Fl",62.63,null,null,{"$f":"IF(AND(F223>='A - Contractor Summary'!$C$36,F223<='A - Contractor Summary'!$C$38),\"Yes\",IF(F223<'A - Contractor Summary'!$C$36,\"No\",IF(F223>'A - Contractor Summary'!$C$39,\"\",\"\")))","v":"No"},null,null,null,62.63,null,null,null,1]
[null,null,"Spreadsheet",300,"Vendor No. 2","2018-11-05",1060,"MIFPUC-5","Lake City Fl",70.069999999999993,null,null,{"$f":"IF(AND(F224>='A - Contractor Summary'!$C$36,F224<='A - Contractor Summary'!$C$38),\"Yes\",IF(F224<'A - Contractor Summary'!$C$36,\"No\",IF(F224>'A - Contractor Summary'!$C$39,\"\",\"\")))","v":"No"},null,null,null,70.069999999999993,null,null,null,1]
[null,null,"Spreadsheet",300,"Vendor No. 2","2018-11-05",1060,"MIFPUC-5","Okeechhobee Fl",84.52,null,null,{"$f":"IF(AND(F225>='A - Contractor Summary'!$C$36,F225<='A - Contractor Summary'!$C$38),\"Yes\",IF(F225<'A - Contractor Summary'!$C$36,\"No\",IF(F225>'A - Contractor Summary'!$C$39,\"\",\"\")))","v":"No"},null,null,null,84.52,null,null,null,1]
[null,null,"Spreadsheet",300,"Vendor No. 2","2018-11-05",1060,"MIFPUC-5","Pompano Fl",60,null,null,{"$f":"IF(AND(F226>='A - Contractor Summary'!$C$36,F226<='A - Contractor Summary'!$C$38),\"Yes\",IF(F226<'A - Contractor Summary'!$C$36,\"No\",IF(F226>'A - Contractor Summary'!$C$39,\"\",\"\")))","v":"No"},null,null,null,60,null,null,null,1]
[null,null,"Spreadsheet",303,"Vendor No. 2","2018-11-05",1060,"MIFPUC-5","Lee Fl",95.3,null,null,{"$f":"IF(AND(F227>='A - Contractor Summary'!$C$36,F227<='A - Contractor Summary'!$C$38),\"Yes\",IF(F227<'A - Contractor Summary'!$C$36,\"No\",IF(F227>'A - Contractor Summary'!$C$39,\"\",\"\")))","v":"No"},null,null,null,95.3,null,null,null,1]
[null,null,"Spreadsheet",303,"Vendor No. 2","2018-11-05",1060,"MIFPUC-5","Ocoee Fl",62.27,null,null,{"$f":"IF(AND(F228>='A - Contractor Summary'!$C$36,F228<='A - Contractor Summary'!$C$38),\"Yes\",IF(F228<'A - Contractor Summary'!$C$36,\"No\",IF(F228>'A - Contractor Summary'!$C$39,\"\",\"\")))","v":"No"},null,null,null,62.27,null,null,null,1]
[null,null,"Spreadsheet",306,"Vendor No. 2","2018-11-05",1060,"MIFPUC-5","Madison Fl",128.29,null,null,{"$f":"IF(AND(F229>='A - Contractor Summary'!$C$36,F229<='A - Contractor Summary'!$C$38),\"Yes\",IF(F229<'A - Contractor Summary'!$C$36,\"No\",IF(F229>'A - Contractor Summary'!$C$39,\"\",\"\")))","v":"No"},null,null,null,128.29,null,null,null,1]
[null,null,"Spreadsheet",306,"Vendor No. 2","2018-11-05",1060,"MIFPUC-5","Kissimmee Fl",130.87,null,null,{"$f":"IF(AND(F230>='A - Contractor Summary'!$C$36,F230<='A - Contractor Summary'!$C$38),\"Yes\",IF(F230<'A - Contractor Summary'!$C$36,\"No\",IF(F230>'A - Contractor Summary'!$C$39,\"\",\"\")))","v":"No"},null,null,null,130.87,null,null,null,1]
[null,null,"Spreadsheet",306,"Vendor No. 2","2018-11-05",1060,"MIFPUC-5","Lake Worth Fl",100,null,null,{"$f":"IF(AND(F231>='A - Contractor Summary'!$C$36,F231<='A - Contractor Summary'!$C$38),\"Yes\",IF(F231<'A - Contractor Summary'!$C$36,\"No\",IF(F231>'A - Contractor Summary'!$C$39,\"\",\"\")))","v":"No"},null,null,null,100,null,null,null,1]
[null,null,"Spreadsheet",307,"Vendor No. 2","2018-11-05",1060,"MIFPUC-5","Lake City Fl",82.06,null,null,{"$f":"IF(AND(F232>='A - Contractor Summary'!$C$36,F232<='A - Contractor Summary'!$C$38),\"Yes\",IF(F232<'A - Contractor Summary'!$C$36,\"No\",IF(F232>'A - Contractor Summary'!$C$39,\"\",\"\")))","v":"No"},null,null,null,82.06,null,null,null,1]
[null,null,"Spreadsheet",307,"Vendor No. 2","2018-11-05",1060,"MIFPUC-5","Okeechhobee Fl",99.63,null,null,{"$f":"IF(AND(F233>='A - Contractor Summary'!$C$36,F233<='A - Contractor Summary'!$C$38),\"Yes\",IF(F233<'A - Contractor Summary'!$C$36,\"No\",IF(F233>'A - Contractor Summary'!$C$39,\"\",\"\")))","v":"No"},null,null,null,99.63,null,null,null,1]
[null,null,"Spreadsheet",308,"Vendor No. 2","2018-11-05",1060,"MIFPUC-5","Lee Fl",41.41,null,null,{"$f":"IF(AND(F234>='A - Contractor Summary'!$C$36,F234<='A - Contractor Summary'!$C$38),\"Yes\",IF(F234<'A - Contractor Summary'!$C$36,\"No\",IF(F234>'A - Contractor Summary'!$C$39,\"\",\"\")))","v":"No"},null,null,null,41.41,null,null,null,1]
[null,null,"Spreadsheet",308,"Vendor No. 2","2018-11-05",1060,"MIFPUC-5","Ocoee Fl",65.28,null,null,{"$f":"IF(AND(F235>='A - Contractor Summary'!$C$36,F235<='A - Contractor Summary'!$C$38),\"Yes\",IF(F235<'A - Contractor Summary'!$C$36,\"No\",IF(F235>'A - Contractor Summary'!$C$39,\"\",\"\")))","v":"No"},null,null,null,65.28,null,null,null,1]
[null,null,"Spreadsheet",309,"Vendor No. 2","2018-11-05",1060,"MIFPUC-5","Pompano Fl",81.39,null,null,{"$f":"IF(AND(F236>='A - Contractor Summary'!$C$36,F236<='A - Contractor Summary'!$C$38),\"Yes\",IF(F236<'A - Contractor Summary'!$C$36,\"No\",IF(F236>'A - Contractor Summary'!$C$39,\"\",\"\")))","v":"No"},null,null,null,81.39,null,null,null,1]
[null,null,"Spreadsheet",310,"Vendor No. 2","2018-11-05",1060,"MIFPUC-5","Madison Fl",65.97,null,null,{"$f":"IF(AND(F237>='A - Contractor Summary'!$C$36,F237<='A - Contractor Summary'!$C$38),\"Yes\",IF(F237<'A - Contractor Summary'!$C$36,\"No\",IF(F237>'A - Contractor Summary'!$C$39,\"\",\"\")))","v":"No"},null,null,null,65.97,null,null,null,1]
[null,null,"Spreadsheet",310,"Vendor No. 2","2018-11-05",1060,"MIFPUC-5","Okeechhobee Fl",94.76,null,null,{"$f":"IF(AND(F238>='A - Contractor Summary'!$C$36,F238<='A - Contractor Summary'!$C$38),\"Yes\",IF(F238<'A - Contractor Summary'!$C$36,\"No\",IF(F238>'A - Contractor Summary'!$C$39,\"\",\"\")))","v":"No"},null,null,null,94.76,null,null,null,1]
[null,null,"Spreadsheet",316,"Vendor No. 2","2018-11-05",1060,"MIFPUC-5","Okeechhobee Fl",50,null,null,{"$f":"IF(AND(F239>='A - Contractor Summary'!$C$36,F239<='A - Contractor Summary'!$C$38),\"Yes\",IF(F239<'A - Contractor Summary'!$C$36,\"No\",IF(F239>'A - Contractor Summary'!$C$39,\"\",\"\")))","v":"No"},null,null,null,50,null,null,null,1]
[null,null,"Spreadsheet",319,"Vendor No. 2","2018-11-05",1060,"MIFPUC-5","Lee Fl",71.88,null,null,{"$f":"IF(AND(F240>='A - Contractor Summary'!$C$36,F240<='A - Contractor Summary'!$C$38),\"Yes\",IF(F240<'A - Contractor Summary'!$C$36,\"No\",IF(F240>'A - Contractor Summary'!$C$39,\"\",\"\")))","v":"No"},null,null,null,71.88,null,null,null,1]
[null,null,"Spreadsheet",319,"Vendor No. 2","2018-11-05",1060,"MIFPUC-5","Wildwood Fl",75.06,null,null,{"$f":"IF(AND(F241>='A - Contractor Summary'!$C$36,F241<='A - Contractor Summary'!$C$38),\"Yes\",IF(F241<'A - Contractor Summary'!$C$36,\"No\",IF(F241>'A - Contractor Summary'!$C$39,\"\",\"\")))","v":"No"},null,null,null,75.06,null,null,null,1]
[null,null,"Spreadsheet",319,"Vendor No. 2","2018-11-05",1060,"MIFPUC-5","Port Saint Fl",120,null,null,{"$f":"IF(AND(F242>='A - Contractor Summary'!$C$36,F242<='A - Contractor Summary'!$C$38),\"Yes\",IF(F242<'A - Contractor Summary'!$C$36,\"No\",IF(F242>'A - Contractor Summary'!$C$39,\"\",\"\")))","v":"No"},null,null,null,120,null,null,null,1]
[null,null,"Spreadsheet",320,"Vendor No. 2","2018-11-05",2002,"MIFPUC-5","Madison Fl",143.71,null,null,{"$f":"IF(AND(F243>='A - Contractor Summary'!$C$36,F243<='A - Contractor Summary'!$C$38),\"Yes\",IF(F243<'A - Contractor Summary'!$C$36,\"No\",IF(F243>'A - Contractor Summary'!$C$39,\"\",\"\")))","v":"No"},null,null,null,143.71,null,null,null,1]
[null,null,"Spreadsheet",322,"Vendor No. 2","2018-11-05",1060,"MIFPUC-5","Reddick Fl",28.6,null,null,{"$f":"IF(AND(F244>='A - Contractor Summary'!$C$36,F244<='A - Contractor Summary'!$C$38),\"Yes\",IF(F244<'A - Contractor Summary'!$C$36,\"No\",IF(F244>'A - Contractor Summary'!$C$39,\"\",\"\")))","v":"No"},null,null,null,28.6,null,null,null,1]
[null,null,"Spreadsheet",323,"Vendor No. 2","2018-11-05",1060,"MIFPUC-5","Lee Fl",120.5,null,null,{"$f":"IF(AND(F245>='A - Contractor Summary'!$C$36,F245<='A - Contractor Summary'!$C$38),\"Yes\",IF(F245<'A - Contractor Summary'!$C$36,\"No\",IF(F245>'A - Contractor Summary'!$C$39,\"\",\"\")))","v":"No"},null,null,null,120.5,null,null,null,1]
[null,null,"Spreadsheet",323,"Vendor No. 2","2018-11-05",1060,"MIFPUC-5","Wildwood Fl",55.8,null,null,{"$f":"IF(AND(F246>='A - Contractor Summary'!$C$36,F246<='A - Contractor Summary'!$C$38),\"Yes\",IF(F246<'A - Contractor Summary'!$C$36,\"No\",IF(F246>'A - Contractor Summary'!$C$39,\"\",\"\")))","v":"No"},null,null,null,55.8,null,null,null,1]
[null,null,"Spreadsheet",323,"Vendor No. 2","2018-11-05",1060,"MIFPUC-5","Wildwood Fl",107.46,null,null,{"$f":"IF(AND(F247>='A - Contractor Summary'!$C$36,F247<='A - Contractor Summary'!$C$38),\"Yes\",IF(F247<'A - Contractor Summary'!$C$36,\"No\",IF(F247>'A - Contractor Summary'!$C$39,\"\",\"\")))","v":"No"},null,null,null,107.46,null,null,null,1]
[null,null,"Spreadsheet",324,"Vendor No. 2","2018-11-05",1060,"MIFPUC-5","Lamont Fl",125.14,null,null,{"$f":"IF(AND(F248>='A - Contractor Summary'!$C$36,F248<='A - Contractor Summary'!$C$38),\"Yes\",IF(F248<'A - Contractor Summary'!$C$36,\"No\",IF(F248>'A - Contractor Summary'!$C$39,\"\",\"\")))","v":"No"},null,null,null,125.14,null,null,null,1]
[null,null,"Spreadsheet",324,"Vendor No. 2","2018-11-05",1060,"MIFPUC-5","Reddick Fl",126.81,null,null,{"$f":"IF(AND(F249>='A - Contractor Summary'!$C$36,F249<='A - Contractor Summary'!$C$38),\"Yes\",IF(F249<'A - Contractor Summary'!$C$36,\"No\",IF(F249>'A - Contractor Summary'!$C$39,\"\",\"\")))","v":"No"},null,null,null,126.81,null,null,null,1]
[null,null,"Spreadsheet",324,"Vendor No. 2","2018-11-05",1060,"MIFPUC-5","Yeehaw Junction Fl",150.85,null,null,{"$f":"IF(AND(F250>='A - Contractor Summary'!$C$36,F250<='A - Contractor Summary'!$C$38),\"Yes\",IF(F250<'A - Contractor Summary'!$C$36,\"No\",IF(F250>'A - Contractor Summary'!$C$39,\"\",\"\")))","v":"No"},null,null,null,150.85,null,null,null,1]
[null,null,"Spreadsheet",324,"Vendor No. 2","2018-11-05",1060,"MIFPUC-5","Pompano Fl",115.23,null,null,{"$f":"IF(AND(F251>='A - Contractor Summary'!$C$36,F251<='A - Contractor Summary'!$C$38),\"Yes\",IF(F251<'A - Contractor Summary'!$C$36,\"No\",IF(F251>'A - Contractor Summary'!$C$39,\"\",\"\")))","v":"No"},null,null,null,115.23,null,null,null,1]
[null,null,"Spreadsheet",347,"Vendor No. 2","2018-11-05",6471,"MIFPUC-5","Hosford Fl",60,null,null,{"$f":"IF(AND(F252>='A - Contractor Summary'!$C$36,F252<='A - Contractor Summary'!$C$38),\"Yes\",IF(F252<'A - Contractor Summary'!$C$36,\"No\",IF(F252>'A - Contractor Summary'!$C$39,\"\",\"\")))","v":"No"},null,null,null,60,null,null,null,1]
[null,null,"Spreadsheet",347,"Vendor No. 2","2018-11-05",6471,"MIFPUC-5","Lake City Fl",120,null,null,{"$f":"IF(AND(F253>='A - Contractor Summary'!$C$36,F253<='A - Contractor Summary'!$C$38),\"Yes\",IF(F253<'A - Contractor Summary'!$C$36,\"No\",IF(F253>'A - Contractor Summary'!$C$39,\"\",\"\")))","v":"No"},null,null,null,120,null,null,null,1]
[null,null,"Spreadsheet",347,"Vendor No. 2","2018-11-05",6471,"MIFPUC-5","Okeechhobee Fl",80,null,null,{"$f":"IF(AND(F254>='A - Contractor Summary'!$C$36,F254<='A - Contractor Summary'!$C$38),\"Yes\",IF(F254<'A - Contractor Summary'!$C$36,\"No\",IF(F254>'A - Contractor Summary'!$C$39,\"\",\"\")))","v":"No"},null,null,null,80,null,null,null,1]
[null,null,"Spreadsheet",39,"Vendor No. 2","2018-11-05",1060,"MIFPUC-5","Pine Mountain Ga",84.48,null,null,{"$f":"IF(AND(F255>='A - Contractor Summary'!$C$36,F255<='A - Contractor Summary'!$C$38),\"Yes\",IF(F255<'A - Contractor Summary'!$C$36,\"No\",IF(F255>'A - Contractor Summary'!$C$39,\"\",\"\")))","v":"No"},null,null,null,84.48,null,null,null,1]
[null,null,"Spreadsheet",39,"Vendor No. 2","2018-11-05",1060,"MIFPUC-5","Corbin Ky",22.71,null,null,{"$f":"IF(AND(F256>='A - Contractor Summary'!$C$36,F256<='A - Contractor Summary'!$C$38),\"Yes\",IF(F256<'A - Contractor Summary'!$C$36,\"No\",IF(F256>'A - Contractor Summary'!$C$39,\"\",\"\")))","v":"No"},null,null,null,22.71,null,null,null,1]
[null,null,"Spreadsheet",39,"Vendor No. 2","2018-11-05",1060,"MIFPUC-5","Corbin Ky",82.61,null,null,{"$f":"IF(AND(F257>='A - Contractor Summary'!$C$36,F257<='A - Contractor Summary'!$C$38),\"Yes\",IF(F257<'A - Contractor Summary'!$C$36,\"No\",IF(F257>'A - Contractor Summary'!$C$39,\"\",\"\")))","v":"No"},null,null,null,82.61,null,null,null,1]
[null,null,"Spreadsheet",39,"Vendor No. 2","2018-11-05",1060,"MIFPUC-5","Corbin Ky",35.19,null,null,{"$f":"IF(AND(F258>='A - Contractor Summary'!$C$36,F258<='A - Contractor Summary'!$C$38),\"Yes\",IF(F258<'A - Contractor Summary'!$C$36,\"No\",IF(F258>'A - Contractor Summary'!$C$39,\"\",\"\")))","v":"No"},null,null,null,35.19,null,null,null,1]
[null,null,"Spreadsheet",39,"Vendor No. 2","2018-11-05",1060,"MIFPUC-5","Cleveland Tn",66.44,null,null,{"$f":"IF(AND(F259>='A - Contractor Summary'!$C$36,F259<='A - Contractor Summary'!$C$38),\"Yes\",IF(F259<'A - Contractor Summary'!$C$36,\"No\",IF(F259>'A - Contractor Summary'!$C$39,\"\",\"\")))","v":"No"},null,null,null,66.44,null,null,null,1]
[null,null,"Spreadsheet",null,"Vendor No. 2","2018-10-28",1009,"MIFPUC-4","Marianna Fl",100.58,null,null,{"$f":"IF(AND(F260>='A - Contractor Summary'!$C$36,F260<='A - Contractor Summary'!$C$38),\"Yes\",IF(F260<'A - Contractor Summary'!$C$36,\"No\",IF(F260>'A - Contractor Summary'!$C$39,\"\",\"\")))","v":"No"},null,null,null,100.58,null,null,null,1]
[null,null,"Spreadsheet",null,"Vendor No. 2","2018-10-29",6471,"MIFPUC-4","Dothan AL",90,null,null,{"$f":"IF(AND(F261>='A - Contractor Summary'!$C$36,F261<='A - Contractor Summary'!$C$38),\"Yes\",IF(F261<'A - Contractor Summary'!$C$36,\"No\",IF(F261>'A - Contractor Summary'!$C$39,\"\",\"\")))","v":"No"},null,null,null,90,null,null,null,1]
[null,null,"Spreadsheet",null,"Vendor No. 2","2018-10-30",1060,"MIFPUC-4","Malone FL",83.84,null,null,null,null,null,null,83.84,null,null,null,1]
[null,null,"Spreadsheet",null,"Vendor No. 2","2018-10-31",1060,"MIFPUC-4","Marianna Fl",114.79,null,null,null,null,null,null,114.79,null,null,null,1]
[null,null,"Spreadsheet",null,"Vendor No. 2","2018-10-31",3752,"MIFPUC-4","Miami Garden Fl",76,null,null,null,null,null,null,76,null,null,null,1]
[null,null,"Spreadsheet",null,"Vendor No. 2","2018-10-31",9001,"MIFPUC-4","Marianna FL",54.96,null,null,null,null,null,null,54.96,null,null,null,1]
[null,null,"Spreadsheet",null,"Vendor No. 2","2018-10-31",1060,"MIFPUC-4","Blountstowns FL",60,null,null,null,null,null,null,60,null,null,null,1]
[null,null,"Spreadsheet",null,"Vendor No. 2","2018-10-31",1432,"MIFPUC-4","Blountstowns FL",91.25,null,null,null,null,null,null,91.25,null,null,null,1]
[null,null,"Spreadsheet",null,"Vendor No. 2","2018-10-31",2002,"MIFPUC-4","Malone FL",130.38,null,null,null,null,null,null,130.38,null,null,null,1]
[null,null,"Spreadsheet",null,"Vendor No. 2","2018-11-01",1060,"MIFPUC-4","Marianna Fl",46.25,null,null,null,null,null,null,46.25,null,null,null,1]
[null,null,"Spreadsheet",null,"Vendor No. 2","2018-11-01",7048,"MIFPUC-4","Miami Garden Fl",53.52,null,null,null,null,null,null,{"$f":"+J270","v":53.52},null,null,null,1]
[null,null,"Spreadsheet",null,"Vendor No. 2","2018-11-01",1060,"MIFPUC-4","Marianna Fl",85.64,null,null,null,null,null,null,85.64,null,null,null,1]
[null,null,"Spreadsheet",null,"Vendor No. 2","2018-11-01",2991,"MIFPUC-4","Conttondale FL",101.17,null,null,null,null,null,null,101.17,null,null,null,1]
[null,null,"Spreadsheet",null,"Vendor No. 2","2018-11-01",1060,"MIFPUC-4","Malone FL",53.62,null,null,null,null,null,null,53.62,null,null,null,1]
[null,null,"Spreadsheet",null,"Vendor No. 2","2018-11-01",1060,"MIFPUC-4","Blountstowns FL",120.89,null,null,null,null,null,null,120.89,null,null,null,1]
[null,null,"Spreadsheet",null,"Vendor No. 2","2018-11-01",1601,"MIFPUC-4","Marianna Fl",129.51,null,null,null,null,null,null,129.51,null,null,null,1]
[null,null,"Spreadsheet",null,"Vendor No. 2","2018-11-01",1060,"MIFPUC-4","Marianna Fl",75.48,null,null,null,null,null,null,75.48,null,null,null,1]
[null,null,"Spreadsheet",null,"Vendor No. 2","2018-11-01",1060,"MIFPUC-4","Blountstowns FL",20,null,null,null,null,null,null,20,null,null,null,1]
[null,null,"Spreadsheet",null,"Vendor No. 2","2018-11-01",1060,"MIFPUC-4","Blountstowns FL",58.38,null,null,null,null,null,null,58.38,null,null,null,1]
[null,null,"Spreadsheet",null,"Vendor No. 2","2018-11-01",1060,"MIFPUC-4","Marianna Fl",68.13,null,null,null,null,null,null,68.13,null,null,null,1]
[null,null,"Spreadsheet",null,"Vendor No. 2","2018-11-01",1009,"MIFPUC-4","Marianna Fl",121.34,null,null,null,null,null,null,121.34,null,null,null,1]
[null,null,"Spreadsheet",null,"Vendor No. 2","2018-11-01",2002,"MIFPUC-4","Malone FL",92.36,null,null,null,null,null,null,92.36,null,null,null,1]
[null,null,"Spreadsheet",null,"Vendor No. 2","2018-11-01",1060,"MIFPUC-4","Blountstowns FL",111.04,null,null,null,null,null,null,111.04,null,null,null,1]
[null,null,"Spreadsheet",null,"Vendor No. 2","2018-11-01",2002,"MIFPUC-4","Malone FL",92.76,null,null,null,null,null,null,92.76,null,null,null,1]
[null,null,"Spreadsheet",null,"Vendor No. 2","2018-11-01",1009,"MIFPUC-4","Marianna Fl",63.51,null,null,null,null,null,null,63.51,null,null,null,1]
[null,null,"Spreadsheet",null,"Vendor No. 2","2018-11-01",6471,"MIFPUC-4","Blountstowns FL",112.57,null,null,null,null,null,null,112.57,null,null,null,1]
[null,null,"Spreadsheet",null,"Vendor No. 2","2018-11-02",1060,"MIFPUC-4","Marianna Fl",105.38,null,null,null,null,null,null,105.38,null,null,null,1]
[null,null,"Spreadsheet",null,"Vendor No. 2","2018-11-02",1060,"MIFPUC-4","Marianna Fl",104.81,null,null,null,null,null,null,104.81,null,null,null,1]
[null,null,"Spreadsheet",null,"Vendor No. 2","2018-11-02",1060,"MIFPUC-4","Marianna Fl",64,null,null,null,null,null,null,64,null,null,null,1]
[null,null,"Spreadsheet",null,"Vendor No. 2","2018-11-02",1060,"MIFPUC-4","Marianna Fl",49.05,null,null,null,null,null,null,49.05,null,null,null,1]
[null,null,"Spreadsheet",null,"Vendor No. 2","2018-11-02",1060,"MIFPUC-4","Marianna Fl",126.59,null,null,null,null,null,null,126.59,null,null,null,1]
[null,null,"Spreadsheet",null,"Vendor No. 2","2018-11-02",1060,"MIFPUC-4","Malone FL",60.75,null,null,null,null,null,null,60.75,null,null,null,1]
[null,null,"Spreadsheet",null,"Vendor No. 2","2018-11-02",1060,"MIFPUC-4","Marianna Fl",85.58,null,null,null,null,null,null,85.58,null,null,null,1]
[null,null,"Spreadsheet",null,"Vendor No. 2","2018-11-02",1060,"MIFPUC-4","Marianna Fl",93.17,null,null,null,null,null,null,93.17,null,null,null,1]
[null,null,"Spreadsheet",null,"Vendor No. 2","2018-11-02",1060,"MIFPUC-4","Marianna Fl",78.52,null,null,null,null,null,null,78.52,null,null,null,1]
[null,null,"Spreadsheet",null,"Vendor No. 2","2018-11-02",1060,"MIFPUC-4","Marianna Fl",96.33,null,null,null,null,null,null,96.33,null,null,null,1]
[null,null,"Spreadsheet",null,"Vendor No. 2","2018-11-02",9001,"MIFPUC-4","Marianna Fl",42.5,null,null,null,null,null,null,42.5,null,null,null,1]
[null,null,"Spreadsheet",null,"Vendor No. 2","2018-11-02",1060,"MIFPUC-4","Marianna Fl",103.45,null,null,null,null,null,null,103.45,null,null,null,1]
[null,null,"Spreadsheet",null,"Vendor No. 2","2018-11-02",1060,"MIFPUC-4","Marianna Fl",56.01,null,null,null,null,null,null,56.01,null,null,null,1]
[null,null,"Spreadsheet",null,"Vendor No. 2","2018-11-02",1060,"MIFPUC-4","Marianna Fl",108.86,null,null,null,null,null,null,108.86,null,null,null,1]
[null,null,"Spreadsheet",null,"Vendor No. 2","2018-11-02",1060,"MIFPUC-4","Marianna Fl",83.3,null,null,null,null,null,null,83.3,null,null,null,1]
[null,null,"Spreadsheet",null,"Vendor No. 2","2018-11-02",1060,"MIFPUC-4","Marianna Fl",66.87,null,null,null,null,null,null,66.87,null,null,null,1]
[null,null,"Spreadsheet",null,"Vendor No. 2","2018-11-02",1009,"MIFPUC-4","Marianna Fl",60.42,null,null,null,null,null,null,60.42,null,null,null,1]
[null,null,"Spreadsheet",null,"Vendor No. 2","2018-11-02",1009,"MIFPUC-4","Marianna Fl",99.51,null,null,null,null,null,null,99.51,null,null,null,1]
[null,null,"Spreadsheet",null,"Vendor No. 2","2018-11-02",1060,"MIFPUC-4","Marianna Fl",93.7,null,null,null,null,null,null,93.7,null,null,null,1]
[null,null,"Spreadsheet",null,"Vendor No. 2","2018-11-02",1060,"MIFPUC-4","Marianna Fl",103.51,null,null,null,null,null,null,103.51,null,null,null,1]
[null,null,"Spreadsheet",null,"Vendor No. 2","2018-11-02",1009,"MIFPUC-4","Marianna Fl",48.71,null,null,null,null,null,null,48.71,null,null,null,1]
[null,null,"Spreadsheet",null,"Vendor No. 2","2018-11-03",1060,"MIFPUC-4","Marianna Fl",258.38,null,null,null,null,null,null,258.38,null,null,null,1]
[null,null,"Spreadsheet",null,"Vendor No. 2","2018-11-03",1060,"MIFPUC-4","Marianna Fl",126.61,null,null,null,null,null,null,126.61,null,null,null,1]
[null,null,"Spreadsheet",null,"Vendor No. 2","2018-11-03",1060,"MIFPUC-4","Marianna Fl",49.42,null,null,null,null,null,null,49.42,null,null,null,1]
[null,null,"Spreadsheet",null,"Vendor No. 2","2018-11-03",1009,"MIFPUC-4","Marianna Fl",44.74,null,null,null,null,null,null,44.74,null,null,null,1]
[null,null,"Spreadsheet",null,"Vendor No. 2","2018-11-03",1060,"MIFPUC-4","Malone FL",64.849999999999994,null,null,null,null,null,null,64.849999999999994,null,null,null,1]
[null,null,"Spreadsheet",null,"Vendor No. 2","2018-11-03",1060,"MIFPUC-4","Blountstowns FL",58,null,null,null,null,null,null,58,null,null,null,1]
[null,null,"Spreadsheet",null,"Vendor No. 2","2018-11-03",1060,"MIFPUC-4","Marianna Fl",110.63,null,null,null,null,null,null,110.63,null,null,null,1]
[null,null,"Spreadsheet",null,"Vendor No. 2","2018-11-03",1060,"MIFPUC-4","Marianna Fl",82.11,null,null,null,null,null,null,82.11,null,null,null,1]
[null,null,"Spreadsheet",null,"Vendor No. 2","2018-11-03",1060,"MIFPUC-4","Blountstowns FL",67.92,null,null,null,null,null,null,67.92,null,null,null,1]
[null,null,"Spreadsheet",null,"Vendor No. 2","2018-11-03",1009,"MIFPUC-4","Marianna Fl",50.7,null,null,null,null,null,null,50.7,null,null,null,1]
[null,null,"Spreadsheet",null,"Vendor No. 2","2018-11-03",1060,"MIFPUC-4","Marianna Fl",35.840000000000003,null,null,null,null,null,null,35.840000000000003,null,null,null,1]
[null,null,"Spreadsheet",null,"Vendor No. 2","2018-11-03",1060,"MIFPUC-4","Blountstowns FL",101.9,null,null,null,null,null,null,101.9,null,null,null,1]
[null,null,"Spreadsheet",null,"Vendor No. 2","2018-11-03",1060,"MIFPUC-4","Malone FL",101.84,null,null,null,null,null,null,101.84,null,null,null,1]
[null,null,"Spreadsheet",null,"Vendor No. 2","2018-11-03",1060,"MIFPUC-4","Madison Fl",84.89,null,null,null,null,null,null,84.89,null,null,null,1]
[null,null,"Spreadsheet",null,"Vendor No. 2","2018-11-03",1060,"MIFPUC-4","Chermont FL",91.54,null,null,null,null,null,null,91.54,null,null,null,1]
[null,null,"Spreadsheet",null,"Vendor No. 2","2018-11-03",1026,"MIFPUC-4","Marianna Fl",149.55000000000001,null,null,null,null,null,null,149.55000000000001,null,null,null,1]
[null,null,"Spreadsheet",null,"Vendor No. 2","2018-11-04",70.48,"MIFPUC-4","Pembroke FL",70.83,null,null,null,null,null,null,70.83,null,null,null,1]
[null,null,"Spreadsheet",null,"Vendor No. 2","2018-11-04",1060,"MIFPUC-4","Marianna Fl",92.81,null,null,null,null,null,null,92.81,null,null,null,1]
[null,null,"Spreadsheet",null,"Vendor No. 2","2018-11-04",1060,"MIFPUC-4","Marianna Fl",71.84,null,null,null,null,null,null,71.84,null,null,null,1]
[null,null,"Spreadsheet",null,"Vendor No. 2","2018-11-04",1060,"MIFPUC-4","Marianna Fl",56.3,null,null,null,null,null,null,56.3,null,null,null,1]
[null,null,"Spreadsheet",null,"Vendor No. 2","2018-11-04",1060,"MIFPUC-4","Marianna Fl",66.56,null,null,null,null,null,null,66.56,null,null,null,1]
[null,null,"Spreadsheet",null,"Vendor No. 2","2018-11-04",1060,"MIFPUC-4","Wildwood Fl",55.22,null,null,null,null,null,null,55.22,null,null,null,1]
[null,null,"Spreadsheet",null,"Vendor No. 2","2018-11-04",1060,"MIFPUC-4","Wildwood Fl",57.81,null,null,null,null,null,null,57.81,null,null,null,1]
[null,null,"Spreadsheet",null,"Vendor No. 2","2018-11-04",1060,"MIFPUC-4","Naples Fl",44.81,null,null,null,null,null,null,44.81,null,null,null,1]
[null,null,"Spreadsheet",null,"Vendor No. 2","2018-11-04",1060,"MIFPUC-4","Naples Fl",39.04,null,null,null,null,null,null,39.04,null,null,null,1]
[null,null,"Spreadsheet",null,"Vendor No. 2","2018-11-04",1060,"MIFPUC-4","Marianna Fl",52.91,null,null,null,null,null,null,52.91,null,null,null,1]
[null,null,"Spreadsheet",null,"Vendor No. 2","2018-11-04",1060,"MIFPUC-4","Marianna Fl",63.1,null,null,null,null,null,null,63.1,null,null,null,1]
[null,null,"Spreadsheet",null,"Vendor No. 2","2018-11-04",1060,"MIFPUC-4","Marianna Fl",54.26,null,null,null,null,null,null,{"$f":"+J334","v":54.26},null,null,null,1]
[null,null,"Spreadsheet",null,"Vendor No. 2","2018-11-04",1060,"MIFPUC-4","Malone FL",125.5,null,null,null,null,null,null,125.5,null,null,null,1]
[null,null,"Spreadsheet",null,"Vendor No. 2","2018-11-04",1060,"MIFPUC-4","Marianna Fl",73.73,null,null,null,null,null,null,73.73,null,null,null,1]
[null,null,"Spreadsheet",null,"Vendor No. 2","2018-11-04",1060,"MIFPUC-4","Blountstowns FL",111.28,null,null,null,null,null,null,111.28,null,null,null,1]
[null,null,"Spreadsheet",null,"Vendor No. 2","2018-11-04",1060,"MIFPUC-4","Lamont Fl",91.09,null,null,null,null,null,null,91.09,null,null,null,1]
[null,null,"Spreadsheet",null,"Vendor No. 2","2018-11-04",1060,"MIFPUC-4","Marianna Fl",37.950000000000003,null,null,null,null,null,null,37.950000000000003,null,null,null,1]
[null,null,"Spreadsheet",null,"Vendor No. 2","2018-11-04",1060,"MIFPUC-4","Wildwood Fl",114.33,null,null,null,null,null,null,114.33,null,null,null,1]
[null,null,"Spreadsheet",null,"Vendor No. 2","2018-11-04",1060,"MIFPUC-4","Naples Fl",100,null,null,null,null,null,null,{"$f":"+J341","v":100},null,null,null,1]
[null,null,"Spreadsheet",null,"Vendor No. 2","2018-11-04",1060,"MIFPUC-4","Marianna Fl",40.049999999999997,null,null,null,null,null,null,{"$f":"+J342","v":40.049999999999997},null,null,null,1]
[null,null,"Spreadsheet",null,"Vendor No. 2","2018-11-04",1060,"MIFPUC-4","Marianna Fl",39.92,null,null,null,null,null,null,39.92,null,null,null,1]
[null,null,"Spreadsheet",null,"Vendor No. 2","2018-11-04",1060,"MIFPUC-4","Marianna Fl",75.849999999999994,null,null,null,null,null,null,75.849999999999994,null,null,null,1]
[null,null,"Spreadsheet",null,"Vendor No. 2","2018-11-04",1060,"MIFPUC-4","Marianna Fl",121.31,null,null,null,null,null,null,121.31,null,null,null,1]
[null,null,"Spreadsheet",null,"Vendor No. 2","2018-11-04",1060,"MIFPUC-4","Lake City Fl",74.790000000000006,null,null,null,null,null,null,74.790000000000006,null,null,null,1]
[null,null,"Spreadsheet",null,"Vendor No. 2","2018-11-04",1060,"MIFPUC-4","Lake City Fl",80.95,null,null,null,null,null,null,80.95,null,null,null,1]
[null,null,"Spreadsheet",null,"Vendor No. 2","2018-11-04",1060,"MIFPUC-4","Fort Myers FL",118.65,null,null,null,null,null,null,118.65,null,null,null,1]
[null,null,"Spreadsheet",null,"Vendor No. 2","2018-11-04",1060,"MIFPUC-4","Malone FL",135.69,null,null,null,null,null,null,135.69,null,null,null,1]
[null,null,"Spreadsheet",null,"Vendor No. 2","2018-11-04",1060,"MIFPUC-4","Marianna Fl",22.82,null,null,null,null,null,null,22.82,null,null,null,1]
[null,null,"Spreadsheet",null,"Vendor No. 2","2018-11-04",1060,"MIFPUC-4","Marianna Fl",77.86,null,null,null,null,null,null,77.86,null,null,null,1]
[null,null,"Spreadsheet",null,"Vendor No. 2","2018-11-04",1060,"MIFPUC-4","Malone FL",55.75,null,null,null,null,null,null,55.75,null,null,null,1]
[null,null,"Spreadsheet",null,"Vendor No. 2","2018-11-04",1060,"MIFPUC-4","Okeechhobee Fl",88.98,null,null,null,null,null,null,88.98,null,null,null,1]
[null,null,"Spreadsheet",null,"Vendor No. 2","2018-11-04",1060,"MIFPUC-4","Blountstowns FL",81.36,null,null,null,null,null,null,81.36,null,null,null,1]
[null,null,"Spreadsheet",null,"Vendor No. 2","2018-11-04",1009,"MIFPUC-4","Ocala Fl",97.09,null,null,null,null,null,null,97.09,null,null,null,1]
[null,null,"Spreadsheet",null,"Vendor No. 2","2018-11-04",1009,"MIFPUC-4","Port Saint Fl",95.52,null,null,null,null,null,null,95.52,null,null,null,1]
[null,null,"Spreadsheet",null,"Vendor No. 2","2018-11-04",1060,"MIFPUC-4","Marianna Fl",48.65,null,null,null,null,null,null,48.65,null,null,null,1]
[null,null,"Spreadsheet",null,"Vendor No. 2","2018-11-04",6471,"MIFPUC-4","Blountstowns FL",50,null,null,null,null,null,null,50,null,null,null,1]
[null,null,"Spreadsheet",null,"Vendor No. 2","2018-11-04","Misc","MIFPUC-4",null,100.41,null,null,{"$f":"IF(AND(F359>='A - Contractor Summary'!$C$36,F359<='A - Contractor Summary'!$C$38),\"Yes\",IF(F359<'A - Contractor Summary'!$C$36,\"No\",IF(F359>'A - Contractor Summary'!$C$39,\"\",\"\")))","v":"No"},{"$f":"IF(OR(M359=\"Yes\",M359=\"No\")*AND(F359<'A - Contractor Summary'!$C$39),\"\",IF(AND(F359>'A - Contractor Summary'!$C$39,F359<'A - Contractor Summary'!$C$42),\"Yes\",IF(F359>'A - Contractor Summary'!$C$42,\"No\",\"Needs Review\")))","v":""},null,"No",100.41,{"$f":"IF(P359=\"ED Review\",#REF!,0)","v":0},null,null,1]
[null,null,null,null,null,null,null,null,null,{"$f":"SUM(J14:J359)","v":26688.729999999996},null,null,null,null,null,null,{"$f":"IFERROR(SUM(Q14:Q359),0)","v":26688.729999999996},{"$f":"IFERROR(SUM(R14:R359),0)","v":0},{"$f":"SUM(S14:S359)","v":0},{"$f":"SUM(T14:T359)","v":0},{"$f":"R360-S360-T360","v":0},"check (a)"]
[]
[]
[]
[]
[]
[null,"Tickmark Explanation:"]
[]
[null,"1 Receipts provided"]

{"sheet":"F - Meals","index":10,"n_rows":152,"n_cols":23,"rows_kept":152,"cut":false,"hidden":false,"merged":[[11,13,11,21],[3,1,6,12],[1,1,1,21],[11,1,11,12]]}
[]
[null,"Meal Charges"]
[]
[null,"Test Plan: (A) Obtain support of individual charges.  (B) Enter Yes/No if receipt is itemized.  (C) Enter Yes/No if proof of payment has been provided.  (D) Ensure charges fall between the dates the vendor was mobilized and the date they arrived.  (E) Ensure charges are prior to the date the vendor arrived home or was released to another utility.  (F) Ensure the location of charge was reasonable (G) Determine the amount(s) to be reviewed, allowed and/or disallowed.  (H) For charges which required further review, document review and include why it was determined to be allowed/disallowed via a tickmark. "]
[]
[]
[]
[]
[null,"a","Check figure should equal $0.  Cell will appear yellow if discrepancies are noted."]
[]
[null,null,"A",null,null,null,null,null,null,null,null,"B","C","D","E","F","G",null,null,"H"]
[null,"Support Reviewed",null,null,null,null,null,null,null,null,null,null,null,"Conclusions"]
[null,"#","Type of Support","Support Identifier","Company","Crew","Date","Person"," Restaurant Name","Location","$ Total","Itemized Receipt","Proof of Payment","Reasonable based on Mobilization date(s)","Reasonable based on Demobilization date(s)","Locations Reasonable","Conclusion","$ Allowable Charge","$ To Be Reviewed","Reviewed - Allowable Charge","Reviewed - Unallowable Charge","Tickmarks"]
[null,1,null,null,null,null,null,null,null,null,null,null,null,{"$f":"IF(AND(G14>='A - Contractor Summary'!$C$36,G14<='A - Contractor Summary'!$C$38),\"Yes\",IF(G14<'A - Contractor Summary'!$C$36,\"No\",IF(G14>'A - Contractor Summary'!$C$39,\"\",\"\")))","v":"No"},{"$f":"IF(OR(N14=\"Yes\",N14=\"No\")*AND(G14<'A - Contractor Summary'!$C$39),\"\",IF(AND(G14>'A - Contractor Summary'!$C$39,G14<'A - Contractor Summary'!$C$42),\"Yes\",IF(G14>'A - Contractor Summary'!$C$42,\"No\",\"Needs Review\")))","v":""},"Yes",{"$f":"IF(AND(P14=\"Yes\",L14=\"Yes\",M14=\"Yes\")*OR(O14=\"Yes\",N14=\"Yes\"),\"Yes\",IF(OR(L14=\"No\",N14=\"No\",O14=\"No\",P14=\"No\",M14=\"No\"),\"No\",\"Needs Review\"))","v":"No"},{"$f":"IF(Q14=\"Yes\",K14,0)","v":0},{"$f":"IF(Q14=\"Needs Review\",K14,0)","v":0}]
[null,2,null,null,null,null,null,null,null,null,null,null,null,{"$f":"IF(AND(G15>='A - Contractor Summary'!$C$36,G15<='A - Contractor Summary'!$C$38),\"Yes\",IF(G15<'A - Contractor Summary'!$C$36,\"No\",IF(G15>'A - Contractor Summary'!$C$39,\"\",\"\")))","v":"No"},{"$f":"IF(OR(N15=\"Yes\",N15=\"No\")*AND(G15<'A - Contractor Summary'!$C$39),\"\",IF(AND(G15>'A - Contractor Summary'!$C$39,G15<'A - Contractor Summary'!$C$42),\"Yes\",IF(G15>'A - Contractor Summary'!$C$42,\"No\",\"Needs Review\")))","v":""},"Yes","No",0,0]
[null,3,null,null,null,null,null,null,null,null,null,null,null,{"$f":"IF(AND(G16>='A - Contractor Summary'!$C$36,G16<='A - Contractor Summary'!$C$38),\"Yes\",IF(G16<'A - Contractor Summary'!$C$36,\"No\",IF(G16>'A - Contractor Summary'!$C$39,\"\",\"\")))","v":"No"},{"$f":"IF(OR(N16=\"Yes\",N16=\"No\")*AND(G16<'A - Contractor Summary'!$C$39),\"\",IF(AND(G16>'A - Contractor Summary'!$C$39,G16<'A - Contractor Summary'!$C$42),\"Yes\",IF(G16>'A - Contractor Summary'!$C$42,\"No\",\"Needs Review\")))","v":""},"Yes","No",0,0]
[null,4,null,null,null,null,null,null,null,null,null,null,null,{"$f":"IF(AND(G17>='A - Contractor Summary'!$C$36,G17<='A - Contractor Summary'!$C$38),\"Yes\",IF(G17<'A - Contractor Summary'!$C$36,\"No\",IF(G17>'A - Contractor Summary'!$C$39,\"\",\"\")))","v":"No"},{"$f":"IF(OR(N17=\"Yes\",N17=\"No\")*AND(G17<'A - Contractor Summary'!$C$39),\"\",IF(AND(G17>'A - Contractor Summary'!$C$39,G17<'A - Contractor Summary'!$C$42),\"Yes\",IF(G17>'A - Contractor Summary'!$C$42,\"No\",\"Needs Review\")))","v":""},"Yes","No",0,0]
[null,5,null,null,null,null,null,null,null,null,null,null,null,{"$f":"IF(AND(G18>='A - Contractor Summary'!$C$36,G18<='A - Contractor Summary'!$C$38),\"Yes\",IF(G18<'A - Contractor Summary'!$C$36,\"No\",IF(G18>'A - Contractor Summary'!$C$39,\"\",\"\")))","v":"No"},{"$f":"IF(OR(N18=\"Yes\",N18=\"No\")*AND(G18<'A - Contractor Summary'!$C$39),\"\",IF(AND(G18>'A - Contractor Summary'!$C$39,G18<'A - Contractor Summary'!$C$42),\"Yes\",IF(G18>'A - Contractor Summary'!$C$42,\"No\",\"Needs Review\")))","v":""},"No","No",0,0]
[null,6,null,null,null,null,null,null,null,null,null,null,null,{"$f":"IF(AND(G19>='A - Contractor Summary'!$C$36,G19<='A - Contractor Summary'!$C$38),\"Yes\",IF(G19<'A - Contractor Summary'!$C$36,\"No\",IF(G19>'A - Contractor Summary'!$C$39,\"\",\"\")))","v":"No"},{"$f":"IF(OR(N19=\"Yes\",N19=\"No\")*AND(G19<'A - Contractor Summary'!$C$39),\"\",IF(AND(G19>'A - Contractor Summary'!$C$39,G19<'A - Contractor Summary'!$C$42),\"Yes\",IF(G19>'A - Contractor Summary'!$C$42,\"No\",\"Needs Review\")))","v":""},"Yes","No",0,0]
[null,7,null,null,null,null,null,null,null,null,null,null,null,{"$f":"IF(AND(G20>='A - Contractor Summary'!$C$36,G20<='A - Contractor Summary'!$C$38),\"Yes\",IF(G20<'A - Contractor Summary'!$C$36,\"No\",IF(G20>'A - Contractor Summary'!$C$39,\"\",\"\")))","v":"No"},{"$f":"IF(OR(N20=\"Yes\",N20=\"No\")*AND(G20<'A - Contractor Summary'!$C$39),\"\",IF(AND(G20>'A - Contractor Summary'!$C$39,G20<'A - Contractor Summary'!$C$42),\"Yes\",IF(G20>'A - Contractor Summary'!$C$42,\"No\",\"Needs Review\")))","v":""},"Yes","No",0,0]
[null,8,null,null,null,null,null,null,null,null,null,null,null,{"$f":"IF(AND(G21>='A - Contractor Summary'!$C$36,G21<='A - Contractor Summary'!$C$38),\"Yes\",IF(G21<'A - Contractor Summary'!$C$36,\"No\",IF(G21>'A - Contractor Summary'!$C$39,\"\",\"\")))","v":"No"},{"$f":"IF(OR(N21=\"Yes\",N21=\"No\")*AND(G21<'A - Contractor Summary'!$C$39),\"\",IF(AND(G21>'A - Contractor Summary'!$C$39,G21<'A - Contractor Summary'!$C$42),\"Yes\",IF(G21>'A - Contractor Summary'!$C$42,\"No\",\"Needs Review\")))","v":""},"Yes","No",0,0]
[null,9,null,null,null,null,null,null,null,null,null,null,null,{"$f":"IF(AND(G22>='A - Contractor Summary'!$C$36,G22<='A - Contractor Summary'!$C$38),\"Yes\",IF(G22<'A - Contractor Summary'!$C$36,\"No\",IF(G22>'A - Contractor Summary'!$C$39,\"\",\"\")))","v":"No"},{"$f":"IF(OR(N22=\"Yes\",N22=\"No\")*AND(G22<'A - Contractor Summary'!$C$39),\"\",IF(AND(G22>'A - Contractor Summary'!$C$39,G22<'A - Contractor Summary'!$C$42),\"Yes\",IF(G22>'A - Contractor Summary'!$C$42,\"No\",\"Needs Review\")))","v":""},"Yes","No",0,0]
[null,10,null,null,null,null,null,null,null,null,null,null,null,{"$f":"IF(AND(G23>='A - Contractor Summary'!$C$36,G23<='A - Contractor Summary'!$C$38),\"Yes\",IF(G23<'A - Contractor Summary'!$C$36,\"No\",IF(G23>'A - Contractor Summary'!$C$39,\"\",\"\")))","v":"No"},{"$f":"IF(OR(N23=\"Yes\",N23=\"No\")*AND(G23<'A - Contractor Summary'!$C$39),\"\",IF(AND(G23>'A - Contractor Summary'!$C$39,G23<'A - Contractor Summary'!$C$42),\"Yes\",IF(G23>'A - Contractor Summary'!$C$42,\"No\",\"Needs Review\")))","v":""},"Yes","No",0,0]
[null,11,null,null,null,null,null,null,null,null,null,null,null,{"$f":"IF(AND(G24>='A - Contractor Summary'!$C$36,G24<='A - Contractor Summary'!$C$38),\"Yes\",IF(G24<'A - Contractor Summary'!$C$36,\"No\",IF(G24>'A - Contractor Summary'!$C$39,\"\",\"\")))","v":"No"},{"$f":"IF(OR(N24=\"Yes\",N24=\"No\")*AND(G24<'A - Contractor Summary'!$C$39),\"\",IF(AND(G24>'A - Contractor Summary'!$C$39,G24<'A - Contractor Summary'!$C$42),\"Yes\",IF(G24>'A - Contractor Summary'!$C$42,\"No\",\"Needs Review\")))","v":""},"Yes","No",0,0]
[null,12,null,null,null,null,null,null,null,null,null,null,null,{"$f":"IF(AND(G25>='A - Contractor Summary'!$C$36,G25<='A - Contractor Summary'!$C$38),\"Yes\",IF(G25<'A - Contractor Summary'!$C$36,\"No\",IF(G25>'A - Contractor Summary'!$C$39,\"\",\"\")))","v":"No"},{"$f":"IF(OR(N25=\"Yes\",N25=\"No\")*AND(G25<'A - Contractor Summary'!$C$39),\"\",IF(AND(G25>'A - Contractor Summary'!$C$39,G25<'A - Contractor Summary'!$C$42),\"Yes\",IF(G25>'A - Contractor Summary'!$C$42,\"No\",\"Needs Review\")))","v":""},"Yes","No",0,0]
[null,13,null,null,null,null,null,null,null,null,null,null,null,{"$f":"IF(AND(G26>='A - Contractor Summary'!$C$36,G26<='A - Contractor Summary'!$C$38),\"Yes\",IF(G26<'A - Contractor Summary'!$C$36,\"No\",IF(G26>'A - Contractor Summary'!$C$39,\"\",\"\")))","v":"No"},{"$f":"IF(OR(N26=\"Yes\",N26=\"No\")*AND(G26<'A - Contractor Summary'!$C$39),\"\",IF(AND(G26>'A - Contractor Summary'!$C$39,G26<'A - Contractor Summary'!$C$42),\"Yes\",IF(G26>'A - Contractor Summary'!$C$42,\"No\",\"Needs Review\")))","v":""},"Yes","No",0,0]
[null,14,null,null,null,null,null,null,null,null,null,null,null,{"$f":"IF(AND(G27>='A - Contractor Summary'!$C$36,G27<='A - Contractor Summary'!$C$38),\"Yes\",IF(G27<'A - Contractor Summary'!$C$36,\"No\",IF(G27>'A - Contractor Summary'!$C$39,\"\",\"\")))","v":"No"},{"$f":"IF(OR(N27=\"Yes\",N27=\"No\")*AND(G27<'A - Contractor Summary'!$C$39),\"\",IF(AND(G27>'A - Contractor Summary'!$C$39,G27<'A - Contractor Summary'!$C$42),\"Yes\",IF(G27>'A - Contractor Summary'!$C$42,\"No\",\"Needs Review\")))","v":""},"Yes","No",0,0]
[null,15,null,null,null,null,null,null,null,null,null,null,null,{"$f":"IF(AND(G28>='A - Contractor Summary'!$C$36,G28<='A - Contractor Summary'!$C$38),\"Yes\",IF(G28<'A - Contractor Summary'!$C$36,\"No\",IF(G28>'A - Contractor Summary'!$C$39,\"\",\"\")))","v":"No"},{"$f":"IF(OR(N28=\"Yes\",N28=\"No\")*AND(G28<'A - Contractor Summary'!$C$39),\"\",IF(AND(G28>'A - Contractor Summary'!$C$39,G28<'A - Contractor Summary'!$C$42),\"Yes\",IF(G28>'A - Contractor Summary'!$C$42,\"No\",\"Needs Review\")))","v":""},"Yes","No",0,0]
[null,16,null,null,null,null,null,null,null,null,null,null,null,{"$f":"IF(AND(G29>='A - Contractor Summary'!$C$36,G29<='A - Contractor Summary'!$C$38),\"Yes\",IF(G29<'A - Contractor Summary'!$C$36,\"No\",IF(G29>'A - Contractor Summary'!$C$39,\"\",\"\")))","v":"No"},{"$f":"IF(OR(N29=\"Yes\",N29=\"No\")*AND(G29<'A - Contractor Summary'!$C$39),\"\",IF(AND(G29>'A - Contractor Summary'!$C$39,G29<'A - Contractor Summary'!$C$42),\"Yes\",IF(G29>'A - Contractor Summary'!$C$42,\"No\",\"Needs Review\")))","v":""},"No","No",0,0]
[null,17,null,null,null,null,null,null,null,null,null,null,null,{"$f":"IF(AND(G30>='A - Contractor Summary'!$C$36,G30<='A - Contractor Summary'!$C$38),\"Yes\",IF(G30<'A - Contractor Summary'!$C$36,\"No\",IF(G30>'A - Contractor Summary'!$C$39,\"\",\"\")))","v":"No"},{"$f":"IF(OR(N30=\"Yes\",N30=\"No\")*AND(G30<'A - Contractor Summary'!$C$39),\"\",IF(AND(G30>'A - Contractor Summary'!$C$39,G30<'A - Contractor Summary'!$C$42),\"Yes\",IF(G30>'A - Contractor Summary'!$C$42,\"No\",\"Needs Review\")))","v":""},"Yes","No",0,0]
[null,18,null,null,null,null,null,null,null,null,null,null,null,{"$f":"IF(AND(G31>='A - Contractor Summary'!$C$36,G31<='A - Contractor Summary'!$C$38),\"Yes\",IF(G31<'A - Contractor Summary'!$C$36,\"No\",IF(G31>'A - Contractor Summary'!$C$39,\"\",\"\")))","v":"No"},{"$f":"IF(OR(N31=\"Yes\",N31=\"No\")*AND(G31<'A - Contractor Summary'!$C$39),\"\",IF(AND(G31>'A - Contractor Summary'!$C$39,G31<'A - Contractor Summary'!$C$42),\"Yes\",IF(G31>'A - Contractor Summary'!$C$42,\"No\",\"Needs Review\")))","v":""},"Yes","No",0,0]
[null,19,null,null,null,null,null,null,null,null,null,null,null,{"$f":"IF(AND(G32>='A - Contractor Summary'!$C$36,G32<='A - Contractor Summary'!$C$38),\"Yes\",IF(G32<'A - Contractor Summary'!$C$36,\"No\",IF(G32>'A - Contractor Summary'!$C$39,\"\",\"\")))","v":"No"},{"$f":"IF(OR(N32=\"Yes\",N32=\"No\")*AND(G32<'A - Contractor Summary'!$C$39),\"\",IF(AND(G32>'A - Contractor Summary'!$C$39,G32<'A - Contractor Summary'!$C$42),\"Yes\",IF(G32>'A - Contractor Summary'!$C$42,\"No\",\"Needs Review\")))","v":""},"Yes","No",0,0]
[null,20,null,null,null,null,null,null,null,null,null,null,null,{"$f":"IF(AND(G33>='A - Contractor Summary'!$C$36,G33<='A - Contractor Summary'!$C$38),\"Yes\",IF(G33<'A - Contractor Summary'!$C$36,\"No\",IF(G33>'A - Contractor Summary'!$C$39,\"\",\"\")))","v":"No"},{"$f":"IF(OR(N33=\"Yes\",N33=\"No\")*AND(G33<'A - Contractor Summary'!$C$39),\"\",IF(AND(G33>'A - Contractor Summary'!$C$39,G33<'A - Contractor Summary'!$C$42),\"Yes\",IF(G33>'A - Contractor Summary'!$C$42,\"No\",\"Needs Review\")))","v":""},"Yes","No",0,0]
[null,21,null,null,null,null,null,null,null,null,null,null,null,{"$f":"IF(AND(G34>='A - Contractor Summary'!$C$36,G34<='A - Contractor Summary'!$C$38),\"Yes\",IF(G34<'A - Contractor Summary'!$C$36,\"No\",IF(G34>'A - Contractor Summary'!$C$39,\"\",\"\")))","v":"No"},{"$f":"IF(OR(N34=\"Yes\",N34=\"No\")*AND(G34<'A - Contractor Summary'!$C$39),\"\",IF(AND(G34>'A - Contractor Summary'!$C$39,G34<'A - Contractor Summary'!$C$42),\"Yes\",IF(G34>'A - Contractor Summary'!$C$42,\"No\",\"Needs Review\")))","v":""},"Yes","No",0,0]
[null,22,null,null,null,null,null,null,null,null,null,null,null,{"$f":"IF(AND(G35>='A - Contractor Summary'!$C$36,G35<='A - Contractor Summary'!$C$38),\"Yes\",IF(G35<'A - Contractor Summary'!$C$36,\"No\",IF(G35>'A - Contractor Summary'!$C$39,\"\",\"\")))","v":"No"},{"$f":"IF(OR(N35=\"Yes\",N35=\"No\")*AND(G35<'A - Contractor Summary'!$C$39),\"\",IF(AND(G35>'A - Contractor Summary'!$C$39,G35<'A - Contractor Summary'!$C$42),\"Yes\",IF(G35>'A - Contractor Summary'!$C$42,\"No\",\"Needs Review\")))","v":""},"Yes","No",0,0]
[null,23,null,null,null,null,null,null,null,null,null,null,null,{"$f":"IF(AND(G36>='A - Contractor Summary'!$C$36,G36<='A - Contractor Summary'!$C$38),\"Yes\",IF(G36<'A - Contractor Summary'!$C$36,\"No\",IF(G36>'A - Contractor Summary'!$C$39,\"\",\"\")))","v":"No"},{"$f":"IF(OR(N36=\"Yes\",N36=\"No\")*AND(G36<'A - Contractor Summary'!$C$39),\"\",IF(AND(G36>'A - Contractor Summary'!$C$39,G36<'A - Contractor Summary'!$C$42),\"Yes\",IF(G36>'A - Contractor Summary'!$C$42,\"No\",\"Needs Review\")))","v":""},"Yes","No",0,0]
[null,24,null,null,null,null,null,null,null,null,null,null,null,{"$f":"IF(AND(G37>='A - Contractor Summary'!$C$36,G37<='A - Contractor Summary'!$C$38),\"Yes\",IF(G37<'A - Contractor Summary'!$C$36,\"No\",IF(G37>'A - Contractor Summary'!$C$39,\"\",\"\")))","v":"No"},{"$f":"IF(OR(N37=\"Yes\",N37=\"No\")*AND(G37<'A - Contractor Summary'!$C$39),\"\",IF(AND(G37>'A - Contractor Summary'!$C$39,G37<'A - Contractor Summary'!$C$42),\"Yes\",IF(G37>'A - Contractor Summary'!$C$42,\"No\",\"Needs Review\")))","v":""},"Yes","No",0,0]
[null,25,null,null,null,null,null,null,null,null,null,null,null,{"$f":"IF(AND(G38>='A - Contractor Summary'!$C$36,G38<='A - Contractor Summary'!$C$38),\"Yes\",IF(G38<'A - Contractor Summary'!$C$36,\"No\",IF(G38>'A - Contractor Summary'!$C$39,\"\",\"\")))","v":"No"},{"$f":"IF(OR(N38=\"Yes\",N38=\"No\")*AND(G38<'A - Contractor Summary'!$C$39),\"\",IF(AND(G38>'A - Contractor Summary'!$C$39,G38<'A - Contractor Summary'!$C$42),\"Yes\",IF(G38>'A - Contractor Summary'!$C$42,\"No\",\"Needs Review\")))","v":""},"Yes","No",0,0]
[null,26,null,null,null,null,null,null,null,null,null,null,null,{"$f":"IF(AND(G39>='A - Contractor Summary'!$C$36,G39<='A - Contractor Summary'!$C$38),\"Yes\",IF(G39<'A - Contractor Summary'!$C$36,\"No\",IF(G39>'A - Contractor Summary'!$C$39,\"\",\"\")))","v":"No"},{"$f":"IF(OR(N39=\"Yes\",N39=\"No\")*AND(G39<'A - Contractor Summary'!$C$39),\"\",IF(AND(G39>'A - Contractor Summary'!$C$39,G39<'A - Contractor Summary'!$C$42),\"Yes\",IF(G39>'A - Contractor Summary'!$C$42,\"No\",\"Needs Review\")))","v":""},"Yes","No",0,0]
[null,27,null,null,null,null,null,null,null,null,null,null,null,{"$f":"IF(AND(G40>='A - Contractor Summary'!$C$36,G40<='A - Contractor Summary'!$C$38),\"Yes\",IF(G40<'A - Contractor Summary'!$C$36,\"No\",IF(G40>'A - Contractor Summary'!$C$39,\"\",\"\")))","v":"No"},{"$f":"IF(OR(N40=\"Yes\",N40=\"No\")*AND(G40<'A - Contractor Summary'!$C$39),\"\",IF(AND(G40>'A - Contractor Summary'!$C$39,G40<'A - Contractor Summary'!$C$42),\"Yes\",IF(G40>'A - Contractor Summary'!$C$42,\"No\",\"Needs Review\")))","v":""},"Yes","No",0,0]
[null,28,null,null,null,null,null,null,null,null,null,null,null,{"$f":"IF(AND(G41>='A - Contractor Summary'!$C$36,G41<='A - Contractor Summary'!$C$38),\"Yes\",IF(G41<'A - Contractor Summary'!$C$36,\"No\",IF(G41>'A - Contractor Summary'!$C$39,\"\",\"\")))","v":"No"},{"$f":"IF(OR(N41=\"Yes\",N41=\"No\")*AND(G41<'A - Contractor Summary'!$C$39),\"\",IF(AND(G41>'A - Contractor Summary'!$C$39,G41<'A - Contractor Summary'!$C$42),\"Yes\",IF(G41>'A - Contractor Summary'!$C$42,\"No\",\"Needs Review\")))","v":""},"Yes","No",0,0]
[null,29,null,null,null,null,null,null,null,null,null,null,null,{"$f":"IF(AND(G42>='A - Contractor Summary'!$C$36,G42<='A - Contractor Summary'!$C$38),\"Yes\",IF(G42<'A - Contractor Summary'!$C$36,\"No\",IF(G42>'A - Contractor Summary'!$C$39,\"\",\"\")))","v":"No"},{"$f":"IF(OR(N42=\"Yes\",N42=\"No\")*AND(G42<'A - Contractor Summary'!$C$39),\"\",IF(AND(G42>'A - Contractor Summary'!$C$39,G42<'A - Contractor Summary'!$C$42),\"Yes\",IF(G42>'A - Contractor Summary'!$C$42,\"No\",\"Needs Review\")))","v":""},"Yes","No",0,0]
[null,30,null,null,null,null,null,null,null,null,null,null,null,{"$f":"IF(AND(G43>='A - Contractor Summary'!$C$36,G43<='A - Contractor Summary'!$C$38),\"Yes\",IF(G43<'A - Contractor Summary'!$C$36,\"No\",IF(G43>'A - Contractor Summary'!$C$39,\"\",\"\")))","v":"No"},{"$f":"IF(OR(N43=\"Yes\",N43=\"No\")*AND(G43<'A - Contractor Summary'!$C$39),\"\",IF(AND(G43>'A - Contractor Summary'!$C$39,G43<'A - Contractor Summary'!$C$42),\"Yes\",IF(G43>'A - Contractor Summary'!$C$42,\"No\",\"Needs Review\")))","v":""},"Yes","No",0,0]
[null,31,null,null,null,null,null,null,null,null,null,null,null,{"$f":"IF(AND(G44>='A - Contractor Summary'!$C$36,G44<='A - Contractor Summary'!$C$38),\"Yes\",IF(G44<'A - Contractor Summary'!$C$36,\"No\",IF(G44>'A - Contractor Summary'!$C$39,\"\",\"\")))","v":"No"},{"$f":"IF(OR(N44=\"Yes\",N44=\"No\")*AND(G44<'A - Contractor Summary'!$C$39),\"\",IF(AND(G44>'A - Contractor Summary'!$C$39,G44<'A - Contractor Summary'!$C$42),\"Yes\",IF(G44>'A - Contractor Summary'!$C$42,\"No\",\"Needs Review\")))","v":""},"Yes","No",0,0]
[null,32,null,null,null,null,null,null,null,null,null,null,null,{"$f":"IF(AND(G45>='A - Contractor Summary'!$C$36,G45<='A - Contractor Summary'!$C$38),\"Yes\",IF(G45<'A - Contractor Summary'!$C$36,\"No\",IF(G45>'A - Contractor Summary'!$C$39,\"\",\"\")))","v":"No"},{"$f":"IF(OR(N45=\"Yes\",N45=\"No\")*AND(G45<'A - Contractor Summary'!$C$39),\"\",IF(AND(G45>'A - Contractor Summary'!$C$39,G45<'A - Contractor Summary'!$C$42),\"Yes\",IF(G45>'A - Contractor Summary'!$C$42,\"No\",\"Needs Review\")))","v":""},"Yes","No",0,0]
[null,33,null,null,null,null,null,null,null,null,null,null,null,{"$f":"IF(AND(G46>='A - Contractor Summary'!$C$36,G46<='A - Contractor Summary'!$C$38),\"Yes\",IF(G46<'A - Contractor Summary'!$C$36,\"No\",IF(G46>'A - Contractor Summary'!$C$39,\"\",\"\")))","v":"No"},{"$f":"IF(OR(N46=\"Yes\",N46=\"No\")*AND(G46<'A - Contractor Summary'!$C$39),\"\",IF(AND(G46>'A - Contractor Summary'!$C$39,G46<'A - Contractor Summary'!$C$42),\"Yes\",IF(G46>'A - Contractor Summary'!$C$42,\"No\",\"Needs Review\")))","v":""},"Yes",{"$f":"IF(AND(P46=\"Yes\",L46=\"Yes\",M46=\"Yes\")*OR(O46=\"Yes\",N46=\"Yes\"),\"Yes\",IF(OR(L46=\"No\",N46=\"No\",O46=\"No\",P46=\"No\",M46=\"No\"),\"No\",\"Needs Review\"))","v":"No"},{"$f":"IF(Q46=\"Yes\",K46,0)","v":0},{"$f":"IF(Q46=\"Needs Review\",K46,0)","v":0}]
[null,34,null,null,null,null,null,null,null,null,null,null,null,{"$f":"IF(AND(G47>='A - Contractor Summary'!$C$36,G47<='A - Contractor Summary'!$C$38),\"Yes\",IF(G47<'A - Contractor Summary'!$C$36,\"No\",IF(G47>'A - Contractor Summary'!$C$39,\"\",\"\")))","v":"No"},{"$f":"IF(OR(N47=\"Yes\",N47=\"No\")*AND(G47<'A - Contractor Summary'!$C$39),\"\",IF(AND(G47>'A - Contractor Summary'!$C$39,G47<'A - Contractor Summary'!$C$42),\"Yes\",IF(G47>'A - Contractor Summary'!$C$42,\"No\",\"Needs Review\")))","v":""},"Yes","No",0,0]
[null,35,null,null,null,null,null,null,null,null,null,null,null,{"$f":"IF(AND(G48>='A - Contractor Summary'!$C$36,G48<='A - Contractor Summary'!$C$38),\"Yes\",IF(G48<'A - Contractor Summary'!$C$36,\"No\",IF(G48>'A - Contractor Summary'!$C$39,\"\",\"\")))","v":"No"},{"$f":"IF(OR(N48=\"Yes\",N48=\"No\")*AND(G48<'A - Contractor Summary'!$C$39),\"\",IF(AND(G48>'A - Contractor Summary'!$C$39,G48<'A - Contractor Summary'!$C$42),\"Yes\",IF(G48>'A - Contractor Summary'!$C$42,\"No\",\"Needs Review\")))","v":""},"Yes","No",0,0]
[null,36,null,null,null,null,null,null,null,null,null,null,null,{"$f":"IF(AND(G49>='A - Contractor Summary'!$C$36,G49<='A - Contractor Summary'!$C$38),\"Yes\",IF(G49<'A - Contractor Summary'!$C$36,\"No\",IF(G49>'A - Contractor Summary'!$C$39,\"\",\"\")))","v":"No"},{"$f":"IF(OR(N49=\"Yes\",N49=\"No\")*AND(G49<'A - Contractor Summary'!$C$39),\"\",IF(AND(G49>'A - Contractor Summary'!$C$39,G49<'A - Contractor Summary'!$C$42),\"Yes\",IF(G49>'A - Contractor Summary'!$C$42,\"No\",\"Needs Review\")))","v":""},"Yes","No",0,0]
[null,37,null,null,null,null,null,null,null,null,null,null,null,{"$f":"IF(AND(G50>='A - Contractor Summary'!$C$36,G50<='A - Contractor Summary'!$C$38),\"Yes\",IF(G50<'A - Contractor Summary'!$C$36,\"No\",IF(G50>'A - Contractor Summary'!$C$39,\"\",\"\")))","v":"No"},{"$f":"IF(OR(N50=\"Yes\",N50=\"No\")*AND(G50<'A - Contractor Summary'!$C$39),\"\",IF(AND(G50>'A - Contractor Summary'!$C$39,G50<'A - Contractor Summary'!$C$42),\"Yes\",IF(G50>'A - Contractor Summary'!$C$42,\"No\",\"Needs Review\")))","v":""},"Yes","No",0,0]
[null,38,null,null,null,null,null,null,null,null,null,null,null,{"$f":"IF(AND(G51>='A - Contractor Summary'!$C$36,G51<='A - Contractor Summary'!$C$38),\"Yes\",IF(G51<'A - Contractor Summary'!$C$36,\"No\",IF(G51>'A - Contractor Summary'!$C$39,\"\",\"\")))","v":"No"},{"$f":"IF(OR(N51=\"Yes\",N51=\"No\")*AND(G51<'A - Contractor Summary'!$C$39),\"\",IF(AND(G51>'A - Contractor Summary'!$C$39,G51<'A - Contractor Summary'!$C$42),\"Yes\",IF(G51>'A - Contractor Summary'!$C$42,\"No\",\"Needs Review\")))","v":""},"Yes","No",0,0]
[null,39,null,null,null,null,null,null,null,null,null,null,null,{"$f":"IF(AND(G52>='A - Contractor Summary'!$C$36,G52<='A - Contractor Summary'!$C$38),\"Yes\",IF(G52<'A - Contractor Summary'!$C$36,\"No\",IF(G52>'A - Contractor Summary'!$C$39,\"\",\"\")))","v":"No"},{"$f":"IF(OR(N52=\"Yes\",N52=\"No\")*AND(G52<'A - Contractor Summary'!$C$39),\"\",IF(AND(G52>'A - Contractor Summary'!$C$39,G52<'A - Contractor Summary'!$C$42),\"Yes\",IF(G52>'A - Contractor Summary'!$C$42,\"No\",\"Needs Review\")))","v":""},"Yes","No",0,0]
[null,40,null,null,null,null,null,null,null,null,null,null,null,{"$f":"IF(AND(G53>='A - Contractor Summary'!$C$36,G53<='A - Contractor Summary'!$C$38),\"Yes\",IF(G53<'A - Contractor Summary'!$C$36,\"No\",IF(G53>'A - Contractor Summary'!$C$39,\"\",\"\")))","v":"No"},{"$f":"IF(OR(N53=\"Yes\",N53=\"No\")*AND(G53<'A - Contractor Summary'!$C$39),\"\",IF(AND(G53>'A - Contractor Summary'!$C$39,G53<'A - Contractor Summary'!$C$42),\"Yes\",IF(G53>'A - Contractor Summary'!$C$42,\"No\",\"Needs Review\")))","v":""},"Yes","No",0,0]
[null,41,null,null,null,null,null,null,null,null,null,null,null,{"$f":"IF(AND(G54>='A - Contractor Summary'!$C$36,G54<='A - Contractor Summary'!$C$38),\"Yes\",IF(G54<'A - Contractor Summary'!$C$36,\"No\",IF(G54>'A - Contractor Summary'!$C$39,\"\",\"\")))","v":"No"},{"$f":"IF(OR(N54=\"Yes\",N54=\"No\")*AND(G54<'A - Contractor Summary'!$C$39),\"\",IF(AND(G54>'A - Contractor Summary'!$C$39,G54<'A - Contractor Summary'!$C$42),\"Yes\",IF(G54>'A - Contractor Summary'!$C$42,\"No\",\"Needs Review\")))","v":""},"Yes","No",0,0]
[null,42,null,null,null,null,null,null,null,null,null,null,null,{"$f":"IF(AND(G55>='A - Contractor Summary'!$C$36,G55<='A - Contractor Summary'!$C$38),\"Yes\",IF(G55<'A - Contractor Summary'!$C$36,\"No\",IF(G55>'A - Contractor Summary'!$C$39,\"\",\"\")))","v":"No"},{"$f":"IF(OR(N55=\"Yes\",N55=\"No\")*AND(G55<'A - Contractor Summary'!$C$39),\"\",IF(AND(G55>'A - Contractor Summary'!$C$39,G55<'A - Contractor Summary'!$C$42),\"Yes\",IF(G55>'A - Contractor Summary'!$C$42,\"No\",\"Needs Review\")))","v":""},"No","No",0,0]
[null,43,null,null,null,null,null,null,null,null,null,null,null,{"$f":"IF(AND(G56>='A - Contractor Summary'!$C$36,G56<='A - Contractor Summary'!$C$38),\"Yes\",IF(G56<'A - Contractor Summary'!$C$36,\"No\",IF(G56>'A - Contractor Summary'!$C$39,\"\",\"\")))","v":"No"},{"$f":"IF(OR(N56=\"Yes\",N56=\"No\")*AND(G56<'A - Contractor Summary'!$C$39),\"\",IF(AND(G56>'A - Contractor Summary'!$C$39,G56<'A - Contractor Summary'!$C$42),\"Yes\",IF(G56>'A - Contractor Summary'!$C$42,\"No\",\"Needs Review\")))","v":""},"Yes","No",0,0]
[null,44,null,null,null,null,null,null,null,null,null,null,null,{"$f":"IF(AND(G57>='A - Contractor Summary'!$C$36,G57<='A - Contractor Summary'!$C$38),\"Yes\",IF(G57<'A - Contractor Summary'!$C$36,\"No\",IF(G57>'A - Contractor Summary'!$C$39,\"\",\"\")))","v":"No"},{"$f":"IF(OR(N57=\"Yes\",N57=\"No\")*AND(G57<'A - Contractor Summary'!$C$39),\"\",IF(AND(G57>'A - Contractor Summary'!$C$39,G57<'A - Contractor Summary'!$C$42),\"Yes\",IF(G57>'A - Contractor Summary'!$C$42,\"No\",\"Needs Review\")))","v":""},"Yes","No",0,0]
[null,46,null,null,null,null,null,null,null,null,null,null,null,{"$f":"IF(AND(G58>='A - Contractor Summary'!$C$36,G58<='A - Contractor Summary'!$C$38),\"Yes\",IF(G58<'A - Contractor Summary'!$C$36,\"No\",IF(G58>'A - Contractor Summary'!$C$39,\"\",\"\")))","v":"No"},{"$f":"IF(OR(N58=\"Yes\",N58=\"No\")*AND(G58<'A - Contractor Summary'!$C$39),\"\",IF(AND(G58>'A - Contractor Summary'!$C$39,G58<'A - Contractor Summary'!$C$42),\"Yes\",IF(G58>'A - Contractor Summary'!$C$42,\"No\",\"Needs Review\")))","v":""},"Yes","No",0,0]
[null,47,null,null,null,null,null,null,null,null,null,null,null,{"$f":"IF(AND(G59>='A - Contractor Summary'!$C$36,G59<='A - Contractor Summary'!$C$38),\"Yes\",IF(G59<'A - Contractor Summary'!$C$36,\"No\",IF(G59>'A - Contractor Summary'!$C$39,\"\",\"\")))","v":"No"},{"$f":"IF(OR(N59=\"Yes\",N59=\"No\")*AND(G59<'A - Contractor Summary'!$C$39),\"\",IF(AND(G59>'A - Contractor Summary'!$C$39,G59<'A - Contractor Summary'!$C$42),\"Yes\",IF(G59>'A - Contractor Summary'!$C$42,\"No\",\"Needs Review\")))","v":""},"Yes","No",0,0]
[null,48,null,null,null,null,null,null,null,null,null,null,null,{"$f":"IF(AND(G60>='A - Contractor Summary'!$C$36,G60<='A - Contractor Summary'!$C$38),\"Yes\",IF(G60<'A - Contractor Summary'!$C$36,\"No\",IF(G60>'A - Contractor Summary'!$C$39,\"\",\"\")))","v":"No"},{"$f":"IF(OR(N60=\"Yes\",N60=\"No\")*AND(G60<'A - Contractor Summary'!$C$39),\"\",IF(AND(G60>'A - Contractor Summary'!$C$39,G60<'A - Contractor Summary'!$C$42),\"Yes\",IF(G60>'A - Contractor Summary'!$C$42,\"No\",\"Needs Review\")))","v":""},"Yes","No",0,0]
[null,49,null,null,null,null,null,null,null,null,null,null,null,{"$f":"IF(AND(G61>='A - Contractor Summary'!$C$36,G61<='A - Contractor Summary'!$C$38),\"Yes\",IF(G61<'A - Contractor Summary'!$C$36,\"No\",IF(G61>'A - Contractor Summary'!$C$39,\"\",\"\")))","v":"No"},{"$f":"IF(OR(N61=\"Yes\",N61=\"No\")*AND(G61<'A - Contractor Summary'!$C$39),\"\",IF(AND(G61>'A - Contractor Summary'!$C$39,G61<'A - Contractor Summary'!$C$42),\"Yes\",IF(G61>'A - Contractor Summary'!$C$42,\"No\",\"Needs Review\")))","v":""},"Yes","No",0,0]
[null,50,null,null,null,null,null,null,null,null,null,null,null,{"$f":"IF(AND(G62>='A - Contractor Summary'!$C$36,G62<='A - Contractor Summary'!$C$38),\"Yes\",IF(G62<'A - Contractor Summary'!$C$36,\"No\",IF(G62>'A - Contractor Summary'!$C$39,\"\",\"\")))","v":"No"},{"$f":"IF(OR(N62=\"Yes\",N62=\"No\")*AND(G62<'A - Contractor Summary'!$C$39),\"\",IF(AND(G62>'A - Contractor Summary'!$C$39,G62<'A - Contractor Summary'!$C$42),\"Yes\",IF(G62>'A - Contractor Summary'!$C$42,\"No\",\"Needs Review\")))","v":""},"Yes","No",0,0]
[null,51,null,null,null,null,null,null,null,null,null,null,null,{"$f":"IF(AND(G63>='A - Contractor Summary'!$C$36,G63<='A - Contractor Summary'!$C$38),\"Yes\",IF(G63<'A - Contractor Summary'!$C$36,\"No\",IF(G63>'A - Contractor Summary'!$C$39,\"\",\"\")))","v":"No"},{"$f":"IF(OR(N63=\"Yes\",N63=\"No\")*AND(G63<'A - Contractor Summary'!$C$39),\"\",IF(AND(G63>'A - Contractor Summary'!$C$39,G63<'A - Contractor Summary'!$C$42),\"Yes\",IF(G63>'A - Contractor Summary'!$C$42,\"No\",\"Needs Review\")))","v":""},"Yes","No",0,0]
[null,52,null,null,null,null,null,null,null,null,null,null,null,{"$f":"IF(AND(G64>='A - Contractor Summary'!$C$36,G64<='A - Contractor Summary'!$C$38),\"Yes\",IF(G64<'A - Contractor Summary'!$C$36,\"No\",IF(G64>'A - Contractor Summary'!$C$39,\"\",\"\")))","v":"No"},{"$f":"IF(OR(N64=\"Yes\",N64=\"No\")*AND(G64<'A - Contractor Summary'!$C$39),\"\",IF(AND(G64>'A - Contractor Summary'!$C$39,G64<'A - Contractor Summary'!$C$42),\"Yes\",IF(G64>'A - Contractor Summary'!$C$42,\"No\",\"Needs Review\")))","v":""},"Yes","No",0,0]
[null,53,null,null,null,null,null,null,null,null,null,null,null,{"$f":"IF(AND(G65>='A - Contractor Summary'!$C$36,G65<='A - Contractor Summary'!$C$38),\"Yes\",IF(G65<'A - Contractor Summary'!$C$36,\"No\",IF(G65>'A - Contractor Summary'!$C$39,\"\",\"\")))","v":"No"},{"$f":"IF(OR(N65=\"Yes\",N65=\"No\")*AND(G65<'A - Contractor Summary'!$C$39),\"\",IF(AND(G65>'A - Contractor Summary'!$C$39,G65<'A - Contractor Summary'!$C$42),\"Yes\",IF(G65>'A - Contractor Summary'!$C$42,\"No\",\"Needs Review\")))","v":""},"Yes","No",0,0]
[null,54,null,null,null,null,null,null,null,null,null,null,null,{"$f":"IF(AND(G66>='A - Contractor Summary'!$C$36,G66<='A - Contractor Summary'!$C$38),\"Yes\",IF(G66<'A - Contractor Summary'!$C$36,\"No\",IF(G66>'A - Contractor Summary'!$C$39,\"\",\"\")))","v":"No"},{"$f":"IF(OR(N66=\"Yes\",N66=\"No\")*AND(G66<'A - Contractor Summary'!$C$39),\"\",IF(AND(G66>'A - Contractor Summary'!$C$39,G66<'A - Contractor Summary'!$C$42),\"Yes\",IF(G66>'A - Contractor Summary'!$C$42,\"No\",\"Needs Review\")))","v":""},"Yes","No",0,0]
[null,55,null,null,null,null,null,null,null,null,null,null,null,{"$f":"IF(AND(G67>='A - Contractor Summary'!$C$36,G67<='A - Contractor Summary'!$C$38),\"Yes\",IF(G67<'A - Contractor Summary'!$C$36,\"No\",IF(G67>'A - Contractor Summary'!$C$39,\"\",\"\")))","v":"No"},{"$f":"IF(OR(N67=\"Yes\",N67=\"No\")*AND(G67<'A - Contractor Summary'!$C$39),\"\",IF(AND(G67>'A - Contractor Summary'!$C$39,G67<'A - Contractor Summary'!$C$42),\"Yes\",IF(G67>'A - Contractor Summary'!$C$42,\"No\",\"Needs Review\")))","v":""},"Yes","No",0,0]
[null,56,null,null,null,null,null,null,null,null,null,null,null,{"$f":"IF(AND(G68>='A - Contractor Summary'!$C$36,G68<='A - Contractor Summary'!$C$38),\"Yes\",IF(G68<'A - Contractor Summary'!$C$36,\"No\",IF(G68>'A - Contractor Summary'!$C$39,\"\",\"\")))","v":"No"},{"$f":"IF(OR(N68=\"Yes\",N68=\"No\")*AND(G68<'A - Contractor Summary'!$C$39),\"\",IF(AND(G68>'A - Contractor Summary'!$C$39,G68<'A - Contractor Summary'!$C$42),\"Yes\",IF(G68>'A - Contractor Summary'!$C$42,\"No\",\"Needs Review\")))","v":""},"Yes","No",0,0]
[null,57,null,null,null,null,null,null,null,null,null,null,null,{"$f":"IF(AND(G69>='A - Contractor Summary'!$C$36,G69<='A - Contractor Summary'!$C$38),\"Yes\",IF(G69<'A - Contractor Summary'!$C$36,\"No\",IF(G69>'A - Contractor Summary'!$C$39,\"\",\"\")))","v":"No"},{"$f":"IF(OR(N69=\"Yes\",N69=\"No\")*AND(G69<'A - Contractor Summary'!$C$39),\"\",IF(AND(G69>'A - Contractor Summary'!$C$39,G69<'A - Contractor Summary'!$C$42),\"Yes\",IF(G69>'A - Contractor Summary'!$C$42,\"No\",\"Needs Review\")))","v":""},"Yes","No",0,0]
[null,58,null,null,null,null,null,null,null,null,null,null,null,{"$f":"IF(AND(G70>='A - Contractor Summary'!$C$36,G70<='A - Contractor Summary'!$C$38),\"Yes\",IF(G70<'A - Contractor Summary'!$C$36,\"No\",IF(G70>'A - Contractor Summary'!$C$39,\"\",\"\")))","v":"No"},{"$f":"IF(OR(N70=\"Yes\",N70=\"No\")*AND(G70<'A - Contractor Summary'!$C$39),\"\",IF(AND(G70>'A - Contractor Summary'!$C$39,G70<'A - Contractor Summary'!$C$42),\"Yes\",IF(G70>'A - Contractor Summary'!$C$42,\"No\",\"Needs Review\")))","v":""},"No","Needs Review",0,0]
[null,59,null,null,null,null,null,null,null,null,null,null,null,{"$f":"IF(AND(G71>='A - Contractor Summary'!$C$36,G71<='A - Contractor Summary'!$C$38),\"Yes\",IF(G71<'A - Contractor Summary'!$C$36,\"No\",IF(G71>'A - Contractor Summary'!$C$39,\"\",\"\")))","v":"No"},{"$f":"IF(OR(N71=\"Yes\",N71=\"No\")*AND(G71<'A - Contractor Summary'!$C$39),\"\",IF(AND(G71>'A - Contractor Summary'!$C$39,G71<'A - Contractor Summary'!$C$42),\"Yes\",IF(G71>'A - Contractor Summary'!$C$42,\"No\",\"Needs Review\")))","v":""},"Yes","No",0,0]
[null,61,null,null,null,null,null,null,null,null,null,null,null,{"$f":"IF(AND(G72>='A - Contractor Summary'!$C$36,G72<='A - Contractor Summary'!$C$38),\"Yes\",IF(G72<'A - Contractor Summary'!$C$36,\"No\",IF(G72>'A - Contractor Summary'!$C$39,\"\",\"\")))","v":"No"},{"$f":"IF(OR(N72=\"Yes\",N72=\"No\")*AND(G72<'A - Contractor Summary'!$C$39),\"\",IF(AND(G72>'A - Contractor Summary'!$C$39,G72<'A - Contractor Summary'!$C$42),\"Yes\",IF(G72>'A - Contractor Summary'!$C$42,\"No\",\"Needs Review\")))","v":""},"Yes","No",0,0]
[null,62,null,null,null,null,null,null,null,null,null,null,null,{"$f":"IF(AND(G73>='A - Contractor Summary'!$C$36,G73<='A - Contractor Summary'!$C$38),\"Yes\",IF(G73<'A - Contractor Summary'!$C$36,\"No\",IF(G73>'A - Contractor Summary'!$C$39,\"\",\"\")))","v":"No"},{"$f":"IF(OR(N73=\"Yes\",N73=\"No\")*AND(G73<'A - Contractor Summary'!$C$39),\"\",IF(AND(G73>'A - Contractor Summary'!$C$39,G73<'A - Contractor Summary'!$C$42),\"Yes\",IF(G73>'A - Contractor Summary'!$C$42,\"No\",\"Needs Review\")))","v":""},"Yes","No",0,0]
[null,63,null,null,null,null,null,null,null,null,null,null,null,{"$f":"IF(AND(G74>='A - Contractor Summary'!$C$36,G74<='A - Contractor Summary'!$C$38),\"Yes\",IF(G74<'A - Contractor Summary'!$C$36,\"No\",IF(G74>'A - Contractor Summary'!$C$39,\"\",\"\")))","v":"No"},{"$f":"IF(OR(N74=\"Yes\",N74=\"No\")*AND(G74<'A - Contractor Summary'!$C$39),\"\",IF(AND(G74>'A - Contractor Summary'!$C$39,G74<'A - Contractor Summary'!$C$42),\"Yes\",IF(G74>'A - Contractor Summary'!$C$42,\"No\",\"Needs Review\")))","v":""},"Yes","No",0,0]
[null,64,null,null,null,null,null,null,null,null,null,null,null,{"$f":"IF(AND(G75>='A - Contractor Summary'!$C$36,G75<='A - Contractor Summary'!$C$38),\"Yes\",IF(G75<'A - Contractor Summary'!$C$36,\"No\",IF(G75>'A - Contractor Summary'!$C$39,\"\",\"\")))","v":"No"},{"$f":"IF(OR(N75=\"Yes\",N75=\"No\")*AND(G75<'A - Contractor Summary'!$C$39),\"\",IF(AND(G75>'A - Contractor Summary'!$C$39,G75<'A - Contractor Summary'!$C$42),\"Yes\",IF(G75>'A - Contractor Summary'!$C$42,\"No\",\"Needs Review\")))","v":""},"Yes","No",0,0]
[null,65,null,null,null,null,null,null,null,null,null,null,null,{"$f":"IF(AND(G76>='A - Contractor Summary'!$C$36,G76<='A - Contractor Summary'!$C$38),\"Yes\",IF(G76<'A - Contractor Summary'!$C$36,\"No\",IF(G76>'A - Contractor Summary'!$C$39,\"\",\"\")))","v":"No"},{"$f":"IF(OR(N76=\"Yes\",N76=\"No\")*AND(G76<'A - Contractor Summary'!$C$39),\"\",IF(AND(G76>'A - Contractor Summary'!$C$39,G76<'A - Contractor Summary'!$C$42),\"Yes\",IF(G76>'A - Contractor Summary'!$C$42,\"No\",\"Needs Review\")))","v":""},"No","No",0,0]
[null,66,null,null,null,null,null,null,null,null,null,null,null,{"$f":"IF(AND(G77>='A - Contractor Summary'!$C$36,G77<='A - Contractor Summary'!$C$38),\"Yes\",IF(G77<'A - Contractor Summary'!$C$36,\"No\",IF(G77>'A - Contractor Summary'!$C$39,\"\",\"\")))","v":"No"},{"$f":"IF(OR(N77=\"Yes\",N77=\"No\")*AND(G77<'A - Contractor Summary'!$C$39),\"\",IF(AND(G77>'A - Contractor Summary'!$C$39,G77<'A - Contractor Summary'!$C$42),\"Yes\",IF(G77>'A - Contractor Summary'!$C$42,\"No\",\"Needs Review\")))","v":""},"Yes","No",0,0]
[null,67,null,null,null,null,null,null,null,null,null,null,null,{"$f":"IF(AND(G78>='A - Contractor Summary'!$C$36,G78<='A - Contractor Summary'!$C$38),\"Yes\",IF(G78<'A - Contractor Summary'!$C$36,\"No\",IF(G78>'A - Contractor Summary'!$C$39,\"\",\"\")))","v":"No"},{"$f":"IF(OR(N78=\"Yes\",N78=\"No\")*AND(G78<'A - Contractor Summary'!$C$39),\"\",IF(AND(G78>'A - Contractor Summary'!$C$39,G78<'A - Contractor Summary'!$C$42),\"Yes\",IF(G78>'A - Contractor Summary'!$C$42,\"No\",\"Needs Review\")))","v":""},"No","Needs Review",{"$f":"IF(Q78=\"Yes\",K78,0)","v":0},{"$f":"IF(Q78=\"Needs Review\",K78,0)","v":0}]
[null,68,null,null,null,null,null,null,null,null,null,null,null,{"$f":"IF(AND(G79>='A - Contractor Summary'!$C$36,G79<='A - Contractor Summary'!$C$38),\"Yes\",IF(G79<'A - Contractor Summary'!$C$36,\"No\",IF(G79>'A - Contractor Summary'!$C$39,\"\",\"\")))","v":"No"},{"$f":"IF(OR(N79=\"Yes\",N79=\"No\")*AND(G79<'A - Contractor Summary'!$C$39),\"\",IF(AND(G79>'A - Contractor Summary'!$C$39,G79<'A - Contractor Summary'!$C$42),\"Yes\",IF(G79>'A - Contractor Summary'!$C$42,\"No\",\"Needs Review\")))","v":""},"Yes",{"$f":"IF(AND(P79=\"Yes\",L79=\"Yes\",M79=\"Yes\")*OR(O79=\"Yes\",N79=\"Yes\"),\"Yes\",IF(OR(L79=\"No\",N79=\"No\",O79=\"No\",P79=\"No\",M79=\"No\"),\"No\",\"Needs Review\"))","v":"No"},0,0]
[null,69,null,null,null,null,null,null,null,null,null,null,null,{"$f":"IF(AND(G80>='A - Contractor Summary'!$C$36,G80<='A - Contractor Summary'!$C$38),\"Yes\",IF(G80<'A - Contractor Summary'!$C$36,\"No\",IF(G80>'A - Contractor Summary'!$C$39,\"\",\"\")))","v":"No"},{"$f":"IF(OR(N80=\"Yes\",N80=\"No\")*AND(G80<'A - Contractor Summary'!$C$39),\"\",IF(AND(G80>'A - Contractor Summary'!$C$39,G80<'A - Contractor Summary'!$C$42),\"Yes\",IF(G80>'A - Contractor Summary'!$C$42,\"No\",\"Needs Review\")))","v":""},"Yes","No",0,0]
[null,70,null,null,null,null,null,null,null,null,null,null,null,{"$f":"IF(AND(G81>='A - Contractor Summary'!$C$36,G81<='A - Contractor Summary'!$C$38),\"Yes\",IF(G81<'A - Contractor Summary'!$C$36,\"No\",IF(G81>'A - Contractor Summary'!$C$39,\"\",\"\")))","v":"No"},{"$f":"IF(OR(N81=\"Yes\",N81=\"No\")*AND(G81<'A - Contractor Summary'!$C$39),\"\",IF(AND(G81>'A - Contractor Summary'!$C$39,G81<'A - Contractor Summary'!$C$42),\"Yes\",IF(G81>'A - Contractor Summary'!$C$42,\"No\",\"Needs Review\")))","v":""},"Yes","No",0,0]
[null,71,null,null,null,null,null,null,null,null,null,null,null,{"$f":"IF(AND(G82>='A - Contractor Summary'!$C$36,G82<='A - Contractor Summary'!$C$38),\"Yes\",IF(G82<'A - Contractor Summary'!$C$36,\"No\",IF(G82>'A - Contractor Summary'!$C$39,\"\",\"\")))","v":"No"},{"$f":"IF(OR(N82=\"Yes\",N82=\"No\")*AND(G82<'A - Contractor Summary'!$C$39),\"\",IF(AND(G82>'A - Contractor Summary'!$C$39,G82<'A - Contractor Summary'!$C$42),\"Yes\",IF(G82>'A - Contractor Summary'!$C$42,\"No\",\"Needs Review\")))","v":""},"Yes","No",0,0]
[null,72,null,null,null,null,null,null,null,null,null,null,null,{"$f":"IF(AND(G83>='A - Contractor Summary'!$C$36,G83<='A - Contractor Summary'!$C$38),\"Yes\",IF(G83<'A - Contractor Summary'!$C$36,\"No\",IF(G83>'A - Contractor Summary'!$C$39,\"\",\"\")))","v":"No"},{"$f":"IF(OR(N83=\"Yes\",N83=\"No\")*AND(G83<'A - Contractor Summary'!$C$39),\"\",IF(AND(G83>'A - Contractor Summary'!$C$39,G83<'A - Contractor Summary'!$C$42),\"Yes\",IF(G83>'A - Contractor Summary'!$C$42,\"No\",\"Needs Review\")))","v":""},"Yes","No",0,0]
[null,73,null,null,null,null,null,null,null,null,null,null,null,{"$f":"IF(AND(G84>='A - Contractor Summary'!$C$36,G84<='A - Contractor Summary'!$C$38),\"Yes\",IF(G84<'A - Contractor Summary'!$C$36,\"No\",IF(G84>'A - Contractor Summary'!$C$39,\"\",\"\")))","v":"No"},{"$f":"IF(OR(N84=\"Yes\",N84=\"No\")*AND(G84<'A - Contractor Summary'!$C$39),\"\",IF(AND(G84>'A - Contractor Summary'!$C$39,G84<'A - Contractor Summary'!$C$42),\"Yes\",IF(G84>'A - Contractor Summary'!$C$42,\"No\",\"Needs Review\")))","v":""},"No","Needs Review",0,0]
[null,74,null,null,null,null,null,null,null,null,null,null,null,{"$f":"IF(AND(G85>='A - Contractor Summary'!$C$36,G85<='A - Contractor Summary'!$C$38),\"Yes\",IF(G85<'A - Contractor Summary'!$C$36,\"No\",IF(G85>'A - Contractor Summary'!$C$39,\"\",\"\")))","v":"No"},{"$f":"IF(OR(N85=\"Yes\",N85=\"No\")*AND(G85<'A - Contractor Summary'!$C$39),\"\",IF(AND(G85>'A - Contractor Summary'!$C$39,G85<'A - Contractor Summary'!$C$42),\"Yes\",IF(G85>'A - Contractor Summary'!$C$42,\"No\",\"Needs Review\")))","v":""},"No","No",0,0]
[null,75,null,null,null,null,null,null,null,null,null,null,null,{"$f":"IF(AND(G86>='A - Contractor Summary'!$C$36,G86<='A - Contractor Summary'!$C$38),\"Yes\",IF(G86<'A - Contractor Summary'!$C$36,\"No\",IF(G86>'A - Contractor Summary'!$C$39,\"\",\"\")))","v":"No"},{"$f":"IF(OR(N86=\"Yes\",N86=\"No\")*AND(G86<'A - Contractor Summary'!$C$39),\"\",IF(AND(G86>'A - Contractor Summary'!$C$39,G86<'A - Contractor Summary'!$C$42),\"Yes\",IF(G86>'A - Contractor Summary'!$C$42,\"No\",\"Needs Review\")))","v":""},"Yes","No",0,0]
[null,76,null,null,null,null,null,null,null,null,null,null,null,{"$f":"IF(AND(G87>='A - Contractor Summary'!$C$36,G87<='A - Contractor Summary'!$C$38),\"Yes\",IF(G87<'A - Contractor Summary'!$C$36,\"No\",IF(G87>'A - Contractor Summary'!$C$39,\"\",\"\")))","v":"No"},{"$f":"IF(OR(N87=\"Yes\",N87=\"No\")*AND(G87<'A - Contractor Summary'!$C$39),\"\",IF(AND(G87>'A - Contractor Summary'!$C$39,G87<'A - Contractor Summary'!$C$42),\"Yes\",IF(G87>'A - Contractor Summary'!$C$42,\"No\",\"Needs Review\")))","v":""},"Yes","No",0,0]
[null,77,null,null,null,null,null,null,null,null,null,null,null,{"$f":"IF(AND(G88>='A - Contractor Summary'!$C$36,G88<='A - Contractor Summary'!$C$38),\"Yes\",IF(G88<'A - Contractor Summary'!$C$36,\"No\",IF(G88>'A - Contractor Summary'!$C$39,\"\",\"\")))","v":"No"},{"$f":"IF(OR(N88=\"Yes\",N88=\"No\")*AND(G88<'A - Contractor Summary'!$C$39),\"\",IF(AND(G88>'A - Contractor Summary'!$C$39,G88<'A - Contractor Summary'!$C$42),\"Yes\",IF(G88>'A - Contractor Summary'!$C$42,\"No\",\"Needs Review\")))","v":""},"Yes","No",0,0]
[null,78,null,null,null,null,null,null,null,null,null,null,null,{"$f":"IF(AND(G89>='A - Contractor Summary'!$C$36,G89<='A - Contractor Summary'!$C$38),\"Yes\",IF(G89<'A - Contractor Summary'!$C$36,\"No\",IF(G89>'A - Contractor Summary'!$C$39,\"\",\"\")))","v":"No"},{"$f":"IF(OR(N89=\"Yes\",N89=\"No\")*AND(G89<'A - Contractor Summary'!$C$39),\"\",IF(AND(G89>'A - Contractor Summary'!$C$39,G89<'A - Contractor Summary'!$C$42),\"Yes\",IF(G89>'A - Contractor Summary'!$C$42,\"No\",\"Needs Review\")))","v":""},"Yes","No",0,0]
[null,79,null,null,null,null,null,null,null,null,null,null,null,{"$f":"IF(AND(G90>='A - Contractor Summary'!$C$36,G90<='A - Contractor Summary'!$C$38),\"Yes\",IF(G90<'A - Contractor Summary'!$C$36,\"No\",IF(G90>'A - Contractor Summary'!$C$39,\"\",\"\")))","v":"No"},{"$f":"IF(OR(N90=\"Yes\",N90=\"No\")*AND(G90<'A - Contractor Summary'!$C$39),\"\",IF(AND(G90>'A - Contractor Summary'!$C$39,G90<'A - Contractor Summary'!$C$42),\"Yes\",IF(G90>'A - Contractor Summary'!$C$42,\"No\",\"Needs Review\")))","v":""},"Yes","No",0,0]
[null,80,null,null,null,null,null,null,null,null,null,null,null,{"$f":"IF(AND(G91>='A - Contractor Summary'!$C$36,G91<='A - Contractor Summary'!$C$38),\"Yes\",IF(G91<'A - Contractor Summary'!$C$36,\"No\",IF(G91>'A - Contractor Summary'!$C$39,\"\",\"\")))","v":"No"},{"$f":"IF(OR(N91=\"Yes\",N91=\"No\")*AND(G91<'A - Contractor Summary'!$C$39),\"\",IF(AND(G91>'A - Contractor Summary'!$C$39,G91<'A - Contractor Summary'!$C$42),\"Yes\",IF(G91>'A - Contractor Summary'!$C$42,\"No\",\"Needs Review\")))","v":""},"No","No",0,0]
[null,81,null,null,null,null,null,null,null,null,null,null,null,{"$f":"IF(AND(G92>='A - Contractor Summary'!$C$36,G92<='A - Contractor Summary'!$C$38),\"Yes\",IF(G92<'A - Contractor Summary'!$C$36,\"No\",IF(G92>'A - Contractor Summary'!$C$39,\"\",\"\")))","v":"No"},{"$f":"IF(OR(N92=\"Yes\",N92=\"No\")*AND(G92<'A - Contractor Summary'!$C$39),\"\",IF(AND(G92>'A - Contractor Summary'!$C$39,G92<'A - Contractor Summary'!$C$42),\"Yes\",IF(G92>'A - Contractor Summary'!$C$42,\"No\",\"Needs Review\")))","v":""},"No","No",0,0]
[null,82,null,null,null,null,null,null,null,null,null,null,null,{"$f":"IF(AND(G93>='A - Contractor Summary'!$C$36,G93<='A - Contractor Summary'!$C$38),\"Yes\",IF(G93<'A - Contractor Summary'!$C$36,\"No\",IF(G93>'A - Contractor Summary'!$C$39,\"\",\"\")))","v":"No"},{"$f":"IF(OR(N93=\"Yes\",N93=\"No\")*AND(G93<'A - Contractor Summary'!$C$39),\"\",IF(AND(G93>'A - Contractor Summary'!$C$39,G93<'A - Contractor Summary'!$C$42),\"Yes\",IF(G93>'A - Contractor Summary'!$C$42,\"No\",\"Needs Review\")))","v":""},"No","No",0,0]
[null,83,null,null,null,null,null,null,null,null,null,null,null,{"$f":"IF(AND(G94>='A - Contractor Summary'!$C$36,G94<='A - Contractor Summary'!$C$38),\"Yes\",IF(G94<'A - Contractor Summary'!$C$36,\"No\",IF(G94>'A - Contractor Summary'!$C$39,\"\",\"\")))","v":"No"},{"$f":"IF(OR(N94=\"Yes\",N94=\"No\")*AND(G94<'A - Contractor Summary'!$C$39),\"\",IF(AND(G94>'A - Contractor Summary'!$C$39,G94<'A - Contractor Summary'!$C$42),\"Yes\",IF(G94>'A - Contractor Summary'!$C$42,\"No\",\"Needs Review\")))","v":""},"No",{"$f":"IF(AND(P94=\"Yes\",L94=\"Yes\",M94=\"Yes\")*OR(O94=\"Yes\",N94=\"Yes\"),\"Yes\",IF(OR(L94=\"No\",N94=\"No\",O94=\"No\",P94=\"No\",M94=\"No\"),\"No\",\"Needs Review\"))","v":"No"},{"$f":"IF(Q94=\"Yes\",K94,0)","v":0},{"$f":"IF(Q94=\"Needs Review\",K94,0)","v":0}]
[null,84,null,null,null,null,null,null,null,null,null,null,null,{"$f":"IF(AND(G95>='A - Contractor Summary'!$C$36,G95<='A - Contractor Summary'!$C$38),\"Yes\",IF(G95<'A - Contractor Summary'!$C$36,\"No\",IF(G95>'A - Contractor Summary'!$C$39,\"\",\"\")))","v":"No"},{"$f":"IF(OR(N95=\"Yes\",N95=\"No\")*AND(G95<'A - Contractor Summary'!$C$39),\"\",IF(AND(G95>'A - Contractor Summary'!$C$39,G95<'A - Contractor Summary'!$C$42),\"Yes\",IF(G95>'A - Contractor Summary'!$C$42,\"No\",\"Needs Review\")))","v":""},"No","No",0,0]
[null,85,null,null,null,null,null,null,null,null,null,null,null,{"$f":"IF(AND(G96>='A - Contractor Summary'!$C$36,G96<='A - Contractor Summary'!$C$38),\"Yes\",IF(G96<'A - Contractor Summary'!$C$36,\"No\",IF(G96>'A - Contractor Summary'!$C$39,\"\",\"\")))","v":"No"},{"$f":"IF(OR(N96=\"Yes\",N96=\"No\")*AND(G96<'A - Contractor Summary'!$C$39),\"\",IF(AND(G96>'A - Contractor Summary'!$C$39,G96<'A - Contractor Summary'!$C$42),\"Yes\",IF(G96>'A - Contractor Summary'!$C$42,\"No\",\"Needs Review\")))","v":""},"No","No",0,0]
[null,86,null,null,null,null,null,null,null,null,null,null,null,{"$f":"IF(AND(G97>='A - Contractor Summary'!$C$36,G97<='A - Contractor Summary'!$C$38),\"Yes\",IF(G97<'A - Contractor Summary'!$C$36,\"No\",IF(G97>'A - Contractor Summary'!$C$39,\"\",\"\")))","v":"No"},{"$f":"IF(OR(N97=\"Yes\",N97=\"No\")*AND(G97<'A - Contractor Summary'!$C$39),\"\",IF(AND(G97>'A - Contractor Summary'!$C$39,G97<'A - Contractor Summary'!$C$42),\"Yes\",IF(G97>'A - Contractor Summary'!$C$42,\"No\",\"Needs Review\")))","v":""},"Yes","No",0,0]
[null,87,null,null,null,null,null,null,null,null,null,null,null,{"$f":"IF(AND(G98>='A - Contractor Summary'!$C$36,G98<='A - Contractor Summary'!$C$38),\"Yes\",IF(G98<'A - Contractor Summary'!$C$36,\"No\",IF(G98>'A - Contractor Summary'!$C$39,\"\",\"\")))","v":"No"},{"$f":"IF(OR(N98=\"Yes\",N98=\"No\")*AND(G98<'A - Contractor Summary'!$C$39),\"\",IF(AND(G98>'A - Contractor Summary'!$C$39,G98<'A - Contractor Summary'!$C$42),\"Yes\",IF(G98>'A - Contractor Summary'!$C$42,\"No\",\"Needs Review\")))","v":""},"Yes","No",0,0]
[null,88,null,null,null,null,null,null,null,null,null,null,null,{"$f":"IF(AND(G99>='A - Contractor Summary'!$C$36,G99<='A - Contractor Summary'!$C$38),\"Yes\",IF(G99<'A - Contractor Summary'!$C$36,\"No\",IF(G99>'A - Contractor Summary'!$C$39,\"\",\"\")))","v":"No"},{"$f":"IF(OR(N99=\"Yes\",N99=\"No\")*AND(G99<'A - Contractor Summary'!$C$39),\"\",IF(AND(G99>'A - Contractor Summary'!$C$39,G99<'A - Contractor Summary'!$C$42),\"Yes\",IF(G99>'A - Contractor Summary'!$C$42,\"No\",\"Needs Review\")))","v":""},"Yes","No",0,0]
[null,89,null,null,null,null,null,null,null,null,null,null,null,{"$f":"IF(AND(G100>='A - Contractor Summary'!$C$36,G100<='A - Contractor Summary'!$C$38),\"Yes\",IF(G100<'A - Contractor Summary'!$C$36,\"No\",IF(G100>'A - Contractor Summary'!$C$39,\"\",\"\")))","v":"No"},{"$f":"IF(OR(N100=\"Yes\",N100=\"No\")*AND(G100<'A - Contractor Summary'!$C$39),\"\",IF(AND(G100>'A - Contractor Summary'!$C$39,G100<'A - Contractor Summary'!$C$42),\"Yes\",IF(G100>'A - Contractor Summary'!$C$42,\"No\",\"Needs Review\")))","v":""},"Yes","No",0,0]
[null,90,null,null,null,null,null,null,null,null,null,null,null,{"$f":"IF(AND(G101>='A - Contractor Summary'!$C$36,G101<='A - Contractor Summary'!$C$38),\"Yes\",IF(G101<'A - Contractor Summary'!$C$36,\"No\",IF(G101>'A - Contractor Summary'!$C$39,\"\",\"\")))","v":"No"},{"$f":"IF(OR(N101=\"Yes\",N101=\"No\")*AND(G101<'A - Contractor Summary'!$C$39),\"\",IF(AND(G101>'A - Contractor Summary'!$C$39,G101<'A - Contractor Summary'!$C$42),\"Yes\",IF(G101>'A - Contractor Summary'!$C$42,\"No\",\"Needs Review\")))","v":""},"Yes","No",0,0]
[null,91,null,null,null,null,null,null,null,null,null,null,null,{"$f":"IF(AND(G102>='A - Contractor Summary'!$C$36,G102<='A - Contractor Summary'!$C$38),\"Yes\",IF(G102<'A - Contractor Summary'!$C$36,\"No\",IF(G102>'A - Contractor Summary'!$C$39,\"\",\"\")))","v":"No"},{"$f":"IF(OR(N102=\"Yes\",N102=\"No\")*AND(G102<'A - Contractor Summary'!$C$39),\"\",IF(AND(G102>'A - Contractor Summary'!$C$39,G102<'A - Contractor Summary'!$C$42),\"Yes\",IF(G102>'A - Contractor Summary'!$C$42,\"No\",\"Needs Review\")))","v":""},"Yes","No",0,0]
[null,92,null,null,null,null,null,null,null,null,null,null,null,{"$f":"IF(AND(G103>='A - Contractor Summary'!$C$36,G103<='A - Contractor Summary'!$C$38),\"Yes\",IF(G103<'A - Contractor Summary'!$C$36,\"No\",IF(G103>'A - Contractor Summary'!$C$39,\"\",\"\")))","v":"No"},{"$f":"IF(OR(N103=\"Yes\",N103=\"No\")*AND(G103<'A - Contractor Summary'!$C$39),\"\",IF(AND(G103>'A - Contractor Summary'!$C$39,G103<'A - Contractor Summary'!$C$42),\"Yes\",IF(G103>'A - Contractor Summary'!$C$42,\"No\",\"Needs Review\")))","v":""},"Yes","No",0,0]
[null,93,null,null,null,null,null,null,null,null,null,null,null,{"$f":"IF(AND(G104>='A - Contractor Summary'!$C$36,G104<='A - Contractor Summary'!$C$38),\"Yes\",IF(G104<'A - Contractor Summary'!$C$36,\"No\",IF(G104>'A - Contractor Summary'!$C$39,\"\",\"\")))","v":"No"},{"$f":"IF(OR(N104=\"Yes\",N104=\"No\")*AND(G104<'A - Contractor Summary'!$C$39),\"\",IF(AND(G104>'A - Contractor Summary'!$C$39,G104<'A - Contractor Summary'!$C$42),\"Yes\",IF(G104>'A - Contractor Summary'!$C$42,\"No\",\"Needs Review\")))","v":""},"Yes","No",0,0]
[null,94,null,null,null,null,null,null,null,null,null,null,null,{"$f":"IF(AND(G105>='A - Contractor Summary'!$C$36,G105<='A - Contractor Summary'!$C$38),\"Yes\",IF(G105<'A - Contractor Summary'!$C$36,\"No\",IF(G105>'A - Contractor Summary'!$C$39,\"\",\"\")))","v":"No"},{"$f":"IF(OR(N105=\"Yes\",N105=\"No\")*AND(G105<'A - Contractor Summary'!$C$39),\"\",IF(AND(G105>'A - Contractor Summary'!$C$39,G105<'A - Contractor Summary'!$C$42),\"Yes\",IF(G105>'A - Contractor Summary'!$C$42,\"No\",\"Needs Review\")))","v":""},"Yes","No",0,0]
[null,95,null,null,null,null,null,null,null,null,null,null,null,{"$f":"IF(AND(G106>='A - Contractor Summary'!$C$36,G106<='A - Contractor Summary'!$C$38),\"Yes\",IF(G106<'A - Contractor Summary'!$C$36,\"No\",IF(G106>'A - Contractor Summary'!$C$39,\"\",\"\")))","v":"No"},{"$f":"IF(OR(N106=\"Yes\",N106=\"No\")*AND(G106<'A - Contractor Summary'!$C$39),\"\",IF(AND(G106>'A - Contractor Summary'!$C$39,G106<'A - Contractor Summary'!$C$42),\"Yes\",IF(G106>'A - Contractor Summary'!$C$42,\"No\",\"Needs Review\")))","v":""},"Yes","No",0,0]
[null,96,null,null,null,null,null,null,null,null,null,null,null,{"$f":"IF(AND(G107>='A - Contractor Summary'!$C$36,G107<='A - Contractor Summary'!$C$38),\"Yes\",IF(G107<'A - Contractor Summary'!$C$36,\"No\",IF(G107>'A - Contractor Summary'!$C$39,\"\",\"\")))","v":"No"},{"$f":"IF(OR(N107=\"Yes\",N107=\"No\")*AND(G107<'A - Contractor Summary'!$C$39),\"\",IF(AND(G107>'A - Contractor Summary'!$C$39,G107<'A - Contractor Summary'!$C$42),\"Yes\",IF(G107>'A - Contractor Summary'!$C$42,\"No\",\"Needs Review\")))","v":""},"Yes","No",0,0]
[null,97,null,null,null,null,null,null,null,null,null,null,null,{"$f":"IF(AND(G108>='A - Contractor Summary'!$C$36,G108<='A - Contractor Summary'!$C$38),\"Yes\",IF(G108<'A - Contractor Summary'!$C$36,\"No\",IF(G108>'A - Contractor Summary'!$C$39,\"\",\"\")))","v":"No"},{"$f":"IF(OR(N108=\"Yes\",N108=\"No\")*AND(G108<'A - Contractor Summary'!$C$39),\"\",IF(AND(G108>'A - Contractor Summary'!$C$39,G108<'A - Contractor Summary'!$C$42),\"Yes\",IF(G108>'A - Contractor Summary'!$C$42,\"No\",\"Needs Review\")))","v":""},"Yes","No",0,0]
[null,98,null,null,null,null,null,null,null,null,null,null,null,{"$f":"IF(AND(G109>='A - Contractor Summary'!$C$36,G109<='A - Contractor Summary'!$C$38),\"Yes\",IF(G109<'A - Contractor Summary'!$C$36,\"No\",IF(G109>'A - Contractor Summary'!$C$39,\"\",\"\")))","v":"No"},{"$f":"IF(OR(N109=\"Yes\",N109=\"No\")*AND(G109<'A - Contractor Summary'!$C$39),\"\",IF(AND(G109>'A - Contractor Summary'!$C$39,G109<'A - Contractor Summary'!$C$42),\"Yes\",IF(G109>'A - Contractor Summary'!$C$42,\"No\",\"Needs Review\")))","v":""},"Yes","No",0,0]
[null,99,null,null,null,null,null,null,null,null,null,null,null,{"$f":"IF(AND(G110>='A - Contractor Summary'!$C$36,G110<='A - Contractor Summary'!$C$38),\"Yes\",IF(G110<'A - Contractor Summary'!$C$36,\"No\",IF(G110>'A - Contractor Summary'!$C$39,\"\",\"\")))","v":"No"},{"$f":"IF(OR(N110=\"Yes\",N110=\"No\")*AND(G110<'A - Contractor Summary'!$C$39),\"\",IF(AND(G110>'A - Contractor Summary'!$C$39,G110<'A - Contractor Summary'!$C$42),\"Yes\",IF(G110>'A - Contractor Summary'!$C$42,\"No\",\"Needs Review\")))","v":""},"Yes","No",0,0]
[null,100,null,null,null,null,null,null,null,null,null,null,null,{"$f":"IF(AND(G111>='A - Contractor Summary'!$C$36,G111<='A - Contractor Summary'!$C$38),\"Yes\",IF(G111<'A - Contractor Summary'!$C$36,\"No\",IF(G111>'A - Contractor Summary'!$C$39,\"\",\"\")))","v":"No"},{"$f":"IF(OR(N111=\"Yes\",N111=\"No\")*AND(G111<'A - Contractor Summary'!$C$39),\"\",IF(AND(G111>'A - Contractor Summary'!$C$39,G111<'A - Contractor Summary'!$C$42),\"Yes\",IF(G111>'A - Contractor Summary'!$C$42,\"No\",\"Needs Review\")))","v":""},"Yes","No",0,0]
[null,101,null,null,null,null,null,null,null,null,null,null,null,{"$f":"IF(AND(G112>='A - Contractor Summary'!$C$36,G112<='A - Contractor Summary'!$C$38),\"Yes\",IF(G112<'A - Contractor Summary'!$C$36,\"No\",IF(G112>'A - Contractor Summary'!$C$39,\"\",\"\")))","v":"No"},{"$f":"IF(OR(N112=\"Yes\",N112=\"No\")*AND(G112<'A - Contractor Summary'!$C$39),\"\",IF(AND(G112>'A - Contractor Summary'!$C$39,G112<'A - Contractor Summary'!$C$42),\"Yes\",IF(G112>'A - Contractor Summary'!$C$42,\"No\",\"Needs Review\")))","v":""},"Yes","No",0,0]
[null,102,null,null,null,null,null,null,null,null,null,null,null,{"$f":"IF(AND(G113>='A - Contractor Summary'!$C$36,G113<='A - Contractor Summary'!$C$38),\"Yes\",IF(G113<'A - Contractor Summary'!$C$36,\"No\",IF(G113>'A - Contractor Summary'!$C$39,\"\",\"\")))","v":"No"},{"$f":"IF(OR(N113=\"Yes\",N113=\"No\")*AND(G113<'A - Contractor Summary'!$C$39),\"\",IF(AND(G113>'A - Contractor Summary'!$C$39,G113<'A - Contractor Summary'!$C$42),\"Yes\",IF(G113>'A - Contractor Summary'!$C$42,\"No\",\"Needs Review\")))","v":""},"Yes","No",0,0]
[null,103,null,null,null,null,null,null,null,null,null,null,null,{"$f":"IF(AND(G114>='A - Contractor Summary'!$C$36,G114<='A - Contractor Summary'!$C$38),\"Yes\",IF(G114<'A - Contractor Summary'!$C$36,\"No\",IF(G114>'A - Contractor Summary'!$C$39,\"\",\"\")))","v":"No"},{"$f":"IF(OR(N114=\"Yes\",N114=\"No\")*AND(G114<'A - Contractor Summary'!$C$39),\"\",IF(AND(G114>'A - Contractor Summary'!$C$39,G114<'A - Contractor Summary'!$C$42),\"Yes\",IF(G114>'A - Contractor Summary'!$C$42,\"No\",\"Needs Review\")))","v":""},"Yes","No",0,0]
[null,104,null,null,null,null,null,null,null,null,null,null,null,{"$f":"IF(AND(G115>='A - Contractor Summary'!$C$36,G115<='A - Contractor Summary'!$C$38),\"Yes\",IF(G115<'A - Contractor Summary'!$C$36,\"No\",IF(G115>'A - Contractor Summary'!$C$39,\"\",\"\")))","v":"No"},{"$f":"IF(OR(N115=\"Yes\",N115=\"No\")*AND(G115<'A - Contractor Summary'!$C$39),\"\",IF(AND(G115>'A - Contractor Summary'!$C$39,G115<'A - Contractor Summary'!$C$42),\"Yes\",IF(G115>'A - Contractor Summary'!$C$42,\"No\",\"Needs Review\")))","v":""},"Yes","No",0,0]
[null,105,null,null,null,null,null,null,null,null,null,null,null,{"$f":"IF(AND(G116>='A - Contractor Summary'!$C$36,G116<='A - Contractor Summary'!$C$38),\"Yes\",IF(G116<'A - Contractor Summary'!$C$36,\"No\",IF(G116>'A - Contractor Summary'!$C$39,\"\",\"\")))","v":"No"},{"$f":"IF(OR(N116=\"Yes\",N116=\"No\")*AND(G116<'A - Contractor Summary'!$C$39),\"\",IF(AND(G116>'A - Contractor Summary'!$C$39,G116<'A - Contractor Summary'!$C$42),\"Yes\",IF(G116>'A - Contractor Summary'!$C$42,\"No\",\"Needs Review\")))","v":""},"Yes","No",0,0]
[null,106,null,null,null,null,null,null,null,null,null,null,null,{"$f":"IF(AND(G117>='A - Contractor Summary'!$C$36,G117<='A - Contractor Summary'!$C$38),\"Yes\",IF(G117<'A - Contractor Summary'!$C$36,\"No\",IF(G117>'A - Contractor Summary'!$C$39,\"\",\"\")))","v":"No"},{"$f":"IF(OR(N117=\"Yes\",N117=\"No\")*AND(G117<'A - Contractor Summary'!$C$39),\"\",IF(AND(G117>'A - Contractor Summary'!$C$39,G117<'A - Contractor Summary'!$C$42),\"Yes\",IF(G117>'A - Contractor Summary'!$C$42,\"No\",\"Needs Review\")))","v":""},"Yes","No",0,0]
[null,107,null,null,null,null,null,null,null,null,null,null,null,{"$f":"IF(AND(G118>='A - Contractor Summary'!$C$36,G118<='A - Contractor Summary'!$C$38),\"Yes\",IF(G118<'A - Contractor Summary'!$C$36,\"No\",IF(G118>'A - Contractor Summary'!$C$39,\"\",\"\")))","v":"No"},{"$f":"IF(OR(N118=\"Yes\",N118=\"No\")*AND(G118<'A - Contractor Summary'!$C$39),\"\",IF(AND(G118>'A - Contractor Summary'!$C$39,G118<'A - Contractor Summary'!$C$42),\"Yes\",IF(G118>'A - Contractor Summary'!$C$42,\"No\",\"Needs Review\")))","v":""},"Yes","No",0,0]
[null,108,null,null,null,null,null,null,null,null,null,null,null,{"$f":"IF(AND(G119>='A - Contractor Summary'!$C$36,G119<='A - Contractor Summary'!$C$38),\"Yes\",IF(G119<'A - Contractor Summary'!$C$36,\"No\",IF(G119>'A - Contractor Summary'!$C$39,\"\",\"\")))","v":"No"},{"$f":"IF(OR(N119=\"Yes\",N119=\"No\")*AND(G119<'A - Contractor Summary'!$C$39),\"\",IF(AND(G119>'A - Contractor Summary'!$C$39,G119<'A - Contractor Summary'!$C$42),\"Yes\",IF(G119>'A - Contractor Summary'!$C$42,\"No\",\"Needs Review\")))","v":""},"Yes","No",0,0]
[null,109,null,null,null,null,null,null,null,null,null,null,null,{"$f":"IF(AND(G120>='A - Contractor Summary'!$C$36,G120<='A - Contractor Summary'!$C$38),\"Yes\",IF(G120<'A - Contractor Summary'!$C$36,\"No\",IF(G120>'A - Contractor Summary'!$C$39,\"\",\"\")))","v":"No"},{"$f":"IF(OR(N120=\"Yes\",N120=\"No\")*AND(G120<'A - Contractor Summary'!$C$39),\"\",IF(AND(G120>'A - Contractor Summary'!$C$39,G120<'A - Contractor Summary'!$C$42),\"Yes\",IF(G120>'A - Contractor Summary'!$C$42,\"No\",\"Needs Review\")))","v":""},"Yes","No",0,0]
[null,110,null,null,null,null,null,null,null,null,null,null,null,{"$f":"IF(AND(G121>='A - Contractor Summary'!$C$36,G121<='A - Contractor Summary'!$C$38),\"Yes\",IF(G121<'A - Contractor Summary'!$C$36,\"No\",IF(G121>'A - Contractor Summary'!$C$39,\"\",\"\")))","v":"No"},{"$f":"IF(OR(N121=\"Yes\",N121=\"No\")*AND(G121<'A - Contractor Summary'!$C$39),\"\",IF(AND(G121>'A - Contractor Summary'!$C$39,G121<'A - Contractor Summary'!$C$42),\"Yes\",IF(G121>'A - Contractor Summary'!$C$42,\"No\",\"Needs Review\")))","v":""},"Yes","No",0,0]
[null,111,null,null,null,null,null,null,null,null,null,null,null,{"$f":"IF(AND(G122>='A - Contractor Summary'!$C$36,G122<='A - Contractor Summary'!$C$38),\"Yes\",IF(G122<'A - Contractor Summary'!$C$36,\"No\",IF(G122>'A - Contractor Summary'!$C$39,\"\",\"\")))","v":"No"},{"$f":"IF(OR(N122=\"Yes\",N122=\"No\")*AND(G122<'A - Contractor Summary'!$C$39),\"\",IF(AND(G122>'A - Contractor Summary'!$C$39,G122<'A - Contractor Summary'!$C$42),\"Yes\",IF(G122>'A - Contractor Summary'!$C$42,\"No\",\"Needs Review\")))","v":""},"Yes","No",0,0]
[null,112,null,null,null,null,null,null,null,null,null,null,null,{"$f":"IF(AND(G123>='A - Contractor Summary'!$C$36,G123<='A - Contractor Summary'!$C$38),\"Yes\",IF(G123<'A - Contractor Summary'!$C$36,\"No\",IF(G123>'A - Contractor Summary'!$C$39,\"\",\"\")))","v":"No"},{"$f":"IF(OR(N123=\"Yes\",N123=\"No\")*AND(G123<'A - Contractor Summary'!$C$39),\"\",IF(AND(G123>'A - Contractor Summary'!$C$39,G123<'A - Contractor Summary'!$C$42),\"Yes\",IF(G123>'A - Contractor Summary'!$C$42,\"No\",\"Needs Review\")))","v":""},"Yes","No",0,0]
[null,113,null,null,null,null,null,null,null,null,null,null,null,{"$f":"IF(AND(G124>='A - Contractor Summary'!$C$36,G124<='A - Contractor Summary'!$C$38),\"Yes\",IF(G124<'A - Contractor Summary'!$C$36,\"No\",IF(G124>'A - Contractor Summary'!$C$39,\"\",\"\")))","v":"No"},{"$f":"IF(OR(N124=\"Yes\",N124=\"No\")*AND(G124<'A - Contractor Summary'!$C$39),\"\",IF(AND(G124>'A - Contractor Summary'!$C$39,G124<'A - Contractor Summary'!$C$42),\"Yes\",IF(G124>'A - Contractor Summary'!$C$42,\"No\",\"Needs Review\")))","v":""},"Yes","No",0,0]
[null,114,null,null,null,null,null,null,null,null,null,null,null,{"$f":"IF(AND(G125>='A - Contractor Summary'!$C$36,G125<='A - Contractor Summary'!$C$38),\"Yes\",IF(G125<'A - Contractor Summary'!$C$36,\"No\",IF(G125>'A - Contractor Summary'!$C$39,\"\",\"\")))","v":"No"},{"$f":"IF(OR(N125=\"Yes\",N125=\"No\")*AND(G125<'A - Contractor Summary'!$C$39),\"\",IF(AND(G125>'A - Contractor Summary'!$C$39,G125<'A - Contractor Summary'!$C$42),\"Yes\",IF(G125>'A - Contractor Summary'!$C$42,\"No\",\"Needs Review\")))","v":""},"Yes","No",0,0]
[null,115,null,null,null,null,null,null,null,null,null,null,null,{"$f":"IF(AND(G126>='A - Contractor Summary'!$C$36,G126<='A - Contractor Summary'!$C$38),\"Yes\",IF(G126<'A - Contractor Summary'!$C$36,\"No\",IF(G126>'A - Contractor Summary'!$C$39,\"\",\"\")))","v":"No"},{"$f":"IF(OR(N126=\"Yes\",N126=\"No\")*AND(G126<'A - Contractor Summary'!$C$39),\"\",IF(AND(G126>'A - Contractor Summary'!$C$39,G126<'A - Contractor Summary'!$C$42),\"Yes\",IF(G126>'A - Contractor Summary'!$C$42,\"No\",\"Needs Review\")))","v":""},"Yes","No",0,0]
[null,116,null,null,null,null,null,null,null,null,null,null,null,{"$f":"IF(AND(G127>='A - Contractor Summary'!$C$36,G127<='A - Contractor Summary'!$C$38),\"Yes\",IF(G127<'A - Contractor Summary'!$C$36,\"No\",IF(G127>'A - Contractor Summary'!$C$39,\"\",\"\")))","v":"No"},{"$f":"IF(OR(N127=\"Yes\",N127=\"No\")*AND(G127<'A - Contractor Summary'!$C$39),\"\",IF(AND(G127>'A - Contractor Summary'!$C$39,G127<'A - Contractor Summary'!$C$42),\"Yes\",IF(G127>'A - Contractor Summary'!$C$42,\"No\",\"Needs Review\")))","v":""},"Yes","No",0,0]
[null,117,null,null,null,null,null,null,null,null,null,null,null,{"$f":"IF(AND(G128>='A - Contractor Summary'!$C$36,G128<='A - Contractor Summary'!$C$38),\"Yes\",IF(G128<'A - Contractor Summary'!$C$36,\"No\",IF(G128>'A - Contractor Summary'!$C$39,\"\",\"\")))","v":"No"},{"$f":"IF(OR(N128=\"Yes\",N128=\"No\")*AND(G128<'A - Contractor Summary'!$C$39),\"\",IF(AND(G128>'A - Contractor Summary'!$C$39,G128<'A - Contractor Summary'!$C$42),\"Yes\",IF(G128>'A - Contractor Summary'!$C$42,\"No\",\"Needs Review\")))","v":""},"Yes","No",0,0]
[null,118,null,null,null,null,null,null,null,null,null,null,null,{"$f":"IF(AND(G129>='A - Contractor Summary'!$C$36,G129<='A - Contractor Summary'!$C$38),\"Yes\",IF(G129<'A - Contractor Summary'!$C$36,\"No\",IF(G129>'A - Contractor Summary'!$C$39,\"\",\"\")))","v":"No"},{"$f":"IF(OR(N129=\"Yes\",N129=\"No\")*AND(G129<'A - Contractor Summary'!$C$39),\"\",IF(AND(G129>'A - Contractor Summary'!$C$39,G129<'A - Contractor Summary'!$C$42),\"Yes\",IF(G129>'A - Contractor Summary'!$C$42,\"No\",\"Needs Review\")))","v":""},"Yes","No",0,0]
[null,119,null,null,null,null,null,null,null,null,null,null,null,{"$f":"IF(AND(G130>='A - Contractor Summary'!$C$36,G130<='A - Contractor Summary'!$C$38),\"Yes\",IF(G130<'A - Contractor Summary'!$C$36,\"No\",IF(G130>'A - Contractor Summary'!$C$39,\"\",\"\")))","v":"No"},{"$f":"IF(OR(N130=\"Yes\",N130=\"No\")*AND(G130<'A - Contractor Summary'!$C$39),\"\",IF(AND(G130>'A - Contractor Summary'!$C$39,G130<'A - Contractor Summary'!$C$42),\"Yes\",IF(G130>'A - Contractor Summary'!$C$42,\"No\",\"Needs Review\")))","v":""},"Yes","No",0,0]
[null,120,null,null,null,null,null,null,null,null,null,null,null,{"$f":"IF(AND(G131>='A - Contractor Summary'!$C$36,G131<='A - Contractor Summary'!$C$38),\"Yes\",IF(G131<'A - Contractor Summary'!$C$36,\"No\",IF(G131>'A - Contractor Summary'!$C$39,\"\",\"\")))","v":"No"},{"$f":"IF(OR(N131=\"Yes\",N131=\"No\")*AND(G131<'A - Contractor Summary'!$C$39),\"\",IF(AND(G131>'A - Contractor Summary'!$C$39,G131<'A - Contractor Summary'!$C$42),\"Yes\",IF(G131>'A - Contractor Summary'!$C$42,\"No\",\"Needs Review\")))","v":""},"Yes","No",0,0]
[null,121,null,null,null,null,null,null,null,null,null,null,null,{"$f":"IF(AND(G132>='A - Contractor Summary'!$C$36,G132<='A - Contractor Summary'!$C$38),\"Yes\",IF(G132<'A - Contractor Summary'!$C$36,\"No\",IF(G132>'A - Contractor Summary'!$C$39,\"\",\"\")))","v":"No"},{"$f":"IF(OR(N132=\"Yes\",N132=\"No\")*AND(G132<'A - Contractor Summary'!$C$39),\"\",IF(AND(G132>'A - Contractor Summary'!$C$39,G132<'A - Contractor Summary'!$C$42),\"Yes\",IF(G132>'A - Contractor Summary'!$C$42,\"No\",\"Needs Review\")))","v":""},"Yes","No",0,0]
[null,122,null,null,null,null,null,null,null,null,null,null,null,{"$f":"IF(AND(G133>='A - Contractor Summary'!$C$36,G133<='A - Contractor Summary'!$C$38),\"Yes\",IF(G133<'A - Contractor Summary'!$C$36,\"No\",IF(G133>'A - Contractor Summary'!$C$39,\"\",\"\")))","v":"No"},{"$f":"IF(OR(N133=\"Yes\",N133=\"No\")*AND(G133<'A - Contractor Summary'!$C$39),\"\",IF(AND(G133>'A - Contractor Summary'!$C$39,G133<'A - Contractor Summary'!$C$42),\"Yes\",IF(G133>'A - Contractor Summary'!$C$42,\"No\",\"Needs Review\")))","v":""},"Yes","No",0,0]
[null,123,null,null,null,null,null,null,null,null,null,null,null,{"$f":"IF(AND(G134>='A - Contractor Summary'!$C$36,G134<='A - Contractor Summary'!$C$38),\"Yes\",IF(G134<'A - Contractor Summary'!$C$36,\"No\",IF(G134>'A - Contractor Summary'!$C$39,\"\",\"\")))","v":"No"},{"$f":"IF(OR(N134=\"Yes\",N134=\"No\")*AND(G134<'A - Contractor Summary'!$C$39),\"\",IF(AND(G134>'A - Contractor Summary'!$C$39,G134<'A - Contractor Summary'!$C$42),\"Yes\",IF(G134>'A - Contractor Summary'!$C$42,\"No\",\"Needs Review\")))","v":""},"Yes","No",0,0]
[null,124,null,null,null,null,null,null,null,null,null,null,null,{"$f":"IF(AND(G135>='A - Contractor Summary'!$C$36,G135<='A - Contractor Summary'!$C$38),\"Yes\",IF(G135<'A - Contractor Summary'!$C$36,\"No\",IF(G135>'A - Contractor Summary'!$C$39,\"\",\"\")))","v":"No"},{"$f":"IF(OR(N135=\"Yes\",N135=\"No\")*AND(G135<'A - Contractor Summary'!$C$39),\"\",IF(AND(G135>'A - Contractor Summary'!$C$39,G135<'A - Contractor Summary'!$C$42),\"Yes\",IF(G135>'A - Contractor Summary'!$C$42,\"No\",\"Needs Review\")))","v":""},"Yes","No",0,0]
[null,125,null,null,null,null,null,null,null,null,null,null,null,{"$f":"IF(AND(G136>='A - Contractor Summary'!$C$36,G136<='A - Contractor Summary'!$C$38),\"Yes\",IF(G136<'A - Contractor Summary'!$C$36,\"No\",IF(G136>'A - Contractor Summary'!$C$39,\"\",\"\")))","v":"No"},{"$f":"IF(OR(N136=\"Yes\",N136=\"No\")*AND(G136<'A - Contractor Summary'!$C$39),\"\",IF(AND(G136>'A - Contractor Summary'!$C$39,G136<'A - Contractor Summary'!$C$42),\"Yes\",IF(G136>'A - Contractor Summary'!$C$42,\"No\",\"Needs Review\")))","v":""},"Yes","No",0,0]
[null,126,null,null,null,null,null,null,null,null,null,null,null,{"$f":"IF(AND(G137>='A - Contractor Summary'!$C$36,G137<='A - Contractor Summary'!$C$38),\"Yes\",IF(G137<'A - Contractor Summary'!$C$36,\"No\",IF(G137>'A - Contractor Summary'!$C$39,\"\",\"\")))","v":"No"},{"$f":"IF(OR(N137=\"Yes\",N137=\"No\")*AND(G137<'A - Contractor Summary'!$C$39),\"\",IF(AND(G137>'A - Contractor Summary'!$C$39,G137<'A - Contractor Summary'!$C$42),\"Yes\",IF(G137>'A - Contractor Summary'!$C$42,\"No\",\"Needs Review\")))","v":""},"Yes","No",0,0]
[null,127,null,null,null,null,null,null,null,null,null,null,null,{"$f":"IF(AND(G138>='A - Contractor Summary'!$C$36,G138<='A - Contractor Summary'!$C$38),\"Yes\",IF(G138<'A - Contractor Summary'!$C$36,\"No\",IF(G138>'A - Contractor Summary'!$C$39,\"\",\"\")))","v":"No"},{"$f":"IF(OR(N138=\"Yes\",N138=\"No\")*AND(G138<'A - Contractor Summary'!$C$39),\"\",IF(AND(G138>'A - Contractor Summary'!$C$39,G138<'A - Contractor Summary'!$C$42),\"Yes\",IF(G138>'A - Contractor Summary'!$C$42,\"No\",\"Needs Review\")))","v":""},"Yes","No",0,0]
[null,128,null,null,null,null,null,null,null,null,null,null,null,{"$f":"IF(AND(G139>='A - Contractor Summary'!$C$36,G139<='A - Contractor Summary'!$C$38),\"Yes\",IF(G139<'A - Contractor Summary'!$C$36,\"No\",IF(G139>'A - Contractor Summary'!$C$39,\"\",\"\")))","v":"No"},{"$f":"IF(OR(N139=\"Yes\",N139=\"No\")*AND(G139<'A - Contractor Summary'!$C$39),\"\",IF(AND(G139>'A - Contractor Summary'!$C$39,G139<'A - Contractor Summary'!$C$42),\"Yes\",IF(G139>'A - Contractor Summary'!$C$42,\"No\",\"Needs Review\")))","v":""},"Yes","No",0,0]
[null,129,null,null,null,null,null,null,null,null,null,null,null,{"$f":"IF(AND(G140>='A - Contractor Summary'!$C$36,G140<='A - Contractor Summary'!$C$38),\"Yes\",IF(G140<'A - Contractor Summary'!$C$36,\"No\",IF(G140>'A - Contractor Summary'!$C$39,\"\",\"\")))","v":"No"},{"$f":"IF(OR(N140=\"Yes\",N140=\"No\")*AND(G140<'A - Contractor Summary'!$C$39),\"\",IF(AND(G140>'A - Contractor Summary'!$C$39,G140<'A - Contractor Summary'!$C$42),\"Yes\",IF(G140>'A - Contractor Summary'!$C$42,\"No\",\"Needs Review\")))","v":""},"Yes",{"$f":"IF(AND(P140=\"Yes\",L140=\"Yes\",M140=\"Yes\")*OR(O140=\"Yes\",N140=\"Yes\"),\"Yes\",IF(OR(L140=\"No\",N140=\"No\",O140=\"No\",P140=\"No\",M140=\"No\"),\"No\",\"Needs Review\"))","v":"No"},{"$f":"IF(Q140=\"Yes\",K140,0)","v":0},{"$f":"IF(Q140=\"Needs Review\",K140,0)","v":0}]
[null,null,null,null,null,null,null,null,null,null,{"$f":"SUM(K14:K140)","v":0},null,null,null,null,null,null,{"$f":"IFERROR(SUM(R14:R140),0)","v":0},{"$f":"IFERROR(SUM(S14:S140),0)","v":0},{"$f":"SUM(T14:T140)","v":0},{"$f":"SUM(U14:U140)","v":0},{"$f":"S141-T141-U141","v":0},"check (a)"]
[]
[]
[]
[null,"Tickmark Explanation:"]
[null,null,1]
[null,null,2]
[null,null,3]
[null,null,4]
[null,null,5]
[null,null,6]
[null,null,7]

{"sheet":"I - Other","index":11,"n_rows":21,"n_cols":23,"rows_kept":21,"cut":false,"hidden":false,"merged":[[12,13,12,21],[12,1,12,12],[3,1,7,12],[21,3,21,21]]}
[]
[null,"Other Charges"]
[]
[null,"Test Plan: (A) Obtain support of individual charges.   (B) Enter Yes/No if receipt is itemized.  (C) Enter Yes/No if proof of payment has been provided.  (D) Ensure charges fall between the dates the vendor was mobilized and the date they arrived.  (E) Ensure charges are prior to the date the vendor arrived home or was released to another utility.  (F) Ensure the expense type is reasonable (G) Determine the amount(s) to be reviewed, allowed and/or disallowed.   (H)  For charges which required further review, document review and include why it was determined to be allowed/disallowed via a tickmark."]
[]
[]
[]
[]
[null,"a","Check figure should equal $0.  Cell will appear yellow if discrepancies are noted."]
[]
[]
[null,null,"A",null,null,null,null,null,null,null,null,"B","C","D","E","F","G",null,null,"H"]
[null,"Support Reviewed",null,null,null,null,null,null,null,null,null,null,null,"Conclusions"]
[null,"#","Type of Support","Support Identifier","Company","Crew","Date","Person","Vendor Name","Location","$ Total","Itemized Receipt","Proof of Payment","Reasonable based on Mobilization date(s)","Reasonable based on Demobilization date(s)","Expense Type Appropriate","Conclusion","$ Allowable Charge","$ To Be Reviewed","Reviewed - Allowable Charge","Reviewed - Unallowable Charge","Tickmarks"]
[null,1,null,null,null,null,null,null,null,null,null,null,null,{"$f":"IF(AND(G15>='A - Contractor Summary'!$C$36,G15<='A - Contractor Summary'!$C$38),\"Yes\",IF(G15<'A - Contractor Summary'!$C$36,\"No\",IF(G15>'A - Contractor Summary'!$C$39,\"\",\"\")))","v":"No"},{"$f":"IF(OR(N15=\"Yes\",N15=\"No\")*AND(G15<'A - Contractor Summary'!$C$39),\"\",IF(AND(G15>'A - Contractor Summary'!$C$39,G15<'A - Contractor Summary'!$C$42),\"Yes\",IF(G15>'A - Contractor Summary'!$C$42,\"No\",\"Needs Review\")))","v":""},"Needs Reviewed",{"$f":"IF(AND(P15=\"YES\",L15=\"Yes\",M15=\"yes\")*OR(N15=\"Yes\",O15=\"Yes\"),\"Yes\",IF(OR(O15=\"No\",P15=\"No\",N15=\"No\",M15=\"No\"),\"No\",\"Needs Review\"))","v":"No"},{"$f":"IF(Q15=\"Yes\",K15,0)","v":0},{"$f":"IF(Q15=\"Needs Review\",K15,0)","v":0}]
[null,null,null,null,null,null,null,null,null,null,{"$f":"SUM(K15:K15)","v":0},null,null,null,null,null,null,{"$f":"IFERROR(SUM(R15:R15),0)","v":0},{"$f":"IFERROR(SUM(S15:S15),0)","v":0},{"$f":"SUM(T15:T15)","v":0},{"$f":"SUM(U15:U15)","v":0},{"$f":"S16-T16-U16","v":0},"check (a)"]
[]
[]
[]
[null,"Tickmark Explanation:"]
[null,null,1]

{"sheet":"G - Per Diem","index":12,"n_rows":41,"n_cols":19,"rows_kept":41,"cut":false,"hidden":false,"merged":[[3,1,8,9],[1,1,1,17],[14,9,14,17],[14,1,14,8],[4,11,6,16]]}
[null,null,null,null,null,null,null," "]
[null,"Per Diem Charges"]
[]
[null,"Test Plan: (A) Enter per diem charges per invoice. (B) Enter number of crew worked per timecard.  (C) Enter the Per Diem Rate charged per person per meal (D) Ensure the number of crew members being charged is appropriate (This is comparing the submitted timecards and the per diem charges invoiced).  (E) Ensure charges fall between the dates the vendor was mobilized and the date they arrived.  (F) Ensure charges are prior to the date the vendor arrived home or was released to another utility.  (G)  Determine the amount(s) to be reviewed, allowed and/or disallowed.   (H) For charges which required further review, document review and include why it was determined to be allowed/disallowed via a tickmark."]
[]
[]
[]
[]
[]
[null,"Rx","Recalculated."]
[null,"a","Check figure should equal $0.  Cell will appear yellow if discrepancies are noted."]
[]
[]
[null,"A",null,null,null,"B","Rx","C","Rx","D","E","F","G",null,null,"H"]
[null,"Support Reviewed",null,null,null,null,null,null,null,"Conclusion"]
[null,"Dates","Company","Per Diem Type","# Crew Worked (per invoice)","# Crew Worked (per timecards)","Difference","Per Diem Rate","Total Per Diem  ","# Crew Reasonable","Reasonable based on Mobilization date(s)","Reasonable based on Demobilization date(s)","Conclusion","$ Allowable Charge","$ To Be Reviewed","Reviewed - Allowable Charge","Reviewed - Unallowable Charge","Tickmarks"]
[null,"10/7/2018-10/13/2018","Vendor No. 02",null,153,null,{"$f":"E17-F17","v":153},18,{"$f":"E17*H17","v":2754},{"$f":"IF(G17>0,\"No\",IF(F17=0,\"N/A\",\"Yes\"))","v":"No"},{"$f":"IF(AND(B17>='A - Contractor Summary'!$C$36,B17<='A - Contractor Summary'!$C$38),\"Yes\",IF(B17<'A - Contractor Summary'!$C$36,\"No\",IF(B17>'A - Contractor Summary'!$C$39,\"\",\"\")))","v":""},{"$f":"IF(OR(K17=\"Yes\",K17=\"No\")*AND(B17<'A - Contractor Summary'!$C$39),\"\",IF(AND(B17>'A - Contractor Summary'!$C$39,B17<'A - Contractor Summary'!$C$42),\"Yes\",IF(B17>'A - Contractor Summary'!$C$42,\"No\",\"Needs Review\")))","v":"No"},{"$f":"IF(AND(J17=\"Yes\")*OR(K17=\"Yes\",L17=\"Yes\"),\"Yes\",IF(OR(K17=\"No\",J17=\"No\",L17=\"No\"),\"No\",\"Needs Review\"))","v":"No"},{"$f":"IF(M17=\"Yes\",I17,0)","v":0},{"$f":"IF(M17=\"Needs Review\",I17,0)","v":0},{"$f":"+I17","v":2754},null,1]
[null,"10/14/2018-10/20/2018","Vendor No. 02",null,120,null,120,18,{"$f":"E18*H18","v":2160},{"$f":"IF(G18>0,\"No\",IF(F18=0,\"N/A\",\"Yes\"))","v":"No"},{"$f":"IF(AND(B18>='A - Contractor Summary'!$C$36,B18<='A - Contractor Summary'!$C$38),\"Yes\",IF(B18<'A - Contractor Summary'!$C$36,\"No\",IF(B18>'A - Contractor Summary'!$C$39,\"\",\"\")))","v":""},{"$f":"IF(OR(K18=\"Yes\",K18=\"No\")*AND(B18<'A - Contractor Summary'!$C$39),\"\",IF(AND(B18>'A - Contractor Summary'!$C$39,B18<'A - Contractor Summary'!$C$42),\"Yes\",IF(B18>'A - Contractor Summary'!$C$42,\"No\",\"Needs Review\")))","v":"No"},{"$f":"IF(AND(J18=\"Yes\")*OR(K18=\"Yes\",L18=\"Yes\"),\"Yes\",IF(OR(K18=\"No\",J18=\"No\",L18=\"No\"),\"No\",\"Needs Review\"))","v":"No"},{"$f":"IF(M18=\"Yes\",I18,0)","v":0},{"$f":"IF(M18=\"Needs Review\",I18,0)","v":0},{"$f":"+I18","v":2160},null,1]
[null,"10/28/2018-11/3/2018","Vendor No. 02",null,792,null,792,18,{"$f":"E19*H19","v":14256},{"$f":"IF(G19>0,\"No\",IF(F19=0,\"N/A\",\"Yes\"))","v":"No"},{"$f":"IF(AND(B19>='A - Contractor Summary'!$C$36,B19<='A - Contractor Summary'!$C$38),\"Yes\",IF(B19<'A - Contractor Summary'!$C$36,\"No\",IF(B19>'A - Contractor Summary'!$C$39,\"\",\"\")))","v":""},{"$f":"IF(OR(K19=\"Yes\",K19=\"No\")*AND(B19<'A - Contractor Summary'!$C$39),\"\",IF(AND(B19>'A - Contractor Summary'!$C$39,B19<'A - Contractor Summary'!$C$42),\"Yes\",IF(B19>'A - Contractor Summary'!$C$42,\"No\",\"Needs Review\")))","v":"No"},"No",0,0,14256,null,1]
[null,"11/4/2018-11/10/2018","Vendor No. 02",null,522,null,522,18,9396,"No",{"$f":"IF(AND(B20>='A - Contractor Summary'!$C$36,B20<='A - Contractor Summary'!$C$38),\"Yes\",IF(B20<'A - Contractor Summary'!$C$36,\"No\",IF(B20>'A - Contractor Summary'!$C$39,\"\",\"\")))","v":""},{"$f":"IF(OR(K20=\"Yes\",K20=\"No\")*AND(B20<'A - Contractor Summary'!$C$39),\"\",IF(AND(B20>'A - Contractor Summary'!$C$39,B20<'A - Contractor Summary'!$C$42),\"Yes\",IF(B20>'A - Contractor Summary'!$C$42,\"No\",\"Needs Review\")))","v":"No"},"No",0,0,9396,null,1]
[null,null,null,null,null,null,0,null,0,"N/A",{"$f":"IF(AND(B21>='A - Contractor Summary'!$C$36,B21<='A - Contractor Summary'!$C$38),\"Yes\",IF(B21<'A - Contractor Summary'!$C$36,\"No\",IF(B21>'A - Contractor Summary'!$C$39,\"\",\"\")))","v":"No"},{"$f":"IF(OR(K21=\"Yes\",K21=\"No\")*AND(B21<'A - Contractor Summary'!$C$39),\"\",IF(AND(B21>'A - Contractor Summary'!$C$39,B21<'A - Contractor Summary'!$C$42),\"Yes\",IF(B21>'A - Contractor Summary'!$C$42,\"No\",\"Needs Review\")))","v":""},"No",0,0,0]
[null,null,null,null,null,null,0,null,0,"N/A",{"$f":"IF(AND(B22>='A - Contractor Summary'!$C$36,B22<='A - Contractor Summary'!$C$38),\"Yes\",IF(B22<'A - Contractor Summary'!$C$36,\"No\",IF(B22>'A - Contractor Summary'!$C$39,\"\",\"\")))","v":"No"},{"$f":"IF(OR(K22=\"Yes\",K22=\"No\")*AND(B22<'A - Contractor Summary'!$C$39),\"\",IF(AND(B22>'A - Contractor Summary'!$C$39,B22<'A - Contractor Summary'!$C$42),\"Yes\",IF(B22>'A - Contractor Summary'!$C$42,\"No\",\"Needs Review\")))","v":""},"No",0,0]
[null,null,null,null,null,null,0,null,0,"N/A",{"$f":"IF(AND(B23>='A - Contractor Summary'!$C$36,B23<='A - Contractor Summary'!$C$38),\"Yes\",IF(B23<'A - Contractor Summary'!$C$36,\"No\",IF(B23>'A - Contractor Summary'!$C$39,\"\",\"\")))","v":"No"},{"$f":"IF(OR(K23=\"Yes\",K23=\"No\")*AND(B23<'A - Contractor Summary'!$C$39),\"\",IF(AND(B23>'A - Contractor Summary'!$C$39,B23<'A - Contractor Summary'!$C$42),\"Yes\",IF(B23>'A - Contractor Summary'!$C$42,\"No\",\"Needs Review\")))","v":""},"No",0,0]
[null,null,null,null,null,null,0,null,0,"N/A",{"$f":"IF(AND(B24>='A - Contractor Summary'!$C$36,B24<='A - Contractor Summary'!$C$38),\"Yes\",IF(B24<'A - Contractor Summary'!$C$36,\"No\",IF(B24>'A - Contractor Summary'!$C$39,\"\",\"\")))","v":"No"},{"$f":"IF(OR(K24=\"Yes\",K24=\"No\")*AND(B24<'A - Contractor Summary'!$C$39),\"\",IF(AND(B24>'A - Contractor Summary'!$C$39,B24<'A - Contractor Summary'!$C$42),\"Yes\",IF(B24>'A - Contractor Summary'!$C$42,\"No\",\"Needs Review\")))","v":""},"No",0,0]
[null,null,null,null,null,null,0,null,0,"N/A",{"$f":"IF(AND(B25>='A - Contractor Summary'!$C$36,B25<='A - Contractor Summary'!$C$38),\"Yes\",IF(B25<'A - Contractor Summary'!$C$36,\"No\",IF(B25>'A - Contractor Summary'!$C$39,\"\",\"\")))","v":"No"},{"$f":"IF(OR(K25=\"Yes\",K25=\"No\")*AND(B25<'A - Contractor Summary'!$C$39),\"\",IF(AND(B25>'A - Contractor Summary'!$C$39,B25<'A - Contractor Summary'!$C$42),\"Yes\",IF(B25>'A - Contractor Summary'!$C$42,\"No\",\"Needs Review\")))","v":""},"No",0,0]
[null,null,null,null,null,null,0,null,0,"N/A",{"$f":"IF(AND(B26>='A - Contractor Summary'!$C$36,B26<='A - Contractor Summary'!$C$38),\"Yes\",IF(B26<'A - Contractor Summary'!$C$36,\"No\",IF(B26>'A - Contractor Summary'!$C$39,\"\",\"\")))","v":"No"},{"$f":"IF(OR(K26=\"Yes\",K26=\"No\")*AND(B26<'A - Contractor Summary'!$C$39),\"\",IF(AND(B26>'A - Contractor Summary'!$C$39,B26<'A - Contractor Summary'!$C$42),\"Yes\",IF(B26>'A - Contractor Summary'!$C$42,\"No\",\"Needs Review\")))","v":""},"No",0,0]
[null,null,null,null,null,null,0,null,0,"N/A",{"$f":"IF(AND(B27>='A - Contractor Summary'!$C$36,B27<='A - Contractor Summary'!$C$38),\"Yes\",IF(B27<'A - Contractor Summary'!$C$36,\"No\",IF(B27>'A - Contractor Summary'!$C$39,\"\",\"\")))","v":"No"},{"$f":"IF(OR(K27=\"Yes\",K27=\"No\")*AND(B27<'A - Contractor Summary'!$C$39),\"\",IF(AND(B27>'A - Contractor Summary'!$C$39,B27<'A - Contractor Summary'!$C$42),\"Yes\",IF(B27>'A - Contractor Summary'!$C$42,\"No\",\"Needs Review\")))","v":""},"No",0,0]
[null,null,null,null,null,null,0,null,0,"N/A",{"$f":"IF(AND(B28>='A - Contractor Summary'!$C$36,B28<='A - Contractor Summary'!$C$38),\"Yes\",IF(B28<'A - Contractor Summary'!$C$36,\"No\",IF(B28>'A - Contractor Summary'!$C$39,\"\",\"\")))","v":"No"},{"$f":"IF(OR(K28=\"Yes\",K28=\"No\")*AND(B28<'A - Contractor Summary'!$C$39),\"\",IF(AND(B28>'A - Contractor Summary'!$C$39,B28<'A - Contractor Summary'!$C$42),\"Yes\",IF(B28>'A - Contractor Summary'!$C$42,\"No\",\"Needs Review\")))","v":""},"No",0,0]
[null,null,null,null,null,null,0,null,0,"N/A",{"$f":"IF(AND(B29>='A - Contractor Summary'!$C$36,B29<='A - Contractor Summary'!$C$38),\"Yes\",IF(B29<'A - Contractor Summary'!$C$36,\"No\",IF(B29>'A - Contractor Summary'!$C$39,\"\",\"\")))","v":"No"},{"$f":"IF(OR(K29=\"Yes\",K29=\"No\")*AND(B29<'A - Contractor Summary'!$C$39),\"\",IF(AND(B29>'A - Contractor Summary'!$C$39,B29<'A - Contractor Summary'!$C$42),\"Yes\",IF(B29>'A - Contractor Summary'!$C$42,\"No\",\"Needs Review\")))","v":""},"No",0,0]
[null,null,null,null,null,null,0,null,0,"N/A",{"$f":"IF(AND(B30>='A - Contractor Summary'!$C$36,B30<='A - Contractor Summary'!$C$38),\"Yes\",IF(B30<'A - Contractor Summary'!$C$36,\"No\",IF(B30>'A - Contractor Summary'!$C$39,\"\",\"\")))","v":"No"},{"$f":"IF(OR(K30=\"Yes\",K30=\"No\")*AND(B30<'A - Contractor Summary'!$C$39),\"\",IF(AND(B30>'A - Contractor Summary'!$C$39,B30<'A - Contractor Summary'!$C$42),\"Yes\",IF(B30>'A - Contractor Summary'!$C$42,\"No\",\"Needs Review\")))","v":""},"No",0,0]
[null,null,null,null,null,null,0,null,0,"N/A",{"$f":"IF(AND(B31>='A - Contractor Summary'!$C$36,B31<='A - Contractor Summary'!$C$38),\"Yes\",IF(B31<'A - Contractor Summary'!$C$36,\"No\",IF(B31>'A - Contractor Summary'!$C$39,\"\",\"\")))","v":"No"},{"$f":"IF(OR(K31=\"Yes\",K31=\"No\")*AND(B31<'A - Contractor Summary'!$C$39),\"\",IF(AND(B31>'A - Contractor Summary'!$C$39,B31<'A - Contractor Summary'!$C$42),\"Yes\",IF(B31>'A - Contractor Summary'!$C$42,\"No\",\"Needs Review\")))","v":""},"No",0,0]
[null,null,null,null,null,null,0,null,0,"N/A",{"$f":"IF(AND(B32>='A - Contractor Summary'!$C$36,B32<='A - Contractor Summary'!$C$38),\"Yes\",IF(B32<'A - Contractor Summary'!$C$36,\"No\",IF(B32>'A - Contractor Summary'!$C$39,\"\",\"\")))","v":"No"},{"$f":"IF(OR(K32=\"Yes\",K32=\"No\")*AND(B32<'A - Contractor Summary'!$C$39),\"\",IF(AND(B32>'A - Contractor Summary'!$C$39,B32<'A - Contractor Summary'!$C$42),\"Yes\",IF(B32>'A - Contractor Summary'!$C$42,\"No\",\"Needs Review\")))","v":""},"No",0,0]
[null,null,null,null,null,null,0,null,0,"N/A",{"$f":"IF(AND(B33>='A - Contractor Summary'!$C$36,B33<='A - Contractor Summary'!$C$38),\"Yes\",IF(B33<'A - Contractor Summary'!$C$36,\"No\",IF(B33>'A - Contractor Summary'!$C$39,\"\",\"\")))","v":"No"},{"$f":"IF(OR(K33=\"Yes\",K33=\"No\")*AND(B33<'A - Contractor Summary'!$C$39),\"\",IF(AND(B33>'A - Contractor Summary'!$C$39,B33<'A - Contractor Summary'!$C$42),\"Yes\",IF(B33>'A - Contractor Summary'!$C$42,\"No\",\"Needs Review\")))","v":""},"No",0,0]
[null,null,null,null,null,null,0,null,0,"N/A",{"$f":"IF(AND(B34>='A - Contractor Summary'!$C$36,B34<='A - Contractor Summary'!$C$38),\"Yes\",IF(B34<'A - Contractor Summary'!$C$36,\"No\",IF(B34>'A - Contractor Summary'!$C$39,\"\",\"\")))","v":"No"},{"$f":"IF(OR(K34=\"Yes\",K34=\"No\")*AND(B34<'A - Contractor Summary'!$C$39),\"\",IF(AND(B34>'A - Contractor Summary'!$C$39,B34<'A - Contractor Summary'!$C$42),\"Yes\",IF(B34>'A - Contractor Summary'!$C$42,\"No\",\"Needs Review\")))","v":""},"No",0,0]
[null,null,null,null,null,null,0,null,0,"N/A",{"$f":"IF(AND(B35>='A - Contractor Summary'!$C$36,B35<='A - Contractor Summary'!$C$38),\"Yes\",IF(B35<'A - Contractor Summary'!$C$36,\"No\",IF(B35>'A - Contractor Summary'!$C$39,\"\",\"\")))","v":"No"},{"$f":"IF(OR(K35=\"Yes\",K35=\"No\")*AND(B35<'A - Contractor Summary'!$C$39),\"\",IF(AND(B35>'A - Contractor Summary'!$C$39,B35<'A - Contractor Summary'!$C$42),\"Yes\",IF(B35>'A - Contractor Summary'!$C$42,\"No\",\"Needs Review\")))","v":""},"No",0,0]
[null,null,null,null,null,null,{"$f":"SUM(G17:G35)","v":1587},null,{"$f":"SUM(I17:I35)","v":28566},null,null,null,null,{"$f":"IFERROR(SUM(N17:N35),0)","v":0},{"$f":"IFERROR(SUM(O17:O35),0)","v":0},{"$f":"SUM(P17:P35)","v":28566},{"$f":"SUM(Q17:Q35)","v":0},{"$f":"O36-P36-Q36","v":-28566},"check (a)"]
[]
[]
[null,"Tickmark Explanation:"]
[]
[null,"1 Invoices Provided"]

{"sheet":"H - Mileage","index":13,"n_rows":42,"n_cols":23,"rows_kept":42,"cut":false,"hidden":false,"merged":[[1,1,1,21],[13,1,13,11],[13,12,13,21],[3,1,7,11],[5,14,7,19]]}
[]
[null,"Mileage Charges"]
[]
[null,"Test Plan: (A) Obtain support of individual mileage charged (Typically a rate and mileage included on invoice).  (B) Ensure charges fall between the dates the vendor was mobilized and the date they arrived.  (C) Ensure charges are prior to the date the vendor arrived home or was released to another utility.  (D)  Ensure number of miles charged deemed reasonable based on vendor location (recalculated per 'A - Contractor Summary' tab).  (E) Ensure the location of charge was reasonable (If mobilizing, charges should be related to travelling to TECO Service area, and home, if demobilizing).  (F) Determine the amount(s) to be reviewed, allowed and/or disallowed.  (G) For charges which required further review, document review and include why it was determined to be allowed/disallowed via a tickmark."]
[]
[]
[]
[]
[]
[null,"Rx","Recalculated."]
[null,"a","Check figure should equal $0.  Cell will appear yellow if discrepancies are noted."]
[]
[null,null,"A",null,null,null,null,null,null,null,null,"Rx","B","C","D","E","F",null,null,"G"]
[null,"Support Reviewed",null,null,null,null,null,null,null,null,null,null,"Conclusions"]
[null,"#","Type of Support","Company","Equipment Name","Equipment ID","Crew","Date","Location","Miles Charged","$ / Mile (Rate)","Total Charge","Reasonable based on Mobilization date(s)","Reasonable based on Demobilization date(s)","Number of Miles Charged Reasonable","Locations Reasonable","Conclusion","$ Allowable Charge","$ To Be Reviewed","Reviewed - Allowable Charge","Reviewed - Unallowable Charge","Tickmarks"]
[null,1,null,null,null,null,null,null,null,null,null,{"$f":"J16*K16","v":0},{"$f":"IF(AND(H16>='A - Contractor Summary'!$C$36,H16<='A - Contractor Summary'!$C$38),\"Yes\",IF(H16<'A - Contractor Summary'!$C$36,\"No\",IF(H16>'A - Contractor Summary'!$C$39,\"\",\"\")))","v":"No"},{"$f":"IF(OR(M16=\"Yes\",M16=\"No\")*AND(H16<'A - Contractor Summary'!$C$39),\"\",IF(AND(H16>'A - Contractor Summary'!$C$39,H16<'A - Contractor Summary'!$C$42),\"Yes\",IF(H16>'A - Contractor Summary'!$C$42,\"No\",\"Needs Review\")))","v":""},{"$f":"IF(AND(J16>PRODUCT('A - Contractor Summary'!$C$29,0.85),J16<PRODUCT('A - Contractor Summary'!$C$29,1.15)),\"Yes\",\"No\")","v":"No"},null,{"$f":"IF(AND(P16=\"Yes\",O16=\"Yes\")*OR(N16=\"Yes\",M16=\"Yes\"),\"Yes\",IF(OR(M16=\"No\",N16=\"No\",P16=\"No\",O16=\"No\"),\"No\",\"Needs Review\"))","v":"No"},{"$f":"IF(Q16=\"Yes\",L16,0)","v":0},{"$f":"IF(Q16=\"Needs Review\",L16,0)","v":0}]
[null,2,null,null,null,null,null,null,null,null,null,0,{"$f":"IF(AND(H17>='A - Contractor Summary'!$C$36,H17<='A - Contractor Summary'!$C$38),\"Yes\",IF(H17<'A - Contractor Summary'!$C$36,\"No\",IF(H17>'A - Contractor Summary'!$C$39,\"\",\"\")))","v":"No"},{"$f":"IF(OR(M17=\"Yes\",M17=\"No\")*AND(H17<'A - Contractor Summary'!$C$39),\"\",IF(AND(H17>'A - Contractor Summary'!$C$39,H17<'A - Contractor Summary'!$C$42),\"Yes\",IF(H17>'A - Contractor Summary'!$C$42,\"No\",\"Needs Review\")))","v":""},{"$f":"IF(AND(J17>PRODUCT('A - Contractor Summary'!$C$29,0.85),J17<PRODUCT('A - Contractor Summary'!$C$29,1.15)),\"Yes\",\"No\")","v":"No"},null,"No",0,0]
[null,3,null,null,null,null,null,null,null,null,null,0,{"$f":"IF(AND(H18>='A - Contractor Summary'!$C$36,H18<='A - Contractor Summary'!$C$38),\"Yes\",IF(H18<'A - Contractor Summary'!$C$36,\"No\",IF(H18>'A - Contractor Summary'!$C$39,\"\",\"\")))","v":"No"},{"$f":"IF(OR(M18=\"Yes\",M18=\"No\")*AND(H18<'A - Contractor Summary'!$C$39),\"\",IF(AND(H18>'A - Contractor Summary'!$C$39,H18<'A - Contractor Summary'!$C$42),\"Yes\",IF(H18>'A - Contractor Summary'!$C$42,\"No\",\"Needs Review\")))","v":""},{"$f":"IF(AND(J18>PRODUCT('A - Contractor Summary'!$C$29,0.85),J18<PRODUCT('A - Contractor Summary'!$C$29,1.15)),\"Yes\",\"No\")","v":"No"},null,"No",0,0]
[null,4,null,null,null,null,null,null,null,null,null,0,{"$f":"IF(AND(H19>='A - Contractor Summary'!$C$36,H19<='A - Contractor Summary'!$C$38),\"Yes\",IF(H19<'A - Contractor Summary'!$C$36,\"No\",IF(H19>'A - Contractor Summary'!$C$39,\"\",\"\")))","v":"No"},{"$f":"IF(OR(M19=\"Yes\",M19=\"No\")*AND(H19<'A - Contractor Summary'!$C$39),\"\",IF(AND(H19>'A - Contractor Summary'!$C$39,H19<'A - Contractor Summary'!$C$42),\"Yes\",IF(H19>'A - Contractor Summary'!$C$42,\"No\",\"Needs Review\")))","v":""},{"$f":"IF(AND(J19>PRODUCT('A - Contractor Summary'!$C$29,0.85),J19<PRODUCT('A - Contractor Summary'!$C$29,1.15)),\"Yes\",\"No\")","v":"No"},null,"No",0,0]
[null,5,null,null,null,null,null,null,null,null,null,0,{"$f":"IF(AND(H20>='A - Contractor Summary'!$C$36,H20<='A - Contractor Summary'!$C$38),\"Yes\",IF(H20<'A - Contractor Summary'!$C$36,\"No\",IF(H20>'A - Contractor Summary'!$C$39,\"\",\"\")))","v":"No"},{"$f":"IF(OR(M20=\"Yes\",M20=\"No\")*AND(H20<'A - Contractor Summary'!$C$39),\"\",IF(AND(H20>'A - Contractor Summary'!$C$39,H20<'A - Contractor Summary'!$C$42),\"Yes\",IF(H20>'A - Contractor Summary'!$C$42,\"No\",\"Needs Review\")))","v":""},{"$f":"IF(AND(J20>PRODUCT('A - Contractor Summary'!$C$29,0.85),J20<PRODUCT('A - Contractor Summary'!$C$29,1.15)),\"Yes\",\"No\")","v":"No"},null,"No",0,0]
[null,6,null,null,null,null,null,null,null,null,null,0,{"$f":"IF(AND(H21>='A - Contractor Summary'!$C$36,H21<='A - Contractor Summary'!$C$38),\"Yes\",IF(H21<'A - Contractor Summary'!$C$36,\"No\",IF(H21>'A - Contractor Summary'!$C$39,\"\",\"\")))","v":"No"},{"$f":"IF(OR(M21=\"Yes\",M21=\"No\")*AND(H21<'A - Contractor Summary'!$C$39),\"\",IF(AND(H21>'A - Contractor Summary'!$C$39,H21<'A - Contractor Summary'!$C$42),\"Yes\",IF(H21>'A - Contractor Summary'!$C$42,\"No\",\"Needs Review\")))","v":""},{"$f":"IF(AND(J21>PRODUCT('A - Contractor Summary'!$C$29,0.85),J21<PRODUCT('A - Contractor Summary'!$C$29,1.15)),\"Yes\",\"No\")","v":"No"},null,"No",0,0]
[null,7,null,null,null,null,null,null,null,null,null,0,{"$f":"IF(AND(H22>='A - Contractor Summary'!$C$36,H22<='A - Contractor Summary'!$C$38),\"Yes\",IF(H22<'A - Contractor Summary'!$C$36,\"No\",IF(H22>'A - Contractor Summary'!$C$39,\"\",\"\")))","v":"No"},{"$f":"IF(OR(M22=\"Yes\",M22=\"No\")*AND(H22<'A - Contractor Summary'!$C$39),\"\",IF(AND(H22>'A - Contractor Summary'!$C$39,H22<'A - Contractor Summary'!$C$42),\"Yes\",IF(H22>'A - Contractor Summary'!$C$42,\"No\",\"Needs Review\")))","v":""},{"$f":"IF(AND(J22>PRODUCT('A - Contractor Summary'!$C$29,0.85),J22<PRODUCT('A - Contractor Summary'!$C$29,1.15)),\"Yes\",\"No\")","v":"No"},null,"No",0,0]
[null,8,null,null,null,null,null,null,null,null,null,0,{"$f":"IF(AND(H23>='A - Contractor Summary'!$C$36,H23<='A - Contractor Summary'!$C$38),\"Yes\",IF(H23<'A - Contractor Summary'!$C$36,\"No\",IF(H23>'A - Contractor Summary'!$C$39,\"\",\"\")))","v":"No"},{"$f":"IF(OR(M23=\"Yes\",M23=\"No\")*AND(H23<'A - Contractor Summary'!$C$39),\"\",IF(AND(H23>'A - Contractor Summary'!$C$39,H23<'A - Contractor Summary'!$C$42),\"Yes\",IF(H23>'A - Contractor Summary'!$C$42,\"No\",\"Needs Review\")))","v":""},{"$f":"IF(AND(J23>PRODUCT('A - Contractor Summary'!$C$29,0.85),J23<PRODUCT('A - Contractor Summary'!$C$29,1.15)),\"Yes\",\"No\")","v":"No"},null,"No",0,0]
[null,9,null,null,null,null,null,null,null,null,null,0,{"$f":"IF(AND(H24>='A - Contractor Summary'!$C$36,H24<='A - Contractor Summary'!$C$38),\"Yes\",IF(H24<'A - Contractor Summary'!$C$36,\"No\",IF(H24>'A - Contractor Summary'!$C$39,\"\",\"\")))","v":"No"},{"$f":"IF(OR(M24=\"Yes\",M24=\"No\")*AND(H24<'A - Contractor Summary'!$C$39),\"\",IF(AND(H24>'A - Contractor Summary'!$C$39,H24<'A - Contractor Summary'!$C$42),\"Yes\",IF(H24>'A - Contractor Summary'!$C$42,\"No\",\"Needs Review\")))","v":""},{"$f":"IF(AND(J24>PRODUCT('A - Contractor Summary'!$C$29,0.85),J24<PRODUCT('A - Contractor Summary'!$C$29,1.15)),\"Yes\",\"No\")","v":"No"},null,"No",0,0]
[null,10,null,null,null,null,null,null,null,null,null,0,{"$f":"IF(AND(H25>='A - Contractor Summary'!$C$36,H25<='A - Contractor Summary'!$C$38),\"Yes\",IF(H25<'A - Contractor Summary'!$C$36,\"No\",IF(H25>'A - Contractor Summary'!$C$39,\"\",\"\")))","v":"No"},{"$f":"IF(OR(M25=\"Yes\",M25=\"No\")*AND(H25<'A - Contractor Summary'!$C$39),\"\",IF(AND(H25>'A - Contractor Summary'!$C$39,H25<'A - Contractor Summary'!$C$42),\"Yes\",IF(H25>'A - Contractor Summary'!$C$42,\"No\",\"Needs Review\")))","v":""},{"$f":"IF(AND(J25>PRODUCT('A - Contractor Summary'!$C$29,0.85),J25<PRODUCT('A - Contractor Summary'!$C$29,1.15)),\"Yes\",\"No\")","v":"No"},null,"No",0,0]
[null,11,null,null,null,null,null,null,null,null,null,0,{"$f":"IF(AND(H26>='A - Contractor Summary'!$C$36,H26<='A - Contractor Summary'!$C$38),\"Yes\",IF(H26<'A - Contractor Summary'!$C$36,\"No\",IF(H26>'A - Contractor Summary'!$C$39,\"\",\"\")))","v":"No"},{"$f":"IF(OR(M26=\"Yes\",M26=\"No\")*AND(H26<'A - Contractor Summary'!$C$39),\"\",IF(AND(H26>'A - Contractor Summary'!$C$39,H26<'A - Contractor Summary'!$C$42),\"Yes\",IF(H26>'A - Contractor Summary'!$C$42,\"No\",\"Needs Review\")))","v":""},{"$f":"IF(AND(J26>PRODUCT('A - Contractor Summary'!$C$29,0.85),J26<PRODUCT('A - Contractor Summary'!$C$29,1.15)),\"Yes\",\"No\")","v":"No"},null,"No",0,0]
[null,12,null,null,null,null,null,null,null,null,null,0,{"$f":"IF(AND(H27>='A - Contractor Summary'!$C$36,H27<='A - Contractor Summary'!$C$38),\"Yes\",IF(H27<'A - Contractor Summary'!$C$36,\"No\",IF(H27>'A - Contractor Summary'!$C$39,\"\",\"\")))","v":"No"},{"$f":"IF(OR(M27=\"Yes\",M27=\"No\")*AND(H27<'A - Contractor Summary'!$C$39),\"\",IF(AND(H27>'A - Contractor Summary'!$C$39,H27<'A - Contractor Summary'!$C$42),\"Yes\",IF(H27>'A - Contractor Summary'!$C$42,\"No\",\"Needs Review\")))","v":""},{"$f":"IF(AND(J27>PRODUCT('A - Contractor Summary'!$C$29,0.85),J27<PRODUCT('A - Contractor Summary'!$C$29,1.15)),\"Yes\",\"No\")","v":"No"},null,"No",0,0]
[null,13,null,null,null,null,null,null,null,null,null,0,{"$f":"IF(AND(H28>='A - Contractor Summary'!$C$36,H28<='A - Contractor Summary'!$C$38),\"Yes\",IF(H28<'A - Contractor Summary'!$C$36,\"No\",IF(H28>'A - Contractor Summary'!$C$39,\"\",\"\")))","v":"No"},{"$f":"IF(OR(M28=\"Yes\",M28=\"No\")*AND(H28<'A - Contractor Summary'!$C$39),\"\",IF(AND(H28>'A - Contractor Summary'!$C$39,H28<'A - Contractor Summary'!$C$42),\"Yes\",IF(H28>'A - Contractor Summary'!$C$42,\"No\",\"Needs Review\")))","v":""},{"$f":"IF(AND(J28>PRODUCT('A - Contractor Summary'!$C$29,0.85),J28<PRODUCT('A - Contractor Summary'!$C$29,1.15)),\"Yes\",\"No\")","v":"No"},null,"No",0,0]
[null,14,null,null,null,null,null,null,null,null,null,0,{"$f":"IF(AND(H29>='A - Contractor Summary'!$C$36,H29<='A - Contractor Summary'!$C$38),\"Yes\",IF(H29<'A - Contractor Summary'!$C$36,\"No\",IF(H29>'A - Contractor Summary'!$C$39,\"\",\"\")))","v":"No"},{"$f":"IF(OR(M29=\"Yes\",M29=\"No\")*AND(H29<'A - Contractor Summary'!$C$39),\"\",IF(AND(H29>'A - Contractor Summary'!$C$39,H29<'A - Contractor Summary'!$C$42),\"Yes\",IF(H29>'A - Contractor Summary'!$C$42,\"No\",\"Needs Review\")))","v":""},{"$f":"IF(AND(J29>PRODUCT('A - Contractor Summary'!$C$29,0.85),J29<PRODUCT('A - Contractor Summary'!$C$29,1.15)),\"Yes\",\"No\")","v":"No"},null,"No",0,0]
[null,15,null,null,null,null,null,null,null,null,null,0,{"$f":"IF(AND(H30>='A - Contractor Summary'!$C$36,H30<='A - Contractor Summary'!$C$38),\"Yes\",IF(H30<'A - Contractor Summary'!$C$36,\"No\",IF(H30>'A - Contractor Summary'!$C$39,\"\",\"\")))","v":"No"},{"$f":"IF(OR(M30=\"Yes\",M30=\"No\")*AND(H30<'A - Contractor Summary'!$C$39),\"\",IF(AND(H30>'A - Contractor Summary'!$C$39,H30<'A - Contractor Summary'!$C$42),\"Yes\",IF(H30>'A - Contractor Summary'!$C$42,\"No\",\"Needs Review\")))","v":""},{"$f":"IF(AND(J30>PRODUCT('A - Contractor Summary'!$C$29,0.85),J30<PRODUCT('A - Contractor Summary'!$C$29,1.15)),\"Yes\",\"No\")","v":"No"},null,"No",0,0]
[null,16,null,null,null,null,null,null,null,null,null,0,{"$f":"IF(AND(H31>='A - Contractor Summary'!$C$36,H31<='A - Contractor Summary'!$C$38),\"Yes\",IF(H31<'A - Contractor Summary'!$C$36,\"No\",IF(H31>'A - Contractor Summary'!$C$39,\"\",\"\")))","v":"No"},{"$f":"IF(OR(M31=\"Yes\",M31=\"No\")*AND(H31<'A - Contractor Summary'!$C$39),\"\",IF(AND(H31>'A - Contractor Summary'!$C$39,H31<'A - Contractor Summary'!$C$42),\"Yes\",IF(H31>'A - Contractor Summary'!$C$42,\"No\",\"Needs Review\")))","v":""},{"$f":"IF(AND(J31>PRODUCT('A - Contractor Summary'!$C$29,0.85),J31<PRODUCT('A - Contractor Summary'!$C$29,1.15)),\"Yes\",\"No\")","v":"No"},null,"No",0,0]
[null,17,null,null,null,null,null,null,null,null,null,0,{"$f":"IF(AND(H32>='A - Contractor Summary'!$C$36,H32<='A - Contractor Summary'!$C$38),\"Yes\",IF(H32<'A - Contractor Summary'!$C$36,\"No\",IF(H32>'A - Contractor Summary'!$C$39,\"\",\"\")))","v":"No"},{"$f":"IF(OR(M32=\"Yes\",M32=\"No\")*AND(H32<'A - Contractor Summary'!$C$39),\"\",IF(AND(H32>'A - Contractor Summary'!$C$39,H32<'A - Contractor Summary'!$C$42),\"Yes\",IF(H32>'A - Contractor Summary'!$C$42,\"No\",\"Needs Review\")))","v":""},{"$f":"IF(AND(J32>PRODUCT('A - Contractor Summary'!$C$29,0.85),J32<PRODUCT('A - Contractor Summary'!$C$29,1.15)),\"Yes\",\"No\")","v":"No"},null,"No",0,0]
[null,18,null,null,null,null,null,null,null,null,null,0,{"$f":"IF(AND(H33>='A - Contractor Summary'!$C$36,H33<='A - Contractor Summary'!$C$38),\"Yes\",IF(H33<'A - Contractor Summary'!$C$36,\"No\",IF(H33>'A - Contractor Summary'!$C$39,\"\",\"\")))","v":"No"},{"$f":"IF(OR(M33=\"Yes\",M33=\"No\")*AND(H33<'A - Contractor Summary'!$C$39),\"\",IF(AND(H33>'A - Contractor Summary'!$C$39,H33<'A - Contractor Summary'!$C$42),\"Yes\",IF(H33>'A - Contractor Summary'!$C$42,\"No\",\"Needs Review\")))","v":""},{"$f":"IF(AND(J33>PRODUCT('A - Contractor Summary'!$C$29,0.85),J33<PRODUCT('A - Contractor Summary'!$C$29,1.15)),\"Yes\",\"No\")","v":"No"},null,"No",{"$f":"IF(Q33=\"Yes\",#REF!,0)","v":0},0]
[null,19,null,null,null,null,null,null,null,null,null,0,{"$f":"IF(AND(H34>='A - Contractor Summary'!$C$36,H34<='A - Contractor Summary'!$C$38),\"Yes\",IF(H34<'A - Contractor Summary'!$C$36,\"No\",IF(H34>'A - Contractor Summary'!$C$39,\"\",\"\")))","v":"No"},{"$f":"IF(OR(M34=\"Yes\",M34=\"No\")*AND(H34<'A - Contractor Summary'!$C$39),\"\",IF(AND(H34>'A - Contractor Summary'!$C$39,H34<'A - Contractor Summary'!$C$42),\"Yes\",IF(H34>'A - Contractor Summary'!$C$42,\"No\",\"Needs Review\")))","v":""},{"$f":"IF(AND(J34>PRODUCT('A - Contractor Summary'!$C$29,0.85),J34<PRODUCT('A - Contractor Summary'!$C$29,1.15)),\"Yes\",\"No\")","v":"No"},null,"No",{"$f":"IF(Q34=\"Yes\",#REF!,0)","v":0},0]
[null,20,null,null,null,null,null,null,null,null,null,0,{"$f":"IF(AND(H35>='A - Contractor Summary'!$C$36,H35<='A - Contractor Summary'!$C$38),\"Yes\",IF(H35<'A - Contractor Summary'!$C$36,\"No\",IF(H35>'A - Contractor Summary'!$C$39,\"\",\"\")))","v":"No"},{"$f":"IF(OR(M35=\"Yes\",M35=\"No\")*AND(H35<'A - Contractor Summary'!$C$39),\"\",IF(AND(H35>'A - Contractor Summary'!$C$39,H35<'A - Contractor Summary'!$C$42),\"Yes\",IF(H35>'A - Contractor Summary'!$C$42,\"No\",\"Needs Review\")))","v":""},{"$f":"IF(AND(J35>PRODUCT('A - Contractor Summary'!$C$29,0.85),J35<PRODUCT('A - Contractor Summary'!$C$29,1.15)),\"Yes\",\"No\")","v":"No"},null,"No",{"$f":"IF(Q35=\"Yes\",#REF!,0)","v":0},{"$f":"IF(Q35=\"ED Review\",#REF!,0)","v":0}]
[null,null,null,null,null,null,null,null,null,null,null,{"$f":"SUM(L16:L35)","v":0},null,null,null,null,null,{"$f":"IFERROR(SUM(R16:R35),0)","v":0},{"$f":"IFERROR(SUM(S16:S35),0)","v":0},{"$f":"SUM(T16:T35)","v":0},{"$f":"SUM(U16:U35)","v":0},{"$f":"S36-T36-U36","v":0},"check (a)"]
[]
[]
[]
[]
[]
[null,"Tickmark Explanation:"]