{"text_format":"1","workbook":"xlsx","n_sheets":14,"sheets":["Sign Off","A - Contractor Summary","A.1 SEE Members","B - Summary Expenses ","C.1 - Rate Sheets","C.2 - Timesheets - Labor","C.3 - Asset by Company","C.4 - Timesheets - Equipment","D - Lodging","E - Fuel","F - Meals","I - Other","G - Per Diem","H - Mileage"],"not_rendered":{"charts":0,"images":0,"macros":1,"external_links":3,"defined_names":9,"comments":0,"pivot_tables":0},"unopened":[],"bounds":{"document_bytes":16777216,"sheet_cells":100000,"rows_first":2000,"rows_last":500,"rows_between":2000,"halvings":0,"cell_chars":16384,"cell_head_chars":4096},"cells_cut":0,"cells_raw":0,"read":"whole","date_system":"1900"}

{"sheet":"Sign Off","index":0,"n_rows":19,"n_cols":5,"rows_kept":19,"cut":false,"hidden":false,"merged":[[1,1,1,4],[3,1,3,4],[10,1,10,4],[15,1,15,4]]}
[]
[null,"Sign Off's"]
[]
[null,"Accounting"]
[]
[null,null,"Name","Title","Date"]
[null,"Preparer","Belen Villalba","Temp Analyst","2019-12-17"]
[null,"Reviewer","William Adams","Financial Analysis Manager","2020-01-14"]
[null,"Approver","N/A","N/A","N/A"]
[]
[null,"Audit Services"]
[]
[null,null,"Name","Title","Date"]
[null,"Preparer"]
[]
[null,"Energy Delivery"]
[]
[null,null,"Name","Title","Date"]
[null,"Final Reviewer"]

{"sheet":"A - Contractor Summary","index":1,"n_rows":61,"n_cols":10,"rows_kept":61,"cut":false,"hidden":false,"merged":[[1,1,1,3],[3,1,12,3],[22,6,26,6],[22,9,26,9]]}
[]
[null,"Contractor Summary"]
[]
[null,"Test Plan: (A) Using the drop down list, select the vendor.  (B) Ensure address agrees to invoice(s). (C) Enter the distance between vendor address to Plant City, FL.  (D) Determine if vendor is part of the SEE (see tab A.1 for listing). (E) Determine if other agreements exist.  (F) Using the drop down list, select the Incident Base that the vendor was initially assigned.  (G) If the contractor includes multiple crews with different timelines, utilize the '+' symbol at the top of columns 'H' and 'K' (if necessary) to unhide the vendor summary.  (H) Click the button to populate the second (and third, if necessary) set of tabs for documentation of those expenses.  (I) Complete steps (A) through (F)."]
[]
[]
[]
[]
[]
[]
[]
[]
[]
[null,null,null,null,null,"G",null,null,"G"]
[null,null,"Vendor #04",null,null,"Vendor #2",null,null,"Vendor #3"]
[]
[null,null,null,null,null,null,"H",null,null,"H"]
[]
[null,"Contractor/Company","BLUELAKE UTILITY SERVICES LLC","A",null,null,"A",null,null,"A"]
[null,"SAP Vendor#",null,null,null,10044004,null,null,{"$f":"VLOOKUP(I19,#REF!,2,FALSE)","v":{"$error":"#REF!"}}]
[null,"Service Type","Distribution",null,null,"Transmission",null,null,{"$f":"VLOOKUP($I$19,#REF!,4,FALSE)","v":{"$error":"#REF!"}}]
[]
[null,"Address","PO Box 824","B",null,null,"B",null,{"$f":"VLOOKUP($I$19,#REF!,13,FALSE)","v":{"$error":"#REF!"}},"B"]
[null,"City","Meridian",null,null,null,null,null,{"$f":"VLOOKUP($I$19,#REF!,14,FALSE)","v":{"$error":"#REF!"}}]
[null,"State/Providence","ID",null,null,null,null,null,{"$f":"VLOOKUP($I$19,#REF!,15,FALSE)","v":{"$error":"#REF!"}}]
[null,"Zip",83680,null,null,null,null,null,{"$f":"VLOOKUP($I$19,#REF!,16,FALSE)","v":{"$error":"#REF!"}}]
[null,"Country","USA",null,null,"US",null,null,{"$f":"VLOOKUP($I$19,#REF!,17,FALSE)","v":{"$error":"#REF!"}}]
[]
[null,"Distance from FL (in miles)","Local Crews","C",null,815,"C",null,800,"C"]
[null,"Travel Days (500 m/per day)",0,null,null,{"$f":"ROUNDUP(F29/500,0)","v":2},null,null,{"$f":"ROUNDUP(I29/500,0)","v":2}]
[]
[null,"Member of the SEE",null,"D",null,"NO","D",null,"NO","D"]
[null,"Other Agreement/Contract (Y/N)",null,"E",null,"NO","E",null,"NO","E"]
[null,"Incident Base",null,"F",null,"Winter Haven ","F",null,"Winter Haven ","F"]
[]
[null,"Date Secured","2018-10-11",null,null,"2017-09-04",null,null,{"$f":"VLOOKUP($I$19,#REF!,6,FALSE)","v":{"$error":"#REF!"}}]
[null,"Start Travel","local",null,null,"N/A",null,null,{"$f":"VLOOKUP($I$19,#REF!,7,FALSE)","v":{"$error":"#REF!"}}]
[null,"Date Arrived","2018-10-11",null,null,"2017-09-12",null,null,{"$f":"VLOOKUP($I$19,#REF!,8,FALSE)","v":{"$error":"#REF!"}}]
[null,"Date Released","2019-03-23",null,null,"2017-09-13",null,null,{"$f":"VLOOKUP($I$19,#REF!,9,FALSE)","v":{"$error":"#REF!"}}]
[null,"Time Released",null,null,null,"16:27",null,null,{"$f":"VLOOKUP($I$19,#REF!,10,FALSE)","v":{"$error":"#REF!"}}]
[null,"Released To","home",null,null,"Home",null,null,{"$f":"VLOOKUP($I$19,#REF!,11,FALSE)","v":{"$error":"#REF!"}}]
[null,"Arrived Home/Utility*","local",null,null,"2017-09-15",null,null,{"$f":"IF(I41=\"home\",SUM(IF(I29>500,I39+I30,I39)),I39)","v":{"$error":"#REF!"}}]
[]
[]
[]
[]
[null,null,null,null,null,"C.1 - Rate Sheets (2)",null,null,"C.1 - Rate Sheets (3)"]
[null,null,null,null,null,"C.2 - Timesheets - Labor (2)",null,null,"C.2 - Timesheets - Labor (3)"]
[null,null,null,null,null,"C.4 - Timesheets - Equipmen (2)",null,null,"C.4 - Timesheets - Equipmen (3)"]
[null,null,null,null,null,"D - Lodging (2)",null,null,"D - Lodging (3)"]
[null,null,null,null,null,"E - Fuel (2)",null,null,"E - Fuel (3)"]
[null,null,null,null,null,"F - Meals (2)",null,null,"F - Meals (3)"]
[null,null,null,null,null,"G - Per Diem (2)",null,null,"G - Per Diem (3)"]
[null,null,null,null,null,"H - Mileage (2)",null,null,"H - Mileage (3)"]
[null,null,null,null,null,"I - Other (2)",null,null,"I - Other (3)"]
[]
[]
[]
[null,"*Estimates reasonable arrival time"]
[]
[null,"Tickmark Explanation: "]

{"sheet":"A.1 SEE Members","index":2,"n_rows":65,"n_cols":3,"rows_kept":65,"cut":false,"hidden":false,"merged":[]}
["RMAG","RESPONDING COMPANY","COMPANY NAME"]
["SEE"]
["SEE"]
["SEE"]
["SEE"]
["SEE"]
["SEE"]
["SEE"]
["SEE"]
["SEE"]
["SEE"]
["SEE"]
["SEE"]
["SEE"]
["SEE"]
["SEE"]
["SEE"]
["SEE"]
["SEE"]
[]
[]
[]
[]
["SEE"]
["SEE"]
["SEE"]
["SEE"]
["SEE"]
["SEE"]
[]
["SEE"]
["SEE"]
["SEE"]
["SEE"]
["SEE"]
[]
[]
[]
[]
["SEE"]
["SEE"]
["SEE"]
["SEE"]
[]
[]
[]
["SEE"]
[]
[]
[]
[]
[]
[]
[]
["SEE"]
["SEE"]
["SEE"]
[]
[]
[]
["SEE"]
[]
[]
["SEE"]
["SEE"]

{"sheet":"B - Summary Expenses ","index":3,"n_rows":65,"n_cols":8,"rows_kept":65,"cut":false,"hidden":false,"merged":[[1,1,1,7],[3,1,6,7],[30,1,30,4],[31,1,31,4]]}
[]
[null,"Summary of Expenses"]
[]
[null,"Test Plan: (A) Calculate Total Amount Invoiced for each expense category. (B) Using SAP t-code FBL1N, list Vendor Invoices Paid.  (C) Ensure there are no differences between the Total Expense Amount and the Total Paid Amount. (D) Ensure there are no difference between Total Invoiced Amount and Total Expense Amount.  (E) If applicable, identify difference due to Foreign currency exchange rates.  "]
[]
[]
[]
[]
[null,null,"A"]
[null,null,"Total Invoiced","Total Calculated","Allowable","Reviewed - Allowed","Reviewed - Not Allowable","Not Allowable"]
[null,"Labor Expense Total",6005484,{"$f":"'C.2 - Timesheets - Labor'!GJ506","v":6005484},{"$f":"'C.2 - Timesheets - Labor'!GK506","v":6005484},{"$f":"'C.2 - Timesheets - Labor'!GN506","v":0},{"$f":"'C.2 - Timesheets - Labor'!GO506","v":0},{"$f":"D11-(E11+F11+G11)","v":0}]
[null,"Equipment Expense Total",null,null,null,{"$f":"'C.4 - Timesheets - Equipment'!AD35","v":0},{"$f":"'C.4 - Timesheets - Equipment'!AE35","v":0},{"$f":"D12-(E12+F12+G12)","v":0}]
[null,"Lodging Expense Total",null,{"$f":"'D - Lodging'!L93","v":0},{"$f":"'D - Lodging'!T93","v":0},{"$f":"'D - Lodging'!V93","v":0},{"$f":"'D - Lodging'!W93","v":0},{"$f":"D13-(E13+F13+G13)","v":0}]
[null,"Fuel/Transport Expense Total",6185.55,{"$f":"'E - Fuel'!J17","v":6185.55},{"$f":"'E - Fuel'!Q17","v":0},{"$f":"'E - Fuel'!S17","v":6185.55},{"$f":"'E - Fuel'!T17","v":0},0]
[null,"Meal Expense Total",null,{"$f":"'F - Meals'!K141","v":0},{"$f":"'F - Meals'!R141","v":0},{"$f":"'F - Meals'!T141","v":0},{"$f":"'F - Meals'!U141","v":0},0]
[null,"Per Diem Expense Total",140700,{"$f":"'G - Per Diem'!I49","v":140700},{"$f":"'G - Per Diem'!N49","v":0},{"$f":"'G - Per Diem'!P49","v":140700},{"$f":"'G - Per Diem'!Q49","v":0},0]
[null,"Mileage Expense Total",null,{"$f":"'H - Mileage'!L36","v":0},{"$f":"'H - Mileage'!R36","v":0},{"$f":"'H - Mileage'!T36","v":0},{"$f":"'H - Mileage'!U36","v":0},0]
[null,"Other Expense",58516.66,{"$f":"'I - Other'!K31","v":58516.66},{"$f":"'I - Other'!R31","v":0},{"$f":"'I - Other'!T31","v":58516.66},{"$f":"'I - Other'!U31","v":0},{"$f":"D18-(E18+F18+G18)","v":0}]
[]
[null,"Total Expense per tabs",{"$f":"SUM(C11:C18)","v":6210886.21},{"$f":"SUM(D11:D18)","v":6210886.21},{"$f":"SUM(E11:E18)","v":6005484},{"$f":"SUM(F11:F18)","v":205402.21},{"$f":"SUM(G11:G18)","v":0},0]
[null,"Difference",{"$f":"IF(D21=0,\"\",\"1\")","v":""},{"$f":"C20-D20","v":0},"D"]
[]
[null,"Total Expense ",null,{"$f":"+D20","v":6210886.21}," (from Total SAP Summary)"]
[null,"Total Paid",null,{"$f":"-D60","v":-6210886.21},"(from FBL1N in SAP)"]
[null,"Difference",{"$f":"IF(D25=0,\"\",SUM(C21,1))","v":""},{"$f":"+D23+D24","v":0},"C"," "]
[]
[null,"Exchange Rate"]
[null,"Fx Adjusted to USD",null,null," "]
[null,"Difference",{"$f":"IF(D29=0,\"\",\"3\")","v":""},null,"E"]
[]
[null,"B"]
[]
[null,"Document No ","Doc Date ","Amount","Reference"]
[null,1242,"2018-10-13",226200,668443,null,null," "]
[null,1248,"2018-10-20",956000,668444]
[null,1249,"2018-10-27",1766100,672077]
[null,1253,"2018-11-08",1231400,672090]
[null,1258,"2018-11-10",317969.55,678996]
[null,1267,"2018-11-17",152004.32999999999,675928]
[null,1269,"2018-11-24",51000,679041]
[null,1299,"2018-12-12",70000,681004]
[null,1300,"2018-12-08",70000,681005]
[null,1322,"2018-12-15",71300,694167]
[null,1352,"2018-12-29",42500,692457]
[null,1355,"2019-01-05",68000,685750]
[null,1365,"2019-01-12",83300,686816]
[null,1377,"2018-12-22",75900,694169]
[null,1380,"2019-01-19",85350,692464]
[null,1389,"2019-01-26",119570.8,692466]
[null,1400,"2019-02-02",102050,694170]
[null,1419,"2019-02-09",116935,698357]
[null,1436,"2019-02-16",100720,698358]
[null,1438,"2019-02-23",126325,698359]
[null,1463,"2019-03-02",83340,702027]
[null,1476,"2019-03-09",101050,702029]
[null,1490,"2019-03-16",102750,702327]
[null,1498,"2019-03-23",78500,704588]
[null,1503,"2019-02-23",12621.53,704589]
[]
[null,null,null,{"$f":"SUM(D34:D59)","v":6210886.21}]
[]
[null,"Tickmark Explanation:"]
[null,{"$f":"IFERROR(C21,\"\")","v":""}]
[]
[null,{"$f":"IFERROR(C25,\"\")","v":""}]

{"sheet":"C.1 - Rate Sheets","index":4,"n_rows":55,"n_cols":19,"rows_kept":55,"cut":false,"hidden":false,"merged":[[12,1,12,5],[12,7,12,8],[3,1,3,8],[54,6,54,8],[1,1,1,8]]}
[]
[null,"Labor Charges - Rate Sheet"]
[]
[null,"Test Plan: (A) Using the vendor rate sheet, ensure that a rate was provided for all Positions and Equipment types.  "]
[]
[null,"Labor Types:"]
[null,"ST","Straight Time"]
[null,"OT","Over Time"]
[null,"DT","Double Time"]
[null,"MOB/DMOB","Mobilization/Demobilization Time"]
[]
[]
[null,"Labor per Man Hour",null,null,null,null," ","Labor per Equipment Hour"]
[null,"A",null,null,null,null,null,"A"]
[null,"POSITION","ST","OT","DT","MOB/DMOB",null,"Type","$/HOUR"]
[null,"MOT CREW",null,150,null,null,null,null,null,1]
[null,"CLEAR CREW",null,200]
[null,"EXCAVATION  CREW",null,300]
[null,"MAT CREW",null,300]
[null,"MOT CREW (a)",null,128]
[null,"CLEAN CREW",null,170]
[null,"Additional Laborer",null,45]
[]
[null,null,null,null,null,null,null,null,null,null,null,null,null,null,null,null,null,null," "]
[]
[]
[]
[]
[]
[]
[]
[]
[]
[]
[]
[]
[]
[]
[]
[]
[]
[]
[]
[]
[]
[]
[]
[]
[]
[]
[]
[]
[]
[null,"Tickmark Explanation:"]
[null,1]

{"sheet":"C.2 - Timesheets - Labor","index":5,"n_rows":519,"n_cols":199,"rows_kept":519,"cut":false,"hidden":false,"merged":[[506,182,506,185],[15,188,17,188],[15,187,17,187],[14,182,14,186],[505,1,505,5],[14,1,17,1],[14,2,17,2],[14,4,17,4],[14,5,17,5],[14,3,17,3],[506,14,506,19],[506,35,506,40],[506,21,506,26],[506,28,506,33],[506,42,506,47],[506,49,506,54],[13,14,13,20],[14,6,17,6],[14,8,17,8],[14,7,17,7],[14,10,16,13],[14,9,17,9],[3,2,7,13],[1,1,1,197],[14,195,17,195],[14,196,17,196],[14,197,17,197],[15,186,17,186],[14,192,17,192],[14,194,17,194],[14,187,14,191],[15,191,17,191],[15,190,17,190],[15,189,17,189],[13,21,13,27],[13,28,13,34],[13,35,13,41],[14,193,17,193],[506,56,506,61],[506,63,506,68],[506,70,506,75],[506,77,506,82],[506,84,506,89],[506,91,506,96],[506,98,506,103],[506,105,506,110],[506,112,506,117],[506,119,506,124],[506,126,506,131],[506,133,506,138],[506,175,506,180],[506,140,506,145],[506,147,506,152],[506,154,506,159],[506,161,506,166],[506,168,506,173]]}
[]
[null,"Labor Charges - Time Card"]
[]
[null,"Test Plan:","Obtain the time cards.  (A) Using the Asset by Company tab (C.3), populate the crew members names and positions (if provided).  Find additional information regarding individual crew member from related invoice.  (B) Enter hours worked from time card(s). (C) Confirm that the dates per the time cards fall between dates provided per 'A - Contractor Summary' tab. (D) Confirm the labor type charged agrees to the rate sheet. (E) Identify any labor charges to be reviewed (manually enter amounts based on reasonability of time period labor was charged, discrepancies between timecards and invoice, etc.  (F) For charges which required further review, document review (include why it was determined to be allowed/disallowed via a tickmark)."]
[]
[]
[]
[]
[]
[null,"Rx","Recalculated."]
[null,"a","Provided from tab 'C.1 - Rate Sheets'."]
[null,"b","Check figure should equal $0.  Cell will appear yellow if discrepancies are noted."]
[]
[null,null,"A ",null,null,null,null,"Rx",null,"C","a",null,null,null,"B",null,null,null,null,null,null,"B",null,null,null,null,null,null,"B",null,null,null,null,null,null,"B",null,null,null,null,null,null,null,null,null,null,null,null,null,null,null,null,null,null,null,null,null,null,null,null,null,null,null,null,null,null,null,null,null,null,null,null,null,null,null,null,null,null,null,null,null,null,null,null,null,null,null,null,null,null,null,null,null,null,null,null,null,null,null,null,null,null,null,null,null,null,null,null,null,null,null,null,null,null,null,null,null,null,null,null,null,null,null,null,null,null,null,null,null,null,null,null,null,null,null,null,null,null,null,null,null,null,null,null,null,null,null,null,null,null,null,null,null,null,null,null,null,null,null,null,null,null,null,null,null,null,null,null,null,null,null,null,null,null,null,null,null,null,null,null,null,null,"Rx",null,null,null,null,"Rx",null,null,null,null,"Rx",null,"E","F"]
[null,"#","Name","Position","Company","Crew#","Invoice#","Start Date","End Date","Dates Worked Reasonable?","Rates",null,null,null,"2018-10-07","2018-10-08","2018-10-09","2018-10-10","2018-10-11","2018-10-12","2018-10-13","2018-10-14","2018-10-15","2018-10-16","2018-10-17","2018-10-18","2018-10-19","2018-10-20","2018-10-21","2018-10-22","2018-10-23","2018-10-24","2018-10-25","2018-10-26","2018-10-27","2018-10-28","2018-10-29","2018-10-30","2018-10-31","2018-11-01","2018-11-02","2018-11-03","2018-11-04","2018-11-05","2018-11-06","2018-11-07","2018-11-08","2018-11-09","2018-11-10","2018-11-11","2018-11-12","2018-11-13","2018-11-14","2018-11-15","2018-11-16","2018-11-17","2018-11-18","2018-11-19","2018-11-20","2018-11-21","2018-11-22","2018-11-23","2018-11-24","2018-11-25","2018-11-26","2018-11-27","2018-11-28","2018-11-29","2018-11-30","2018-12-01","2018-12-02","2018-12-03","2018-12-04","2018-12-05","2018-12-06","2018-12-07","2018-12-08","2018-12-09","2018-12-10","2018-12-11","2018-12-12","2018-12-13","2018-12-14","2018-12-15","2018-12-16","2018-12-17","2018-12-18","2018-12-19","2018-12-20","2018-12-21","2018-12-22","2018-12-23","2018-12-24","2018-12-25","2018-12-26","2018-12-27","2018-12-28","2018-12-29","2018-12-30","2018-12-31","2019-01-01","2019-01-02","2019-01-03","2019-01-04","2019-01-05","2019-01-06","2019-01-07","2019-01-08","2019-01-09","2019-01-10","2019-01-11","2019-01-12","2019-01-13","2019-01-14","2019-01-15","2019-01-16","2019-01-17","2019-01-18","2019-01-19","2019-01-20","2019-01-21","2019-01-22","2019-01-23","2019-01-24","2019-01-25","2019-01-26","2019-01-27","2019-01-28","2019-01-29","2019-01-30","2019-01-31","2019-02-01","2019-02-02","2019-02-03","2019-02-04","2019-02-05","2019-02-06","2019-02-07","2019-02-08","2019-02-09","2019-02-10","2019-02-11","2019-02-12","2019-02-13","2019-02-14","2019-02-15","2019-02-16","2019-02-17","2019-02-18","2019-02-19","2019-02-20","2019-02-21","2019-02-22","2019-02-23","2019-02-24","2019-02-25","2019-02-26","2019-02-27","2019-02-28","2019-03-01","2019-03-02","2019-03-03","2019-03-04","2019-03-05","2019-03-06","2019-03-07","2019-03-08","2019-03-09","2019-03-10","2019-03-11","2019-03-12","2019-03-13","2019-03-14","2019-03-15","2019-03-16","2019-03-17","2019-03-18","2019-03-19","2019-03-20","2019-03-21","2019-03-22","2019-03-23","Total Labor Hours",null,null,null,null,"Total Labor $",null,null,null,null,"Allowable Charges","Labor Type Appropriate?","To Be Reviewed","Reviewed - Allowable Charge","Reviewed - Unallowable Charge","Tickmarks"]
[null,null,null,null,null,null,null,null,null,null,null,null,null,null,"2018-10-07","2018-10-08","2018-10-09","2018-10-10","2018-10-11","2018-10-12","2018-10-13","2018-10-14","2018-10-15","2018-10-16","2018-10-17","2018-10-18","2018-10-19","2018-10-20","2018-10-21","2018-10-22","2018-10-23","2018-10-24","2018-10-25","2018-10-26","2018-10-27","2018-10-28","2018-10-29","2018-10-30","2018-10-31","2018-11-01","2018-11-02","2018-11-03","2018-11-04","2018-11-05","2018-11-06","2018-11-07","2018-11-08","2018-11-09","2018-11-10","2018-11-11","2018-11-12","2018-11-13","2018-11-14","2018-11-15","2018-11-16","2018-11-17","2018-11-18","2018-11-19","2018-11-20","2018-11-21","2018-11-22","2018-11-23","2018-11-24","2018-11-25","2018-11-26","2018-11-27","2018-11-28","2018-11-29","2018-11-30","2018-12-01","2018-12-02","2018-12-03","2018-12-04","2018-12-05","2018-12-06","2018-12-07","2018-12-08","2018-12-09","2018-12-10","2018-12-11","2018-12-12","2018-12-13","2018-12-14","2018-12-15","2018-12-16","2018-12-17","2018-12-18","2018-12-19","2018-12-20","2018-12-21","2018-12-22","2018-12-23","2018-12-24","2018-12-25","2018-12-26","2018-12-27","2018-12-28","2018-12-29","2018-12-30","2018-12-31","2019-01-01","2019-01-02","2019-01-03","2019-01-04","2019-01-05","2019-01-06","2019-01-07","2019-01-08","2019-01-09","2019-01-10","2019-01-11","2019-01-12","2019-01-13","2019-01-14","2019-01-15","2019-01-16","2019-01-17","2019-01-18","2019-01-19","2019-01-20","2019-01-21","2019-01-22","2019-01-23","2019-01-24","2019-01-25","2019-01-26","2019-01-27","2019-01-28","2019-01-29","2019-01-30","2019-01-31","2019-02-01","2019-02-02","2019-02-03","2019-02-04","2019-02-05","2019-02-06","2019-02-07","2019-02-08","2019-02-09","2019-02-10","2019-02-11","2019-02-12","2019-02-13","2019-02-14","2019-02-15","2019-02-16","2019-02-17","2019-02-18","2019-02-19","2019-02-20","2019-02-21","2019-02-22","2019-02-23","2019-02-24","2019-02-25","2019-02-26","2019-02-27","2019-02-28","2019-03-01","2019-03-02","2019-03-03","2019-03-04","2019-03-05","2019-03-06","2019-03-07","2019-03-08","2019-03-09","2019-03-10","2019-03-11","2019-03-12","2019-03-13","2019-03-14","2019-03-15","2019-03-16","2019-03-17","2019-03-18","2019-03-19","2019-03-20","2019-03-21","2019-03-22","2019-03-23","ST","OT","FLAT","MOB/DMOB","Total Hours","Total ST $","Total OT $","Total DT $","Total MOB/DMOB $","Total Labor $"]
[null,null,null,null,null,null,null,null,null,null,null,null,null,null,"Sunday","Monday ","Tuesday","Wednesday","Thursday","Friday","Saturday","Sunday","Monday ","Tuesday","Wednesday","Thursday","Friday","Saturday","Sunday","Monday","Tuesday","Wednesday","Thursday","Friday","Saturday","Sunday","Monday","Tuesday","Wednesday","Thursday","Friday","Saturday","Sunday","Monday","Tuesday ","Wednesday","Thursday","Friday","Saturday","Sunday","Monday","Tuesday ","Wednesday","Thursday","Friday","Saturday","Sunday","Monday","Tuesday ","Wednesday","Thursday","Friday","Saturday","Sunday","Monday","Tuesday","Wednesday","Thursday","Friday","Saturday","Sunday","Monday","Tuesday ","Wednesday","Thursday","Friday","Saturday","Sunday","Monday","Tuesday ","Wednesday","Thursday","Friday","Saturday","Sunday","Monday","Tuesday ","Wednesday","Thursday","Friday","Saturday","Sunday","Monday","Tuesday","Wednesday","Thursday","Friday","Saturday","Sunday","Monday","Tuesday ","Wednesday","Thursday","Friday","Saturday","Sunday","Monday","Tuesday ","Wednesday","Thursday","Friday","Saturday","Sunday","Monday","Tuesday ","Wednesday","Thursday","Friday","Saturday","Sunday","Monday","Tuesday","Wednesday","Thursday","Friday","Saturday","Sunday","Monday","Tuesday ","Wednesday","Thursday","Friday","Saturday","Sunday","Monday","Tuesday ","Wednesday","Thursday","Friday","Saturday","Sunday","Monday","Tuesday ","Wednesday","Thursday","Friday","Saturday","Sunday","Monday","Tuesday","Wednesday","Thursday","Friday","Saturday","Sunday","Monday","Tuesday ","Wednesday","Thursday","Friday","Saturday","Sunday","Monday","Tuesday ","Wednesday","Thursday","Friday","Saturday","Sunday","Monday","Tuesday ","Wednesday","Thursday","Friday","Saturday","Sunday","Monday","Tuesday ","Wednesday","Thursday","Friday","Saturday"]
[null,null,null,null,null,null,null,null,null,null,"ST","OT","DT","MOB/DMOB","Total ","Total ","Total ","Total ","Total ","Total ","Total","Total","Total","Total","Total","Total","Total","Total","Total","Total","Total","Total","Total","Total","Total","Total","Total","Total","Total","Total","Total","Total","Total ","Total ","Total ","Total ","Total ","Total ","Total","Total ","Total ","Total ","Total ","Total ","Total ","Total","Total ","Total ","Total ","Total ","Total ","Total ","Total","Total","Total","Total","Total","Total","Total","Total","Total ","Total ","Total ","Total ","Total ","Total ","Total","Total ","Total ","Total ","Total ","Total ","Total ","Total","Total ","Total ","Total ","Total ","Total ","Total ","Total","Total","Total","Total","Total","Total","Total","Total","Total ","Total ","Total ","Total ","Total ","Total ","Total","Total ","Total ","Total ","Total ","Total ","Total ","Total","Total ","Total ","Total ","Total ","Total ","Total ","Total","Total","Total","Total","Total","Total","Total","Total","Total ","Total ","Total ","Total ","Total ","Total ","Total","Total ","Total ","Total ","Total ","Total ","Total ","Total","Total ","Total ","Total ","Total ","Total ","Total ","Total","Total","Total","Total","Total","Total","Total","Total","Total ","Total ","Total ","Total ","Total ","Total ","Total","Total ","Total ","Total ","Total ","Total ","Total ","Total","Total ","Total ","Total ","Total ","Total ","Total ","Total","Total ","Total ","Total ","Total ","Total ","Total ","Total"]
[null,1,null,"MOT CREW","Vendor No.04","Mot 1",1242,{"$f":"INDEX($O$16:$BK$16,MATCH(TRUE,INDEX((O19:BK19>0),0),0))","v":"2018-10-11"},{"$f":"LOOKUP(2,1/(1-(O19:BK19<=0)),$O$16:$BK$16)","v":"2018-10-13"},{"$f":"IF(AND(H19>='A - Contractor Summary'!$C$36,I19<='A - Contractor Summary'!$C$42),\"Yes\",\"No\")","v":"Yes"},{"$f":"VLOOKUP($D19,'C.1 - Rate Sheets'!B:F,2,FALSE)","v":0},{"$f":"VLOOKUP($D19,'C.1 - Rate Sheets'!B:F,3,FALSE)","v":150},{"$f":"VLOOKUP($D19,'C.1 - Rate Sheets'!B:F,4,FALSE)","v":0},{"$f":"VLOOKUP($D19,'C.1 - Rate Sheets'!B:F,5,FALSE)","v":0},null,null,null,null,16,16,16,null,null,null,null,null,null,null,null,null,null,null,null,null,null,null,null,null,null,null,null,null,null,null,null,null,null,null,null,null,null,null,null,null,null,null,null,null,null,null,null,null,null,null,null,null,null,null,null,null,null,null,null,null,null,null,null,null,null,null,null,null,null,null,null,null,null,null,null,null,null,null,null,null,null,null,null,null,null,null,null,null,null,null,null,null,null,null,null,null,null,null,null,null,null,null,null,null,null,null,null,null,null,null,null,null,null,null,null,null,null,null,null,null,null,null,null,null,null,null,null,null,null,null,null,null,null,null,null,null,null,null,null,null,null,null,null,null,null,null,null,null,null,null,null,null,null,null,null,null,null,null,null,null,null,null,null,null,null,null,null,null,null,{"$f":"SUM(O19:FZ19)","v":48},null,null,{"$f":"SUM(GA19:GD19)","v":48},{"$f":"GA19*K19","v":0},{"$f":"GB19*L19","v":7200},{"$f":"GC19*M19","v":0},{"$f":"GD19*N19","v":0},{"$f":"SUM(GF19:GI19)","v":7200},{"$f":"GJ19-GM19","v":7200},"Yes",0,0,0]
[null,2,null,"MOT CREW","Vendor No.04","Mot 2",1242,{"$f":"INDEX($O$16:$BK$16,MATCH(TRUE,INDEX((O20:BK20>0),0),0))","v":"2018-10-11"},{"$f":"LOOKUP(2,1/(1-(O20:BK20<=0)),$O$16:$BK$16)","v":"2018-10-13"},{"$f":"IF(AND(H20>='A - Contractor Summary'!$C$36,I20<='A - Contractor Summary'!$C$42),\"Yes\",\"No\")","v":"Yes"},{"$f":"VLOOKUP($D20,'C.1 - Rate Sheets'!B:F,2,FALSE)","v":0},{"$f":"VLOOKUP($D20,'C.1 - Rate Sheets'!B:F,3,FALSE)","v":150},{"$f":"VLOOKUP($D20,'C.1 - Rate Sheets'!B:F,4,FALSE)","v":0},{"$f":"VLOOKUP($D20,'C.1 - Rate Sheets'!B:F,5,FALSE)","v":0},null,null,null,null,16,16,16,null,null,null,null,null,null,null,null,null,null,null,null,null,null,null,null,null,null,null,null,null,null,null,null,null,null,null,null,null,null,null,null,null,null,null,null,null,null,null,null,null,null,null,null,null,null,null,null,null,null,null,null,null,null,null,null,null,null,null,null,null,null,null,null,null,null,null,null,null,null,null,null,null,null,null,null,null,null,null,null,null,null,null,null,null,null,null,null,null,null,null,null,null,null,null,null,null,null,null,null,null,null,null,null,null,null,null,null,null,null,null,null,null,null,null,null,null,null,null,null,null,null,null,null,null,null,null,null,null,null,null,null,null,null,null,null,null,null,null,null,null,null,null,null,null,null,null,null,null,null,null,null,null,null,null,null,null,null,null,null,null,null,48,null,null,{"$f":"SUM(GA20:GD20)","v":48},0,7200,0,0,7200,7200,"Yes",0,0,0]
[null,3,null,"MOT CREW","Vendor No.04","Mot 3",1242,"2018-10-11","2018-10-13",{"$f":"IF(AND(H21>='A - Contractor Summary'!$C$36,I21<='A - Contractor Summary'!$C$42),\"Yes\",\"No\")","v":"Yes"},{"$f":"VLOOKUP($D21,'C.1 - Rate Sheets'!B:F,2,FALSE)","v":0},{"$f":"VLOOKUP($D21,'C.1 - Rate Sheets'!B:F,3,FALSE)","v":150},{"$f":"VLOOKUP($D21,'C.1 - Rate Sheets'!B:F,4,FALSE)","v":0},{"$f":"VLOOKUP($D21,'C.1 - Rate Sheets'!B:F,5,FALSE)","v":0},null,null,null,null,16,16,16,null,null,null,null,null,null,null,null,null,null,null,null,null,null,null,null,null,null,null,null,null,null,null,null,null,null,null,null,null,null,null,null,null,null,null,null,null,null,null,null,null,null,null,null,null,null,null,null,null,null,null,null,null,null,null,null,null,null,null,null,null,null,null,null,null,null,null,null,null,null,null,null,null,null,null,null,null,null,null,null,null,null,null,null,null,null,null,null,null,null,null,null,null,null,null,null,null,null,null,null,null,null,null,null,null,null,null,null,null,null,null,null,null,null,null,null,null,null,null,null,null,null,null,null,null,null,null,null,null,null,null,null,null,null,null,null,null,null,null,null,null,null,null,null,null,null,null,null,null,null,null,null,null,null,null,null,null,null,null,null,null,null,48,null,null,48,0,7200,0,0,7200,7200,"Yes",0,0,0]
[null,4,null,"MOT CREW","Vendor No.04","Mot 4",1242,"2018-10-11","2018-10-13",{"$f":"IF(AND(H22>='A - Contractor Summary'!$C$36,I22<='A - Contractor Summary'!$C$42),\"Yes\",\"No\")","v":"Yes"},{"$f":"VLOOKUP($D22,'C.1 - Rate Sheets'!B:F,2,FALSE)","v":0},{"$f":"VLOOKUP($D22,'C.1 - Rate Sheets'!B:F,3,FALSE)","v":150},{"$f":"VLOOKUP($D22,'C.1 - Rate Sheets'!B:F,4,FALSE)","v":0},{"$f":"VLOOKUP($D22,'C.1 - Rate Sheets'!B:F,5,FALSE)","v":0},null,null,null,null,16,16,16,null,null,null,null,null,null,null,null,null,null,null,null,null,null,null,null,null,null,null,null,null,null,null,null,null,null,null,null,null,null,null,null,null,null,null,null,null,null,null,null,null,null,null,null,null,null,null,null,null,null,null,null,null,null,null,null,null,null,null,null,null,null,null,null,null,null,null,null,null,null,null,null,null,null,null,null,null,null,null,null,null,null,null,null,null,null,null,null,null,null,null,null,null,null,null,null,null,null,null,null,null,null,null,null,null,null,null,null,null,null,null,null,null,null,null,null,null,null,null,null,null,null,null,null,null,null,null,null,null,null,null,null,null,null,null,null,null,null,null,null,null,null,null,null,null,null,null,null,null,null,null,null,null,null,null,null,null,null,null,null,null,null,48,null,null,48,0,7200,0,0,7200,7200,"Yes",0,0,0]
[null,5,null,"MOT CREW","Vendor No.04","Mot 5",1242,"2018-10-11","2018-10-13",{"$f":"IF(AND(H23>='A - Contractor Summary'!$C$36,I23<='A - Contractor Summary'!$C$42),\"Yes\",\"No\")","v":"Yes"},{"$f":"VLOOKUP($D23,'C.1 - Rate Sheets'!B:F,2,FALSE)","v":0},{"$f":"VLOOKUP($D23,'C.1 - Rate Sheets'!B:F,3,FALSE)","v":150},{"$f":"VLOOKUP($D23,'C.1 - Rate Sheets'!B:F,4,FALSE)","v":0},{"$f":"VLOOKUP($D23,'C.1 - Rate Sheets'!B:F,5,FALSE)","v":0},null,null,null,null,16,16,16,null,null,null,null,null,null,null,null,null,null,null,null,null,null,null,null,null,null,null,null,null,null,null,null,null,null,null,null,null,null,null,null,null,null,null,null,null,null,null,null,null,null,null,null,null,null,null,null,null,null,null,null,null,null,null,null,null,null,null,null,null,null,null,null,null,null,null,null,null,null,null,null,null,null,null,null,null,null,null,null,null,null,null,null,null,null,null,null,null,null,null,null,null,null,null,null,null,null,null,null,null,null,null,null,null,null,null,null,null,null,null,null,null,null,null,null,null,null,null,null,null,null,null,null,null,null,null,null,null,null,null,null,null,null,null,null,null,null,null,null,null,null,null,null,null,null,null,null,null,null,null,null,null,null,null,null,null,null,null,null,null,null,48,null,null,48,0,7200,0,0,7200,7200,"Yes",0,0,0]
[null,6,null,"MOT CREW","Vendor No.04","Mot 6",1242,"2018-10-11","2018-10-13",{"$f":"IF(AND(H24>='A - Contractor Summary'!$C$36,I24<='A - Contractor Summary'!$C$42),\"Yes\",\"No\")","v":"Yes"},{"$f":"VLOOKUP($D24,'C.1 - Rate Sheets'!B:F,2,FALSE)","v":0},{"$f":"VLOOKUP($D24,'C.1 - Rate Sheets'!B:F,3,FALSE)","v":150},{"$f":"VLOOKUP($D24,'C.1 - Rate Sheets'!B:F,4,FALSE)","v":0},{"$f":"VLOOKUP($D24,'C.1 - Rate Sheets'!B:F,5,FALSE)","v":0},null,null,null,null,16,16,16,null,null,null,null,null,null,null,null,null,null,null,null,null,null,null,null,null,null,null,null,null,null,null,null,null,null,null,null,null,null,null,null,null,null,null,null,null,null,null,null,null,null,null,null,null,null,null,null,null,null,null,null,null,null,null,null,null,null,null,null,null,null,null,null,null,null,null,null,null,null,null,null,null,null,null,null,null,null,null,null,null,null,null,null,null,null,null,null,null,null,null,null,null,null,null,null,null,null,null,null,null,null,null,null,null,null,null,null,null,null,null,null,null,null,null,null,null,null,null,null,null,null,null,null,null,null,null,null,null,null,null,null,null,null,null,null,null,null,null,null,null,null,null,null,null,null,null,null,null,null,null,null,null,null,null,null,null,null,null,null,null,null,48,null,null,48,0,7200,0,0,7200,7200,"Yes",0,0,0]
[null,7,null,"MOT CREW","Vendor No.04","Mot 7",1242,"2018-10-11","2018-10-13",{"$f":"IF(AND(H25>='A - Contractor Summary'!$C$36,I25<='A - Contractor Summary'!$C$42),\"Yes\",\"No\")","v":"Yes"},{"$f":"VLOOKUP($D25,'C.1 - Rate Sheets'!B:F,2,FALSE)","v":0},{"$f":"VLOOKUP($D25,'C.1 - Rate Sheets'!B:F,3,FALSE)","v":150},{"$f":"VLOOKUP($D25,'C.1 - Rate Sheets'!B:F,4,FALSE)","v":0},{"$f":"VLOOKUP($D25,'C.1 - Rate Sheets'!B:F,5,FALSE)","v":0},null,null,null,null,16,16,16,null,null,null,null,null,null,null,null,null,null,null,null,null,null,null,null,null,null,null,null,null,null,null,null,null,null,null,null,null,null,null,null,null,null,null,null,null,null,null,null,null,null,null,null,null,null,null,null,null,null,null,null,null,null,null,null,null,null,null,null,null,null,null,null,null,null,null,null,null,null,null,null,null,null,null,null,null,null,null,null,null,null,null,null,null,null,null,null,null,null,null,null,null,null,null,null,null,null,null,null,null,null,null,null,null,null,null,null,null,null,null,null,null,null,null,null,null,null,null,null,null,null,null,null,null,null,null,null,null,null,null,null,null,null,null,null,null,null,null,null,null,null,null,null,null,null,null,null,null,null,null,null,null,null,null,null,null,null,null,null,null,null,48,null,null,48,0,7200,0,0,7200,7200,"Yes",0,0,0]
[null,8,null,"MOT CREW","Vendor No.04","Mot 8",1242,"2018-10-11","2018-10-13",{"$f":"IF(AND(H26>='A - Contractor Summary'!$C$36,I26<='A - Contractor Summary'!$C$42),\"Yes\",\"No\")","v":"Yes"},{"$f":"VLOOKUP($D26,'C.1 - Rate Sheets'!B:F,2,FALSE)","v":0},{"$f":"VLOOKUP($D26,'C.1 - Rate Sheets'!B:F,3,FALSE)","v":150},{"$f":"VLOOKUP($D26,'C.1 - Rate Sheets'!B:F,4,FALSE)","v":0},{"$f":"VLOOKUP($D26,'C.1 - Rate Sheets'!B:F,5,FALSE)","v":0},null,null,null,null,16,16,16,null,null,null,null,null,null,null,null,null,null,null,null,null,null,null,null,null,null,null,null,null,null,null,null,null,null,null,null,null,null,null,null,null,null,null,null,null,null,null,null,null,null,null,null,null,null,null,null,null,null,null,null,null,null,null,null,null,null,null,null,null,null,null,null,null,null,null,null,null,null,null,null,null,null,null,null,null,null,null,null,null,null,null,null,null,null,null,null,null,null,null,null,null,null,null,null,null,null,null,null,null,null,null,null,null,null,null,null,null,null,null,null,null,null,null,null,null,null,null,null,null,null,null,null,null,null,null,null,null,null,null,null,null,null,null,null,null,null,null,null,null,null,null,null,null,null,null,null,null,null,null,null,null,null,null,null,null,null,null,null,null,null,48,null,null,48,0,7200,0,0,7200,7200,"Yes",0,0,0]
[null,9,null,"MOT CREW","Vendor No.04","Mot 9",1242,"2018-10-11","2018-10-13",{"$f":"IF(AND(H27>='A - Contractor Summary'!$C$36,I27<='A - Contractor Summary'!$C$42),\"Yes\",\"No\")","v":"Yes"},{"$f":"VLOOKUP($D27,'C.1 - Rate Sheets'!B:F,2,FALSE)","v":0},{"$f":"VLOOKUP($D27,'C.1 - Rate Sheets'!B:F,3,FALSE)","v":150},{"$f":"VLOOKUP($D27,'C.1 - Rate Sheets'!B:F,4,FALSE)","v":0},{"$f":"VLOOKUP($D27,'C.1 - Rate Sheets'!B:F,5,FALSE)","v":0},null,null,null,null,16,16,16,null,null,null,null,null,null,null,null,null,null,null,null,null,null,null,null,null,null,null,null,null,null,null,null,null,null,null,null,null,null,null,null,null,null,null,null,null,null,null,null,null,null,null,null,null,null,null,null,null,null,null,null,null,null,null,null,null,null,null,null,null,null,null,null,null,null,null,null,null,null,null,null,null,null,null,null,null,null,null,null,null,null,null,null,null,null,null,null,null,null,null,null,null,null,null,null,null,null,null,null,null,null,null,null,null,null,null,null,null,null,null,null,null,null,null,null,null,null,null,null,null,null,null,null,null,null,null,null,null,null,null,null,null,null,null,null,null,null,null,null,null,null,null,null,null,null,null,null,null,null,null,null,null,null,null,null,null,null,null,null,null,null,48,null,null,48,0,7200,0,0,7200,7200,"Yes",0,0,0]
[null,10,null,"MOT CREW","Vendor No.04","Mot 10",1242,"2018-10-11","2018-10-13",{"$f":"IF(AND(H28>='A - Contractor Summary'!$C$36,I28<='A - Contractor Summary'!$C$42),\"Yes\",\"No\")","v":"Yes"},{"$f":"VLOOKUP($D28,'C.1 - Rate Sheets'!B:F,2,FALSE)","v":0},{"$f":"VLOOKUP($D28,'C.1 - Rate Sheets'!B:F,3,FALSE)","v":150},{"$f":"VLOOKUP($D28,'C.1 - Rate Sheets'!B:F,4,FALSE)","v":0},{"$f":"VLOOKUP($D28,'C.1 - Rate Sheets'!B:F,5,FALSE)","v":0},null,null,null,null,16,16,16,null,null,null,null,null,null,null,null,null,null,null,null,null,null,null,null,null,null,null,null,null,null,null,null,null,null,null,null,null,null,null,null,null,null,null,null,null,null,null,null,null,null,null,null,null,null,null,null,null,null,null,null,null,null,null,null,null,null,null,null,null,null,null,null,null,null,null,null,null,null,null,null,null,null,null,null,null,null,null,null,null,null,null,null,null,null,null,null,null,null,null,null,null,null,null,null,null,null,null,null,null,null,null,null,null,null,null,null,null,null,null,null,null,null,null,null,null,null,null,null,null,null,null,null,null,null,null,null,null,null,null,null,null,null,null,null,null,null,null,null,null,null,null,null,null,null,null,null,null,null,null,null,null,null,null,null,null,null,null,null,null,null,48,null,null,48,0,7200,0,0,7200,7200,"Yes",0,0,0]
[null,11,null,"MOT CREW","Vendor No.04","Mot 11",1242,{"$f":"INDEX($O$16:$BK$16,MATCH(TRUE,INDEX((O29:BK29>0),0),0))","v":"2018-10-11"},{"$f":"LOOKUP(2,1/(1-(O29:BK29<=0)),$O$16:$BK$16)","v":"2018-10-13"},{"$f":"IF(AND(H29>='A - Contractor Summary'!$C$36,I29<='A - Contractor Summary'!$C$42),\"Yes\",\"No\")","v":"Yes"},{"$f":"VLOOKUP($D29,'C.1 - Rate Sheets'!B:F,2,FALSE)","v":0},{"$f":"VLOOKUP($D29,'C.1 - Rate Sheets'!B:F,3,FALSE)","v":150},{"$f":"VLOOKUP($D29,'C.1 - Rate Sheets'!B:F,4,FALSE)","v":0},{"$f":"VLOOKUP($D29,'C.1 - Rate Sheets'!B:F,5,FALSE)","v":0},null,null,null,null,16,16,16,null,null,null,null,null,null,null,null,null,null,null,null,null,null,null,null,null,null,null,null,null,null,null,null,null,null,null,null,null,null,null,null,null,null,null,null,null,null,null,null,null,null,null,null,null,null,null,null,null,null,null,null,null,null,null,null,null,null,null,null,null,null,null,null,null,null,null,null,null,null,null,null,null,null,null,null,null,null,null,null,null,null,null,null,null,null,null,null,null,null,null,null,null,null,null,null,null,null,null,null,null,null,null,null,null,null,null,null,null,null,null,null,null,null,null,null,null,null,null,null,null,null,null,null,null,null,null,null,null,null,null,null,null,null,null,null,null,null,null,null,null,null,null,null,null,null,null,null,null,null,null,null,null,null,null,null,null,null,null,null,null,null,48,null,null,48,0,7200,0,0,7200,7200,"Yes"]
[null,12,null,"MOT CREW","Vendor No.04","Mot 12",1242,"2018-10-11","2018-10-13",{"$f":"IF(AND(H30>='A - Contractor Summary'!$C$36,I30<='A - Contractor Summary'!$C$42),\"Yes\",\"No\")","v":"Yes"},{"$f":"VLOOKUP($D30,'C.1 - Rate Sheets'!B:F,2,FALSE)","v":0},{"$f":"VLOOKUP($D30,'C.1 - Rate Sheets'!B:F,3,FALSE)","v":150},{"$f":"VLOOKUP($D30,'C.1 - Rate Sheets'!B:F,4,FALSE)","v":0},{"$f":"VLOOKUP($D30,'C.1 - Rate Sheets'!B:F,5,FALSE)","v":0},null,null,null,null,16,16,16,null,null,null,null,null,null,null,null,null,null,null,null,null,null,null,null,null,null,null,null,null,null,null,null,null,null,null,null,null,null,null,null,null,null,null,null,null,null,null,null,null,null,null,null,null,null,null,null,null,null,null,null,null,null,null,null,null,null,null,null,null,null,null,null,null,null,null,null,null,null,null,null,null,null,null,null,null,null,null,null,null,null,null,null,null,null,null,null,null,null,null,null,null,null,null,null,null,null,null,null,null,null,null,null,null,null,null,null,null,null,null,null,null,null,null,null,null,null,null,null,null,null,null,null,null,null,null,null,null,null,null,null,null,null,null,null,null,null,null,null,null,null,null,null,null,null,null,null,null,null,null,null,null,null,null,null,null,null,null,null,null,null,48,null,null,{"$f":"SUM(GA30:GD30)","v":48},0,7200,0,0,7200,7200,"Yes",0,0,0]
[null,13,null,"MOT CREW","Vendor No.04","Mot 13",1242,"2018-10-11","2018-10-13",{"$f":"IF(AND(H31>='A - Contractor Summary'!$C$36,I31<='A - Contractor Summary'!$C$42),\"Yes\",\"No\")","v":"Yes"},{"$f":"VLOOKUP($D31,'C.1 - Rate Sheets'!B:F,2,FALSE)","v":0},{"$f":"VLOOKUP($D31,'C.1 - Rate Sheets'!B:F,3,FALSE)","v":150},{"$f":"VLOOKUP($D31,'C.1 - Rate Sheets'!B:F,4,FALSE)","v":0},{"$f":"VLOOKUP($D31,'C.1 - Rate Sheets'!B:F,5,FALSE)","v":0},null,null,null,null,16,16,16,null,null,null,null,null,null,null,null,null,null,null,null,null,null,null,null,null,null,null,null,null,null,null,null,null,null,null,null,null,null,null,null,null,null,null,null,null,null,null,null,null,null,null,null,null,null,null,null,null,null,null,null,null,null,null,null,null,null,null,null,null,null,null,null,null,null,null,null,null,null,null,null,null,null,null,null,null,null,null,null,null,null,null,null,null,null,null,null,null,null,null,null,null,null,null,null,null,null,null,null,null,null,null,null,null,null,null,null,null,null,null,null,null,null,null,null,null,null,null,null,null,null,null,null,null,null,null,null,null,null,null,null,null,null,null,null,null,null,null,null,null,null,null,null,null,null,null,null,null,null,null,null,null,null,null,null,null,null,null,null,null,null,48,null,null,48,0,7200,0,0,7200,7200,"Yes",0,0,0]
[null,14,null,"CLEAR CREW","Vendor No.04","Clear 1",1242,"2018-10-11","2018-10-13",{"$f":"IF(AND(H32>='A - Contractor Summary'!$C$36,I32<='A - Contractor Summary'!$C$42),\"Yes\",\"No\")","v":"Yes"},{"$f":"VLOOKUP($D32,'C.1 - Rate Sheets'!B:F,2,FALSE)","v":0},{"$f":"VLOOKUP($D32,'C.1 - Rate Sheets'!B:F,3,FALSE)","v":200},{"$f":"VLOOKUP($D32,'C.1 - Rate Sheets'!B:F,4,FALSE)","v":0},{"$f":"VLOOKUP($D32,'C.1 - Rate Sheets'!B:F,5,FALSE)","v":0},null,null,null,null,16,16,16,null,null,null,null,null,null,null,null,null,null,null,null,null,null,null,null,null,null,null,null,null,null,null,null,null,null,null,null,null,null,null,null,null,null,null,null,null,null,null,null,null,null,null,null,null,null,null,null,null,null,null,null,null,null,null,null,null,null,null,null,null,null,null,null,null,null,null,null,null,null,null,null,null,null,null,null,null,null,null,null,null,null,null,null,null,null,null,null,null,null,null,null,null,null,null,null,null,null,null,null,null,null,null,null,null,null,null,null,null,null,null,null,null,null,null,null,null,null,null,null,null,null,null,null,null,null,null,null,null,null,null,null,null,null,null,null,null,null,null,null,null,null,null,null,null,null,null,null,null,null,null,null,null,null,null,null,null,null,null,null,null,null,48,null,null,48,0,9600,0,0,9600,9600,"Yes",0,0,0]
[null,15,null,"CLEAR CREW","Vendor No.04","Clear 2",1242,"2018-10-11","2018-10-13",{"$f":"IF(AND(H33>='A - Contractor Summary'!$C$36,I33<='A - Contractor Summary'!$C$42),\"Yes\",\"No\")","v":"Yes"},{"$f":"VLOOKUP($D33,'C.1 - Rate Sheets'!B:F,2,FALSE)","v":0},{"$f":"VLOOKUP($D33,'C.1 - Rate Sheets'!B:F,3,FALSE)","v":200},{"$f":"VLOOKUP($D33,'C.1 - Rate Sheets'!B:F,4,FALSE)","v":0},{"$f":"VLOOKUP($D33,'C.1 - Rate Sheets'!B:F,5,FALSE)","v":0},null,null,null,null,16,16,16,null,null,null,null,null,null,null,null,null,null,null,null,null,null,null,null,null,null,null,null,null,null,null,null,null,null,null,null,null,null,null,null,null,null,null,null,null,null,null,null,null,null,null,null,null,null,null,null,null,null,null,null,null,null,null,null,null,null,null,null,null,null,null,null,null,null,null,null,null,null,null,null,null,null,null,null,null,null,null,null,null,null,null,null,null,null,null,null,null,null,null,null,null,null,null,null,null,null,null,null,null,null,null,null,null,null,null,null,null,null,null,null,null,null,null,null,null,null,null,null,null,null,null,null,null,null,null,null,null,null,null,null,null,null,null,null,null,null,null,null,null,null,null,null,null,null,null,null,null,null,null,null,null,null,null,null,null,null,null,null,null,null,48,null,null,48,0,9600,0,0,9600,9600,"Yes",0,0,0]
[null,16,null,"CLEAR CREW","Vendor No.04","Clear 3",1242,"2018-10-11","2018-10-13",{"$f":"IF(AND(H34>='A - Contractor Summary'!$C$36,I34<='A - Contractor Summary'!$C$42),\"Yes\",\"No\")","v":"Yes"},{"$f":"VLOOKUP($D34,'C.1 - Rate Sheets'!B:F,2,FALSE)","v":0},{"$f":"VLOOKUP($D34,'C.1 - Rate Sheets'!B:F,3,FALSE)","v":200},{"$f":"VLOOKUP($D34,'C.1 - Rate Sheets'!B:F,4,FALSE)","v":0},{"$f":"VLOOKUP($D34,'C.1 - Rate Sheets'!B:F,5,FALSE)","v":0},null,null,null,null,16,16,16,null,null,null,null,null,null,null,null,null,null,null,null,null,null,null,null,null,null,null,null,null,null,null,null,null,null,null,null,null,null,null,null,null,null,null,null,null,null,null,null,null,null,null,null,null,null,null,null,null,null,null,null,null,null,null,null,null,null,null,null,null,null,null,null,null,null,null,null,null,null,null,null,null,null,null,null,null,null,null,null,null,null,null,null,null,null,null,null,null,null,null,null,null,null,null,null,null,null,null,null,null,null,null,null,null,null,null,null,null,null,null,null,null,null,null,null,null,null,null,null,null,null,null,null,null,null,null,null,null,null,null,null,null,null,null,null,null,null,null,null,null,null,null,null,null,null,null,null,null,null,null,null,null,null,null,null,null,null,null,null,null,null,48,null,null,48,0,9600,0,0,9600,9600,"Yes",0,0,0]
[null,17,null,"CLEAR CREW","Vendor No.04","Clear 4",1242,"2018-10-11","2018-10-13",{"$f":"IF(AND(H35>='A - Contractor Summary'!$C$36,I35<='A - Contractor Summary'!$C$42),\"Yes\",\"No\")","v":"Yes"},{"$f":"VLOOKUP($D35,'C.1 - Rate Sheets'!B:F,2,FALSE)","v":0},{"$f":"VLOOKUP($D35,'C.1 - Rate Sheets'!B:F,3,FALSE)","v":200},{"$f":"VLOOKUP($D35,'C.1 - Rate Sheets'!B:F,4,FALSE)","v":0},{"$f":"VLOOKUP($D35,'C.1 - Rate Sheets'!B:F,5,FALSE)","v":0},null,null,null,null,16,16,16,null,null,null,null,null,null,null,null,null,null,null,null,null,null,null,null,null,null,null,null,null,null,null,null,null,null,null,null,null,null,null,null,null,null,null,null,null,null,null,null,null,null,null,null,null,null,null,null,null,null,null,null,null,null,null,null,null,null,null,null,null,null,null,null,null,null,null,null,null,null,null,null,null,null,null,null,null,null,null,null,null,null,null,null,null,null,null,null,null,null,null,null,null,null,null,null,null,null,null,null,null,null,null,null,null,null,null,null,null,null,null,null,null,null,null,null,null,null,null,null,null,null,null,null,null,null,null,null,null,null,null,null,null,null,null,null,null,null,null,null,null,null,null,null,null,null,null,null,null,null,null,null,null,null,null,null,null,null,null,null,null,null,48,null,null,48,0,9600,0,0,9600,9600,"Yes",0,0,0]
[null,18,null,"CLEAR CREW","Vendor No.04","Clear 5",1242,"2018-10-11","2018-10-13",{"$f":"IF(AND(H36>='A - Contractor Summary'!$C$36,I36<='A - Contractor Summary'!$C$42),\"Yes\",\"No\")","v":"Yes"},{"$f":"VLOOKUP($D36,'C.1 - Rate Sheets'!B:F,2,FALSE)","v":0},{"$f":"VLOOKUP($D36,'C.1 - Rate Sheets'!B:F,3,FALSE)","v":200},{"$f":"VLOOKUP($D36,'C.1 - Rate Sheets'!B:F,4,FALSE)","v":0},{"$f":"VLOOKUP($D36,'C.1 - Rate Sheets'!B:F,5,FALSE)","v":0},null,null,null,null,16,16,16,null,null,null,null,null,null,null,null,null,null,null,null,null,null,null,null,null,null,null,null,null,null,null,null,null,null,null,null,null,null,null,null,null,null,null,null,null,null,null,null,null,null,null,null,null,null,null,null,null,null,null,null,null,null,null,null,null,null,null,null,null,null,null,null,null,null,null,null,null,null,null,null,null,null,null,null,null,null,null,null,null,null,null,null,null,null,null,null,null,null,null,null,null,null,null,null,null,null,null,null,null,null,null,null,null,null,null,null,null,null,null,null,null,null,null,null,null,null,null,null,null,null,null,null,null,null,null,null,null,null,null,null,null,null,null,null,null,null,null,null,null,null,null,null,null,null,null,null,null,null,null,null,null,null,null,null,null,null,null,null,null,null,48,null,null,48,0,9600,0,0,9600,9600,"Yes",0,0,0]
[null,19,null,"CLEAR CREW","Vendor No.04","Clear 6",1242,"2018-10-11","2018-10-13",{"$f":"IF(AND(H37>='A - Contractor Summary'!$C$36,I37<='A - Contractor Summary'!$C$42),\"Yes\",\"No\")","v":"Yes"},{"$f":"VLOOKUP($D37,'C.1 - Rate Sheets'!B:F,2,FALSE)","v":0},{"$f":"VLOOKUP($D37,'C.1 - Rate Sheets'!B:F,3,FALSE)","v":200},{"$f":"VLOOKUP($D37,'C.1 - Rate Sheets'!B:F,4,FALSE)","v":0},{"$f":"VLOOKUP($D37,'C.1 - Rate Sheets'!B:F,5,FALSE)","v":0},null,null,null,null,16,16,16,null,null,null,null,null,null,null,null,null,null,null,null,null,null,null,null,null,null,null,null,null,null,null,null,null,null,null,null,null,null,null,null,null,null,null,null,null,null,null,null,null,null,null,null,null,null,null,null,null,null,null,null,null,null,null,null,null,null,null,null,null,null,null,null,null,null,null,null,null,null,null,null,null,null,null,null,null,null,null,null,null,null,null,null,null,null,null,null,null,null,null,null,null,null,null,null,null,null,null,null,null,null,null,null,null,null,null,null,null,null,null,null,null,null,null,null,null,null,null,null,null,null,null,null,null,null,null,null,null,null,null,null,null,null,null,null,null,null,null,null,null,null,null,null,null,null,null,null,null,null,null,null,null,null,null,null,null,null,null,null,null,null,48,null,null,48,0,9600,0,0,9600,9600,"Yes",0,0,0]
[null,20,null,"CLEAR CREW","Vendor No.04","Clear 7",1242,"2018-10-11","2018-10-13",{"$f":"IF(AND(H38>='A - Contractor Summary'!$C$36,I38<='A - Contractor Summary'!$C$42),\"Yes\",\"No\")","v":"Yes"},{"$f":"VLOOKUP($D38,'C.1 - Rate Sheets'!B:F,2,FALSE)","v":0},{"$f":"VLOOKUP($D38,'C.1 - Rate Sheets'!B:F,3,FALSE)","v":200},{"$f":"VLOOKUP($D38,'C.1 - Rate Sheets'!B:F,4,FALSE)","v":0},{"$f":"VLOOKUP($D38,'C.1 - Rate Sheets'!B:F,5,FALSE)","v":0},null,null,null,null,16,16,16,null,null,null,null,null,null,null,null,null,null,null,null,null,null,null,null,null,null,null,null,null,null,null,null,null,null,null,null,null,null,null,null,null,null,null,null,null,null,null,null,null,null,null,null,null,null,null,null,null,null,null,null,null,null,null,null,null,null,null,null,null,null,null,null,null,null,null,null,null,null,null,null,null,null,null,null,null,null,null,null,null,null,null,null,null,null,null,null,null,null,null,null,null,null,null,null,null,null,null,null,null,null,null,null,null,null,null,null,null,null,null,null,null,null,null,null,null,null,null,null,null,null,null,null,null,null,null,null,null,null,null,null,null,null,null,null,null,null,null,null,null,null,null,null,null,null,null,null,null,null,null,null,null,null,null,null,null,null,null,null,null,null,48,null,null,48,0,9600,0,0,9600,9600,"Yes",0,0,0]
[null,21,null,"CLEAR CREW","Vendor No.04","Clear 8",1242,"2018-10-11","2018-10-13",{"$f":"IF(AND(H39>='A - Contractor Summary'!$C$36,I39<='A - Contractor Summary'!$C$42),\"Yes\",\"No\")","v":"Yes"},{"$f":"VLOOKUP($D39,'C.1 - Rate Sheets'!B:F,2,FALSE)","v":0},{"$f":"VLOOKUP($D39,'C.1 - Rate Sheets'!B:F,3,FALSE)","v":200},{"$f":"VLOOKUP($D39,'C.1 - Rate Sheets'!B:F,4,FALSE)","v":0},{"$f":"VLOOKUP($D39,'C.1 - Rate Sheets'!B:F,5,FALSE)","v":0},null,null,null,null,16,16,16,null,null,null,null,null,null,null,null,null,null,null,null,null,null,null,null,null,null,null,null,null,null,null,null,null,null,null,null,null,null,null,null,null,null,null,null,null,null,null,null,null,null,null,null,null,null,null,null,null,null,null,null,null,null,null,null,null,null,null,null,null,null,null,null,null,null,null,null,null,null,null,null,null,null,null,null,null,null,null,null,null,null,null,null,null,null,null,null,null,null,null,null,null,null,null,null,null,null,null,null,null,null,null,null,null,null,null,null,null,null,null,null,null,null,null,null,null,null,null,null,null,null,null,null,null,null,null,null,null,null,null,null,null,null,null,null,null,null,null,null,null,null,null,null,null,null,null,null,null,null,null,null,null,null,null,null,null,null,null,null,null,null,48,null,null,48,0,9600,0,0,9600,9600,"Yes",0,0,0]
[null,22,null,"CLEAR CREW","Vendor No.04","Clear 9",1242,"2018-10-11","2018-10-13",{"$f":"IF(AND(H40>='A - Contractor Summary'!$C$36,I40<='A - Contractor Summary'!$C$42),\"Yes\",\"No\")","v":"Yes"},{"$f":"VLOOKUP($D40,'C.1 - Rate Sheets'!B:F,2,FALSE)","v":0},{"$f":"VLOOKUP($D40,'C.1 - Rate Sheets'!B:F,3,FALSE)","v":200},{"$f":"VLOOKUP($D40,'C.1 - Rate Sheets'!B:F,4,FALSE)","v":0},{"$f":"VLOOKUP($D40,'C.1 - Rate Sheets'!B:F,5,FALSE)","v":0},null,null,null,null,16,16,16,null,null,null,null,null,null,null,null,null,null,null,null,null,null,null,null,null,null,null,null,null,null,null,null,null,null,null,null,null,null,null,null,null,null,null,null,null,null,null,null,null,null,null,null,null,null,null,null,null,null,null,null,null,null,null,null,null,null,null,null,null,null,null,null,null,null,null,null,null,null,null,null,null,null,null,null,null,null,null,null,null,null,null,null,null,null,null,null,null,null,null,null,null,null,null,null,null,null,null,null,null,null,null,null,null,null,null,null,null,null,null,null,null,null,null,null,null,null,null,null,null,null,null,null,null,null,null,null,null,null,null,null,null,null,null,null,null,null,null,null,null,null,null,null,null,null,null,null,null,null,null,null,null,null,null,null,null,null,null,null,null,null,48,null,null,48,0,9600,0,0,9600,9600,"Yes",0,0,0]
[null,23,null,"CLEAR CREW","Vendor No.04","Clear 10",1242,"2018-10-11","2018-10-13",{"$f":"IF(AND(H41>='A - Contractor Summary'!$C$36,I41<='A - Contractor Summary'!$C$42),\"Yes\",\"No\")","v":"Yes"},{"$f":"VLOOKUP($D41,'C.1 - Rate Sheets'!B:F,2,FALSE)","v":0},{"$f":"VLOOKUP($D41,'C.1 - Rate Sheets'!B:F,3,FALSE)","v":200},{"$f":"VLOOKUP($D41,'C.1 - Rate Sheets'!B:F,4,FALSE)","v":0},{"$f":"VLOOKUP($D41,'C.1 - Rate Sheets'!B:F,5,FALSE)","v":0},null,null,null,null,16,16,16,null,null,null,null,null,null,null,null,null,null,null,null,null,null,null,null,null,null,null,null,null,null,null,null,null,null,null,null,null,null,null,null,null,null,null,null,null,null,null,null,null,null,null,null,null,null,null,null,null,null,null,null,null,null,null,null,null,null,null,null,null,null,null,null,null,null,null,null,null,null,null,null,null,null,null,null,null,null,null,null,null,null,null,null,null,null,null,null,null,null,null,null,null,null,null,null,null,null,null,null,null,null,null,null,null,null,null,null,null,null,null,null,null,null,null,null,null,null,null,null,null,null,null,null,null,null,null,null,null,null,null,null,null,null,null,null,null,null,null,null,null,null,null,null,null,null,null,null,null,null,null,null,null,null,null,null,null,null,null,null,null,null,48,null,null,48,0,9600,0,0,9600,9600,"Yes",0,0,0]
[null,24,null,"CLEAR CREW","Vendor No.04","Clear 11",1242,"2018-10-11","2018-10-13",{"$f":"IF(AND(H42>='A - Contractor Summary'!$C$36,I42<='A - Contractor Summary'!$C$42),\"Yes\",\"No\")","v":"Yes"},{"$f":"VLOOKUP($D42,'C.1 - Rate Sheets'!B:F,2,FALSE)","v":0},{"$f":"VLOOKUP($D42,'C.1 - Rate Sheets'!B:F,3,FALSE)","v":200},{"$f":"VLOOKUP($D42,'C.1 - Rate Sheets'!B:F,4,FALSE)","v":0},{"$f":"VLOOKUP($D42,'C.1 - Rate Sheets'!B:F,5,FALSE)","v":0},null,null,null,null,16,16,16,null,null,null,null,null,null,null,null,null,null,null,null,null,null,null,null,null,null,null,null,null,null,null,null,null,null,null,null,null,null,null,null,null,null,null,null,null,null,null,null,null,null,null,null,null,null,null,null,null,null,null,null,null,null,null,null,null,null,null,null,null,null,null,null,null,null,null,null,null,null,null,null,null,null,null,null,null,null,null,null,null,null,null,null,null,null,null,null,null,null,null,null,null,null,null,null,null,null,null,null,null,null,null,null,null,null,null,null,null,null,null,null,null,null,null,null,null,null,null,null,null,null,null,null,null,null,null,null,null,null,null,null,null,null,null,null,null,null,null,null,null,null,null,null,null,null,null,null,null,null,null,null,null,null,null,null,null,null,null,null,null,null,48,null,null,48,0,9600,0,0,9600,9600,"Yes",0,0,0]
[null,25,null,"CLEAR CREW","Vendor No.04","Clear 12",1242,"2018-10-11","2018-10-13",{"$f":"IF(AND(H43>='A - Contractor Summary'!$C$36,I43<='A - Contractor Summary'!$C$42),\"Yes\",\"No\")","v":"Yes"},{"$f":"VLOOKUP($D43,'C.1 - Rate Sheets'!B:F,2,FALSE)","v":0},{"$f":"VLOOKUP($D43,'C.1 - Rate Sheets'!B:F,3,FALSE)","v":200},{"$f":"VLOOKUP($D43,'C.1 - Rate Sheets'!B:F,4,FALSE)","v":0},{"$f":"VLOOKUP($D43,'C.1 - Rate Sheets'!B:F,5,FALSE)","v":0},null,null,null,null,16,16,16,null,null,null,null,null,null,null,null,null,null,null,null,null,null,null,null,null,null,null,null,null,null,null,null,null,null,null,null,null,null,null,null,null,null,null,null,null,null,null,null,null,null,null,null,null,null,null,null,null,null,null,null,null,null,null,null,null,null,null,null,null,null,null,null,null,null,null,null,null,null,null,null,null,null,null,null,null,null,null,null,null,null,null,null,null,null,null,null,null,null,null,null,null,null,null,null,null,null,null,null,null,null,null,null,null,null,null,null,null,null,null,null,null,null,null,null,null,null,null,null,null,null,null,null,null,null,null,null,null,null,null,null,null,null,null,null,null,null,null,null,null,null,null,null,null,null,null,null,null,null,null,null,null,null,null,null,null,null,null,null,null,null,48,null,null,48,0,9600,0,0,9600,9600,"Yes",0,0,0]
[null,26,null,"CLEAR CREW","Vendor No.04","Clear 13",1242,"2018-10-11","2018-10-13",{"$f":"IF(AND(H44>='A - Contractor Summary'!$C$36,I44<='A - Contractor Summary'!$C$42),\"Yes\",\"No\")","v":"Yes"},{"$f":"VLOOKUP($D44,'C.1 - Rate Sheets'!B:F,2,FALSE)","v":0},{"$f":"VLOOKUP($D44,'C.1 - Rate Sheets'!B:F,3,FALSE)","v":200},{"$f":"VLOOKUP($D44,'C.1 - Rate Sheets'!B:F,4,FALSE)","v":0},{"$f":"VLOOKUP($D44,'C.1 - Rate Sheets'!B:F,5,FALSE)","v":0},null,null,null,null,16,16,16,null,null,null,null,null,null,null,null,null,null,null,null,null,null,null,null,null,null,null,null,null,null,null,null,null,null,null,null,null,null,null,null,null,null,null,null,null,null,null,null,null,null,null,null,null,null,null,null,null,null,null,null,null,null,null,null,null,null,null,null,null,null,null,null,null,null,null,null,null,null,null,null,null,null,null,null,null,null,null,null,null,null,null,null,null,null,null,null,null,null,null,null,null,null,null,null,null,null,null,null,null,null,null,null,null,null,null,null,null,null,null,null,null,null,null,null,null,null,null,null,null,null,null,null,null,null,null,null,null,null,null,null,null,null,null,null,null,null,null,null,null,null,null,null,null,null,null,null,null,null,null,null,null,null,null,null,null,null,null,null,null,null,48,null,null,48,0,9600,0,0,9600,9600,"Yes",0,0,0]
[null,27,null,"MOT CREW","Vendor No.04","Mot 1",1248,{"$f":"INDEX($O$16:$BK$16,MATCH(TRUE,INDEX((O45:BK45>0),0),0))","v":"2018-10-14"},{"$f":"LOOKUP(2,1/(1-(O45:BK45<=0)),$O$16:$BK$16)","v":"2018-10-20"},{"$f":"IF(AND(H45>='A - Contractor Summary'!$C$36,I45<='A - Contractor Summary'!$C$42),\"Yes\",\"No\")","v":"Yes"},{"$f":"VLOOKUP($D45,'C.1 - Rate Sheets'!B:F,2,FALSE)","v":0},{"$f":"VLOOKUP($D45,'C.1 - Rate Sheets'!B:F,3,FALSE)","v":150},{"$f":"VLOOKUP($D45,'C.1 - Rate Sheets'!B:F,4,FALSE)","v":0},{"$f":"VLOOKUP($D45,'C.1 - Rate Sheets'!B:F,5,FALSE)","v":0},null,null,null,null,null,null,null,16,16,16,16,16,16,16,null,null,null,null,null,null,null,null,null,null,null,null,null,null,null,null,null,null,null,null,null,null,null,null,null,null,null,null,null,null,null,null,null,null,null,null,null,null,null,null,null,null,null,null,null,null,null,null,null,null,null,null,null,null,null,null,null,null,null,null,null,null,null,null,null,null,null,null,null,null,null,null,null,null,null,null,null,null,null,null,null,null,null,null,null,null,null,null,null,null,null,null,null,null,null,null,null,null,null,null,null,null,null,null,null,null,null,null,null,null,null,null,null,null,null,null,null,null,null,null,null,null,null,null,null,null,null,null,null,null,null,null,null,null,null,null,null,null,null,null,null,null,null,null,null,null,null,null,null,null,null,null,null,null,null,112,null,null,112,0,16800,0,0,16800,16800,"Yes",0,0,0]
[null,28,null,"MOT CREW","Vendor No.04","Mot 2",1248,"2018-10-14","2018-10-20",{"$f":"IF(AND(H46>='A - Contractor Summary'!$C$36,I46<='A - Contractor Summary'!$C$42),\"Yes\",\"No\")","v":"Yes"},{"$f":"VLOOKUP($D46,'C.1 - Rate Sheets'!B:F,2,FALSE)","v":0},{"$f":"VLOOKUP($D46,'C.1 - Rate Sheets'!B:F,3,FALSE)","v":150},{"$f":"VLOOKUP($D46,'C.1 - Rate Sheets'!B:F,4,FALSE)","v":0},{"$f":"VLOOKUP($D46,'C.1 - Rate Sheets'!B:F,5,FALSE)","v":0},null,null,null,null,null,null,null,16,16,16,16,16,16,16,null,null,null,null,null,null,null,null,null,null,null,null,null,null,null,null,null,null,null,null,null,null,null,null,null,null,null,null,null,null,null,null,null,null,null,null,null,null,null,null,null,null,null,null,null,null,null,null,null,null,null,null,null,null,null,null,null,null,null,null,null,null,null,null,null,null,null,null,null,null,null,null,null,null,null,null,null,null,null,null,null,null,null,null,null,null,null,null,null,null,null,null,null,null,null,null,null,null,null,null,null,null,null,null,null,null,null,null,null,null,null,null,null,null,null,null,null,null,null,null,null,null,null,null,null,null,null,null,null,null,null,null,null,null,null,null,null,null,null,null,null,null,null,null,null,null,null,null,null,null,null,null,null,null,null,112,null,null,112,0,16800,0,0,16800,16800,"Yes",0,0,0]
[null,29,null,"MOT CREW","Vendor No.04","Mot 3",1248,"2018-10-14","2018-10-20",{"$f":"IF(AND(H47>='A - Contractor Summary'!$C$36,I47<='A - Contractor Summary'!$C$42),\"Yes\",\"No\")","v":"Yes"},{"$f":"VLOOKUP($D47,'C.1 - Rate Sheets'!B:F,2,FALSE)","v":0},{"$f":"VLOOKUP($D47,'C.1 - Rate Sheets'!B:F,3,FALSE)","v":150},{"$f":"VLOOKUP($D47,'C.1 - Rate Sheets'!B:F,4,FALSE)","v":0},{"$f":"VLOOKUP($D47,'C.1 - Rate Sheets'!B:F,5,FALSE)","v":0},null,null,null,null,null,null,null,16,16,16,16,16,16,16,null,null,null,null,null,null,null,null,null,null,null,null,null,null,null,null,null,null,null,null,null,null,null,null,null,null,null,null,null,null,null,null,null,null,null,null,null,null,null,null,null,null,null,null,null,null,null,null,null,null,null,null,null,null,null,null,null,null,null,null,null,null,null,null,null,null,null,null,null,null,null,null,null,null,null,null,null,null,null,null,null,null,null,null,null,null,null,null,null,null,null,null,null,null,null,null,null,null,null,null,null,null,null,null,null,null,null,null,null,null,null,null,null,null,null,null,null,null,null,null,null,null,null,null,null,null,null,null,null,null,null,null,null,null,null,null,null,null,null,null,null,null,null,null,null,null,null,null,null,null,null,null,null,null,null,112,null,null,112,0,16800,0,0,16800,16800,"Yes",0,0,0]
[null,30,null,"MOT CREW","Vendor No.04","Mot 4",1248,"2018-10-14","2018-10-20",{"$f":"IF(AND(H48>='A - Contractor Summary'!$C$36,I48<='A - Contractor Summary'!$C$42),\"Yes\",\"No\")","v":"Yes"},{"$f":"VLOOKUP($D48,'C.1 - Rate Sheets'!B:F,2,FALSE)","v":0},{"$f":"VLOOKUP($D48,'C.1 - Rate Sheets'!B:F,3,FALSE)","v":150},{"$f":"VLOOKUP($D48,'C.1 - Rate Sheets'!B:F,4,FALSE)","v":0},{"$f":"VLOOKUP($D48,'C.1 - Rate Sheets'!B:F,5,FALSE)","v":0},null,null,null,null,null,null,null,16,16,16,16,16,16,16,null,null,null,null,null,null,null,null,null,null,null,null,null,null,null,null,null,null,null,null,null,null,null,null,null,null,null,null,null,null,null,null,null,null,null,null,null,null,null,null,null,null,null,null,null,null,null,null,null,null,null,null,null,null,null,null,null,null,null,null,null,null,null,null,null,null,null,null,null,null,null,null,null,null,null,null,null,null,null,null,null,null,null,null,null,null,null,null,null,null,null,null,null,null,null,null,null,null,null,null,null,null,null,null,null,null,null,null,null,null,null,null,null,null,null,null,null,null,null,null,null,null,null,null,null,null,null,null,null,null,null,null,null,null,null,null,null,null,null,null,null,null,null,null,null,null,null,null,null,null,null,null,null,null,null,112,null,null,112,0,16800,0,0,16800,16800,"Yes",0,0,0]
[null,31,null,"MOT CREW","Vendor No.04","Mot 5",1248,"2018-10-14","2018-10-20",{"$f":"IF(AND(H49>='A - Contractor Summary'!$C$36,I49<='A - Contractor Summary'!$C$42),\"Yes\",\"No\")","v":"Yes"},{"$f":"VLOOKUP($D49,'C.1 - Rate Sheets'!B:F,2,FALSE)","v":0},{"$f":"VLOOKUP($D49,'C.1 - Rate Sheets'!B:F,3,FALSE)","v":150},{"$f":"VLOOKUP($D49,'C.1 - Rate Sheets'!B:F,4,FALSE)","v":0},{"$f":"VLOOKUP($D49,'C.1 - Rate Sheets'!B:F,5,FALSE)","v":0},null,null,null,null,null,null,null,16,16,16,16,16,16,16,null,null,null,null,null,null,null,null,null,null,null,null,null,null,null,null,null,null,null,null,null,null,null,null,null,null,null,null,null,null,null,null,null,null,null,null,null,null,null,null,null,null,null,null,null,null,null,null,null,null,null,null,null,null,null,null,null,null,null,null,null,null,null,null,null,null,null,null,null,null,null,null,null,null,null,null,null,null,null,null,null,null,null,null,null,null,null,null,null,null,null,null,null,null,null,null,null,null,null,null,null,null,null,null,null,null,null,null,null,null,null,null,null,null,null,null,null,null,null,null,null,null,null,null,null,null,null,null,null,null,null,null,null,null,null,null,null,null,null,null,null,null,null,null,null,null,null,null,null,null,null,null,null,null,null,112,null,null,112,0,16800,0,0,16800,16800,"Yes",0,0,0]
[null,32,null,"MOT CREW","Vendor No.04","Mot 6",1248,"2018-10-14","2018-10-20",{"$f":"IF(AND(H50>='A - Contractor Summary'!$C$36,I50<='A - Contractor Summary'!$C$42),\"Yes\",\"No\")","v":"Yes"},{"$f":"VLOOKUP($D50,'C.1 - Rate Sheets'!B:F,2,FALSE)","v":0},{"$f":"VLOOKUP($D50,'C.1 - Rate Sheets'!B:F,3,FALSE)","v":150},{"$f":"VLOOKUP($D50,'C.1 - Rate Sheets'!B:F,4,FALSE)","v":0},{"$f":"VLOOKUP($D50,'C.1 - Rate Sheets'!B:F,5,FALSE)","v":0},null,null,null,null,null,null,null,16,16,16,16,16,16,16,null,null,null,null,null,null,null,null,null,null,null,null,null,null,null,null,null,null,null,null,null,null,null,null,null,null,null,null,null,null,null,null,null,null,null,null,null,null,null,null,null,null,null,null,null,null,null,null,null,null,null,null,null,null,null,null,null,null,null,null,null,null,null,null,null,null,null,null,null,null,null,null,null,null,null,null,null,null,null,null,null,null,null,null,null,null,null,null,null,null,null,null,null,null,null,null,null,null,null,null,null,null,null,null,null,null,null,null,null,null,null,null,null,null,null,null,null,null,null,null,null,null,null,null,null,null,null,null,null,null,null,null,null,null,null,null,null,null,null,null,null,null,null,null,null,null,null,null,null,null,null,null,null,null,null,112,null,null,112,0,16800,0,0,16800,16800,"Yes"]
[null,33,null,"MOT CREW","Vendor No.04","Mot 7",1248,"2018-10-14","2018-10-20",{"$f":"IF(AND(H51>='A - Contractor Summary'!$C$36,I51<='A - Contractor Summary'!$C$42),\"Yes\",\"No\")","v":"Yes"},{"$f":"VLOOKUP($D51,'C.1 - Rate Sheets'!B:F,2,FALSE)","v":0},{"$f":"VLOOKUP($D51,'C.1 - Rate Sheets'!B:F,3,FALSE)","v":150},{"$f":"VLOOKUP($D51,'C.1 - Rate Sheets'!B:F,4,FALSE)","v":0},{"$f":"VLOOKUP($D51,'C.1 - Rate Sheets'!B:F,5,FALSE)","v":0},null,null,null,null,null,null,null,16,16,16,16,16,16,16,null,null,null,null,null,null,null,null,null,null,null,null,null,null,null,null,null,null,null,null,null,null,null,null,null,null,null,null,null,null,null,null,null,null,null,null,null,null,null,null,null,null,null,null,null,null,null,null,null,null,null,null,null,null,null,null,null,null,null,null,null,null,null,null,null,null,null,null,null,null,null,null,null,null,null,null,null,null,null,null,null,null,null,null,null,null,null,null,null,null,null,null,null,null,null,null,null,null,null,null,null,null,null,null,null,null,null,null,null,null,null,null,null,null,null,null,null,null,null,null,null,null,null,null,null,null,null,null,null,null,null,null,null,null,null,null,null,null,null,null,null,null,null,null,null,null,null,null,null,null,null,null,null,null,null,112,null,null,112,0,16800,0,0,16800,16800,"Yes",0,0,0]
[null,34,null,"MOT CREW","Vendor No.04","Mot 8",1248,"2018-10-14","2018-10-20",{"$f":"IF(AND(H52>='A - Contractor Summary'!$C$36,I52<='A - Contractor Summary'!$C$42),\"Yes\",\"No\")","v":"Yes"},{"$f":"VLOOKUP($D52,'C.1 - Rate Sheets'!B:F,2,FALSE)","v":0},{"$f":"VLOOKUP($D52,'C.1 - Rate Sheets'!B:F,3,FALSE)","v":150},{"$f":"VLOOKUP($D52,'C.1 - Rate Sheets'!B:F,4,FALSE)","v":0},{"$f":"VLOOKUP($D52,'C.1 - Rate Sheets'!B:F,5,FALSE)","v":0},null,null,null,null,null,null,null,16,16,16,16,16,16,16,null,null,null,null,null,null,null,null,null,null,null,null,null,null,null,null,null,null,null,null,null,null,null,null,null,null,null,null,null,null,null,null,null,null,null,null,null,null,null,null,null,null,null,null,null,null,null,null,null,null,null,null,null,null,null,null,null,null,null,null,null,null,null,null,null,null,null,null,null,null,null,null,null,null,null,null,null,null,null,null,null,null,null,null,null,null,null,null,null,null,null,null,null,null,null,null,null,null,null,null,null,null,null,null,null,null,null,null,null,null,null,null,null,null,null,null,null,null,null,null,null,null,null,null,null,null,null,null,null,null,null,null,null,null,null,null,null,null,null,null,null,null,null,null,null,null,null,null,null,null,null,null,null,null,null,112,null,null,112,0,16800,0,0,16800,16800,"Yes",0,0,0]
[null,35,null,"MOT CREW","Vendor No.04","Mot 9",1248,"2018-10-14","2018-10-20",{"$f":"IF(AND(H53>='A - Contractor Summary'!$C$36,I53<='A - Contractor Summary'!$C$42),\"Yes\",\"No\")","v":"Yes"},{"$f":"VLOOKUP($D53,'C.1 - Rate Sheets'!B:F,2,FALSE)","v":0},{"$f":"VLOOKUP($D53,'C.1 - Rate Sheets'!B:F,3,FALSE)","v":150},{"$f":"VLOOKUP($D53,'C.1 - Rate Sheets'!B:F,4,FALSE)","v":0},{"$f":"VLOOKUP($D53,'C.1 - Rate Sheets'!B:F,5,FALSE)","v":0},null,null,null,null,null,null,null,16,16,16,16,16,16,16,null,null,null,null,null,null,null,null,null,null,null,null,null,null,null,null,null,null,null,null,null,null,null,null,null,null,null,null,null,null,null,null,null,null,null,null,null,null,null,null,null,null,null,null,null,null,null,null,null,null,null,null,null,null,null,null,null,null,null,null,null,null,null,null,null,null,null,null,null,null,null,null,null,null,null,null,null,null,null,null,null,null,null,null,null,null,null,null,null,null,null,null,null,null,null,null,null,null,null,null,null,null,null,null,null,null,null,null,null,null,null,null,null,null,null,null,null,null,null,null,null,null,null,null,null,null,null,null,null,null,null,null,null,null,null,null,null,null,null,null,null,null,null,null,null,null,null,null,null,null,null,null,null,null,null,112,null,null,112,0,16800,0,0,16800,16800,"Yes",0,0,0]
[null,36,null,"MOT CREW","Vendor No.04","Mot 10",1248,"2018-10-14","2018-10-20",{"$f":"IF(AND(H54>='A - Contractor Summary'!$C$36,I54<='A - Contractor Summary'!$C$42),\"Yes\",\"No\")","v":"Yes"},{"$f":"VLOOKUP($D54,'C.1 - Rate Sheets'!B:F,2,FALSE)","v":0},{"$f":"VLOOKUP($D54,'C.1 - Rate Sheets'!B:F,3,FALSE)","v":150},{"$f":"VLOOKUP($D54,'C.1 - Rate Sheets'!B:F,4,FALSE)","v":0},{"$f":"VLOOKUP($D54,'C.1 - Rate Sheets'!B:F,5,FALSE)","v":0},null,null,null,null,null,null,null,16,16,16,16,16,16,16,null,null,null,null,null,null,null,null,null,null,null,null,null,null,null,null,null,null,null,null,null,null,null,null,null,null,null,null,null,null,null,null,null,null,null,null,null,null,null,null,null,null,null,null,null,null,null,null,null,null,null,null,null,null,null,null,null,null,null,null,null,null,null,null,null,null,null,null,null,null,null,null,null,null,null,null,null,null,null,null,null,null,null,null,null,null,null,null,null,null,null,null,null,null,null,null,null,null,null,null,null,null,null,null,null,null,null,null,null,null,null,null,null,null,null,null,null,null,null,null,null,null,null,null,null,null,null,null,null,null,null,null,null,null,null,null,null,null,null,null,null,null,null,null,null,null,null,null,null,null,null,null,null,null,null,112,null,null,112,0,16800,0,0,16800,16800,"Yes",0,0,0]
[null,37,null,"MOT CREW","Vendor No.04","Mot 11",1248,"2018-10-14","2018-10-20",{"$f":"IF(AND(H55>='A - Contractor Summary'!$C$36,I55<='A - Contractor Summary'!$C$42),\"Yes\",\"No\")","v":"Yes"},{"$f":"VLOOKUP($D55,'C.1 - Rate Sheets'!B:F,2,FALSE)","v":0},{"$f":"VLOOKUP($D55,'C.1 - Rate Sheets'!B:F,3,FALSE)","v":150},{"$f":"VLOOKUP($D55,'C.1 - Rate Sheets'!B:F,4,FALSE)","v":0},{"$f":"VLOOKUP($D55,'C.1 - Rate Sheets'!B:F,5,FALSE)","v":0},null,null,null,null,null,null,null,16,16,16,16,16,16,16,null,null,null,null,null,null,null,null,null,null,null,null,null,null,null,null,null,null,null,null,null,null,null,null,null,null,null,null,null,null,null,null,null,null,null,null,null,null,null,null,null,null,null,null,null,null,null,null,null,null,null,null,null,null,null,null,null,null,null,null,null,null,null,null,null,null,null,null,null,null,null,null,null,null,null,null,null,null,null,null,null,null,null,null,null,null,null,null,null,null,null,null,null,null,null,null,null,null,null,null,null,null,null,null,null,null,null,null,null,null,null,null,null,null,null,null,null,null,null,null,null,null,null,null,null,null,null,null,null,null,null,null,null,null,null,null,null,null,null,null,null,null,null,null,null,null,null,null,null,null,null,null,null,null,null,112,null,null,112,0,16800,0,0,16800,16800,"Yes",0,0,0]
[null,38,null,"MOT CREW","Vendor No.04","Mot 12",1248,"2018-10-14","2018-10-20",{"$f":"IF(AND(H56>='A - Contractor Summary'!$C$36,I56<='A - Contractor Summary'!$C$42),\"Yes\",\"No\")","v":"Yes"},{"$f":"VLOOKUP($D56,'C.1 - Rate Sheets'!B:F,2,FALSE)","v":0},{"$f":"VLOOKUP($D56,'C.1 - Rate Sheets'!B:F,3,FALSE)","v":150},{"$f":"VLOOKUP($D56,'C.1 - Rate Sheets'!B:F,4,FALSE)","v":0},{"$f":"VLOOKUP($D56,'C.1 - Rate Sheets'!B:F,5,FALSE)","v":0},null,null,null,null,null,null,null,16,16,16,16,16,16,16,null,null,null,null,null,null,null,null,null,null,null,null,null,null,null,null,null,null,null,null,null,null,null,null,null,null,null,null,null,null,null,null,null,null,null,null,null,null,null,null,null,null,null,null,null,null,null,null,null,null,null,null,null,null,null,null,null,null,null,null,null,null,null,null,null,null,null,null,null,null,null,null,null,null,null,null,null,null,null,null,null,null,null,null,null,null,null,null,null,null,null,null,null,null,null,null,null,null,null,null,null,null,null,null,null,null,null,null,null,null,null,null,null,null,null,null,null,null,null,null,null,null,null,null,null,null,null,null,null,null,null,null,null,null,null,null,null,null,null,null,null,null,null,null,null,null,null,null,null,null,null,null,null,null,null,112,null,null,112,0,16800,0,0,16800,16800,"Yes",0,0,0]
[null,39,null,"MOT CREW","Vendor No.04","Mot 13",1248,"2018-10-14","2018-10-20",{"$f":"IF(AND(H57>='A - Contractor Summary'!$C$36,I57<='A - Contractor Summary'!$C$42),\"Yes\",\"No\")","v":"Yes"},{"$f":"VLOOKUP($D57,'C.1 - Rate Sheets'!B:F,2,FALSE)","v":0},{"$f":"VLOOKUP($D57,'C.1 - Rate Sheets'!B:F,3,FALSE)","v":150},{"$f":"VLOOKUP($D57,'C.1 - Rate Sheets'!B:F,4,FALSE)","v":0},{"$f":"VLOOKUP($D57,'C.1 - Rate Sheets'!B:F,5,FALSE)","v":0},null,null,null,null,null,null,null,16,16,16,16,16,16,16,null,null,null,null,null,null,null,null,null,null,null,null,null,null,null,null,null,null,null,null,null,null,null,null,null,null,null,null,null,null,null,null,null,null,null,null,null,null,null,null,null,null,null,null,null,null,null,null,null,null,null,null,null,null,null,null,null,null,null,null,null,null,null,null,null,null,null,null,null,null,null,null,null,null,null,null,null,null,null,null,null,null,null,null,null,null,null,null,null,null,null,null,null,null,null,null,null,null,null,null,null,null,null,null,null,null,null,null,null,null,null,null,null,null,null,null,null,null,null,null,null,null,null,null,null,null,null,null,null,null,null,null,null,null,null,null,null,null,null,null,null,null,null,null,null,null,null,null,null,null,null,null,null,null,null,112,null,null,112,0,16800,0,0,16800,16800,"Yes",0,0,0]
[null,40,null,"MOT CREW","Vendor No.04","Mot 14",1248,"2018-10-14","2018-10-20",{"$f":"IF(AND(H58>='A - Contractor Summary'!$C$36,I58<='A - Contractor Summary'!$C$42),\"Yes\",\"No\")","v":"Yes"},{"$f":"VLOOKUP($D58,'C.1 - Rate Sheets'!B:F,2,FALSE)","v":0},{"$f":"VLOOKUP($D58,'C.1 - Rate Sheets'!B:F,3,FALSE)","v":150},{"$f":"VLOOKUP($D58,'C.1 - Rate Sheets'!B:F,4,FALSE)","v":0},{"$f":"VLOOKUP($D58,'C.1 - Rate Sheets'!B:F,5,FALSE)","v":0},null,null,null,null,null,null,null,16,16,null,16,16,16,16,null,null,null,null,null,null,null,null,null,null,null,null,null,null,null,null,null,null,null,null,null,null,null,null,null,null,null,null,null,null,null,null,null,null,null,null,null,null,null,null,null,null,null,null,null,null,null,null,null,null,null,null,null,null,null,null,null,null,null,null,null,null,null,null,null,null,null,null,null,null,null,null,null,null,null,null,null,null,null,null,null,null,null,null,null,null,null,null,null,null,null,null,null,null,null,null,null,null,null,null,null,null,null,null,null,null,null,null,null,null,null,null,null,null,null,null,null,null,null,null,null,null,null,null,null,null,null,null,null,null,null,null,null,null,null,null,null,null,null,null,null,null,null,null,null,null,null,null,null,null,null,null,null,null,null,96,null,null,96,0,14400,0,0,14400,14400,"Yes",0,0,0]
[null,41,null,"MOT CREW","Vendor No.04","Mot 15",1248,"2018-10-14","2018-10-20",{"$f":"IF(AND(H59>='A - Contractor Summary'!$C$36,I59<='A - Contractor Summary'!$C$42),\"Yes\",\"No\")","v":"Yes"},{"$f":"VLOOKUP($D59,'C.1 - Rate Sheets'!B:F,2,FALSE)","v":0},{"$f":"VLOOKUP($D59,'C.1 - Rate Sheets'!B:F,3,FALSE)","v":150},{"$f":"VLOOKUP($D59,'C.1 - Rate Sheets'!B:F,4,FALSE)","v":0},{"$f":"VLOOKUP($D59,'C.1 - Rate Sheets'!B:F,5,FALSE)","v":0},null,null,null,null,null,null,null,16,16,null,16,16,16,16,null,null,null,null,null,null,null,null,null,null,null,null,null,null,null,null,null,null,null,null,null,null,null,null,null,null,null,null,null,null,null,null,null,null,null,null,null,null,null,null,null,null,null,null,null,null,null,null,null,null,null,null,null,null,null,null,null,null,null,null,null,null,null,null,null,null,null,null,null,null,null,null,null,null,null,null,null,null,null,null,null,null,null,null,null,null,null,null,null,null,null,null,null,null,null,null,null,null,null,null,null,null,null,null,null,null,null,null,null,null,null,null,null,null,null,null,null,null,null,null,null,null,null,null,null,null,null,null,null,null,null,null,null,null,null,null,null,null,null,null,null,null,null,null,null,null,null,null,null,null,null,null,null,null,null,96,null,null,96,0,14400,0,0,14400,14400,"Yes",0,0,0]
[null,42,null,"MOT CREW","Vendor No.04","Mot 16",1248,"2018-10-14","2018-10-20",{"$f":"IF(AND(H60>='A - Contractor Summary'!$C$36,I60<='A - Contractor Summary'!$C$42),\"Yes\",\"No\")","v":"Yes"},{"$f":"VLOOKUP($D60,'C.1 - Rate Sheets'!B:F,2,FALSE)","v":0},{"$f":"VLOOKUP($D60,'C.1 - Rate Sheets'!B:F,3,FALSE)","v":150},{"$f":"VLOOKUP($D60,'C.1 - Rate Sheets'!B:F,4,FALSE)","v":0},{"$f":"VLOOKUP($D60,'C.1 - Rate Sheets'!B:F,5,FALSE)","v":0},null,null,null,null,null,null,null,16,16,null,16,16,16,16,null,null,null,null,null,null,null,null,null,null,null,null,null,null,null,null,null,null,null,null,null,null,null,null,null,null,null,null,null,null,null,null,null,null,null,null,null,null,null,null,null,null,null,null,null,null,null,null,null,null,null,null,null,null,null,null,null,null,null,null,null,null,null,null,null,null,null,null,null,null,null,null,null,null,null,null,null,null,null,null,null,null,null,null,null,null,null,null,null,null,null,null,null,null,null,null,null,null,null,null,null,null,null,null,null,null,null,null,null,null,null,null,null,null,null,null,null,null,null,null,null,null,null,null,null,null,null,null,null,null,null,null,null,null,null,null,null,null,null,null,null,null,null,null,null,null,null,null,null,null,null,null,null,null,null,96,null,null,96,0,14400,0,0,14400,14400,"Yes",0,0,0]
[null,43,null,"MOT CREW","Vendor No.04","Mot 17",1248,"2018-10-14","2018-10-20",{"$f":"IF(AND(H61>='A - Contractor Summary'!$C$36,I61<='A - Contractor Summary'!$C$42),\"Yes\",\"No\")","v":"Yes"},{"$f":"VLOOKUP($D61,'C.1 - Rate Sheets'!B:F,2,FALSE)","v":0},{"$f":"VLOOKUP($D61,'C.1 - Rate Sheets'!B:F,3,FALSE)","v":150},{"$f":"VLOOKUP($D61,'C.1 - Rate Sheets'!B:F,4,FALSE)","v":0},{"$f":"VLOOKUP($D61,'C.1 - Rate Sheets'!B:F,5,FALSE)","v":0},null,null,null,null,null,null,null,16,16,null,16,16,16,16,null,null,null,null,null,null,null,null,null,null,null,null,null,null,null,null,null,null,null,null,null,null,null,null,null,null,null,null,null,null,null,null,null,null,null,null,null,null,null,null,null,null,null,null,null,null,null,null,null,null,null,null,null,null,null,null,null,null,null,null,null,null,null,null,null,null,null,null,null,null,null,null,null,null,null,null,null,null,null,null,null,null,null,null,null,null,null,null,null,null,null,null,null,null,null,null,null,null,null,null,null,null,null,null,null,null,null,null,null,null,null,null,null,null,null,null,null,null,null,null,null,null,null,null,null,null,null,null,null,null,null,null,null,null,null,null,null,null,null,null,null,null,null,null,null,null,null,null,null,null,null,null,null,null,null,96,null,null,96,0,14400,0,0,14400,14400,"Yes",0,0,0]
[null,44,null,"MOT CREW","Vendor No.04","Mot 18",1248,"2018-10-14","2018-10-20",{"$f":"IF(AND(H62>='A - Contractor Summary'!$C$36,I62<='A - Contractor Summary'!$C$42),\"Yes\",\"No\")","v":"Yes"},{"$f":"VLOOKUP($D62,'C.1 - Rate Sheets'!B:F,2,FALSE)","v":0},{"$f":"VLOOKUP($D62,'C.1 - Rate Sheets'!B:F,3,FALSE)","v":150},{"$f":"VLOOKUP($D62,'C.1 - Rate Sheets'!B:F,4,FALSE)","v":0},{"$f":"VLOOKUP($D62,'C.1 - Rate Sheets'!B:F,5,FALSE)","v":0},null,null,null,null,null,null,null,16,16,null,16,16,16,16,null,null,null,null,null,null,null,null,null,null,null,null,null,null,null,null,null,null,null,null,null,null,null,null,null,null,null,null,null,null,null,null,null,null,null,null,null,null,null,null,null,null,null,null,null,null,null,null,null,null,null,null,null,null,null,null,null,null,null,null,null,null,null,null,null,null,null,null,null,null,null,null,null,null,null,null,null,null,null,null,null,null,null,null,null,null,null,null,null,null,null,null,null,null,null,null,null,null,null,null,null,null,null,null,null,null,null,null,null,null,null,null,null,null,null,null,null,null,null,null,null,null,null,null,null,null,null,null,null,null,null,null,null,null,null,null,null,null,null,null,null,null,null,null,null,null,null,null,null,null,null,null,null,null,null,96,null,null,96,0,14400,0,0,14400,14400,"Yes",0,0,0]
[null,45,null,"MOT CREW","Vendor No.04","Mot 19",1248,"2018-10-17","2018-10-20",{"$f":"IF(AND(H63>='A - Contractor Summary'!$C$36,I63<='A - Contractor Summary'!$C$42),\"Yes\",\"No\")","v":"Yes"},{"$f":"VLOOKUP($D63,'C.1 - Rate Sheets'!B:F,2,FALSE)","v":0},{"$f":"VLOOKUP($D63,'C.1 - Rate Sheets'!B:F,3,FALSE)","v":150},{"$f":"VLOOKUP($D63,'C.1 - Rate Sheets'!B:F,4,FALSE)","v":0},{"$f":"VLOOKUP($D63,'C.1 - Rate Sheets'!B:F,5,FALSE)","v":0},null,null,null,null,null,null,null,null,null,null,16,16,16,16,null,null,null,null,null,null,null,null,null,null,null,null,null,null,null,null,null,null,null,null,null,null,null,null,null,null,null,null,null,null,null,null,null,null,null,null,null,null,null,null,null,null,null,null,null,null,null,null,null,null,null,null,null,null,null,null,null,null,null,null,null,null,null,null,null,null,null,null,null,null,null,null,null,null,null,null,null,null,null,null,null,null,null,null,null,null,null,null,null,null,null,null,null,null,null,null,null,null,null,null,null,null,null,null,null,null,null,null,null,null,null,null,null,null,null,null,null,null,null,null,null,null,null,null,null,null,null,null,null,null,null,null,null,null,null,null,null,null,null,null,null,null,null,null,null,null,null,null,null,null,null,null,null,null,null,64,null,null,64,0,9600,0,0,9600,9600,"Yes",0,0,0]
[null,46,null,"MOT CREW","Vendor No.04","Mot 20",1248,"2018-10-17","2018-10-20",{"$f":"IF(AND(H64>='A - Contractor Summary'!$C$36,I64<='A - Contractor Summary'!$C$42),\"Yes\",\"No\")","v":"Yes"},{"$f":"VLOOKUP($D64,'C.1 - Rate Sheets'!B:F,2,FALSE)","v":0},{"$f":"VLOOKUP($D64,'C.1 - Rate Sheets'!B:F,3,FALSE)","v":150},{"$f":"VLOOKUP($D64,'C.1 - Rate Sheets'!B:F,4,FALSE)","v":0},{"$f":"VLOOKUP($D64,'C.1 - Rate Sheets'!B:F,5,FALSE)","v":0},null,null,null,null,null,null,null,null,null,null,16,16,16,16,null,null,null,null,null,null,null,null,null,null,null,null,null,null,null,null,null,null,null,null,null,null,null,null,null,null,null,null,null,null,null,null,null,null,null,null,null,null,null,null,null,null,null,null,null,null,null,null,null,null,null,null,null,null,null,null,null,null,null,null,null,null,null,null,null,null,null,null,null,null,null,null,null,null,null,null,null,null,null,null,null,null,null,null,null,null,null,null,null,null,null,null,null,null,null,null,null,null,null,null,null,null,null,null,null,null,null,null,null,null,null,null,null,null,null,null,null,null,null,null,null,null,null,null,null,null,null,null,null,null,null,null,null,null,null,null,null,null,null,null,null,null,null,null,null,null,null,null,null,null,null,null,null,null,null,64,null,null,64,0,9600,0,0,9600,9600,"Yes",0,0,0]
[null,47,null,"MOT CREW","Vendor No.04","Mot 21",1248,"2018-10-17","2018-10-20",{"$f":"IF(AND(H65>='A - Contractor Summary'!$C$36,I65<='A - Contractor Summary'!$C$42),\"Yes\",\"No\")","v":"Yes"},{"$f":"VLOOKUP($D65,'C.1 - Rate Sheets'!B:F,2,FALSE)","v":0},{"$f":"VLOOKUP($D65,'C.1 - Rate Sheets'!B:F,3,FALSE)","v":150},{"$f":"VLOOKUP($D65,'C.1 - Rate Sheets'!B:F,4,FALSE)","v":0},{"$f":"VLOOKUP($D65,'C.1 - Rate Sheets'!B:F,5,FALSE)","v":0},null,null,null,null,null,null,null,null,null,null,16,16,16,16,null,null,null,null,null,null,null,null,null,null,null,null,null,null,null,null,null,null,null,null,null,null,null,null,null,null,null,null,null,null,null,null,null,null,null,null,null,null,null,null,null,null,null,null,null,null,null,null,null,null,null,null,null,null,null,null,null,null,null,null,null,null,null,null,null,null,null,null,null,null,null,null,null,null,null,null,null,null,null,null,null,null,null,null,null,null,null,null,null,null,null,null,null,null,null,null,null,null,null,null,null,null,null,null,null,null,null,null,null,null,null,null,null,null,null,null,null,null,null,null,null,null,null,null,null,null,null,null,null,null,null,null,null,null,null,null,null,null,null,null,null,null,null,null,null,null,null,null,null,null,null,null,null,null,null,64,null,null,64,0,9600,0,0,9600,9600,"Yes",0,0,0]
[null,48,null,"MOT CREW","Vendor No.04","Mot 22",1248,"2018-10-17","2018-10-20",{"$f":"IF(AND(H66>='A - Contractor Summary'!$C$36,I66<='A - Contractor Summary'!$C$42),\"Yes\",\"No\")","v":"Yes"},{"$f":"VLOOKUP($D66,'C.1 - Rate Sheets'!B:F,2,FALSE)","v":0},{"$f":"VLOOKUP($D66,'C.1 - Rate Sheets'!B:F,3,FALSE)","v":150},{"$f":"VLOOKUP($D66,'C.1 - Rate Sheets'!B:F,4,FALSE)","v":0},{"$f":"VLOOKUP($D66,'C.1 - Rate Sheets'!B:F,5,FALSE)","v":0},null,null,null,null,null,null,null,null,null,null,16,16,16,16,null,null,null,null,null,null,null,null,null,null,null,null,null,null,null,null,null,null,null,null,null,null,null,null,null,null,null,null,null,null,null,null,null,null,null,null,null,null,null,null,null,null,null,null,null,null,null,null,null,null,null,null,null,null,null,null,null,null,null,null,null,null,null,null,null,null,null,null,null,null,null,null,null,null,null,null,null,null,null,null,null,null,null,null,null,null,null,null,null,null,null,null,null,null,null,null,null,null,null,null,null,null,null,null,null,null,null,null,null,null,null,null,null,null,null,null,null,null,null,null,null,null,null,null,null,null,null,null,null,null,null,null,null,null,null,null,null,null,null,null,null,null,null,null,null,null,null,null,null,null,null,null,null,null,null,64,null,null,64,0,9600,0,0,9600,9600,"Yes",0,0,0]
[null,49,null,"MOT CREW","Vendor No.04","Mot 23",1248,"2018-10-19","2018-10-20",{"$f":"IF(AND(H67>='A - Contractor Summary'!$C$36,I67<='A - Contractor Summary'!$C$42),\"Yes\",\"No\")","v":"Yes"},{"$f":"VLOOKUP($D67,'C.1 - Rate Sheets'!B:F,2,FALSE)","v":0},{"$f":"VLOOKUP($D67,'C.1 - Rate Sheets'!B:F,3,FALSE)","v":150},{"$f":"VLOOKUP($D67,'C.1 - Rate Sheets'!B:F,4,FALSE)","v":0},{"$f":"VLOOKUP($D67,'C.1 - Rate Sheets'!B:F,5,FALSE)","v":0},null,null,null,null,null,null,null,null,null,null,null,null,16,16,null,null,null,null,null,null,null,null,null,null,null,null,null,null,null,null,null,null,null,null,null,null,null,null,null,null,null,null,null,null,null,null,null,null,null,null,null,null,null,null,null,null,null,null,null,null,null,null,null,null,null,null,null,null,null,null,null,null,null,null,null,null,null,null,null,null,null,null,null,null,null,null,null,null,null,null,null,null,null,null,null,null,null,null,null,null,null,null,null,null,null,null,null,null,null,null,null,null,null,null,null,null,null,null,null,null,null,null,null,null,null,null,null,null,null,null,null,null,null,null,null,null,null,null,null,null,null,null,null,null,null,null,null,null,null,null,null,null,null,null,null,null,null,null,null,null,null,null,null,null,null,null,null,null,null,32,null,null,32,0,4800,0,0,4800,4800,"Yes",0,0,0]
[null,50,null,"MOT CREW","Vendor No.04","Mot 24",1248,"2018-10-19","2018-10-20",{"$f":"IF(AND(H68>='A - Contractor Summary'!$C$36,I68<='A - Contractor Summary'!$C$42),\"Yes\",\"No\")","v":"Yes"},{"$f":"VLOOKUP($D68,'C.1 - Rate Sheets'!B:F,2,FALSE)","v":0},{"$f":"VLOOKUP($D68,'C.1 - Rate Sheets'!B:F,3,FALSE)","v":150},{"$f":"VLOOKUP($D68,'C.1 - Rate Sheets'!B:F,4,FALSE)","v":0},{"$f":"VLOOKUP($D68,'C.1 - Rate Sheets'!B:F,5,FALSE)","v":0},null,null,null,null,null,null,null,null,null,null,null,null,16,16,null,null,null,null,null,null,null,null,null,null,null,null,null,null,null,null,null,null,null,null,null,null,null,null,null,null,null,null,null,null,null,null,null,null,null,null,null,null,null,null,null,null,null,null,null,null,null,null,null,null,null,null,null,null,null,null,null,null,null,null,null,null,null,null,null,null,null,null,null,null,null,null,null,null,null,null,null,null,null,null,null,null,null,null,null,null,null,null,null,null,null,null,null,null,null,null,null,null,null,null,null,null,null,null,null,null,null,null,null,null,null,null,null,null,null,null,null,null,null,null,null,null,null,null,null,null,null,null,null,null,null,null,null,null,null,null,null,null,null,null,null,null,null,null,null,null,null,null,null,null,null,null,null,null,null,32,null,null,32,0,4800,0,0,4800,4800,"Yes",0,0,0]
[null,51,null,"MOT CREW","Vendor No.04","Mot 25",1248,"2018-10-19","2018-10-20",{"$f":"IF(AND(H69>='A - Contractor Summary'!$C$36,I69<='A - Contractor Summary'!$C$42),\"Yes\",\"No\")","v":"Yes"},{"$f":"VLOOKUP($D69,'C.1 - Rate Sheets'!B:F,2,FALSE)","v":0},{"$f":"VLOOKUP($D69,'C.1 - Rate Sheets'!B:F,3,FALSE)","v":150},{"$f":"VLOOKUP($D69,'C.1 - Rate Sheets'!B:F,4,FALSE)","v":0},{"$f":"VLOOKUP($D69,'C.1 - Rate Sheets'!B:F,5,FALSE)","v":0},null,null,null,null,null,null,null,null,null,null,null,null,16,16,null,null,null,null,null,null,null,null,null,null,null,null,null,null,null,null,null,null,null,null,null,null,null,null,null,null,null,null,null,null,null,null,null,null,null,null,null,null,null,null,null,null,null,null,null,null,null,null,null,null,null,null,null,null,null,null,null,null,null,null,null,null,null,null,null,null,null,null,null,null,null,null,null,null,null,null,null,null,null,null,null,null,null,null,null,null,null,null,null,null,null,null,null,null,null,null,null,null,null,null,null,null,null,null,null,null,null,null,null,null,null,null,null,null,null,null,null,null,null,null,null,null,null,null,null,null,null,null,null,null,null,null,null,null,null,null,null,null,null,null,null,null,null,null,null,null,null,null,null,null,null,null,null,null,null,32,null,null,32,0,4800,0,0,4800,4800,"Yes",0,0,0]
[null,52,null,"MOT CREW","Vendor No.04","Mot 26",1248,"2018-10-19","2018-10-20",{"$f":"IF(AND(H70>='A - Contractor Summary'!$C$36,I70<='A - Contractor Summary'!$C$42),\"Yes\",\"No\")","v":"Yes"},{"$f":"VLOOKUP($D70,'C.1 - Rate Sheets'!B:F,2,FALSE)","v":0},{"$f":"VLOOKUP($D70,'C.1 - Rate Sheets'!B:F,3,FALSE)","v":150},{"$f":"VLOOKUP($D70,'C.1 - Rate Sheets'!B:F,4,FALSE)","v":0},{"$f":"VLOOKUP($D70,'C.1 - Rate Sheets'!B:F,5,FALSE)","v":0},null,null,null,null,null,null,null,null,null,null,null,null,16,16,null,null,null,null,null,null,null,null,null,null,null,null,null,null,null,null,null,null,null,null,null,null,null,null,null,null,null,null,null,null,null,null,null,null,null,null,null,null,null,null,null,null,null,null,null,null,null,null,null,null,null,null,null,null,null,null,null,null,null,null,null,null,null,null,null,null,null,null,null,null,null,null,null,null,null,null,null,null,null,null,null,null,null,null,null,null,null,null,null,null,null,null,null,null,null,null,null,null,null,null,null,null,null,null,null,null,null,null,null,null,null,null,null,null,null,null,null,null,null,null,null,null,null,null,null,null,null,null,null,null,null,null,null,null,null,null,null,null,null,null,null,null,null,null,null,null,null,null,null,null,null,null,null,null,null,32,null,null,32,0,4800,0,0,4800,4800,"Yes",0,0,0]
[null,53,null,"MOT CREW","Vendor No.04","Mot 27",1248,{"$f":"INDEX($O$16:$BK$16,MATCH(TRUE,INDEX((O71:BK71>0),0),0))","v":"2018-10-19"},{"$f":"LOOKUP(2,1/(1-(O71:BK71<=0)),$O$16:$BK$16)","v":"2018-10-20"},{"$f":"IF(AND(H71>='A - Contractor Summary'!$C$36,I71<='A - Contractor Summary'!$C$42),\"Yes\",\"No\")","v":"Yes"},{"$f":"VLOOKUP($D71,'C.1 - Rate Sheets'!B:F,2,FALSE)","v":0},{"$f":"VLOOKUP($D71,'C.1 - Rate Sheets'!B:F,3,FALSE)","v":150},{"$f":"VLOOKUP($D71,'C.1 - Rate Sheets'!B:F,4,FALSE)","v":0},{"$f":"VLOOKUP($D71,'C.1 - Rate Sheets'!B:F,5,FALSE)","v":0},null,null,null,null,null,null,null,null,null,null,null,null,16,16,null,null,null,null,null,null,null,null,null,null,null,null,null,null,null,null,null,null,null,null,null,null,null,null,null,null,null,null,null,null,null,null,null,null,null,null,null,null,null,null,null,null,null,null,null,null,null,null,null,null,null,null,null,null,null,null,null,null,null,null,null,null,null,null,null,null,null,null,null,null,null,null,null,null,null,null,null,null,null,null,null,null,null,null,null,null,null,null,null,null,null,null,null,null,null,null,null,null,null,null,null,null,null,null,null,null,null,null,null,null,null,null,null,null,null,null,null,null,null,null,null,null,null,null,null,null,null,null,null,null,null,null,null,null,null,null,null,null,null,null,null,null,null,null,null,null,null,null,null,null,null,null,null,null,null,32,null,null,32,0,4800,0,0,4800,4800,"Yes"]
[null,54,null,"MOT CREW","Vendor No.04","Mot 28",1248,"2018-10-19","2018-10-20",{"$f":"IF(AND(H72>='A - Contractor Summary'!$C$36,I72<='A - Contractor Summary'!$C$42),\"Yes\",\"No\")","v":"Yes"},{"$f":"VLOOKUP($D72,'C.1 - Rate Sheets'!B:F,2,FALSE)","v":0},{"$f":"VLOOKUP($D72,'C.1 - Rate Sheets'!B:F,3,FALSE)","v":150},{"$f":"VLOOKUP($D72,'C.1 - Rate Sheets'!B:F,4,FALSE)","v":0},{"$f":"VLOOKUP($D72,'C.1 - Rate Sheets'!B:F,5,FALSE)","v":0},null,null,null,null,null,null,null,null,null,null,null,null,16,16,null,null,null,null,null,null,null,null,null,null,null,null,null,null,null,null,null,null,null,null,null,null,null,null,null,null,null,null,null,null,null,null,null,null,null,null,null,null,null,null,null,null,null,null,null,null,null,null,null,null,null,null,null,null,null,null,null,null,null,null,null,null,null,null,null,null,null,null,null,null,null,null,null,null,null,null,null,null,null,null,null,null,null,null,null,null,null,null,null,null,null,null,null,null,null,null,null,null,null,null,null,null,null,null,null,null,null,null,null,null,null,null,null,null,null,null,null,null,null,null,null,null,null,null,null,null,null,null,null,null,null,null,null,null,null,null,null,null,null,null,null,null,null,null,null,null,null,null,null,null,null,null,null,null,null,32,null,null,32,0,4800,0,0,4800,4800,"Yes",0,0,0]
[null,55,null,"MOT CREW","Vendor No.04","Mot 29",1248,"2018-10-20","2018-10-20",{"$f":"IF(AND(H73>='A - Contractor Summary'!$C$36,I73<='A - Contractor Summary'!$C$42),\"Yes\",\"No\")","v":"Yes"},{"$f":"VLOOKUP($D73,'C.1 - Rate Sheets'!B:F,2,FALSE)","v":0},{"$f":"VLOOKUP($D73,'C.1 - Rate Sheets'!B:F,3,FALSE)","v":150},{"$f":"VLOOKUP($D73,'C.1 - Rate Sheets'!B:F,4,FALSE)","v":0},{"$f":"VLOOKUP($D73,'C.1 - Rate Sheets'!B:F,5,FALSE)","v":0},null,null,null,null,null,null,null,null,null,null,null,null,null,16,null,null,null,null,null,null,null,null,null,null,null,null,null,null,null,null,null,null,null,null,null,null,null,null,null,null,null,null,null,null,null,null,null,null,null,null,null,null,null,null,null,null,null,null,null,null,null,null,null,null,null,null,null,null,null,null,null,null,null,null,null,null,null,null,null,null,null,null,null,null,null,null,null,null,null,null,null,null,null,null,null,null,null,null,null,null,null,null,null,null,null,null,null,null,null,null,null,null,null,null,null,null,null,null,null,null,null,null,null,null,null,null,null,null,null,null,null,null,null,null,null,null,null,null,null,null,null,null,null,null,null,null,null,null,null,null,null,null,null,null,null,null,null,null,null,null,null,null,null,null,null,null,null,null,null,16,null,null,16,0,2400,0,0,2400,2400,"Yes",0,0,0]
[null,56,null,"MOT CREW","Vendor No.04","Mot 30",1248,"2018-10-20","2018-10-20",{"$f":"IF(AND(H74>='A - Contractor Summary'!$C$36,I74<='A - Contractor Summary'!$C$42),\"Yes\",\"No\")","v":"Yes"},{"$f":"VLOOKUP($D74,'C.1 - Rate Sheets'!B:F,2,FALSE)","v":0},{"$f":"VLOOKUP($D74,'C.1 - Rate Sheets'!B:F,3,FALSE)","v":150},{"$f":"VLOOKUP($D74,'C.1 - Rate Sheets'!B:F,4,FALSE)","v":0},{"$f":"VLOOKUP($D74,'C.1 - Rate Sheets'!B:F,5,FALSE)","v":0},null,null,null,null,null,null,null,null,null,null,null,null,null,16,null,null,null,null,null,null,null,null,null,null,null,null,null,null,null,null,null,null,null,null,null,null,null,null,null,null,null,null,null,null,null,null,null,null,null,null,null,null,null,null,null,null,null,null,null,null,null,null,null,null,null,null,null,null,null,null,null,null,null,null,null,null,null,null,null,null,null,null,null,null,null,null,null,null,null,null,null,null,null,null,null,null,null,null,null,null,null,null,null,null,null,null,null,null,null,null,null,null,null,null,null,null,null,null,null,null,null,null,null,null,null,null,null,null,null,null,null,null,null,null,null,null,null,null,null,null,null,null,null,null,null,null,null,null,null,null,null,null,null,null,null,null,null,null,null,null,null,null,null,null,null,null,null,null,null,16,null,null,16,0,2400,0,0,2400,2400,"Yes",0,0,0]
[null,57,null,"MOT CREW","Vendor No.04","Mot 31",1248,"2018-10-20","2018-10-20",{"$f":"IF(AND(H75>='A - Contractor Summary'!$C$36,I75<='A - Contractor Summary'!$C$42),\"Yes\",\"No\")","v":"Yes"},{"$f":"VLOOKUP($D75,'C.1 - Rate Sheets'!B:F,2,FALSE)","v":0},{"$f":"VLOOKUP($D75,'C.1 - Rate Sheets'!B:F,3,FALSE)","v":150},{"$f":"VLOOKUP($D75,'C.1 - Rate Sheets'!B:F,4,FALSE)","v":0},{"$f":"VLOOKUP($D75,'C.1 - Rate Sheets'!B:F,5,FALSE)","v":0},null,null,null,null,null,null,null,null,null,null,null,null,null,16,null,null,null,null,null,null,null,null,null,null,null,null,null,null,null,null,null,null,null,null,null,null,null,null,null,null,null,null,null,null,null,null,null,null,null,null,null,null,null,null,null,null,null,null,null,null,null,null,null,null,null,null,null,null,null,null,null,null,null,null,null,null,null,null,null,null,null,null,null,null,null,null,null,null,null,null,null,null,null,null,null,null,null,null,null,null,null,null,null,null,null,null,null,null,null,null,null,null,null,null,null,null,null,null,null,null,null,null,null,null,null,null,null,null,null,null,null,null,null,null,null,null,null,null,null,null,null,null,null,null,null,null,null,null,null,null,null,null,null,null,null,null,null,null,null,null,null,null,null,null,null,null,null,null,null,16,null,null,16,0,2400,0,0,2400,2400,"Yes",0,0,0]
[null,58,null,"MOT CREW","Vendor No.04","Mot 32",1248,"2018-10-20","2018-10-20",{"$f":"IF(AND(H76>='A - Contractor Summary'!$C$36,I76<='A - Contractor Summary'!$C$42),\"Yes\",\"No\")","v":"Yes"},{"$f":"VLOOKUP($D76,'C.1 - Rate Sheets'!B:F,2,FALSE)","v":0},{"$f":"VLOOKUP($D76,'C.1 - Rate Sheets'!B:F,3,FALSE)","v":150},{"$f":"VLOOKUP($D76,'C.1 - Rate Sheets'!B:F,4,FALSE)","v":0},{"$f":"VLOOKUP($D76,'C.1 - Rate Sheets'!B:F,5,FALSE)","v":0},null,null,null,null,null,null,null,null,null,null,null,null,null,16,null,null,null,null,null,null,null,null,null,null,null,null,null,null,null,null,null,null,null,null,null,null,null,null,null,null,null,null,null,null,null,null,null,null,null,null,null,null,null,null,null,null,null,null,null,null,null,null,null,null,null,null,null,null,null,null,null,null,null,null,null,null,null,null,null,null,null,null,null,null,null,null,null,null,null,null,null,null,null,null,null,null,null,null,null,null,null,null,null,null,null,null,null,null,null,null,null,null,null,null,null,null,null,null,null,null,null,null,null,null,null,null,null,null,null,null,null,null,null,null,null,null,null,null,null,null,null,null,null,null,null,null,null,null,null,null,null,null,null,null,null,null,null,null,null,null,null,null,null,null,null,null,null,null,null,16,null,null,16,0,2400,0,0,2400,2400,"Yes",0,0,0]
[null,59,null,"MOT CREW","Vendor No.04","Mot 33",1248,"2018-10-20","2018-10-20",{"$f":"IF(AND(H77>='A - Contractor Summary'!$C$36,I77<='A - Contractor Summary'!$C$42),\"Yes\",\"No\")","v":"Yes"},{"$f":"VLOOKUP($D77,'C.1 - Rate Sheets'!B:F,2,FALSE)","v":0},{"$f":"VLOOKUP($D77,'C.1 - Rate Sheets'!B:F,3,FALSE)","v":150},{"$f":"VLOOKUP($D77,'C.1 - Rate Sheets'!B:F,4,FALSE)","v":0},{"$f":"VLOOKUP($D77,'C.1 - Rate Sheets'!B:F,5,FALSE)","v":0},null,null,null,null,null,null,null,null,null,null,null,null,null,16,null,null,null,null,null,null,null,null,null,null,null,null,null,null,null,null,null,null,null,null,null,null,null,null,null,null,null,null,null,null,null,null,null,null,null,null,null,null,null,null,null,null,null,null,null,null,null,null,null,null,null,null,null,null,null,null,null,null,null,null,null,null,null,null,null,null,null,null,null,null,null,null,null,null,null,null,null,null,null,null,null,null,null,null,null,null,null,null,null,null,null,null,null,null,null,null,null,null,null,null,null,null,null,null,null,null,null,null,null,null,null,null,null,null,null,null,null,null,null,null,null,null,null,null,null,null,null,null,null,null,null,null,null,null,null,null,null,null,null,null,null,null,null,null,null,null,null,null,null,null,null,null,null,null,null,16,null,null,16,0,2400,0,0,2400,2400,"Yes",0,0,0]
[null,60,null,"MOT CREW","Vendor No.04","Mot 34",1248,"2018-10-20","2018-10-20",{"$f":"IF(AND(H78>='A - Contractor Summary'!$C$36,I78<='A - Contractor Summary'!$C$42),\"Yes\",\"No\")","v":"Yes"},{"$f":"VLOOKUP($D78,'C.1 - Rate Sheets'!B:F,2,FALSE)","v":0},{"$f":"VLOOKUP($D78,'C.1 - Rate Sheets'!B:F,3,FALSE)","v":150},{"$f":"VLOOKUP($D78,'C.1 - Rate Sheets'!B:F,4,FALSE)","v":0},{"$f":"VLOOKUP($D78,'C.1 - Rate Sheets'!B:F,5,FALSE)","v":0},null,null,null,null,null,null,null,null,null,null,null,null,null,16,null,null,null,null,null,null,null,null,null,null,null,null,null,null,null,null,null,null,null,null,null,null,null,null,null,null,null,null,null,null,null,null,null,null,null,null,null,null,null,null,null,null,null,null,null,null,null,null,null,null,null,null,null,null,null,null,null,null,null,null,null,null,null,null,null,null,null,null,null,null,null,null,null,null,null,null,null,null,null,null,null,null,null,null,null,null,null,null,null,null,null,null,null,null,null,null,null,null,null,null,null,null,null,null,null,null,null,null,null,null,null,null,null,null,null,null,null,null,null,null,null,null,null,null,null,null,null,null,null,null,null,null,null,null,null,null,null,null,null,null,null,null,null,null,null,null,null,null,null,null,null,null,null,null,null,16,null,null,16,0,2400,0,0,2400,2400,"Yes",0,0,0]
[null,61,null,"MOT CREW","Vendor No.04","Mot 35",1248,"2018-10-20","2018-10-20",{"$f":"IF(AND(H79>='A - Contractor Summary'!$C$36,I79<='A - Contractor Summary'!$C$42),\"Yes\",\"No\")","v":"Yes"},{"$f":"VLOOKUP($D79,'C.1 - Rate Sheets'!B:F,2,FALSE)","v":0},{"$f":"VLOOKUP($D79,'C.1 - Rate Sheets'!B:F,3,FALSE)","v":150},{"$f":"VLOOKUP($D79,'C.1 - Rate Sheets'!B:F,4,FALSE)","v":0},{"$f":"VLOOKUP($D79,'C.1 - Rate Sheets'!B:F,5,FALSE)","v":0},null,null,null,null,null,null,null,null,null,null,null,null,null,16,null,null,null,null,null,null,null,null,null,null,null,null,null,null,null,null,null,null,null,null,null,null,null,null,null,null,null,null,null,null,null,null,null,null,null,null,null,null,null,null,null,null,null,null,null,null,null,null,null,null,null,null,null,null,null,null,null,null,null,null,null,null,null,null,null,null,null,null,null,null,null,null,null,null,null,null,null,null,null,null,null,null,null,null,null,null,null,null,null,null,null,null,null,null,null,null,null,null,null,null,null,null,null,null,null,null,null,null,null,null,null,null,null,null,null,null,null,null,null,null,null,null,null,null,null,null,null,null,null,null,null,null,null,null,null,null,null,null,null,null,null,null,null,null,null,null,null,null,null,null,null,null,null,null,null,16,null,null,16,0,2400,0,0,2400,2400,"Yes",0,0,0]
[null,62,null,"MOT CREW","Vendor No.04","Mot 36",1248,"2018-10-20","2018-10-20",{"$f":"IF(AND(H80>='A - Contractor Summary'!$C$36,I80<='A - Contractor Summary'!$C$42),\"Yes\",\"No\")","v":"Yes"},{"$f":"VLOOKUP($D80,'C.1 - Rate Sheets'!B:F,2,FALSE)","v":0},{"$f":"VLOOKUP($D80,'C.1 - Rate Sheets'!B:F,3,FALSE)","v":150},{"$f":"VLOOKUP($D80,'C.1 - Rate Sheets'!B:F,4,FALSE)","v":0},{"$f":"VLOOKUP($D80,'C.1 - Rate Sheets'!B:F,5,FALSE)","v":0},null,null,null,null,null,null,null,null,null,null,null,null,null,16,null,null,null,null,null,null,null,null,null,null,null,null,null,null,null,null,null,null,null,null,null,null,null,null,null,null,null,null,null,null,null,null,null,null,null,null,null,null,null,null,null,null,null,null,null,null,null,null,null,null,null,null,null,null,null,null,null,null,null,null,null,null,null,null,null,null,null,null,null,null,null,null,null,null,null,null,null,null,null,null,null,null,null,null,null,null,null,null,null,null,null,null,null,null,null,null,null,null,null,null,null,null,null,null,null,null,null,null,null,null,null,null,null,null,null,null,null,null,null,null,null,null,null,null,null,null,null,null,null,null,null,null,null,null,null,null,null,null,null,null,null,null,null,null,null,null,null,null,null,null,null,null,null,null,null,16,null,null,16,0,2400,0,0,2400,2400,"Yes",0,0,0]
[null,63,null,"CLEAR CREW","Vendor No.04","Clear 1",1248,"2018-10-14","2018-10-20",{"$f":"IF(AND(H81>='A - Contractor Summary'!$C$36,I81<='A - Contractor Summary'!$C$42),\"Yes\",\"No\")","v":"Yes"},{"$f":"VLOOKUP($D81,'C.1 - Rate Sheets'!B:F,2,FALSE)","v":0},{"$f":"VLOOKUP($D81,'C.1 - Rate Sheets'!B:F,3,FALSE)","v":200},{"$f":"VLOOKUP($D81,'C.1 - Rate Sheets'!B:F,4,FALSE)","v":0},{"$f":"VLOOKUP($D81,'C.1 - Rate Sheets'!B:F,5,FALSE)","v":0},null,null,null,null,null,null,null,16,16,16,16,16,16,16,null,null,null,null,null,null,null,null,null,null,null,null,null,null,null,null,null,null,null,null,null,null,null,null,null,null,null,null,null,null,null,null,null,null,null,null,null,null,null,null,null,null,null,null,null,null,null,null,null,null,null,null,null,null,null,null,null,null,null,null,null,null,null,null,null,null,null,null,null,null,null,null,null,null,null,null,null,null,null,null,null,null,null,null,null,null,null,null,null,null,null,null,null,null,null,null,null,null,null,null,null,null,null,null,null,null,null,null,null,null,null,null,null,null,null,null,null,null,null,null,null,null,null,null,null,null,null,null,null,null,null,null,null,null,null,null,null,null,null,null,null,null,null,null,null,null,null,null,null,null,null,null,null,null,null,112,null,null,112,0,22400,0,0,22400,22400,"Yes",0,0,0]
[null,64,null,"CLEAR CREW","Vendor No.04","Clear 2",1248,"2018-10-14","2018-10-20",{"$f":"IF(AND(H82>='A - Contractor Summary'!$C$36,I82<='A - Contractor Summary'!$C$42),\"Yes\",\"No\")","v":"Yes"},{"$f":"VLOOKUP($D82,'C.1 - Rate Sheets'!B:F,2,FALSE)","v":0},{"$f":"VLOOKUP($D82,'C.1 - Rate Sheets'!B:F,3,FALSE)","v":200},{"$f":"VLOOKUP($D82,'C.1 - Rate Sheets'!B:F,4,FALSE)","v":0},{"$f":"VLOOKUP($D82,'C.1 - Rate Sheets'!B:F,5,FALSE)","v":0},null,null,null,null,null,null,null,16,16,16,16,16,16,16,null,null,null,null,null,null,null,null,null,null,null,null,null,null,null,null,null,null,null,null,null,null,null,null,null,null,null,null,null,null,null,null,null,null,null,null,null,null,null,null,null,null,null,null,null,null,null,null,null,null,null,null,null,null,null,null,null,null,null,null,null,null,null,null,null,null,null,null,null,null,null,null,null,null,null,null,null,null,null,null,null,null,null,null,null,null,null,null,null,null,null,null,null,null,null,null,null,null,null,null,null,null,null,null,null,null,null,null,null,null,null,null,null,null,null,null,null,null,null,null,null,null,null,null,null,null,null,null,null,null,null,null,null,null,null,null,null,null,null,null,null,null,null,null,null,null,null,null,null,null,null,null,null,null,null,112,null,null,112,0,22400,0,0,22400,22400,"Yes",0,0,0]
[null,65,null,"CLEAR CREW","Vendor No.04","Clear 3",1248,"2018-10-14","2018-10-20",{"$f":"IF(AND(H83>='A - Contractor Summary'!$C$36,I83<='A - Contractor Summary'!$C$42),\"Yes\",\"No\")","v":"Yes"},{"$f":"VLOOKUP($D83,'C.1 - Rate Sheets'!B:F,2,FALSE)","v":0},{"$f":"VLOOKUP($D83,'C.1 - Rate Sheets'!B:F,3,FALSE)","v":200},{"$f":"VLOOKUP($D83,'C.1 - Rate Sheets'!B:F,4,FALSE)","v":0},{"$f":"VLOOKUP($D83,'C.1 - Rate Sheets'!B:F,5,FALSE)","v":0},null,null,null,null,null,null,null,16,16,16,16,16,16,16,null,null,null,null,null,null,null,null,null,null,null,null,null,null,null,null,null,null,null,null,null,null,null,null,null,null,null,null,null,null,null,null,null,null,null,null,null,null,null,null,null,null,null,null,null,null,null,null,null,null,null,null,null,null,null,null,null,null,null,null,null,null,null,null,null,null,null,null,null,null,null,null,null,null,null,null,null,null,null,null,null,null,null,null,null,null,null,null,null,null,null,null,null,null,null,null,null,null,null,null,null,null,null,null,null,null,null,null,null,null,null,null,null,null,null,null,null,null,null,null,null,null,null,null,null,null,null,null,null,null,null,null,null,null,null,null,null,null,null,null,null,null,null,null,null,null,null,null,null,null,null,null,null,null,null,{"$f":"SUM(O83:FZ83)","v":112},null,null,112,{"$f":"GA83*K83","v":0},{"$f":"GB83*L83","v":22400},{"$f":"GC83*M83","v":0},{"$f":"GD83*N83","v":0},{"$f":"SUM(GF83:GI83)","v":22400},{"$f":"GJ83-GM83","v":22400},"Yes",0,0,0]
[null,66,null,"CLEAR CREW","Vendor No.04","Clear 4",1248,"2018-10-14","2018-10-20",{"$f":"IF(AND(H84>='A - Contractor Summary'!$C$36,I84<='A - Contractor Summary'!$C$42),\"Yes\",\"No\")","v":"Yes"},{"$f":"VLOOKUP($D84,'C.1 - Rate Sheets'!B:F,2,FALSE)","v":0},{"$f":"VLOOKUP($D84,'C.1 - Rate Sheets'!B:F,3,FALSE)","v":200},{"$f":"VLOOKUP($D84,'C.1 - Rate Sheets'!B:F,4,FALSE)","v":0},{"$f":"VLOOKUP($D84,'C.1 - Rate Sheets'!B:F,5,FALSE)","v":0},null,null,null,null,null,null,null,16,16,16,16,16,16,16,null,null,null,null,null,null,null,null,null,null,null,null,null,null,null,null,null,null,null,null,null,null,null,null,null,null,null,null,null,null,null,null,null,null,null,null,null,null,null,null,null,null,null,null,null,null,null,null,null,null,null,null,null,null,null,null,null,null,null,null,null,null,null,null,null,null,null,null,null,null,null,null,null,null,null,null,null,null,null,null,null,null,null,null,null,null,null,null,null,null,null,null,null,null,null,null,null,null,null,null,null,null,null,null,null,null,null,null,null,null,null,null,null,null,null,null,null,null,null,null,null,null,null,null,null,null,null,null,null,null,null,null,null,null,null,null,null,null,null,null,null,null,null,null,null,null,null,null,null,null,null,null,null,null,null,112,null,null,112,0,22400,0,0,22400,22400,"Yes",0,0,0]
[null,67,null,"CLEAR CREW","Vendor No.04","Clear 5",1248,"2018-10-14","2018-10-20",{"$f":"IF(AND(H85>='A - Contractor Summary'!$C$36,I85<='A - Contractor Summary'!$C$42),\"Yes\",\"No\")","v":"Yes"},{"$f":"VLOOKUP($D85,'C.1 - Rate Sheets'!B:F,2,FALSE)","v":0},{"$f":"VLOOKUP($D85,'C.1 - Rate Sheets'!B:F,3,FALSE)","v":200},{"$f":"VLOOKUP($D85,'C.1 - Rate Sheets'!B:F,4,FALSE)","v":0},{"$f":"VLOOKUP($D85,'C.1 - Rate Sheets'!B:F,5,FALSE)","v":0},null,null,null,null,null,null,null,16,16,16,16,16,16,16,null,null,null,null,null,null,null,null,null,null,null,null,null,null,null,null,null,null,null,null,null,null,null,null,null,null,null,null,null,null,null,null,null,null,null,null,null,null,null,null,null,null,null,null,null,null,null,null,null,null,null,null,null,null,null,null,null,null,null,null,null,null,null,null,null,null,null,null,null,null,null,null,null,null,null,null,null,null,null,null,null,null,null,null,null,null,null,null,null,null,null,null,null,null,null,null,null,null,null,null,null,null,null,null,null,null,null,null,null,null,null,null,null,null,null,null,null,null,null,null,null,null,null,null,null,null,null,null,null,null,null,null,null,null,null,null,null,null,null,null,null,null,null,null,null,null,null,null,null,null,null,null,null,null,null,112,null,null,112,0,22400,0,0,22400,22400,"Yes",0,0,0]
[null,68,null,"CLEAR CREW","Vendor No.04","Clear 6",1248,"2018-10-14","2018-10-20",{"$f":"IF(AND(H86>='A - Contractor Summary'!$C$36,I86<='A - Contractor Summary'!$C$42),\"Yes\",\"No\")","v":"Yes"},{"$f":"VLOOKUP($D86,'C.1 - Rate Sheets'!B:F,2,FALSE)","v":0},{"$f":"VLOOKUP($D86,'C.1 - Rate Sheets'!B:F,3,FALSE)","v":200},{"$f":"VLOOKUP($D86,'C.1 - Rate Sheets'!B:F,4,FALSE)","v":0},{"$f":"VLOOKUP($D86,'C.1 - Rate Sheets'!B:F,5,FALSE)","v":0},null,null,null,null,null,null,null,16,16,16,16,16,16,16,null,null,null,null,null,null,null,null,null,null,null,null,null,null,null,null,null,null,null,null,null,null,null,null,null,null,null,null,null,null,null,null,null,null,null,null,null,null,null,null,null,null,null,null,null,null,null,null,null,null,null,null,null,null,null,null,null,null,null,null,null,null,null,null,null,null,null,null,null,null,null,null,null,null,null,null,null,null,null,null,null,null,null,null,null,null,null,null,null,null,null,null,null,null,null,null,null,null,null,null,null,null,null,null,null,null,null,null,null,null,null,null,null,null,null,null,null,null,null,null,null,null,null,null,null,null,null,null,null,null,null,null,null,null,null,null,null,null,null,null,null,null,null,null,null,null,null,null,null,null,null,null,null,null,null,112,null,null,112,0,22400,0,0,22400,22400,"Yes",0,0,0]
[null,69,null,"CLEAR CREW","Vendor No.04","Clear 7",1248,"2018-10-14","2018-10-20",{"$f":"IF(AND(H87>='A - Contractor Summary'!$C$36,I87<='A - Contractor Summary'!$C$42),\"Yes\",\"No\")","v":"Yes"},{"$f":"VLOOKUP($D87,'C.1 - Rate Sheets'!B:F,2,FALSE)","v":0},{"$f":"VLOOKUP($D87,'C.1 - Rate Sheets'!B:F,3,FALSE)","v":200},{"$f":"VLOOKUP($D87,'C.1 - Rate Sheets'!B:F,4,FALSE)","v":0},{"$f":"VLOOKUP($D87,'C.1 - Rate Sheets'!B:F,5,FALSE)","v":0},null,null,null,null,null,null,null,16,16,16,16,16,16,16,null,null,null,null,null,null,null,null,null,null,null,null,null,null,null,null,null,null,null,null,null,null,null,null,null,null,null,null,null,null,null,null,null,null,null,null,null,null,null,null,null,null,null,null,null,null,null,null,null,null,null,null,null,null,null,null,null,null,null,null,null,null,null,null,null,null,null,null,null,null,null,null,null,null,null,null,null,null,null,null,null,null,null,null,null,null,null,null,null,null,null,null,null,null,null,null,null,null,null,null,null,null,null,null,null,null,null,null,null,null,null,null,null,null,null,null,null,null,null,null,null,null,null,null,null,null,null,null,null,null,null,null,null,null,null,null,null,null,null,null,null,null,null,null,null,null,null,null,null,null,null,null,null,null,null,112,null,null,112,0,22400,0,0,22400,22400,"Yes",0,0,0]
[null,70,null,"CLEAR CREW","Vendor No.04","Clear 8",1248,"2018-10-14","2018-10-20",{"$f":"IF(AND(H88>='A - Contractor Summary'!$C$36,I88<='A - Contractor Summary'!$C$42),\"Yes\",\"No\")","v":"Yes"},{"$f":"VLOOKUP($D88,'C.1 - Rate Sheets'!B:F,2,FALSE)","v":0},{"$f":"VLOOKUP($D88,'C.1 - Rate Sheets'!B:F,3,FALSE)","v":200},{"$f":"VLOOKUP($D88,'C.1 - Rate Sheets'!B:F,4,FALSE)","v":0},{"$f":"VLOOKUP($D88,'C.1 - Rate Sheets'!B:F,5,FALSE)","v":0},null,null,null,null,null,null,null,16,16,16,16,16,16,16,null,null,null,null,null,null,null,null,null,null,null,null,null,null,null,null,null,null,null,null,null,null,null,null,null,null,null,null,null,null,null,null,null,null,null,null,null,null,null,null,null,null,null,null,null,null,null,null,null,null,null,null,null,null,null,null,null,null,null,null,null,null,null,null,null,null,null,null,null,null,null,null,null,null,null,null,null,null,null,null,null,null,null,null,null,null,null,null,null,null,null,null,null,null,null,null,null,null,null,null,null,null,null,null,null,null,null,null,null,null,null,null,null,null,null,null,null,null,null,null,null,null,null,null,null,null,null,null,null,null,null,null,null,null,null,null,null,null,null,null,null,null,null,null,null,null,null,null,null,null,null,null,null,null,null,112,null,null,112,0,22400,0,0,22400,22400,"Yes",0,0,0]
[null,71,null,"CLEAR CREW","Vendor No.04","Clear 9",1248,"2018-10-14","2018-10-20",{"$f":"IF(AND(H89>='A - Contractor Summary'!$C$36,I89<='A - Contractor Summary'!$C$42),\"Yes\",\"No\")","v":"Yes"},{"$f":"VLOOKUP($D89,'C.1 - Rate Sheets'!B:F,2,FALSE)","v":0},{"$f":"VLOOKUP($D89,'C.1 - Rate Sheets'!B:F,3,FALSE)","v":200},{"$f":"VLOOKUP($D89,'C.1 - Rate Sheets'!B:F,4,FALSE)","v":0},{"$f":"VLOOKUP($D89,'C.1 - Rate Sheets'!B:F,5,FALSE)","v":0},null,null,null,null,null,null,null,16,16,16,16,16,16,16,null,null,null,null,null,null,null,null,null,null,null,null,null,null,null,null,null,null,null,null,null,null,null,null,null,null,null,null,null,null,null,null,null,null,null,null,null,null,null,null,null,null,null,null,null,null,null,null,null,null,null,null,null,null,null,null,null,null,null,null,null,null,null,null,null,null,null,null,null,null,null,null,null,null,null,null,null,null,null,null,null,null,null,null,null,null,null,null,null,null,null,null,null,null,null,null,null,null,null,null,null,null,null,null,null,null,null,null,null,null,null,null,null,null,null,null,null,null,null,null,null,null,null,null,null,null,null,null,null,null,null,null,null,null,null,null,null,null,null,null,null,null,null,null,null,null,null,null,null,null,null,null,null,null,null,112,null,null,112,0,22400,0,0,22400,22400,"Yes",0,0,0]
[null,72,null,"CLEAR CREW","Vendor No.04","Clear 10",1248,"2018-10-14","2018-10-20",{"$f":"IF(AND(H90>='A - Contractor Summary'!$C$36,I90<='A - Contractor Summary'!$C$42),\"Yes\",\"No\")","v":"Yes"},{"$f":"VLOOKUP($D90,'C.1 - Rate Sheets'!B:F,2,FALSE)","v":0},{"$f":"VLOOKUP($D90,'C.1 - Rate Sheets'!B:F,3,FALSE)","v":200},{"$f":"VLOOKUP($D90,'C.1 - Rate Sheets'!B:F,4,FALSE)","v":0},{"$f":"VLOOKUP($D90,'C.1 - Rate Sheets'!B:F,5,FALSE)","v":0},null,null,null,null,null,null,null,16,16,16,16,16,16,16,null,null,null,null,null,null,null,null,null,null,null,null,null,null,null,null,null,null,null,null,null,null,null,null,null,null,null,null,null,null,null,null,null,null,null,null,null,null,null,null,null,null,null,null,null,null,null,null,null,null,null,null,null,null,null,null,null,null,null,null,null,null,null,null,null,null,null,null,null,null,null,null,null,null,null,null,null,null,null,null,null,null,null,null,null,null,null,null,null,null,null,null,null,null,null,null,null,null,null,null,null,null,null,null,null,null,null,null,null,null,null,null,null,null,null,null,null,null,null,null,null,null,null,null,null,null,null,null,null,null,null,null,null,null,null,null,null,null,null,null,null,null,null,null,null,null,null,null,null,null,null,null,null,null,null,112,null,null,112,0,22400,0,0,22400,22400,"Yes",0,0,0]
[null,73,null,"CLEAR CREW","Vendor No.04","Clear 11",1248,"2018-10-14","2018-10-20",{"$f":"IF(AND(H91>='A - Contractor Summary'!$C$36,I91<='A - Contractor Summary'!$C$42),\"Yes\",\"No\")","v":"Yes"},{"$f":"VLOOKUP($D91,'C.1 - Rate Sheets'!B:F,2,FALSE)","v":0},{"$f":"VLOOKUP($D91,'C.1 - Rate Sheets'!B:F,3,FALSE)","v":200},{"$f":"VLOOKUP($D91,'C.1 - Rate Sheets'!B:F,4,FALSE)","v":0},{"$f":"VLOOKUP($D91,'C.1 - Rate Sheets'!B:F,5,FALSE)","v":0},null,null,null,null,null,null,null,16,16,16,16,16,16,16,null,null,null,null,null,null,null,null,null,null,null,null,null,null,null,null,null,null,null,null,null,null,null,null,null,null,null,null,null,null,null,null,null,null,null,null,null,null,null,null,null,null,null,null,null,null,null,null,null,null,null,null,null,null,null,null,null,null,null,null,null,null,null,null,null,null,null,null,null,null,null,null,null,null,null,null,null,null,null,null,null,null,null,null,null,null,null,null,null,null,null,null,null,null,null,null,null,null,null,null,null,null,null,null,null,null,null,null,null,null,null,null,null,null,null,null,null,null,null,null,null,null,null,null,null,null,null,null,null,null,null,null,null,null,null,null,null,null,null,null,null,null,null,null,null,null,null,null,null,null,null,null,null,null,null,112,null,null,112,0,22400,0,0,22400,22400,"Yes",0,0,0]
[null,74,null,"CLEAR CREW","Vendor No.04","Clear 12",1248,"2018-10-14","2018-10-20",{"$f":"IF(AND(H92>='A - Contractor Summary'!$C$36,I92<='A - Contractor Summary'!$C$42),\"Yes\",\"No\")","v":"Yes"},{"$f":"VLOOKUP($D92,'C.1 - Rate Sheets'!B:F,2,FALSE)","v":0},{"$f":"VLOOKUP($D92,'C.1 - Rate Sheets'!B:F,3,FALSE)","v":200},{"$f":"VLOOKUP($D92,'C.1 - Rate Sheets'!B:F,4,FALSE)","v":0},{"$f":"VLOOKUP($D92,'C.1 - Rate Sheets'!B:F,5,FALSE)","v":0},null,null,null,null,null,null,null,16,16,16,16,16,16,16,null,null,null,null,null,null,null,null,null,null,null,null,null,null,null,null,null,null,null,null,null,null,null,null,null,null,null,null,null,null,null,null,null,null,null,null,null,null,null,null,null,null,null,null,null,null,null,null,null,null,null,null,null,null,null,null,null,null,null,null,null,null,null,null,null,null,null,null,null,null,null,null,null,null,null,null,null,null,null,null,null,null,null,null,null,null,null,null,null,null,null,null,null,null,null,null,null,null,null,null,null,null,null,null,null,null,null,null,null,null,null,null,null,null,null,null,null,null,null,null,null,null,null,null,null,null,null,null,null,null,null,null,null,null,null,null,null,null,null,null,null,null,null,null,null,null,null,null,null,null,null,null,null,null,null,112,null,null,112,0,22400,0,0,22400,22400,"Yes"]
[null,75,null,"CLEAR CREW","Vendor No.04","Clear 13",1248,"2018-10-14","2018-10-20",{"$f":"IF(AND(H93>='A - Contractor Summary'!$C$36,I93<='A - Contractor Summary'!$C$42),\"Yes\",\"No\")","v":"Yes"},{"$f":"VLOOKUP($D93,'C.1 - Rate Sheets'!B:F,2,FALSE)","v":0},{"$f":"VLOOKUP($D93,'C.1 - Rate Sheets'!B:F,3,FALSE)","v":200},{"$f":"VLOOKUP($D93,'C.1 - Rate Sheets'!B:F,4,FALSE)","v":0},{"$f":"VLOOKUP($D93,'C.1 - Rate Sheets'!B:F,5,FALSE)","v":0},null,null,null,null,null,null,null,16,16,16,16,16,16,16,null,null,null,null,null,null,null,null,null,null,null,null,null,null,null,null,null,null,null,null,null,null,null,null,null,null,null,null,null,null,null,null,null,null,null,null,null,null,null,null,null,null,null,null,null,null,null,null,null,null,null,null,null,null,null,null,null,null,null,null,null,null,null,null,null,null,null,null,null,null,null,null,null,null,null,null,null,null,null,null,null,null,null,null,null,null,null,null,null,null,null,null,null,null,null,null,null,null,null,null,null,null,null,null,null,null,null,null,null,null,null,null,null,null,null,null,null,null,null,null,null,null,null,null,null,null,null,null,null,null,null,null,null,null,null,null,null,null,null,null,null,null,null,null,null,null,null,null,null,null,null,null,null,null,null,112,null,null,112,0,22400,0,0,22400,22400,"Yes",0,0,0]
[null,76,null,"CLEAR CREW","Vendor No.04","Clear 14",1248,"2018-10-14","2018-10-20",{"$f":"IF(AND(H94>='A - Contractor Summary'!$C$36,I94<='A - Contractor Summary'!$C$42),\"Yes\",\"No\")","v":"Yes"},{"$f":"VLOOKUP($D94,'C.1 - Rate Sheets'!B:F,2,FALSE)","v":0},{"$f":"VLOOKUP($D94,'C.1 - Rate Sheets'!B:F,3,FALSE)","v":200},{"$f":"VLOOKUP($D94,'C.1 - Rate Sheets'!B:F,4,FALSE)","v":0},{"$f":"VLOOKUP($D94,'C.1 - Rate Sheets'!B:F,5,FALSE)","v":0},null,null,null,null,null,null,null,16,16,16,16,16,16,16,null,null,null,null,null,null,null,null,null,null,null,null,null,null,null,null,null,null,null,null,null,null,null,null,null,null,null,null,null,null,null,null,null,null,null,null,null,null,null,null,null,null,null,null,null,null,null,null,null,null,null,null,null,null,null,null,null,null,null,null,null,null,null,null,null,null,null,null,null,null,null,null,null,null,null,null,null,null,null,null,null,null,null,null,null,null,null,null,null,null,null,null,null,null,null,null,null,null,null,null,null,null,null,null,null,null,null,null,null,null,null,null,null,null,null,null,null,null,null,null,null,null,null,null,null,null,null,null,null,null,null,null,null,null,null,null,null,null,null,null,null,null,null,null,null,null,null,null,null,null,null,null,null,null,null,112,null,null,{"$f":"SUM(GA94:GD94)","v":112},0,22400,0,0,22400,22400,"Yes",0,0,0]
[null,77,null,"CLEAR CREW","Vendor No.04","Clear 15",1248,"2018-10-14","2018-10-20",{"$f":"IF(AND(H95>='A - Contractor Summary'!$C$36,I95<='A - Contractor Summary'!$C$42),\"Yes\",\"No\")","v":"Yes"},{"$f":"VLOOKUP($D95,'C.1 - Rate Sheets'!B:F,2,FALSE)","v":0},{"$f":"VLOOKUP($D95,'C.1 - Rate Sheets'!B:F,3,FALSE)","v":200},{"$f":"VLOOKUP($D95,'C.1 - Rate Sheets'!B:F,4,FALSE)","v":0},{"$f":"VLOOKUP($D95,'C.1 - Rate Sheets'!B:F,5,FALSE)","v":0},null,null,null,null,null,null,null,16,16,16,16,16,16,16,null,null,null,null,null,null,null,null,null,null,null,null,null,null,null,null,null,null,null,null,null,null,null,null,null,null,null,null,null,null,null,null,null,null,null,null,null,null,null,null,null,null,null,null,null,null,null,null,null,null,null,null,null,null,null,null,null,null,null,null,null,null,null,null,null,null,null,null,null,null,null,null,null,null,null,null,null,null,null,null,null,null,null,null,null,null,null,null,null,null,null,null,null,null,null,null,null,null,null,null,null,null,null,null,null,null,null,null,null,null,null,null,null,null,null,null,null,null,null,null,null,null,null,null,null,null,null,null,null,null,null,null,null,null,null,null,null,null,null,null,null,null,null,null,null,null,null,null,null,null,null,null,null,null,null,112,null,null,112,0,22400,0,0,22400,22400,"Yes",0,0,0]
[null,78,null,"CLEAR CREW","Vendor No.04","Clear 16",1248,"2018-10-14","2018-10-20",{"$f":"IF(AND(H96>='A - Contractor Summary'!$C$36,I96<='A - Contractor Summary'!$C$42),\"Yes\",\"No\")","v":"Yes"},{"$f":"VLOOKUP($D96,'C.1 - Rate Sheets'!B:F,2,FALSE)","v":0},{"$f":"VLOOKUP($D96,'C.1 - Rate Sheets'!B:F,3,FALSE)","v":200},{"$f":"VLOOKUP($D96,'C.1 - Rate Sheets'!B:F,4,FALSE)","v":0},{"$f":"VLOOKUP($D96,'C.1 - Rate Sheets'!B:F,5,FALSE)","v":0},null,null,null,null,null,null,null,16,16,16,16,16,16,16,null,null,null,null,null,null,null,null,null,null,null,null,null,null,null,null,null,null,null,null,null,null,null,null,null,null,null,null,null,null,null,null,null,null,null,null,null,null,null,null,null,null,null,null,null,null,null,null,null,null,null,null,null,null,null,null,null,null,null,null,null,null,null,null,null,null,null,null,null,null,null,null,null,null,null,null,null,null,null,null,null,null,null,null,null,null,null,null,null,null,null,null,null,null,null,null,null,null,null,null,null,null,null,null,null,null,null,null,null,null,null,null,null,null,null,null,null,null,null,null,null,null,null,null,null,null,null,null,null,null,null,null,null,null,null,null,null,null,null,null,null,null,null,null,null,null,null,null,null,null,null,null,null,null,null,112,null,null,112,0,22400,0,0,22400,22400,"Yes",0,0,0]
[null,79,null,"CLEAR CREW","Vendor No.04","Clear 17",1248,"2018-10-14","2018-10-20",{"$f":"IF(AND(H97>='A - Contractor Summary'!$C$36,I97<='A - Contractor Summary'!$C$42),\"Yes\",\"No\")","v":"Yes"},{"$f":"VLOOKUP($D97,'C.1 - Rate Sheets'!B:F,2,FALSE)","v":0},{"$f":"VLOOKUP($D97,'C.1 - Rate Sheets'!B:F,3,FALSE)","v":200},{"$f":"VLOOKUP($D97,'C.1 - Rate Sheets'!B:F,4,FALSE)","v":0},{"$f":"VLOOKUP($D97,'C.1 - Rate Sheets'!B:F,5,FALSE)","v":0},null,null,null,null,null,null,null,16,16,16,16,16,16,16,null,null,null,null,null,null,null,null,null,null,null,null,null,null,null,null,null,null,null,null,null,null,null,null,null,null,null,null,null,null,null,null,null,null,null,null,null,null,null,null,null,null,null,null,null,null,null,null,null,null,null,null,null,null,null,null,null,null,null,null,null,null,null,null,null,null,null,null,null,null,null,null,null,null,null,null,null,null,null,null,null,null,null,null,null,null,null,null,null,null,null,null,null,null,null,null,null,null,null,null,null,null,null,null,null,null,null,null,null,null,null,null,null,null,null,null,null,null,null,null,null,null,null,null,null,null,null,null,null,null,null,null,null,null,null,null,null,null,null,null,null,null,null,null,null,null,null,null,null,null,null,null,null,null,null,112,null,null,112,0,22400,0,0,22400,22400,"Yes",0,0,0]
[null,80,null,"CLEAR CREW","Vendor No.04","Clear 18",1248,"2018-10-14","2018-10-20",{"$f":"IF(AND(H98>='A - Contractor Summary'!$C$36,I98<='A - Contractor Summary'!$C$42),\"Yes\",\"No\")","v":"Yes"},{"$f":"VLOOKUP($D98,'C.1 - Rate Sheets'!B:F,2,FALSE)","v":0},{"$f":"VLOOKUP($D98,'C.1 - Rate Sheets'!B:F,3,FALSE)","v":200},{"$f":"VLOOKUP($D98,'C.1 - Rate Sheets'!B:F,4,FALSE)","v":0},{"$f":"VLOOKUP($D98,'C.1 - Rate Sheets'!B:F,5,FALSE)","v":0},null,null,null,null,null,null,null,16,16,16,16,16,16,16,null,null,null,null,null,null,null,null,null,null,null,null,null,null,null,null,null,null,null,null,null,null,null,null,null,null,null,null,null,null,null,null,null,null,null,null,null,null,null,null,null,null,null,null,null,null,null,null,null,null,null,null,null,null,null,null,null,null,null,null,null,null,null,null,null,null,null,null,null,null,null,null,null,null,null,null,null,null,null,null,null,null,null,null,null,null,null,null,null,null,null,null,null,null,null,null,null,null,null,null,null,null,null,null,null,null,null,null,null,null,null,null,null,null,null,null,null,null,null,null,null,null,null,null,null,null,null,null,null,null,null,null,null,null,null,null,null,null,null,null,null,null,null,null,null,null,null,null,null,null,null,null,null,null,null,112,null,null,112,0,22400,0,0,22400,22400,"Yes",0,0,0]
[null,81,null,"CLEAR CREW","Vendor No.04","Clear 19",1248,"2018-10-14","2018-10-20",{"$f":"IF(AND(H99>='A - Contractor Summary'!$C$36,I99<='A - Contractor Summary'!$C$42),\"Yes\",\"No\")","v":"Yes"},{"$f":"VLOOKUP($D99,'C.1 - Rate Sheets'!B:F,2,FALSE)","v":0},{"$f":"VLOOKUP($D99,'C.1 - Rate Sheets'!B:F,3,FALSE)","v":200},{"$f":"VLOOKUP($D99,'C.1 - Rate Sheets'!B:F,4,FALSE)","v":0},{"$f":"VLOOKUP($D99,'C.1 - Rate Sheets'!B:F,5,FALSE)","v":0},null,null,null,null,null,null,null,16,16,16,16,16,16,16,null,null,null,null,null,null,null,null,null,null,null,null,null,null,null,null,null,null,null,null,null,null,null,null,null,null,null,null,null,null,null,null,null,null,null,null,null,null,null,null,null,null,null,null,null,null,null,null,null,null,null,null,null,null,null,null,null,null,null,null,null,null,null,null,null,null,null,null,null,null,null,null,null,null,null,null,null,null,null,null,null,null,null,null,null,null,null,null,null,null,null,null,null,null,null,null,null,null,null,null,null,null,null,null,null,null,null,null,null,null,null,null,null,null,null,null,null,null,null,null,null,null,null,null,null,null,null,null,null,null,null,null,null,null,null,null,null,null,null,null,null,null,null,null,null,null,null,null,null,null,null,null,null,null,null,112,null,null,112,0,22400,0,0,22400,22400,"Yes",0,0,0]
[null,82,null,"CLEAR CREW","Vendor No.04","Clear 20",1248,"2018-10-14","2018-10-20",{"$f":"IF(AND(H100>='A - Contractor Summary'!$C$36,I100<='A - Contractor Summary'!$C$42),\"Yes\",\"No\")","v":"Yes"},{"$f":"VLOOKUP($D100,'C.1 - Rate Sheets'!B:F,2,FALSE)","v":0},{"$f":"VLOOKUP($D100,'C.1 - Rate Sheets'!B:F,3,FALSE)","v":200},{"$f":"VLOOKUP($D100,'C.1 - Rate Sheets'!B:F,4,FALSE)","v":0},{"$f":"VLOOKUP($D100,'C.1 - Rate Sheets'!B:F,5,FALSE)","v":0},null,null,null,null,null,null,null,16,16,16,16,16,16,16,null,null,null,null,null,null,null,null,null,null,null,null,null,null,null,null,null,null,null,null,null,null,null,null,null,null,null,null,null,null,null,null,null,null,null,null,null,null,null,null,null,null,null,null,null,null,null,null,null,null,null,null,null,null,null,null,null,null,null,null,null,null,null,null,null,null,null,null,null,null,null,null,null,null,null,null,null,null,null,null,null,null,null,null,null,null,null,null,null,null,null,null,null,null,null,null,null,null,null,null,null,null,null,null,null,null,null,null,null,null,null,null,null,null,null,null,null,null,null,null,null,null,null,null,null,null,null,null,null,null,null,null,null,null,null,null,null,null,null,null,null,null,null,null,null,null,null,null,null,null,null,null,null,null,null,112,null,null,112,0,22400,0,0,22400,22400,"Yes",0,0,0]
[null,83,null,"CLEAR CREW","Vendor No.04","Clear 21",1248,"2018-10-14","2018-10-20",{"$f":"IF(AND(H101>='A - Contractor Summary'!$C$36,I101<='A - Contractor Summary'!$C$42),\"Yes\",\"No\")","v":"Yes"},{"$f":"VLOOKUP($D101,'C.1 - Rate Sheets'!B:F,2,FALSE)","v":0},{"$f":"VLOOKUP($D101,'C.1 - Rate Sheets'!B:F,3,FALSE)","v":200},{"$f":"VLOOKUP($D101,'C.1 - Rate Sheets'!B:F,4,FALSE)","v":0},{"$f":"VLOOKUP($D101,'C.1 - Rate Sheets'!B:F,5,FALSE)","v":0},null,null,null,null,null,null,null,16,16,16,16,null,16,16,null,null,null,null,null,null,null,null,null,null,null,null,null,null,null,null,null,null,null,null,null,null,null,null,null,null,null,null,null,null,null,null,null,null,null,null,null,null,null,null,null,null,null,null,null,null,null,null,null,null,null,null,null,null,null,null,null,null,null,null,null,null,null,null,null,null,null,null,null,null,null,null,null,null,null,null,null,null,null,null,null,null,null,null,null,null,null,null,null,null,null,null,null,null,null,null,null,null,null,null,null,null,null,null,null,null,null,null,null,null,null,null,null,null,null,null,null,null,null,null,null,null,null,null,null,null,null,null,null,null,null,null,null,null,null,null,null,null,null,null,null,null,null,null,null,null,null,null,null,null,null,null,null,null,null,96,null,null,96,0,19200,0,0,19200,19200,"Yes",0,0,0]
[null,84,null,"CLEAR CREW","Vendor No.04","Clear 22",1248,"2018-10-14","2018-10-20",{"$f":"IF(AND(H102>='A - Contractor Summary'!$C$36,I102<='A - Contractor Summary'!$C$42),\"Yes\",\"No\")","v":"Yes"},{"$f":"VLOOKUP($D102,'C.1 - Rate Sheets'!B:F,2,FALSE)","v":0},{"$f":"VLOOKUP($D102,'C.1 - Rate Sheets'!B:F,3,FALSE)","v":200},{"$f":"VLOOKUP($D102,'C.1 - Rate Sheets'!B:F,4,FALSE)","v":0},{"$f":"VLOOKUP($D102,'C.1 - Rate Sheets'!B:F,5,FALSE)","v":0},null,null,null,null,null,null,null,16,16,16,16,16,16,16,null,null,null,null,null,null,null,null,null,null,null,null,null,null,null,null,null,null,null,null,null,null,null,null,null,null,null,null,null,null,null,null,null,null,null,null,null,null,null,null,null,null,null,null,null,null,null,null,null,null,null,null,null,null,null,null,null,null,null,null,null,null,null,null,null,null,null,null,null,null,null,null,null,null,null,null,null,null,null,null,null,null,null,null,null,null,null,null,null,null,null,null,null,null,null,null,null,null,null,null,null,null,null,null,null,null,null,null,null,null,null,null,null,null,null,null,null,null,null,null,null,null,null,null,null,null,null,null,null,null,null,null,null,null,null,null,null,null,null,null,null,null,null,null,null,null,null,null,null,null,null,null,null,null,null,112,null,null,112,0,22400,0,0,22400,22400,"Yes",0,0,0]
[null,85,null,"CLEAR CREW","Vendor No.04","Clear 23",1248,"2018-10-14","2018-10-20",{"$f":"IF(AND(H103>='A - Contractor Summary'!$C$36,I103<='A - Contractor Summary'!$C$42),\"Yes\",\"No\")","v":"Yes"},{"$f":"VLOOKUP($D103,'C.1 - Rate Sheets'!B:F,2,FALSE)","v":0},{"$f":"VLOOKUP($D103,'C.1 - Rate Sheets'!B:F,3,FALSE)","v":200},{"$f":"VLOOKUP($D103,'C.1 - Rate Sheets'!B:F,4,FALSE)","v":0},{"$f":"VLOOKUP($D103,'C.1 - Rate Sheets'!B:F,5,FALSE)","v":0},null,null,null,null,null,null,null,16,16,16,16,16,16,16,null,null,null,null,null,null,null,null,null,null,null,null,null,null,null,null,null,null,null,null,null,null,null,null,null,null,null,null,null,null,null,null,null,null,null,null,null,null,null,null,null,null,null,null,null,null,null,null,null,null,null,null,null,null,null,null,null,null,null,null,null,null,null,null,null,null,null,null,null,null,null,null,null,null,null,null,null,null,null,null,null,null,null,null,null,null,null,null,null,null,null,null,null,null,null,null,null,null,null,null,null,null,null,null,null,null,null,null,null,null,null,null,null,null,null,null,null,null,null,null,null,null,null,null,null,null,null,null,null,null,null,null,null,null,null,null,null,null,null,null,null,null,null,null,null,null,null,null,null,null,null,null,null,null,null,112,null,null,112,0,22400,0,0,22400,22400,"Yes",0,0,0]
[null,86,null,"CLEAR CREW","Vendor No.04","Clear 24",1248,"2018-10-14","2018-10-20",{"$f":"IF(AND(H104>='A - Contractor Summary'!$C$36,I104<='A - Contractor Summary'!$C$42),\"Yes\",\"No\")","v":"Yes"},{"$f":"VLOOKUP($D104,'C.1 - Rate Sheets'!B:F,2,FALSE)","v":0},{"$f":"VLOOKUP($D104,'C.1 - Rate Sheets'!B:F,3,FALSE)","v":200},{"$f":"VLOOKUP($D104,'C.1 - Rate Sheets'!B:F,4,FALSE)","v":0},{"$f":"VLOOKUP($D104,'C.1 - Rate Sheets'!B:F,5,FALSE)","v":0},null,null,null,null,null,null,null,16,16,16,16,16,16,16,null,null,null,null,null,null,null,null,null,null,null,null,null,null,null,null,null,null,null,null,null,null,null,null,null,null,null,null,null,null,null,null,null,null,null,null,null,null,null,null,null,null,null,null,null,null,null,null,null,null,null,null,null,null,null,null,null,null,null,null,null,null,null,null,null,null,null,null,null,null,null,null,null,null,null,null,null,null,null,null,null,null,null,null,null,null,null,null,null,null,null,null,null,null,null,null,null,null,null,null,null,null,null,null,null,null,null,null,null,null,null,null,null,null,null,null,null,null,null,null,null,null,null,null,null,null,null,null,null,null,null,null,null,null,null,null,null,null,null,null,null,null,null,null,null,null,null,null,null,null,null,null,null,null,null,112,null,null,112,0,22400,0,0,22400,22400,"Yes",0,0,0]
[null,87,null,"CLEAR CREW","Vendor No.04","Clear 25",1248,"2018-10-19","2018-10-20",{"$f":"IF(AND(H105>='A - Contractor Summary'!$C$36,I105<='A - Contractor Summary'!$C$42),\"Yes\",\"No\")","v":"Yes"},{"$f":"VLOOKUP($D105,'C.1 - Rate Sheets'!B:F,2,FALSE)","v":0},{"$f":"VLOOKUP($D105,'C.1 - Rate Sheets'!B:F,3,FALSE)","v":200},{"$f":"VLOOKUP($D105,'C.1 - Rate Sheets'!B:F,4,FALSE)","v":0},{"$f":"VLOOKUP($D105,'C.1 - Rate Sheets'!B:F,5,FALSE)","v":0},null,null,null,null,null,null,null,null,null,null,null,null,16,16,null,null,null,null,null,null,null,null,null,null,null,null,null,null,null,null,null,null,null,null,null,null,null,null,null,null,null,null,null,null,null,null,null,null,null,null,null,null,null,null,null,null,null,null,null,null,null,null,null,null,null,null,null,null,null,null,null,null,null,null,null,null,null,null,null,null,null,null,null,null,null,null,null,null,null,null,null,null,null,null,null,null,null,null,null,null,null,null,null,null,null,null,null,null,null,null,null,null,null,null,null,null,null,null,null,null,null,null,null,null,null,null,null,null,null,null,null,null,null,null,null,null,null,null,null,null,null,null,null,null,null,null,null,null,null,null,null,null,null,null,null,null,null,null,null,null,null,null,null,null,null,null,null,null,null,32,null,null,32,0,6400,0,0,6400,6400,"Yes",0,0,0]
[null,88,null,"CLEAR CREW","Vendor No.04","Clear 26",1248,"2018-10-19","2018-10-20",{"$f":"IF(AND(H106>='A - Contractor Summary'!$C$36,I106<='A - Contractor Summary'!$C$42),\"Yes\",\"No\")","v":"Yes"},{"$f":"VLOOKUP($D106,'C.1 - Rate Sheets'!B:F,2,FALSE)","v":0},{"$f":"VLOOKUP($D106,'C.1 - Rate Sheets'!B:F,3,FALSE)","v":200},{"$f":"VLOOKUP($D106,'C.1 - Rate Sheets'!B:F,4,FALSE)","v":0},{"$f":"VLOOKUP($D106,'C.1 - Rate Sheets'!B:F,5,FALSE)","v":0},null,null,null,null,null,null,null,null,null,null,null,null,16,16,null,null,null,null,null,null,null,null,null,null,null,null,null,null,null,null,null,null,null,null,null,null,null,null,null,null,null,null,null,null,null,null,null,null,null,null,null,null,null,null,null,null,null,null,null,null,null,null,null,null,null,null,null,null,null,null,null,null,null,null,null,null,null,null,null,null,null,null,null,null,null,null,null,null,null,null,null,null,null,null,null,null,null,null,null,null,null,null,null,null,null,null,null,null,null,null,null,null,null,null,null,null,null,null,null,null,null,null,null,null,null,null,null,null,null,null,null,null,null,null,null,null,null,null,null,null,null,null,null,null,null,null,null,null,null,null,null,null,null,null,null,null,null,null,null,null,null,null,null,null,null,null,null,null,null,32,null,null,32,0,6400,0,0,6400,6400,"Yes",0,0,0]
[null,89,null,"MOT CREW","Vendor No.04","Mot 1",1249,{"$f":"INDEX($O$16:$BK$16,MATCH(TRUE,INDEX((O107:BK107>0),0),0))","v":"2018-10-21"},{"$f":"LOOKUP(2,1/(1-(O107:BK107<=0)),$O$16:$BK$16)","v":"2018-10-27"},{"$f":"IF(AND(H107>='A - Contractor Summary'!$C$36,I107<='A - Contractor Summary'!$C$42),\"Yes\",\"No\")","v":"Yes"},{"$f":"VLOOKUP($D107,'C.1 - Rate Sheets'!B:F,2,FALSE)","v":0},{"$f":"VLOOKUP($D107,'C.1 - Rate Sheets'!B:F,3,FALSE)","v":150},{"$f":"VLOOKUP($D107,'C.1 - Rate Sheets'!B:F,4,FALSE)","v":0},{"$f":"VLOOKUP($D107,'C.1 - Rate Sheets'!B:F,5,FALSE)","v":0},null,null,null,null,null,null,null,null,null,null,null,null,null,null,16,16,16,16,16,16,16,null,null,null,null,null,null,null,null,null,null,null,null,null,null,null,null,null,null,null,null,null,null,null,null,null,null,null,null,null,null,null,null,null,null,null,null,null,null,null,null,null,null,null,null,null,null,null,null,null,null,null,null,null,null,null,null,null,null,null,null,null,null,null,null,null,null,null,null,null,null,null,null,null,null,null,null,null,null,null,null,null,null,null,null,null,null,null,null,null,null,null,null,null,null,null,null,null,null,null,null,null,null,null,null,null,null,null,null,null,null,null,null,null,null,null,null,null,null,null,null,null,null,null,null,null,null,null,null,null,null,null,null,null,null,null,null,null,null,null,null,null,null,null,null,null,null,null,null,112,null,null,112,0,16800,0,0,16800,16800,"Yes",0,0,0]
[null,90,null,"MOT CREW","Vendor No.04","Mot 2",1249,"2018-10-21","2018-10-27",{"$f":"IF(AND(H108>='A - Contractor Summary'!$C$36,I108<='A - Contractor Summary'!$C$42),\"Yes\",\"No\")","v":"Yes"},{"$f":"VLOOKUP($D108,'C.1 - Rate Sheets'!B:F,2,FALSE)","v":0},{"$f":"VLOOKUP($D108,'C.1 - Rate Sheets'!B:F,3,FALSE)","v":150},{"$f":"VLOOKUP($D108,'C.1 - Rate Sheets'!B:F,4,FALSE)","v":0},{"$f":"VLOOKUP($D108,'C.1 - Rate Sheets'!B:F,5,FALSE)","v":0},null,null,null,null,null,null,null,null,null,null,null,null,null,null,16,16,16,16,16,16,16,null,null,null,null,null,null,null,null,null,null,null,null,null,null,null,null,null,null,null,null,null,null,null,null,null,null,null,null,null,null,null,null,null,null,null,null,null,null,null,null,null,null,null,null,null,null,null,null,null,null,null,null,null,null,null,null,null,null,null,null,null,null,null,null,null,null,null,null,null,null,null,null,null,null,null,null,null,null,null,null,null,null,null,null,null,null,null,null,null,null,null,null,null,null,null,null,null,null,null,null,null,null,null,null,null,null,null,null,null,null,null,null,null,null,null,null,null,null,null,null,null,null,null,null,null,null,null,null,null,null,null,null,null,null,null,null,null,null,null,null,null,null,null,null,null,null,null,null,112,null,null,112,0,16800,0,0,16800,16800,"Yes",0,0,0]
[null,91,null,"MOT CREW","Vendor No.04","Mot 3",1249,"2018-10-21","2018-10-27",{"$f":"IF(AND(H109>='A - Contractor Summary'!$C$36,I109<='A - Contractor Summary'!$C$42),\"Yes\",\"No\")","v":"Yes"},{"$f":"VLOOKUP($D109,'C.1 - Rate Sheets'!B:F,2,FALSE)","v":0},{"$f":"VLOOKUP($D109,'C.1 - Rate Sheets'!B:F,3,FALSE)","v":150},{"$f":"VLOOKUP($D109,'C.1 - Rate Sheets'!B:F,4,FALSE)","v":0},{"$f":"VLOOKUP($D109,'C.1 - Rate Sheets'!B:F,5,FALSE)","v":0},null,null,null,null,null,null,null,null,null,null,null,null,null,null,16,16,16,16,16,16,16,null,null,null,null,null,null,null,null,null,null,null,null,null,null,null,null,null,null,null,null,null,null,null,null,null,null,null,null,null,null,null,null,null,null,null,null,null,null,null,null,null,null,null,null,null,null,null,null,null,null,null,null,null,null,null,null,null,null,null,null,null,null,null,null,null,null,null,null,null,null,null,null,null,null,null,null,null,null,null,null,null,null,null,null,null,null,null,null,null,null,null,null,null,null,null,null,null,null,null,null,null,null,null,null,null,null,null,null,null,null,null,null,null,null,null,null,null,null,null,null,null,null,null,null,null,null,null,null,null,null,null,null,null,null,null,null,null,null,null,null,null,null,null,null,null,null,null,null,112,null,null,112,0,16800,0,0,16800,{"$f":"GJ109-GM109","v":16800},"Yes",0,0,0]
[null,92,null,"MOT CREW","Vendor No.04","Mot 4",1249,"2018-10-21","2018-10-27",{"$f":"IF(AND(H110>='A - Contractor Summary'!$C$36,I110<='A - Contractor Summary'!$C$42),\"Yes\",\"No\")","v":"Yes"},{"$f":"VLOOKUP($D110,'C.1 - Rate Sheets'!B:F,2,FALSE)","v":0},{"$f":"VLOOKUP($D110,'C.1 - Rate Sheets'!B:F,3,FALSE)","v":150},{"$f":"VLOOKUP($D110,'C.1 - Rate Sheets'!B:F,4,FALSE)","v":0},{"$f":"VLOOKUP($D110,'C.1 - Rate Sheets'!B:F,5,FALSE)","v":0},null,null,null,null,null,null,null,null,null,null,null,null,null,null,16,16,16,16,16,16,16,null,null,null,null,null,null,null,null,null,null,null,null,null,null,null,null,null,null,null,null,null,null,null,null,null,null,null,null,null,null,null,null,null,null,null,null,null,null,null,null,null,null,null,null,null,null,null,null,null,null,null,null,null,null,null,null,null,null,null,null,null,null,null,null,null,null,null,null,null,null,null,null,null,null,null,null,null,null,null,null,null,null,null,null,null,null,null,null,null,null,null,null,null,null,null,null,null,null,null,null,null,null,null,null,null,null,null,null,null,null,null,null,null,null,null,null,null,null,null,null,null,null,null,null,null,null,null,null,null,null,null,null,null,null,null,null,null,null,null,null,null,null,null,null,null,null,null,null,112,null,null,112,0,16800,0,0,16800,16800,"Yes",0,0,0]
[null,93,null,"MOT CREW","Vendor No.04","Mot 5",1249,"2018-10-21","2018-10-27",{"$f":"IF(AND(H111>='A - Contractor Summary'!$C$36,I111<='A - Contractor Summary'!$C$42),\"Yes\",\"No\")","v":"Yes"},{"$f":"VLOOKUP($D111,'C.1 - Rate Sheets'!B:F,2,FALSE)","v":0},{"$f":"VLOOKUP($D111,'C.1 - Rate Sheets'!B:F,3,FALSE)","v":150},{"$f":"VLOOKUP($D111,'C.1 - Rate Sheets'!B:F,4,FALSE)","v":0},{"$f":"VLOOKUP($D111,'C.1 - Rate Sheets'!B:F,5,FALSE)","v":0},null,null,null,null,null,null,null,null,null,null,null,null,null,null,16,16,16,16,16,16,16,null,null,null,null,null,null,null,null,null,null,null,null,null,null,null,null,null,null,null,null,null,null,null,null,null,null,null,null,null,null,null,null,null,null,null,null,null,null,null,null,null,null,null,null,null,null,null,null,null,null,null,null,null,null,null,null,null,null,null,null,null,null,null,null,null,null,null,null,null,null,null,null,null,null,null,null,null,null,null,null,null,null,null,null,null,null,null,null,null,null,null,null,null,null,null,null,null,null,null,null,null,null,null,null,null,null,null,null,null,null,null,null,null,null,null,null,null,null,null,null,null,null,null,null,null,null,null,null,null,null,null,null,null,null,null,null,null,null,null,null,null,null,null,null,null,null,null,null,112,null,null,112,0,16800,0,0,16800,16800,"Yes",0,0,0]
[null,94,null,"MOT CREW","Vendor No.04","Mot 6",1249,"2018-10-21","2018-10-27",{"$f":"IF(AND(H112>='A - Contractor Summary'!$C$36,I112<='A - Contractor Summary'!$C$42),\"Yes\",\"No\")","v":"Yes"},{"$f":"VLOOKUP($D112,'C.1 - Rate Sheets'!B:F,2,FALSE)","v":0},{"$f":"VLOOKUP($D112,'C.1 - Rate Sheets'!B:F,3,FALSE)","v":150},{"$f":"VLOOKUP($D112,'C.1 - Rate Sheets'!B:F,4,FALSE)","v":0},{"$f":"VLOOKUP($D112,'C.1 - Rate Sheets'!B:F,5,FALSE)","v":0},null,null,null,null,null,null,null,null,null,null,null,null,null,null,16,16,16,16,16,16,16,null,null,null,null,null,null,null,null,null,null,null,null,null,null,null,null,null,null,null,null,null,null,null,null,null,null,null,null,null,null,null,null,null,null,null,null,null,null,null,null,null,null,null,null,null,null,null,null,null,null,null,null,null,null,null,null,null,null,null,null,null,null,null,null,null,null,null,null,null,null,null,null,null,null,null,null,null,null,null,null,null,null,null,null,null,null,null,null,null,null,null,null,null,null,null,null,null,null,null,null,null,null,null,null,null,null,null,null,null,null,null,null,null,null,null,null,null,null,null,null,null,null,null,null,null,null,null,null,null,null,null,null,null,null,null,null,null,null,null,null,null,null,null,null,null,null,null,null,112,null,null,112,0,16800,0,0,16800,16800,"Yes",0,0,0]
[null,95,null,"MOT CREW","Vendor No.04","Mot 7",1249,"2018-10-21","2018-10-27",{"$f":"IF(AND(H113>='A - Contractor Summary'!$C$36,I113<='A - Contractor Summary'!$C$42),\"Yes\",\"No\")","v":"Yes"},{"$f":"VLOOKUP($D113,'C.1 - Rate Sheets'!B:F,2,FALSE)","v":0},{"$f":"VLOOKUP($D113,'C.1 - Rate Sheets'!B:F,3,FALSE)","v":150},{"$f":"VLOOKUP($D113,'C.1 - Rate Sheets'!B:F,4,FALSE)","v":0},{"$f":"VLOOKUP($D113,'C.1 - Rate Sheets'!B:F,5,FALSE)","v":0},null,null,null,null,null,null,null,null,null,null,null,null,null,null,16,16,16,16,16,16,16,null,null,null,null,null,null,null,null,null,null,null,null,null,null,null,null,null,null,null,null,null,null,null,null,null,null,null,null,null,null,null,null,null,null,null,null,null,null,null,null,null,null,null,null,null,null,null,null,null,null,null,null,null,null,null,null,null,null,null,null,null,null,null,null,null,null,null,null,null,null,null,null,null,null,null,null,null,null,null,null,null,null,null,null,null,null,null,null,null,null,null,null,null,null,null,null,null,null,null,null,null,null,null,null,null,null,null,null,null,null,null,null,null,null,null,null,null,null,null,null,null,null,null,null,null,null,null,null,null,null,null,null,null,null,null,null,null,null,null,null,null,null,null,null,null,null,null,null,112,null,null,112,0,16800,0,0,16800,16800,"Yes",0,0,0]
[null,96,null,"MOT CREW","Vendor No.04","Mot 8",1249,"2018-10-21","2018-10-27",{"$f":"IF(AND(H114>='A - Contractor Summary'!$C$36,I114<='A - Contractor Summary'!$C$42),\"Yes\",\"No\")","v":"Yes"},{"$f":"VLOOKUP($D114,'C.1 - Rate Sheets'!B:F,2,FALSE)","v":0},{"$f":"VLOOKUP($D114,'C.1 - Rate Sheets'!B:F,3,FALSE)","v":150},{"$f":"VLOOKUP($D114,'C.1 - Rate Sheets'!B:F,4,FALSE)","v":0},{"$f":"VLOOKUP($D114,'C.1 - Rate Sheets'!B:F,5,FALSE)","v":0},null,null,null,null,null,null,null,null,null,null,null,null,null,null,16,16,16,16,16,16,16,null,null,null,null,null,null,null,null,null,null,null,null,null,null,null,null,null,null,null,null,null,null,null,null,null,null,null,null,null,null,null,null,null,null,null,null,null,null,null,null,null,null,null,null,null,null,null,null,null,null,null,null,null,null,null,null,null,null,null,null,null,null,null,null,null,null,null,null,null,null,null,null,null,null,null,null,null,null,null,null,null,null,null,null,null,null,null,null,null,null,null,null,null,null,null,null,null,null,null,null,null,null,null,null,null,null,null,null,null,null,null,null,null,null,null,null,null,null,null,null,null,null,null,null,null,null,null,null,null,null,null,null,null,null,null,null,null,null,null,null,null,null,null,null,null,null,null,null,112,null,null,112,0,16800,0,0,16800,16800,"Yes",0,0,0]
[null,97,null,"MOT CREW","Vendor No.04","Mot 9",1249,"2018-10-21","2018-10-27",{"$f":"IF(AND(H115>='A - Contractor Summary'!$C$36,I115<='A - Contractor Summary'!$C$42),\"Yes\",\"No\")","v":"Yes"},{"$f":"VLOOKUP($D115,'C.1 - Rate Sheets'!B:F,2,FALSE)","v":0},{"$f":"VLOOKUP($D115,'C.1 - Rate Sheets'!B:F,3,FALSE)","v":150},{"$f":"VLOOKUP($D115,'C.1 - Rate Sheets'!B:F,4,FALSE)","v":0},{"$f":"VLOOKUP($D115,'C.1 - Rate Sheets'!B:F,5,FALSE)","v":0},null,null,null,null,null,null,null,null,null,null,null,null,null,null,16,16,16,16,16,16,16,null,null,null,null,null,null,null,null,null,null,null,null,null,null,null,null,null,null,null,null,null,null,null,null,null,null,null,null,null,null,null,null,null,null,null,null,null,null,null,null,null,null,null,null,null,null,null,null,null,null,null,null,null,null,null,null,null,null,null,null,null,null,null,null,null,null,null,null,null,null,null,null,null,null,null,null,null,null,null,null,null,null,null,null,null,null,null,null,null,null,null,null,null,null,null,null,null,null,null,null,null,null,null,null,null,null,null,null,null,null,null,null,null,null,null,null,null,null,null,null,null,null,null,null,null,null,null,null,null,null,null,null,null,null,null,null,null,null,null,null,null,null,null,null,null,null,null,null,112,null,null,112,0,16800,0,0,16800,16800,"Yes",0,0,0]
[null,98,null,"MOT CREW","Vendor No.04","Mot 10",1249,"2018-10-21","2018-10-27",{"$f":"IF(AND(H116>='A - Contractor Summary'!$C$36,I116<='A - Contractor Summary'!$C$42),\"Yes\",\"No\")","v":"Yes"},{"$f":"VLOOKUP($D116,'C.1 - Rate Sheets'!B:F,2,FALSE)","v":0},{"$f":"VLOOKUP($D116,'C.1 - Rate Sheets'!B:F,3,FALSE)","v":150},{"$f":"VLOOKUP($D116,'C.1 - Rate Sheets'!B:F,4,FALSE)","v":0},{"$f":"VLOOKUP($D116,'C.1 - Rate Sheets'!B:F,5,FALSE)","v":0},null,null,null,null,null,null,null,null,null,null,null,null,null,null,16,16,16,16,16,16,16,null,null,null,null,null,null,null,null,null,null,null,null,null,null,null,null,null,null,null,null,null,null,null,null,null,null,null,null,null,null,null,null,null,null,null,null,null,null,null,null,null,null,null,null,null,null,null,null,null,null,null,null,null,null,null,null,null,null,null,null,null,null,null,null,null,null,null,null,null,null,null,null,null,null,null,null,null,null,null,null,null,null,null,null,null,null,null,null,null,null,null,null,null,null,null,null,null,null,null,null,null,null,null,null,null,null,null,null,null,null,null,null,null,null,null,null,null,null,null,null,null,null,null,null,null,null,null,null,null,null,null,null,null,null,null,null,null,null,null,null,null,null,null,null,null,null,null,null,112,null,null,112,0,16800,0,0,16800,16800,"Yes",0,0,0]
[null,99,null,"MOT CREW","Vendor No.04","Mot 11",1249,"2018-10-21","2018-10-27",{"$f":"IF(AND(H117>='A - Contractor Summary'!$C$36,I117<='A - Contractor Summary'!$C$42),\"Yes\",\"No\")","v":"Yes"},{"$f":"VLOOKUP($D117,'C.1 - Rate Sheets'!B:F,2,FALSE)","v":0},{"$f":"VLOOKUP($D117,'C.1 - Rate Sheets'!B:F,3,FALSE)","v":150},{"$f":"VLOOKUP($D117,'C.1 - Rate Sheets'!B:F,4,FALSE)","v":0},{"$f":"VLOOKUP($D117,'C.1 - Rate Sheets'!B:F,5,FALSE)","v":0},null,null,null,null,null,null,null,null,null,null,null,null,null,null,16,16,16,16,16,16,16,null,null,null,null,null,null,null,null,null,null,null,null,null,null,null,null,null,null,null,null,null,null,null,null,null,null,null,null,null,null,null,null,null,null,null,null,null,null,null,null,null,null,null,null,null,null,null,null,null,null,null,null,null,null,null,null,null,null,null,null,null,null,null,null,null,null,null,null,null,null,null,null,null,null,null,null,null,null,null,null,null,null,null,null,null,null,null,null,null,null,null,null,null,null,null,null,null,null,null,null,null,null,null,null,null,null,null,null,null,null,null,null,null,null,null,null,null,null,null,null,null,null,null,null,null,null,null,null,null,null,null,null,null,null,null,null,null,null,null,null,null,null,null,null,null,null,null,null,112,null,null,112,0,16800,0,0,16800,16800,"Yes",0,0,0]
[null,100,null,"MOT CREW","Vendor No.04","Mot 12",1249,"2018-10-21","2018-10-27",{"$f":"IF(AND(H118>='A - Contractor Summary'!$C$36,I118<='A - Contractor Summary'!$C$42),\"Yes\",\"No\")","v":"Yes"},{"$f":"VLOOKUP($D118,'C.1 - Rate Sheets'!B:F,2,FALSE)","v":0},{"$f":"VLOOKUP($D118,'C.1 - Rate Sheets'!B:F,3,FALSE)","v":150},{"$f":"VLOOKUP($D118,'C.1 - Rate Sheets'!B:F,4,FALSE)","v":0},{"$f":"VLOOKUP($D118,'C.1 - Rate Sheets'!B:F,5,FALSE)","v":0},null,null,null,null,null,null,null,null,null,null,null,null,null,null,16,16,16,16,16,16,16,null,null,null,null,null,null,null,null,null,null,null,null,null,null,null,null,null,null,null,null,null,null,null,null,null,null,null,null,null,null,null,null,null,null,null,null,null,null,null,null,null,null,null,null,null,null,null,null,null,null,null,null,null,null,null,null,null,null,null,null,null,null,null,null,null,null,null,null,null,null,null,null,null,null,null,null,null,null,null,null,null,null,null,null,null,null,null,null,null,null,null,null,null,null,null,null,null,null,null,null,null,null,null,null,null,null,null,null,null,null,null,null,null,null,null,null,null,null,null,null,null,null,null,null,null,null,null,null,null,null,null,null,null,null,null,null,null,null,null,null,null,null,null,null,null,null,null,null,112,null,null,112,0,16800,0,0,16800,16800,"Yes",0,0,0]
[null,101,null,"MOT CREW","Vendor No.04","Mot 13",1249,"2018-10-21","2018-10-27",{"$f":"IF(AND(H119>='A - Contractor Summary'!$C$36,I119<='A - Contractor Summary'!$C$42),\"Yes\",\"No\")","v":"Yes"},{"$f":"VLOOKUP($D119,'C.1 - Rate Sheets'!B:F,2,FALSE)","v":0},{"$f":"VLOOKUP($D119,'C.1 - Rate Sheets'!B:F,3,FALSE)","v":150},{"$f":"VLOOKUP($D119,'C.1 - Rate Sheets'!B:F,4,FALSE)","v":0},{"$f":"VLOOKUP($D119,'C.1 - Rate Sheets'!B:F,5,FALSE)","v":0},null,null,null,null,null,null,null,null,null,null,null,null,null,null,16,16,16,16,16,16,16,null,null,null,null,null,null,null,null,null,null,null,null,null,null,null,null,null,null,null,null,null,null,null,null,null,null,null,null,null,null,null,null,null,null,null,null,null,null,null,null,null,null,null,null,null,null,null,null,null,null,null,null,null,null,null,null,null,null,null,null,null,null,null,null,null,null,null,null,null,null,null,null,null,null,null,null,null,null,null,null,null,null,null,null,null,null,null,null,null,null,null,null,null,null,null,null,null,null,null,null,null,null,null,null,null,null,null,null,null,null,null,null,null,null,null,null,null,null,null,null,null,null,null,null,null,null,null,null,null,null,null,null,null,null,null,null,null,null,null,null,null,null,null,null,null,null,null,null,112,null,null,112,0,16800,0,0,16800,16800,"Yes",0,0,0]
[null,102,null,"MOT CREW","Vendor No.04","Mot 14",1249,"2018-10-21","2018-10-27",{"$f":"IF(AND(H120>='A - Contractor Summary'!$C$36,I120<='A - Contractor Summary'!$C$42),\"Yes\",\"No\")","v":"Yes"},{"$f":"VLOOKUP($D120,'C.1 - Rate Sheets'!B:F,2,FALSE)","v":0},{"$f":"VLOOKUP($D120,'C.1 - Rate Sheets'!B:F,3,FALSE)","v":150},{"$f":"VLOOKUP($D120,'C.1 - Rate Sheets'!B:F,4,FALSE)","v":0},{"$f":"VLOOKUP($D120,'C.1 - Rate Sheets'!B:F,5,FALSE)","v":0},null,null,null,null,null,null,null,null,null,null,null,null,null,null,16,16,16,16,16,16,16,null,null,null,null,null,null,null,null,null,null,null,null,null,null,null,null,null,null,null,null,null,null,null,null,null,null,null,null,null,null,null,null,null,null,null,null,null,null,null,null,null,null,null,null,null,null,null,null,null,null,null,null,null,null,null,null,null,null,null,null,null,null,null,null,null,null,null,null,null,null,null,null,null,null,null,null,null,null,null,null,null,null,null,null,null,null,null,null,null,null,null,null,null,null,null,null,null,null,null,null,null,null,null,null,null,null,null,null,null,null,null,null,null,null,null,null,null,null,null,null,null,null,null,null,null,null,null,null,null,null,null,null,null,null,null,null,null,null,null,null,null,null,null,null,null,null,null,null,112,null,null,112,0,16800,0,0,16800,16800,"Yes",0,0,0]
[null,103,null,"MOT CREW","Vendor No.04","Mot 15",1249,"2018-10-21","2018-10-27",{"$f":"IF(AND(H121>='A - Contractor Summary'!$C$36,I121<='A - Contractor Summary'!$C$42),\"Yes\",\"No\")","v":"Yes"},{"$f":"VLOOKUP($D121,'C.1 - Rate Sheets'!B:F,2,FALSE)","v":0},{"$f":"VLOOKUP($D121,'C.1 - Rate Sheets'!B:F,3,FALSE)","v":150},{"$f":"VLOOKUP($D121,'C.1 - Rate Sheets'!B:F,4,FALSE)","v":0},{"$f":"VLOOKUP($D121,'C.1 - Rate Sheets'!B:F,5,FALSE)","v":0},null,null,null,null,null,null,null,null,null,null,null,null,null,null,16,16,16,16,16,16,16,null,null,null,null,null,null,null,null,null,null,null,null,null,null,null,null,null,null,null,null,null,null,null,null,null,null,null,null,null,null,null,null,null,null,null,null,null,null,null,null,null,null,null,null,null,null,null,null,null,null,null,null,null,null,null,null,null,null,null,null,null,null,null,null,null,null,null,null,null,null,null,null,null,null,null,null,null,null,null,null,null,null,null,null,null,null,null,null,null,null,null,null,null,null,null,null,null,null,null,null,null,null,null,null,null,null,null,null,null,null,null,null,null,null,null,null,null,null,null,null,null,null,null,null,null,null,null,null,null,null,null,null,null,null,null,null,null,null,null,null,null,null,null,null,null,null,null,null,112,null,null,112,0,16800,0,0,16800,16800,"Yes",0,0,0]
[null,104,null,"MOT CREW","Vendor No.04","Mot 16",1249,"2018-10-21","2018-10-27",{"$f":"IF(AND(H122>='A - Contractor Summary'!$C$36,I122<='A - Contractor Summary'!$C$42),\"Yes\",\"No\")","v":"Yes"},{"$f":"VLOOKUP($D122,'C.1 - Rate Sheets'!B:F,2,FALSE)","v":0},{"$f":"VLOOKUP($D122,'C.1 - Rate Sheets'!B:F,3,FALSE)","v":150},{"$f":"VLOOKUP($D122,'C.1 - Rate Sheets'!B:F,4,FALSE)","v":0},{"$f":"VLOOKUP($D122,'C.1 - Rate Sheets'!B:F,5,FALSE)","v":0},null,null,null,null,null,null,null,null,null,null,null,null,null,null,16,16,16,16,16,16,16,null,null,null,null,null,null,null,null,null,null,null,null,null,null,null,null,null,null,null,null,null,null,null,null,null,null,null,null,null,null,null,null,null,null,null,null,null,null,null,null,null,null,null,null,null,null,null,null,null,null,null,null,null,null,null,null,null,null,null,null,null,null,null,null,null,null,null,null,null,null,null,null,null,null,null,null,null,null,null,null,null,null,null,null,null,null,null,null,null,null,null,null,null,null,null,null,null,null,null,null,null,null,null,null,null,null,null,null,null,null,null,null,null,null,null,null,null,null,null,null,null,null,null,null,null,null,null,null,null,null,null,null,null,null,null,null,null,null,null,null,null,null,null,null,null,null,null,null,112,null,null,112,0,16800,0,0,16800,16800,"Yes",0,0,0]
[null,105,null,"MOT CREW","Vendor No.04","Mot 17",1249,"2018-10-21","2018-10-27",{"$f":"IF(AND(H123>='A - Contractor Summary'!$C$36,I123<='A - Contractor Summary'!$C$42),\"Yes\",\"No\")","v":"Yes"},{"$f":"VLOOKUP($D123,'C.1 - Rate Sheets'!B:F,2,FALSE)","v":0},{"$f":"VLOOKUP($D123,'C.1 - Rate Sheets'!B:F,3,FALSE)","v":150},{"$f":"VLOOKUP($D123,'C.1 - Rate Sheets'!B:F,4,FALSE)","v":0},{"$f":"VLOOKUP($D123,'C.1 - Rate Sheets'!B:F,5,FALSE)","v":0},null,null,null,null,null,null,null,null,null,null,null,null,null,null,16,16,16,16,16,16,16,null,null,null,null,null,null,null,null,null,null,null,null,null,null,null,null,null,null,null,null,null,null,null,null,null,null,null,null,null,null,null,null,null,null,null,null,null,null,null,null,null,null,null,null,null,null,null,null,null,null,null,null,null,null,null,null,null,null,null,null,null,null,null,null,null,null,null,null,null,null,null,null,null,null,null,null,null,null,null,null,null,null,null,null,null,null,null,null,null,null,null,null,null,null,null,null,null,null,null,null,null,null,null,null,null,null,null,null,null,null,null,null,null,null,null,null,null,null,null,null,null,null,null,null,null,null,null,null,null,null,null,null,null,null,null,null,null,null,null,null,null,null,null,null,null,null,null,null,112,null,null,112,0,16800,0,0,16800,16800,"Yes",0,0,0]
[null,106,null,"MOT CREW","Vendor No.04","Mot 18",1249,"2018-10-21","2018-10-27",{"$f":"IF(AND(H124>='A - Contractor Summary'!$C$36,I124<='A - Contractor Summary'!$C$42),\"Yes\",\"No\")","v":"Yes"},{"$f":"VLOOKUP($D124,'C.1 - Rate Sheets'!B:F,2,FALSE)","v":0},{"$f":"VLOOKUP($D124,'C.1 - Rate Sheets'!B:F,3,FALSE)","v":150},{"$f":"VLOOKUP($D124,'C.1 - Rate Sheets'!B:F,4,FALSE)","v":0},{"$f":"VLOOKUP($D124,'C.1 - Rate Sheets'!B:F,5,FALSE)","v":0},null,null,null,null,null,null,null,null,null,null,null,null,null,null,16,16,16,16,16,16,16,null,null,null,null,null,null,null,null,null,null,null,null,null,null,null,null,null,null,null,null,null,null,null,null,null,null,null,null,null,null,null,null,null,null,null,null,null,null,null,null,null,null,null,null,null,null,null,null,null,null,null,null,null,null,null,null,null,null,null,null,null,null,null,null,null,null,null,null,null,null,null,null,null,null,null,null,null,null,null,null,null,null,null,null,null,null,null,null,null,null,null,null,null,null,null,null,null,null,null,null,null,null,null,null,null,null,null,null,null,null,null,null,null,null,null,null,null,null,null,null,null,null,null,null,null,null,null,null,null,null,null,null,null,null,null,null,null,null,null,null,null,null,null,null,null,null,null,null,112,null,null,112,0,16800,0,0,16800,16800,"Yes",0,0,0]
[null,107,null,"MOT CREW","Vendor No.04","Mot 19",1249,"2018-10-21","2018-10-27",{"$f":"IF(AND(H125>='A - Contractor Summary'!$C$36,I125<='A - Contractor Summary'!$C$42),\"Yes\",\"No\")","v":"Yes"},{"$f":"VLOOKUP($D125,'C.1 - Rate Sheets'!B:F,2,FALSE)","v":0},{"$f":"VLOOKUP($D125,'C.1 - Rate Sheets'!B:F,3,FALSE)","v":150},{"$f":"VLOOKUP($D125,'C.1 - Rate Sheets'!B:F,4,FALSE)","v":0},{"$f":"VLOOKUP($D125,'C.1 - Rate Sheets'!B:F,5,FALSE)","v":0},null,null,null,null,null,null,null,null,null,null,null,null,null,null,16,16,16,16,16,16,16,null,null,null,null,null,null,null,null,null,null,null,null,null,null,null,null,null,null,null,null,null,null,null,null,null,null,null,null,null,null,null,null,null,null,null,null,null,null,null,null,null,null,null,null,null,null,null,null,null,null,null,null,null,null,null,null,null,null,null,null,null,null,null,null,null,null,null,null,null,null,null,null,null,null,null,null,null,null,null,null,null,null,null,null,null,null,null,null,null,null,null,null,null,null,null,null,null,null,null,null,null,null,null,null,null,null,null,null,null,null,null,null,null,null,null,null,null,null,null,null,null,null,null,null,null,null,null,null,null,null,null,null,null,null,null,null,null,null,null,null,null,null,null,null,null,null,null,null,112,null,null,112,0,16800,0,0,16800,16800,"Yes",0,0,0]
[null,108,null,"MOT CREW","Vendor No.04","Mot 20",1249,"2018-10-21","2018-10-27",{"$f":"IF(AND(H126>='A - Contractor Summary'!$C$36,I126<='A - Contractor Summary'!$C$42),\"Yes\",\"No\")","v":"Yes"},{"$f":"VLOOKUP($D126,'C.1 - Rate Sheets'!B:F,2,FALSE)","v":0},{"$f":"VLOOKUP($D126,'C.1 - Rate Sheets'!B:F,3,FALSE)","v":150},{"$f":"VLOOKUP($D126,'C.1 - Rate Sheets'!B:F,4,FALSE)","v":0},{"$f":"VLOOKUP($D126,'C.1 - Rate Sheets'!B:F,5,FALSE)","v":0},null,null,null,null,null,null,null,null,null,null,null,null,null,null,16,16,16,16,16,16,16,null,null,null,null,null,null,null,null,null,null,null,null,null,null,null,null,null,null,null,null,null,null,null,null,null,null,null,null,null,null,null,null,null,null,null,null,null,null,null,null,null,null,null,null,null,null,null,null,null,null,null,null,null,null,null,null,null,null,null,null,null,null,null,null,null,null,null,null,null,null,null,null,null,null,null,null,null,null,null,null,null,null,null,null,null,null,null,null,null,null,null,null,null,null,null,null,null,null,null,null,null,null,null,null,null,null,null,null,null,null,null,null,null,null,null,null,null,null,null,null,null,null,null,null,null,null,null,null,null,null,null,null,null,null,null,null,null,null,null,null,null,null,null,null,null,null,null,null,112,null,null,112,0,16800,0,0,16800,16800,"Yes",0,0,0]
[null,109,null,"MOT CREW","Vendor No.04","Mot 21",1249,"2018-10-21","2018-10-27",{"$f":"IF(AND(H127>='A - Contractor Summary'!$C$36,I127<='A - Contractor Summary'!$C$42),\"Yes\",\"No\")","v":"Yes"},{"$f":"VLOOKUP($D127,'C.1 - Rate Sheets'!B:F,2,FALSE)","v":0},{"$f":"VLOOKUP($D127,'C.1 - Rate Sheets'!B:F,3,FALSE)","v":150},{"$f":"VLOOKUP($D127,'C.1 - Rate Sheets'!B:F,4,FALSE)","v":0},{"$f":"VLOOKUP($D127,'C.1 - Rate Sheets'!B:F,5,FALSE)","v":0},null,null,null,null,null,null,null,null,null,null,null,null,null,null,16,16,16,16,16,16,16,null,null,null,null,null,null,null,null,null,null,null,null,null,null,null,null,null,null,null,null,null,null,null,null,null,null,null,null,null,null,null,null,null,null,null,null,null,null,null,null,null,null,null,null,null,null,null,null,null,null,null,null,null,null,null,null,null,null,null,null,null,null,null,null,null,null,null,null,null,null,null,null,null,null,null,null,null,null,null,null,null,null,null,null,null,null,null,null,null,null,null,null,null,null,null,null,null,null,null,null,null,null,null,null,null,null,null,null,null,null,null,null,null,null,null,null,null,null,null,null,null,null,null,null,null,null,null,null,null,null,null,null,null,null,null,null,null,null,null,null,null,null,null,null,null,null,null,null,112,null,null,112,0,16800,0,0,16800,16800,"Yes",0,0,0]
[null,110,null,"MOT CREW","Vendor No.04","Mot 22",1249,"2018-10-21","2018-10-27",{"$f":"IF(AND(H128>='A - Contractor Summary'!$C$36,I128<='A - Contractor Summary'!$C$42),\"Yes\",\"No\")","v":"Yes"},{"$f":"VLOOKUP($D128,'C.1 - Rate Sheets'!B:F,2,FALSE)","v":0},{"$f":"VLOOKUP($D128,'C.1 - Rate Sheets'!B:F,3,FALSE)","v":150},{"$f":"VLOOKUP($D128,'C.1 - Rate Sheets'!B:F,4,FALSE)","v":0},{"$f":"VLOOKUP($D128,'C.1 - Rate Sheets'!B:F,5,FALSE)","v":0},null,null,null,null,null,null,null,null,null,null,null,null,null,null,16,16,16,16,16,16,16,null,null,null,null,null,null,null,null,null,null,null,null,null,null,null,null,null,null,null,null,null,null,null,null,null,null,null,null,null,null,null,null,null,null,null,null,null,null,null,null,null,null,null,null,null,null,null,null,null,null,null,null,null,null,null,null,null,null,null,null,null,null,null,null,null,null,null,null,null,null,null,null,null,null,null,null,null,null,null,null,null,null,null,null,null,null,null,null,null,null,null,null,null,null,null,null,null,null,null,null,null,null,null,null,null,null,null,null,null,null,null,null,null,null,null,null,null,null,null,null,null,null,null,null,null,null,null,null,null,null,null,null,null,null,null,null,null,null,null,null,null,null,null,null,null,null,null,null,112,null,null,112,0,16800,0,0,16800,16800,"Yes",0,0,0]
[null,111,null,"MOT CREW","Vendor No.04","Mot 23",1249,"2018-10-21","2018-10-27",{"$f":"IF(AND(H129>='A - Contractor Summary'!$C$36,I129<='A - Contractor Summary'!$C$42),\"Yes\",\"No\")","v":"Yes"},{"$f":"VLOOKUP($D129,'C.1 - Rate Sheets'!B:F,2,FALSE)","v":0},{"$f":"VLOOKUP($D129,'C.1 - Rate Sheets'!B:F,3,FALSE)","v":150},{"$f":"VLOOKUP($D129,'C.1 - Rate Sheets'!B:F,4,FALSE)","v":0},{"$f":"VLOOKUP($D129,'C.1 - Rate Sheets'!B:F,5,FALSE)","v":0},null,null,null,null,null,null,null,null,null,null,null,null,null,null,16,16,16,16,16,16,16,null,null,null,null,null,null,null,null,null,null,null,null,null,null,null,null,null,null,null,null,null,null,null,null,null,null,null,null,null,null,null,null,null,null,null,null,null,null,null,null,null,null,null,null,null,null,null,null,null,null,null,null,null,null,null,null,null,null,null,null,null,null,null,null,null,null,null,null,null,null,null,null,null,null,null,null,null,null,null,null,null,null,null,null,null,null,null,null,null,null,null,null,null,null,null,null,null,null,null,null,null,null,null,null,null,null,null,null,null,null,null,null,null,null,null,null,null,null,null,null,null,null,null,null,null,null,null,null,null,null,null,null,null,null,null,null,null,null,null,null,null,null,null,null,null,null,null,null,112,null,null,112,0,16800,0,0,16800,16800,"Yes",0,0,0]
[null,112,null,"MOT CREW","Vendor No.04","Mot 24",1249,"2018-10-21","2018-10-27",{"$f":"IF(AND(H130>='A - Contractor Summary'!$C$36,I130<='A - Contractor Summary'!$C$42),\"Yes\",\"No\")","v":"Yes"},{"$f":"VLOOKUP($D130,'C.1 - Rate Sheets'!B:F,2,FALSE)","v":0},{"$f":"VLOOKUP($D130,'C.1 - Rate Sheets'!B:F,3,FALSE)","v":150},{"$f":"VLOOKUP($D130,'C.1 - Rate Sheets'!B:F,4,FALSE)","v":0},{"$f":"VLOOKUP($D130,'C.1 - Rate Sheets'!B:F,5,FALSE)","v":0},null,null,null,null,null,null,null,null,null,null,null,null,null,null,16,16,16,16,16,16,16,null,null,null,null,null,null,null,null,null,null,null,null,null,null,null,null,null,null,null,null,null,null,null,null,null,null,null,null,null,null,null,null,null,null,null,null,null,null,null,null,null,null,null,null,null,null,null,null,null,null,null,null,null,null,null,null,null,null,null,null,null,null,null,null,null,null,null,null,null,null,null,null,null,null,null,null,null,null,null,null,null,null,null,null,null,null,null,null,null,null,null,null,null,null,null,null,null,null,null,null,null,null,null,null,null,null,null,null,null,null,null,null,null,null,null,null,null,null,null,null,null,null,null,null,null,null,null,null,null,null,null,null,null,null,null,null,null,null,null,null,null,null,null,null,null,null,null,null,112,null,null,112,0,16800,0,0,16800,16800,"Yes",0,0,0]
[null,113,null,"MOT CREW","Vendor No.04","Mot 25",1249,"2018-10-21","2018-10-27",{"$f":"IF(AND(H131>='A - Contractor Summary'!$C$36,I131<='A - Contractor Summary'!$C$42),\"Yes\",\"No\")","v":"Yes"},{"$f":"VLOOKUP($D131,'C.1 - Rate Sheets'!B:F,2,FALSE)","v":0},{"$f":"VLOOKUP($D131,'C.1 - Rate Sheets'!B:F,3,FALSE)","v":150},{"$f":"VLOOKUP($D131,'C.1 - Rate Sheets'!B:F,4,FALSE)","v":0},{"$f":"VLOOKUP($D131,'C.1 - Rate Sheets'!B:F,5,FALSE)","v":0},null,null,null,null,null,null,null,null,null,null,null,null,null,null,16,16,16,16,16,16,16,null,null,null,null,null,null,null,null,null,null,null,null,null,null,null,null,null,null,null,null,null,null,null,null,null,null,null,null,null,null,null,null,null,null,null,null,null,null,null,null,null,null,null,null,null,null,null,null,null,null,null,null,null,null,null,null,null,null,null,null,null,null,null,null,null,null,null,null,null,null,null,null,null,null,null,null,null,null,null,null,null,null,null,null,null,null,null,null,null,null,null,null,null,null,null,null,null,null,null,null,null,null,null,null,null,null,null,null,null,null,null,null,null,null,null,null,null,null,null,null,null,null,null,null,null,null,null,null,null,null,null,null,null,null,null,null,null,null,null,null,null,null,null,null,null,null,null,null,112,null,null,112,0,16800,0,0,16800,16800,"Yes",0,0,0]
[null,114,null,"MOT CREW","Vendor No.04","Mot 26",1249,"2018-10-21","2018-10-27",{"$f":"IF(AND(H132>='A - Contractor Summary'!$C$36,I132<='A - Contractor Summary'!$C$42),\"Yes\",\"No\")","v":"Yes"},{"$f":"VLOOKUP($D132,'C.1 - Rate Sheets'!B:F,2,FALSE)","v":0},{"$f":"VLOOKUP($D132,'C.1 - Rate Sheets'!B:F,3,FALSE)","v":150},{"$f":"VLOOKUP($D132,'C.1 - Rate Sheets'!B:F,4,FALSE)","v":0},{"$f":"VLOOKUP($D132,'C.1 - Rate Sheets'!B:F,5,FALSE)","v":0},null,null,null,null,null,null,null,null,null,null,null,null,null,null,16,16,16,16,16,16,16,null,null,null,null,null,null,null,null,null,null,null,null,null,null,null,null,null,null,null,null,null,null,null,null,null,null,null,null,null,null,null,null,null,null,null,null,null,null,null,null,null,null,null,null,null,null,null,null,null,null,null,null,null,null,null,null,null,null,null,null,null,null,null,null,null,null,null,null,null,null,null,null,null,null,null,null,null,null,null,null,null,null,null,null,null,null,null,null,null,null,null,null,null,null,null,null,null,null,null,null,null,null,null,null,null,null,null,null,null,null,null,null,null,null,null,null,null,null,null,null,null,null,null,null,null,null,null,null,null,null,null,null,null,null,null,null,null,null,null,null,null,null,null,null,null,null,null,null,112,null,null,112,0,16800,0,0,16800,16800,"Yes",0,0,0]
[null,115,null,"MOT CREW","Vendor No.04","Mot 27",1249,"2018-10-21","2018-10-27",{"$f":"IF(AND(H133>='A - Contractor Summary'!$C$36,I133<='A - Contractor Summary'!$C$42),\"Yes\",\"No\")","v":"Yes"},{"$f":"VLOOKUP($D133,'C.1 - Rate Sheets'!B:F,2,FALSE)","v":0},{"$f":"VLOOKUP($D133,'C.1 - Rate Sheets'!B:F,3,FALSE)","v":150},{"$f":"VLOOKUP($D133,'C.1 - Rate Sheets'!B:F,4,FALSE)","v":0},{"$f":"VLOOKUP($D133,'C.1 - Rate Sheets'!B:F,5,FALSE)","v":0},null,null,null,null,null,null,null,null,null,null,null,null,null,null,16,16,16,16,16,16,16,null,null,null,null,null,null,null,null,null,null,null,null,null,null,null,null,null,null,null,null,null,null,null,null,null,null,null,null,null,null,null,null,null,null,null,null,null,null,null,null,null,null,null,null,null,null,null,null,null,null,null,null,null,null,null,null,null,null,null,null,null,null,null,null,null,null,null,null,null,null,null,null,null,null,null,null,null,null,null,null,null,null,null,null,null,null,null,null,null,null,null,null,null,null,null,null,null,null,null,null,null,null,null,null,null,null,null,null,null,null,null,null,null,null,null,null,null,null,null,null,null,null,null,null,null,null,null,null,null,null,null,null,null,null,null,null,null,null,null,null,null,null,null,null,null,null,null,null,112,null,null,112,0,16800,0,0,16800,16800,"Yes",0,0,0]
[null,116,null,"MOT CREW","Vendor No.04","Mot 28",1249,"2018-10-21","2018-10-27",{"$f":"IF(AND(H134>='A - Contractor Summary'!$C$36,I134<='A - Contractor Summary'!$C$42),\"Yes\",\"No\")","v":"Yes"},{"$f":"VLOOKUP($D134,'C.1 - Rate Sheets'!B:F,2,FALSE)","v":0},{"$f":"VLOOKUP($D134,'C.1 - Rate Sheets'!B:F,3,FALSE)","v":150},{"$f":"VLOOKUP($D134,'C.1 - Rate Sheets'!B:F,4,FALSE)","v":0},{"$f":"VLOOKUP($D134,'C.1 - Rate Sheets'!B:F,5,FALSE)","v":0},null,null,null,null,null,null,null,null,null,null,null,null,null,null,16,16,16,16,16,16,16,null,null,null,null,null,null,null,null,null,null,null,null,null,null,null,null,null,null,null,null,null,null,null,null,null,null,null,null,null,null,null,null,null,null,null,null,null,null,null,null,null,null,null,null,null,null,null,null,null,null,null,null,null,null,null,null,null,null,null,null,null,null,null,null,null,null,null,null,null,null,null,null,null,null,null,null,null,null,null,null,null,null,null,null,null,null,null,null,null,null,null,null,null,null,null,null,null,null,null,null,null,null,null,null,null,null,null,null,null,null,null,null,null,null,null,null,null,null,null,null,null,null,null,null,null,null,null,null,null,null,null,null,null,null,null,null,null,null,null,null,null,null,null,null,null,null,null,null,112,null,null,112,0,16800,0,0,16800,16800,"Yes",0,0,0]
[null,117,null,"MOT CREW","Vendor No.04","Mot 29",1249,"2018-10-21","2018-10-27",{"$f":"IF(AND(H135>='A - Contractor Summary'!$C$36,I135<='A - Contractor Summary'!$C$42),\"Yes\",\"No\")","v":"Yes"},{"$f":"VLOOKUP($D135,'C.1 - Rate Sheets'!B:F,2,FALSE)","v":0},{"$f":"VLOOKUP($D135,'C.1 - Rate Sheets'!B:F,3,FALSE)","v":150},{"$f":"VLOOKUP($D135,'C.1 - Rate Sheets'!B:F,4,FALSE)","v":0},{"$f":"VLOOKUP($D135,'C.1 - Rate Sheets'!B:F,5,FALSE)","v":0},null,null,null,null,null,null,null,null,null,null,null,null,null,null,16,16,16,16,16,16,16,null,null,null,null,null,null,null,null,null,null,null,null,null,null,null,null,null,null,null,null,null,null,null,null,null,null,null,null,null,null,null,null,null,null,null,null,null,null,null,null,null,null,null,null,null,null,null,null,null,null,null,null,null,null,null,null,null,null,null,null,null,null,null,null,null,null,null,null,null,null,null,null,null,null,null,null,null,null,null,null,null,null,null,null,null,null,null,null,null,null,null,null,null,null,null,null,null,null,null,null,null,null,null,null,null,null,null,null,null,null,null,null,null,null,null,null,null,null,null,null,null,null,null,null,null,null,null,null,null,null,null,null,null,null,null,null,null,null,null,null,null,null,null,null,null,null,null,null,112,null,null,112,0,16800,0,0,16800,16800,"Yes",0,0,0]
[null,118,null,"MOT CREW","Vendor No.04","Mot 30",1249,"2018-10-21","2018-10-27",{"$f":"IF(AND(H136>='A - Contractor Summary'!$C$36,I136<='A - Contractor Summary'!$C$42),\"Yes\",\"No\")","v":"Yes"},{"$f":"VLOOKUP($D136,'C.1 - Rate Sheets'!B:F,2,FALSE)","v":0},{"$f":"VLOOKUP($D136,'C.1 - Rate Sheets'!B:F,3,FALSE)","v":150},{"$f":"VLOOKUP($D136,'C.1 - Rate Sheets'!B:F,4,FALSE)","v":0},{"$f":"VLOOKUP($D136,'C.1 - Rate Sheets'!B:F,5,FALSE)","v":0},null,null,null,null,null,null,null,null,null,null,null,null,null,null,16,16,16,16,16,16,16,null,null,null,null,null,null,null,null,null,null,null,null,null,null,null,null,null,null,null,null,null,null,null,null,null,null,null,null,null,null,null,null,null,null,null,null,null,null,null,null,null,null,null,null,null,null,null,null,null,null,null,null,null,null,null,null,null,null,null,null,null,null,null,null,null,null,null,null,null,null,null,null,null,null,null,null,null,null,null,null,null,null,null,null,null,null,null,null,null,null,null,null,null,null,null,null,null,null,null,null,null,null,null,null,null,null,null,null,null,null,null,null,null,null,null,null,null,null,null,null,null,null,null,null,null,null,null,null,null,null,null,null,null,null,null,null,null,null,null,null,null,null,null,null,null,null,null,null,112,null,null,112,0,16800,0,0,16800,16800,"Yes",0,0,0]
[null,119,null,"MOT CREW","Vendor No.04","Mot 31",1249,"2018-10-21","2018-10-27",{"$f":"IF(AND(H137>='A - Contractor Summary'!$C$36,I137<='A - Contractor Summary'!$C$42),\"Yes\",\"No\")","v":"Yes"},{"$f":"VLOOKUP($D137,'C.1 - Rate Sheets'!B:F,2,FALSE)","v":0},{"$f":"VLOOKUP($D137,'C.1 - Rate Sheets'!B:F,3,FALSE)","v":150},{"$f":"VLOOKUP($D137,'C.1 - Rate Sheets'!B:F,4,FALSE)","v":0},{"$f":"VLOOKUP($D137,'C.1 - Rate Sheets'!B:F,5,FALSE)","v":0},null,null,null,null,null,null,null,null,null,null,null,null,null,null,16,16,16,16,16,16,16,null,null,null,null,null,null,null,null,null,null,null,null,null,null,null,null,null,null,null,null,null,null,null,null,null,null,null,null,null,null,null,null,null,null,null,null,null,null,null,null,null,null,null,null,null,null,null,null,null,null,null,null,null,null,null,null,null,null,null,null,null,null,null,null,null,null,null,null,null,null,null,null,null,null,null,null,null,null,null,null,null,null,null,null,null,null,null,null,null,null,null,null,null,null,null,null,null,null,null,null,null,null,null,null,null,null,null,null,null,null,null,null,null,null,null,null,null,null,null,null,null,null,null,null,null,null,null,null,null,null,null,null,null,null,null,null,null,null,null,null,null,null,null,null,null,null,null,null,112,null,null,112,0,16800,0,0,16800,16800,"Yes",0,0,0]
[null,120,null,"MOT CREW","Vendor No.04","Mot 32",1249,"2018-10-21","2018-10-27",{"$f":"IF(AND(H138>='A - Contractor Summary'!$C$36,I138<='A - Contractor Summary'!$C$42),\"Yes\",\"No\")","v":"Yes"},{"$f":"VLOOKUP($D138,'C.1 - Rate Sheets'!B:F,2,FALSE)","v":0},{"$f":"VLOOKUP($D138,'C.1 - Rate Sheets'!B:F,3,FALSE)","v":150},{"$f":"VLOOKUP($D138,'C.1 - Rate Sheets'!B:F,4,FALSE)","v":0},{"$f":"VLOOKUP($D138,'C.1 - Rate Sheets'!B:F,5,FALSE)","v":0},null,null,null,null,null,null,null,null,null,null,null,null,null,null,16,16,16,16,16,16,16,null,null,null,null,null,null,null,null,null,null,null,null,null,null,null,null,null,null,null,null,null,null,null,null,null,null,null,null,null,null,null,null,null,null,null,null,null,null,null,null,null,null,null,null,null,null,null,null,null,null,null,null,null,null,null,null,null,null,null,null,null,null,null,null,null,null,null,null,null,null,null,null,null,null,null,null,null,null,null,null,null,null,null,null,null,null,null,null,null,null,null,null,null,null,null,null,null,null,null,null,null,null,null,null,null,null,null,null,null,null,null,null,null,null,null,null,null,null,null,null,null,null,null,null,null,null,null,null,null,null,null,null,null,null,null,null,null,null,null,null,null,null,null,null,null,null,null,null,112,null,null,112,0,16800,0,0,16800,16800,"Yes",0,0,0]
[null,121,null,"MOT CREW","Vendor No.04","Mot 33",1249,"2018-10-21","2018-10-27",{"$f":"IF(AND(H139>='A - Contractor Summary'!$C$36,I139<='A - Contractor Summary'!$C$42),\"Yes\",\"No\")","v":"Yes"},{"$f":"VLOOKUP($D139,'C.1 - Rate Sheets'!B:F,2,FALSE)","v":0},{"$f":"VLOOKUP($D139,'C.1 - Rate Sheets'!B:F,3,FALSE)","v":150},{"$f":"VLOOKUP($D139,'C.1 - Rate Sheets'!B:F,4,FALSE)","v":0},{"$f":"VLOOKUP($D139,'C.1 - Rate Sheets'!B:F,5,FALSE)","v":0},null,null,null,null,null,null,null,null,null,null,null,null,null,null,16,16,16,16,16,16,16,null,null,null,null,null,null,null,null,null,null,null,null,null,null,null,null,null,null,null,null,null,null,null,null,null,null,null,null,null,null,null,null,null,null,null,null,null,null,null,null,null,null,null,null,null,null,null,null,null,null,null,null,null,null,null,null,null,null,null,null,null,null,null,null,null,null,null,null,null,null,null,null,null,null,null,null,null,null,null,null,null,null,null,null,null,null,null,null,null,null,null,null,null,null,null,null,null,null,null,null,null,null,null,null,null,null,null,null,null,null,null,null,null,null,null,null,null,null,null,null,null,null,null,null,null,null,null,null,null,null,null,null,null,null,null,null,null,null,null,null,null,null,null,null,null,null,null,null,112,null,null,112,0,16800,0,0,16800,16800,"Yes",0,0,0]
[null,122,null,"MOT CREW","Vendor No.04","Mot 34",1249,"2018-10-21","2018-10-27",{"$f":"IF(AND(H140>='A - Contractor Summary'!$C$36,I140<='A - Contractor Summary'!$C$42),\"Yes\",\"No\")","v":"Yes"},{"$f":"VLOOKUP($D140,'C.1 - Rate Sheets'!B:F,2,FALSE)","v":0},{"$f":"VLOOKUP($D140,'C.1 - Rate Sheets'!B:F,3,FALSE)","v":150},{"$f":"VLOOKUP($D140,'C.1 - Rate Sheets'!B:F,4,FALSE)","v":0},{"$f":"VLOOKUP($D140,'C.1 - Rate Sheets'!B:F,5,FALSE)","v":0},null,null,null,null,null,null,null,null,null,null,null,null,null,null,16,16,16,16,16,16,16,null,null,null,null,null,null,null,null,null,null,null,null,null,null,null,null,null,null,null,null,null,null,null,null,null,null,null,null,null,null,null,null,null,null,null,null,null,null,null,null,null,null,null,null,null,null,null,null,null,null,null,null,null,null,null,null,null,null,null,null,null,null,null,null,null,null,null,null,null,null,null,null,null,null,null,null,null,null,null,null,null,null,null,null,null,null,null,null,null,null,null,null,null,null,null,null,null,null,null,null,null,null,null,null,null,null,null,null,null,null,null,null,null,null,null,null,null,null,null,null,null,null,null,null,null,null,null,null,null,null,null,null,null,null,null,null,null,null,null,null,null,null,null,null,null,null,null,null,112,null,null,112,0,16800,0,0,16800,16800,"Yes",0,0,0]
[null,123,null,"MOT CREW","Vendor No.04","Mot 35",1249,"2018-10-21","2018-10-27",{"$f":"IF(AND(H141>='A - Contractor Summary'!$C$36,I141<='A - Contractor Summary'!$C$42),\"Yes\",\"No\")","v":"Yes"},{"$f":"VLOOKUP($D141,'C.1 - Rate Sheets'!B:F,2,FALSE)","v":0},{"$f":"VLOOKUP($D141,'C.1 - Rate Sheets'!B:F,3,FALSE)","v":150},{"$f":"VLOOKUP($D141,'C.1 - Rate Sheets'!B:F,4,FALSE)","v":0},{"$f":"VLOOKUP($D141,'C.1 - Rate Sheets'!B:F,5,FALSE)","v":0},null,null,null,null,null,null,null,null,null,null,null,null,null,null,16,16,16,16,16,16,16,null,null,null,null,null,null,null,null,null,null,null,null,null,null,null,null,null,null,null,null,null,null,null,null,null,null,null,null,null,null,null,null,null,null,null,null,null,null,null,null,null,null,null,null,null,null,null,null,null,null,null,null,null,null,null,null,null,null,null,null,null,null,null,null,null,null,null,null,null,null,null,null,null,null,null,null,null,null,null,null,null,null,null,null,null,null,null,null,null,null,null,null,null,null,null,null,null,null,null,null,null,null,null,null,null,null,null,null,null,null,null,null,null,null,null,null,null,null,null,null,null,null,null,null,null,null,null,null,null,null,null,null,null,null,null,null,null,null,null,null,null,null,null,null,null,null,null,null,112,null,null,112,0,16800,0,0,16800,16800,"Yes",0,0,0]
[null,124,null,"MOT CREW","Vendor No.04","Mot 36",1249,"2018-10-21","2018-10-27",{"$f":"IF(AND(H142>='A - Contractor Summary'!$C$36,I142<='A - Contractor Summary'!$C$42),\"Yes\",\"No\")","v":"Yes"},{"$f":"VLOOKUP($D142,'C.1 - Rate Sheets'!B:F,2,FALSE)","v":0},{"$f":"VLOOKUP($D142,'C.1 - Rate Sheets'!B:F,3,FALSE)","v":150},{"$f":"VLOOKUP($D142,'C.1 - Rate Sheets'!B:F,4,FALSE)","v":0},{"$f":"VLOOKUP($D142,'C.1 - Rate Sheets'!B:F,5,FALSE)","v":0},null,null,null,null,null,null,null,null,null,null,null,null,null,null,16,16,16,16,16,16,16,null,null,null,null,null,null,null,null,null,null,null,null,null,null,null,null,null,null,null,null,null,null,null,null,null,null,null,null,null,null,null,null,null,null,null,null,null,null,null,null,null,null,null,null,null,null,null,null,null,null,null,null,null,null,null,null,null,null,null,null,null,null,null,null,null,null,null,null,null,null,null,null,null,null,null,null,null,null,null,null,null,null,null,null,null,null,null,null,null,null,null,null,null,null,null,null,null,null,null,null,null,null,null,null,null,null,null,null,null,null,null,null,null,null,null,null,null,null,null,null,null,null,null,null,null,null,null,null,null,null,null,null,null,null,null,null,null,null,null,null,null,null,null,null,null,null,null,null,112,null,null,112,0,16800,0,0,16800,16800,"Yes",0,0,0]
[null,125,null,"MOT CREW","Vendor No.04","Mot 37",1249,"2018-10-21","2018-10-27",{"$f":"IF(AND(H143>='A - Contractor Summary'!$C$36,I143<='A - Contractor Summary'!$C$42),\"Yes\",\"No\")","v":"Yes"},{"$f":"VLOOKUP($D143,'C.1 - Rate Sheets'!B:F,2,FALSE)","v":0},{"$f":"VLOOKUP($D143,'C.1 - Rate Sheets'!B:F,3,FALSE)","v":150},{"$f":"VLOOKUP($D143,'C.1 - Rate Sheets'!B:F,4,FALSE)","v":0},{"$f":"VLOOKUP($D143,'C.1 - Rate Sheets'!B:F,5,FALSE)","v":0},null,null,null,null,null,null,null,null,null,null,null,null,null,null,16,16,16,16,16,16,16,null,null,null,null,null,null,null,null,null,null,null,null,null,null,null,null,null,null,null,null,null,null,null,null,null,null,null,null,null,null,null,null,null,null,null,null,null,null,null,null,null,null,null,null,null,null,null,null,null,null,null,null,null,null,null,null,null,null,null,null,null,null,null,null,null,null,null,null,null,null,null,null,null,null,null,null,null,null,null,null,null,null,null,null,null,null,null,null,null,null,null,null,null,null,null,null,null,null,null,null,null,null,null,null,null,null,null,null,null,null,null,null,null,null,null,null,null,null,null,null,null,null,null,null,null,null,null,null,null,null,null,null,null,null,null,null,null,null,null,null,null,null,null,null,null,null,null,null,112,null,null,112,0,16800,0,0,16800,16800,"Yes",0,0,0]
[null,126,null,"MOT CREW","Vendor No.04","Mot 38",1249,"2018-10-21","2018-10-27",{"$f":"IF(AND(H144>='A - Contractor Summary'!$C$36,I144<='A - Contractor Summary'!$C$42),\"Yes\",\"No\")","v":"Yes"},{"$f":"VLOOKUP($D144,'C.1 - Rate Sheets'!B:F,2,FALSE)","v":0},{"$f":"VLOOKUP($D144,'C.1 - Rate Sheets'!B:F,3,FALSE)","v":150},{"$f":"VLOOKUP($D144,'C.1 - Rate Sheets'!B:F,4,FALSE)","v":0},{"$f":"VLOOKUP($D144,'C.1 - Rate Sheets'!B:F,5,FALSE)","v":0},null,null,null,null,null,null,null,null,null,null,null,null,null,null,16,16,16,16,16,16,16,null,null,null,null,null,null,null,null,null,null,null,null,null,null,null,null,null,null,null,null,null,null,null,null,null,null,null,null,null,null,null,null,null,null,null,null,null,null,null,null,null,null,null,null,null,null,null,null,null,null,null,null,null,null,null,null,null,null,null,null,null,null,null,null,null,null,null,null,null,null,null,null,null,null,null,null,null,null,null,null,null,null,null,null,null,null,null,null,null,null,null,null,null,null,null,null,null,null,null,null,null,null,null,null,null,null,null,null,null,null,null,null,null,null,null,null,null,null,null,null,null,null,null,null,null,null,null,null,null,null,null,null,null,null,null,null,null,null,null,null,null,null,null,null,null,null,null,null,112,null,null,112,0,16800,0,0,16800,16800,"Yes",0,0,0]
[null,127,null,"MOT CREW","Vendor No.04","Mot 39",1249,"2018-10-21","2018-10-27",{"$f":"IF(AND(H145>='A - Contractor Summary'!$C$36,I145<='A - Contractor Summary'!$C$42),\"Yes\",\"No\")","v":"Yes"},{"$f":"VLOOKUP($D145,'C.1 - Rate Sheets'!B:F,2,FALSE)","v":0},{"$f":"VLOOKUP($D145,'C.1 - Rate Sheets'!B:F,3,FALSE)","v":150},{"$f":"VLOOKUP($D145,'C.1 - Rate Sheets'!B:F,4,FALSE)","v":0},{"$f":"VLOOKUP($D145,'C.1 - Rate Sheets'!B:F,5,FALSE)","v":0},null,null,null,null,null,null,null,null,null,null,null,null,null,null,16,16,16,16,16,16,16,null,null,null,null,null,null,null,null,null,null,null,null,null,null,null,null,null,null,null,null,null,null,null,null,null,null,null,null,null,null,null,null,null,null,null,null,null,null,null,null,null,null,null,null,null,null,null,null,null,null,null,null,null,null,null,null,null,null,null,null,null,null,null,null,null,null,null,null,null,null,null,null,null,null,null,null,null,null,null,null,null,null,null,null,null,null,null,null,null,null,null,null,null,null,null,null,null,null,null,null,null,null,null,null,null,null,null,null,null,null,null,null,null,null,null,null,null,null,null,null,null,null,null,null,null,null,null,null,null,null,null,null,null,null,null,null,null,null,null,null,null,null,null,null,null,null,null,null,112,null,null,112,0,16800,0,0,16800,16800,"Yes",0,0,0]
[null,128,null,"MOT CREW","Vendor No.04","Mot 40",1249,"2018-10-21","2018-10-27",{"$f":"IF(AND(H146>='A - Contractor Summary'!$C$36,I146<='A - Contractor Summary'!$C$42),\"Yes\",\"No\")","v":"Yes"},{"$f":"VLOOKUP($D146,'C.1 - Rate Sheets'!B:F,2,FALSE)","v":0},{"$f":"VLOOKUP($D146,'C.1 - Rate Sheets'!B:F,3,FALSE)","v":150},{"$f":"VLOOKUP($D146,'C.1 - Rate Sheets'!B:F,4,FALSE)","v":0},{"$f":"VLOOKUP($D146,'C.1 - Rate Sheets'!B:F,5,FALSE)","v":0},null,null,null,null,null,null,null,null,null,null,null,null,null,null,16,16,16,16,16,16,16,null,null,null,null,null,null,null,null,null,null,null,null,null,null,null,null,null,null,null,null,null,null,null,null,null,null,null,null,null,null,null,null,null,null,null,null,null,null,null,null,null,null,null,null,null,null,null,null,null,null,null,null,null,null,null,null,null,null,null,null,null,null,null,null,null,null,null,null,null,null,null,null,null,null,null,null,null,null,null,null,null,null,null,null,null,null,null,null,null,null,null,null,null,null,null,null,null,null,null,null,null,null,null,null,null,null,null,null,null,null,null,null,null,null,null,null,null,null,null,null,null,null,null,null,null,null,null,null,null,null,null,null,null,null,null,null,null,null,null,null,null,null,null,null,null,null,null,null,112,null,null,112,0,16800,0,0,16800,16800,"Yes",0,0,0]
[null,129,null,"MOT CREW","Vendor No.04","Mot 41",1249,"2018-10-21","2018-10-27",{"$f":"IF(AND(H147>='A - Contractor Summary'!$C$36,I147<='A - Contractor Summary'!$C$42),\"Yes\",\"No\")","v":"Yes"},{"$f":"VLOOKUP($D147,'C.1 - Rate Sheets'!B:F,2,FALSE)","v":0},{"$f":"VLOOKUP($D147,'C.1 - Rate Sheets'!B:F,3,FALSE)","v":150},{"$f":"VLOOKUP($D147,'C.1 - Rate Sheets'!B:F,4,FALSE)","v":0},{"$f":"VLOOKUP($D147,'C.1 - Rate Sheets'!B:F,5,FALSE)","v":0},null,null,null,null,null,null,null,null,null,null,null,null,null,null,16,16,16,16,16,16,16,null,null,null,null,null,null,null,null,null,null,null,null,null,null,null,null,null,null,null,null,null,null,null,null,null,null,null,null,null,null,null,null,null,null,null,null,null,null,null,null,null,null,null,null,null,null,null,null,null,null,null,null,null,null,null,null,null,null,null,null,null,null,null,null,null,null,null,null,null,null,null,null,null,null,null,null,null,null,null,null,null,null,null,null,null,null,null,null,null,null,null,null,null,null,null,null,null,null,null,null,null,null,null,null,null,null,null,null,null,null,null,null,null,null,null,null,null,null,null,null,null,null,null,null,null,null,null,null,null,null,null,null,null,null,null,null,null,null,null,null,null,null,null,null,null,null,null,null,{"$f":"SUM(O147:FZ147)","v":112},null,null,112,{"$f":"GA147*K147","v":0},{"$f":"GB147*L147","v":16800},{"$f":"GC147*M147","v":0},{"$f":"GD147*N147","v":0},{"$f":"SUM(GF147:GI147)","v":16800},16800,"Yes",0,0,0]
[null,130,null,"MOT CREW","Vendor No.04","Mot 42",1249,"2018-10-21","2018-10-27",{"$f":"IF(AND(H148>='A - Contractor Summary'!$C$36,I148<='A - Contractor Summary'!$C$42),\"Yes\",\"No\")","v":"Yes"},{"$f":"VLOOKUP($D148,'C.1 - Rate Sheets'!B:F,2,FALSE)","v":0},{"$f":"VLOOKUP($D148,'C.1 - Rate Sheets'!B:F,3,FALSE)","v":150},{"$f":"VLOOKUP($D148,'C.1 - Rate Sheets'!B:F,4,FALSE)","v":0},{"$f":"VLOOKUP($D148,'C.1 - Rate Sheets'!B:F,5,FALSE)","v":0},null,null,null,null,null,null,null,null,null,null,null,null,null,null,16,16,16,16,16,16,16,null,null,null,null,null,null,null,null,null,null,null,null,null,null,null,null,null,null,null,null,null,null,null,null,null,null,null,null,null,null,null,null,null,null,null,null,null,null,null,null,null,null,null,null,null,null,null,null,null,null,null,null,null,null,null,null,null,null,null,null,null,null,null,null,null,null,null,null,null,null,null,null,null,null,null,null,null,null,null,null,null,null,null,null,null,null,null,null,null,null,null,null,null,null,null,null,null,null,null,null,null,null,null,null,null,null,null,null,null,null,null,null,null,null,null,null,null,null,null,null,null,null,null,null,null,null,null,null,null,null,null,null,null,null,null,null,null,null,null,null,null,null,null,null,null,null,null,null,112,null,null,112,0,16800,0,0,16800,16800,"Yes",0,0,0]
[null,131,null,"MOT CREW","Vendor No.04","Mot 43",1249,"2018-10-21","2018-10-27",{"$f":"IF(AND(H149>='A - Contractor Summary'!$C$36,I149<='A - Contractor Summary'!$C$42),\"Yes\",\"No\")","v":"Yes"},{"$f":"VLOOKUP($D149,'C.1 - Rate Sheets'!B:F,2,FALSE)","v":0},{"$f":"VLOOKUP($D149,'C.1 - Rate Sheets'!B:F,3,FALSE)","v":150},{"$f":"VLOOKUP($D149,'C.1 - Rate Sheets'!B:F,4,FALSE)","v":0},{"$f":"VLOOKUP($D149,'C.1 - Rate Sheets'!B:F,5,FALSE)","v":0},null,null,null,null,null,null,null,null,null,null,null,null,null,null,16,16,16,16,16,16,16,null,null,null,null,null,null,null,null,null,null,null,null,null,null,null,null,null,null,null,null,null,null,null,null,null,null,null,null,null,null,null,null,null,null,null,null,null,null,null,null,null,null,null,null,null,null,null,null,null,null,null,null,null,null,null,null,null,null,null,null,null,null,null,null,null,null,null,null,null,null,null,null,null,null,null,null,null,null,null,null,null,null,null,null,null,null,null,null,null,null,null,null,null,null,null,null,null,null,null,null,null,null,null,null,null,null,null,null,null,null,null,null,null,null,null,null,null,null,null,null,null,null,null,null,null,null,null,null,null,null,null,null,null,null,null,null,null,null,null,null,null,null,null,null,null,null,null,null,112,null,null,112,0,16800,0,0,16800,16800,"Yes",0,0,0]
[null,132,null,"MOT CREW","Vendor No.04","Mot 44",1249,"2018-10-21","2018-10-27",{"$f":"IF(AND(H150>='A - Contractor Summary'!$C$36,I150<='A - Contractor Summary'!$C$42),\"Yes\",\"No\")","v":"Yes"},{"$f":"VLOOKUP($D150,'C.1 - Rate Sheets'!B:F,2,FALSE)","v":0},{"$f":"VLOOKUP($D150,'C.1 - Rate Sheets'!B:F,3,FALSE)","v":150},{"$f":"VLOOKUP($D150,'C.1 - Rate Sheets'!B:F,4,FALSE)","v":0},{"$f":"VLOOKUP($D150,'C.1 - Rate Sheets'!B:F,5,FALSE)","v":0},null,null,null,null,null,null,null,null,null,null,null,null,null,null,16,16,16,16,16,16,16,null,null,null,null,null,null,null,null,null,null,null,null,null,null,null,null,null,null,null,null,null,null,null,null,null,null,null,null,null,null,null,null,null,null,null,null,null,null,null,null,null,null,null,null,null,null,null,null,null,null,null,null,null,null,null,null,null,null,null,null,null,null,null,null,null,null,null,null,null,null,null,null,null,null,null,null,null,null,null,null,null,null,null,null,null,null,null,null,null,null,null,null,null,null,null,null,null,null,null,null,null,null,null,null,null,null,null,null,null,null,null,null,null,null,null,null,null,null,null,null,null,null,null,null,null,null,null,null,null,null,null,null,null,null,null,null,null,null,null,null,null,null,null,null,null,null,null,null,112,null,null,112,0,16800,0,0,16800,16800,"Yes",0,0,0]
[null,133,null,"MOT CREW","Vendor No.04","Mot 45",1249,"2018-10-21","2018-10-27",{"$f":"IF(AND(H151>='A - Contractor Summary'!$C$36,I151<='A - Contractor Summary'!$C$42),\"Yes\",\"No\")","v":"Yes"},{"$f":"VLOOKUP($D151,'C.1 - Rate Sheets'!B:F,2,FALSE)","v":0},{"$f":"VLOOKUP($D151,'C.1 - Rate Sheets'!B:F,3,FALSE)","v":150},{"$f":"VLOOKUP($D151,'C.1 - Rate Sheets'!B:F,4,FALSE)","v":0},{"$f":"VLOOKUP($D151,'C.1 - Rate Sheets'!B:F,5,FALSE)","v":0},null,null,null,null,null,null,null,null,null,null,null,null,null,null,16,16,16,16,16,16,16,null,null,null,null,null,null,null,null,null,null,null,null,null,null,null,null,null,null,null,null,null,null,null,null,null,null,null,null,null,null,null,null,null,null,null,null,null,null,null,null,null,null,null,null,null,null,null,null,null,null,null,null,null,null,null,null,null,null,null,null,null,null,null,null,null,null,null,null,null,null,null,null,null,null,null,null,null,null,null,null,null,null,null,null,null,null,null,null,null,null,null,null,null,null,null,null,null,null,null,null,null,null,null,null,null,null,null,null,null,null,null,null,null,null,null,null,null,null,null,null,null,null,null,null,null,null,null,null,null,null,null,null,null,null,null,null,null,null,null,null,null,null,null,null,null,null,null,null,112,null,null,112,0,16800,0,0,16800,16800,"Yes",0,0,0]
[null,134,null,"MOT CREW","Vendor No.04","Mot 46",1249,"2018-10-21","2018-10-27",{"$f":"IF(AND(H152>='A - Contractor Summary'!$C$36,I152<='A - Contractor Summary'!$C$42),\"Yes\",\"No\")","v":"Yes"},{"$f":"VLOOKUP($D152,'C.1 - Rate Sheets'!B:F,2,FALSE)","v":0},{"$f":"VLOOKUP($D152,'C.1 - Rate Sheets'!B:F,3,FALSE)","v":150},{"$f":"VLOOKUP($D152,'C.1 - Rate Sheets'!B:F,4,FALSE)","v":0},{"$f":"VLOOKUP($D152,'C.1 - Rate Sheets'!B:F,5,FALSE)","v":0},null,null,null,null,null,null,null,null,null,null,null,null,null,null,16,16,16,16,16,16,16,null,null,null,null,null,null,null,null,null,null,null,null,null,null,null,null,null,null,null,null,null,null,null,null,null,null,null,null,null,null,null,null,null,null,null,null,null,null,null,null,null,null,null,null,null,null,null,null,null,null,null,null,null,null,null,null,null,null,null,null,null,null,null,null,null,null,null,null,null,null,null,null,null,null,null,null,null,null,null,null,null,null,null,null,null,null,null,null,null,null,null,null,null,null,null,null,null,null,null,null,null,null,null,null,null,null,null,null,null,null,null,null,null,null,null,null,null,null,null,null,null,null,null,null,null,null,null,null,null,null,null,null,null,null,null,null,null,null,null,null,null,null,null,null,null,null,null,null,112,null,null,112,0,16800,0,0,16800,16800,"Yes",0,0,0]
[null,135,null,"MOT CREW","Vendor No.04","Mot 47",1249,"2018-10-21","2018-10-27",{"$f":"IF(AND(H153>='A - Contractor Summary'!$C$36,I153<='A - Contractor Summary'!$C$42),\"Yes\",\"No\")","v":"Yes"},{"$f":"VLOOKUP($D153,'C.1 - Rate Sheets'!B:F,2,FALSE)","v":0},{"$f":"VLOOKUP($D153,'C.1 - Rate Sheets'!B:F,3,FALSE)","v":150},{"$f":"VLOOKUP($D153,'C.1 - Rate Sheets'!B:F,4,FALSE)","v":0},{"$f":"VLOOKUP($D153,'C.1 - Rate Sheets'!B:F,5,FALSE)","v":0},null,null,null,null,null,null,null,null,null,null,null,null,null,null,16,16,16,16,16,16,16,null,null,null,null,null,null,null,null,null,null,null,null,null,null,null,null,null,null,null,null,null,null,null,null,null,null,null,null,null,null,null,null,null,null,null,null,null,null,null,null,null,null,null,null,null,null,null,null,null,null,null,null,null,null,null,null,null,null,null,null,null,null,null,null,null,null,null,null,null,null,null,null,null,null,null,null,null,null,null,null,null,null,null,null,null,null,null,null,null,null,null,null,null,null,null,null,null,null,null,null,null,null,null,null,null,null,null,null,null,null,null,null,null,null,null,null,null,null,null,null,null,null,null,null,null,null,null,null,null,null,null,null,null,null,null,null,null,null,null,null,null,null,null,null,null,null,null,null,112,null,null,112,0,16800,0,0,16800,16800,"Yes",0,0,0]
[null,136,null,"MOT CREW","Vendor No.04","Mot 48",1249,"2018-10-21","2018-10-27",{"$f":"IF(AND(H154>='A - Contractor Summary'!$C$36,I154<='A - Contractor Summary'!$C$42),\"Yes\",\"No\")","v":"Yes"},{"$f":"VLOOKUP($D154,'C.1 - Rate Sheets'!B:F,2,FALSE)","v":0},{"$f":"VLOOKUP($D154,'C.1 - Rate Sheets'!B:F,3,FALSE)","v":150},{"$f":"VLOOKUP($D154,'C.1 - Rate Sheets'!B:F,4,FALSE)","v":0},{"$f":"VLOOKUP($D154,'C.1 - Rate Sheets'!B:F,5,FALSE)","v":0},null,null,null,null,null,null,null,null,null,null,null,null,null,null,16,16,16,16,16,16,16,null,null,null,null,null,null,null,null,null,null,null,null,null,null,null,null,null,null,null,null,null,null,null,null,null,null,null,null,null,null,null,null,null,null,null,null,null,null,null,null,null,null,null,null,null,null,null,null,null,null,null,null,null,null,null,null,null,null,null,null,null,null,null,null,null,null,null,null,null,null,null,null,null,null,null,null,null,null,null,null,null,null,null,null,null,null,null,null,null,null,null,null,null,null,null,null,null,null,null,null,null,null,null,null,null,null,null,null,null,null,null,null,null,null,null,null,null,null,null,null,null,null,null,null,null,null,null,null,null,null,null,null,null,null,null,null,null,null,null,null,null,null,null,null,null,null,null,null,112,null,null,112,0,16800,0,0,16800,16800,"Yes",0,0,0]
[null,137,null,"MOT CREW","Vendor No.04","Mot 49",1249,"2018-10-21","2018-10-27",{"$f":"IF(AND(H155>='A - Contractor Summary'!$C$36,I155<='A - Contractor Summary'!$C$42),\"Yes\",\"No\")","v":"Yes"},{"$f":"VLOOKUP($D155,'C.1 - Rate Sheets'!B:F,2,FALSE)","v":0},{"$f":"VLOOKUP($D155,'C.1 - Rate Sheets'!B:F,3,FALSE)","v":150},{"$f":"VLOOKUP($D155,'C.1 - Rate Sheets'!B:F,4,FALSE)","v":0},{"$f":"VLOOKUP($D155,'C.1 - Rate Sheets'!B:F,5,FALSE)","v":0},null,null,null,null,null,null,null,null,null,null,null,null,null,null,16,16,16,16,16,16,16,null,null,null,null,null,null,null,null,null,null,null,null,null,null,null,null,null,null,null,null,null,null,null,null,null,null,null,null,null,null,null,null,null,null,null,null,null,null,null,null,null,null,null,null,null,null,null,null,null,null,null,null,null,null,null,null,null,null,null,null,null,null,null,null,null,null,null,null,null,null,null,null,null,null,null,null,null,null,null,null,null,null,null,null,null,null,null,null,null,null,null,null,null,null,null,null,null,null,null,null,null,null,null,null,null,null,null,null,null,null,null,null,null,null,null,null,null,null,null,null,null,null,null,null,null,null,null,null,null,null,null,null,null,null,null,null,null,null,null,null,null,null,null,null,null,null,null,null,112,null,null,112,0,16800,0,0,16800,16800,"Yes",0,0,0]
[null,138,null,"MOT CREW","Vendor No.04","Mot 50",1249,"2018-10-21","2018-10-27",{"$f":"IF(AND(H156>='A - Contractor Summary'!$C$36,I156<='A - Contractor Summary'!$C$42),\"Yes\",\"No\")","v":"Yes"},{"$f":"VLOOKUP($D156,'C.1 - Rate Sheets'!B:F,2,FALSE)","v":0},{"$f":"VLOOKUP($D156,'C.1 - Rate Sheets'!B:F,3,FALSE)","v":150},{"$f":"VLOOKUP($D156,'C.1 - Rate Sheets'!B:F,4,FALSE)","v":0},{"$f":"VLOOKUP($D156,'C.1 - Rate Sheets'!B:F,5,FALSE)","v":0},null,null,null,null,null,null,null,null,null,null,null,null,null,null,16,16,16,16,16,16,16,null,null,null,null,null,null,null,null,null,null,null,null,null,null,null,null,null,null,null,null,null,null,null,null,null,null,null,null,null,null,null,null,null,null,null,null,null,null,null,null,null,null,null,null,null,null,null,null,null,null,null,null,null,null,null,null,null,null,null,null,null,null,null,null,null,null,null,null,null,null,null,null,null,null,null,null,null,null,null,null,null,null,null,null,null,null,null,null,null,null,null,null,null,null,null,null,null,null,null,null,null,null,null,null,null,null,null,null,null,null,null,null,null,null,null,null,null,null,null,null,null,null,null,null,null,null,null,null,null,null,null,null,null,null,null,null,null,null,null,null,null,null,null,null,null,null,null,null,112,null,null,112,0,16800,0,0,16800,16800,"Yes",0,0,0]
[null,139,null,"MOT CREW","Vendor No.04","Mot 51",1249,"2018-10-21","2018-10-27",{"$f":"IF(AND(H157>='A - Contractor Summary'!$C$36,I157<='A - Contractor Summary'!$C$42),\"Yes\",\"No\")","v":"Yes"},{"$f":"VLOOKUP($D157,'C.1 - Rate Sheets'!B:F,2,FALSE)","v":0},{"$f":"VLOOKUP($D157,'C.1 - Rate Sheets'!B:F,3,FALSE)","v":150},{"$f":"VLOOKUP($D157,'C.1 - Rate Sheets'!B:F,4,FALSE)","v":0},{"$f":"VLOOKUP($D157,'C.1 - Rate Sheets'!B:F,5,FALSE)","v":0},null,null,null,null,null,null,null,null,null,null,null,null,null,null,16,16,16,16,16,16,16,null,null,null,null,null,null,null,null,null,null,null,null,null,null,null,null,null,null,null,null,null,null,null,null,null,null,null,null,null,null,null,null,null,null,null,null,null,null,null,null,null,null,null,null,null,null,null,null,null,null,null,null,null,null,null,null,null,null,null,null,null,null,null,null,null,null,null,null,null,null,null,null,null,null,null,null,null,null,null,null,null,null,null,null,null,null,null,null,null,null,null,null,null,null,null,null,null,null,null,null,null,null,null,null,null,null,null,null,null,null,null,null,null,null,null,null,null,null,null,null,null,null,null,null,null,null,null,null,null,null,null,null,null,null,null,null,null,null,null,null,null,null,null,null,null,null,null,null,112,null,null,112,0,16800,0,0,16800,16800,"Yes",0,0,0]
[null,140,null,"MOT CREW","Vendor No.04","Mot 52",1249,"2018-10-21","2018-10-27",{"$f":"IF(AND(H158>='A - Contractor Summary'!$C$36,I158<='A - Contractor Summary'!$C$42),\"Yes\",\"No\")","v":"Yes"},{"$f":"VLOOKUP($D158,'C.1 - Rate Sheets'!B:F,2,FALSE)","v":0},{"$f":"VLOOKUP($D158,'C.1 - Rate Sheets'!B:F,3,FALSE)","v":150},{"$f":"VLOOKUP($D158,'C.1 - Rate Sheets'!B:F,4,FALSE)","v":0},{"$f":"VLOOKUP($D158,'C.1 - Rate Sheets'!B:F,5,FALSE)","v":0},null,null,null,null,null,null,null,null,null,null,null,null,null,null,16,16,16,16,16,16,16,null,null,null,null,null,null,null,null,null,null,null,null,null,null,null,null,null,null,null,null,null,null,null,null,null,null,null,null,null,null,null,null,null,null,null,null,null,null,null,null,null,null,null,null,null,null,null,null,null,null,null,null,null,null,null,null,null,null,null,null,null,null,null,null,null,null,null,null,null,null,null,null,null,null,null,null,null,null,null,null,null,null,null,null,null,null,null,null,null,null,null,null,null,null,null,null,null,null,null,null,null,null,null,null,null,null,null,null,null,null,null,null,null,null,null,null,null,null,null,null,null,null,null,null,null,null,null,null,null,null,null,null,null,null,null,null,null,null,null,null,null,null,null,null,null,null,null,null,112,null,null,112,0,16800,0,0,16800,16800,"Yes",0,0,0]
[null,141,null,"CLEAR CREW","Vendor No.04","Clear 1",1249,"2018-10-21","2018-10-27",{"$f":"IF(AND(H159>='A - Contractor Summary'!$C$36,I159<='A - Contractor Summary'!$C$42),\"Yes\",\"No\")","v":"Yes"},{"$f":"VLOOKUP($D159,'C.1 - Rate Sheets'!B:F,2,FALSE)","v":0},{"$f":"VLOOKUP($D159,'C.1 - Rate Sheets'!B:F,3,FALSE)","v":200},{"$f":"VLOOKUP($D159,'C.1 - Rate Sheets'!B:F,4,FALSE)","v":0},{"$f":"VLOOKUP($D159,'C.1 - Rate Sheets'!B:F,5,FALSE)","v":0},null,null,null,null,null,null,null,null,null,null,null,null,null,null,16,16,16,16,16,16,16,null,null,null,null,null,null,null,null,null,null,null,null,null,null,null,null,null,null,null,null,null,null,null,null,null,null,null,null,null,null,null,null,null,null,null,null,null,null,null,null,null,null,null,null,null,null,null,null,null,null,null,null,null,null,null,null,null,null,null,null,null,null,null,null,null,null,null,null,null,null,null,null,null,null,null,null,null,null,null,null,null,null,null,null,null,null,null,null,null,null,null,null,null,null,null,null,null,null,null,null,null,null,null,null,null,null,null,null,null,null,null,null,null,null,null,null,null,null,null,null,null,null,null,null,null,null,null,null,null,null,null,null,null,null,null,null,null,null,null,null,null,null,null,null,null,null,null,null,112,null,null,112,0,22400,0,0,22400,22400,"Yes",0,0,0]
[null,142,null,"CLEAR CREW","Vendor No.04","Clear 2",1249,"2018-10-21","2018-10-27",{"$f":"IF(AND(H160>='A - Contractor Summary'!$C$36,I160<='A - Contractor Summary'!$C$42),\"Yes\",\"No\")","v":"Yes"},{"$f":"VLOOKUP($D160,'C.1 - Rate Sheets'!B:F,2,FALSE)","v":0},{"$f":"VLOOKUP($D160,'C.1 - Rate Sheets'!B:F,3,FALSE)","v":200},{"$f":"VLOOKUP($D160,'C.1 - Rate Sheets'!B:F,4,FALSE)","v":0},{"$f":"VLOOKUP($D160,'C.1 - Rate Sheets'!B:F,5,FALSE)","v":0},null,null,null,null,null,null,null,null,null,null,null,null,null,null,16,16,16,16,16,16,16,null,null,null,null,null,null,null,null,null,null,null,null,null,null,null,null,null,null,null,null,null,null,null,null,null,null,null,null,null,null,null,null,null,null,null,null,null,null,null,null,null,null,null,null,null,null,null,null,null,null,null,null,null,null,null,null,null,null,null,null,null,null,null,null,null,null,null,null,null,null,null,null,null,null,null,null,null,null,null,null,null,null,null,null,null,null,null,null,null,null,null,null,null,null,null,null,null,null,null,null,null,null,null,null,null,null,null,null,null,null,null,null,null,null,null,null,null,null,null,null,null,null,null,null,null,null,null,null,null,null,null,null,null,null,null,null,null,null,null,null,null,null,null,null,null,null,null,null,112,null,null,112,0,22400,0,0,22400,22400,"Yes",0,0,0]
[null,143,null,"CLEAR CREW","Vendor No.04","Clear 3",1249,"2018-10-21","2018-10-27",{"$f":"IF(AND(H161>='A - Contractor Summary'!$C$36,I161<='A - Contractor Summary'!$C$42),\"Yes\",\"No\")","v":"Yes"},{"$f":"VLOOKUP($D161,'C.1 - Rate Sheets'!B:F,2,FALSE)","v":0},{"$f":"VLOOKUP($D161,'C.1 - Rate Sheets'!B:F,3,FALSE)","v":200},{"$f":"VLOOKUP($D161,'C.1 - Rate Sheets'!B:F,4,FALSE)","v":0},{"$f":"VLOOKUP($D161,'C.1 - Rate Sheets'!B:F,5,FALSE)","v":0},null,null,null,null,null,null,null,null,null,null,null,null,null,null,16,16,16,16,16,16,16,null,null,null,null,null,null,null,null,null,null,null,null,null,null,null,null,null,null,null,null,null,null,null,null,null,null,null,null,null,null,null,null,null,null,null,null,null,null,null,null,null,null,null,null,null,null,null,null,null,null,null,null,null,null,null,null,null,null,null,null,null,null,null,null,null,null,null,null,null,null,null,null,null,null,null,null,null,null,null,null,null,null,null,null,null,null,null,null,null,null,null,null,null,null,null,null,null,null,null,null,null,null,null,null,null,null,null,null,null,null,null,null,null,null,null,null,null,null,null,null,null,null,null,null,null,null,null,null,null,null,null,null,null,null,null,null,null,null,null,null,null,null,null,null,null,null,null,null,112,null,null,112,0,22400,0,0,22400,22400,"Yes",0,0,0]
[null,144,null,"CLEAR CREW","Vendor No.04","Clear 4",1249,"2018-10-21","2018-10-27",{"$f":"IF(AND(H162>='A - Contractor Summary'!$C$36,I162<='A - Contractor Summary'!$C$42),\"Yes\",\"No\")","v":"Yes"},{"$f":"VLOOKUP($D162,'C.1 - Rate Sheets'!B:F,2,FALSE)","v":0},{"$f":"VLOOKUP($D162,'C.1 - Rate Sheets'!B:F,3,FALSE)","v":200},{"$f":"VLOOKUP($D162,'C.1 - Rate Sheets'!B:F,4,FALSE)","v":0},{"$f":"VLOOKUP($D162,'C.1 - Rate Sheets'!B:F,5,FALSE)","v":0},null,null,null,null,null,null,null,null,null,null,null,null,null,null,16,16,16,16,16,16,16,null,null,null,null,null,null,null,null,null,null,null,null,null,null,null,null,null,null,null,null,null,null,null,null,null,null,null,null,null,null,null,null,null,null,null,null,null,null,null,null,null,null,null,null,null,null,null,null,null,null,null,null,null,null,null,null,null,null,null,null,null,null,null,null,null,null,null,null,null,null,null,null,null,null,null,null,null,null,null,null,null,null,null,null,null,null,null,null,null,null,null,null,null,null,null,null,null,null,null,null,null,null,null,null,null,null,null,null,null,null,null,null,null,null,null,null,null,null,null,null,null,null,null,null,null,null,null,null,null,null,null,null,null,null,null,null,null,null,null,null,null,null,null,null,null,null,null,null,112,null,null,112,0,22400,0,0,22400,22400,"Yes",0,0,0]
[null,145,null,"CLEAR CREW","Vendor No.04","Clear 5",1249,"2018-10-21","2018-10-27",{"$f":"IF(AND(H163>='A - Contractor Summary'!$C$36,I163<='A - Contractor Summary'!$C$42),\"Yes\",\"No\")","v":"Yes"},{"$f":"VLOOKUP($D163,'C.1 - Rate Sheets'!B:F,2,FALSE)","v":0},{"$f":"VLOOKUP($D163,'C.1 - Rate Sheets'!B:F,3,FALSE)","v":200},{"$f":"VLOOKUP($D163,'C.1 - Rate Sheets'!B:F,4,FALSE)","v":0},{"$f":"VLOOKUP($D163,'C.1 - Rate Sheets'!B:F,5,FALSE)","v":0},null,null,null,null,null,null,null,null,null,null,null,null,null,null,16,16,16,16,16,16,16,null,null,null,null,null,null,null,null,null,null,null,null,null,null,null,null,null,null,null,null,null,null,null,null,null,null,null,null,null,null,null,null,null,null,null,null,null,null,null,null,null,null,null,null,null,null,null,null,null,null,null,null,null,null,null,null,null,null,null,null,null,null,null,null,null,null,null,null,null,null,null,null,null,null,null,null,null,null,null,null,null,null,null,null,null,null,null,null,null,null,null,null,null,null,null,null,null,null,null,null,null,null,null,null,null,null,null,null,null,null,null,null,null,null,null,null,null,null,null,null,null,null,null,null,null,null,null,null,null,null,null,null,null,null,null,null,null,null,null,null,null,null,null,null,null,null,null,null,112,null,null,112,0,22400,0,0,22400,22400,"Yes",0,0,0]
[null,146,null,"CLEAR CREW","Vendor No.04","Clear 6",1249,"2018-10-21","2018-10-27",{"$f":"IF(AND(H164>='A - Contractor Summary'!$C$36,I164<='A - Contractor Summary'!$C$42),\"Yes\",\"No\")","v":"Yes"},{"$f":"VLOOKUP($D164,'C.1 - Rate Sheets'!B:F,2,FALSE)","v":0},{"$f":"VLOOKUP($D164,'C.1 - Rate Sheets'!B:F,3,FALSE)","v":200},{"$f":"VLOOKUP($D164,'C.1 - Rate Sheets'!B:F,4,FALSE)","v":0},{"$f":"VLOOKUP($D164,'C.1 - Rate Sheets'!B:F,5,FALSE)","v":0},null,null,null,null,null,null,null,null,null,null,null,null,null,null,16,16,16,16,16,16,16,null,null,null,null,null,null,null,null,null,null,null,null,null,null,null,null,null,null,null,null,null,null,null,null,null,null,null,null,null,null,null,null,null,null,null,null,null,null,null,null,null,null,null,null,null,null,null,null,null,null,null,null,null,null,null,null,null,null,null,null,null,null,null,null,null,null,null,null,null,null,null,null,null,null,null,null,null,null,null,null,null,null,null,null,null,null,null,null,null,null,null,null,null,null,null,null,null,null,null,null,null,null,null,null,null,null,null,null,null,null,null,null,null,null,null,null,null,null,null,null,null,null,null,null,null,null,null,null,null,null,null,null,null,null,null,null,null,null,null,null,null,null,null,null,null,null,null,null,112,null,null,112,0,22400,0,0,22400,22400,"Yes",0,0,0]
[null,147,null,"CLEAR CREW","Vendor No.04","Clear 7",1249,"2018-10-21","2018-10-27",{"$f":"IF(AND(H165>='A - Contractor Summary'!$C$36,I165<='A - Contractor Summary'!$C$42),\"Yes\",\"No\")","v":"Yes"},{"$f":"VLOOKUP($D165,'C.1 - Rate Sheets'!B:F,2,FALSE)","v":0},{"$f":"VLOOKUP($D165,'C.1 - Rate Sheets'!B:F,3,FALSE)","v":200},{"$f":"VLOOKUP($D165,'C.1 - Rate Sheets'!B:F,4,FALSE)","v":0},{"$f":"VLOOKUP($D165,'C.1 - Rate Sheets'!B:F,5,FALSE)","v":0},null,null,null,null,null,null,null,null,null,null,null,null,null,null,16,16,16,16,16,16,16,null,null,null,null,null,null,null,null,null,null,null,null,null,null,null,null,null,null,null,null,null,null,null,null,null,null,null,null,null,null,null,null,null,null,null,null,null,null,null,null,null,null,null,null,null,null,null,null,null,null,null,null,null,null,null,null,null,null,null,null,null,null,null,null,null,null,null,null,null,null,null,null,null,null,null,null,null,null,null,null,null,null,null,null,null,null,null,null,null,null,null,null,null,null,null,null,null,null,null,null,null,null,null,null,null,null,null,null,null,null,null,null,null,null,null,null,null,null,null,null,null,null,null,null,null,null,null,null,null,null,null,null,null,null,null,null,null,null,null,null,null,null,null,null,null,null,null,null,112,null,null,112,0,22400,0,0,22400,22400,"Yes",0,0,0]
[null,148,null,"CLEAR CREW","Vendor No.04","Clear 8",1249,"2018-10-21","2018-10-27",{"$f":"IF(AND(H166>='A - Contractor Summary'!$C$36,I166<='A - Contractor Summary'!$C$42),\"Yes\",\"No\")","v":"Yes"},{"$f":"VLOOKUP($D166,'C.1 - Rate Sheets'!B:F,2,FALSE)","v":0},{"$f":"VLOOKUP($D166,'C.1 - Rate Sheets'!B:F,3,FALSE)","v":200},{"$f":"VLOOKUP($D166,'C.1 - Rate Sheets'!B:F,4,FALSE)","v":0},{"$f":"VLOOKUP($D166,'C.1 - Rate Sheets'!B:F,5,FALSE)","v":0},null,null,null,null,null,null,null,null,null,null,null,null,null,null,16,16,16,16,16,16,16,null,null,null,null,null,null,null,null,null,null,null,null,null,null,null,null,null,null,null,null,null,null,null,null,null,null,null,null,null,null,null,null,null,null,null,null,null,null,null,null,null,null,null,null,null,null,null,null,null,null,null,null,null,null,null,null,null,null,null,null,null,null,null,null,null,null,null,null,null,null,null,null,null,null,null,null,null,null,null,null,null,null,null,null,null,null,null,null,null,null,null,null,null,null,null,null,null,null,null,null,null,null,null,null,null,null,null,null,null,null,null,null,null,null,null,null,null,null,null,null,null,null,null,null,null,null,null,null,null,null,null,null,null,null,null,null,null,null,null,null,null,null,null,null,null,null,null,null,112,null,null,112,0,22400,0,0,22400,22400,"Yes",0,0,0]
[null,149,null,"CLEAR CREW","Vendor No.04","Clear 9",1249,"2018-10-21","2018-10-27",{"$f":"IF(AND(H167>='A - Contractor Summary'!$C$36,I167<='A - Contractor Summary'!$C$42),\"Yes\",\"No\")","v":"Yes"},{"$f":"VLOOKUP($D167,'C.1 - Rate Sheets'!B:F,2,FALSE)","v":0},{"$f":"VLOOKUP($D167,'C.1 - Rate Sheets'!B:F,3,FALSE)","v":200},{"$f":"VLOOKUP($D167,'C.1 - Rate Sheets'!B:F,4,FALSE)","v":0},{"$f":"VLOOKUP($D167,'C.1 - Rate Sheets'!B:F,5,FALSE)","v":0},null,null,null,null,null,null,null,null,null,null,null,null,null,null,16,16,16,16,16,16,16,null,null,null,null,null,null,null,null,null,null,null,null,null,null,null,null,null,null,null,null,null,null,null,null,null,null,null,null,null,null,null,null,null,null,null,null,null,null,null,null,null,null,null,null,null,null,null,null,null,null,null,null,null,null,null,null,null,null,null,null,null,null,null,null,null,null,null,null,null,null,null,null,null,null,null,null,null,null,null,null,null,null,null,null,null,null,null,null,null,null,null,null,null,null,null,null,null,null,null,null,null,null,null,null,null,null,null,null,null,null,null,null,null,null,null,null,null,null,null,null,null,null,null,null,null,null,null,null,null,null,null,null,null,null,null,null,null,null,null,null,null,null,null,null,null,null,null,null,112,null,null,112,0,22400,0,0,22400,22400,"Yes",0,0,0]
[null,150,null,"CLEAR CREW","Vendor No.04","Clear 10",1249,"2018-10-21","2018-10-27",{"$f":"IF(AND(H168>='A - Contractor Summary'!$C$36,I168<='A - Contractor Summary'!$C$42),\"Yes\",\"No\")","v":"Yes"},{"$f":"VLOOKUP($D168,'C.1 - Rate Sheets'!B:F,2,FALSE)","v":0},{"$f":"VLOOKUP($D168,'C.1 - Rate Sheets'!B:F,3,FALSE)","v":200},{"$f":"VLOOKUP($D168,'C.1 - Rate Sheets'!B:F,4,FALSE)","v":0},{"$f":"VLOOKUP($D168,'C.1 - Rate Sheets'!B:F,5,FALSE)","v":0},null,null,null,null,null,null,null,null,null,null,null,null,null,null,16,16,16,16,16,16,16,null,null,null,null,null,null,null,null,null,null,null,null,null,null,null,null,null,null,null,null,null,null,null,null,null,null,null,null,null,null,null,null,null,null,null,null,null,null,null,null,null,null,null,null,null,null,null,null,null,null,null,null,null,null,null,null,null,null,null,null,null,null,null,null,null,null,null,null,null,null,null,null,null,null,null,null,null,null,null,null,null,null,null,null,null,null,null,null,null,null,null,null,null,null,null,null,null,null,null,null,null,null,null,null,null,null,null,null,null,null,null,null,null,null,null,null,null,null,null,null,null,null,null,null,null,null,null,null,null,null,null,null,null,null,null,null,null,null,null,null,null,null,null,null,null,null,null,null,112,null,null,112,0,22400,0,0,22400,22400,"Yes",0,0,0]
[null,151,null,"CLEAR CREW","Vendor No.04","Clear 11",1249,"2018-10-21","2018-10-27",{"$f":"IF(AND(H169>='A - Contractor Summary'!$C$36,I169<='A - Contractor Summary'!$C$42),\"Yes\",\"No\")","v":"Yes"},{"$f":"VLOOKUP($D169,'C.1 - Rate Sheets'!B:F,2,FALSE)","v":0},{"$f":"VLOOKUP($D169,'C.1 - Rate Sheets'!B:F,3,FALSE)","v":200},{"$f":"VLOOKUP($D169,'C.1 - Rate Sheets'!B:F,4,FALSE)","v":0},{"$f":"VLOOKUP($D169,'C.1 - Rate Sheets'!B:F,5,FALSE)","v":0},null,null,null,null,null,null,null,null,null,null,null,null,null,null,16,16,16,16,16,16,16,null,null,null,null,null,null,null,null,null,null,null,null,null,null,null,null,null,null,null,null,null,null,null,null,null,null,null,null,null,null,null,null,null,null,null,null,null,null,null,null,null,null,null,null,null,null,null,null,null,null,null,null,null,null,null,null,null,null,null,null,null,null,null,null,null,null,null,null,null,null,null,null,null,null,null,null,null,null,null,null,null,null,null,null,null,null,null,null,null,null,null,null,null,null,null,null,null,null,null,null,null,null,null,null,null,null,null,null,null,null,null,null,null,null,null,null,null,null,null,null,null,null,null,null,null,null,null,null,null,null,null,null,null,null,null,null,null,null,null,null,null,null,null,null,null,null,null,null,112,null,null,112,0,22400,0,0,22400,22400,"Yes",0,0,0]
[null,152,null,"CLEAR CREW","Vendor No.04","Clear 12",1249,"2018-10-21","2018-10-27",{"$f":"IF(AND(H170>='A - Contractor Summary'!$C$36,I170<='A - Contractor Summary'!$C$42),\"Yes\",\"No\")","v":"Yes"},{"$f":"VLOOKUP($D170,'C.1 - Rate Sheets'!B:F,2,FALSE)","v":0},{"$f":"VLOOKUP($D170,'C.1 - Rate Sheets'!B:F,3,FALSE)","v":200},{"$f":"VLOOKUP($D170,'C.1 - Rate Sheets'!B:F,4,FALSE)","v":0},{"$f":"VLOOKUP($D170,'C.1 - Rate Sheets'!B:F,5,FALSE)","v":0},null,null,null,null,null,null,null,null,null,null,null,null,null,null,16,16,16,16,16,16,16,null,null,null,null,null,null,null,null,null,null,null,null,null,null,null,null,null,null,null,null,null,null,null,null,null,null,null,null,null,null,null,null,null,null,null,null,null,null,null,null,null,null,null,null,null,null,null,null,null,null,null,null,null,null,null,null,null,null,null,null,null,null,null,null,null,null,null,null,null,null,null,null,null,null,null,null,null,null,null,null,null,null,null,null,null,null,null,null,null,null,null,null,null,null,null,null,null,null,null,null,null,null,null,null,null,null,null,null,null,null,null,null,null,null,null,null,null,null,null,null,null,null,null,null,null,null,null,null,null,null,null,null,null,null,null,null,null,null,null,null,null,null,null,null,null,null,null,null,112,null,null,112,0,22400,0,0,22400,22400,"Yes",0,0,0]
[null,153,null,"CLEAR CREW","Vendor No.04","Clear 13",1249,{"$f":"INDEX($O$16:$BK$16,MATCH(TRUE,INDEX((O171:BK171>0),0),0))","v":"2018-10-21"},{"$f":"LOOKUP(2,1/(1-(O171:BK171<=0)),$O$16:$BK$16)","v":"2018-10-27"},{"$f":"IF(AND(H171>='A - Contractor Summary'!$C$36,I171<='A - Contractor Summary'!$C$42),\"Yes\",\"No\")","v":"Yes"},{"$f":"VLOOKUP($D171,'C.1 - Rate Sheets'!B:F,2,FALSE)","v":0},{"$f":"VLOOKUP($D171,'C.1 - Rate Sheets'!B:F,3,FALSE)","v":200},{"$f":"VLOOKUP($D171,'C.1 - Rate Sheets'!B:F,4,FALSE)","v":0},{"$f":"VLOOKUP($D171,'C.1 - Rate Sheets'!B:F,5,FALSE)","v":0},null,null,null,null,null,null,null,null,null,null,null,null,null,null,16,16,16,16,16,16,16,null,null,null,null,null,null,null,null,null,null,null,null,null,null,null,null,null,null,null,null,null,null,null,null,null,null,null,null,null,null,null,null,null,null,null,null,null,null,null,null,null,null,null,null,null,null,null,null,null,null,null,null,null,null,null,null,null,null,null,null,null,null,null,null,null,null,null,null,null,null,null,null,null,null,null,null,null,null,null,null,null,null,null,null,null,null,null,null,null,null,null,null,null,null,null,null,null,null,null,null,null,null,null,null,null,null,null,null,null,null,null,null,null,null,null,null,null,null,null,null,null,null,null,null,null,null,null,null,null,null,null,null,null,null,null,null,null,null,null,null,null,null,null,null,null,null,null,null,112,null,null,112,0,22400,0,0,22400,22400,"Yes",0,0,0]
[null,154,null,"CLEAR CREW","Vendor No.04","Clear 14",1249,"2018-10-21","2018-10-27",{"$f":"IF(AND(H172>='A - Contractor Summary'!$C$36,I172<='A - Contractor Summary'!$C$42),\"Yes\",\"No\")","v":"Yes"},{"$f":"VLOOKUP($D172,'C.1 - Rate Sheets'!B:F,2,FALSE)","v":0},{"$f":"VLOOKUP($D172,'C.1 - Rate Sheets'!B:F,3,FALSE)","v":200},{"$f":"VLOOKUP($D172,'C.1 - Rate Sheets'!B:F,4,FALSE)","v":0},{"$f":"VLOOKUP($D172,'C.1 - Rate Sheets'!B:F,5,FALSE)","v":0},null,null,null,null,null,null,null,null,null,null,null,null,null,null,16,16,16,16,16,16,16,null,null,null,null,null,null,null,null,null,null,null,null,null,null,null,null,null,null,null,null,null,null,null,null,null,null,null,null,null,null,null,null,null,null,null,null,null,null,null,null,null,null,null,null,null,null,null,null,null,null,null,null,null,null,null,null,null,null,null,null,null,null,null,null,null,null,null,null,null,null,null,null,null,null,null,null,null,null,null,null,null,null,null,null,null,null,null,null,null,null,null,null,null,null,null,null,null,null,null,null,null,null,null,null,null,null,null,null,null,null,null,null,null,null,null,null,null,null,null,null,null,null,null,null,null,null,null,null,null,null,null,null,null,null,null,null,null,null,null,null,null,null,null,null,null,null,null,null,112,null,null,112,0,22400,0,0,22400,22400,"Yes",0,0,0]
[null,155,null,"CLEAR CREW","Vendor No.04","Clear 15",1249,"2018-10-21","2018-10-27",{"$f":"IF(AND(H173>='A - Contractor Summary'!$C$36,I173<='A - Contractor Summary'!$C$42),\"Yes\",\"No\")","v":"Yes"},{"$f":"VLOOKUP($D173,'C.1 - Rate Sheets'!B:F,2,FALSE)","v":0},{"$f":"VLOOKUP($D173,'C.1 - Rate Sheets'!B:F,3,FALSE)","v":200},{"$f":"VLOOKUP($D173,'C.1 - Rate Sheets'!B:F,4,FALSE)","v":0},{"$f":"VLOOKUP($D173,'C.1 - Rate Sheets'!B:F,5,FALSE)","v":0},null,null,null,null,null,null,null,null,null,null,null,null,null,null,16,16,16,16,16,16,16,null,null,null,null,null,null,null,null,null,null,null,null,null,null,null,null,null,null,null,null,null,null,null,null,null,null,null,null,null,null,null,null,null,null,null,null,null,null,null,null,null,null,null,null,null,null,null,null,null,null,null,null,null,null,null,null,null,null,null,null,null,null,null,null,null,null,null,null,null,null,null,null,null,null,null,null,null,null,null,null,null,null,null,null,null,null,null,null,null,null,null,null,null,null,null,null,null,null,null,null,null,null,null,null,null,null,null,null,null,null,null,null,null,null,null,null,null,null,null,null,null,null,null,null,null,null,null,null,null,null,null,null,null,null,null,null,null,null,null,null,null,null,null,null,null,null,null,null,112,null,null,112,0,22400,0,0,22400,{"$f":"GJ173-GM173","v":22400},"Yes",0,0,0]
[null,156,null,"CLEAR CREW","Vendor No.04","Clear 16",1249,"2018-10-21","2018-10-27",{"$f":"IF(AND(H174>='A - Contractor Summary'!$C$36,I174<='A - Contractor Summary'!$C$42),\"Yes\",\"No\")","v":"Yes"},{"$f":"VLOOKUP($D174,'C.1 - Rate Sheets'!B:F,2,FALSE)","v":0},{"$f":"VLOOKUP($D174,'C.1 - Rate Sheets'!B:F,3,FALSE)","v":200},{"$f":"VLOOKUP($D174,'C.1 - Rate Sheets'!B:F,4,FALSE)","v":0},{"$f":"VLOOKUP($D174,'C.1 - Rate Sheets'!B:F,5,FALSE)","v":0},null,null,null,null,null,null,null,null,null,null,null,null,null,null,16,16,16,16,16,16,16,null,null,null,null,null,null,null,null,null,null,null,null,null,null,null,null,null,null,null,null,null,null,null,null,null,null,null,null,null,null,null,null,null,null,null,null,null,null,null,null,null,null,null,null,null,null,null,null,null,null,null,null,null,null,null,null,null,null,null,null,null,null,null,null,null,null,null,null,null,null,null,null,null,null,null,null,null,null,null,null,null,null,null,null,null,null,null,null,null,null,null,null,null,null,null,null,null,null,null,null,null,null,null,null,null,null,null,null,null,null,null,null,null,null,null,null,null,null,null,null,null,null,null,null,null,null,null,null,null,null,null,null,null,null,null,null,null,null,null,null,null,null,null,null,null,null,null,null,112,null,null,112,0,22400,0,0,22400,22400,"Yes",0,0,0]
[null,157,null,"CLEAR CREW","Vendor No.04","Clear 17",1249,"2018-10-21","2018-10-27",{"$f":"IF(AND(H175>='A - Contractor Summary'!$C$36,I175<='A - Contractor Summary'!$C$42),\"Yes\",\"No\")","v":"Yes"},{"$f":"VLOOKUP($D175,'C.1 - Rate Sheets'!B:F,2,FALSE)","v":0},{"$f":"VLOOKUP($D175,'C.1 - Rate Sheets'!B:F,3,FALSE)","v":200},{"$f":"VLOOKUP($D175,'C.1 - Rate Sheets'!B:F,4,FALSE)","v":0},{"$f":"VLOOKUP($D175,'C.1 - Rate Sheets'!B:F,5,FALSE)","v":0},null,null,null,null,null,null,null,null,null,null,null,null,null,null,16,16,16,16,16,16,16,null,null,null,null,null,null,null,null,null,null,null,null,null,null,null,null,null,null,null,null,null,null,null,null,null,null,null,null,null,null,null,null,null,null,null,null,null,null,null,null,null,null,null,null,null,null,null,null,null,null,null,null,null,null,null,null,null,null,null,null,null,null,null,null,null,null,null,null,null,null,null,null,null,null,null,null,null,null,null,null,null,null,null,null,null,null,null,null,null,null,null,null,null,null,null,null,null,null,null,null,null,null,null,null,null,null,null,null,null,null,null,null,null,null,null,null,null,null,null,null,null,null,null,null,null,null,null,null,null,null,null,null,null,null,null,null,null,null,null,null,null,null,null,null,null,null,null,null,112,null,null,112,0,22400,0,0,22400,22400,"Yes",0,0,0]
[null,158,null,"CLEAR CREW","Vendor No.04","Clear 18",1249,"2018-10-21","2018-10-27",{"$f":"IF(AND(H176>='A - Contractor Summary'!$C$36,I176<='A - Contractor Summary'!$C$42),\"Yes\",\"No\")","v":"Yes"},{"$f":"VLOOKUP($D176,'C.1 - Rate Sheets'!B:F,2,FALSE)","v":0},{"$f":"VLOOKUP($D176,'C.1 - Rate Sheets'!B:F,3,FALSE)","v":200},{"$f":"VLOOKUP($D176,'C.1 - Rate Sheets'!B:F,4,FALSE)","v":0},{"$f":"VLOOKUP($D176,'C.1 - Rate Sheets'!B:F,5,FALSE)","v":0},null,null,null,null,null,null,null,null,null,null,null,null,null,null,16,16,16,16,16,16,16,null,null,null,null,null,null,null,null,null,null,null,null,null,null,null,null,null,null,null,null,null,null,null,null,null,null,null,null,null,null,null,null,null,null,null,null,null,null,null,null,null,null,null,null,null,null,null,null,null,null,null,null,null,null,null,null,null,null,null,null,null,null,null,null,null,null,null,null,null,null,null,null,null,null,null,null,null,null,null,null,null,null,null,null,null,null,null,null,null,null,null,null,null,null,null,null,null,null,null,null,null,null,null,null,null,null,null,null,null,null,null,null,null,null,null,null,null,null,null,null,null,null,null,null,null,null,null,null,null,null,null,null,null,null,null,null,null,null,null,null,null,null,null,null,null,null,null,null,112,null,null,112,0,22400,0,0,22400,22400,"Yes",0,0,0]
[null,159,null,"CLEAR CREW","Vendor No.04","Clear 19",1249,"2018-10-21","2018-10-27",{"$f":"IF(AND(H177>='A - Contractor Summary'!$C$36,I177<='A - Contractor Summary'!$C$42),\"Yes\",\"No\")","v":"Yes"},{"$f":"VLOOKUP($D177,'C.1 - Rate Sheets'!B:F,2,FALSE)","v":0},{"$f":"VLOOKUP($D177,'C.1 - Rate Sheets'!B:F,3,FALSE)","v":200},{"$f":"VLOOKUP($D177,'C.1 - Rate Sheets'!B:F,4,FALSE)","v":0},{"$f":"VLOOKUP($D177,'C.1 - Rate Sheets'!B:F,5,FALSE)","v":0},null,null,null,null,null,null,null,null,null,null,null,null,null,null,16,16,16,16,16,16,16,null,null,null,null,null,null,null,null,null,null,null,null,null,null,null,null,null,null,null,null,null,null,null,null,null,null,null,null,null,null,null,null,null,null,null,null,null,null,null,null,null,null,null,null,null,null,null,null,null,null,null,null,null,null,null,null,null,null,null,null,null,null,null,null,null,null,null,null,null,null,null,null,null,null,null,null,null,null,null,null,null,null,null,null,null,null,null,null,null,null,null,null,null,null,null,null,null,null,null,null,null,null,null,null,null,null,null,null,null,null,null,null,null,null,null,null,null,null,null,null,null,null,null,null,null,null,null,null,null,null,null,null,null,null,null,null,null,null,null,null,null,null,null,null,null,null,null,null,112,null,null,112,0,22400,0,0,22400,22400,"Yes",0,0,0]
[null,160,null,"CLEAR CREW","Vendor No.04","Clear 20",1249,"2018-10-21","2018-10-27",{"$f":"IF(AND(H178>='A - Contractor Summary'!$C$36,I178<='A - Contractor Summary'!$C$42),\"Yes\",\"No\")","v":"Yes"},{"$f":"VLOOKUP($D178,'C.1 - Rate Sheets'!B:F,2,FALSE)","v":0},{"$f":"VLOOKUP($D178,'C.1 - Rate Sheets'!B:F,3,FALSE)","v":200},{"$f":"VLOOKUP($D178,'C.1 - Rate Sheets'!B:F,4,FALSE)","v":0},{"$f":"VLOOKUP($D178,'C.1 - Rate Sheets'!B:F,5,FALSE)","v":0},null,null,null,null,null,null,null,null,null,null,null,null,null,null,16,16,16,16,16,16,16,null,null,null,null,null,null,null,null,null,null,null,null,null,null,null,null,null,null,null,null,null,null,null,null,null,null,null,null,null,null,null,null,null,null,null,null,null,null,null,null,null,null,null,null,null,null,null,null,null,null,null,null,null,null,null,null,null,null,null,null,null,null,null,null,null,null,null,null,null,null,null,null,null,null,null,null,null,null,null,null,null,null,null,null,null,null,null,null,null,null,null,null,null,null,null,null,null,null,null,null,null,null,null,null,null,null,null,null,null,null,null,null,null,null,null,null,null,null,null,null,null,null,null,null,null,null,null,null,null,null,null,null,null,null,null,null,null,null,null,null,null,null,null,null,null,null,null,null,112,null,null,112,0,22400,0,0,22400,22400,"Yes",0,0,0]
[null,161,null,"CLEAR CREW","Vendor No.04","Clear 21",1249,"2018-10-21","2018-10-27",{"$f":"IF(AND(H179>='A - Contractor Summary'!$C$36,I179<='A - Contractor Summary'!$C$42),\"Yes\",\"No\")","v":"Yes"},{"$f":"VLOOKUP($D179,'C.1 - Rate Sheets'!B:F,2,FALSE)","v":0},{"$f":"VLOOKUP($D179,'C.1 - Rate Sheets'!B:F,3,FALSE)","v":200},{"$f":"VLOOKUP($D179,'C.1 - Rate Sheets'!B:F,4,FALSE)","v":0},{"$f":"VLOOKUP($D179,'C.1 - Rate Sheets'!B:F,5,FALSE)","v":0},null,null,null,null,null,null,null,null,null,null,null,null,null,null,16,16,16,16,16,16,16,null,null,null,null,null,null,null,null,null,null,null,null,null,null,null,null,null,null,null,null,null,null,null,null,null,null,null,null,null,null,null,null,null,null,null,null,null,null,null,null,null,null,null,null,null,null,null,null,null,null,null,null,null,null,null,null,null,null,null,null,null,null,null,null,null,null,null,null,null,null,null,null,null,null,null,null,null,null,null,null,null,null,null,null,null,null,null,null,null,null,null,null,null,null,null,null,null,null,null,null,null,null,null,null,null,null,null,null,null,null,null,null,null,null,null,null,null,null,null,null,null,null,null,null,null,null,null,null,null,null,null,null,null,null,null,null,null,null,null,null,null,null,null,null,null,null,null,null,112,null,null,112,0,22400,0,0,22400,22400,"Yes",0,0,0]
[null,162,null,"CLEAR CREW","Vendor No.04","Clear 22",1249,"2018-10-21","2018-10-27",{"$f":"IF(AND(H180>='A - Contractor Summary'!$C$36,I180<='A - Contractor Summary'!$C$42),\"Yes\",\"No\")","v":"Yes"},{"$f":"VLOOKUP($D180,'C.1 - Rate Sheets'!B:F,2,FALSE)","v":0},{"$f":"VLOOKUP($D180,'C.1 - Rate Sheets'!B:F,3,FALSE)","v":200},{"$f":"VLOOKUP($D180,'C.1 - Rate Sheets'!B:F,4,FALSE)","v":0},{"$f":"VLOOKUP($D180,'C.1 - Rate Sheets'!B:F,5,FALSE)","v":0},null,null,null,null,null,null,null,null,null,null,null,null,null,null,16,16,16,16,16,16,16,null,null,null,null,null,null,null,null,null,null,null,null,null,null,null,null,null,null,null,null,null,null,null,null,null,null,null,null,null,null,null,null,null,null,null,null,null,null,null,null,null,null,null,null,null,null,null,null,null,null,null,null,null,null,null,null,null,null,null,null,null,null,null,null,null,null,null,null,null,null,null,null,null,null,null,null,null,null,null,null,null,null,null,null,null,null,null,null,null,null,null,null,null,null,null,null,null,null,null,null,null,null,null,null,null,null,null,null,null,null,null,null,null,null,null,null,null,null,null,null,null,null,null,null,null,null,null,null,null,null,null,null,null,null,null,null,null,null,null,null,null,null,null,null,null,null,null,null,112,null,null,112,0,22400,0,0,22400,22400,"Yes",0,0,0]
[null,163,null,"CLEAR CREW","Vendor No.04","Clear 23",1249,"2018-10-21","2018-10-27",{"$f":"IF(AND(H181>='A - Contractor Summary'!$C$36,I181<='A - Contractor Summary'!$C$42),\"Yes\",\"No\")","v":"Yes"},{"$f":"VLOOKUP($D181,'C.1 - Rate Sheets'!B:F,2,FALSE)","v":0},{"$f":"VLOOKUP($D181,'C.1 - Rate Sheets'!B:F,3,FALSE)","v":200},{"$f":"VLOOKUP($D181,'C.1 - Rate Sheets'!B:F,4,FALSE)","v":0},{"$f":"VLOOKUP($D181,'C.1 - Rate Sheets'!B:F,5,FALSE)","v":0},null,null,null,null,null,null,null,null,null,null,null,null,null,null,16,16,16,16,16,16,16,null,null,null,null,null,null,null,null,null,null,null,null,null,null,null,null,null,null,null,null,null,null,null,null,null,null,null,null,null,null,null,null,null,null,null,null,null,null,null,null,null,null,null,null,null,null,null,null,null,null,null,null,null,null,null,null,null,null,null,null,null,null,null,null,null,null,null,null,null,null,null,null,null,null,null,null,null,null,null,null,null,null,null,null,null,null,null,null,null,null,null,null,null,null,null,null,null,null,null,null,null,null,null,null,null,null,null,null,null,null,null,null,null,null,null,null,null,null,null,null,null,null,null,null,null,null,null,null,null,null,null,null,null,null,null,null,null,null,null,null,null,null,null,null,null,null,null,null,112,null,null,112,0,22400,0,0,22400,22400,"Yes",0,0,0]
[null,164,null,"CLEAR CREW","Vendor No.04","Clear 24",1249,"2018-10-21","2018-10-27",{"$f":"IF(AND(H182>='A - Contractor Summary'!$C$36,I182<='A - Contractor Summary'!$C$42),\"Yes\",\"No\")","v":"Yes"},{"$f":"VLOOKUP($D182,'C.1 - Rate Sheets'!B:F,2,FALSE)","v":0},{"$f":"VLOOKUP($D182,'C.1 - Rate Sheets'!B:F,3,FALSE)","v":200},{"$f":"VLOOKUP($D182,'C.1 - Rate Sheets'!B:F,4,FALSE)","v":0},{"$f":"VLOOKUP($D182,'C.1 - Rate Sheets'!B:F,5,FALSE)","v":0},null,null,null,null,null,null,null,null,null,null,null,null,null,null,16,16,16,16,16,16,16,null,null,null,null,null,null,null,null,null,null,null,null,null,null,null,null,null,null,null,null,null,null,null,null,null,null,null,null,null,null,null,null,null,null,null,null,null,null,null,null,null,null,null,null,null,null,null,null,null,null,null,null,null,null,null,null,null,null,null,null,null,null,null,null,null,null,null,null,null,null,null,null,null,null,null,null,null,null,null,null,null,null,null,null,null,null,null,null,null,null,null,null,null,null,null,null,null,null,null,null,null,null,null,null,null,null,null,null,null,null,null,null,null,null,null,null,null,null,null,null,null,null,null,null,null,null,null,null,null,null,null,null,null,null,null,null,null,null,null,null,null,null,null,null,null,null,null,null,112,null,null,112,0,22400,0,0,22400,22400,"Yes",0,0,0]
[null,165,null,"CLEAR CREW","Vendor No.04","Clear 25",1249,"2018-10-21","2018-10-27",{"$f":"IF(AND(H183>='A - Contractor Summary'!$C$36,I183<='A - Contractor Summary'!$C$42),\"Yes\",\"No\")","v":"Yes"},{"$f":"VLOOKUP($D183,'C.1 - Rate Sheets'!B:F,2,FALSE)","v":0},{"$f":"VLOOKUP($D183,'C.1 - Rate Sheets'!B:F,3,FALSE)","v":200},{"$f":"VLOOKUP($D183,'C.1 - Rate Sheets'!B:F,4,FALSE)","v":0},{"$f":"VLOOKUP($D183,'C.1 - Rate Sheets'!B:F,5,FALSE)","v":0},null,null,null,null,null,null,null,null,null,null,null,null,null,null,16,16,16,16,16,16,16,null,null,null,null,null,null,null,null,null,null,null,null,null,null,null,null,null,null,null,null,null,null,null,null,null,null,null,null,null,null,null,null,null,null,null,null,null,null,null,null,null,null,null,null,null,null,null,null,null,null,null,null,null,null,null,null,null,null,null,null,null,null,null,null,null,null,null,null,null,null,null,null,null,null,null,null,null,null,null,null,null,null,null,null,null,null,null,null,null,null,null,null,null,null,null,null,null,null,null,null,null,null,null,null,null,null,null,null,null,null,null,null,null,null,null,null,null,null,null,null,null,null,null,null,null,null,null,null,null,null,null,null,null,null,null,null,null,null,null,null,null,null,null,null,null,null,null,null,112,null,null,112,0,22400,0,0,22400,22400,"Yes",0,0,0]
[null,166,null,"CLEAR CREW","Vendor No.04","Clear 26",1249,"2018-10-21","2018-10-27",{"$f":"IF(AND(H184>='A - Contractor Summary'!$C$36,I184<='A - Contractor Summary'!$C$42),\"Yes\",\"No\")","v":"Yes"},{"$f":"VLOOKUP($D184,'C.1 - Rate Sheets'!B:F,2,FALSE)","v":0},{"$f":"VLOOKUP($D184,'C.1 - Rate Sheets'!B:F,3,FALSE)","v":200},{"$f":"VLOOKUP($D184,'C.1 - Rate Sheets'!B:F,4,FALSE)","v":0},{"$f":"VLOOKUP($D184,'C.1 - Rate Sheets'!B:F,5,FALSE)","v":0},null,null,null,null,null,null,null,null,null,null,null,null,null,null,16,16,16,16,16,16,16,null,null,null,null,null,null,null,null,null,null,null,null,null,null,null,null,null,null,null,null,null,null,null,null,null,null,null,null,null,null,null,null,null,null,null,null,null,null,null,null,null,null,null,null,null,null,null,null,null,null,null,null,null,null,null,null,null,null,null,null,null,null,null,null,null,null,null,null,null,null,null,null,null,null,null,null,null,null,null,null,null,null,null,null,null,null,null,null,null,null,null,null,null,null,null,null,null,null,null,null,null,null,null,null,null,null,null,null,null,null,null,null,null,null,null,null,null,null,null,null,null,null,null,null,null,null,null,null,null,null,null,null,null,null,null,null,null,null,null,null,null,null,null,null,null,null,null,null,112,null,null,112,0,22400,0,0,22400,22400,"Yes",0,0,0]
[null,167,null,"CLEAR CREW","Vendor No.04","Clear 27",1249,"2018-10-21","2018-10-27",{"$f":"IF(AND(H185>='A - Contractor Summary'!$C$36,I185<='A - Contractor Summary'!$C$42),\"Yes\",\"No\")","v":"Yes"},{"$f":"VLOOKUP($D185,'C.1 - Rate Sheets'!B:F,2,FALSE)","v":0},{"$f":"VLOOKUP($D185,'C.1 - Rate Sheets'!B:F,3,FALSE)","v":200},{"$f":"VLOOKUP($D185,'C.1 - Rate Sheets'!B:F,4,FALSE)","v":0},{"$f":"VLOOKUP($D185,'C.1 - Rate Sheets'!B:F,5,FALSE)","v":0},null,null,null,null,null,null,null,null,null,null,null,null,null,null,16,16,16,16,16,16,16,null,null,null,null,null,null,null,null,null,null,null,null,null,null,null,null,null,null,null,null,null,null,null,null,null,null,null,null,null,null,null,null,null,null,null,null,null,null,null,null,null,null,null,null,null,null,null,null,null,null,null,null,null,null,null,null,null,null,null,null,null,null,null,null,null,null,null,null,null,null,null,null,null,null,null,null,null,null,null,null,null,null,null,null,null,null,null,null,null,null,null,null,null,null,null,null,null,null,null,null,null,null,null,null,null,null,null,null,null,null,null,null,null,null,null,null,null,null,null,null,null,null,null,null,null,null,null,null,null,null,null,null,null,null,null,null,null,null,null,null,null,null,null,null,null,null,null,null,112,null,null,112,0,22400,0,0,22400,22400,"Yes",0,0,0]
[null,168,null,"CLEAR CREW","Vendor No.04","Clear 28",1249,"2018-10-21","2018-10-27",{"$f":"IF(AND(H186>='A - Contractor Summary'!$C$36,I186<='A - Contractor Summary'!$C$42),\"Yes\",\"No\")","v":"Yes"},{"$f":"VLOOKUP($D186,'C.1 - Rate Sheets'!B:F,2,FALSE)","v":0},{"$f":"VLOOKUP($D186,'C.1 - Rate Sheets'!B:F,3,FALSE)","v":200},{"$f":"VLOOKUP($D186,'C.1 - Rate Sheets'!B:F,4,FALSE)","v":0},{"$f":"VLOOKUP($D186,'C.1 - Rate Sheets'!B:F,5,FALSE)","v":0},null,null,null,null,null,null,null,null,null,null,null,null,null,null,16,16,16,16,16,16,16,null,null,null,null,null,null,null,null,null,null,null,null,null,null,null,null,null,null,null,null,null,null,null,null,null,null,null,null,null,null,null,null,null,null,null,null,null,null,null,null,null,null,null,null,null,null,null,null,null,null,null,null,null,null,null,null,null,null,null,null,null,null,null,null,null,null,null,null,null,null,null,null,null,null,null,null,null,null,null,null,null,null,null,null,null,null,null,null,null,null,null,null,null,null,null,null,null,null,null,null,null,null,null,null,null,null,null,null,null,null,null,null,null,null,null,null,null,null,null,null,null,null,null,null,null,null,null,null,null,null,null,null,null,null,null,null,null,null,null,null,null,null,null,null,null,null,null,null,112,null,null,112,0,22400,0,0,22400,22400,"Yes",0,0,0]
[null,169,null,"CLEAR CREW","Vendor No.04","Clear 29",1249,"2018-10-21","2018-10-27",{"$f":"IF(AND(H187>='A - Contractor Summary'!$C$36,I187<='A - Contractor Summary'!$C$42),\"Yes\",\"No\")","v":"Yes"},{"$f":"VLOOKUP($D187,'C.1 - Rate Sheets'!B:F,2,FALSE)","v":0},{"$f":"VLOOKUP($D187,'C.1 - Rate Sheets'!B:F,3,FALSE)","v":200},{"$f":"VLOOKUP($D187,'C.1 - Rate Sheets'!B:F,4,FALSE)","v":0},{"$f":"VLOOKUP($D187,'C.1 - Rate Sheets'!B:F,5,FALSE)","v":0},null,null,null,null,null,null,null,null,null,null,null,null,null,null,16,16,16,16,16,16,16,null,null,null,null,null,null,null,null,null,null,null,null,null,null,null,null,null,null,null,null,null,null,null,null,null,null,null,null,null,null,null,null,null,null,null,null,null,null,null,null,null,null,null,null,null,null,null,null,null,null,null,null,null,null,null,null,null,null,null,null,null,null,null,null,null,null,null,null,null,null,null,null,null,null,null,null,null,null,null,null,null,null,null,null,null,null,null,null,null,null,null,null,null,null,null,null,null,null,null,null,null,null,null,null,null,null,null,null,null,null,null,null,null,null,null,null,null,null,null,null,null,null,null,null,null,null,null,null,null,null,null,null,null,null,null,null,null,null,null,null,null,null,null,null,null,null,null,null,112,null,null,112,0,22400,0,0,22400,22400,"Yes",0,0,0]
[null,170,null,"CLEAR CREW","Vendor No.04","Clear 30",1249,"2018-10-21","2018-10-27",{"$f":"IF(AND(H188>='A - Contractor Summary'!$C$36,I188<='A - Contractor Summary'!$C$42),\"Yes\",\"No\")","v":"Yes"},{"$f":"VLOOKUP($D188,'C.1 - Rate Sheets'!B:F,2,FALSE)","v":0},{"$f":"VLOOKUP($D188,'C.1 - Rate Sheets'!B:F,3,FALSE)","v":200},{"$f":"VLOOKUP($D188,'C.1 - Rate Sheets'!B:F,4,FALSE)","v":0},{"$f":"VLOOKUP($D188,'C.1 - Rate Sheets'!B:F,5,FALSE)","v":0},null,null,null,null,null,null,null,null,null,null,null,null,null,null,16,16,16,16,16,16,16,null,null,null,null,null,null,null,null,null,null,null,null,null,null,null,null,null,null,null,null,null,null,null,null,null,null,null,null,null,null,null,null,null,null,null,null,null,null,null,null,null,null,null,null,null,null,null,null,null,null,null,null,null,null,null,null,null,null,null,null,null,null,null,null,null,null,null,null,null,null,null,null,null,null,null,null,null,null,null,null,null,null,null,null,null,null,null,null,null,null,null,null,null,null,null,null,null,null,null,null,null,null,null,null,null,null,null,null,null,null,null,null,null,null,null,null,null,null,null,null,null,null,null,null,null,null,null,null,null,null,null,null,null,null,null,null,null,null,null,null,null,null,null,null,null,null,null,null,112,null,null,112,0,22400,0,0,22400,22400,"Yes",0,0,0]
[null,171,null,"EXCAVATION  CREW","Vendor No.04","Exc 1",1249,"2018-10-23","2018-10-27",{"$f":"IF(AND(H189>='A - Contractor Summary'!$C$36,I189<='A - Contractor Summary'!$C$42),\"Yes\",\"No\")","v":"Yes"},{"$f":"VLOOKUP($D189,'C.1 - Rate Sheets'!B:F,2,FALSE)","v":0},{"$f":"VLOOKUP($D189,'C.1 - Rate Sheets'!B:F,3,FALSE)","v":300},{"$f":"VLOOKUP($D189,'C.1 - Rate Sheets'!B:F,4,FALSE)","v":0},{"$f":"VLOOKUP($D189,'C.1 - Rate Sheets'!B:F,5,FALSE)","v":0},null,null,null,null,null,null,null,null,null,null,null,null,null,null,null,null,16,16,16,16,16,null,null,null,null,null,null,null,null,null,null,null,null,null,null,null,null,null,null,null,null,null,null,null,null,null,null,null,null,null,null,null,null,null,null,null,null,null,null,null,null,null,null,null,null,null,null,null,null,null,null,null,null,null,null,null,null,null,null,null,null,null,null,null,null,null,null,null,null,null,null,null,null,null,null,null,null,null,null,null,null,null,null,null,null,null,null,null,null,null,null,null,null,null,null,null,null,null,null,null,null,null,null,null,null,null,null,null,null,null,null,null,null,null,null,null,null,null,null,null,null,null,null,null,null,null,null,null,null,null,null,null,null,null,null,null,null,null,null,null,null,null,null,null,null,null,null,null,null,80,null,null,80,0,24000,0,0,24000,24000,"Yes",0,0,0]
[null,172,null,"EXCAVATION  CREW","Vendor No.04","Exc2",1249,"2018-10-23","2018-10-27",{"$f":"IF(AND(H190>='A - Contractor Summary'!$C$36,I190<='A - Contractor Summary'!$C$42),\"Yes\",\"No\")","v":"Yes"},{"$f":"VLOOKUP($D190,'C.1 - Rate Sheets'!B:F,2,FALSE)","v":0},{"$f":"VLOOKUP($D190,'C.1 - Rate Sheets'!B:F,3,FALSE)","v":300},{"$f":"VLOOKUP($D190,'C.1 - Rate Sheets'!B:F,4,FALSE)","v":0},{"$f":"VLOOKUP($D190,'C.1 - Rate Sheets'!B:F,5,FALSE)","v":0},null,null,null,null,null,null,null,null,null,null,null,null,null,null,null,null,16,16,16,16,16,null,null,null,null,null,null,null,null,null,null,null,null,null,null,null,null,null,null,null,null,null,null,null,null,null,null,null,null,null,null,null,null,null,null,null,null,null,null,null,null,null,null,null,null,null,null,null,null,null,null,null,null,null,null,null,null,null,null,null,null,null,null,null,null,null,null,null,null,null,null,null,null,null,null,null,null,null,null,null,null,null,null,null,null,null,null,null,null,null,null,null,null,null,null,null,null,null,null,null,null,null,null,null,null,null,null,null,null,null,null,null,null,null,null,null,null,null,null,null,null,null,null,null,null,null,null,null,null,null,null,null,null,null,null,null,null,null,null,null,null,null,null,null,null,null,null,null,null,80,null,null,80,0,24000,0,0,24000,24000,"Yes",0,0,0]
[null,173,null,"EXCAVATION  CREW","Vendor No.04","Exc 3",1249,"2018-10-23","2018-10-27",{"$f":"IF(AND(H191>='A - Contractor Summary'!$C$36,I191<='A - Contractor Summary'!$C$42),\"Yes\",\"No\")","v":"Yes"},{"$f":"VLOOKUP($D191,'C.1 - Rate Sheets'!B:F,2,FALSE)","v":0},{"$f":"VLOOKUP($D191,'C.1 - Rate Sheets'!B:F,3,FALSE)","v":300},{"$f":"VLOOKUP($D191,'C.1 - Rate Sheets'!B:F,4,FALSE)","v":0},{"$f":"VLOOKUP($D191,'C.1 - Rate Sheets'!B:F,5,FALSE)","v":0},null,null,null,null,null,null,null,null,null,null,null,null,null,null,null,null,16,16,16,16,16,null,null,null,null,null,null,null,null,null,null,null,null,null,null,null,null,null,null,null,null,null,null,null,null,null,null,null,null,null,null,null,null,null,null,null,null,null,null,null,null,null,null,null,null,null,null,null,null,null,null,null,null,null,null,null,null,null,null,null,null,null,null,null,null,null,null,null,null,null,null,null,null,null,null,null,null,null,null,null,null,null,null,null,null,null,null,null,null,null,null,null,null,null,null,null,null,null,null,null,null,null,null,null,null,null,null,null,null,null,null,null,null,null,null,null,null,null,null,null,null,null,null,null,null,null,null,null,null,null,null,null,null,null,null,null,null,null,null,null,null,null,null,null,null,null,null,null,null,80,null,null,80,0,24000,0,0,24000,24000,"Yes",0,0,0]
[null,174,null,"EXCAVATION  CREW","Vendor No.04","Exc 4",1249,"2018-10-23","2018-10-27",{"$f":"IF(AND(H192>='A - Contractor Summary'!$C$36,I192<='A - Contractor Summary'!$C$42),\"Yes\",\"No\")","v":"Yes"},{"$f":"VLOOKUP($D192,'C.1 - Rate Sheets'!B:F,2,FALSE)","v":0},{"$f":"VLOOKUP($D192,'C.1 - Rate Sheets'!B:F,3,FALSE)","v":300},{"$f":"VLOOKUP($D192,'C.1 - Rate Sheets'!B:F,4,FALSE)","v":0},{"$f":"VLOOKUP($D192,'C.1 - Rate Sheets'!B:F,5,FALSE)","v":0},null,null,null,null,null,null,null,null,null,null,null,null,null,null,null,null,16,16,16,16,16,null,null,null,null,null,null,null,null,null,null,null,null,null,null,null,null,null,null,null,null,null,null,null,null,null,null,null,null,null,null,null,null,null,null,null,null,null,null,null,null,null,null,null,null,null,null,null,null,null,null,null,null,null,null,null,null,null,null,null,null,null,null,null,null,null,null,null,null,null,null,null,null,null,null,null,null,null,null,null,null,null,null,null,null,null,null,null,null,null,null,null,null,null,null,null,null,null,null,null,null,null,null,null,null,null,null,null,null,null,null,null,null,null,null,null,null,null,null,null,null,null,null,null,null,null,null,null,null,null,null,null,null,null,null,null,null,null,null,null,null,null,null,null,null,null,null,null,null,80,null,null,80,0,24000,0,0,24000,24000,"Yes",0,0,0]
[null,175,null,"EXCAVATION  CREW","Vendor No.04","Exc 5",1249,"2018-10-23","2018-10-27",{"$f":"IF(AND(H193>='A - Contractor Summary'!$C$36,I193<='A - Contractor Summary'!$C$42),\"Yes\",\"No\")","v":"Yes"},{"$f":"VLOOKUP($D193,'C.1 - Rate Sheets'!B:F,2,FALSE)","v":0},{"$f":"VLOOKUP($D193,'C.1 - Rate Sheets'!B:F,3,FALSE)","v":300},{"$f":"VLOOKUP($D193,'C.1 - Rate Sheets'!B:F,4,FALSE)","v":0},{"$f":"VLOOKUP($D193,'C.1 - Rate Sheets'!B:F,5,FALSE)","v":0},null,null,null,null,null,null,null,null,null,null,null,null,null,null,null,null,16,16,16,16,16,null,null,null,null,null,null,null,null,null,null,null,null,null,null,null,null,null,null,null,null,null,null,null,null,null,null,null,null,null,null,null,null,null,null,null,null,null,null,null,null,null,null,null,null,null,null,null,null,null,null,null,null,null,null,null,null,null,null,null,null,null,null,null,null,null,null,null,null,null,null,null,null,null,null,null,null,null,null,null,null,null,null,null,null,null,null,null,null,null,null,null,null,null,null,null,null,null,null,null,null,null,null,null,null,null,null,null,null,null,null,null,null,null,null,null,null,null,null,null,null,null,null,null,null,null,null,null,null,null,null,null,null,null,null,null,null,null,null,null,null,null,null,null,null,null,null,null,null,80,null,null,80,0,24000,0,0,24000,24000,"Yes",0,0,0]
[null,176,null,"EXCAVATION  CREW","Vendor No.04","Exc 6",1249,"2018-10-23","2018-10-27",{"$f":"IF(AND(H194>='A - Contractor Summary'!$C$36,I194<='A - Contractor Summary'!$C$42),\"Yes\",\"No\")","v":"Yes"},{"$f":"VLOOKUP($D194,'C.1 - Rate Sheets'!B:F,2,FALSE)","v":0},{"$f":"VLOOKUP($D194,'C.1 - Rate Sheets'!B:F,3,FALSE)","v":300},{"$f":"VLOOKUP($D194,'C.1 - Rate Sheets'!B:F,4,FALSE)","v":0},{"$f":"VLOOKUP($D194,'C.1 - Rate Sheets'!B:F,5,FALSE)","v":0},null,null,null,null,null,null,null,null,null,null,null,null,null,null,null,null,16,16,16,16,16,null,null,null,null,null,null,null,null,null,null,null,null,null,null,null,null,null,null,null,null,null,null,null,null,null,null,null,null,null,null,null,null,null,null,null,null,null,null,null,null,null,null,null,null,null,null,null,null,null,null,null,null,null,null,null,null,null,null,null,null,null,null,null,null,null,null,null,null,null,null,null,null,null,null,null,null,null,null,null,null,null,null,null,null,null,null,null,null,null,null,null,null,null,null,null,null,null,null,null,null,null,null,null,null,null,null,null,null,null,null,null,null,null,null,null,null,null,null,null,null,null,null,null,null,null,null,null,null,null,null,null,null,null,null,null,null,null,null,null,null,null,null,null,null,null,null,null,null,80,null,null,80,0,24000,0,0,24000,24000,"Yes",0,0,0]
[null,177,null,"EXCAVATION  CREW","Vendor No.04","Exc 7",1249,"2018-10-23","2018-10-27",{"$f":"IF(AND(H195>='A - Contractor Summary'!$C$36,I195<='A - Contractor Summary'!$C$42),\"Yes\",\"No\")","v":"Yes"},{"$f":"VLOOKUP($D195,'C.1 - Rate Sheets'!B:F,2,FALSE)","v":0},{"$f":"VLOOKUP($D195,'C.1 - Rate Sheets'!B:F,3,FALSE)","v":300},{"$f":"VLOOKUP($D195,'C.1 - Rate Sheets'!B:F,4,FALSE)","v":0},{"$f":"VLOOKUP($D195,'C.1 - Rate Sheets'!B:F,5,FALSE)","v":0},null,null,null,null,null,null,null,null,null,null,null,null,null,null,null,null,16,16,16,16,16,null,null,null,null,null,null,null,null,null,null,null,null,null,null,null,null,null,null,null,null,null,null,null,null,null,null,null,null,null,null,null,null,null,null,null,null,null,null,null,null,null,null,null,null,null,null,null,null,null,null,null,null,null,null,null,null,null,null,null,null,null,null,null,null,null,null,null,null,null,null,null,null,null,null,null,null,null,null,null,null,null,null,null,null,null,null,null,null,null,null,null,null,null,null,null,null,null,null,null,null,null,null,null,null,null,null,null,null,null,null,null,null,null,null,null,null,null,null,null,null,null,null,null,null,null,null,null,null,null,null,null,null,null,null,null,null,null,null,null,null,null,null,null,null,null,null,null,null,80,null,null,80,0,24000,0,0,24000,24000,"Yes",0,0,0]
[null,178,null,"MOT CREW","Vendor No.04","Mot 1",1253,"2018-10-28","2018-11-03",{"$f":"IF(AND(H196>='A - Contractor Summary'!$C$36,I196<='A - Contractor Summary'!$C$42),\"Yes\",\"No\")","v":"Yes"},{"$f":"VLOOKUP($D196,'C.1 - Rate Sheets'!B:F,2,FALSE)","v":0},{"$f":"VLOOKUP($D196,'C.1 - Rate Sheets'!B:F,3,FALSE)","v":150},{"$f":"VLOOKUP($D196,'C.1 - Rate Sheets'!B:F,4,FALSE)","v":0},{"$f":"VLOOKUP($D196,'C.1 - Rate Sheets'!B:F,5,FALSE)","v":0},null,null,null,null,null,null,null,null,null,null,null,null,null,null,null,null,null,null,null,null,null,16,16,16,16,16,16,16,null,null,null,null,null,null,null,null,null,null,null,null,null,null,null,null,null,null,null,null,null,null,null,null,null,null,null,null,null,null,null,null,null,null,null,null,null,null,null,null,null,null,null,null,null,null,null,null,null,null,null,null,null,null,null,null,null,null,null,null,null,null,null,null,null,null,null,null,null,null,null,null,null,null,null,null,null,null,null,null,null,null,null,null,null,null,null,null,null,null,null,null,null,null,null,null,null,null,null,null,null,null,null,null,null,null,null,null,null,null,null,null,null,null,null,null,null,null,null,null,null,null,null,null,null,null,null,null,null,null,null,null,null,null,null,null,null,null,null,null,null,112,null,null,112,0,16800,0,0,16800,16800,"Yes",0,0,0]
[null,179,null,"MOT CREW","Vendor No.04","Mot 2",1253,"2018-10-28","2018-11-03",{"$f":"IF(AND(H197>='A - Contractor Summary'!$C$36,I197<='A - Contractor Summary'!$C$42),\"Yes\",\"No\")","v":"Yes"},{"$f":"VLOOKUP($D197,'C.1 - Rate Sheets'!B:F,2,FALSE)","v":0},{"$f":"VLOOKUP($D197,'C.1 - Rate Sheets'!B:F,3,FALSE)","v":150},{"$f":"VLOOKUP($D197,'C.1 - Rate Sheets'!B:F,4,FALSE)","v":0},{"$f":"VLOOKUP($D197,'C.1 - Rate Sheets'!B:F,5,FALSE)","v":0},null,null,null,null,null,null,null,null,null,null,null,null,null,null,null,null,null,null,null,null,null,16,16,16,16,16,16,16,null,null,null,null,null,null,null,null,null,null,null,null,null,null,null,null,null,null,null,null,null,null,null,null,null,null,null,null,null,null,null,null,null,null,null,null,null,null,null,null,null,null,null,null,null,null,null,null,null,null,null,null,null,null,null,null,null,null,null,null,null,null,null,null,null,null,null,null,null,null,null,null,null,null,null,null,null,null,null,null,null,null,null,null,null,null,null,null,null,null,null,null,null,null,null,null,null,null,null,null,null,null,null,null,null,null,null,null,null,null,null,null,null,null,null,null,null,null,null,null,null,null,null,null,null,null,null,null,null,null,null,null,null,null,null,null,null,null,null,null,null,112,null,null,112,0,16800,0,0,16800,16800,"Yes",0,0,0]
[null,180,null,"MOT CREW","Vendor No.04","Mot 3",1253,"2018-10-28","2018-11-03",{"$f":"IF(AND(H198>='A - Contractor Summary'!$C$36,I198<='A - Contractor Summary'!$C$42),\"Yes\",\"No\")","v":"Yes"},{"$f":"VLOOKUP($D198,'C.1 - Rate Sheets'!B:F,2,FALSE)","v":0},{"$f":"VLOOKUP($D198,'C.1 - Rate Sheets'!B:F,3,FALSE)","v":150},{"$f":"VLOOKUP($D198,'C.1 - Rate Sheets'!B:F,4,FALSE)","v":0},{"$f":"VLOOKUP($D198,'C.1 - Rate Sheets'!B:F,5,FALSE)","v":0},null,null,null,null,null,null,null,null,null,null,null,null,null,null,null,null,null,null,null,null,null,16,16,16,16,16,16,16,null,null,null,null,null,null,null,null,null,null,null,null,null,null,null,null,null,null,null,null,null,null,null,null,null,null,null,null,null,null,null,null,null,null,null,null,null,null,null,null,null,null,null,null,null,null,null,null,null,null,null,null,null,null,null,null,null,null,null,null,null,null,null,null,null,null,null,null,null,null,null,null,null,null,null,null,null,null,null,null,null,null,null,null,null,null,null,null,null,null,null,null,null,null,null,null,null,null,null,null,null,null,null,null,null,null,null,null,null,null,null,null,null,null,null,null,null,null,null,null,null,null,null,null,null,null,null,null,null,null,null,null,null,null,null,null,null,null,null,null,null,112,null,null,112,0,16800,0,0,16800,16800,"Yes",0,0,0]
[null,181,null,"MOT CREW","Vendor No.04","Mot 4",1253,"2018-10-28","2018-11-03",{"$f":"IF(AND(H199>='A - Contractor Summary'!$C$36,I199<='A - Contractor Summary'!$C$42),\"Yes\",\"No\")","v":"Yes"},{"$f":"VLOOKUP($D199,'C.1 - Rate Sheets'!B:F,2,FALSE)","v":0},{"$f":"VLOOKUP($D199,'C.1 - Rate Sheets'!B:F,3,FALSE)","v":150},{"$f":"VLOOKUP($D199,'C.1 - Rate Sheets'!B:F,4,FALSE)","v":0},{"$f":"VLOOKUP($D199,'C.1 - Rate Sheets'!B:F,5,FALSE)","v":0},null,null,null,null,null,null,null,null,null,null,null,null,null,null,null,null,null,null,null,null,null,16,16,16,16,16,16,16,null,null,null,null,null,null,null,null,null,null,null,null,null,null,null,null,null,null,null,null,null,null,null,null,null,null,null,null,null,null,null,null,null,null,null,null,null,null,null,null,null,null,null,null,null,null,null,null,null,null,null,null,null,null,null,null,null,null,null,null,null,null,null,null,null,null,null,null,null,null,null,null,null,null,null,null,null,null,null,null,null,null,null,null,null,null,null,null,null,null,null,null,null,null,null,null,null,null,null,null,null,null,null,null,null,null,null,null,null,null,null,null,null,null,null,null,null,null,null,null,null,null,null,null,null,null,null,null,null,null,null,null,null,null,null,null,null,null,null,null,null,112,null,null,112,0,16800,0,0,16800,16800,"Yes",0,0,0]
[null,182,null,"MOT CREW","Vendor No.04","Mot 5",1253,"2018-10-28","2018-11-03",{"$f":"IF(AND(H200>='A - Contractor Summary'!$C$36,I200<='A - Contractor Summary'!$C$42),\"Yes\",\"No\")","v":"Yes"},{"$f":"VLOOKUP($D200,'C.1 - Rate Sheets'!B:F,2,FALSE)","v":0},{"$f":"VLOOKUP($D200,'C.1 - Rate Sheets'!B:F,3,FALSE)","v":150},{"$f":"VLOOKUP($D200,'C.1 - Rate Sheets'!B:F,4,FALSE)","v":0},{"$f":"VLOOKUP($D200,'C.1 - Rate Sheets'!B:F,5,FALSE)","v":0},null,null,null,null,null,null,null,null,null,null,null,null,null,null,null,null,null,null,null,null,null,16,16,16,16,16,16,16,null,null,null,null,null,null,null,null,null,null,null,null,null,null,null,null,null,null,null,null,null,null,null,null,null,null,null,null,null,null,null,null,null,null,null,null,null,null,null,null,null,null,null,null,null,null,null,null,null,null,null,null,null,null,null,null,null,null,null,null,null,null,null,null,null,null,null,null,null,null,null,null,null,null,null,null,null,null,null,null,null,null,null,null,null,null,null,null,null,null,null,null,null,null,null,null,null,null,null,null,null,null,null,null,null,null,null,null,null,null,null,null,null,null,null,null,null,null,null,null,null,null,null,null,null,null,null,null,null,null,null,null,null,null,null,null,null,null,null,null,null,112,null,null,112,0,16800,0,0,16800,16800,"Yes",0,0,0]
[null,183,null,"MOT CREW","Vendor No.04","Mot 6",1253,"2018-10-28","2018-11-03",{"$f":"IF(AND(H201>='A - Contractor Summary'!$C$36,I201<='A - Contractor Summary'!$C$42),\"Yes\",\"No\")","v":"Yes"},{"$f":"VLOOKUP($D201,'C.1 - Rate Sheets'!B:F,2,FALSE)","v":0},{"$f":"VLOOKUP($D201,'C.1 - Rate Sheets'!B:F,3,FALSE)","v":150},{"$f":"VLOOKUP($D201,'C.1 - Rate Sheets'!B:F,4,FALSE)","v":0},{"$f":"VLOOKUP($D201,'C.1 - Rate Sheets'!B:F,5,FALSE)","v":0},null,null,null,null,null,null,null,null,null,null,null,null,null,null,null,null,null,null,null,null,null,16,16,16,16,16,16,16,null,null,null,null,null,null,null,null,null,null,null,null,null,null,null,null,null,null,null,null,null,null,null,null,null,null,null,null,null,null,null,null,null,null,null,null,null,null,null,null,null,null,null,null,null,null,null,null,null,null,null,null,null,null,null,null,null,null,null,null,null,null,null,null,null,null,null,null,null,null,null,null,null,null,null,null,null,null,null,null,null,null,null,null,null,null,null,null,null,null,null,null,null,null,null,null,null,null,null,null,null,null,null,null,null,null,null,null,null,null,null,null,null,null,null,null,null,null,null,null,null,null,null,null,null,null,null,null,null,null,null,null,null,null,null,null,null,null,null,null,null,112,null,null,112,0,16800,0,0,16800,16800,"Yes",0,0,0]
[null,184,null,"MOT CREW","Vendor No.04","Mot 7",1253,"2018-10-28","2018-11-03",{"$f":"IF(AND(H202>='A - Contractor Summary'!$C$36,I202<='A - Contractor Summary'!$C$42),\"Yes\",\"No\")","v":"Yes"},{"$f":"VLOOKUP($D202,'C.1 - Rate Sheets'!B:F,2,FALSE)","v":0},{"$f":"VLOOKUP($D202,'C.1 - Rate Sheets'!B:F,3,FALSE)","v":150},{"$f":"VLOOKUP($D202,'C.1 - Rate Sheets'!B:F,4,FALSE)","v":0},{"$f":"VLOOKUP($D202,'C.1 - Rate Sheets'!B:F,5,FALSE)","v":0},null,null,null,null,null,null,null,null,null,null,null,null,null,null,null,null,null,null,null,null,null,16,16,16,16,16,16,16,null,null,null,null,null,null,null,null,null,null,null,null,null,null,null,null,null,null,null,null,null,null,null,null,null,null,null,null,null,null,null,null,null,null,null,null,null,null,null,null,null,null,null,null,null,null,null,null,null,null,null,null,null,null,null,null,null,null,null,null,null,null,null,null,null,null,null,null,null,null,null,null,null,null,null,null,null,null,null,null,null,null,null,null,null,null,null,null,null,null,null,null,null,null,null,null,null,null,null,null,null,null,null,null,null,null,null,null,null,null,null,null,null,null,null,null,null,null,null,null,null,null,null,null,null,null,null,null,null,null,null,null,null,null,null,null,null,null,null,null,null,112,null,null,112,0,16800,0,0,16800,16800,"Yes",0,0,0]
[null,185,null,"MOT CREW","Vendor No.04","Mot 8",1253,"2018-10-28","2018-11-03",{"$f":"IF(AND(H203>='A - Contractor Summary'!$C$36,I203<='A - Contractor Summary'!$C$42),\"Yes\",\"No\")","v":"Yes"},{"$f":"VLOOKUP($D203,'C.1 - Rate Sheets'!B:F,2,FALSE)","v":0},{"$f":"VLOOKUP($D203,'C.1 - Rate Sheets'!B:F,3,FALSE)","v":150},{"$f":"VLOOKUP($D203,'C.1 - Rate Sheets'!B:F,4,FALSE)","v":0},{"$f":"VLOOKUP($D203,'C.1 - Rate Sheets'!B:F,5,FALSE)","v":0},null,null,null,null,null,null,null,null,null,null,null,null,null,null,null,null,null,null,null,null,null,16,16,16,16,16,16,16,null,null,null,null,null,null,null,null,null,null,null,null,null,null,null,null,null,null,null,null,null,null,null,null,null,null,null,null,null,null,null,null,null,null,null,null,null,null,null,null,null,null,null,null,null,null,null,null,null,null,null,null,null,null,null,null,null,null,null,null,null,null,null,null,null,null,null,null,null,null,null,null,null,null,null,null,null,null,null,null,null,null,null,null,null,null,null,null,null,null,null,null,null,null,null,null,null,null,null,null,null,null,null,null,null,null,null,null,null,null,null,null,null,null,null,null,null,null,null,null,null,null,null,null,null,null,null,null,null,null,null,null,null,null,null,null,null,null,null,null,null,112,null,null,112,0,16800,0,0,16800,16800,"Yes",0,0,0]
[null,186,null,"MOT CREW","Vendor No.04","Mot 9",1253,"2018-10-28","2018-11-03",{"$f":"IF(AND(H204>='A - Contractor Summary'!$C$36,I204<='A - Contractor Summary'!$C$42),\"Yes\",\"No\")","v":"Yes"},{"$f":"VLOOKUP($D204,'C.1 - Rate Sheets'!B:F,2,FALSE)","v":0},{"$f":"VLOOKUP($D204,'C.1 - Rate Sheets'!B:F,3,FALSE)","v":150},{"$f":"VLOOKUP($D204,'C.1 - Rate Sheets'!B:F,4,FALSE)","v":0},{"$f":"VLOOKUP($D204,'C.1 - Rate Sheets'!B:F,5,FALSE)","v":0},null,null,null,null,null,null,null,null,null,null,null,null,null,null,null,null,null,null,null,null,null,16,16,16,16,16,16,16,null,null,null,null,null,null,null,null,null,null,null,null,null,null,null,null,null,null,null,null,null,null,null,null,null,null,null,null,null,null,null,null,null,null,null,null,null,null,null,null,null,null,null,null,null,null,null,null,null,null,null,null,null,null,null,null,null,null,null,null,null,null,null,null,null,null,null,null,null,null,null,null,null,null,null,null,null,null,null,null,null,null,null,null,null,null,null,null,null,null,null,null,null,null,null,null,null,null,null,null,null,null,null,null,null,null,null,null,null,null,null,null,null,null,null,null,null,null,null,null,null,null,null,null,null,null,null,null,null,null,null,null,null,null,null,null,null,null,null,null,null,112,null,null,112,0,16800,0,0,16800,16800,"Yes",0,0,0]
[null,187,null,"MOT CREW","Vendor No.04","Mot 10",1253,"2018-10-28","2018-11-03",{"$f":"IF(AND(H205>='A - Contractor Summary'!$C$36,I205<='A - Contractor Summary'!$C$42),\"Yes\",\"No\")","v":"Yes"},{"$f":"VLOOKUP($D205,'C.1 - Rate Sheets'!B:F,2,FALSE)","v":0},{"$f":"VLOOKUP($D205,'C.1 - Rate Sheets'!B:F,3,FALSE)","v":150},{"$f":"VLOOKUP($D205,'C.1 - Rate Sheets'!B:F,4,FALSE)","v":0},{"$f":"VLOOKUP($D205,'C.1 - Rate Sheets'!B:F,5,FALSE)","v":0},null,null,null,null,null,null,null,null,null,null,null,null,null,null,null,null,null,null,null,null,null,16,16,16,16,16,16,16,null,null,null,null,null,null,null,null,null,null,null,null,null,null,null,null,null,null,null,null,null,null,null,null,null,null,null,null,null,null,null,null,null,null,null,null,null,null,null,null,null,null,null,null,null,null,null,null,null,null,null,null,null,null,null,null,null,null,null,null,null,null,null,null,null,null,null,null,null,null,null,null,null,null,null,null,null,null,null,null,null,null,null,null,null,null,null,null,null,null,null,null,null,null,null,null,null,null,null,null,null,null,null,null,null,null,null,null,null,null,null,null,null,null,null,null,null,null,null,null,null,null,null,null,null,null,null,null,null,null,null,null,null,null,null,null,null,null,null,null,null,112,null,null,112,0,16800,0,0,16800,16800,"Yes",0,0,0]
[null,188,null,"MOT CREW","Vendor No.04","Mot 11",1253,"2018-10-28","2018-11-03",{"$f":"IF(AND(H206>='A - Contractor Summary'!$C$36,I206<='A - Contractor Summary'!$C$42),\"Yes\",\"No\")","v":"Yes"},{"$f":"VLOOKUP($D206,'C.1 - Rate Sheets'!B:F,2,FALSE)","v":0},{"$f":"VLOOKUP($D206,'C.1 - Rate Sheets'!B:F,3,FALSE)","v":150},{"$f":"VLOOKUP($D206,'C.1 - Rate Sheets'!B:F,4,FALSE)","v":0},{"$f":"VLOOKUP($D206,'C.1 - Rate Sheets'!B:F,5,FALSE)","v":0},null,null,null,null,null,null,null,null,null,null,null,null,null,null,null,null,null,null,null,null,null,16,16,16,16,16,16,16,null,null,null,null,null,null,null,null,null,null,null,null,null,null,null,null,null,null,null,null,null,null,null,null,null,null,null,null,null,null,null,null,null,null,null,null,null,null,null,null,null,null,null,null,null,null,null,null,null,null,null,null,null,null,null,null,null,null,null,null,null,null,null,null,null,null,null,null,null,null,null,null,null,null,null,null,null,null,null,null,null,null,null,null,null,null,null,null,null,null,null,null,null,null,null,null,null,null,null,null,null,null,null,null,null,null,null,null,null,null,null,null,null,null,null,null,null,null,null,null,null,null,null,null,null,null,null,null,null,null,null,null,null,null,null,null,null,null,null,null,null,112,null,null,112,0,16800,0,0,16800,16800,"Yes",0,0,0]
[null,189,null,"MOT CREW","Vendor No.04","Mot 12",1253,"2018-10-28","2018-11-03",{"$f":"IF(AND(H207>='A - Contractor Summary'!$C$36,I207<='A - Contractor Summary'!$C$42),\"Yes\",\"No\")","v":"Yes"},{"$f":"VLOOKUP($D207,'C.1 - Rate Sheets'!B:F,2,FALSE)","v":0},{"$f":"VLOOKUP($D207,'C.1 - Rate Sheets'!B:F,3,FALSE)","v":150},{"$f":"VLOOKUP($D207,'C.1 - Rate Sheets'!B:F,4,FALSE)","v":0},{"$f":"VLOOKUP($D207,'C.1 - Rate Sheets'!B:F,5,FALSE)","v":0},null,null,null,null,null,null,null,null,null,null,null,null,null,null,null,null,null,null,null,null,null,16,16,16,16,16,16,16,null,null,null,null,null,null,null,null,null,null,null,null,null,null,null,null,null,null,null,null,null,null,null,null,null,null,null,null,null,null,null,null,null,null,null,null,null,null,null,null,null,null,null,null,null,null,null,null,null,null,null,null,null,null,null,null,null,null,null,null,null,null,null,null,null,null,null,null,null,null,null,null,null,null,null,null,null,null,null,null,null,null,null,null,null,null,null,null,null,null,null,null,null,null,null,null,null,null,null,null,null,null,null,null,null,null,null,null,null,null,null,null,null,null,null,null,null,null,null,null,null,null,null,null,null,null,null,null,null,null,null,null,null,null,null,null,null,null,null,null,null,112,null,null,112,0,16800,0,0,16800,16800,"Yes",0,0,0]
[null,190,null,"MOT CREW","Vendor No.04","Mot 13",1253,"2018-10-28","2018-11-03",{"$f":"IF(AND(H208>='A - Contractor Summary'!$C$36,I208<='A - Contractor Summary'!$C$42),\"Yes\",\"No\")","v":"Yes"},{"$f":"VLOOKUP($D208,'C.1 - Rate Sheets'!B:F,2,FALSE)","v":0},{"$f":"VLOOKUP($D208,'C.1 - Rate Sheets'!B:F,3,FALSE)","v":150},{"$f":"VLOOKUP($D208,'C.1 - Rate Sheets'!B:F,4,FALSE)","v":0},{"$f":"VLOOKUP($D208,'C.1 - Rate Sheets'!B:F,5,FALSE)","v":0},null,null,null,null,null,null,null,null,null,null,null,null,null,null,null,null,null,null,null,null,null,16,16,16,16,16,16,16,null,null,null,null,null,null,null,null,null,null,null,null,null,null,null,null,null,null,null,null,null,null,null,null,null,null,null,null,null,null,null,null,null,null,null,null,null,null,null,null,null,null,null,null,null,null,null,null,null,null,null,null,null,null,null,null,null,null,null,null,null,null,null,null,null,null,null,null,null,null,null,null,null,null,null,null,null,null,null,null,null,null,null,null,null,null,null,null,null,null,null,null,null,null,null,null,null,null,null,null,null,null,null,null,null,null,null,null,null,null,null,null,null,null,null,null,null,null,null,null,null,null,null,null,null,null,null,null,null,null,null,null,null,null,null,null,null,null,null,null,null,112,null,null,112,0,16800,0,0,16800,16800,"Yes",0,0,0]
[null,191,null,"MOT CREW","Vendor No.04","Mot 14",1253,"2018-10-28","2018-11-03",{"$f":"IF(AND(H209>='A - Contractor Summary'!$C$36,I209<='A - Contractor Summary'!$C$42),\"Yes\",\"No\")","v":"Yes"},{"$f":"VLOOKUP($D209,'C.1 - Rate Sheets'!B:F,2,FALSE)","v":0},{"$f":"VLOOKUP($D209,'C.1 - Rate Sheets'!B:F,3,FALSE)","v":150},{"$f":"VLOOKUP($D209,'C.1 - Rate Sheets'!B:F,4,FALSE)","v":0},{"$f":"VLOOKUP($D209,'C.1 - Rate Sheets'!B:F,5,FALSE)","v":0},null,null,null,null,null,null,null,null,null,null,null,null,null,null,null,null,null,null,null,null,null,16,16,16,16,16,16,16,null,null,null,null,null,null,null,null,null,null,null,null,null,null,null,null,null,null,null,null,null,null,null,null,null,null,null,null,null,null,null,null,null,null,null,null,null,null,null,null,null,null,null,null,null,null,null,null,null,null,null,null,null,null,null,null,null,null,null,null,null,null,null,null,null,null,null,null,null,null,null,null,null,null,null,null,null,null,null,null,null,null,null,null,null,null,null,null,null,null,null,null,null,null,null,null,null,null,null,null,null,null,null,null,null,null,null,null,null,null,null,null,null,null,null,null,null,null,null,null,null,null,null,null,null,null,null,null,null,null,null,null,null,null,null,null,null,null,null,null,null,112,null,null,112,0,16800,0,0,16800,16800,"Yes",0,0,0]
[null,192,null,"MOT CREW","Vendor No.04","Mot 15",1253,"2018-10-28","2018-11-03",{"$f":"IF(AND(H210>='A - Contractor Summary'!$C$36,I210<='A - Contractor Summary'!$C$42),\"Yes\",\"No\")","v":"Yes"},{"$f":"VLOOKUP($D210,'C.1 - Rate Sheets'!B:F,2,FALSE)","v":0},{"$f":"VLOOKUP($D210,'C.1 - Rate Sheets'!B:F,3,FALSE)","v":150},{"$f":"VLOOKUP($D210,'C.1 - Rate Sheets'!B:F,4,FALSE)","v":0},{"$f":"VLOOKUP($D210,'C.1 - Rate Sheets'!B:F,5,FALSE)","v":0},null,null,null,null,null,null,null,null,null,null,null,null,null,null,null,null,null,null,null,null,null,16,16,16,16,16,16,16,null,null,null,null,null,null,null,null,null,null,null,null,null,null,null,null,null,null,null,null,null,null,null,null,null,null,null,null,null,null,null,null,null,null,null,null,null,null,null,null,null,null,null,null,null,null,null,null,null,null,null,null,null,null,null,null,null,null,null,null,null,null,null,null,null,null,null,null,null,null,null,null,null,null,null,null,null,null,null,null,null,null,null,null,null,null,null,null,null,null,null,null,null,null,null,null,null,null,null,null,null,null,null,null,null,null,null,null,null,null,null,null,null,null,null,null,null,null,null,null,null,null,null,null,null,null,null,null,null,null,null,null,null,null,null,null,null,null,null,null,null,112,null,null,112,0,16800,0,0,16800,16800,"Yes",0,0,0]
[null,193,null,"MOT CREW","Vendor No.04","Mot 16",1253,"2018-10-28","2018-11-03",{"$f":"IF(AND(H211>='A - Contractor Summary'!$C$36,I211<='A - Contractor Summary'!$C$42),\"Yes\",\"No\")","v":"Yes"},{"$f":"VLOOKUP($D211,'C.1 - Rate Sheets'!B:F,2,FALSE)","v":0},{"$f":"VLOOKUP($D211,'C.1 - Rate Sheets'!B:F,3,FALSE)","v":150},{"$f":"VLOOKUP($D211,'C.1 - Rate Sheets'!B:F,4,FALSE)","v":0},{"$f":"VLOOKUP($D211,'C.1 - Rate Sheets'!B:F,5,FALSE)","v":0},null,null,null,null,null,null,null,null,null,null,null,null,null,null,null,null,null,null,null,null,null,16,16,16,16,16,16,16,null,null,null,null,null,null,null,null,null,null,null,null,null,null,null,null,null,null,null,null,null,null,null,null,null,null,null,null,null,null,null,null,null,null,null,null,null,null,null,null,null,null,null,null,null,null,null,null,null,null,null,null,null,null,null,null,null,null,null,null,null,null,null,null,null,null,null,null,null,null,null,null,null,null,null,null,null,null,null,null,null,null,null,null,null,null,null,null,null,null,null,null,null,null,null,null,null,null,null,null,null,null,null,null,null,null,null,null,null,null,null,null,null,null,null,null,null,null,null,null,null,null,null,null,null,null,null,null,null,null,null,null,null,null,null,null,null,null,null,null,null,{"$f":"SUM(O211:FZ211)","v":112},null,null,112,{"$f":"GA211*K211","v":0},{"$f":"GB211*L211","v":16800},{"$f":"GC211*M211","v":0},{"$f":"GD211*N211","v":0},{"$f":"SUM(GF211:GI211)","v":16800},16800,"Yes",0,0,0]
[null,194,null,"MOT CREW","Vendor No.04","Mot 17",1253,"2018-10-28","2018-11-03",{"$f":"IF(AND(H212>='A - Contractor Summary'!$C$36,I212<='A - Contractor Summary'!$C$42),\"Yes\",\"No\")","v":"Yes"},{"$f":"VLOOKUP($D212,'C.1 - Rate Sheets'!B:F,2,FALSE)","v":0},{"$f":"VLOOKUP($D212,'C.1 - Rate Sheets'!B:F,3,FALSE)","v":150},{"$f":"VLOOKUP($D212,'C.1 - Rate Sheets'!B:F,4,FALSE)","v":0},{"$f":"VLOOKUP($D212,'C.1 - Rate Sheets'!B:F,5,FALSE)","v":0},null,null,null,null,null,null,null,null,null,null,null,null,null,null,null,null,null,null,null,null,null,16,16,16,16,16,16,16,null,null,null,null,null,null,null,null,null,null,null,null,null,null,null,null,null,null,null,null,null,null,null,null,null,null,null,null,null,null,null,null,null,null,null,null,null,null,null,null,null,null,null,null,null,null,null,null,null,null,null,null,null,null,null,null,null,null,null,null,null,null,null,null,null,null,null,null,null,null,null,null,null,null,null,null,null,null,null,null,null,null,null,null,null,null,null,null,null,null,null,null,null,null,null,null,null,null,null,null,null,null,null,null,null,null,null,null,null,null,null,null,null,null,null,null,null,null,null,null,null,null,null,null,null,null,null,null,null,null,null,null,null,null,null,null,null,null,null,null,null,112,null,null,112,0,16800,0,0,16800,16800,"Yes",0,0,0]
[null,195,null,"MOT CREW","Vendor No.04","Mot 18",1253,"2018-10-28","2018-11-03",{"$f":"IF(AND(H213>='A - Contractor Summary'!$C$36,I213<='A - Contractor Summary'!$C$42),\"Yes\",\"No\")","v":"Yes"},{"$f":"VLOOKUP($D213,'C.1 - Rate Sheets'!B:F,2,FALSE)","v":0},{"$f":"VLOOKUP($D213,'C.1 - Rate Sheets'!B:F,3,FALSE)","v":150},{"$f":"VLOOKUP($D213,'C.1 - Rate Sheets'!B:F,4,FALSE)","v":0},{"$f":"VLOOKUP($D213,'C.1 - Rate Sheets'!B:F,5,FALSE)","v":0},null,null,null,null,null,null,null,null,null,null,null,null,null,null,null,null,null,null,null,null,null,16,16,16,16,16,16,16,null,null,null,null,null,null,null,null,null,null,null,null,null,null,null,null,null,null,null,null,null,null,null,null,null,null,null,null,null,null,null,null,null,null,null,null,null,null,null,null,null,null,null,null,null,null,null,null,null,null,null,null,null,null,null,null,null,null,null,null,null,null,null,null,null,null,null,null,null,null,null,null,null,null,null,null,null,null,null,null,null,null,null,null,null,null,null,null,null,null,null,null,null,null,null,null,null,null,null,null,null,null,null,null,null,null,null,null,null,null,null,null,null,null,null,null,null,null,null,null,null,null,null,null,null,null,null,null,null,null,null,null,null,null,null,null,null,null,null,null,null,112,null,null,112,0,16800,0,0,16800,16800,"Yes",0,0,0]
[null,196,null,"MOT CREW","Vendor No.04","Mot 19",1253,"2018-10-28","2018-11-03",{"$f":"IF(AND(H214>='A - Contractor Summary'!$C$36,I214<='A - Contractor Summary'!$C$42),\"Yes\",\"No\")","v":"Yes"},{"$f":"VLOOKUP($D214,'C.1 - Rate Sheets'!B:F,2,FALSE)","v":0},{"$f":"VLOOKUP($D214,'C.1 - Rate Sheets'!B:F,3,FALSE)","v":150},{"$f":"VLOOKUP($D214,'C.1 - Rate Sheets'!B:F,4,FALSE)","v":0},{"$f":"VLOOKUP($D214,'C.1 - Rate Sheets'!B:F,5,FALSE)","v":0},null,null,null,null,null,null,null,null,null,null,null,null,null,null,null,null,null,null,null,null,null,16,16,16,16,16,16,16,null,null,null,null,null,null,null,null,null,null,null,null,null,null,null,null,null,null,null,null,null,null,null,null,null,null,null,null,null,null,null,null,null,null,null,null,null,null,null,null,null,null,null,null,null,null,null,null,null,null,null,null,null,null,null,null,null,null,null,null,null,null,null,null,null,null,null,null,null,null,null,null,null,null,null,null,null,null,null,null,null,null,null,null,null,null,null,null,null,null,null,null,null,null,null,null,null,null,null,null,null,null,null,null,null,null,null,null,null,null,null,null,null,null,null,null,null,null,null,null,null,null,null,null,null,null,null,null,null,null,null,null,null,null,null,null,null,null,null,null,null,112,null,null,112,0,16800,0,0,16800,16800,"Yes",0,0,0]
[null,197,null,"MOT CREW","Vendor No.04","Mot 20",1253,"2018-10-28","2018-11-01",{"$f":"IF(AND(H215>='A - Contractor Summary'!$C$36,I215<='A - Contractor Summary'!$C$42),\"Yes\",\"No\")","v":"Yes"},{"$f":"VLOOKUP($D215,'C.1 - Rate Sheets'!B:F,2,FALSE)","v":0},{"$f":"VLOOKUP($D215,'C.1 - Rate Sheets'!B:F,3,FALSE)","v":150},{"$f":"VLOOKUP($D215,'C.1 - Rate Sheets'!B:F,4,FALSE)","v":0},{"$f":"VLOOKUP($D215,'C.1 - Rate Sheets'!B:F,5,FALSE)","v":0},null,null,null,null,null,null,null,null,null,null,null,null,null,null,null,null,null,null,null,null,null,16,16,16,16,16,null,null,null,null,null,null,null,null,null,null,null,null,null,null,null,null,null,null,null,null,null,null,null,null,null,null,null,null,null,null,null,null,null,null,null,null,null,null,null,null,null,null,null,null,null,null,null,null,null,null,null,null,null,null,null,null,null,null,null,null,null,null,null,null,null,null,null,null,null,null,null,null,null,null,null,null,null,null,null,null,null,null,null,null,null,null,null,null,null,null,null,null,null,null,null,null,null,null,null,null,null,null,null,null,null,null,null,null,null,null,null,null,null,null,null,null,null,null,null,null,null,null,null,null,null,null,null,null,null,null,null,null,null,null,null,null,null,null,null,null,null,null,null,80,null,null,80,0,12000,0,0,12000,12000,"Yes",0,0,0]
[null,198,null,"MOT CREW","Vendor No.04","Mot 21",1253,"2018-10-28","2018-11-01",{"$f":"IF(AND(H216>='A - Contractor Summary'!$C$36,I216<='A - Contractor Summary'!$C$42),\"Yes\",\"No\")","v":"Yes"},{"$f":"VLOOKUP($D216,'C.1 - Rate Sheets'!B:F,2,FALSE)","v":0},{"$f":"VLOOKUP($D216,'C.1 - Rate Sheets'!B:F,3,FALSE)","v":150},{"$f":"VLOOKUP($D216,'C.1 - Rate Sheets'!B:F,4,FALSE)","v":0},{"$f":"VLOOKUP($D216,'C.1 - Rate Sheets'!B:F,5,FALSE)","v":0},null,null,null,null,null,null,null,null,null,null,null,null,null,null,null,null,null,null,null,null,null,16,16,16,16,16,null,null,null,null,null,null,null,null,null,null,null,null,null,null,null,null,null,null,null,null,null,null,null,null,null,null,null,null,null,null,null,null,null,null,null,null,null,null,null,null,null,null,null,null,null,null,null,null,null,null,null,null,null,null,null,null,null,null,null,null,null,null,null,null,null,null,null,null,null,null,null,null,null,null,null,null,null,null,null,null,null,null,null,null,null,null,null,null,null,null,null,null,null,null,null,null,null,null,null,null,null,null,null,null,null,null,null,null,null,null,null,null,null,null,null,null,null,null,null,null,null,null,null,null,null,null,null,null,null,null,null,null,null,null,null,null,null,null,null,null,null,null,null,80,null,null,80,0,12000,0,0,12000,12000,"Yes",0,0,0]
[null,199,null,"MOT CREW","Vendor No.04","Mot 22",1253,"2018-10-28","2018-11-01",{"$f":"IF(AND(H217>='A - Contractor Summary'!$C$36,I217<='A - Contractor Summary'!$C$42),\"Yes\",\"No\")","v":"Yes"},{"$f":"VLOOKUP($D217,'C.1 - Rate Sheets'!B:F,2,FALSE)","v":0},{"$f":"VLOOKUP($D217,'C.1 - Rate Sheets'!B:F,3,FALSE)","v":150},{"$f":"VLOOKUP($D217,'C.1 - Rate Sheets'!B:F,4,FALSE)","v":0},{"$f":"VLOOKUP($D217,'C.1 - Rate Sheets'!B:F,5,FALSE)","v":0},null,null,null,null,null,null,null,null,null,null,null,null,null,null,null,null,null,null,null,null,null,16,16,16,16,16,null,null,null,null,null,null,null,null,null,null,null,null,null,null,null,null,null,null,null,null,null,null,null,null,null,null,null,null,null,null,null,null,null,null,null,null,null,null,null,null,null,null,null,null,null,null,null,null,null,null,null,null,null,null,null,null,null,null,null,null,null,null,null,null,null,null,null,null,null,null,null,null,null,null,null,null,null,null,null,null,null,null,null,null,null,null,null,null,null,null,null,null,null,null,null,null,null,null,null,null,null,null,null,null,null,null,null,null,null,null,null,null,null,null,null,null,null,null,null,null,null,null,null,null,null,null,null,null,null,null,null,null,null,null,null,null,null,null,null,null,null,null,null,80,null,null,80,0,12000,0,0,12000,12000,"Yes",0,0,0]
[null,200,null,"MOT CREW","Vendor No.04","Mot 23",1253,"2018-10-28","2018-10-31",{"$f":"IF(AND(H218>='A - Contractor Summary'!$C$36,I218<='A - Contractor Summary'!$C$42),\"Yes\",\"No\")","v":"Yes"},{"$f":"VLOOKUP($D218,'C.1 - Rate Sheets'!B:F,2,FALSE)","v":0},{"$f":"VLOOKUP($D218,'C.1 - Rate Sheets'!B:F,3,FALSE)","v":150},{"$f":"VLOOKUP($D218,'C.1 - Rate Sheets'!B:F,4,FALSE)","v":0},{"$f":"VLOOKUP($D218,'C.1 - Rate Sheets'!B:F,5,FALSE)","v":0},null,null,null,null,null,null,null,null,null,null,null,null,null,null,null,null,null,null,null,null,null,16,16,16,16,null,null,null,null,null,null,null,null,null,null,null,null,null,null,null,null,null,null,null,null,null,null,null,null,null,null,null,null,null,null,null,null,null,null,null,null,null,null,null,null,null,null,null,null,null,null,null,null,null,null,null,null,null,null,null,null,null,null,null,null,null,null,null,null,null,null,null,null,null,null,null,null,null,null,null,null,null,null,null,null,null,null,null,null,null,null,null,null,null,null,null,null,null,null,null,null,null,null,null,null,null,null,null,null,null,null,null,null,null,null,null,null,null,null,null,null,null,null,null,null,null,null,null,null,null,null,null,null,null,null,null,null,null,null,null,null,null,null,null,null,null,null,null,null,64,null,null,64,0,9600,0,0,9600,9600,"Yes",0,0,0]
[null,201,null,"MOT CREW","Vendor No.04","Mot 24",1253,"2018-10-28","2018-10-31",{"$f":"IF(AND(H219>='A - Contractor Summary'!$C$36,I219<='A - Contractor Summary'!$C$42),\"Yes\",\"No\")","v":"Yes"},{"$f":"VLOOKUP($D219,'C.1 - Rate Sheets'!B:F,2,FALSE)","v":0},{"$f":"VLOOKUP($D219,'C.1 - Rate Sheets'!B:F,3,FALSE)","v":150},{"$f":"VLOOKUP($D219,'C.1 - Rate Sheets'!B:F,4,FALSE)","v":0},{"$f":"VLOOKUP($D219,'C.1 - Rate Sheets'!B:F,5,FALSE)","v":0},null,null,null,null,null,null,null,null,null,null,null,null,null,null,null,null,null,null,null,null,null,16,16,16,16,null,null,null,null,null,null,null,null,null,null,null,null,null,null,null,null,null,null,null,null,null,null,null,null,null,null,null,null,null,null,null,null,null,null,null,null,null,null,null,null,null,null,null,null,null,null,null,null,null,null,null,null,null,null,null,null,null,null,null,null,null,null,null,null,null,null,null,null,null,null,null,null,null,null,null,null,null,null,null,null,null,null,null,null,null,null,null,null,null,null,null,null,null,null,null,null,null,null,null,null,null,null,null,null,null,null,null,null,null,null,null,null,null,null,null,null,null,null,null,null,null,null,null,null,null,null,null,null,null,null,null,null,null,null,null,null,null,null,null,null,null,null,null,null,64,null,null,64,0,9600,0,0,9600,9600,"Yes",0,0,0]
[null,202,null,"MOT CREW","Vendor No.04","Mot 25",1253,"2018-10-28","2018-10-31",{"$f":"IF(AND(H220>='A - Contractor Summary'!$C$36,I220<='A - Contractor Summary'!$C$42),\"Yes\",\"No\")","v":"Yes"},{"$f":"VLOOKUP($D220,'C.1 - Rate Sheets'!B:F,2,FALSE)","v":0},{"$f":"VLOOKUP($D220,'C.1 - Rate Sheets'!B:F,3,FALSE)","v":150},{"$f":"VLOOKUP($D220,'C.1 - Rate Sheets'!B:F,4,FALSE)","v":0},{"$f":"VLOOKUP($D220,'C.1 - Rate Sheets'!B:F,5,FALSE)","v":0},null,null,null,null,null,null,null,null,null,null,null,null,null,null,null,null,null,null,null,null,null,16,16,16,16,null,null,null,null,null,null,null,null,null,null,null,null,null,null,null,null,null,null,null,null,null,null,null,null,null,null,null,null,null,null,null,null,null,null,null,null,null,null,null,null,null,null,null,null,null,null,null,null,null,null,null,null,null,null,null,null,null,null,null,null,null,null,null,null,null,null,null,null,null,null,null,null,null,null,null,null,null,null,null,null,null,null,null,null,null,null,null,null,null,null,null,null,null,null,null,null,null,null,null,null,null,null,null,null,null,null,null,null,null,null,null,null,null,null,null,null,null,null,null,null,null,null,null,null,null,null,null,null,null,null,null,null,null,null,null,null,null,null,null,null,null,null,null,null,64,null,null,64,0,9600,0,0,9600,9600,"Yes",0,0,0]
[null,203,null,"MOT CREW","Vendor No.04","Mot 26",1253,"2018-10-28","2018-10-31",{"$f":"IF(AND(H221>='A - Contractor Summary'!$C$36,I221<='A - Contractor Summary'!$C$42),\"Yes\",\"No\")","v":"Yes"},{"$f":"VLOOKUP($D221,'C.1 - Rate Sheets'!B:F,2,FALSE)","v":0},{"$f":"VLOOKUP($D221,'C.1 - Rate Sheets'!B:F,3,FALSE)","v":150},{"$f":"VLOOKUP($D221,'C.1 - Rate Sheets'!B:F,4,FALSE)","v":0},{"$f":"VLOOKUP($D221,'C.1 - Rate Sheets'!B:F,5,FALSE)","v":0},null,null,null,null,null,null,null,null,null,null,null,null,null,null,null,null,null,null,null,null,null,16,16,16,16,null,null,null,null,null,null,null,null,null,null,null,null,null,null,null,null,null,null,null,null,null,null,null,null,null,null,null,null,null,null,null,null,null,null,null,null,null,null,null,null,null,null,null,null,null,null,null,null,null,null,null,null,null,null,null,null,null,null,null,null,null,null,null,null,null,null,null,null,null,null,null,null,null,null,null,null,null,null,null,null,null,null,null,null,null,null,null,null,null,null,null,null,null,null,null,null,null,null,null,null,null,null,null,null,null,null,null,null,null,null,null,null,null,null,null,null,null,null,null,null,null,null,null,null,null,null,null,null,null,null,null,null,null,null,null,null,null,null,null,null,null,null,null,null,64,null,null,64,0,9600,0,0,9600,9600,"Yes",0,0,0]
[null,204,null,"MOT CREW","Vendor No.04","Mot 27",1253,"2018-10-28","2018-10-31",{"$f":"IF(AND(H222>='A - Contractor Summary'!$C$36,I222<='A - Contractor Summary'!$C$42),\"Yes\",\"No\")","v":"Yes"},{"$f":"VLOOKUP($D222,'C.1 - Rate Sheets'!B:F,2,FALSE)","v":0},{"$f":"VLOOKUP($D222,'C.1 - Rate Sheets'!B:F,3,FALSE)","v":150},{"$f":"VLOOKUP($D222,'C.1 - Rate Sheets'!B:F,4,FALSE)","v":0},{"$f":"VLOOKUP($D222,'C.1 - Rate Sheets'!B:F,5,FALSE)","v":0},null,null,null,null,null,null,null,null,null,null,null,null,null,null,null,null,null,null,null,null,null,16,16,16,16,null,null,null,null,null,null,null,null,null,null,null,null,null,null,null,null,null,null,null,null,null,null,null,null,null,null,null,null,null,null,null,null,null,null,null,null,null,null,null,null,null,null,null,null,null,null,null,null,null,null,null,null,null,null,null,null,null,null,null,null,null,null,null,null,null,null,null,null,null,null,null,null,null,null,null,null,null,null,null,null,null,null,null,null,null,null,null,null,null,null,null,null,null,null,null,null,null,null,null,null,null,null,null,null,null,null,null,null,null,null,null,null,null,null,null,null,null,null,null,null,null,null,null,null,null,null,null,null,null,null,null,null,null,null,null,null,null,null,null,null,null,null,null,null,64,null,null,64,0,9600,0,0,9600,9600,"Yes",0,0,0]
[null,205,null,"MOT CREW","Vendor No.04","Mot 28",1253,"2018-10-28","2018-10-31",{"$f":"IF(AND(H223>='A - Contractor Summary'!$C$36,I223<='A - Contractor Summary'!$C$42),\"Yes\",\"No\")","v":"Yes"},{"$f":"VLOOKUP($D223,'C.1 - Rate Sheets'!B:F,2,FALSE)","v":0},{"$f":"VLOOKUP($D223,'C.1 - Rate Sheets'!B:F,3,FALSE)","v":150},{"$f":"VLOOKUP($D223,'C.1 - Rate Sheets'!B:F,4,FALSE)","v":0},{"$f":"VLOOKUP($D223,'C.1 - Rate Sheets'!B:F,5,FALSE)","v":0},null,null,null,null,null,null,null,null,null,null,null,null,null,null,null,null,null,null,null,null,null,16,16,16,16,null,null,null,null,null,null,null,null,null,null,null,null,null,null,null,null,null,null,null,null,null,null,null,null,null,null,null,null,null,null,null,null,null,null,null,null,null,null,null,null,null,null,null,null,null,null,null,null,null,null,null,null,null,null,null,null,null,null,null,null,null,null,null,null,null,null,null,null,null,null,null,null,null,null,null,null,null,null,null,null,null,null,null,null,null,null,null,null,null,null,null,null,null,null,null,null,null,null,null,null,null,null,null,null,null,null,null,null,null,null,null,null,null,null,null,null,null,null,null,null,null,null,null,null,null,null,null,null,null,null,null,null,null,null,null,null,null,null,null,null,null,null,null,null,64,null,null,64,0,9600,0,0,9600,9600,"Yes",0,0,0]
[null,206,null,"MOT CREW","Vendor No.04","Mot 29",1253,"2018-10-28","2018-10-31",{"$f":"IF(AND(H224>='A - Contractor Summary'!$C$36,I224<='A - Contractor Summary'!$C$42),\"Yes\",\"No\")","v":"Yes"},{"$f":"VLOOKUP($D224,'C.1 - Rate Sheets'!B:F,2,FALSE)","v":0},{"$f":"VLOOKUP($D224,'C.1 - Rate Sheets'!B:F,3,FALSE)","v":150},{"$f":"VLOOKUP($D224,'C.1 - Rate Sheets'!B:F,4,FALSE)","v":0},{"$f":"VLOOKUP($D224,'C.1 - Rate Sheets'!B:F,5,FALSE)","v":0},null,null,null,null,null,null,null,null,null,null,null,null,null,null,null,null,null,null,null,null,null,16,16,16,16,null,null,null,null,null,null,null,null,null,null,null,null,null,null,null,null,null,null,null,null,null,null,null,null,null,null,null,null,null,null,null,null,null,null,null,null,null,null,null,null,null,null,null,null,null,null,null,null,null,null,null,null,null,null,null,null,null,null,null,null,null,null,null,null,null,null,null,null,null,null,null,null,null,null,null,null,null,null,null,null,null,null,null,null,null,null,null,null,null,null,null,null,null,null,null,null,null,null,null,null,null,null,null,null,null,null,null,null,null,null,null,null,null,null,null,null,null,null,null,null,null,null,null,null,null,null,null,null,null,null,null,null,null,null,null,null,null,null,null,null,null,null,null,null,64,null,null,64,0,9600,0,0,9600,9600,"Yes",0,0,0]
[null,207,null,"MOT CREW","Vendor No.04","Mot 30",1253,"2018-10-28","2018-10-31",{"$f":"IF(AND(H225>='A - Contractor Summary'!$C$36,I225<='A - Contractor Summary'!$C$42),\"Yes\",\"No\")","v":"Yes"},{"$f":"VLOOKUP($D225,'C.1 - Rate Sheets'!B:F,2,FALSE)","v":0},{"$f":"VLOOKUP($D225,'C.1 - Rate Sheets'!B:F,3,FALSE)","v":150},{"$f":"VLOOKUP($D225,'C.1 - Rate Sheets'!B:F,4,FALSE)","v":0},{"$f":"VLOOKUP($D225,'C.1 - Rate Sheets'!B:F,5,FALSE)","v":0},null,null,null,null,null,null,null,null,null,null,null,null,null,null,null,null,null,null,null,null,null,16,16,16,16,null,null,null,null,null,null,null,null,null,null,null,null,null,null,null,null,null,null,null,null,null,null,null,null,null,null,null,null,null,null,null,null,null,null,null,null,null,null,null,null,null,null,null,null,null,null,null,null,null,null,null,null,null,null,null,null,null,null,null,null,null,null,null,null,null,null,null,null,null,null,null,null,null,null,null,null,null,null,null,null,null,null,null,null,null,null,null,null,null,null,null,null,null,null,null,null,null,null,null,null,null,null,null,null,null,null,null,null,null,null,null,null,null,null,null,null,null,null,null,null,null,null,null,null,null,null,null,null,null,null,null,null,null,null,null,null,null,null,null,null,null,null,null,null,64,null,null,64,0,9600,0,0,9600,9600,"Yes",0,0,0]
[null,208,null,"MOT CREW","Vendor No.04","Mot 31",1253,"2018-10-28","2018-10-31",{"$f":"IF(AND(H226>='A - Contractor Summary'!$C$36,I226<='A - Contractor Summary'!$C$42),\"Yes\",\"No\")","v":"Yes"},{"$f":"VLOOKUP($D226,'C.1 - Rate Sheets'!B:F,2,FALSE)","v":0},{"$f":"VLOOKUP($D226,'C.1 - Rate Sheets'!B:F,3,FALSE)","v":150},{"$f":"VLOOKUP($D226,'C.1 - Rate Sheets'!B:F,4,FALSE)","v":0},{"$f":"VLOOKUP($D226,'C.1 - Rate Sheets'!B:F,5,FALSE)","v":0},null,null,null,null,null,null,null,null,null,null,null,null,null,null,null,null,null,null,null,null,null,16,16,16,16,null,null,null,null,null,null,null,null,null,null,null,null,null,null,null,null,null,null,null,null,null,null,null,null,null,null,null,null,null,null,null,null,null,null,null,null,null,null,null,null,null,null,null,null,null,null,null,null,null,null,null,null,null,null,null,null,null,null,null,null,null,null,null,null,null,null,null,null,null,null,null,null,null,null,null,null,null,null,null,null,null,null,null,null,null,null,null,null,null,null,null,null,null,null,null,null,null,null,null,null,null,null,null,null,null,null,null,null,null,null,null,null,null,null,null,null,null,null,null,null,null,null,null,null,null,null,null,null,null,null,null,null,null,null,null,null,null,null,null,null,null,null,null,null,64,null,null,64,0,9600,0,0,9600,9600,"Yes",0,0,0]
[null,209,null,"MOT CREW","Vendor No.04","Mot 32",1253,"2018-10-28","2018-10-31",{"$f":"IF(AND(H227>='A - Contractor Summary'!$C$36,I227<='A - Contractor Summary'!$C$42),\"Yes\",\"No\")","v":"Yes"},{"$f":"VLOOKUP($D227,'C.1 - Rate Sheets'!B:F,2,FALSE)","v":0},{"$f":"VLOOKUP($D227,'C.1 - Rate Sheets'!B:F,3,FALSE)","v":150},{"$f":"VLOOKUP($D227,'C.1 - Rate Sheets'!B:F,4,FALSE)","v":0},{"$f":"VLOOKUP($D227,'C.1 - Rate Sheets'!B:F,5,FALSE)","v":0},null,null,null,null,null,null,null,null,null,null,null,null,null,null,null,null,null,null,null,null,null,16,16,16,16,null,null,null,null,null,null,null,null,null,null,null,null,null,null,null,null,null,null,null,null,null,null,null,null,null,null,null,null,null,null,null,null,null,null,null,null,null,null,null,null,null,null,null,null,null,null,null,null,null,null,null,null,null,null,null,null,null,null,null,null,null,null,null,null,null,null,null,null,null,null,null,null,null,null,null,null,null,null,null,null,null,null,null,null,null,null,null,null,null,null,null,null,null,null,null,null,null,null,null,null,null,null,null,null,null,null,null,null,null,null,null,null,null,null,null,null,null,null,null,null,null,null,null,null,null,null,null,null,null,null,null,null,null,null,null,null,null,null,null,null,null,null,null,null,64,null,null,64,0,9600,0,0,9600,9600,"Yes",0,0,0]
[null,210,null,"MOT CREW","Vendor No.04","Mot 33",1253,"2018-10-28","2018-10-31",{"$f":"IF(AND(H228>='A - Contractor Summary'!$C$36,I228<='A - Contractor Summary'!$C$42),\"Yes\",\"No\")","v":"Yes"},{"$f":"VLOOKUP($D228,'C.1 - Rate Sheets'!B:F,2,FALSE)","v":0},{"$f":"VLOOKUP($D228,'C.1 - Rate Sheets'!B:F,3,FALSE)","v":150},{"$f":"VLOOKUP($D228,'C.1 - Rate Sheets'!B:F,4,FALSE)","v":0},{"$f":"VLOOKUP($D228,'C.1 - Rate Sheets'!B:F,5,FALSE)","v":0},null,null,null,null,null,null,null,null,null,null,null,null,null,null,null,null,null,null,null,null,null,16,16,16,16,null,null,null,null,null,null,null,null,null,null,null,null,null,null,null,null,null,null,null,null,null,null,null,null,null,null,null,null,null,null,null,null,null,null,null,null,null,null,null,null,null,null,null,null,null,null,null,null,null,null,null,null,null,null,null,null,null,null,null,null,null,null,null,null,null,null,null,null,null,null,null,null,null,null,null,null,null,null,null,null,null,null,null,null,null,null,null,null,null,null,null,null,null,null,null,null,null,null,null,null,null,null,null,null,null,null,null,null,null,null,null,null,null,null,null,null,null,null,null,null,null,null,null,null,null,null,null,null,null,null,null,null,null,null,null,null,null,null,null,null,null,null,null,null,64,null,null,64,0,9600,0,0,9600,9600,"Yes",0,0,0]
[null,211,null,"MOT CREW","Vendor No.04","Mot 34",1253,"2018-10-28","2018-10-31",{"$f":"IF(AND(H229>='A - Contractor Summary'!$C$36,I229<='A - Contractor Summary'!$C$42),\"Yes\",\"No\")","v":"Yes"},{"$f":"VLOOKUP($D229,'C.1 - Rate Sheets'!B:F,2,FALSE)","v":0},{"$f":"VLOOKUP($D229,'C.1 - Rate Sheets'!B:F,3,FALSE)","v":150},{"$f":"VLOOKUP($D229,'C.1 - Rate Sheets'!B:F,4,FALSE)","v":0},{"$f":"VLOOKUP($D229,'C.1 - Rate Sheets'!B:F,5,FALSE)","v":0},null,null,null,null,null,null,null,null,null,null,null,null,null,null,null,null,null,null,null,null,null,16,16,16,16,null,null,null,null,null,null,null,null,null,null,null,null,null,null,null,null,null,null,null,null,null,null,null,null,null,null,null,null,null,null,null,null,null,null,null,null,null,null,null,null,null,null,null,null,null,null,null,null,null,null,null,null,null,null,null,null,null,null,null,null,null,null,null,null,null,null,null,null,null,null,null,null,null,null,null,null,null,null,null,null,null,null,null,null,null,null,null,null,null,null,null,null,null,null,null,null,null,null,null,null,null,null,null,null,null,null,null,null,null,null,null,null,null,null,null,null,null,null,null,null,null,null,null,null,null,null,null,null,null,null,null,null,null,null,null,null,null,null,null,null,null,null,null,null,64,null,null,64,0,9600,0,0,9600,9600,"Yes",0,0,0]
[null,212,null,"MOT CREW","Vendor No.04","Mot 35",1253,"2018-10-28","2018-10-31",{"$f":"IF(AND(H230>='A - Contractor Summary'!$C$36,I230<='A - Contractor Summary'!$C$42),\"Yes\",\"No\")","v":"Yes"},{"$f":"VLOOKUP($D230,'C.1 - Rate Sheets'!B:F,2,FALSE)","v":0},{"$f":"VLOOKUP($D230,'C.1 - Rate Sheets'!B:F,3,FALSE)","v":150},{"$f":"VLOOKUP($D230,'C.1 - Rate Sheets'!B:F,4,FALSE)","v":0},{"$f":"VLOOKUP($D230,'C.1 - Rate Sheets'!B:F,5,FALSE)","v":0},null,null,null,null,null,null,null,null,null,null,null,null,null,null,null,null,null,null,null,null,null,16,16,16,16,null,null,null,null,null,null,null,null,null,null,null,null,null,null,null,null,null,null,null,null,null,null,null,null,null,null,null,null,null,null,null,null,null,null,null,null,null,null,null,null,null,null,null,null,null,null,null,null,null,null,null,null,null,null,null,null,null,null,null,null,null,null,null,null,null,null,null,null,null,null,null,null,null,null,null,null,null,null,null,null,null,null,null,null,null,null,null,null,null,null,null,null,null,null,null,null,null,null,null,null,null,null,null,null,null,null,null,null,null,null,null,null,null,null,null,null,null,null,null,null,null,null,null,null,null,null,null,null,null,null,null,null,null,null,null,null,null,null,null,null,null,null,null,null,64,null,null,64,0,9600,0,0,9600,9600,"Yes",0,0,0]
[null,213,null,"MOT CREW","Vendor No.04","Mot 36",1253,"2018-10-28","2018-10-31",{"$f":"IF(AND(H231>='A - Contractor Summary'!$C$36,I231<='A - Contractor Summary'!$C$42),\"Yes\",\"No\")","v":"Yes"},{"$f":"VLOOKUP($D231,'C.1 - Rate Sheets'!B:F,2,FALSE)","v":0},{"$f":"VLOOKUP($D231,'C.1 - Rate Sheets'!B:F,3,FALSE)","v":150},{"$f":"VLOOKUP($D231,'C.1 - Rate Sheets'!B:F,4,FALSE)","v":0},{"$f":"VLOOKUP($D231,'C.1 - Rate Sheets'!B:F,5,FALSE)","v":0},null,null,null,null,null,null,null,null,null,null,null,null,null,null,null,null,null,null,null,null,null,16,16,16,16,null,null,null,null,null,null,null,null,null,null,null,null,null,null,null,null,null,null,null,null,null,null,null,null,null,null,null,null,null,null,null,null,null,null,null,null,null,null,null,null,null,null,null,null,null,null,null,null,null,null,null,null,null,null,null,null,null,null,null,null,null,null,null,null,null,null,null,null,null,null,null,null,null,null,null,null,null,null,null,null,null,null,null,null,null,null,null,null,null,null,null,null,null,null,null,null,null,null,null,null,null,null,null,null,null,null,null,null,null,null,null,null,null,null,null,null,null,null,null,null,null,null,null,null,null,null,null,null,null,null,null,null,null,null,null,null,null,null,null,null,null,null,null,null,64,null,null,64,0,9600,0,0,9600,9600,"Yes",0,0,0]
[null,214,null,"MOT CREW","Vendor No.04","Mot 37",1253,"2018-10-28","2018-10-31",{"$f":"IF(AND(H232>='A - Contractor Summary'!$C$36,I232<='A - Contractor Summary'!$C$42),\"Yes\",\"No\")","v":"Yes"},{"$f":"VLOOKUP($D232,'C.1 - Rate Sheets'!B:F,2,FALSE)","v":0},{"$f":"VLOOKUP($D232,'C.1 - Rate Sheets'!B:F,3,FALSE)","v":150},{"$f":"VLOOKUP($D232,'C.1 - Rate Sheets'!B:F,4,FALSE)","v":0},{"$f":"VLOOKUP($D232,'C.1 - Rate Sheets'!B:F,5,FALSE)","v":0},null,null,null,null,null,null,null,null,null,null,null,null,null,null,null,null,null,null,null,null,null,16,16,16,16,null,null,null,null,null,null,null,null,null,null,null,null,null,null,null,null,null,null,null,null,null,null,null,null,null,null,null,null,null,null,null,null,null,null,null,null,null,null,null,null,null,null,null,null,null,null,null,null,null,null,null,null,null,null,null,null,null,null,null,null,null,null,null,null,null,null,null,null,null,null,null,null,null,null,null,null,null,null,null,null,null,null,null,null,null,null,null,null,null,null,null,null,null,null,null,null,null,null,null,null,null,null,null,null,null,null,null,null,null,null,null,null,null,null,null,null,null,null,null,null,null,null,null,null,null,null,null,null,null,null,null,null,null,null,null,null,null,null,null,null,null,null,null,null,64,null,null,64,0,9600,0,0,9600,9600,"Yes",0,0,0]
[null,215,null,"MOT CREW","Vendor No.04","Mot 38",1253,"2018-10-28","2018-10-31",{"$f":"IF(AND(H233>='A - Contractor Summary'!$C$36,I233<='A - Contractor Summary'!$C$42),\"Yes\",\"No\")","v":"Yes"},{"$f":"VLOOKUP($D233,'C.1 - Rate Sheets'!B:F,2,FALSE)","v":0},{"$f":"VLOOKUP($D233,'C.1 - Rate Sheets'!B:F,3,FALSE)","v":150},{"$f":"VLOOKUP($D233,'C.1 - Rate Sheets'!B:F,4,FALSE)","v":0},{"$f":"VLOOKUP($D233,'C.1 - Rate Sheets'!B:F,5,FALSE)","v":0},null,null,null,null,null,null,null,null,null,null,null,null,null,null,null,null,null,null,null,null,null,16,16,16,16,null,null,null,null,null,null,null,null,null,null,null,null,null,null,null,null,null,null,null,null,null,null,null,null,null,null,null,null,null,null,null,null,null,null,null,null,null,null,null,null,null,null,null,null,null,null,null,null,null,null,null,null,null,null,null,null,null,null,null,null,null,null,null,null,null,null,null,null,null,null,null,null,null,null,null,null,null,null,null,null,null,null,null,null,null,null,null,null,null,null,null,null,null,null,null,null,null,null,null,null,null,null,null,null,null,null,null,null,null,null,null,null,null,null,null,null,null,null,null,null,null,null,null,null,null,null,null,null,null,null,null,null,null,null,null,null,null,null,null,null,null,null,null,null,64,null,null,64,0,9600,0,0,9600,9600,"Yes",0,0,0]
[null,216,null,"MOT CREW","Vendor No.04","Mot 39",1253,"2018-10-28","2018-10-31",{"$f":"IF(AND(H234>='A - Contractor Summary'!$C$36,I234<='A - Contractor Summary'!$C$42),\"Yes\",\"No\")","v":"Yes"},{"$f":"VLOOKUP($D234,'C.1 - Rate Sheets'!B:F,2,FALSE)","v":0},{"$f":"VLOOKUP($D234,'C.1 - Rate Sheets'!B:F,3,FALSE)","v":150},{"$f":"VLOOKUP($D234,'C.1 - Rate Sheets'!B:F,4,FALSE)","v":0},{"$f":"VLOOKUP($D234,'C.1 - Rate Sheets'!B:F,5,FALSE)","v":0},null,null,null,null,null,null,null,null,null,null,null,null,null,null,null,null,null,null,null,null,null,16,16,16,16,null,null,null,null,null,null,null,null,null,null,null,null,null,null,null,null,null,null,null,null,null,null,null,null,null,null,null,null,null,null,null,null,null,null,null,null,null,null,null,null,null,null,null,null,null,null,null,null,null,null,null,null,null,null,null,null,null,null,null,null,null,null,null,null,null,null,null,null,null,null,null,null,null,null,null,null,null,null,null,null,null,null,null,null,null,null,null,null,null,null,null,null,null,null,null,null,null,null,null,null,null,null,null,null,null,null,null,null,null,null,null,null,null,null,null,null,null,null,null,null,null,null,null,null,null,null,null,null,null,null,null,null,null,null,null,null,null,null,null,null,null,null,null,null,64,null,null,64,0,9600,0,0,9600,9600,"Yes",0,0,0]
[null,217,null,"MOT CREW","Vendor No.04","Mot 40",1253,{"$f":"INDEX($O$16:$BK$16,MATCH(TRUE,INDEX((O235:BK235>0),0),0))","v":"2018-10-28"},{"$f":"LOOKUP(2,1/(1-(O235:BK235<=0)),$O$16:$BK$16)","v":"2018-10-31"},{"$f":"IF(AND(H235>='A - Contractor Summary'!$C$36,I235<='A - Contractor Summary'!$C$42),\"Yes\",\"No\")","v":"Yes"},{"$f":"VLOOKUP($D235,'C.1 - Rate Sheets'!B:F,2,FALSE)","v":0},{"$f":"VLOOKUP($D235,'C.1 - Rate Sheets'!B:F,3,FALSE)","v":150},{"$f":"VLOOKUP($D235,'C.1 - Rate Sheets'!B:F,4,FALSE)","v":0},{"$f":"VLOOKUP($D235,'C.1 - Rate Sheets'!B:F,5,FALSE)","v":0},null,null,null,null,null,null,null,null,null,null,null,null,null,null,null,null,null,null,null,null,null,16,16,16,16,null,null,null,null,null,null,null,null,null,null,null,null,null,null,null,null,null,null,null,null,null,null,null,null,null,null,null,null,null,null,null,null,null,null,null,null,null,null,null,null,null,null,null,null,null,null,null,null,null,null,null,null,null,null,null,null,null,null,null,null,null,null,null,null,null,null,null,null,null,null,null,null,null,null,null,null,null,null,null,null,null,null,null,null,null,null,null,null,null,null,null,null,null,null,null,null,null,null,null,null,null,null,null,null,null,null,null,null,null,null,null,null,null,null,null,null,null,null,null,null,null,null,null,null,null,null,null,null,null,null,null,null,null,null,null,null,null,null,null,null,null,null,null,null,64,null,null,64,0,9600,0,0,9600,9600,"Yes",0,0,0]
[null,218,null,"MOT CREW","Vendor No.04","Mot 41",1253,"2018-10-28","2018-10-31",{"$f":"IF(AND(H236>='A - Contractor Summary'!$C$36,I236<='A - Contractor Summary'!$C$42),\"Yes\",\"No\")","v":"Yes"},{"$f":"VLOOKUP($D236,'C.1 - Rate Sheets'!B:F,2,FALSE)","v":0},{"$f":"VLOOKUP($D236,'C.1 - Rate Sheets'!B:F,3,FALSE)","v":150},{"$f":"VLOOKUP($D236,'C.1 - Rate Sheets'!B:F,4,FALSE)","v":0},{"$f":"VLOOKUP($D236,'C.1 - Rate Sheets'!B:F,5,FALSE)","v":0},null,null,null,null,null,null,null,null,null,null,null,null,null,null,null,null,null,null,null,null,null,16,16,16,16,null,null,null,null,null,null,null,null,null,null,null,null,null,null,null,null,null,null,null,null,null,null,null,null,null,null,null,null,null,null,null,null,null,null,null,null,null,null,null,null,null,null,null,null,null,null,null,null,null,null,null,null,null,null,null,null,null,null,null,null,null,null,null,null,null,null,null,null,null,null,null,null,null,null,null,null,null,null,null,null,null,null,null,null,null,null,null,null,null,null,null,null,null,null,null,null,null,null,null,null,null,null,null,null,null,null,null,null,null,null,null,null,null,null,null,null,null,null,null,null,null,null,null,null,null,null,null,null,null,null,null,null,null,null,null,null,null,null,null,null,null,null,null,null,64,null,null,64,0,9600,0,0,9600,9600,"Yes",0,0,0]
[null,219,null,"MOT CREW","Vendor No.04","Mot 42",1253,"2018-10-28","2018-10-31",{"$f":"IF(AND(H237>='A - Contractor Summary'!$C$36,I237<='A - Contractor Summary'!$C$42),\"Yes\",\"No\")","v":"Yes"},{"$f":"VLOOKUP($D237,'C.1 - Rate Sheets'!B:F,2,FALSE)","v":0},{"$f":"VLOOKUP($D237,'C.1 - Rate Sheets'!B:F,3,FALSE)","v":150},{"$f":"VLOOKUP($D237,'C.1 - Rate Sheets'!B:F,4,FALSE)","v":0},{"$f":"VLOOKUP($D237,'C.1 - Rate Sheets'!B:F,5,FALSE)","v":0},null,null,null,null,null,null,null,null,null,null,null,null,null,null,null,null,null,null,null,null,null,16,16,16,16,null,null,null,null,null,null,null,null,null,null,null,null,null,null,null,null,null,null,null,null,null,null,null,null,null,null,null,null,null,null,null,null,null,null,null,null,null,null,null,null,null,null,null,null,null,null,null,null,null,null,null,null,null,null,null,null,null,null,null,null,null,null,null,null,null,null,null,null,null,null,null,null,null,null,null,null,null,null,null,null,null,null,null,null,null,null,null,null,null,null,null,null,null,null,null,null,null,null,null,null,null,null,null,null,null,null,null,null,null,null,null,null,null,null,null,null,null,null,null,null,null,null,null,null,null,null,null,null,null,null,null,null,null,null,null,null,null,null,null,null,null,null,null,null,64,null,null,64,0,9600,0,0,9600,{"$f":"GJ237-GM237","v":9600},"Yes",0,0,0]
[null,220,null,"MOT CREW","Vendor No.04","Mot 43",1253,"2018-10-28","2018-10-31",{"$f":"IF(AND(H238>='A - Contractor Summary'!$C$36,I238<='A - Contractor Summary'!$C$42),\"Yes\",\"No\")","v":"Yes"},{"$f":"VLOOKUP($D238,'C.1 - Rate Sheets'!B:F,2,FALSE)","v":0},{"$f":"VLOOKUP($D238,'C.1 - Rate Sheets'!B:F,3,FALSE)","v":150},{"$f":"VLOOKUP($D238,'C.1 - Rate Sheets'!B:F,4,FALSE)","v":0},{"$f":"VLOOKUP($D238,'C.1 - Rate Sheets'!B:F,5,FALSE)","v":0},null,null,null,null,null,null,null,null,null,null,null,null,null,null,null,null,null,null,null,null,null,16,16,16,16,null,null,null,null,null,null,null,null,null,null,null,null,null,null,null,null,null,null,null,null,null,null,null,null,null,null,null,null,null,null,null,null,null,null,null,null,null,null,null,null,null,null,null,null,null,null,null,null,null,null,null,null,null,null,null,null,null,null,null,null,null,null,null,null,null,null,null,null,null,null,null,null,null,null,null,null,null,null,null,null,null,null,null,null,null,null,null,null,null,null,null,null,null,null,null,null,null,null,null,null,null,null,null,null,null,null,null,null,null,null,null,null,null,null,null,null,null,null,null,null,null,null,null,null,null,null,null,null,null,null,null,null,null,null,null,null,null,null,null,null,null,null,null,null,64,null,null,64,0,9600,0,0,9600,9600,"Yes",0,0,0]
[null,221,null,"MOT CREW","Vendor No.04","Mot 44",1253,"2018-10-28","2018-10-31",{"$f":"IF(AND(H239>='A - Contractor Summary'!$C$36,I239<='A - Contractor Summary'!$C$42),\"Yes\",\"No\")","v":"Yes"},{"$f":"VLOOKUP($D239,'C.1 - Rate Sheets'!B:F,2,FALSE)","v":0},{"$f":"VLOOKUP($D239,'C.1 - Rate Sheets'!B:F,3,FALSE)","v":150},{"$f":"VLOOKUP($D239,'C.1 - Rate Sheets'!B:F,4,FALSE)","v":0},{"$f":"VLOOKUP($D239,'C.1 - Rate Sheets'!B:F,5,FALSE)","v":0},null,null,null,null,null,null,null,null,null,null,null,null,null,null,null,null,null,null,null,null,null,16,16,16,16,null,null,null,null,null,null,null,null,null,null,null,null,null,null,null,null,null,null,null,null,null,null,null,null,null,null,null,null,null,null,null,null,null,null,null,null,null,null,null,null,null,null,null,null,null,null,null,null,null,null,null,null,null,null,null,null,null,null,null,null,null,null,null,null,null,null,null,null,null,null,null,null,null,null,null,null,null,null,null,null,null,null,null,null,null,null,null,null,null,null,null,null,null,null,null,null,null,null,null,null,null,null,null,null,null,null,null,null,null,null,null,null,null,null,null,null,null,null,null,null,null,null,null,null,null,null,null,null,null,null,null,null,null,null,null,null,null,null,null,null,null,null,null,null,64,null,null,64,0,9600,0,0,9600,9600,"Yes",0,0,0]
[null,222,null,"MOT CREW","Vendor No.04","Mot 45",1253,"2018-10-28","2018-10-31",{"$f":"IF(AND(H240>='A - Contractor Summary'!$C$36,I240<='A - Contractor Summary'!$C$42),\"Yes\",\"No\")","v":"Yes"},{"$f":"VLOOKUP($D240,'C.1 - Rate Sheets'!B:F,2,FALSE)","v":0},{"$f":"VLOOKUP($D240,'C.1 - Rate Sheets'!B:F,3,FALSE)","v":150},{"$f":"VLOOKUP($D240,'C.1 - Rate Sheets'!B:F,4,FALSE)","v":0},{"$f":"VLOOKUP($D240,'C.1 - Rate Sheets'!B:F,5,FALSE)","v":0},null,null,null,null,null,null,null,null,null,null,null,null,null,null,null,null,null,null,null,null,null,16,16,16,16,null,null,null,null,null,null,null,null,null,null,null,null,null,null,null,null,null,null,null,null,null,null,null,null,null,null,null,null,null,null,null,null,null,null,null,null,null,null,null,null,null,null,null,null,null,null,null,null,null,null,null,null,null,null,null,null,null,null,null,null,null,null,null,null,null,null,null,null,null,null,null,null,null,null,null,null,null,null,null,null,null,null,null,null,null,null,null,null,null,null,null,null,null,null,null,null,null,null,null,null,null,null,null,null,null,null,null,null,null,null,null,null,null,null,null,null,null,null,null,null,null,null,null,null,null,null,null,null,null,null,null,null,null,null,null,null,null,null,null,null,null,null,null,null,64,null,null,64,0,9600,0,0,9600,9600,"Yes",0,0,0]
[null,223,null,"MOT CREW","Vendor No.04","Mot 46",1253,"2018-10-28","2018-10-31",{"$f":"IF(AND(H241>='A - Contractor Summary'!$C$36,I241<='A - Contractor Summary'!$C$42),\"Yes\",\"No\")","v":"Yes"},{"$f":"VLOOKUP($D241,'C.1 - Rate Sheets'!B:F,2,FALSE)","v":0},{"$f":"VLOOKUP($D241,'C.1 - Rate Sheets'!B:F,3,FALSE)","v":150},{"$f":"VLOOKUP($D241,'C.1 - Rate Sheets'!B:F,4,FALSE)","v":0},{"$f":"VLOOKUP($D241,'C.1 - Rate Sheets'!B:F,5,FALSE)","v":0},null,null,null,null,null,null,null,null,null,null,null,null,null,null,null,null,null,null,null,null,null,16,16,16,16,null,null,null,null,null,null,null,null,null,null,null,null,null,null,null,null,null,null,null,null,null,null,null,null,null,null,null,null,null,null,null,null,null,null,null,null,null,null,null,null,null,null,null,null,null,null,null,null,null,null,null,null,null,null,null,null,null,null,null,null,null,null,null,null,null,null,null,null,null,null,null,null,null,null,null,null,null,null,null,null,null,null,null,null,null,null,null,null,null,null,null,null,null,null,null,null,null,null,null,null,null,null,null,null,null,null,null,null,null,null,null,null,null,null,null,null,null,null,null,null,null,null,null,null,null,null,null,null,null,null,null,null,null,null,null,null,null,null,null,null,null,null,null,null,64,null,null,64,0,9600,0,0,9600,9600,"Yes",0,0,0]
[null,224,null,"MOT CREW","Vendor No.04","Mot 47",1253,"2018-10-28","2018-10-31",{"$f":"IF(AND(H242>='A - Contractor Summary'!$C$36,I242<='A - Contractor Summary'!$C$42),\"Yes\",\"No\")","v":"Yes"},{"$f":"VLOOKUP($D242,'C.1 - Rate Sheets'!B:F,2,FALSE)","v":0},{"$f":"VLOOKUP($D242,'C.1 - Rate Sheets'!B:F,3,FALSE)","v":150},{"$f":"VLOOKUP($D242,'C.1 - Rate Sheets'!B:F,4,FALSE)","v":0},{"$f":"VLOOKUP($D242,'C.1 - Rate Sheets'!B:F,5,FALSE)","v":0},null,null,null,null,null,null,null,null,null,null,null,null,null,null,null,null,null,null,null,null,null,16,16,16,16,null,null,null,null,null,null,null,null,null,null,null,null,null,null,null,null,null,null,null,null,null,null,null,null,null,null,null,null,null,null,null,null,null,null,null,null,null,null,null,null,null,null,null,null,null,null,null,null,null,null,null,null,null,null,null,null,null,null,null,null,null,null,null,null,null,null,null,null,null,null,null,null,null,null,null,null,null,null,null,null,null,null,null,null,null,null,null,null,null,null,null,null,null,null,null,null,null,null,null,null,null,null,null,null,null,null,null,null,null,null,null,null,null,null,null,null,null,null,null,null,null,null,null,null,null,null,null,null,null,null,null,null,null,null,null,null,null,null,null,null,null,null,null,null,64,null,null,64,0,9600,0,0,9600,9600,"Yes",0,0,0]
[null,225,null,"MOT CREW","Vendor No.04","Mot 48",1253,"2018-10-28","2018-10-31",{"$f":"IF(AND(H243>='A - Contractor Summary'!$C$36,I243<='A - Contractor Summary'!$C$42),\"Yes\",\"No\")","v":"Yes"},{"$f":"VLOOKUP($D243,'C.1 - Rate Sheets'!B:F,2,FALSE)","v":0},{"$f":"VLOOKUP($D243,'C.1 - Rate Sheets'!B:F,3,FALSE)","v":150},{"$f":"VLOOKUP($D243,'C.1 - Rate Sheets'!B:F,4,FALSE)","v":0},{"$f":"VLOOKUP($D243,'C.1 - Rate Sheets'!B:F,5,FALSE)","v":0},null,null,null,null,null,null,null,null,null,null,null,null,null,null,null,null,null,null,null,null,null,16,16,16,16,null,null,null,null,null,null,null,null,null,null,null,null,null,null,null,null,null,null,null,null,null,null,null,null,null,null,null,null,null,null,null,null,null,null,null,null,null,null,null,null,null,null,null,null,null,null,null,null,null,null,null,null,null,null,null,null,null,null,null,null,null,null,null,null,null,null,null,null,null,null,null,null,null,null,null,null,null,null,null,null,null,null,null,null,null,null,null,null,null,null,null,null,null,null,null,null,null,null,null,null,null,null,null,null,null,null,null,null,null,null,null,null,null,null,null,null,null,null,null,null,null,null,null,null,null,null,null,null,null,null,null,null,null,null,null,null,null,null,null,null,null,null,null,null,64,null,null,64,0,9600,0,0,9600,9600,"Yes",0,0,0]
[null,226,null,"MOT CREW","Vendor No.04","Mot 49",1253,"2018-10-28","2018-10-31",{"$f":"IF(AND(H244>='A - Contractor Summary'!$C$36,I244<='A - Contractor Summary'!$C$42),\"Yes\",\"No\")","v":"Yes"},{"$f":"VLOOKUP($D244,'C.1 - Rate Sheets'!B:F,2,FALSE)","v":0},{"$f":"VLOOKUP($D244,'C.1 - Rate Sheets'!B:F,3,FALSE)","v":150},{"$f":"VLOOKUP($D244,'C.1 - Rate Sheets'!B:F,4,FALSE)","v":0},{"$f":"VLOOKUP($D244,'C.1 - Rate Sheets'!B:F,5,FALSE)","v":0},null,null,null,null,null,null,null,null,null,null,null,null,null,null,null,null,null,null,null,null,null,16,16,16,16,null,null,null,null,null,null,null,null,null,null,null,null,null,null,null,null,null,null,null,null,null,null,null,null,null,null,null,null,null,null,null,null,null,null,null,null,null,null,null,null,null,null,null,null,null,null,null,null,null,null,null,null,null,null,null,null,null,null,null,null,null,null,null,null,null,null,null,null,null,null,null,null,null,null,null,null,null,null,null,null,null,null,null,null,null,null,null,null,null,null,null,null,null,null,null,null,null,null,null,null,null,null,null,null,null,null,null,null,null,null,null,null,null,null,null,null,null,null,null,null,null,null,null,null,null,null,null,null,null,null,null,null,null,null,null,null,null,null,null,null,null,null,null,null,64,null,null,64,0,9600,0,0,9600,9600,"Yes",0,0,0]
[null,227,null,"MOT CREW","Vendor No.04","Mot 50",1253,"2018-10-28","2018-10-31",{"$f":"IF(AND(H245>='A - Contractor Summary'!$C$36,I245<='A - Contractor Summary'!$C$42),\"Yes\",\"No\")","v":"Yes"},{"$f":"VLOOKUP($D245,'C.1 - Rate Sheets'!B:F,2,FALSE)","v":0},{"$f":"VLOOKUP($D245,'C.1 - Rate Sheets'!B:F,3,FALSE)","v":150},{"$f":"VLOOKUP($D245,'C.1 - Rate Sheets'!B:F,4,FALSE)","v":0},{"$f":"VLOOKUP($D245,'C.1 - Rate Sheets'!B:F,5,FALSE)","v":0},null,null,null,null,null,null,null,null,null,null,null,null,null,null,null,null,null,null,null,null,null,16,16,16,16,null,null,null,null,null,null,null,null,null,null,null,null,null,null,null,null,null,null,null,null,null,null,null,null,null,null,null,null,null,null,null,null,null,null,null,null,null,null,null,null,null,null,null,null,null,null,null,null,null,null,null,null,null,null,null,null,null,null,null,null,null,null,null,null,null,null,null,null,null,null,null,null,null,null,null,null,null,null,null,null,null,null,null,null,null,null,null,null,null,null,null,null,null,null,null,null,null,null,null,null,null,null,null,null,null,null,null,null,null,null,null,null,null,null,null,null,null,null,null,null,null,null,null,null,null,null,null,null,null,null,null,null,null,null,null,null,null,null,null,null,null,null,null,null,64,null,null,64,0,9600,0,0,9600,9600,"Yes",0,0,0]
[null,228,null,"MOT CREW","Vendor No.04","Mot 51",1253,"2018-10-28","2018-10-31",{"$f":"IF(AND(H246>='A - Contractor Summary'!$C$36,I246<='A - Contractor Summary'!$C$42),\"Yes\",\"No\")","v":"Yes"},{"$f":"VLOOKUP($D246,'C.1 - Rate Sheets'!B:F,2,FALSE)","v":0},{"$f":"VLOOKUP($D246,'C.1 - Rate Sheets'!B:F,3,FALSE)","v":150},{"$f":"VLOOKUP($D246,'C.1 - Rate Sheets'!B:F,4,FALSE)","v":0},{"$f":"VLOOKUP($D246,'C.1 - Rate Sheets'!B:F,5,FALSE)","v":0},null,null,null,null,null,null,null,null,null,null,null,null,null,null,null,null,null,null,null,null,null,16,16,16,16,null,null,null,null,null,null,null,null,null,null,null,null,null,null,null,null,null,null,null,null,null,null,null,null,null,null,null,null,null,null,null,null,null,null,null,null,null,null,null,null,null,null,null,null,null,null,null,null,null,null,null,null,null,null,null,null,null,null,null,null,null,null,null,null,null,null,null,null,null,null,null,null,null,null,null,null,null,null,null,null,null,null,null,null,null,null,null,null,null,null,null,null,null,null,null,null,null,null,null,null,null,null,null,null,null,null,null,null,null,null,null,null,null,null,null,null,null,null,null,null,null,null,null,null,null,null,null,null,null,null,null,null,null,null,null,null,null,null,null,null,null,null,null,null,64,null,null,64,0,9600,0,0,9600,9600,"Yes",0,0,0]
[null,229,null,"MOT CREW","Vendor No.04","Mot 52",1253,"2018-10-28","2018-10-31",{"$f":"IF(AND(H247>='A - Contractor Summary'!$C$36,I247<='A - Contractor Summary'!$C$42),\"Yes\",\"No\")","v":"Yes"},{"$f":"VLOOKUP($D247,'C.1 - Rate Sheets'!B:F,2,FALSE)","v":0},{"$f":"VLOOKUP($D247,'C.1 - Rate Sheets'!B:F,3,FALSE)","v":150},{"$f":"VLOOKUP($D247,'C.1 - Rate Sheets'!B:F,4,FALSE)","v":0},{"$f":"VLOOKUP($D247,'C.1 - Rate Sheets'!B:F,5,FALSE)","v":0},null,null,null,null,null,null,null,null,null,null,null,null,null,null,null,null,null,null,null,null,null,16,16,16,16,null,null,null,null,null,null,null,null,null,null,null,null,null,null,null,null,null,null,null,null,null,null,null,null,null,null,null,null,null,null,null,null,null,null,null,null,null,null,null,null,null,null,null,null,null,null,null,null,null,null,null,null,null,null,null,null,null,null,null,null,null,null,null,null,null,null,null,null,null,null,null,null,null,null,null,null,null,null,null,null,null,null,null,null,null,null,null,null,null,null,null,null,null,null,null,null,null,null,null,null,null,null,null,null,null,null,null,null,null,null,null,null,null,null,null,null,null,null,null,null,null,null,null,null,null,null,null,null,null,null,null,null,null,null,null,null,null,null,null,null,null,null,null,null,64,null,null,64,0,9600,0,0,9600,9600,"Yes",0,0,0]
[null,230,null,"CLEAR CREW","Vendor No.04","Clear 1",1253,"2018-10-28","2018-10-31",{"$f":"IF(AND(H248>='A - Contractor Summary'!$C$36,I248<='A - Contractor Summary'!$C$42),\"Yes\",\"No\")","v":"Yes"},{"$f":"VLOOKUP($D248,'C.1 - Rate Sheets'!B:F,2,FALSE)","v":0},{"$f":"VLOOKUP($D248,'C.1 - Rate Sheets'!B:F,3,FALSE)","v":200},{"$f":"VLOOKUP($D248,'C.1 - Rate Sheets'!B:F,4,FALSE)","v":0},{"$f":"VLOOKUP($D248,'C.1 - Rate Sheets'!B:F,5,FALSE)","v":0},null,null,null,null,null,null,null,null,null,null,null,null,null,null,null,null,null,null,null,null,null,16,16,16,16,null,null,null,null,null,null,null,null,null,null,null,null,null,null,null,null,null,null,null,null,null,null,null,null,null,null,null,null,null,null,null,null,null,null,null,null,null,null,null,null,null,null,null,null,null,null,null,null,null,null,null,null,null,null,null,null,null,null,null,null,null,null,null,null,null,null,null,null,null,null,null,null,null,null,null,null,null,null,null,null,null,null,null,null,null,null,null,null,null,null,null,null,null,null,null,null,null,null,null,null,null,null,null,null,null,null,null,null,null,null,null,null,null,null,null,null,null,null,null,null,null,null,null,null,null,null,null,null,null,null,null,null,null,null,null,null,null,null,null,null,null,null,null,null,64,null,null,64,0,12800,0,0,12800,12800,"Yes",0,0,0]
[null,231,null,"CLEAR CREW","Vendor No.04","Clear 2",1253,"2018-10-28","2018-10-31",{"$f":"IF(AND(H249>='A - Contractor Summary'!$C$36,I249<='A - Contractor Summary'!$C$42),\"Yes\",\"No\")","v":"Yes"},{"$f":"VLOOKUP($D249,'C.1 - Rate Sheets'!B:F,2,FALSE)","v":0},{"$f":"VLOOKUP($D249,'C.1 - Rate Sheets'!B:F,3,FALSE)","v":200},{"$f":"VLOOKUP($D249,'C.1 - Rate Sheets'!B:F,4,FALSE)","v":0},{"$f":"VLOOKUP($D249,'C.1 - Rate Sheets'!B:F,5,FALSE)","v":0},null,null,null,null,null,null,null,null,null,null,null,null,null,null,null,null,null,null,null,null,null,16,16,16,16,null,null,null,null,null,null,null,null,null,null,null,null,null,null,null,null,null,null,null,null,null,null,null,null,null,null,null,null,null,null,null,null,null,null,null,null,null,null,null,null,null,null,null,null,null,null,null,null,null,null,null,null,null,null,null,null,null,null,null,null,null,null,null,null,null,null,null,null,null,null,null,null,null,null,null,null,null,null,null,null,null,null,null,null,null,null,null,null,null,null,null,null,null,null,null,null,null,null,null,null,null,null,null,null,null,null,null,null,null,null,null,null,null,null,null,null,null,null,null,null,null,null,null,null,null,null,null,null,null,null,null,null,null,null,null,null,null,null,null,null,null,null,null,null,64,null,null,64,0,12800,0,0,12800,12800,"Yes",0,0,0]
[null,232,null,"CLEAR CREW","Vendor No.04","Clear 3",1253,"2018-10-28","2018-10-31",{"$f":"IF(AND(H250>='A - Contractor Summary'!$C$36,I250<='A - Contractor Summary'!$C$42),\"Yes\",\"No\")","v":"Yes"},{"$f":"VLOOKUP($D250,'C.1 - Rate Sheets'!B:F,2,FALSE)","v":0},{"$f":"VLOOKUP($D250,'C.1 - Rate Sheets'!B:F,3,FALSE)","v":200},{"$f":"VLOOKUP($D250,'C.1 - Rate Sheets'!B:F,4,FALSE)","v":0},{"$f":"VLOOKUP($D250,'C.1 - Rate Sheets'!B:F,5,FALSE)","v":0},null,null,null,null,null,null,null,null,null,null,null,null,null,null,null,null,null,null,null,null,null,16,16,16,16,null,null,null,null,null,null,null,null,null,null,null,null,null,null,null,null,null,null,null,null,null,null,null,null,null,null,null,null,null,null,null,null,null,null,null,null,null,null,null,null,null,null,null,null,null,null,null,null,null,null,null,null,null,null,null,null,null,null,null,null,null,null,null,null,null,null,null,null,null,null,null,null,null,null,null,null,null,null,null,null,null,null,null,null,null,null,null,null,null,null,null,null,null,null,null,null,null,null,null,null,null,null,null,null,null,null,null,null,null,null,null,null,null,null,null,null,null,null,null,null,null,null,null,null,null,null,null,null,null,null,null,null,null,null,null,null,null,null,null,null,null,null,null,null,64,null,null,64,0,12800,0,0,12800,12800,"Yes",0,0,0]
[null,233,null,"CLEAR CREW","Vendor No.04","Clear 4",1253,"2018-10-28","2018-10-31",{"$f":"IF(AND(H251>='A - Contractor Summary'!$C$36,I251<='A - Contractor Summary'!$C$42),\"Yes\",\"No\")","v":"Yes"},{"$f":"VLOOKUP($D251,'C.1 - Rate Sheets'!B:F,2,FALSE)","v":0},{"$f":"VLOOKUP($D251,'C.1 - Rate Sheets'!B:F,3,FALSE)","v":200},{"$f":"VLOOKUP($D251,'C.1 - Rate Sheets'!B:F,4,FALSE)","v":0},{"$f":"VLOOKUP($D251,'C.1 - Rate Sheets'!B:F,5,FALSE)","v":0},null,null,null,null,null,null,null,null,null,null,null,null,null,null,null,null,null,null,null,null,null,16,16,16,16,null,null,null,null,null,null,null,null,null,null,null,null,null,null,null,null,null,null,null,null,null,null,null,null,null,null,null,null,null,null,null,null,null,null,null,null,null,null,null,null,null,null,null,null,null,null,null,null,null,null,null,null,null,null,null,null,null,null,null,null,null,null,null,null,null,null,null,null,null,null,null,null,null,null,null,null,null,null,null,null,null,null,null,null,null,null,null,null,null,null,null,null,null,null,null,null,null,null,null,null,null,null,null,null,null,null,null,null,null,null,null,null,null,null,null,null,null,null,null,null,null,null,null,null,null,null,null,null,null,null,null,null,null,null,null,null,null,null,null,null,null,null,null,null,64,null,null,64,0,12800,0,0,12800,12800,"Yes",0,0,0]
[null,234,null,"CLEAR CREW","Vendor No.04","Clear 5",1253,"2018-10-28","2018-10-31",{"$f":"IF(AND(H252>='A - Contractor Summary'!$C$36,I252<='A - Contractor Summary'!$C$42),\"Yes\",\"No\")","v":"Yes"},{"$f":"VLOOKUP($D252,'C.1 - Rate Sheets'!B:F,2,FALSE)","v":0},{"$f":"VLOOKUP($D252,'C.1 - Rate Sheets'!B:F,3,FALSE)","v":200},{"$f":"VLOOKUP($D252,'C.1 - Rate Sheets'!B:F,4,FALSE)","v":0},{"$f":"VLOOKUP($D252,'C.1 - Rate Sheets'!B:F,5,FALSE)","v":0},null,null,null,null,null,null,null,null,null,null,null,null,null,null,null,null,null,null,null,null,null,16,16,16,16,null,null,null,null,null,null,null,null,null,null,null,null,null,null,null,null,null,null,null,null,null,null,null,null,null,null,null,null,null,null,null,null,null,null,null,null,null,null,null,null,null,null,null,null,null,null,null,null,null,null,null,null,null,null,null,null,null,null,null,null,null,null,null,null,null,null,null,null,null,null,null,null,null,null,null,null,null,null,null,null,null,null,null,null,null,null,null,null,null,null,null,null,null,null,null,null,null,null,null,null,null,null,null,null,null,null,null,null,null,null,null,null,null,null,null,null,null,null,null,null,null,null,null,null,null,null,null,null,null,null,null,null,null,null,null,null,null,null,null,null,null,null,null,null,64,null,null,64,0,12800,0,0,12800,12800,"Yes",0,0,0]
[null,235,null,"CLEAR CREW","Vendor No.04","Clear 6",1253,"2018-10-28","2018-10-31",{"$f":"IF(AND(H253>='A - Contractor Summary'!$C$36,I253<='A - Contractor Summary'!$C$42),\"Yes\",\"No\")","v":"Yes"},{"$f":"VLOOKUP($D253,'C.1 - Rate Sheets'!B:F,2,FALSE)","v":0},{"$f":"VLOOKUP($D253,'C.1 - Rate Sheets'!B:F,3,FALSE)","v":200},{"$f":"VLOOKUP($D253,'C.1 - Rate Sheets'!B:F,4,FALSE)","v":0},{"$f":"VLOOKUP($D253,'C.1 - Rate Sheets'!B:F,5,FALSE)","v":0},null,null,null,null,null,null,null,null,null,null,null,null,null,null,null,null,null,null,null,null,null,16,16,16,16,null,null,null,null,null,null,null,null,null,null,null,null,null,null,null,null,null,null,null,null,null,null,null,null,null,null,null,null,null,null,null,null,null,null,null,null,null,null,null,null,null,null,null,null,null,null,null,null,null,null,null,null,null,null,null,null,null,null,null,null,null,null,null,null,null,null,null,null,null,null,null,null,null,null,null,null,null,null,null,null,null,null,null,null,null,null,null,null,null,null,null,null,null,null,null,null,null,null,null,null,null,null,null,null,null,null,null,null,null,null,null,null,null,null,null,null,null,null,null,null,null,null,null,null,null,null,null,null,null,null,null,null,null,null,null,null,null,null,null,null,null,null,null,null,64,null,null,64,0,12800,0,0,12800,12800,"Yes",0,0,0]
[null,236,null,"CLEAR CREW","Vendor No.04","Clear 7",1253,"2018-10-28","2018-10-31",{"$f":"IF(AND(H254>='A - Contractor Summary'!$C$36,I254<='A - Contractor Summary'!$C$42),\"Yes\",\"No\")","v":"Yes"},{"$f":"VLOOKUP($D254,'C.1 - Rate Sheets'!B:F,2,FALSE)","v":0},{"$f":"VLOOKUP($D254,'C.1 - Rate Sheets'!B:F,3,FALSE)","v":200},{"$f":"VLOOKUP($D254,'C.1 - Rate Sheets'!B:F,4,FALSE)","v":0},{"$f":"VLOOKUP($D254,'C.1 - Rate Sheets'!B:F,5,FALSE)","v":0},null,null,null,null,null,null,null,null,null,null,null,null,null,null,null,null,null,null,null,null,null,16,16,16,16,null,null,null,null,null,null,null,null,null,null,null,null,null,null,null,null,null,null,null,null,null,null,null,null,null,null,null,null,null,null,null,null,null,null,null,null,null,null,null,null,null,null,null,null,null,null,null,null,null,null,null,null,null,null,null,null,null,null,null,null,null,null,null,null,null,null,null,null,null,null,null,null,null,null,null,null,null,null,null,null,null,null,null,null,null,null,null,null,null,null,null,null,null,null,null,null,null,null,null,null,null,null,null,null,null,null,null,null,null,null,null,null,null,null,null,null,null,null,null,null,null,null,null,null,null,null,null,null,null,null,null,null,null,null,null,null,null,null,null,null,null,null,null,null,64,null,null,64,0,12800,0,0,12800,12800,"Yes",0,0,0]
[null,237,null,"CLEAR CREW","Vendor No.04","Clear 8",1253,"2018-10-28","2018-10-31",{"$f":"IF(AND(H255>='A - Contractor Summary'!$C$36,I255<='A - Contractor Summary'!$C$42),\"Yes\",\"No\")","v":"Yes"},{"$f":"VLOOKUP($D255,'C.1 - Rate Sheets'!B:F,2,FALSE)","v":0},{"$f":"VLOOKUP($D255,'C.1 - Rate Sheets'!B:F,3,FALSE)","v":200},{"$f":"VLOOKUP($D255,'C.1 - Rate Sheets'!B:F,4,FALSE)","v":0},{"$f":"VLOOKUP($D255,'C.1 - Rate Sheets'!B:F,5,FALSE)","v":0},null,null,null,null,null,null,null,null,null,null,null,null,null,null,null,null,null,null,null,null,null,16,16,16,16,null,null,null,null,null,null,null,null,null,null,null,null,null,null,null,null,null,null,null,null,null,null,null,null,null,null,null,null,null,null,null,null,null,null,null,null,null,null,null,null,null,null,null,null,null,null,null,null,null,null,null,null,null,null,null,null,null,null,null,null,null,null,null,null,null,null,null,null,null,null,null,null,null,null,null,null,null,null,null,null,null,null,null,null,null,null,null,null,null,null,null,null,null,null,null,null,null,null,null,null,null,null,null,null,null,null,null,null,null,null,null,null,null,null,null,null,null,null,null,null,null,null,null,null,null,null,null,null,null,null,null,null,null,null,null,null,null,null,null,null,null,null,null,null,64,null,null,64,0,12800,0,0,12800,12800,"Yes",0,0,0]
[null,238,null,"CLEAR CREW","Vendor No.04","Clear 9",1253,"2018-10-28","2018-10-31",{"$f":"IF(AND(H256>='A - Contractor Summary'!$C$36,I256<='A - Contractor Summary'!$C$42),\"Yes\",\"No\")","v":"Yes"},{"$f":"VLOOKUP($D256,'C.1 - Rate Sheets'!B:F,2,FALSE)","v":0},{"$f":"VLOOKUP($D256,'C.1 - Rate Sheets'!B:F,3,FALSE)","v":200},{"$f":"VLOOKUP($D256,'C.1 - Rate Sheets'!B:F,4,FALSE)","v":0},{"$f":"VLOOKUP($D256,'C.1 - Rate Sheets'!B:F,5,FALSE)","v":0},null,null,null,null,null,null,null,null,null,null,null,null,null,null,null,null,null,null,null,null,null,16,16,16,16,null,null,null,null,null,null,null,null,null,null,null,null,null,null,null,null,null,null,null,null,null,null,null,null,null,null,null,null,null,null,null,null,null,null,null,null,null,null,null,null,null,null,null,null,null,null,null,null,null,null,null,null,null,null,null,null,null,null,null,null,null,null,null,null,null,null,null,null,null,null,null,null,null,null,null,null,null,null,null,null,null,null,null,null,null,null,null,null,null,null,null,null,null,null,null,null,null,null,null,null,null,null,null,null,null,null,null,null,null,null,null,null,null,null,null,null,null,null,null,null,null,null,null,null,null,null,null,null,null,null,null,null,null,null,null,null,null,null,null,null,null,null,null,null,64,null,null,64,0,12800,0,0,12800,12800,"Yes",0,0,0]
[null,239,null,"CLEAR CREW","Vendor No.04","Clear 10",1253,"2018-10-28","2018-10-31",{"$f":"IF(AND(H257>='A - Contractor Summary'!$C$36,I257<='A - Contractor Summary'!$C$42),\"Yes\",\"No\")","v":"Yes"},{"$f":"VLOOKUP($D257,'C.1 - Rate Sheets'!B:F,2,FALSE)","v":0},{"$f":"VLOOKUP($D257,'C.1 - Rate Sheets'!B:F,3,FALSE)","v":200},{"$f":"VLOOKUP($D257,'C.1 - Rate Sheets'!B:F,4,FALSE)","v":0},{"$f":"VLOOKUP($D257,'C.1 - Rate Sheets'!B:F,5,FALSE)","v":0},null,null,null,null,null,null,null,null,null,null,null,null,null,null,null,null,null,null,null,null,null,16,16,16,16,null,null,null,null,null,null,null,null,null,null,null,null,null,null,null,null,null,null,null,null,null,null,null,null,null,null,null,null,null,null,null,null,null,null,null,null,null,null,null,null,null,null,null,null,null,null,null,null,null,null,null,null,null,null,null,null,null,null,null,null,null,null,null,null,null,null,null,null,null,null,null,null,null,null,null,null,null,null,null,null,null,null,null,null,null,null,null,null,null,null,null,null,null,null,null,null,null,null,null,null,null,null,null,null,null,null,null,null,null,null,null,null,null,null,null,null,null,null,null,null,null,null,null,null,null,null,null,null,null,null,null,null,null,null,null,null,null,null,null,null,null,null,null,null,64,null,null,64,0,12800,0,0,12800,12800,"Yes",0,0,0]
[null,240,null,"CLEAR CREW","Vendor No.04","Clear 11",1253,"2018-10-28","2018-10-31",{"$f":"IF(AND(H258>='A - Contractor Summary'!$C$36,I258<='A - Contractor Summary'!$C$42),\"Yes\",\"No\")","v":"Yes"},{"$f":"VLOOKUP($D258,'C.1 - Rate Sheets'!B:F,2,FALSE)","v":0},{"$f":"VLOOKUP($D258,'C.1 - Rate Sheets'!B:F,3,FALSE)","v":200},{"$f":"VLOOKUP($D258,'C.1 - Rate Sheets'!B:F,4,FALSE)","v":0},{"$f":"VLOOKUP($D258,'C.1 - Rate Sheets'!B:F,5,FALSE)","v":0},null,null,null,null,null,null,null,null,null,null,null,null,null,null,null,null,null,null,null,null,null,16,16,16,16,null,null,null,null,null,null,null,null,null,null,null,null,null,null,null,null,null,null,null,null,null,null,null,null,null,null,null,null,null,null,null,null,null,null,null,null,null,null,null,null,null,null,null,null,null,null,null,null,null,null,null,null,null,null,null,null,null,null,null,null,null,null,null,null,null,null,null,null,null,null,null,null,null,null,null,null,null,null,null,null,null,null,null,null,null,null,null,null,null,null,null,null,null,null,null,null,null,null,null,null,null,null,null,null,null,null,null,null,null,null,null,null,null,null,null,null,null,null,null,null,null,null,null,null,null,null,null,null,null,null,null,null,null,null,null,null,null,null,null,null,null,null,null,null,64,null,null,64,0,12800,0,0,12800,12800,"Yes",0,0,0]
[null,241,null,"CLEAR CREW","Vendor No.04","Clear 12",1253,"2018-10-28","2018-10-31",{"$f":"IF(AND(H259>='A - Contractor Summary'!$C$36,I259<='A - Contractor Summary'!$C$42),\"Yes\",\"No\")","v":"Yes"},{"$f":"VLOOKUP($D259,'C.1 - Rate Sheets'!B:F,2,FALSE)","v":0},{"$f":"VLOOKUP($D259,'C.1 - Rate Sheets'!B:F,3,FALSE)","v":200},{"$f":"VLOOKUP($D259,'C.1 - Rate Sheets'!B:F,4,FALSE)","v":0},{"$f":"VLOOKUP($D259,'C.1 - Rate Sheets'!B:F,5,FALSE)","v":0},null,null,null,null,null,null,null,null,null,null,null,null,null,null,null,null,null,null,null,null,null,16,16,16,16,null,null,null,null,null,null,null,null,null,null,null,null,null,null,null,null,null,null,null,null,null,null,null,null,null,null,null,null,null,null,null,null,null,null,null,null,null,null,null,null,null,null,null,null,null,null,null,null,null,null,null,null,null,null,null,null,null,null,null,null,null,null,null,null,null,null,null,null,null,null,null,null,null,null,null,null,null,null,null,null,null,null,null,null,null,null,null,null,null,null,null,null,null,null,null,null,null,null,null,null,null,null,null,null,null,null,null,null,null,null,null,null,null,null,null,null,null,null,null,null,null,null,null,null,null,null,null,null,null,null,null,null,null,null,null,null,null,null,null,null,null,null,null,null,64,null,null,64,0,12800,0,0,12800,12800,"Yes",0,0,0]
[null,242,null,"CLEAR CREW","Vendor No.04","Clear 13",1253,"2018-10-28","2018-10-31",{"$f":"IF(AND(H260>='A - Contractor Summary'!$C$36,I260<='A - Contractor Summary'!$C$42),\"Yes\",\"No\")","v":"Yes"},{"$f":"VLOOKUP($D260,'C.1 - Rate Sheets'!B:F,2,FALSE)","v":0},{"$f":"VLOOKUP($D260,'C.1 - Rate Sheets'!B:F,3,FALSE)","v":200},{"$f":"VLOOKUP($D260,'C.1 - Rate Sheets'!B:F,4,FALSE)","v":0},{"$f":"VLOOKUP($D260,'C.1 - Rate Sheets'!B:F,5,FALSE)","v":0},null,null,null,null,null,null,null,null,null,null,null,null,null,null,null,null,null,null,null,null,null,16,16,16,16,null,null,null,null,null,null,null,null,null,null,null,null,null,null,null,null,null,null,null,null,null,null,null,null,null,null,null,null,null,null,null,null,null,null,null,null,null,null,null,null,null,null,null,null,null,null,null,null,null,null,null,null,null,null,null,null,null,null,null,null,null,null,null,null,null,null,null,null,null,null,null,null,null,null,null,null,null,null,null,null,null,null,null,null,null,null,null,null,null,null,null,null,null,null,null,null,null,null,null,null,null,null,null,null,null,null,null,null,null,null,null,null,null,null,null,null,null,null,null,null,null,null,null,null,null,null,null,null,null,null,null,null,null,null,null,null,null,null,null,null,null,null,null,null,64,null,null,64,0,12800,0,0,12800,12800,"Yes",0,0,0]
[null,243,null,"CLEAR CREW","Vendor No.04","Clear 14",1253,"2018-10-28","2018-10-31",{"$f":"IF(AND(H261>='A - Contractor Summary'!$C$36,I261<='A - Contractor Summary'!$C$42),\"Yes\",\"No\")","v":"Yes"},{"$f":"VLOOKUP($D261,'C.1 - Rate Sheets'!B:F,2,FALSE)","v":0},{"$f":"VLOOKUP($D261,'C.1 - Rate Sheets'!B:F,3,FALSE)","v":200},{"$f":"VLOOKUP($D261,'C.1 - Rate Sheets'!B:F,4,FALSE)","v":0},{"$f":"VLOOKUP($D261,'C.1 - Rate Sheets'!B:F,5,FALSE)","v":0},null,null,null,null,null,null,null,null,null,null,null,null,null,null,null,null,null,null,null,null,null,16,16,16,16,null,null,null,null,null,null,null,null,null,null,null,null,null,null,null,null,null,null,null,null,null,null,null,null,null,null,null,null,null,null,null,null,null,null,null,null,null,null,null,null,null,null,null,null,null,null,null,null,null,null,null,null,null,null,null,null,null,null,null,null,null,null,null,null,null,null,null,null,null,null,null,null,null,null,null,null,null,null,null,null,null,null,null,null,null,null,null,null,null,null,null,null,null,null,null,null,null,null,null,null,null,null,null,null,null,null,null,null,null,null,null,null,null,null,null,null,null,null,null,null,null,null,null,null,null,null,null,null,null,null,null,null,null,null,null,null,null,null,null,null,null,null,null,null,64,null,null,64,0,12800,0,0,12800,12800,"Yes",0,0,0]
[null,244,null,"CLEAR CREW","Vendor No.04","Clear 15",1253,"2018-10-28","2018-10-31",{"$f":"IF(AND(H262>='A - Contractor Summary'!$C$36,I262<='A - Contractor Summary'!$C$42),\"Yes\",\"No\")","v":"Yes"},{"$f":"VLOOKUP($D262,'C.1 - Rate Sheets'!B:F,2,FALSE)","v":0},{"$f":"VLOOKUP($D262,'C.1 - Rate Sheets'!B:F,3,FALSE)","v":200},{"$f":"VLOOKUP($D262,'C.1 - Rate Sheets'!B:F,4,FALSE)","v":0},{"$f":"VLOOKUP($D262,'C.1 - Rate Sheets'!B:F,5,FALSE)","v":0},null,null,null,null,null,null,null,null,null,null,null,null,null,null,null,null,null,null,null,null,null,16,16,16,16,null,null,null,null,null,null,null,null,null,null,null,null,null,null,null,null,null,null,null,null,null,null,null,null,null,null,null,null,null,null,null,null,null,null,null,null,null,null,null,null,null,null,null,null,null,null,null,null,null,null,null,null,null,null,null,null,null,null,null,null,null,null,null,null,null,null,null,null,null,null,null,null,null,null,null,null,null,null,null,null,null,null,null,null,null,null,null,null,null,null,null,null,null,null,null,null,null,null,null,null,null,null,null,null,null,null,null,null,null,null,null,null,null,null,null,null,null,null,null,null,null,null,null,null,null,null,null,null,null,null,null,null,null,null,null,null,null,null,null,null,null,null,null,null,64,null,null,64,0,12800,0,0,12800,12800,"Yes",0,0,0]
[null,245,null,"CLEAR CREW","Vendor No.04","Clear 16",1253,"2018-10-28","2018-10-31",{"$f":"IF(AND(H263>='A - Contractor Summary'!$C$36,I263<='A - Contractor Summary'!$C$42),\"Yes\",\"No\")","v":"Yes"},{"$f":"VLOOKUP($D263,'C.1 - Rate Sheets'!B:F,2,FALSE)","v":0},{"$f":"VLOOKUP($D263,'C.1 - Rate Sheets'!B:F,3,FALSE)","v":200},{"$f":"VLOOKUP($D263,'C.1 - Rate Sheets'!B:F,4,FALSE)","v":0},{"$f":"VLOOKUP($D263,'C.1 - Rate Sheets'!B:F,5,FALSE)","v":0},null,null,null,null,null,null,null,null,null,null,null,null,null,null,null,null,null,null,null,null,null,16,16,16,16,null,null,null,null,null,null,null,null,null,null,null,null,null,null,null,null,null,null,null,null,null,null,null,null,null,null,null,null,null,null,null,null,null,null,null,null,null,null,null,null,null,null,null,null,null,null,null,null,null,null,null,null,null,null,null,null,null,null,null,null,null,null,null,null,null,null,null,null,null,null,null,null,null,null,null,null,null,null,null,null,null,null,null,null,null,null,null,null,null,null,null,null,null,null,null,null,null,null,null,null,null,null,null,null,null,null,null,null,null,null,null,null,null,null,null,null,null,null,null,null,null,null,null,null,null,null,null,null,null,null,null,null,null,null,null,null,null,null,null,null,null,null,null,null,64,null,null,64,0,12800,0,0,12800,12800,"Yes",0,0,0]
[null,246,null,"CLEAR CREW","Vendor No.04","Clear 17",1253,"2018-10-28","2018-10-31",{"$f":"IF(AND(H264>='A - Contractor Summary'!$C$36,I264<='A - Contractor Summary'!$C$42),\"Yes\",\"No\")","v":"Yes"},{"$f":"VLOOKUP($D264,'C.1 - Rate Sheets'!B:F,2,FALSE)","v":0},{"$f":"VLOOKUP($D264,'C.1 - Rate Sheets'!B:F,3,FALSE)","v":200},{"$f":"VLOOKUP($D264,'C.1 - Rate Sheets'!B:F,4,FALSE)","v":0},{"$f":"VLOOKUP($D264,'C.1 - Rate Sheets'!B:F,5,FALSE)","v":0},null,null,null,null,null,null,null,null,null,null,null,null,null,null,null,null,null,null,null,null,null,16,16,16,16,null,null,null,null,null,null,null,null,null,null,null,null,null,null,null,null,null,null,null,null,null,null,null,null,null,null,null,null,null,null,null,null,null,null,null,null,null,null,null,null,null,null,null,null,null,null,null,null,null,null,null,null,null,null,null,null,null,null,null,null,null,null,null,null,null,null,null,null,null,null,null,null,null,null,null,null,null,null,null,null,null,null,null,null,null,null,null,null,null,null,null,null,null,null,null,null,null,null,null,null,null,null,null,null,null,null,null,null,null,null,null,null,null,null,null,null,null,null,null,null,null,null,null,null,null,null,null,null,null,null,null,null,null,null,null,null,null,null,null,null,null,null,null,null,64,null,null,64,0,12800,0,0,12800,12800,"Yes",0,0,0]
[null,247,null,"CLEAR CREW","Vendor No.04","Clear 18",1253,"2018-10-28","2018-10-31",{"$f":"IF(AND(H265>='A - Contractor Summary'!$C$36,I265<='A - Contractor Summary'!$C$42),\"Yes\",\"No\")","v":"Yes"},{"$f":"VLOOKUP($D265,'C.1 - Rate Sheets'!B:F,2,FALSE)","v":0},{"$f":"VLOOKUP($D265,'C.1 - Rate Sheets'!B:F,3,FALSE)","v":200},{"$f":"VLOOKUP($D265,'C.1 - Rate Sheets'!B:F,4,FALSE)","v":0},{"$f":"VLOOKUP($D265,'C.1 - Rate Sheets'!B:F,5,FALSE)","v":0},null,null,null,null,null,null,null,null,null,null,null,null,null,null,null,null,null,null,null,null,null,16,16,16,16,null,null,null,null,null,null,null,null,null,null,null,null,null,null,null,null,null,null,null,null,null,null,null,null,null,null,null,null,null,null,null,null,null,null,null,null,null,null,null,null,null,null,null,null,null,null,null,null,null,null,null,null,null,null,null,null,null,null,null,null,null,null,null,null,null,null,null,null,null,null,null,null,null,null,null,null,null,null,null,null,null,null,null,null,null,null,null,null,null,null,null,null,null,null,null,null,null,null,null,null,null,null,null,null,null,null,null,null,null,null,null,null,null,null,null,null,null,null,null,null,null,null,null,null,null,null,null,null,null,null,null,null,null,null,null,null,null,null,null,null,null,null,null,null,64,null,null,64,0,12800,0,0,12800,12800,"Yes",0,0,0]
[null,248,null,"CLEAR CREW","Vendor No.04","Clear 19",1253,"2018-10-28","2018-10-31",{"$f":"IF(AND(H266>='A - Contractor Summary'!$C$36,I266<='A - Contractor Summary'!$C$42),\"Yes\",\"No\")","v":"Yes"},{"$f":"VLOOKUP($D266,'C.1 - Rate Sheets'!B:F,2,FALSE)","v":0},{"$f":"VLOOKUP($D266,'C.1 - Rate Sheets'!B:F,3,FALSE)","v":200},{"$f":"VLOOKUP($D266,'C.1 - Rate Sheets'!B:F,4,FALSE)","v":0},{"$f":"VLOOKUP($D266,'C.1 - Rate Sheets'!B:F,5,FALSE)","v":0},null,null,null,null,null,null,null,null,null,null,null,null,null,null,null,null,null,null,null,null,null,16,16,16,16,null,null,null,null,null,null,null,null,null,null,null,null,null,null,null,null,null,null,null,null,null,null,null,null,null,null,null,null,null,null,null,null,null,null,null,null,null,null,null,null,null,null,null,null,null,null,null,null,null,null,null,null,null,null,null,null,null,null,null,null,null,null,null,null,null,null,null,null,null,null,null,null,null,null,null,null,null,null,null,null,null,null,null,null,null,null,null,null,null,null,null,null,null,null,null,null,null,null,null,null,null,null,null,null,null,null,null,null,null,null,null,null,null,null,null,null,null,null,null,null,null,null,null,null,null,null,null,null,null,null,null,null,null,null,null,null,null,null,null,null,null,null,null,null,64,null,null,64,0,12800,0,0,12800,12800,"Yes",0,0,0]
[null,249,null,"CLEAR CREW","Vendor No.04","Clear 20",1253,"2018-10-28","2018-10-31",{"$f":"IF(AND(H267>='A - Contractor Summary'!$C$36,I267<='A - Contractor Summary'!$C$42),\"Yes\",\"No\")","v":"Yes"},{"$f":"VLOOKUP($D267,'C.1 - Rate Sheets'!B:F,2,FALSE)","v":0},{"$f":"VLOOKUP($D267,'C.1 - Rate Sheets'!B:F,3,FALSE)","v":200},{"$f":"VLOOKUP($D267,'C.1 - Rate Sheets'!B:F,4,FALSE)","v":0},{"$f":"VLOOKUP($D267,'C.1 - Rate Sheets'!B:F,5,FALSE)","v":0},null,null,null,null,null,null,null,null,null,null,null,null,null,null,null,null,null,null,null,null,null,16,16,16,16,null,null,null,null,null,null,null,null,null,null,null,null,null,null,null,null,null,null,null,null,null,null,null,null,null,null,null,null,null,null,null,null,null,null,null,null,null,null,null,null,null,null,null,null,null,null,null,null,null,null,null,null,null,null,null,null,null,null,null,null,null,null,null,null,null,null,null,null,null,null,null,null,null,null,null,null,null,null,null,null,null,null,null,null,null,null,null,null,null,null,null,null,null,null,null,null,null,null,null,null,null,null,null,null,null,null,null,null,null,null,null,null,null,null,null,null,null,null,null,null,null,null,null,null,null,null,null,null,null,null,null,null,null,null,null,null,null,null,null,null,null,null,null,null,64,null,null,64,0,12800,0,0,12800,12800,"Yes",0,0,0]
[null,250,null,"CLEAR CREW","Vendor No.04","Clear 21",1253,"2018-10-28","2018-10-31",{"$f":"IF(AND(H268>='A - Contractor Summary'!$C$36,I268<='A - Contractor Summary'!$C$42),\"Yes\",\"No\")","v":"Yes"},{"$f":"VLOOKUP($D268,'C.1 - Rate Sheets'!B:F,2,FALSE)","v":0},{"$f":"VLOOKUP($D268,'C.1 - Rate Sheets'!B:F,3,FALSE)","v":200},{"$f":"VLOOKUP($D268,'C.1 - Rate Sheets'!B:F,4,FALSE)","v":0},{"$f":"VLOOKUP($D268,'C.1 - Rate Sheets'!B:F,5,FALSE)","v":0},null,null,null,null,null,null,null,null,null,null,null,null,null,null,null,null,null,null,null,null,null,16,16,16,16,null,null,null,null,null,null,null,null,null,null,null,null,null,null,null,null,null,null,null,null,null,null,null,null,null,null,null,null,null,null,null,null,null,null,null,null,null,null,null,null,null,null,null,null,null,null,null,null,null,null,null,null,null,null,null,null,null,null,null,null,null,null,null,null,null,null,null,null,null,null,null,null,null,null,null,null,null,null,null,null,null,null,null,null,null,null,null,null,null,null,null,null,null,null,null,null,null,null,null,null,null,null,null,null,null,null,null,null,null,null,null,null,null,null,null,null,null,null,null,null,null,null,null,null,null,null,null,null,null,null,null,null,null,null,null,null,null,null,null,null,null,null,null,null,64,null,null,64,0,12800,0,0,12800,12800,"Yes",0,0,0]
[null,251,null,"CLEAR CREW","Vendor No.04","Clear 22",1253,"2018-10-28","2018-10-31",{"$f":"IF(AND(H269>='A - Contractor Summary'!$C$36,I269<='A - Contractor Summary'!$C$42),\"Yes\",\"No\")","v":"Yes"},{"$f":"VLOOKUP($D269,'C.1 - Rate Sheets'!B:F,2,FALSE)","v":0},{"$f":"VLOOKUP($D269,'C.1 - Rate Sheets'!B:F,3,FALSE)","v":200},{"$f":"VLOOKUP($D269,'C.1 - Rate Sheets'!B:F,4,FALSE)","v":0},{"$f":"VLOOKUP($D269,'C.1 - Rate Sheets'!B:F,5,FALSE)","v":0},null,null,null,null,null,null,null,null,null,null,null,null,null,null,null,null,null,null,null,null,null,16,16,16,16,null,null,null,null,null,null,null,null,null,null,null,null,null,null,null,null,null,null,null,null,null,null,null,null,null,null,null,null,null,null,null,null,null,null,null,null,null,null,null,null,null,null,null,null,null,null,null,null,null,null,null,null,null,null,null,null,null,null,null,null,null,null,null,null,null,null,null,null,null,null,null,null,null,null,null,null,null,null,null,null,null,null,null,null,null,null,null,null,null,null,null,null,null,null,null,null,null,null,null,null,null,null,null,null,null,null,null,null,null,null,null,null,null,null,null,null,null,null,null,null,null,null,null,null,null,null,null,null,null,null,null,null,null,null,null,null,null,null,null,null,null,null,null,null,64,null,null,64,0,12800,0,0,12800,12800,"Yes",0,0,0]
[null,252,null,"CLEAR CREW","Vendor No.04","Clear 23",1253,"2018-10-28","2018-10-31",{"$f":"IF(AND(H270>='A - Contractor Summary'!$C$36,I270<='A - Contractor Summary'!$C$42),\"Yes\",\"No\")","v":"Yes"},{"$f":"VLOOKUP($D270,'C.1 - Rate Sheets'!B:F,2,FALSE)","v":0},{"$f":"VLOOKUP($D270,'C.1 - Rate Sheets'!B:F,3,FALSE)","v":200},{"$f":"VLOOKUP($D270,'C.1 - Rate Sheets'!B:F,4,FALSE)","v":0},{"$f":"VLOOKUP($D270,'C.1 - Rate Sheets'!B:F,5,FALSE)","v":0},null,null,null,null,null,null,null,null,null,null,null,null,null,null,null,null,null,null,null,null,null,16,16,16,16,null,null,null,null,null,null,null,null,null,null,null,null,null,null,null,null,null,null,null,null,null,null,null,null,null,null,null,null,null,null,null,null,null,null,null,null,null,null,null,null,null,null,null,null,null,null,null,null,null,null,null,null,null,null,null,null,null,null,null,null,null,null,null,null,null,null,null,null,null,null,null,null,null,null,null,null,null,null,null,null,null,null,null,null,null,null,null,null,null,null,null,null,null,null,null,null,null,null,null,null,null,null,null,null,null,null,null,null,null,null,null,null,null,null,null,null,null,null,null,null,null,null,null,null,null,null,null,null,null,null,null,null,null,null,null,null,null,null,null,null,null,null,null,null,64,null,null,64,0,12800,0,0,12800,12800,"Yes",0,0,0]
[null,253,null,"CLEAR CREW","Vendor No.04","Clear 24",1253,"2018-10-28","2018-10-31",{"$f":"IF(AND(H271>='A - Contractor Summary'!$C$36,I271<='A - Contractor Summary'!$C$42),\"Yes\",\"No\")","v":"Yes"},{"$f":"VLOOKUP($D271,'C.1 - Rate Sheets'!B:F,2,FALSE)","v":0},{"$f":"VLOOKUP($D271,'C.1 - Rate Sheets'!B:F,3,FALSE)","v":200},{"$f":"VLOOKUP($D271,'C.1 - Rate Sheets'!B:F,4,FALSE)","v":0},{"$f":"VLOOKUP($D271,'C.1 - Rate Sheets'!B:F,5,FALSE)","v":0},null,null,null,null,null,null,null,null,null,null,null,null,null,null,null,null,null,null,null,null,null,16,16,16,16,null,null,null,null,null,null,null,null,null,null,null,null,null,null,null,null,null,null,null,null,null,null,null,null,null,null,null,null,null,null,null,null,null,null,null,null,null,null,null,null,null,null,null,null,null,null,null,null,null,null,null,null,null,null,null,null,null,null,null,null,null,null,null,null,null,null,null,null,null,null,null,null,null,null,null,null,null,null,null,null,null,null,null,null,null,null,null,null,null,null,null,null,null,null,null,null,null,null,null,null,null,null,null,null,null,null,null,null,null,null,null,null,null,null,null,null,null,null,null,null,null,null,null,null,null,null,null,null,null,null,null,null,null,null,null,null,null,null,null,null,null,null,null,null,64,null,null,64,0,12800,0,0,12800,12800,"Yes",0,0,0]
[null,254,null,"CLEAR CREW","Vendor No.04","Clear 25",1253,"2018-10-28","2018-10-31",{"$f":"IF(AND(H272>='A - Contractor Summary'!$C$36,I272<='A - Contractor Summary'!$C$42),\"Yes\",\"No\")","v":"Yes"},{"$f":"VLOOKUP($D272,'C.1 - Rate Sheets'!B:F,2,FALSE)","v":0},{"$f":"VLOOKUP($D272,'C.1 - Rate Sheets'!B:F,3,FALSE)","v":200},{"$f":"VLOOKUP($D272,'C.1 - Rate Sheets'!B:F,4,FALSE)","v":0},{"$f":"VLOOKUP($D272,'C.1 - Rate Sheets'!B:F,5,FALSE)","v":0},null,null,null,null,null,null,null,null,null,null,null,null,null,null,null,null,null,null,null,null,null,16,16,16,16,null,null,null,null,null,null,null,null,null,null,null,null,null,null,null,null,null,null,null,null,null,null,null,null,null,null,null,null,null,null,null,null,null,null,null,null,null,null,null,null,null,null,null,null,null,null,null,null,null,null,null,null,null,null,null,null,null,null,null,null,null,null,null,null,null,null,null,null,null,null,null,null,null,null,null,null,null,null,null,null,null,null,null,null,null,null,null,null,null,null,null,null,null,null,null,null,null,null,null,null,null,null,null,null,null,null,null,null,null,null,null,null,null,null,null,null,null,null,null,null,null,null,null,null,null,null,null,null,null,null,null,null,null,null,null,null,null,null,null,null,null,null,null,null,64,null,null,64,0,12800,0,0,12800,12800,"Yes",0,0,0]
[null,255,null,"CLEAR CREW","Vendor No.04","Clear 26",1253,"2018-10-28","2018-10-31",{"$f":"IF(AND(H273>='A - Contractor Summary'!$C$36,I273<='A - Contractor Summary'!$C$42),\"Yes\",\"No\")","v":"Yes"},{"$f":"VLOOKUP($D273,'C.1 - Rate Sheets'!B:F,2,FALSE)","v":0},{"$f":"VLOOKUP($D273,'C.1 - Rate Sheets'!B:F,3,FALSE)","v":200},{"$f":"VLOOKUP($D273,'C.1 - Rate Sheets'!B:F,4,FALSE)","v":0},{"$f":"VLOOKUP($D273,'C.1 - Rate Sheets'!B:F,5,FALSE)","v":0},null,null,null,null,null,null,null,null,null,null,null,null,null,null,null,null,null,null,null,null,null,16,16,16,16,null,null,null,null,null,null,null,null,null,null,null,null,null,null,null,null,null,null,null,null,null,null,null,null,null,null,null,null,null,null,null,null,null,null,null,null,null,null,null,null,null,null,null,null,null,null,null,null,null,null,null,null,null,null,null,null,null,null,null,null,null,null,null,null,null,null,null,null,null,null,null,null,null,null,null,null,null,null,null,null,null,null,null,null,null,null,null,null,null,null,null,null,null,null,null,null,null,null,null,null,null,null,null,null,null,null,null,null,null,null,null,null,null,null,null,null,null,null,null,null,null,null,null,null,null,null,null,null,null,null,null,null,null,null,null,null,null,null,null,null,null,null,null,null,64,null,null,64,0,12800,0,0,12800,12800,"Yes",0,0,0]
[null,256,null,"CLEAR CREW","Vendor No.04","Clear 27",1253,"2018-10-28","2018-10-31",{"$f":"IF(AND(H274>='A - Contractor Summary'!$C$36,I274<='A - Contractor Summary'!$C$42),\"Yes\",\"No\")","v":"Yes"},{"$f":"VLOOKUP($D274,'C.1 - Rate Sheets'!B:F,2,FALSE)","v":0},{"$f":"VLOOKUP($D274,'C.1 - Rate Sheets'!B:F,3,FALSE)","v":200},{"$f":"VLOOKUP($D274,'C.1 - Rate Sheets'!B:F,4,FALSE)","v":0},{"$f":"VLOOKUP($D274,'C.1 - Rate Sheets'!B:F,5,FALSE)","v":0},null,null,null,null,null,null,null,null,null,null,null,null,null,null,null,null,null,null,null,null,null,16,16,16,16,null,null,null,null,null,null,null,null,null,null,null,null,null,null,null,null,null,null,null,null,null,null,null,null,null,null,null,null,null,null,null,null,null,null,null,null,null,null,null,null,null,null,null,null,null,null,null,null,null,null,null,null,null,null,null,null,null,null,null,null,null,null,null,null,null,null,null,null,null,null,null,null,null,null,null,null,null,null,null,null,null,null,null,null,null,null,null,null,null,null,null,null,null,null,null,null,null,null,null,null,null,null,null,null,null,null,null,null,null,null,null,null,null,null,null,null,null,null,null,null,null,null,null,null,null,null,null,null,null,null,null,null,null,null,null,null,null,null,null,null,null,null,null,null,64,null,null,64,0,12800,0,0,12800,12800,"Yes",0,0,0]
[null,257,null,"CLEAR CREW","Vendor No.04","Clear 28",1253,"2018-10-28","2018-10-31",{"$f":"IF(AND(H275>='A - Contractor Summary'!$C$36,I275<='A - Contractor Summary'!$C$42),\"Yes\",\"No\")","v":"Yes"},{"$f":"VLOOKUP($D275,'C.1 - Rate Sheets'!B:F,2,FALSE)","v":0},{"$f":"VLOOKUP($D275,'C.1 - Rate Sheets'!B:F,3,FALSE)","v":200},{"$f":"VLOOKUP($D275,'C.1 - Rate Sheets'!B:F,4,FALSE)","v":0},{"$f":"VLOOKUP($D275,'C.1 - Rate Sheets'!B:F,5,FALSE)","v":0},null,null,null,null,null,null,null,null,null,null,null,null,null,null,null,null,null,null,null,null,null,16,16,16,16,null,null,null,null,null,null,null,null,null,null,null,null,null,null,null,null,null,null,null,null,null,null,null,null,null,null,null,null,null,null,null,null,null,null,null,null,null,null,null,null,null,null,null,null,null,null,null,null,null,null,null,null,null,null,null,null,null,null,null,null,null,null,null,null,null,null,null,null,null,null,null,null,null,null,null,null,null,null,null,null,null,null,null,null,null,null,null,null,null,null,null,null,null,null,null,null,null,null,null,null,null,null,null,null,null,null,null,null,null,null,null,null,null,null,null,null,null,null,null,null,null,null,null,null,null,null,null,null,null,null,null,null,null,null,null,null,null,null,null,null,null,null,null,null,{"$f":"SUM(O275:FZ275)","v":64},null,null,64,{"$f":"GA275*K275","v":0},{"$f":"GB275*L275","v":12800},{"$f":"GC275*M275","v":0},{"$f":"GD275*N275","v":0},{"$f":"SUM(GF275:GI275)","v":12800},12800,"Yes",0,0,0]
[null,258,null,"CLEAR CREW","Vendor No.04","Clear 29",1253,"2018-10-28","2018-10-31",{"$f":"IF(AND(H276>='A - Contractor Summary'!$C$36,I276<='A - Contractor Summary'!$C$42),\"Yes\",\"No\")","v":"Yes"},{"$f":"VLOOKUP($D276,'C.1 - Rate Sheets'!B:F,2,FALSE)","v":0},{"$f":"VLOOKUP($D276,'C.1 - Rate Sheets'!B:F,3,FALSE)","v":200},{"$f":"VLOOKUP($D276,'C.1 - Rate Sheets'!B:F,4,FALSE)","v":0},{"$f":"VLOOKUP($D276,'C.1 - Rate Sheets'!B:F,5,FALSE)","v":0},null,null,null,null,null,null,null,null,null,null,null,null,null,null,null,null,null,null,null,null,null,16,16,16,16,null,null,null,null,null,null,null,null,null,null,null,null,null,null,null,null,null,null,null,null,null,null,null,null,null,null,null,null,null,null,null,null,null,null,null,null,null,null,null,null,null,null,null,null,null,null,null,null,null,null,null,null,null,null,null,null,null,null,null,null,null,null,null,null,null,null,null,null,null,null,null,null,null,null,null,null,null,null,null,null,null,null,null,null,null,null,null,null,null,null,null,null,null,null,null,null,null,null,null,null,null,null,null,null,null,null,null,null,null,null,null,null,null,null,null,null,null,null,null,null,null,null,null,null,null,null,null,null,null,null,null,null,null,null,null,null,null,null,null,null,null,null,null,null,64,null,null,64,0,12800,0,0,12800,12800,"Yes",0,0,0]
[null,259,null,"CLEAR CREW","Vendor No.04","Clear 30",1253,{"$f":"INDEX($O$16:$BK$16,MATCH(TRUE,INDEX((O277:BK277>0),0),0))","v":"2018-10-28"},{"$f":"LOOKUP(2,1/(1-(O277:BK277<=0)),$O$16:$BK$16)","v":"2018-10-31"},{"$f":"IF(AND(H277>='A - Contractor Summary'!$C$36,I277<='A - Contractor Summary'!$C$42),\"Yes\",\"No\")","v":"Yes"},{"$f":"VLOOKUP($D277,'C.1 - Rate Sheets'!B:F,2,FALSE)","v":0},{"$f":"VLOOKUP($D277,'C.1 - Rate Sheets'!B:F,3,FALSE)","v":200},{"$f":"VLOOKUP($D277,'C.1 - Rate Sheets'!B:F,4,FALSE)","v":0},{"$f":"VLOOKUP($D277,'C.1 - Rate Sheets'!B:F,5,FALSE)","v":0},null,null,null,null,null,null,null,null,null,null,null,null,null,null,null,null,null,null,null,null,null,16,16,16,16,null,null,null,null,null,null,null,null,null,null,null,null,null,null,null,null,null,null,null,null,null,null,null,null,null,null,null,null,null,null,null,null,null,null,null,null,null,null,null,null,null,null,null,null,null,null,null,null,null,null,null,null,null,null,null,null,null,null,null,null,null,null,null,null,null,null,null,null,null,null,null,null,null,null,null,null,null,null,null,null,null,null,null,null,null,null,null,null,null,null,null,null,null,null,null,null,null,null,null,null,null,null,null,null,null,null,null,null,null,null,null,null,null,null,null,null,null,null,null,null,null,null,null,null,null,null,null,null,null,null,null,null,null,null,null,null,null,null,null,null,null,null,null,null,64,null,null,64,0,12800,0,0,12800,{"$f":"GJ277-GM277","v":12800},"Yes",0,0,0]
[null,260,null,"EXCAVATION  CREW","Vendor No.04","Exc 1",1253,"2018-10-28","2018-10-31",{"$f":"IF(AND(H278>='A - Contractor Summary'!$C$36,I278<='A - Contractor Summary'!$C$42),\"Yes\",\"No\")","v":"Yes"},{"$f":"VLOOKUP($D278,'C.1 - Rate Sheets'!B:F,2,FALSE)","v":0},{"$f":"VLOOKUP($D278,'C.1 - Rate Sheets'!B:F,3,FALSE)","v":300},{"$f":"VLOOKUP($D278,'C.1 - Rate Sheets'!B:F,4,FALSE)","v":0},{"$f":"VLOOKUP($D278,'C.1 - Rate Sheets'!B:F,5,FALSE)","v":0},null,null,null,null,null,null,null,null,null,null,null,null,null,null,null,null,null,null,null,null,null,16,16,16,16,null,null,null,null,null,null,null,null,null,null,null,null,null,null,null,null,null,null,null,null,null,null,null,null,null,null,null,null,null,null,null,null,null,null,null,null,null,null,null,null,null,null,null,null,null,null,null,null,null,null,null,null,null,null,null,null,null,null,null,null,null,null,null,null,null,null,null,null,null,null,null,null,null,null,null,null,null,null,null,null,null,null,null,null,null,null,null,null,null,null,null,null,null,null,null,null,null,null,null,null,null,null,null,null,null,null,null,null,null,null,null,null,null,null,null,null,null,null,null,null,null,null,null,null,null,null,null,null,null,null,null,null,null,null,null,null,null,null,null,null,null,null,null,null,64,null,null,64,0,19200,0,0,19200,19200,"Yes",0,0,0]
[null,261,null,"EXCAVATION  CREW","Vendor No.04","Exc2",1253,"2018-10-28","2018-10-31",{"$f":"IF(AND(H279>='A - Contractor Summary'!$C$36,I279<='A - Contractor Summary'!$C$42),\"Yes\",\"No\")","v":"Yes"},{"$f":"VLOOKUP($D279,'C.1 - Rate Sheets'!B:F,2,FALSE)","v":0},{"$f":"VLOOKUP($D279,'C.1 - Rate Sheets'!B:F,3,FALSE)","v":300},{"$f":"VLOOKUP($D279,'C.1 - Rate Sheets'!B:F,4,FALSE)","v":0},{"$f":"VLOOKUP($D279,'C.1 - Rate Sheets'!B:F,5,FALSE)","v":0},null,null,null,null,null,null,null,null,null,null,null,null,null,null,null,null,null,null,null,null,null,16,16,16,16,null,null,null,null,null,null,null,null,null,null,null,null,null,null,null,null,null,null,null,null,null,null,null,null,null,null,null,null,null,null,null,null,null,null,null,null,null,null,null,null,null,null,null,null,null,null,null,null,null,null,null,null,null,null,null,null,null,null,null,null,null,null,null,null,null,null,null,null,null,null,null,null,null,null,null,null,null,null,null,null,null,null,null,null,null,null,null,null,null,null,null,null,null,null,null,null,null,null,null,null,null,null,null,null,null,null,null,null,null,null,null,null,null,null,null,null,null,null,null,null,null,null,null,null,null,null,null,null,null,null,null,null,null,null,null,null,null,null,null,null,null,null,null,null,64,null,null,64,0,19200,0,0,19200,19200,"Yes",0,0,0]
[null,262,null,"EXCAVATION  CREW","Vendor No.04","Exc 3",1253,"2018-10-28","2018-10-31",{"$f":"IF(AND(H280>='A - Contractor Summary'!$C$36,I280<='A - Contractor Summary'!$C$42),\"Yes\",\"No\")","v":"Yes"},{"$f":"VLOOKUP($D280,'C.1 - Rate Sheets'!B:F,2,FALSE)","v":0},{"$f":"VLOOKUP($D280,'C.1 - Rate Sheets'!B:F,3,FALSE)","v":300},{"$f":"VLOOKUP($D280,'C.1 - Rate Sheets'!B:F,4,FALSE)","v":0},{"$f":"VLOOKUP($D280,'C.1 - Rate Sheets'!B:F,5,FALSE)","v":0},null,null,null,null,null,null,null,null,null,null,null,null,null,null,null,null,null,null,null,null,null,16,16,16,16,null,null,null,null,null,null,null,null,null,null,null,null,null,null,null,null,null,null,null,null,null,null,null,null,null,null,null,null,null,null,null,null,null,null,null,null,null,null,null,null,null,null,null,null,null,null,null,null,null,null,null,null,null,null,null,null,null,null,null,null,null,null,null,null,null,null,null,null,null,null,null,null,null,null,null,null,null,null,null,null,null,null,null,null,null,null,null,null,null,null,null,null,null,null,null,null,null,null,null,null,null,null,null,null,null,null,null,null,null,null,null,null,null,null,null,null,null,null,null,null,null,null,null,null,null,null,null,null,null,null,null,null,null,null,null,null,null,null,null,null,null,null,null,null,64,null,null,64,0,19200,0,0,19200,19200,"Yes",0,0,0]
[null,263,null,"EXCAVATION  CREW","Vendor No.04","Exc 4",1253,"2018-10-28","2018-10-31",{"$f":"IF(AND(H281>='A - Contractor Summary'!$C$36,I281<='A - Contractor Summary'!$C$42),\"Yes\",\"No\")","v":"Yes"},{"$f":"VLOOKUP($D281,'C.1 - Rate Sheets'!B:F,2,FALSE)","v":0},{"$f":"VLOOKUP($D281,'C.1 - Rate Sheets'!B:F,3,FALSE)","v":300},{"$f":"VLOOKUP($D281,'C.1 - Rate Sheets'!B:F,4,FALSE)","v":0},{"$f":"VLOOKUP($D281,'C.1 - Rate Sheets'!B:F,5,FALSE)","v":0},null,null,null,null,null,null,null,null,null,null,null,null,null,null,null,null,null,null,null,null,null,16,16,16,16,null,null,null,null,null,null,null,null,null,null,null,null,null,null,null,null,null,null,null,null,null,null,null,null,null,null,null,null,null,null,null,null,null,null,null,null,null,null,null,null,null,null,null,null,null,null,null,null,null,null,null,null,null,null,null,null,null,null,null,null,null,null,null,null,null,null,null,null,null,null,null,null,null,null,null,null,null,null,null,null,null,null,null,null,null,null,null,null,null,null,null,null,null,null,null,null,null,null,null,null,null,null,null,null,null,null,null,null,null,null,null,null,null,null,null,null,null,null,null,null,null,null,null,null,null,null,null,null,null,null,null,null,null,null,null,null,null,null,null,null,null,null,null,null,64,null,null,64,0,19200,0,0,19200,19200,"Yes",0,0,0]
[null,264,null,"EXCAVATION  CREW","Vendor No.04","Exc 5",1253,"2018-10-28","2018-10-31",{"$f":"IF(AND(H282>='A - Contractor Summary'!$C$36,I282<='A - Contractor Summary'!$C$42),\"Yes\",\"No\")","v":"Yes"},{"$f":"VLOOKUP($D282,'C.1 - Rate Sheets'!B:F,2,FALSE)","v":0},{"$f":"VLOOKUP($D282,'C.1 - Rate Sheets'!B:F,3,FALSE)","v":300},{"$f":"VLOOKUP($D282,'C.1 - Rate Sheets'!B:F,4,FALSE)","v":0},{"$f":"VLOOKUP($D282,'C.1 - Rate Sheets'!B:F,5,FALSE)","v":0},null,null,null,null,null,null,null,null,null,null,null,null,null,null,null,null,null,null,null,null,null,16,16,16,16,null,null,null,null,null,null,null,null,null,null,null,null,null,null,null,null,null,null,null,null,null,null,null,null,null,null,null,null,null,null,null,null,null,null,null,null,null,null,null,null,null,null,null,null,null,null,null,null,null,null,null,null,null,null,null,null,null,null,null,null,null,null,null,null,null,null,null,null,null,null,null,null,null,null,null,null,null,null,null,null,null,null,null,null,null,null,null,null,null,null,null,null,null,null,null,null,null,null,null,null,null,null,null,null,null,null,null,null,null,null,null,null,null,null,null,null,null,null,null,null,null,null,null,null,null,null,null,null,null,null,null,null,null,null,null,null,null,null,null,null,null,null,null,null,64,null,null,64,0,19200,0,0,19200,19200,"Yes",0,0,0]
[null,265,null,"EXCAVATION  CREW","Vendor No.04","Exc 6",1253,"2018-10-28","2018-10-31",{"$f":"IF(AND(H283>='A - Contractor Summary'!$C$36,I283<='A - Contractor Summary'!$C$42),\"Yes\",\"No\")","v":"Yes"},{"$f":"VLOOKUP($D283,'C.1 - Rate Sheets'!B:F,2,FALSE)","v":0},{"$f":"VLOOKUP($D283,'C.1 - Rate Sheets'!B:F,3,FALSE)","v":300},{"$f":"VLOOKUP($D283,'C.1 - Rate Sheets'!B:F,4,FALSE)","v":0},{"$f":"VLOOKUP($D283,'C.1 - Rate Sheets'!B:F,5,FALSE)","v":0},null,null,null,null,null,null,null,null,null,null,null,null,null,null,null,null,null,null,null,null,null,16,16,16,16,null,null,null,null,null,null,null,null,null,null,null,null,null,null,null,null,null,null,null,null,null,null,null,null,null,null,null,null,null,null,null,null,null,null,null,null,null,null,null,null,null,null,null,null,null,null,null,null,null,null,null,null,null,null,null,null,null,null,null,null,null,null,null,null,null,null,null,null,null,null,null,null,null,null,null,null,null,null,null,null,null,null,null,null,null,null,null,null,null,null,null,null,null,null,null,null,null,null,null,null,null,null,null,null,null,null,null,null,null,null,null,null,null,null,null,null,null,null,null,null,null,null,null,null,null,null,null,null,null,null,null,null,null,null,null,null,null,null,null,null,null,null,null,null,64,null,null,64,0,19200,0,0,19200,19200,"Yes",0,0,0]
[null,266,null,"EXCAVATION  CREW","Vendor No.04","Exc 7",1253,"2018-10-28","2018-10-31",{"$f":"IF(AND(H284>='A - Contractor Summary'!$C$36,I284<='A - Contractor Summary'!$C$42),\"Yes\",\"No\")","v":"Yes"},{"$f":"VLOOKUP($D284,'C.1 - Rate Sheets'!B:F,2,FALSE)","v":0},{"$f":"VLOOKUP($D284,'C.1 - Rate Sheets'!B:F,3,FALSE)","v":300},{"$f":"VLOOKUP($D284,'C.1 - Rate Sheets'!B:F,4,FALSE)","v":0},{"$f":"VLOOKUP($D284,'C.1 - Rate Sheets'!B:F,5,FALSE)","v":0},null,null,null,null,null,null,null,null,null,null,null,null,null,null,null,null,null,null,null,null,null,16,16,16,16,null,null,null,null,null,null,null,null,null,null,null,null,null,null,null,null,null,null,null,null,null,null,null,null,null,null,null,null,null,null,null,null,null,null,null,null,null,null,null,null,null,null,null,null,null,null,null,null,null,null,null,null,null,null,null,null,null,null,null,null,null,null,null,null,null,null,null,null,null,null,null,null,null,null,null,null,null,null,null,null,null,null,null,null,null,null,null,null,null,null,null,null,null,null,null,null,null,null,null,null,null,null,null,null,null,null,null,null,null,null,null,null,null,null,null,null,null,null,null,null,null,null,null,null,null,null,null,null,null,null,null,null,null,null,null,null,null,null,null,null,null,null,null,null,64,null,null,64,0,19200,0,0,19200,19200,"Yes",0,0,0]
[null,267,null,"MAT CREW","Vendor No.04","Mat 1",1253,"2018-11-01","2018-11-03",{"$f":"IF(AND(H285>='A - Contractor Summary'!$C$36,I285<='A - Contractor Summary'!$C$42),\"Yes\",\"No\")","v":"Yes"},{"$f":"VLOOKUP($D285,'C.1 - Rate Sheets'!B:F,2,FALSE)","v":0},{"$f":"VLOOKUP($D285,'C.1 - Rate Sheets'!B:F,3,FALSE)","v":300},{"$f":"VLOOKUP($D285,'C.1 - Rate Sheets'!B:F,4,FALSE)","v":0},{"$f":"VLOOKUP($D285,'C.1 - Rate Sheets'!B:F,5,FALSE)","v":0},null,null,null,null,null,null,null,null,null,null,null,null,null,null,null,null,null,null,null,null,null,null,null,null,null,16,16,16,null,null,null,null,null,null,null,null,null,null,null,null,null,null,null,null,null,null,null,null,null,null,null,null,null,null,null,null,null,null,null,null,null,null,null,null,null,null,null,null,null,null,null,null,null,null,null,null,null,null,null,null,null,null,null,null,null,null,null,null,null,null,null,null,null,null,null,null,null,null,null,null,null,null,null,null,null,null,null,null,null,null,null,null,null,null,null,null,null,null,null,null,null,null,null,null,null,null,null,null,null,null,null,null,null,null,null,null,null,null,null,null,null,null,null,null,null,null,null,null,null,null,null,null,null,null,null,null,null,null,null,null,null,null,null,null,null,null,null,null,null,48,null,null,48,0,14400,0,0,14400,14400,"Yes",0,0,0]
[null,268,null,"MAT CREW","Vendor No.04","Mat 2",1253,"2018-11-01","2018-11-03",{"$f":"IF(AND(H286>='A - Contractor Summary'!$C$36,I286<='A - Contractor Summary'!$C$42),\"Yes\",\"No\")","v":"Yes"},{"$f":"VLOOKUP($D286,'C.1 - Rate Sheets'!B:F,2,FALSE)","v":0},{"$f":"VLOOKUP($D286,'C.1 - Rate Sheets'!B:F,3,FALSE)","v":300},{"$f":"VLOOKUP($D286,'C.1 - Rate Sheets'!B:F,4,FALSE)","v":0},{"$f":"VLOOKUP($D286,'C.1 - Rate Sheets'!B:F,5,FALSE)","v":0},null,null,null,null,null,null,null,null,null,null,null,null,null,null,null,null,null,null,null,null,null,null,null,null,null,16,16,16,null,null,null,null,null,null,null,null,null,null,null,null,null,null,null,null,null,null,null,null,null,null,null,null,null,null,null,null,null,null,null,null,null,null,null,null,null,null,null,null,null,null,null,null,null,null,null,null,null,null,null,null,null,null,null,null,null,null,null,null,null,null,null,null,null,null,null,null,null,null,null,null,null,null,null,null,null,null,null,null,null,null,null,null,null,null,null,null,null,null,null,null,null,null,null,null,null,null,null,null,null,null,null,null,null,null,null,null,null,null,null,null,null,null,null,null,null,null,null,null,null,null,null,null,null,null,null,null,null,null,null,null,null,null,null,null,null,null,null,null,null,48,null,null,48,0,14400,0,0,14400,14400,"Yes",0,0,0]
[null,269,null,"MOT CREW","Vendor No.04","Mot 1",1258,"2018-11-04","2018-11-10",{"$f":"IF(AND(H287>='A - Contractor Summary'!$C$36,I287<='A - Contractor Summary'!$C$42),\"Yes\",\"No\")","v":"Yes"},{"$f":"VLOOKUP($D287,'C.1 - Rate Sheets'!B:F,2,FALSE)","v":0},{"$f":"VLOOKUP($D287,'C.1 - Rate Sheets'!B:F,3,FALSE)","v":150},{"$f":"VLOOKUP($D287,'C.1 - Rate Sheets'!B:F,4,FALSE)","v":0},{"$f":"VLOOKUP($D287,'C.1 - Rate Sheets'!B:F,5,FALSE)","v":0},null,null,null,null,null,null,null,null,null,null,null,null,null,null,null,null,null,null,null,null,null,null,null,null,null,null,null,null,16,16,16,16,null,null,16,null,null,null,null,null,null,null,null,null,null,null,null,null,null,null,null,null,null,null,null,null,null,null,null,null,null,null,null,null,null,null,null,null,null,null,null,null,null,null,null,null,null,null,null,null,null,null,null,null,null,null,null,null,null,null,null,null,null,null,null,null,null,null,null,null,null,null,null,null,null,null,null,null,null,null,null,null,null,null,null,null,null,null,null,null,null,null,null,null,null,null,null,null,null,null,null,null,null,null,null,null,null,null,null,null,null,null,null,null,null,null,null,null,null,null,null,null,null,null,null,null,null,null,null,null,null,null,null,null,null,null,null,null,null,80,null,null,80,0,12000,0,0,12000,12000,"Yes",0,0,0]
[null,270,null,"MOT CREW","Vendor No.04","Mot 2",1258,"2018-11-04","2018-11-10",{"$f":"IF(AND(H288>='A - Contractor Summary'!$C$36,I288<='A - Contractor Summary'!$C$42),\"Yes\",\"No\")","v":"Yes"},{"$f":"VLOOKUP($D288,'C.1 - Rate Sheets'!B:F,2,FALSE)","v":0},{"$f":"VLOOKUP($D288,'C.1 - Rate Sheets'!B:F,3,FALSE)","v":150},{"$f":"VLOOKUP($D288,'C.1 - Rate Sheets'!B:F,4,FALSE)","v":0},{"$f":"VLOOKUP($D288,'C.1 - Rate Sheets'!B:F,5,FALSE)","v":0},null,null,null,null,null,null,null,null,null,null,null,null,null,null,null,null,null,null,null,null,null,null,null,null,null,null,null,null,16,16,16,16,null,null,16,null,null,null,null,null,null,null,null,null,null,null,null,null,null,null,null,null,null,null,null,null,null,null,null,null,null,null,null,null,null,null,null,null,null,null,null,null,null,null,null,null,null,null,null,null,null,null,null,null,null,null,null,null,null,null,null,null,null,null,null,null,null,null,null,null,null,null,null,null,null,null,null,null,null,null,null,null,null,null,null,null,null,null,null,null,null,null,null,null,null,null,null,null,null,null,null,null,null,null,null,null,null,null,null,null,null,null,null,null,null,null,null,null,null,null,null,null,null,null,null,null,null,null,null,null,null,null,null,null,null,null,null,null,null,80,null,null,80,0,12000,0,0,12000,12000,"Yes",0,0,0]
[null,271,null,"MOT CREW","Vendor No.04","Mot 3",1258,"2018-11-04","2018-11-10",{"$f":"IF(AND(H289>='A - Contractor Summary'!$C$36,I289<='A - Contractor Summary'!$C$42),\"Yes\",\"No\")","v":"Yes"},{"$f":"VLOOKUP($D289,'C.1 - Rate Sheets'!B:F,2,FALSE)","v":0},{"$f":"VLOOKUP($D289,'C.1 - Rate Sheets'!B:F,3,FALSE)","v":150},{"$f":"VLOOKUP($D289,'C.1 - Rate Sheets'!B:F,4,FALSE)","v":0},{"$f":"VLOOKUP($D289,'C.1 - Rate Sheets'!B:F,5,FALSE)","v":0},null,null,null,null,null,null,null,null,null,null,null,null,null,null,null,null,null,null,null,null,null,null,null,null,null,null,null,null,16,16,16,16,null,null,16,null,null,null,null,null,null,null,null,null,null,null,null,null,null,null,null,null,null,null,null,null,null,null,null,null,null,null,null,null,null,null,null,null,null,null,null,null,null,null,null,null,null,null,null,null,null,null,null,null,null,null,null,null,null,null,null,null,null,null,null,null,null,null,null,null,null,null,null,null,null,null,null,null,null,null,null,null,null,null,null,null,null,null,null,null,null,null,null,null,null,null,null,null,null,null,null,null,null,null,null,null,null,null,null,null,null,null,null,null,null,null,null,null,null,null,null,null,null,null,null,null,null,null,null,null,null,null,null,null,null,null,null,null,null,80,null,null,80,0,12000,0,0,12000,12000,"Yes",0,0,0]
[null,272,null,"MOT CREW","Vendor No.04","Mot 4",1258,"2018-11-04","2018-11-10",{"$f":"IF(AND(H290>='A - Contractor Summary'!$C$36,I290<='A - Contractor Summary'!$C$42),\"Yes\",\"No\")","v":"Yes"},{"$f":"VLOOKUP($D290,'C.1 - Rate Sheets'!B:F,2,FALSE)","v":0},{"$f":"VLOOKUP($D290,'C.1 - Rate Sheets'!B:F,3,FALSE)","v":150},{"$f":"VLOOKUP($D290,'C.1 - Rate Sheets'!B:F,4,FALSE)","v":0},{"$f":"VLOOKUP($D290,'C.1 - Rate Sheets'!B:F,5,FALSE)","v":0},null,null,null,null,null,null,null,null,null,null,null,null,null,null,null,null,null,null,null,null,null,null,null,null,null,null,null,null,16,16,16,16,null,null,16,null,null,null,null,null,null,null,null,null,null,null,null,null,null,null,null,null,null,null,null,null,null,null,null,null,null,null,null,null,null,null,null,null,null,null,null,null,null,null,null,null,null,null,null,null,null,null,null,null,null,null,null,null,null,null,null,null,null,null,null,null,null,null,null,null,null,null,null,null,null,null,null,null,null,null,null,null,null,null,null,null,null,null,null,null,null,null,null,null,null,null,null,null,null,null,null,null,null,null,null,null,null,null,null,null,null,null,null,null,null,null,null,null,null,null,null,null,null,null,null,null,null,null,null,null,null,null,null,null,null,null,null,null,null,80,null,null,80,0,12000,0,0,12000,12000,"Yes",0,0,0]
[null,273,null,"MOT CREW","Vendor No.04","Mot 5",1258,"2018-11-04","2018-11-07",{"$f":"IF(AND(H291>='A - Contractor Summary'!$C$36,I291<='A - Contractor Summary'!$C$42),\"Yes\",\"No\")","v":"Yes"},{"$f":"VLOOKUP($D291,'C.1 - Rate Sheets'!B:F,2,FALSE)","v":0},{"$f":"VLOOKUP($D291,'C.1 - Rate Sheets'!B:F,3,FALSE)","v":150},{"$f":"VLOOKUP($D291,'C.1 - Rate Sheets'!B:F,4,FALSE)","v":0},{"$f":"VLOOKUP($D291,'C.1 - Rate Sheets'!B:F,5,FALSE)","v":0},null,null,null,null,null,null,null,null,null,null,null,null,null,null,null,null,null,null,null,null,null,null,null,null,null,null,null,null,16,16,16,16,null,null,null,null,null,null,null,null,null,null,null,null,null,null,null,null,null,null,null,null,null,null,null,null,null,null,null,null,null,null,null,null,null,null,null,null,null,null,null,null,null,null,null,null,null,null,null,null,null,null,null,null,null,null,null,null,null,null,null,null,null,null,null,null,null,null,null,null,null,null,null,null,null,null,null,null,null,null,null,null,null,null,null,null,null,null,null,null,null,null,null,null,null,null,null,null,null,null,null,null,null,null,null,null,null,null,null,null,null,null,null,null,null,null,null,null,null,null,null,null,null,null,null,null,null,null,null,null,null,null,null,null,null,null,null,null,null,64,null,null,64,0,9600,0,0,9600,9600,"Yes",0,0,0]
[null,274,null,"MOT CREW","Vendor No.04","Mot 6",1258,"2018-11-04","2018-11-07",{"$f":"IF(AND(H292>='A - Contractor Summary'!$C$36,I292<='A - Contractor Summary'!$C$42),\"Yes\",\"No\")","v":"Yes"},{"$f":"VLOOKUP($D292,'C.1 - Rate Sheets'!B:F,2,FALSE)","v":0},{"$f":"VLOOKUP($D292,'C.1 - Rate Sheets'!B:F,3,FALSE)","v":150},{"$f":"VLOOKUP($D292,'C.1 - Rate Sheets'!B:F,4,FALSE)","v":0},{"$f":"VLOOKUP($D292,'C.1 - Rate Sheets'!B:F,5,FALSE)","v":0},null,null,null,null,null,null,null,null,null,null,null,null,null,null,null,null,null,null,null,null,null,null,null,null,null,null,null,null,16,16,16,16,null,null,null,null,null,null,null,null,null,null,null,null,null,null,null,null,null,null,null,null,null,null,null,null,null,null,null,null,null,null,null,null,null,null,null,null,null,null,null,null,null,null,null,null,null,null,null,null,null,null,null,null,null,null,null,null,null,null,null,null,null,null,null,null,null,null,null,null,null,null,null,null,null,null,null,null,null,null,null,null,null,null,null,null,null,null,null,null,null,null,null,null,null,null,null,null,null,null,null,null,null,null,null,null,null,null,null,null,null,null,null,null,null,null,null,null,null,null,null,null,null,null,null,null,null,null,null,null,null,null,null,null,null,null,null,null,null,64,null,null,64,0,9600,0,0,9600,9600,"Yes",0,0,0]
[null,275,null,"MOT CREW","Vendor No.04","Mot 7",1258,"2018-11-04","2018-11-07",{"$f":"IF(AND(H293>='A - Contractor Summary'!$C$36,I293<='A - Contractor Summary'!$C$42),\"Yes\",\"No\")","v":"Yes"},{"$f":"VLOOKUP($D293,'C.1 - Rate Sheets'!B:F,2,FALSE)","v":0},{"$f":"VLOOKUP($D293,'C.1 - Rate Sheets'!B:F,3,FALSE)","v":150},{"$f":"VLOOKUP($D293,'C.1 - Rate Sheets'!B:F,4,FALSE)","v":0},{"$f":"VLOOKUP($D293,'C.1 - Rate Sheets'!B:F,5,FALSE)","v":0},null,null,null,null,null,null,null,null,null,null,null,null,null,null,null,null,null,null,null,null,null,null,null,null,null,null,null,null,16,16,16,16,null,null,null,null,null,null,null,null,null,null,null,null,null,null,null,null,null,null,null,null,null,null,null,null,null,null,null,null,null,null,null,null,null,null,null,null,null,null,null,null,null,null,null,null,null,null,null,null,null,null,null,null,null,null,null,null,null,null,null,null,null,null,null,null,null,null,null,null,null,null,null,null,null,null,null,null,null,null,null,null,null,null,null,null,null,null,null,null,null,null,null,null,null,null,null,null,null,null,null,null,null,null,null,null,null,null,null,null,null,null,null,null,null,null,null,null,null,null,null,null,null,null,null,null,null,null,null,null,null,null,null,null,null,null,null,null,null,64,null,null,64,0,9600,0,0,9600,9600,"Yes",0,0,0]
[null,276,null,"MOT CREW","Vendor No.04","Mot 8",1258,"2018-11-04","2018-11-07",{"$f":"IF(AND(H294>='A - Contractor Summary'!$C$36,I294<='A - Contractor Summary'!$C$42),\"Yes\",\"No\")","v":"Yes"},{"$f":"VLOOKUP($D294,'C.1 - Rate Sheets'!B:F,2,FALSE)","v":0},{"$f":"VLOOKUP($D294,'C.1 - Rate Sheets'!B:F,3,FALSE)","v":150},{"$f":"VLOOKUP($D294,'C.1 - Rate Sheets'!B:F,4,FALSE)","v":0},{"$f":"VLOOKUP($D294,'C.1 - Rate Sheets'!B:F,5,FALSE)","v":0},null,null,null,null,null,null,null,null,null,null,null,null,null,null,null,null,null,null,null,null,null,null,null,null,null,null,null,null,16,16,16,16,null,null,null,null,null,null,null,null,null,null,null,null,null,null,null,null,null,null,null,null,null,null,null,null,null,null,null,null,null,null,null,null,null,null,null,null,null,null,null,null,null,null,null,null,null,null,null,null,null,null,null,null,null,null,null,null,null,null,null,null,null,null,null,null,null,null,null,null,null,null,null,null,null,null,null,null,null,null,null,null,null,null,null,null,null,null,null,null,null,null,null,null,null,null,null,null,null,null,null,null,null,null,null,null,null,null,null,null,null,null,null,null,null,null,null,null,null,null,null,null,null,null,null,null,null,null,null,null,null,null,null,null,null,null,null,null,null,64,null,null,64,0,9600,0,0,9600,9600,"Yes",0,0,0]
[null,277,null,"MOT CREW","Vendor No.04","Mot 9",1258,"2018-11-04","2018-11-07",{"$f":"IF(AND(H295>='A - Contractor Summary'!$C$36,I295<='A - Contractor Summary'!$C$42),\"Yes\",\"No\")","v":"Yes"},{"$f":"VLOOKUP($D295,'C.1 - Rate Sheets'!B:F,2,FALSE)","v":0},{"$f":"VLOOKUP($D295,'C.1 - Rate Sheets'!B:F,3,FALSE)","v":150},{"$f":"VLOOKUP($D295,'C.1 - Rate Sheets'!B:F,4,FALSE)","v":0},{"$f":"VLOOKUP($D295,'C.1 - Rate Sheets'!B:F,5,FALSE)","v":0},null,null,null,null,null,null,null,null,null,null,null,null,null,null,null,null,null,null,null,null,null,null,null,null,null,null,null,null,16,16,16,16,null,null,null,null,null,null,null,null,null,null,null,null,null,null,null,null,null,null,null,null,null,null,null,null,null,null,null,null,null,null,null,null,null,null,null,null,null,null,null,null,null,null,null,null,null,null,null,null,null,null,null,null,null,null,null,null,null,null,null,null,null,null,null,null,null,null,null,null,null,null,null,null,null,null,null,null,null,null,null,null,null,null,null,null,null,null,null,null,null,null,null,null,null,null,null,null,null,null,null,null,null,null,null,null,null,null,null,null,null,null,null,null,null,null,null,null,null,null,null,null,null,null,null,null,null,null,null,null,null,null,null,null,null,null,null,null,null,64,null,null,64,0,9600,0,0,9600,9600,"Yes",0,0,0]
[null,278,null,"MOT CREW","Vendor No.04","Mot 10",1258,"2018-11-04","2018-11-07",{"$f":"IF(AND(H296>='A - Contractor Summary'!$C$36,I296<='A - Contractor Summary'!$C$42),\"Yes\",\"No\")","v":"Yes"},{"$f":"VLOOKUP($D296,'C.1 - Rate Sheets'!B:F,2,FALSE)","v":0},{"$f":"VLOOKUP($D296,'C.1 - Rate Sheets'!B:F,3,FALSE)","v":150},{"$f":"VLOOKUP($D296,'C.1 - Rate Sheets'!B:F,4,FALSE)","v":0},{"$f":"VLOOKUP($D296,'C.1 - Rate Sheets'!B:F,5,FALSE)","v":0},null,null,null,null,null,null,null,null,null,null,null,null,null,null,null,null,null,null,null,null,null,null,null,null,null,null,null,null,16,16,16,16,null,null,null,null,null,null,null,null,null,null,null,null,null,null,null,null,null,null,null,null,null,null,null,null,null,null,null,null,null,null,null,null,null,null,null,null,null,null,null,null,null,null,null,null,null,null,null,null,null,null,null,null,null,null,null,null,null,null,null,null,null,null,null,null,null,null,null,null,null,null,null,null,null,null,null,null,null,null,null,null,null,null,null,null,null,null,null,null,null,null,null,null,null,null,null,null,null,null,null,null,null,null,null,null,null,null,null,null,null,null,null,null,null,null,null,null,null,null,null,null,null,null,null,null,null,null,null,null,null,null,null,null,null,null,null,null,null,64,null,null,64,0,9600,0,0,9600,9600,"Yes",0,0,0]
[null,279,null,"MOT CREW","Vendor No.04","Mot 11",1258,"2018-11-04","2018-11-07",{"$f":"IF(AND(H297>='A - Contractor Summary'!$C$36,I297<='A - Contractor Summary'!$C$42),\"Yes\",\"No\")","v":"Yes"},{"$f":"VLOOKUP($D297,'C.1 - Rate Sheets'!B:F,2,FALSE)","v":0},{"$f":"VLOOKUP($D297,'C.1 - Rate Sheets'!B:F,3,FALSE)","v":150},{"$f":"VLOOKUP($D297,'C.1 - Rate Sheets'!B:F,4,FALSE)","v":0},{"$f":"VLOOKUP($D297,'C.1 - Rate Sheets'!B:F,5,FALSE)","v":0},null,null,null,null,null,null,null,null,null,null,null,null,null,null,null,null,null,null,null,null,null,null,null,null,null,null,null,null,16,16,16,16,null,null,null,null,null,null,null,null,null,null,null,null,null,null,null,null,null,null,null,null,null,null,null,null,null,null,null,null,null,null,null,null,null,null,null,null,null,null,null,null,null,null,null,null,null,null,null,null,null,null,null,null,null,null,null,null,null,null,null,null,null,null,null,null,null,null,null,null,null,null,null,null,null,null,null,null,null,null,null,null,null,null,null,null,null,null,null,null,null,null,null,null,null,null,null,null,null,null,null,null,null,null,null,null,null,null,null,null,null,null,null,null,null,null,null,null,null,null,null,null,null,null,null,null,null,null,null,null,null,null,null,null,null,null,null,null,null,64,null,null,64,0,9600,0,0,9600,9600,"Yes",0,0,0]
[null,280,null,"MOT CREW","Vendor No.04","Mot 12",1258,"2018-11-04","2018-11-07",{"$f":"IF(AND(H298>='A - Contractor Summary'!$C$36,I298<='A - Contractor Summary'!$C$42),\"Yes\",\"No\")","v":"Yes"},{"$f":"VLOOKUP($D298,'C.1 - Rate Sheets'!B:F,2,FALSE)","v":0},{"$f":"VLOOKUP($D298,'C.1 - Rate Sheets'!B:F,3,FALSE)","v":150},{"$f":"VLOOKUP($D298,'C.1 - Rate Sheets'!B:F,4,FALSE)","v":0},{"$f":"VLOOKUP($D298,'C.1 - Rate Sheets'!B:F,5,FALSE)","v":0},null,null,null,null,null,null,null,null,null,null,null,null,null,null,null,null,null,null,null,null,null,null,null,null,null,null,null,null,16,16,16,16,null,null,null,null,null,null,null,null,null,null,null,null,null,null,null,null,null,null,null,null,null,null,null,null,null,null,null,null,null,null,null,null,null,null,null,null,null,null,null,null,null,null,null,null,null,null,null,null,null,null,null,null,null,null,null,null,null,null,null,null,null,null,null,null,null,null,null,null,null,null,null,null,null,null,null,null,null,null,null,null,null,null,null,null,null,null,null,null,null,null,null,null,null,null,null,null,null,null,null,null,null,null,null,null,null,null,null,null,null,null,null,null,null,null,null,null,null,null,null,null,null,null,null,null,null,null,null,null,null,null,null,null,null,null,null,null,null,64,null,null,64,0,9600,0,0,9600,9600,"Yes",0,0,0]
[null,281,null,"MOT CREW","Vendor No.04","Mot 13",1258,"2018-11-04","2018-11-07",{"$f":"IF(AND(H299>='A - Contractor Summary'!$C$36,I299<='A - Contractor Summary'!$C$42),\"Yes\",\"No\")","v":"Yes"},{"$f":"VLOOKUP($D299,'C.1 - Rate Sheets'!B:F,2,FALSE)","v":0},{"$f":"VLOOKUP($D299,'C.1 - Rate Sheets'!B:F,3,FALSE)","v":150},{"$f":"VLOOKUP($D299,'C.1 - Rate Sheets'!B:F,4,FALSE)","v":0},{"$f":"VLOOKUP($D299,'C.1 - Rate Sheets'!B:F,5,FALSE)","v":0},null,null,null,null,null,null,null,null,null,null,null,null,null,null,null,null,null,null,null,null,null,null,null,null,null,null,null,null,16,16,16,16,null,null,null,null,null,null,null,null,null,null,null,null,null,null,null,null,null,null,null,null,null,null,null,null,null,null,null,null,null,null,null,null,null,null,null,null,null,null,null,null,null,null,null,null,null,null,null,null,null,null,null,null,null,null,null,null,null,null,null,null,null,null,null,null,null,null,null,null,null,null,null,null,null,null,null,null,null,null,null,null,null,null,null,null,null,null,null,null,null,null,null,null,null,null,null,null,null,null,null,null,null,null,null,null,null,null,null,null,null,null,null,null,null,null,null,null,null,null,null,null,null,null,null,null,null,null,null,null,null,null,null,null,null,null,null,null,null,64,null,null,64,0,9600,0,0,9600,9600,"Yes",0,0,0]
[null,282,null,"MOT CREW","Vendor No.04","Mot 14",1258,"2018-11-04","2018-11-07",{"$f":"IF(AND(H300>='A - Contractor Summary'!$C$36,I300<='A - Contractor Summary'!$C$42),\"Yes\",\"No\")","v":"Yes"},{"$f":"VLOOKUP($D300,'C.1 - Rate Sheets'!B:F,2,FALSE)","v":0},{"$f":"VLOOKUP($D300,'C.1 - Rate Sheets'!B:F,3,FALSE)","v":150},{"$f":"VLOOKUP($D300,'C.1 - Rate Sheets'!B:F,4,FALSE)","v":0},{"$f":"VLOOKUP($D300,'C.1 - Rate Sheets'!B:F,5,FALSE)","v":0},null,null,null,null,null,null,null,null,null,null,null,null,null,null,null,null,null,null,null,null,null,null,null,null,null,null,null,null,16,16,16,16,null,null,null,null,null,null,null,null,null,null,null,null,null,null,null,null,null,null,null,null,null,null,null,null,null,null,null,null,null,null,null,null,null,null,null,null,null,null,null,null,null,null,null,null,null,null,null,null,null,null,null,null,null,null,null,null,null,null,null,null,null,null,null,null,null,null,null,null,null,null,null,null,null,null,null,null,null,null,null,null,null,null,null,null,null,null,null,null,null,null,null,null,null,null,null,null,null,null,null,null,null,null,null,null,null,null,null,null,null,null,null,null,null,null,null,null,null,null,null,null,null,null,null,null,null,null,null,null,null,null,null,null,null,null,null,null,null,64,null,null,64,0,9600,0,0,9600,9600,"Yes",0,0,0]
[null,283,null,"MOT CREW","Vendor No.04","Mot 15",1258,"2018-11-04","2018-11-06",{"$f":"IF(AND(H301>='A - Contractor Summary'!$C$36,I301<='A - Contractor Summary'!$C$42),\"Yes\",\"No\")","v":"Yes"},{"$f":"VLOOKUP($D301,'C.1 - Rate Sheets'!B:F,2,FALSE)","v":0},{"$f":"VLOOKUP($D301,'C.1 - Rate Sheets'!B:F,3,FALSE)","v":150},{"$f":"VLOOKUP($D301,'C.1 - Rate Sheets'!B:F,4,FALSE)","v":0},{"$f":"VLOOKUP($D301,'C.1 - Rate Sheets'!B:F,5,FALSE)","v":0},null,null,null,null,null,null,null,null,null,null,null,null,null,null,null,null,null,null,null,null,null,null,null,null,null,null,null,null,16,16,16,null,null,null,null,null,null,null,null,null,null,null,null,null,null,null,null,null,null,null,null,null,null,null,null,null,null,null,null,null,null,null,null,null,null,null,null,null,null,null,null,null,null,null,null,null,null,null,null,null,null,null,null,null,null,null,null,null,null,null,null,null,null,null,null,null,null,null,null,null,null,null,null,null,null,null,null,null,null,null,null,null,null,null,null,null,null,null,null,null,null,null,null,null,null,null,null,null,null,null,null,null,null,null,null,null,null,null,null,null,null,null,null,null,null,null,null,null,null,null,null,null,null,null,null,null,null,null,null,null,null,null,null,null,null,null,null,null,null,48,null,null,48,0,7200,0,0,7200,7200,"Yes",0,0,0]
[null,284,null,"MOT CREW","Vendor No.04","Mot 16",1258,"2018-11-04","2018-11-06",{"$f":"IF(AND(H302>='A - Contractor Summary'!$C$36,I302<='A - Contractor Summary'!$C$42),\"Yes\",\"No\")","v":"Yes"},{"$f":"VLOOKUP($D302,'C.1 - Rate Sheets'!B:F,2,FALSE)","v":0},{"$f":"VLOOKUP($D302,'C.1 - Rate Sheets'!B:F,3,FALSE)","v":150},{"$f":"VLOOKUP($D302,'C.1 - Rate Sheets'!B:F,4,FALSE)","v":0},{"$f":"VLOOKUP($D302,'C.1 - Rate Sheets'!B:F,5,FALSE)","v":0},null,null,null,null,null,null,null,null,null,null,null,null,null,null,null,null,null,null,null,null,null,null,null,null,null,null,null,null,16,16,16,null,null,null,null,null,null,null,null,null,null,null,null,null,null,null,null,null,null,null,null,null,null,null,null,null,null,null,null,null,null,null,null,null,null,null,null,null,null,null,null,null,null,null,null,null,null,null,null,null,null,null,null,null,null,null,null,null,null,null,null,null,null,null,null,null,null,null,null,null,null,null,null,null,null,null,null,null,null,null,null,null,null,null,null,null,null,null,null,null,null,null,null,null,null,null,null,null,null,null,null,null,null,null,null,null,null,null,null,null,null,null,null,null,null,null,null,null,null,null,null,null,null,null,null,null,null,null,null,null,null,null,null,null,null,null,null,null,null,48,null,null,48,0,7200,0,0,7200,7200,"Yes",0,0,0]
[null,285,null,"MOT CREW","Vendor No.04","Mot 17",1258,"2018-11-04","2018-11-06",{"$f":"IF(AND(H303>='A - Contractor Summary'!$C$36,I303<='A - Contractor Summary'!$C$42),\"Yes\",\"No\")","v":"Yes"},{"$f":"VLOOKUP($D303,'C.1 - Rate Sheets'!B:F,2,FALSE)","v":0},{"$f":"VLOOKUP($D303,'C.1 - Rate Sheets'!B:F,3,FALSE)","v":150},{"$f":"VLOOKUP($D303,'C.1 - Rate Sheets'!B:F,4,FALSE)","v":0},{"$f":"VLOOKUP($D303,'C.1 - Rate Sheets'!B:F,5,FALSE)","v":0},null,null,null,null,null,null,null,null,null,null,null,null,null,null,null,null,null,null,null,null,null,null,null,null,null,null,null,null,16,16,16,null,null,null,null,null,null,null,null,null,null,null,null,null,null,null,null,null,null,null,null,null,null,null,null,null,null,null,null,null,null,null,null,null,null,null,null,null,null,null,null,null,null,null,null,null,null,null,null,null,null,null,null,null,null,null,null,null,null,null,null,null,null,null,null,null,null,null,null,null,null,null,null,null,null,null,null,null,null,null,null,null,null,null,null,null,null,null,null,null,null,null,null,null,null,null,null,null,null,null,null,null,null,null,null,null,null,null,null,null,null,null,null,null,null,null,null,null,null,null,null,null,null,null,null,null,null,null,null,null,null,null,null,null,null,null,null,null,null,48,null,null,48,0,7200,0,0,7200,7200,"Yes",0,0,0]
[null,286,null,"MOT CREW","Vendor No.04","Mot 18",1258,"2018-11-04","2018-11-06",{"$f":"IF(AND(H304>='A - Contractor Summary'!$C$36,I304<='A - Contractor Summary'!$C$42),\"Yes\",\"No\")","v":"Yes"},{"$f":"VLOOKUP($D304,'C.1 - Rate Sheets'!B:F,2,FALSE)","v":0},{"$f":"VLOOKUP($D304,'C.1 - Rate Sheets'!B:F,3,FALSE)","v":150},{"$f":"VLOOKUP($D304,'C.1 - Rate Sheets'!B:F,4,FALSE)","v":0},{"$f":"VLOOKUP($D304,'C.1 - Rate Sheets'!B:F,5,FALSE)","v":0},null,null,null,null,null,null,null,null,null,null,null,null,null,null,null,null,null,null,null,null,null,null,null,null,null,null,null,null,16,16,16,null,null,null,null,null,null,null,null,null,null,null,null,null,null,null,null,null,null,null,null,null,null,null,null,null,null,null,null,null,null,null,null,null,null,null,null,null,null,null,null,null,null,null,null,null,null,null,null,null,null,null,null,null,null,null,null,null,null,null,null,null,null,null,null,null,null,null,null,null,null,null,null,null,null,null,null,null,null,null,null,null,null,null,null,null,null,null,null,null,null,null,null,null,null,null,null,null,null,null,null,null,null,null,null,null,null,null,null,null,null,null,null,null,null,null,null,null,null,null,null,null,null,null,null,null,null,null,null,null,null,null,null,null,null,null,null,null,null,48,null,null,48,0,7200,0,0,7200,7200,"Yes",0,0,0]
[null,287,null,"MOT CREW","Vendor No.04","Mot 19",1258,"2018-11-04","2018-11-06",{"$f":"IF(AND(H305>='A - Contractor Summary'!$C$36,I305<='A - Contractor Summary'!$C$42),\"Yes\",\"No\")","v":"Yes"},{"$f":"VLOOKUP($D305,'C.1 - Rate Sheets'!B:F,2,FALSE)","v":0},{"$f":"VLOOKUP($D305,'C.1 - Rate Sheets'!B:F,3,FALSE)","v":150},{"$f":"VLOOKUP($D305,'C.1 - Rate Sheets'!B:F,4,FALSE)","v":0},{"$f":"VLOOKUP($D305,'C.1 - Rate Sheets'!B:F,5,FALSE)","v":0},null,null,null,null,null,null,null,null,null,null,null,null,null,null,null,null,null,null,null,null,null,null,null,null,null,null,null,null,16,16,16,null,null,null,null,null,null,null,null,null,null,null,null,null,null,null,null,null,null,null,null,null,null,null,null,null,null,null,null,null,null,null,null,null,null,null,null,null,null,null,null,null,null,null,null,null,null,null,null,null,null,null,null,null,null,null,null,null,null,null,null,null,null,null,null,null,null,null,null,null,null,null,null,null,null,null,null,null,null,null,null,null,null,null,null,null,null,null,null,null,null,null,null,null,null,null,null,null,null,null,null,null,null,null,null,null,null,null,null,null,null,null,null,null,null,null,null,null,null,null,null,null,null,null,null,null,null,null,null,null,null,null,null,null,null,null,null,null,null,48,null,null,48,0,7200,0,0,7200,7200,"Yes",0,0,0]
[null,288,null,"MOT CREW","Vendor No.04","Mot 20",1258,"2018-11-06","2018-11-06",{"$f":"IF(AND(H306>='A - Contractor Summary'!$C$36,I306<='A - Contractor Summary'!$C$42),\"Yes\",\"No\")","v":"Yes"},{"$f":"VLOOKUP($D306,'C.1 - Rate Sheets'!B:F,2,FALSE)","v":0},{"$f":"VLOOKUP($D306,'C.1 - Rate Sheets'!B:F,3,FALSE)","v":150},{"$f":"VLOOKUP($D306,'C.1 - Rate Sheets'!B:F,4,FALSE)","v":0},{"$f":"VLOOKUP($D306,'C.1 - Rate Sheets'!B:F,5,FALSE)","v":0},null,null,null,null,null,null,null,null,null,null,null,null,null,null,null,null,null,null,null,null,null,null,null,null,null,null,null,null,null,null,16,null,null,null,null,null,null,null,null,null,null,null,null,null,null,null,null,null,null,null,null,null,null,null,null,null,null,null,null,null,null,null,null,null,null,null,null,null,null,null,null,null,null,null,null,null,null,null,null,null,null,null,null,null,null,null,null,null,null,null,null,null,null,null,null,null,null,null,null,null,null,null,null,null,null,null,null,null,null,null,null,null,null,null,null,null,null,null,null,null,null,null,null,null,null,null,null,null,null,null,null,null,null,null,null,null,null,null,null,null,null,null,null,null,null,null,null,null,null,null,null,null,null,null,null,null,null,null,null,null,null,null,null,null,null,null,null,null,null,16,null,null,16,0,2400,0,0,2400,2400,"Yes",0,0,0]
[null,289,null,"MOT CREW","Vendor No.04","Mot 21",1258,"2018-11-06","2018-11-06",{"$f":"IF(AND(H307>='A - Contractor Summary'!$C$36,I307<='A - Contractor Summary'!$C$42),\"Yes\",\"No\")","v":"Yes"},{"$f":"VLOOKUP($D307,'C.1 - Rate Sheets'!B:F,2,FALSE)","v":0},{"$f":"VLOOKUP($D307,'C.1 - Rate Sheets'!B:F,3,FALSE)","v":150},{"$f":"VLOOKUP($D307,'C.1 - Rate Sheets'!B:F,4,FALSE)","v":0},{"$f":"VLOOKUP($D307,'C.1 - Rate Sheets'!B:F,5,FALSE)","v":0},null,null,null,null,null,null,null,null,null,null,null,null,null,null,null,null,null,null,null,null,null,null,null,null,null,null,null,null,null,null,16,null,null,null,null,null,null,null,null,null,null,null,null,null,null,null,null,null,null,null,null,null,null,null,null,null,null,null,null,null,null,null,null,null,null,null,null,null,null,null,null,null,null,null,null,null,null,null,null,null,null,null,null,null,null,null,null,null,null,null,null,null,null,null,null,null,null,null,null,null,null,null,null,null,null,null,null,null,null,null,null,null,null,null,null,null,null,null,null,null,null,null,null,null,null,null,null,null,null,null,null,null,null,null,null,null,null,null,null,null,null,null,null,null,null,null,null,null,null,null,null,null,null,null,null,null,null,null,null,null,null,null,null,null,null,null,null,null,null,16,null,null,16,0,2400,0,0,2400,2400,"Yes",0,0,0]
[null,290,null,"MOT CREW","Vendor No.04","Mot 22",1258,"2018-11-06","2018-11-06",{"$f":"IF(AND(H308>='A - Contractor Summary'!$C$36,I308<='A - Contractor Summary'!$C$42),\"Yes\",\"No\")","v":"Yes"},{"$f":"VLOOKUP($D308,'C.1 - Rate Sheets'!B:F,2,FALSE)","v":0},{"$f":"VLOOKUP($D308,'C.1 - Rate Sheets'!B:F,3,FALSE)","v":150},{"$f":"VLOOKUP($D308,'C.1 - Rate Sheets'!B:F,4,FALSE)","v":0},{"$f":"VLOOKUP($D308,'C.1 - Rate Sheets'!B:F,5,FALSE)","v":0},null,null,null,null,null,null,null,null,null,null,null,null,null,null,null,null,null,null,null,null,null,null,null,null,null,null,null,null,null,null,16,null,null,null,null,null,null,null,null,null,null,null,null,null,null,null,null,null,null,null,null,null,null,null,null,null,null,null,null,null,null,null,null,null,null,null,null,null,null,null,null,null,null,null,null,null,null,null,null,null,null,null,null,null,null,null,null,null,null,null,null,null,null,null,null,null,null,null,null,null,null,null,null,null,null,null,null,null,null,null,null,null,null,null,null,null,null,null,null,null,null,null,null,null,null,null,null,null,null,null,null,null,null,null,null,null,null,null,null,null,null,null,null,null,null,null,null,null,null,null,null,null,null,null,null,null,null,null,null,null,null,null,null,null,null,null,null,null,null,16,null,null,16,0,2400,0,0,2400,2400,"Yes",0,0,0]
[null,291,null,"MOT CREW","Vendor No.04","Mot 23",1258,"2018-11-06","2018-11-06",{"$f":"IF(AND(H309>='A - Contractor Summary'!$C$36,I309<='A - Contractor Summary'!$C$42),\"Yes\",\"No\")","v":"Yes"},{"$f":"VLOOKUP($D309,'C.1 - Rate Sheets'!B:F,2,FALSE)","v":0},{"$f":"VLOOKUP($D309,'C.1 - Rate Sheets'!B:F,3,FALSE)","v":150},{"$f":"VLOOKUP($D309,'C.1 - Rate Sheets'!B:F,4,FALSE)","v":0},{"$f":"VLOOKUP($D309,'C.1 - Rate Sheets'!B:F,5,FALSE)","v":0},null,null,null,null,null,null,null,null,null,null,null,null,null,null,null,null,null,null,null,null,null,null,null,null,null,null,null,null,null,null,16,null,null,null,null,null,null,null,null,null,null,null,null,null,null,null,null,null,null,null,null,null,null,null,null,null,null,null,null,null,null,null,null,null,null,null,null,null,null,null,null,null,null,null,null,null,null,null,null,null,null,null,null,null,null,null,null,null,null,null,null,null,null,null,null,null,null,null,null,null,null,null,null,null,null,null,null,null,null,null,null,null,null,null,null,null,null,null,null,null,null,null,null,null,null,null,null,null,null,null,null,null,null,null,null,null,null,null,null,null,null,null,null,null,null,null,null,null,null,null,null,null,null,null,null,null,null,null,null,null,null,null,null,null,null,null,null,null,null,16,null,null,16,0,2400,0,0,2400,2400,"Yes",0,0,0]
[null,292,null,"MOT CREW","Vendor No.04","Mot 24",1258,"2018-11-06","2018-11-06",{"$f":"IF(AND(H310>='A - Contractor Summary'!$C$36,I310<='A - Contractor Summary'!$C$42),\"Yes\",\"No\")","v":"Yes"},{"$f":"VLOOKUP($D310,'C.1 - Rate Sheets'!B:F,2,FALSE)","v":0},{"$f":"VLOOKUP($D310,'C.1 - Rate Sheets'!B:F,3,FALSE)","v":150},{"$f":"VLOOKUP($D310,'C.1 - Rate Sheets'!B:F,4,FALSE)","v":0},{"$f":"VLOOKUP($D310,'C.1 - Rate Sheets'!B:F,5,FALSE)","v":0},null,null,null,null,null,null,null,null,null,null,null,null,null,null,null,null,null,null,null,null,null,null,null,null,null,null,null,null,null,null,16,null,null,null,null,null,null,null,null,null,null,null,null,null,null,null,null,null,null,null,null,null,null,null,null,null,null,null,null,null,null,null,null,null,null,null,null,null,null,null,null,null,null,null,null,null,null,null,null,null,null,null,null,null,null,null,null,null,null,null,null,null,null,null,null,null,null,null,null,null,null,null,null,null,null,null,null,null,null,null,null,null,null,null,null,null,null,null,null,null,null,null,null,null,null,null,null,null,null,null,null,null,null,null,null,null,null,null,null,null,null,null,null,null,null,null,null,null,null,null,null,null,null,null,null,null,null,null,null,null,null,null,null,null,null,null,null,null,null,16,null,null,16,0,2400,0,0,2400,2400,"Yes",0,0,0]
[null,293,null,"MOT CREW","Vendor No.04","Mot 25",1258,"2018-11-06","2018-11-06",{"$f":"IF(AND(H311>='A - Contractor Summary'!$C$36,I311<='A - Contractor Summary'!$C$42),\"Yes\",\"No\")","v":"Yes"},{"$f":"VLOOKUP($D311,'C.1 - Rate Sheets'!B:F,2,FALSE)","v":0},{"$f":"VLOOKUP($D311,'C.1 - Rate Sheets'!B:F,3,FALSE)","v":150},{"$f":"VLOOKUP($D311,'C.1 - Rate Sheets'!B:F,4,FALSE)","v":0},{"$f":"VLOOKUP($D311,'C.1 - Rate Sheets'!B:F,5,FALSE)","v":0},null,null,null,null,null,null,null,null,null,null,null,null,null,null,null,null,null,null,null,null,null,null,null,null,null,null,null,null,null,null,16,null,null,null,null,null,null,null,null,null,null,null,null,null,null,null,null,null,null,null,null,null,null,null,null,null,null,null,null,null,null,null,null,null,null,null,null,null,null,null,null,null,null,null,null,null,null,null,null,null,null,null,null,null,null,null,null,null,null,null,null,null,null,null,null,null,null,null,null,null,null,null,null,null,null,null,null,null,null,null,null,null,null,null,null,null,null,null,null,null,null,null,null,null,null,null,null,null,null,null,null,null,null,null,null,null,null,null,null,null,null,null,null,null,null,null,null,null,null,null,null,null,null,null,null,null,null,null,null,null,null,null,null,null,null,null,null,null,null,16,null,null,16,0,2400,0,0,2400,2400,"Yes",0,0,0]
[null,294,null,"MOT CREW","Vendor No.04","Mot 26",1258,"2018-11-06","2018-11-06",{"$f":"IF(AND(H312>='A - Contractor Summary'!$C$36,I312<='A - Contractor Summary'!$C$42),\"Yes\",\"No\")","v":"Yes"},{"$f":"VLOOKUP($D312,'C.1 - Rate Sheets'!B:F,2,FALSE)","v":0},{"$f":"VLOOKUP($D312,'C.1 - Rate Sheets'!B:F,3,FALSE)","v":150},{"$f":"VLOOKUP($D312,'C.1 - Rate Sheets'!B:F,4,FALSE)","v":0},{"$f":"VLOOKUP($D312,'C.1 - Rate Sheets'!B:F,5,FALSE)","v":0},null,null,null,null,null,null,null,null,null,null,null,null,null,null,null,null,null,null,null,null,null,null,null,null,null,null,null,null,null,null,16,null,null,null,null,null,null,null,null,null,null,null,null,null,null,null,null,null,null,null,null,null,null,null,null,null,null,null,null,null,null,null,null,null,null,null,null,null,null,null,null,null,null,null,null,null,null,null,null,null,null,null,null,null,null,null,null,null,null,null,null,null,null,null,null,null,null,null,null,null,null,null,null,null,null,null,null,null,null,null,null,null,null,null,null,null,null,null,null,null,null,null,null,null,null,null,null,null,null,null,null,null,null,null,null,null,null,null,null,null,null,null,null,null,null,null,null,null,null,null,null,null,null,null,null,null,null,null,null,null,null,null,null,null,null,null,null,null,null,16,null,null,16,0,2400,0,0,2400,2400,"Yes",0,0,0]
[null,295,null,"MOT CREW","Vendor No.04","Mot 27",1258,"2018-11-06","2018-11-06",{"$f":"IF(AND(H313>='A - Contractor Summary'!$C$36,I313<='A - Contractor Summary'!$C$42),\"Yes\",\"No\")","v":"Yes"},{"$f":"VLOOKUP($D313,'C.1 - Rate Sheets'!B:F,2,FALSE)","v":0},{"$f":"VLOOKUP($D313,'C.1 - Rate Sheets'!B:F,3,FALSE)","v":150},{"$f":"VLOOKUP($D313,'C.1 - Rate Sheets'!B:F,4,FALSE)","v":0},{"$f":"VLOOKUP($D313,'C.1 - Rate Sheets'!B:F,5,FALSE)","v":0},null,null,null,null,null,null,null,null,null,null,null,null,null,null,null,null,null,null,null,null,null,null,null,null,null,null,null,null,null,null,16,null,null,null,null,null,null,null,null,null,null,null,null,null,null,null,null,null,null,null,null,null,null,null,null,null,null,null,null,null,null,null,null,null,null,null,null,null,null,null,null,null,null,null,null,null,null,null,null,null,null,null,null,null,null,null,null,null,null,null,null,null,null,null,null,null,null,null,null,null,null,null,null,null,null,null,null,null,null,null,null,null,null,null,null,null,null,null,null,null,null,null,null,null,null,null,null,null,null,null,null,null,null,null,null,null,null,null,null,null,null,null,null,null,null,null,null,null,null,null,null,null,null,null,null,null,null,null,null,null,null,null,null,null,null,null,null,null,null,16,null,null,16,0,2400,0,0,2400,2400,"Yes",0,0,0]
[null,296,null,"MOT CREW","Vendor No.04","Mot 28",1258,"2018-11-06","2018-11-06",{"$f":"IF(AND(H314>='A - Contractor Summary'!$C$36,I314<='A - Contractor Summary'!$C$42),\"Yes\",\"No\")","v":"Yes"},{"$f":"VLOOKUP($D314,'C.1 - Rate Sheets'!B:F,2,FALSE)","v":0},{"$f":"VLOOKUP($D314,'C.1 - Rate Sheets'!B:F,3,FALSE)","v":150},{"$f":"VLOOKUP($D314,'C.1 - Rate Sheets'!B:F,4,FALSE)","v":0},{"$f":"VLOOKUP($D314,'C.1 - Rate Sheets'!B:F,5,FALSE)","v":0},null,null,null,null,null,null,null,null,null,null,null,null,null,null,null,null,null,null,null,null,null,null,null,null,null,null,null,null,null,null,16,null,null,null,null,null,null,null,null,null,null,null,null,null,null,null,null,null,null,null,null,null,null,null,null,null,null,null,null,null,null,null,null,null,null,null,null,null,null,null,null,null,null,null,null,null,null,null,null,null,null,null,null,null,null,null,null,null,null,null,null,null,null,null,null,null,null,null,null,null,null,null,null,null,null,null,null,null,null,null,null,null,null,null,null,null,null,null,null,null,null,null,null,null,null,null,null,null,null,null,null,null,null,null,null,null,null,null,null,null,null,null,null,null,null,null,null,null,null,null,null,null,null,null,null,null,null,null,null,null,null,null,null,null,null,null,null,null,null,16,null,null,16,0,2400,0,0,2400,2400,"Yes",0,0,0]
[null,297,null,"MOT CREW","Vendor No.04","Mot 29",1258,"2018-11-06","2018-11-06",{"$f":"IF(AND(H315>='A - Contractor Summary'!$C$36,I315<='A - Contractor Summary'!$C$42),\"Yes\",\"No\")","v":"Yes"},{"$f":"VLOOKUP($D315,'C.1 - Rate Sheets'!B:F,2,FALSE)","v":0},{"$f":"VLOOKUP($D315,'C.1 - Rate Sheets'!B:F,3,FALSE)","v":150},{"$f":"VLOOKUP($D315,'C.1 - Rate Sheets'!B:F,4,FALSE)","v":0},{"$f":"VLOOKUP($D315,'C.1 - Rate Sheets'!B:F,5,FALSE)","v":0},null,null,null,null,null,null,null,null,null,null,null,null,null,null,null,null,null,null,null,null,null,null,null,null,null,null,null,null,null,null,16,null,null,null,null,null,null,null,null,null,null,null,null,null,null,null,null,null,null,null,null,null,null,null,null,null,null,null,null,null,null,null,null,null,null,null,null,null,null,null,null,null,null,null,null,null,null,null,null,null,null,null,null,null,null,null,null,null,null,null,null,null,null,null,null,null,null,null,null,null,null,null,null,null,null,null,null,null,null,null,null,null,null,null,null,null,null,null,null,null,null,null,null,null,null,null,null,null,null,null,null,null,null,null,null,null,null,null,null,null,null,null,null,null,null,null,null,null,null,null,null,null,null,null,null,null,null,null,null,null,null,null,null,null,null,null,null,null,null,16,null,null,16,0,2400,0,0,2400,2400,"Yes",0,0,0]
[null,298,null,"MOT CREW","Vendor No.04","Mot 30",1258,"2018-11-06","2018-11-06",{"$f":"IF(AND(H316>='A - Contractor Summary'!$C$36,I316<='A - Contractor Summary'!$C$42),\"Yes\",\"No\")","v":"Yes"},{"$f":"VLOOKUP($D316,'C.1 - Rate Sheets'!B:F,2,FALSE)","v":0},{"$f":"VLOOKUP($D316,'C.1 - Rate Sheets'!B:F,3,FALSE)","v":150},{"$f":"VLOOKUP($D316,'C.1 - Rate Sheets'!B:F,4,FALSE)","v":0},{"$f":"VLOOKUP($D316,'C.1 - Rate Sheets'!B:F,5,FALSE)","v":0},null,null,null,null,null,null,null,null,null,null,null,null,null,null,null,null,null,null,null,null,null,null,null,null,null,null,null,null,null,null,16,null,null,null,null,null,null,null,null,null,null,null,null,null,null,null,null,null,null,null,null,null,null,null,null,null,null,null,null,null,null,null,null,null,null,null,null,null,null,null,null,null,null,null,null,null,null,null,null,null,null,null,null,null,null,null,null,null,null,null,null,null,null,null,null,null,null,null,null,null,null,null,null,null,null,null,null,null,null,null,null,null,null,null,null,null,null,null,null,null,null,null,null,null,null,null,null,null,null,null,null,null,null,null,null,null,null,null,null,null,null,null,null,null,null,null,null,null,null,null,null,null,null,null,null,null,null,null,null,null,null,null,null,null,null,null,null,null,null,16,null,null,16,0,2400,0,0,2400,2400,"Yes",0,0,0]
[null,299,null,"MOT CREW","Vendor No.04","Mot 31",1258,"2018-11-06","2018-11-06",{"$f":"IF(AND(H317>='A - Contractor Summary'!$C$36,I317<='A - Contractor Summary'!$C$42),\"Yes\",\"No\")","v":"Yes"},{"$f":"VLOOKUP($D317,'C.1 - Rate Sheets'!B:F,2,FALSE)","v":0},{"$f":"VLOOKUP($D317,'C.1 - Rate Sheets'!B:F,3,FALSE)","v":150},{"$f":"VLOOKUP($D317,'C.1 - Rate Sheets'!B:F,4,FALSE)","v":0},{"$f":"VLOOKUP($D317,'C.1 - Rate Sheets'!B:F,5,FALSE)","v":0},null,null,null,null,null,null,null,null,null,null,null,null,null,null,null,null,null,null,null,null,null,null,null,null,null,null,null,null,null,null,16,null,null,null,null,null,null,null,null,null,null,null,null,null,null,null,null,null,null,null,null,null,null,null,null,null,null,null,null,null,null,null,null,null,null,null,null,null,null,null,null,null,null,null,null,null,null,null,null,null,null,null,null,null,null,null,null,null,null,null,null,null,null,null,null,null,null,null,null,null,null,null,null,null,null,null,null,null,null,null,null,null,null,null,null,null,null,null,null,null,null,null,null,null,null,null,null,null,null,null,null,null,null,null,null,null,null,null,null,null,null,null,null,null,null,null,null,null,null,null,null,null,null,null,null,null,null,null,null,null,null,null,null,null,null,null,null,null,null,16,null,null,16,0,2400,0,0,2400,2400,"Yes",0,0,0]
[null,300,null,"MOT CREW","Vendor No.04","Mot 32",1258,"2018-11-06","2018-11-06",{"$f":"IF(AND(H318>='A - Contractor Summary'!$C$36,I318<='A - Contractor Summary'!$C$42),\"Yes\",\"No\")","v":"Yes"},{"$f":"VLOOKUP($D318,'C.1 - Rate Sheets'!B:F,2,FALSE)","v":0},{"$f":"VLOOKUP($D318,'C.1 - Rate Sheets'!B:F,3,FALSE)","v":150},{"$f":"VLOOKUP($D318,'C.1 - Rate Sheets'!B:F,4,FALSE)","v":0},{"$f":"VLOOKUP($D318,'C.1 - Rate Sheets'!B:F,5,FALSE)","v":0},null,null,null,null,null,null,null,null,null,null,null,null,null,null,null,null,null,null,null,null,null,null,null,null,null,null,null,null,null,null,16,null,null,null,null,null,null,null,null,null,null,null,null,null,null,null,null,null,null,null,null,null,null,null,null,null,null,null,null,null,null,null,null,null,null,null,null,null,null,null,null,null,null,null,null,null,null,null,null,null,null,null,null,null,null,null,null,null,null,null,null,null,null,null,null,null,null,null,null,null,null,null,null,null,null,null,null,null,null,null,null,null,null,null,null,null,null,null,null,null,null,null,null,null,null,null,null,null,null,null,null,null,null,null,null,null,null,null,null,null,null,null,null,null,null,null,null,null,null,null,null,null,null,null,null,null,null,null,null,null,null,null,null,null,null,null,null,null,null,16,null,null,16,0,2400,0,0,2400,2400,"Yes",0,0,0]
[null,301,null,"MOT CREW (a)","Vendor No.04","Mot 1",1258,"2018-11-08","2018-11-08",{"$f":"IF(AND(H319>='A - Contractor Summary'!$C$36,I319<='A - Contractor Summary'!$C$42),\"Yes\",\"No\")","v":"Yes"},{"$f":"VLOOKUP($D319,'C.1 - Rate Sheets'!B:F,2,FALSE)","v":0},{"$f":"VLOOKUP($D319,'C.1 - Rate Sheets'!B:F,3,FALSE)","v":128},{"$f":"VLOOKUP($D319,'C.1 - Rate Sheets'!B:F,4,FALSE)","v":0},{"$f":"VLOOKUP($D319,'C.1 - Rate Sheets'!B:F,5,FALSE)","v":0},null,null,null,null,null,null,null,null,null,null,null,null,null,null,null,null,null,null,null,null,null,null,null,null,null,null,null,null,null,null,null,null,16,null,null,null,null,null,null,null,null,null,null,null,null,null,null,null,null,null,null,null,null,null,null,null,null,null,null,null,null,null,null,null,null,null,null,null,null,null,null,null,null,null,null,null,null,null,null,null,null,null,null,null,null,null,null,null,null,null,null,null,null,null,null,null,null,null,null,null,null,null,null,null,null,null,null,null,null,null,null,null,null,null,null,null,null,null,null,null,null,null,null,null,null,null,null,null,null,null,null,null,null,null,null,null,null,null,null,null,null,null,null,null,null,null,null,null,null,null,null,null,null,null,null,null,null,null,null,null,null,null,null,null,null,null,null,null,null,16,null,null,16,0,2048,0,0,2048,2048,"Yes",0,0,0]
[null,302,null,"MOT CREW (a)","Vendor No.04","Mot 2",1258,"2018-11-08","2018-11-08",{"$f":"IF(AND(H320>='A - Contractor Summary'!$C$36,I320<='A - Contractor Summary'!$C$42),\"Yes\",\"No\")","v":"Yes"},{"$f":"VLOOKUP($D320,'C.1 - Rate Sheets'!B:F,2,FALSE)","v":0},{"$f":"VLOOKUP($D320,'C.1 - Rate Sheets'!B:F,3,FALSE)","v":128},{"$f":"VLOOKUP($D320,'C.1 - Rate Sheets'!B:F,4,FALSE)","v":0},{"$f":"VLOOKUP($D320,'C.1 - Rate Sheets'!B:F,5,FALSE)","v":0},null,null,null,null,null,null,null,null,null,null,null,null,null,null,null,null,null,null,null,null,null,null,null,null,null,null,null,null,null,null,null,null,16,null,null,null,null,null,null,null,null,null,null,null,null,null,null,null,null,null,null,null,null,null,null,null,null,null,null,null,null,null,null,null,null,null,null,null,null,null,null,null,null,null,null,null,null,null,null,null,null,null,null,null,null,null,null,null,null,null,null,null,null,null,null,null,null,null,null,null,null,null,null,null,null,null,null,null,null,null,null,null,null,null,null,null,null,null,null,null,null,null,null,null,null,null,null,null,null,null,null,null,null,null,null,null,null,null,null,null,null,null,null,null,null,null,null,null,null,null,null,null,null,null,null,null,null,null,null,null,null,null,null,null,null,null,null,null,null,16,null,null,16,0,2048,0,0,2048,2048,"Yes",0,0,0]
[null,303,null,"MOT CREW (a)","Vendor No.04","Mot 3",1258,"2018-11-08","2018-11-08",{"$f":"IF(AND(H321>='A - Contractor Summary'!$C$36,I321<='A - Contractor Summary'!$C$42),\"Yes\",\"No\")","v":"Yes"},{"$f":"VLOOKUP($D321,'C.1 - Rate Sheets'!B:F,2,FALSE)","v":0},{"$f":"VLOOKUP($D321,'C.1 - Rate Sheets'!B:F,3,FALSE)","v":128},{"$f":"VLOOKUP($D321,'C.1 - Rate Sheets'!B:F,4,FALSE)","v":0},{"$f":"VLOOKUP($D321,'C.1 - Rate Sheets'!B:F,5,FALSE)","v":0},null,null,null,null,null,null,null,null,null,null,null,null,null,null,null,null,null,null,null,null,null,null,null,null,null,null,null,null,null,null,null,null,16,null,null,null,null,null,null,null,null,null,null,null,null,null,null,null,null,null,null,null,null,null,null,null,null,null,null,null,null,null,null,null,null,null,null,null,null,null,null,null,null,null,null,null,null,null,null,null,null,null,null,null,null,null,null,null,null,null,null,null,null,null,null,null,null,null,null,null,null,null,null,null,null,null,null,null,null,null,null,null,null,null,null,null,null,null,null,null,null,null,null,null,null,null,null,null,null,null,null,null,null,null,null,null,null,null,null,null,null,null,null,null,null,null,null,null,null,null,null,null,null,null,null,null,null,null,null,null,null,null,null,null,null,null,null,null,null,16,null,null,16,0,2048,0,0,2048,2048,"Yes",0,0,0]
[null,304,null,"MOT CREW (a)","Vendor No.04","Mot 4",1258,"2018-11-08","2018-11-08",{"$f":"IF(AND(H322>='A - Contractor Summary'!$C$36,I322<='A - Contractor Summary'!$C$42),\"Yes\",\"No\")","v":"Yes"},{"$f":"VLOOKUP($D322,'C.1 - Rate Sheets'!B:F,2,FALSE)","v":0},{"$f":"VLOOKUP($D322,'C.1 - Rate Sheets'!B:F,3,FALSE)","v":128},{"$f":"VLOOKUP($D322,'C.1 - Rate Sheets'!B:F,4,FALSE)","v":0},{"$f":"VLOOKUP($D322,'C.1 - Rate Sheets'!B:F,5,FALSE)","v":0},null,null,null,null,null,null,null,null,null,null,null,null,null,null,null,null,null,null,null,null,null,null,null,null,null,null,null,null,null,null,null,null,16,null,null,null,null,null,null,null,null,null,null,null,null,null,null,null,null,null,null,null,null,null,null,null,null,null,null,null,null,null,null,null,null,null,null,null,null,null,null,null,null,null,null,null,null,null,null,null,null,null,null,null,null,null,null,null,null,null,null,null,null,null,null,null,null,null,null,null,null,null,null,null,null,null,null,null,null,null,null,null,null,null,null,null,null,null,null,null,null,null,null,null,null,null,null,null,null,null,null,null,null,null,null,null,null,null,null,null,null,null,null,null,null,null,null,null,null,null,null,null,null,null,null,null,null,null,null,null,null,null,null,null,null,null,null,null,null,16,null,null,16,0,2048,0,0,2048,2048,"Yes",0,0,0]
[null,305,null,"MOT CREW (a)","Vendor No.04","Mot 5",1258,"2018-11-08","2018-11-08",{"$f":"IF(AND(H323>='A - Contractor Summary'!$C$36,I323<='A - Contractor Summary'!$C$42),\"Yes\",\"No\")","v":"Yes"},{"$f":"VLOOKUP($D323,'C.1 - Rate Sheets'!B:F,2,FALSE)","v":0},{"$f":"VLOOKUP($D323,'C.1 - Rate Sheets'!B:F,3,FALSE)","v":128},{"$f":"VLOOKUP($D323,'C.1 - Rate Sheets'!B:F,4,FALSE)","v":0},{"$f":"VLOOKUP($D323,'C.1 - Rate Sheets'!B:F,5,FALSE)","v":0},null,null,null,null,null,null,null,null,null,null,null,null,null,null,null,null,null,null,null,null,null,null,null,null,null,null,null,null,null,null,null,null,16,null,null,null,null,null,null,null,null,null,null,null,null,null,null,null,null,null,null,null,null,null,null,null,null,null,null,null,null,null,null,null,null,null,null,null,null,null,null,null,null,null,null,null,null,null,null,null,null,null,null,null,null,null,null,null,null,null,null,null,null,null,null,null,null,null,null,null,null,null,null,null,null,null,null,null,null,null,null,null,null,null,null,null,null,null,null,null,null,null,null,null,null,null,null,null,null,null,null,null,null,null,null,null,null,null,null,null,null,null,null,null,null,null,null,null,null,null,null,null,null,null,null,null,null,null,null,null,null,null,null,null,null,null,null,null,null,16,null,null,16,0,2048,0,0,2048,2048,"Yes",0,0,0]
[null,306,null,"MOT CREW (a)","Vendor No.04","Mot 6",1258,"2018-11-08","2018-11-08",{"$f":"IF(AND(H324>='A - Contractor Summary'!$C$36,I324<='A - Contractor Summary'!$C$42),\"Yes\",\"No\")","v":"Yes"},{"$f":"VLOOKUP($D324,'C.1 - Rate Sheets'!B:F,2,FALSE)","v":0},{"$f":"VLOOKUP($D324,'C.1 - Rate Sheets'!B:F,3,FALSE)","v":128},{"$f":"VLOOKUP($D324,'C.1 - Rate Sheets'!B:F,4,FALSE)","v":0},{"$f":"VLOOKUP($D324,'C.1 - Rate Sheets'!B:F,5,FALSE)","v":0},null,null,null,null,null,null,null,null,null,null,null,null,null,null,null,null,null,null,null,null,null,null,null,null,null,null,null,null,null,null,null,null,16,null,null,null,null,null,null,null,null,null,null,null,null,null,null,null,null,null,null,null,null,null,null,null,null,null,null,null,null,null,null,null,null,null,null,null,null,null,null,null,null,null,null,null,null,null,null,null,null,null,null,null,null,null,null,null,null,null,null,null,null,null,null,null,null,null,null,null,null,null,null,null,null,null,null,null,null,null,null,null,null,null,null,null,null,null,null,null,null,null,null,null,null,null,null,null,null,null,null,null,null,null,null,null,null,null,null,null,null,null,null,null,null,null,null,null,null,null,null,null,null,null,null,null,null,null,null,null,null,null,null,null,null,null,null,null,null,16,null,null,16,0,2048,0,0,2048,2048,"Yes",0,0,0]
[null,307,null,"MOT CREW (a)","Vendor No.04","Mot 7",1258,"2018-11-08","2018-11-08",{"$f":"IF(AND(H325>='A - Contractor Summary'!$C$36,I325<='A - Contractor Summary'!$C$42),\"Yes\",\"No\")","v":"Yes"},{"$f":"VLOOKUP($D325,'C.1 - Rate Sheets'!B:F,2,FALSE)","v":0},{"$f":"VLOOKUP($D325,'C.1 - Rate Sheets'!B:F,3,FALSE)","v":128},{"$f":"VLOOKUP($D325,'C.1 - Rate Sheets'!B:F,4,FALSE)","v":0},{"$f":"VLOOKUP($D325,'C.1 - Rate Sheets'!B:F,5,FALSE)","v":0},null,null,null,null,null,null,null,null,null,null,null,null,null,null,null,null,null,null,null,null,null,null,null,null,null,null,null,null,null,null,null,null,16,null,null,null,null,null,null,null,null,null,null,null,null,null,null,null,null,null,null,null,null,null,null,null,null,null,null,null,null,null,null,null,null,null,null,null,null,null,null,null,null,null,null,null,null,null,null,null,null,null,null,null,null,null,null,null,null,null,null,null,null,null,null,null,null,null,null,null,null,null,null,null,null,null,null,null,null,null,null,null,null,null,null,null,null,null,null,null,null,null,null,null,null,null,null,null,null,null,null,null,null,null,null,null,null,null,null,null,null,null,null,null,null,null,null,null,null,null,null,null,null,null,null,null,null,null,null,null,null,null,null,null,null,null,null,null,null,16,null,null,16,0,2048,0,0,2048,2048,"Yes",0,0,0]
[null,308,null,"MOT CREW (a)","Vendor No.04","Mot 8",1258,"2018-11-08","2018-11-08",{"$f":"IF(AND(H326>='A - Contractor Summary'!$C$36,I326<='A - Contractor Summary'!$C$42),\"Yes\",\"No\")","v":"Yes"},{"$f":"VLOOKUP($D326,'C.1 - Rate Sheets'!B:F,2,FALSE)","v":0},{"$f":"VLOOKUP($D326,'C.1 - Rate Sheets'!B:F,3,FALSE)","v":128},{"$f":"VLOOKUP($D326,'C.1 - Rate Sheets'!B:F,4,FALSE)","v":0},{"$f":"VLOOKUP($D326,'C.1 - Rate Sheets'!B:F,5,FALSE)","v":0},null,null,null,null,null,null,null,null,null,null,null,null,null,null,null,null,null,null,null,null,null,null,null,null,null,null,null,null,null,null,null,null,16,null,null,null,null,null,null,null,null,null,null,null,null,null,null,null,null,null,null,null,null,null,null,null,null,null,null,null,null,null,null,null,null,null,null,null,null,null,null,null,null,null,null,null,null,null,null,null,null,null,null,null,null,null,null,null,null,null,null,null,null,null,null,null,null,null,null,null,null,null,null,null,null,null,null,null,null,null,null,null,null,null,null,null,null,null,null,null,null,null,null,null,null,null,null,null,null,null,null,null,null,null,null,null,null,null,null,null,null,null,null,null,null,null,null,null,null,null,null,null,null,null,null,null,null,null,null,null,null,null,null,null,null,null,null,null,null,16,null,null,16,0,2048,0,0,2048,2048,"Yes",0,0,0]
[null,309,null,"CLEAR CREW","Vendor No.04","Clear 1",1258,"2018-11-04","2018-11-06",{"$f":"IF(AND(H327>='A - Contractor Summary'!$C$36,I327<='A - Contractor Summary'!$C$42),\"Yes\",\"No\")","v":"Yes"},{"$f":"VLOOKUP($D327,'C.1 - Rate Sheets'!B:F,2,FALSE)","v":0},{"$f":"VLOOKUP($D327,'C.1 - Rate Sheets'!B:F,3,FALSE)","v":200},{"$f":"VLOOKUP($D327,'C.1 - Rate Sheets'!B:F,4,FALSE)","v":0},{"$f":"VLOOKUP($D327,'C.1 - Rate Sheets'!B:F,5,FALSE)","v":0},null,null,null,null,null,null,null,null,null,null,null,null,null,null,null,null,null,null,null,null,null,null,null,null,null,null,null,null,16,16,16,null,null,null,null,null,null,null,null,null,null,null,null,null,null,null,null,null,null,null,null,null,null,null,null,null,null,null,null,null,null,null,null,null,null,null,null,null,null,null,null,null,null,null,null,null,null,null,null,null,null,null,null,null,null,null,null,null,null,null,null,null,null,null,null,null,null,null,null,null,null,null,null,null,null,null,null,null,null,null,null,null,null,null,null,null,null,null,null,null,null,null,null,null,null,null,null,null,null,null,null,null,null,null,null,null,null,null,null,null,null,null,null,null,null,null,null,null,null,null,null,null,null,null,null,null,null,null,null,null,null,null,null,null,null,null,null,null,null,48,null,null,48,0,9600,0,0,9600,9600,"Yes",0,0,0]
[null,310,null,"MAT CREW","Vendor No.04","Mat 1",1258,"2018-11-04","2018-11-09",{"$f":"IF(AND(H328>='A - Contractor Summary'!$C$36,I328<='A - Contractor Summary'!$C$42),\"Yes\",\"No\")","v":"Yes"},{"$f":"VLOOKUP($D328,'C.1 - Rate Sheets'!B:F,2,FALSE)","v":0},{"$f":"VLOOKUP($D328,'C.1 - Rate Sheets'!B:F,3,FALSE)","v":300},{"$f":"VLOOKUP($D328,'C.1 - Rate Sheets'!B:F,4,FALSE)","v":0},{"$f":"VLOOKUP($D328,'C.1 - Rate Sheets'!B:F,5,FALSE)","v":0},null,null,null,null,null,null,null,null,null,null,null,null,null,null,null,null,null,null,null,null,null,null,null,null,null,null,null,null,16,16,null,16,16,16,null,null,null,null,null,null,null,null,null,null,null,null,null,null,null,null,null,null,null,null,null,null,null,null,null,null,null,null,null,null,null,null,null,null,null,null,null,null,null,null,null,null,null,null,null,null,null,null,null,null,null,null,null,null,null,null,null,null,null,null,null,null,null,null,null,null,null,null,null,null,null,null,null,null,null,null,null,null,null,null,null,null,null,null,null,null,null,null,null,null,null,null,null,null,null,null,null,null,null,null,null,null,null,null,null,null,null,null,null,null,null,null,null,null,null,null,null,null,null,null,null,null,null,null,null,null,null,null,null,null,null,null,null,null,null,80,null,null,80,0,24000,0,0,24000,24000,"Yes",0,0,0]
[null,311,null,"MAT CREW","Vendor No.04","Mat 2",1258,"2018-11-04","2018-11-09",{"$f":"IF(AND(H329>='A - Contractor Summary'!$C$36,I329<='A - Contractor Summary'!$C$42),\"Yes\",\"No\")","v":"Yes"},{"$f":"VLOOKUP($D329,'C.1 - Rate Sheets'!B:F,2,FALSE)","v":0},{"$f":"VLOOKUP($D329,'C.1 - Rate Sheets'!B:F,3,FALSE)","v":300},{"$f":"VLOOKUP($D329,'C.1 - Rate Sheets'!B:F,4,FALSE)","v":0},{"$f":"VLOOKUP($D329,'C.1 - Rate Sheets'!B:F,5,FALSE)","v":0},null,null,null,null,null,null,null,null,null,null,null,null,null,null,null,null,null,null,null,null,null,null,null,null,null,null,null,null,16,16,null,16,16,16,null,null,null,null,null,null,null,null,null,null,null,null,null,null,null,null,null,null,null,null,null,null,null,null,null,null,null,null,null,null,null,null,null,null,null,null,null,null,null,null,null,null,null,null,null,null,null,null,null,null,null,null,null,null,null,null,null,null,null,null,null,null,null,null,null,null,null,null,null,null,null,null,null,null,null,null,null,null,null,null,null,null,null,null,null,null,null,null,null,null,null,null,null,null,null,null,null,null,null,null,null,null,null,null,null,null,null,null,null,null,null,null,null,null,null,null,null,null,null,null,null,null,null,null,null,null,null,null,null,null,null,null,null,null,null,80,null,null,80,0,24000,0,0,24000,24000,"Yes",0,0,0]
[null,312,null,"MAT CREW","Vendor No.04","Mat 3",1258,"2018-11-05","2018-11-07",{"$f":"IF(AND(H330>='A - Contractor Summary'!$C$36,I330<='A - Contractor Summary'!$C$42),\"Yes\",\"No\")","v":"Yes"},{"$f":"VLOOKUP($D330,'C.1 - Rate Sheets'!B:F,2,FALSE)","v":0},{"$f":"VLOOKUP($D330,'C.1 - Rate Sheets'!B:F,3,FALSE)","v":300},{"$f":"VLOOKUP($D330,'C.1 - Rate Sheets'!B:F,4,FALSE)","v":0},{"$f":"VLOOKUP($D330,'C.1 - Rate Sheets'!B:F,5,FALSE)","v":0},null,null,null,null,null,null,null,null,null,null,null,null,null,null,null,null,null,null,null,null,null,null,null,null,null,null,null,null,null,16,null,16,null,null,null,null,null,null,null,null,null,null,null,null,null,null,null,null,null,null,null,null,null,null,null,null,null,null,null,null,null,null,null,null,null,null,null,null,null,null,null,null,null,null,null,null,null,null,null,null,null,null,null,null,null,null,null,null,null,null,null,null,null,null,null,null,null,null,null,null,null,null,null,null,null,null,null,null,null,null,null,null,null,null,null,null,null,null,null,null,null,null,null,null,null,null,null,null,null,null,null,null,null,null,null,null,null,null,null,null,null,null,null,null,null,null,null,null,null,null,null,null,null,null,null,null,null,null,null,null,null,null,null,null,null,null,null,null,null,32,null,null,32,0,9600,0,0,9600,9600,"Yes",0,0,0]
[null,313,null,"MAT CREW","Vendor No.04","Mat 4",1258,"2018-11-05","2018-11-07",{"$f":"IF(AND(H331>='A - Contractor Summary'!$C$36,I331<='A - Contractor Summary'!$C$42),\"Yes\",\"No\")","v":"Yes"},{"$f":"VLOOKUP($D331,'C.1 - Rate Sheets'!B:F,2,FALSE)","v":0},{"$f":"VLOOKUP($D331,'C.1 - Rate Sheets'!B:F,3,FALSE)","v":300},{"$f":"VLOOKUP($D331,'C.1 - Rate Sheets'!B:F,4,FALSE)","v":0},{"$f":"VLOOKUP($D331,'C.1 - Rate Sheets'!B:F,5,FALSE)","v":0},null,null,null,null,null,null,null,null,null,null,null,null,null,null,null,null,null,null,null,null,null,null,null,null,null,null,null,null,null,16,null,16,null,null,null,null,null,null,null,null,null,null,null,null,null,null,null,null,null,null,null,null,null,null,null,null,null,null,null,null,null,null,null,null,null,null,null,null,null,null,null,null,null,null,null,null,null,null,null,null,null,null,null,null,null,null,null,null,null,null,null,null,null,null,null,null,null,null,null,null,null,null,null,null,null,null,null,null,null,null,null,null,null,null,null,null,null,null,null,null,null,null,null,null,null,null,null,null,null,null,null,null,null,null,null,null,null,null,null,null,null,null,null,null,null,null,null,null,null,null,null,null,null,null,null,null,null,null,null,null,null,null,null,null,null,null,null,null,null,32,null,null,32,0,9600,0,0,9600,9600,"Yes",0,0,0]
[null,314,null,"MOT CREW","Vendor No.04","Mot 1",1267,"2018-11-11","2018-11-16",{"$f":"IF(AND(H332>='A - Contractor Summary'!$C$36,I332<='A - Contractor Summary'!$C$42),\"Yes\",\"No\")","v":"Yes"},{"$f":"VLOOKUP($D332,'C.1 - Rate Sheets'!B:F,2,FALSE)","v":0},{"$f":"VLOOKUP($D332,'C.1 - Rate Sheets'!B:F,3,FALSE)","v":150},{"$f":"VLOOKUP($D332,'C.1 - Rate Sheets'!B:F,4,FALSE)","v":0},{"$f":"VLOOKUP($D332,'C.1 - Rate Sheets'!B:F,5,FALSE)","v":0},null,null,null,null,null,null,null,null,null,null,null,null,null,null,null,null,null,null,null,null,null,null,null,null,null,null,null,null,null,null,null,null,null,null,null,16,16,16,16,16,16,null,null,null,null,null,null,null,null,null,null,null,null,null,null,null,null,null,null,null,null,null,null,null,null,null,null,null,null,null,null,null,null,null,null,null,null,null,null,null,null,null,null,null,null,null,null,null,null,null,null,null,null,null,null,null,null,null,null,null,null,null,null,null,null,null,null,null,null,null,null,null,null,null,null,null,null,null,null,null,null,null,null,null,null,null,null,null,null,null,null,null,null,null,null,null,null,null,null,null,null,null,null,null,null,null,null,null,null,null,null,null,null,null,null,null,null,null,null,null,null,null,null,null,null,null,null,null,null,96,null,null,96,0,14400,0,0,14400,14400,"Yes",0,0,0]
[null,315,null,"MOT CREW","Vendor No.04","Mot 2",1267,"2018-11-11","2018-11-16",{"$f":"IF(AND(H333>='A - Contractor Summary'!$C$36,I333<='A - Contractor Summary'!$C$42),\"Yes\",\"No\")","v":"Yes"},{"$f":"VLOOKUP($D333,'C.1 - Rate Sheets'!B:F,2,FALSE)","v":0},{"$f":"VLOOKUP($D333,'C.1 - Rate Sheets'!B:F,3,FALSE)","v":150},{"$f":"VLOOKUP($D333,'C.1 - Rate Sheets'!B:F,4,FALSE)","v":0},{"$f":"VLOOKUP($D333,'C.1 - Rate Sheets'!B:F,5,FALSE)","v":0},null,null,null,null,null,null,null,null,null,null,null,null,null,null,null,null,null,null,null,null,null,null,null,null,null,null,null,null,null,null,null,null,null,null,null,16,16,16,16,16,16,null,null,null,null,null,null,null,null,null,null,null,null,null,null,null,null,null,null,null,null,null,null,null,null,null,null,null,null,null,null,null,null,null,null,null,null,null,null,null,null,null,null,null,null,null,null,null,null,null,null,null,null,null,null,null,null,null,null,null,null,null,null,null,null,null,null,null,null,null,null,null,null,null,null,null,null,null,null,null,null,null,null,null,null,null,null,null,null,null,null,null,null,null,null,null,null,null,null,null,null,null,null,null,null,null,null,null,null,null,null,null,null,null,null,null,null,null,null,null,null,null,null,null,null,null,null,null,null,96,null,null,96,0,14400,0,0,14400,14400,"Yes",0,0,0]
[null,316,null,"MOT CREW","Vendor No.04","Mot 3",1267,"2018-11-11","2018-11-16",{"$f":"IF(AND(H334>='A - Contractor Summary'!$C$36,I334<='A - Contractor Summary'!$C$42),\"Yes\",\"No\")","v":"Yes"},{"$f":"VLOOKUP($D334,'C.1 - Rate Sheets'!B:F,2,FALSE)","v":0},{"$f":"VLOOKUP($D334,'C.1 - Rate Sheets'!B:F,3,FALSE)","v":150},{"$f":"VLOOKUP($D334,'C.1 - Rate Sheets'!B:F,4,FALSE)","v":0},{"$f":"VLOOKUP($D334,'C.1 - Rate Sheets'!B:F,5,FALSE)","v":0},null,null,null,null,null,null,null,null,null,null,null,null,null,null,null,null,null,null,null,null,null,null,null,null,null,null,null,null,null,null,null,null,null,null,null,16,16,16,16,16,16,null,null,null,null,null,null,null,null,null,null,null,null,null,null,null,null,null,null,null,null,null,null,null,null,null,null,null,null,null,null,null,null,null,null,null,null,null,null,null,null,null,null,null,null,null,null,null,null,null,null,null,null,null,null,null,null,null,null,null,null,null,null,null,null,null,null,null,null,null,null,null,null,null,null,null,null,null,null,null,null,null,null,null,null,null,null,null,null,null,null,null,null,null,null,null,null,null,null,null,null,null,null,null,null,null,null,null,null,null,null,null,null,null,null,null,null,null,null,null,null,null,null,null,null,null,null,null,null,96,null,null,96,0,14400,0,0,14400,14400,"Yes",0,0,0]
[null,317,null,"MOT CREW","Vendor No.04","Mot 4",1267,"2018-11-11","2018-11-15",{"$f":"IF(AND(H335>='A - Contractor Summary'!$C$36,I335<='A - Contractor Summary'!$C$42),\"Yes\",\"No\")","v":"Yes"},{"$f":"VLOOKUP($D335,'C.1 - Rate Sheets'!B:F,2,FALSE)","v":0},{"$f":"VLOOKUP($D335,'C.1 - Rate Sheets'!B:F,3,FALSE)","v":150},{"$f":"VLOOKUP($D335,'C.1 - Rate Sheets'!B:F,4,FALSE)","v":0},{"$f":"VLOOKUP($D335,'C.1 - Rate Sheets'!B:F,5,FALSE)","v":0},null,null,null,null,null,null,null,null,null,null,null,null,null,null,null,null,null,null,null,null,null,null,null,null,null,null,null,null,null,null,null,null,null,null,null,16,16,16,16,16,null,null,null,null,null,null,null,null,null,null,null,null,null,null,null,null,null,null,null,null,null,null,null,null,null,null,null,null,null,null,null,null,null,null,null,null,null,null,null,null,null,null,null,null,null,null,null,null,null,null,null,null,null,null,null,null,null,null,null,null,null,null,null,null,null,null,null,null,null,null,null,null,null,null,null,null,null,null,null,null,null,null,null,null,null,null,null,null,null,null,null,null,null,null,null,null,null,null,null,null,null,null,null,null,null,null,null,null,null,null,null,null,null,null,null,null,null,null,null,null,null,null,null,null,null,null,null,null,null,80,null,null,80,0,12000,0,0,12000,12000,"Yes",0,0,0]
[null,318,null,"MOT CREW","Vendor No.04","Mot 5",1267,"2018-11-11","2018-11-13",{"$f":"IF(AND(H336>='A - Contractor Summary'!$C$36,I336<='A - Contractor Summary'!$C$42),\"Yes\",\"No\")","v":"Yes"},{"$f":"VLOOKUP($D336,'C.1 - Rate Sheets'!B:F,2,FALSE)","v":0},{"$f":"VLOOKUP($D336,'C.1 - Rate Sheets'!B:F,3,FALSE)","v":150},{"$f":"VLOOKUP($D336,'C.1 - Rate Sheets'!B:F,4,FALSE)","v":0},{"$f":"VLOOKUP($D336,'C.1 - Rate Sheets'!B:F,5,FALSE)","v":0},null,null,null,null,null,null,null,null,null,null,null,null,null,null,null,null,null,null,null,null,null,null,null,null,null,null,null,null,null,null,null,null,null,null,null,16,16,16,null,null,null,null,null,null,null,null,null,null,null,null,null,null,null,null,null,null,null,null,null,null,null,null,null,null,null,null,null,null,null,null,null,null,null,null,null,null,null,null,null,null,null,null,null,null,null,null,null,null,null,null,null,null,null,null,null,null,null,null,null,null,null,null,null,null,null,null,null,null,null,null,null,null,null,null,null,null,null,null,null,null,null,null,null,null,null,null,null,null,null,null,null,null,null,null,null,null,null,null,null,null,null,null,null,null,null,null,null,null,null,null,null,null,null,null,null,null,null,null,null,null,null,null,null,null,null,null,null,null,null,48,null,null,48,0,7200,0,0,7200,7200,"Yes",0,0,0]
[null,319,null,"MOT CREW","Vendor No.04","Mot 6",1267,"2018-11-11","2018-11-11",{"$f":"IF(AND(H337>='A - Contractor Summary'!$C$36,I337<='A - Contractor Summary'!$C$42),\"Yes\",\"No\")","v":"Yes"},{"$f":"VLOOKUP($D337,'C.1 - Rate Sheets'!B:F,2,FALSE)","v":0},{"$f":"VLOOKUP($D337,'C.1 - Rate Sheets'!B:F,3,FALSE)","v":150},{"$f":"VLOOKUP($D337,'C.1 - Rate Sheets'!B:F,4,FALSE)","v":0},{"$f":"VLOOKUP($D337,'C.1 - Rate Sheets'!B:F,5,FALSE)","v":0},null,null,null,null,null,null,null,null,null,null,null,null,null,null,null,null,null,null,null,null,null,null,null,null,null,null,null,null,null,null,null,null,null,null,null,16,null,null,null,null,null,null,null,null,null,null,null,null,null,null,null,null,null,null,null,null,null,null,null,null,null,null,null,null,null,null,null,null,null,null,null,null,null,null,null,null,null,null,null,null,null,null,null,null,null,null,null,null,null,null,null,null,null,null,null,null,null,null,null,null,null,null,null,null,null,null,null,null,null,null,null,null,null,null,null,null,null,null,null,null,null,null,null,null,null,null,null,null,null,null,null,null,null,null,null,null,null,null,null,null,null,null,null,null,null,null,null,null,null,null,null,null,null,null,null,null,null,null,null,null,null,null,null,null,null,null,null,null,null,16,null,null,16,0,2400,0,0,2400,2400,"Yes",0,0,0]
[null,320,null,"MOT CREW","Vendor No.04","Mot 7",1267,"2018-11-11","2018-11-11",{"$f":"IF(AND(H338>='A - Contractor Summary'!$C$36,I338<='A - Contractor Summary'!$C$42),\"Yes\",\"No\")","v":"Yes"},{"$f":"VLOOKUP($D338,'C.1 - Rate Sheets'!B:F,2,FALSE)","v":0},{"$f":"VLOOKUP($D338,'C.1 - Rate Sheets'!B:F,3,FALSE)","v":150},{"$f":"VLOOKUP($D338,'C.1 - Rate Sheets'!B:F,4,FALSE)","v":0},{"$f":"VLOOKUP($D338,'C.1 - Rate Sheets'!B:F,5,FALSE)","v":0},null,null,null,null,null,null,null,null,null,null,null,null,null,null,null,null,null,null,null,null,null,null,null,null,null,null,null,null,null,null,null,null,null,null,null,16,null,null,null,null,null,null,null,null,null,null,null,null,null,null,null,null,null,null,null,null,null,null,null,null,null,null,null,null,null,null,null,null,null,null,null,null,null,null,null,null,null,null,null,null,null,null,null,null,null,null,null,null,null,null,null,null,null,null,null,null,null,null,null,null,null,null,null,null,null,null,null,null,null,null,null,null,null,null,null,null,null,null,null,null,null,null,null,null,null,null,null,null,null,null,null,null,null,null,null,null,null,null,null,null,null,null,null,null,null,null,null,null,null,null,null,null,null,null,null,null,null,null,null,null,null,null,null,null,null,null,null,null,null,16,null,null,16,0,2400,0,0,2400,2400,"Yes",0,0,0]
[null,321,null,"CLEAN CREW","Vendor No.04","Clean 1",1267,"2018-11-11","2018-11-17",{"$f":"IF(AND(H339>='A - Contractor Summary'!$C$36,I339<='A - Contractor Summary'!$C$42),\"Yes\",\"No\")","v":"Yes"},{"$f":"VLOOKUP($D339,'C.1 - Rate Sheets'!B:F,2,FALSE)","v":0},{"$f":"VLOOKUP($D339,'C.1 - Rate Sheets'!B:F,3,FALSE)","v":170},{"$f":"VLOOKUP($D339,'C.1 - Rate Sheets'!B:F,4,FALSE)","v":0},{"$f":"VLOOKUP($D339,'C.1 - Rate Sheets'!B:F,5,FALSE)","v":0},null,null,null,null,null,null,null,null,null,null,null,null,null,null,null,null,null,null,null,null,null,null,null,null,null,null,null,null,null,null,null,null,null,null,null,10,10,10,10,10,10,10,null,null,null,null,null,null,null,null,null,null,null,null,null,null,null,null,null,null,null,null,null,null,null,null,null,null,null,null,null,null,null,null,null,null,null,null,null,null,null,null,null,null,null,null,null,null,null,null,null,null,null,null,null,null,null,null,null,null,null,null,null,null,null,null,null,null,null,null,null,null,null,null,null,null,null,null,null,null,null,null,null,null,null,null,null,null,null,null,null,null,null,null,null,null,null,null,null,null,null,null,null,null,null,null,null,null,null,null,null,null,null,null,null,null,null,null,null,null,null,null,null,null,null,null,null,null,null,{"$f":"SUM(O339:FZ339)","v":70},null,null,70,{"$f":"GA339*K339","v":0},{"$f":"GB339*L339","v":11900},{"$f":"GC339*M339","v":0},{"$f":"GD339*N339","v":0},{"$f":"SUM(GF339:GI339)","v":11900},11900,"Yes",0,0,0]
[null,322,null,"CLEAN CREW","Vendor No.04","Clean 2",1267,"2018-11-11","2018-11-17",{"$f":"IF(AND(H340>='A - Contractor Summary'!$C$36,I340<='A - Contractor Summary'!$C$42),\"Yes\",\"No\")","v":"Yes"},{"$f":"VLOOKUP($D340,'C.1 - Rate Sheets'!B:F,2,FALSE)","v":0},{"$f":"VLOOKUP($D340,'C.1 - Rate Sheets'!B:F,3,FALSE)","v":170},{"$f":"VLOOKUP($D340,'C.1 - Rate Sheets'!B:F,4,FALSE)","v":0},{"$f":"VLOOKUP($D340,'C.1 - Rate Sheets'!B:F,5,FALSE)","v":0},null,null,null,null,null,null,null,null,null,null,null,null,null,null,null,null,null,null,null,null,null,null,null,null,null,null,null,null,null,null,null,null,null,null,null,10,10,10,10,10,10,10,null,null,null,null,null,null,null,null,null,null,null,null,null,null,null,null,null,null,null,null,null,null,null,null,null,null,null,null,null,null,null,null,null,null,null,null,null,null,null,null,null,null,null,null,null,null,null,null,null,null,null,null,null,null,null,null,null,null,null,null,null,null,null,null,null,null,null,null,null,null,null,null,null,null,null,null,null,null,null,null,null,null,null,null,null,null,null,null,null,null,null,null,null,null,null,null,null,null,null,null,null,null,null,null,null,null,null,null,null,null,null,null,null,null,null,null,null,null,null,null,null,null,null,null,null,null,null,70,null,null,70,0,11900,0,0,11900,11900,"Yes",0,0,0]
[null,323,null,"CLEAN CREW","Vendor No.04","Clean 3",1267,{"$f":"INDEX($O$16:$BK$16,MATCH(TRUE,INDEX((O341:BK341>0),0),0))","v":"2018-11-11"},{"$f":"LOOKUP(2,1/(1-(O341:BK341<=0)),$O$16:$BK$16)","v":"2018-11-17"},{"$f":"IF(AND(H341>='A - Contractor Summary'!$C$36,I341<='A - Contractor Summary'!$C$42),\"Yes\",\"No\")","v":"Yes"},{"$f":"VLOOKUP($D341,'C.1 - Rate Sheets'!B:F,2,FALSE)","v":0},{"$f":"VLOOKUP($D341,'C.1 - Rate Sheets'!B:F,3,FALSE)","v":170},{"$f":"VLOOKUP($D341,'C.1 - Rate Sheets'!B:F,4,FALSE)","v":0},{"$f":"VLOOKUP($D341,'C.1 - Rate Sheets'!B:F,5,FALSE)","v":0},null,null,null,null,null,null,null,null,null,null,null,null,null,null,null,null,null,null,null,null,null,null,null,null,null,null,null,null,null,null,null,null,null,null,null,10,10,10,10,10,10,10,null,null,null,null,null,null,null,null,null,null,null,null,null,null,null,null,null,null,null,null,null,null,null,null,null,null,null,null,null,null,null,null,null,null,null,null,null,null,null,null,null,null,null,null,null,null,null,null,null,null,null,null,null,null,null,null,null,null,null,null,null,null,null,null,null,null,null,null,null,null,null,null,null,null,null,null,null,null,null,null,null,null,null,null,null,null,null,null,null,null,null,null,null,null,null,null,null,null,null,null,null,null,null,null,null,null,null,null,null,null,null,null,null,null,null,null,null,null,null,null,null,null,null,null,null,null,null,70,null,null,70,0,11900,0,0,11900,{"$f":"GJ341-GM341","v":11900},"Yes",0,0,0]
[null,324,null,"CLEAN CREW","Vendor No.04","Clean 4",1267,"2018-11-11","2018-11-16",{"$f":"IF(AND(H342>='A - Contractor Summary'!$C$36,I342<='A - Contractor Summary'!$C$42),\"Yes\",\"No\")","v":"Yes"},{"$f":"VLOOKUP($D342,'C.1 - Rate Sheets'!B:F,2,FALSE)","v":0},{"$f":"VLOOKUP($D342,'C.1 - Rate Sheets'!B:F,3,FALSE)","v":170},{"$f":"VLOOKUP($D342,'C.1 - Rate Sheets'!B:F,4,FALSE)","v":0},{"$f":"VLOOKUP($D342,'C.1 - Rate Sheets'!B:F,5,FALSE)","v":0},null,null,null,null,null,null,null,null,null,null,null,null,null,null,null,null,null,null,null,null,null,null,null,null,null,null,null,null,null,null,null,null,null,null,null,10,10,10,10,10,10,null,null,null,null,null,null,null,null,null,null,null,null,null,null,null,null,null,null,null,null,null,null,null,null,null,null,null,null,null,null,null,null,null,null,null,null,null,null,null,null,null,null,null,null,null,null,null,null,null,null,null,null,null,null,null,null,null,null,null,null,null,null,null,null,null,null,null,null,null,null,null,null,null,null,null,null,null,null,null,null,null,null,null,null,null,null,null,null,null,null,null,null,null,null,null,null,null,null,null,null,null,null,null,null,null,null,null,null,null,null,null,null,null,null,null,null,null,null,null,null,null,null,null,null,null,null,null,null,60,null,null,60,0,10200,0,0,10200,10200,"Yes",0,0,0]
[null,325,null,"CLEAN CREW","Vendor No.04","Clean 5",1267,"2018-11-11","2018-11-16",{"$f":"IF(AND(H343>='A - Contractor Summary'!$C$36,I343<='A - Contractor Summary'!$C$42),\"Yes\",\"No\")","v":"Yes"},{"$f":"VLOOKUP($D343,'C.1 - Rate Sheets'!B:F,2,FALSE)","v":0},{"$f":"VLOOKUP($D343,'C.1 - Rate Sheets'!B:F,3,FALSE)","v":170},{"$f":"VLOOKUP($D343,'C.1 - Rate Sheets'!B:F,4,FALSE)","v":0},{"$f":"VLOOKUP($D343,'C.1 - Rate Sheets'!B:F,5,FALSE)","v":0},null,null,null,null,null,null,null,null,null,null,null,null,null,null,null,null,null,null,null,null,null,null,null,null,null,null,null,null,null,null,null,null,null,null,null,10,10,10,10,10,10,null,null,null,null,null,null,null,null,null,null,null,null,null,null,null,null,null,null,null,null,null,null,null,null,null,null,null,null,null,null,null,null,null,null,null,null,null,null,null,null,null,null,null,null,null,null,null,null,null,null,null,null,null,null,null,null,null,null,null,null,null,null,null,null,null,null,null,null,null,null,null,null,null,null,null,null,null,null,null,null,null,null,null,null,null,null,null,null,null,null,null,null,null,null,null,null,null,null,null,null,null,null,null,null,null,null,null,null,null,null,null,null,null,null,null,null,null,null,null,null,null,null,null,null,null,null,null,null,60,null,null,60,0,10200,0,0,10200,10200,"Yes",0,0,0]
[null,326,null,"CLEAN CREW","Vendor No.04","Clean 6",1267,"2018-11-11","2018-11-15",{"$f":"IF(AND(H344>='A - Contractor Summary'!$C$36,I344<='A - Contractor Summary'!$C$42),\"Yes\",\"No\")","v":"Yes"},{"$f":"VLOOKUP($D344,'C.1 - Rate Sheets'!B:F,2,FALSE)","v":0},{"$f":"VLOOKUP($D344,'C.1 - Rate Sheets'!B:F,3,FALSE)","v":170},{"$f":"VLOOKUP($D344,'C.1 - Rate Sheets'!B:F,4,FALSE)","v":0},{"$f":"VLOOKUP($D344,'C.1 - Rate Sheets'!B:F,5,FALSE)","v":0},null,null,null,null,null,null,null,null,null,null,null,null,null,null,null,null,null,null,null,null,null,null,null,null,null,null,null,null,null,null,null,null,null,null,null,10,10,10,10,10,null,null,null,null,null,null,null,null,null,null,null,null,null,null,null,null,null,null,null,null,null,null,null,null,null,null,null,null,null,null,null,null,null,null,null,null,null,null,null,null,null,null,null,null,null,null,null,null,null,null,null,null,null,null,null,null,null,null,null,null,null,null,null,null,null,null,null,null,null,null,null,null,null,null,null,null,null,null,null,null,null,null,null,null,null,null,null,null,null,null,null,null,null,null,null,null,null,null,null,null,null,null,null,null,null,null,null,null,null,null,null,null,null,null,null,null,null,null,null,null,null,null,null,null,null,null,null,null,null,50,null,null,50,0,8500,0,0,8500,8500,"Yes",0,0,0]
[null,327,null,"CLEAN CREW","Vendor No.04","Clean 7",1267,"2018-11-15","2018-11-15",{"$f":"IF(AND(H345>='A - Contractor Summary'!$C$36,I345<='A - Contractor Summary'!$C$42),\"Yes\",\"No\")","v":"Yes"},{"$f":"VLOOKUP($D345,'C.1 - Rate Sheets'!B:F,2,FALSE)","v":0},{"$f":"VLOOKUP($D345,'C.1 - Rate Sheets'!B:F,3,FALSE)","v":170},{"$f":"VLOOKUP($D345,'C.1 - Rate Sheets'!B:F,4,FALSE)","v":0},{"$f":"VLOOKUP($D345,'C.1 - Rate Sheets'!B:F,5,FALSE)","v":0},null,null,null,null,null,null,null,null,null,null,null,null,null,null,null,null,null,null,null,null,null,null,null,null,null,null,null,null,null,null,null,null,null,null,null,null,null,null,null,10,null,null,null,null,null,null,null,null,null,null,null,null,null,null,null,null,null,null,null,null,null,null,null,null,null,null,null,null,null,null,null,null,null,null,null,null,null,null,null,null,null,null,null,null,null,null,null,null,null,null,null,null,null,null,null,null,null,null,null,null,null,null,null,null,null,null,null,null,null,null,null,null,null,null,null,null,null,null,null,null,null,null,null,null,null,null,null,null,null,null,null,null,null,null,null,null,null,null,null,null,null,null,null,null,null,null,null,null,null,null,null,null,null,null,null,null,null,null,null,null,null,null,null,null,null,null,null,null,null,10,null,null,10,0,1700,0,0,1700,1700,"Yes",0,0,0]
[null,328,null,"CLEAN CREW","Vendor No.04","Clean 1",1269,"2018-11-18","2018-11-24",{"$f":"IF(AND(H346>='A - Contractor Summary'!$C$36,I346<='A - Contractor Summary'!$C$42),\"Yes\",\"No\")","v":"Yes"},{"$f":"VLOOKUP($D346,'C.1 - Rate Sheets'!B:F,2,FALSE)","v":0},{"$f":"VLOOKUP($D346,'C.1 - Rate Sheets'!B:F,3,FALSE)","v":170},{"$f":"VLOOKUP($D346,'C.1 - Rate Sheets'!B:F,4,FALSE)","v":0},{"$f":"VLOOKUP($D346,'C.1 - Rate Sheets'!B:F,5,FALSE)","v":0},null,null,null,null,null,null,null,null,null,null,null,null,null,null,null,null,null,null,null,null,null,null,null,null,null,null,null,null,null,null,null,null,null,null,null,null,null,null,null,null,null,null,10,10,10,10,null,10,10,null,null,null,null,null,null,null,null,null,null,null,null,null,null,null,null,null,null,null,null,null,null,null,null,null,null,null,null,null,null,null,null,null,null,null,null,null,null,null,null,null,null,null,null,null,null,null,null,null,null,null,null,null,null,null,null,null,null,null,null,null,null,null,null,null,null,null,null,null,null,null,null,null,null,null,null,null,null,null,null,null,null,null,null,null,null,null,null,null,null,null,null,null,null,null,null,null,null,null,null,null,null,null,null,null,null,null,null,null,null,null,null,null,null,null,null,null,null,null,null,60,null,null,60,0,10200,0,0,10200,10200,"Yes",0,0,0]
[null,329,null,"CLEAN CREW","Vendor No.04","Clean 2",1269,"2018-11-18","2018-11-24",{"$f":"IF(AND(H347>='A - Contractor Summary'!$C$36,I347<='A - Contractor Summary'!$C$42),\"Yes\",\"No\")","v":"Yes"},{"$f":"VLOOKUP($D347,'C.1 - Rate Sheets'!B:F,2,FALSE)","v":0},{"$f":"VLOOKUP($D347,'C.1 - Rate Sheets'!B:F,3,FALSE)","v":170},{"$f":"VLOOKUP($D347,'C.1 - Rate Sheets'!B:F,4,FALSE)","v":0},{"$f":"VLOOKUP($D347,'C.1 - Rate Sheets'!B:F,5,FALSE)","v":0},null,null,null,null,null,null,null,null,null,null,null,null,null,null,null,null,null,null,null,null,null,null,null,null,null,null,null,null,null,null,null,null,null,null,null,null,null,null,null,null,null,null,10,10,10,10,null,10,10,null,null,null,null,null,null,null,null,null,null,null,null,null,null,null,null,null,null,null,null,null,null,null,null,null,null,null,null,null,null,null,null,null,null,null,null,null,null,null,null,null,null,null,null,null,null,null,null,null,null,null,null,null,null,null,null,null,null,null,null,null,null,null,null,null,null,null,null,null,null,null,null,null,null,null,null,null,null,null,null,null,null,null,null,null,null,null,null,null,null,null,null,null,null,null,null,null,null,null,null,null,null,null,null,null,null,null,null,null,null,null,null,null,null,null,null,null,null,null,null,60,null,null,60,0,10200,0,0,10200,10200,"Yes",0,0,0]
[null,330,null,"CLEAN CREW","Vendor No.04","Clean 3",1269,"2018-11-18","2018-11-24",{"$f":"IF(AND(H348>='A - Contractor Summary'!$C$36,I348<='A - Contractor Summary'!$C$42),\"Yes\",\"No\")","v":"Yes"},{"$f":"VLOOKUP($D348,'C.1 - Rate Sheets'!B:F,2,FALSE)","v":0},{"$f":"VLOOKUP($D348,'C.1 - Rate Sheets'!B:F,3,FALSE)","v":170},{"$f":"VLOOKUP($D348,'C.1 - Rate Sheets'!B:F,4,FALSE)","v":0},{"$f":"VLOOKUP($D348,'C.1 - Rate Sheets'!B:F,5,FALSE)","v":0},null,null,null,null,null,null,null,null,null,null,null,null,null,null,null,null,null,null,null,null,null,null,null,null,null,null,null,null,null,null,null,null,null,null,null,null,null,null,null,null,null,null,10,10,10,10,null,10,10,null,null,null,null,null,null,null,null,null,null,null,null,null,null,null,null,null,null,null,null,null,null,null,null,null,null,null,null,null,null,null,null,null,null,null,null,null,null,null,null,null,null,null,null,null,null,null,null,null,null,null,null,null,null,null,null,null,null,null,null,null,null,null,null,null,null,null,null,null,null,null,null,null,null,null,null,null,null,null,null,null,null,null,null,null,null,null,null,null,null,null,null,null,null,null,null,null,null,null,null,null,null,null,null,null,null,null,null,null,null,null,null,null,null,null,null,null,null,null,null,60,null,null,{"$f":"SUM(GA348:GD348)","v":60},0,10200,0,0,10200,10200,"Yes",0,0,0]
[null,331,null,"CLEAN CREW","Vendor No.04","Clean 4",1269,"2018-11-18","2018-11-24",{"$f":"IF(AND(H349>='A - Contractor Summary'!$C$36,I349<='A - Contractor Summary'!$C$42),\"Yes\",\"No\")","v":"Yes"},{"$f":"VLOOKUP($D349,'C.1 - Rate Sheets'!B:F,2,FALSE)","v":0},{"$f":"VLOOKUP($D349,'C.1 - Rate Sheets'!B:F,3,FALSE)","v":170},{"$f":"VLOOKUP($D349,'C.1 - Rate Sheets'!B:F,4,FALSE)","v":0},{"$f":"VLOOKUP($D349,'C.1 - Rate Sheets'!B:F,5,FALSE)","v":0},null,null,null,null,null,null,null,null,null,null,null,null,null,null,null,null,null,null,null,null,null,null,null,null,null,null,null,null,null,null,null,null,null,null,null,null,null,null,null,null,null,null,10,10,10,10,null,10,10,null,null,null,null,null,null,null,null,null,null,null,null,null,null,null,null,null,null,null,null,null,null,null,null,null,null,null,null,null,null,null,null,null,null,null,null,null,null,null,null,null,null,null,null,null,null,null,null,null,null,null,null,null,null,null,null,null,null,null,null,null,null,null,null,null,null,null,null,null,null,null,null,null,null,null,null,null,null,null,null,null,null,null,null,null,null,null,null,null,null,null,null,null,null,null,null,null,null,null,null,null,null,null,null,null,null,null,null,null,null,null,null,null,null,null,null,null,null,null,null,60,null,null,60,0,10200,0,0,10200,10200,"Yes",0,0,0]
[null,332,null,"CLEAN CREW","Vendor No.04","Clean 5",1269,{"$f":"INDEX($O$16:$FZ$16,MATCH(TRUE,INDEX((O350:FZ350>0),0),0))","v":"2018-11-18"},{"$f":"LOOKUP(2,1/(1-(O350:BK350<=0)),$O$16:$FZ$16)","v":"2018-11-24"},{"$f":"IF(AND(H350>='A - Contractor Summary'!$C$36,I350<='A - Contractor Summary'!$C$42),\"Yes\",\"No\")","v":"Yes"},{"$f":"VLOOKUP($D350,'C.1 - Rate Sheets'!B:F,2,FALSE)","v":0},{"$f":"VLOOKUP($D350,'C.1 - Rate Sheets'!B:F,3,FALSE)","v":170},{"$f":"VLOOKUP($D350,'C.1 - Rate Sheets'!B:F,4,FALSE)","v":0},{"$f":"VLOOKUP($D350,'C.1 - Rate Sheets'!B:F,5,FALSE)","v":0},null,null,null,null,null,null,null,null,null,null,null,null,null,null,null,null,null,null,null,null,null,null,null,null,null,null,null,null,null,null,null,null,null,null,null,null,null,null,null,null,null,null,10,10,10,10,null,10,10,null,null,null,null,null,null,null,null,null,null,null,null,null,null,null,null,null,null,null,null,null,null,null,null,null,null,null,null,null,null,null,null,null,null,null,null,null,null,null,null,null,null,null,null,null,null,null,null,null,null,null,null,null,null,null,null,null,null,null,null,null,null,null,null,null,null,null,null,null,null,null,null,null,null,null,null,null,null,null,null,null,null,null,null,null,null,null,null,null,null,null,null,null,null,null,null,null,null,null,null,null,null,null,null,null,null,null,null,null,null,null,null,null,null,null,null,null,null,null,null,60,null,null,60,0,10200,0,0,10200,10200,"Yes",0,0,0]
[null,333,null,"MOT CREW","Vendor No.04","Mot 1",1299,{"$f":"INDEX($O$16:$FZ$16,MATCH(TRUE,INDEX((O351:FZ351>0),0),0))","v":"2018-11-25"},{"$f":"LOOKUP(2,1/(1-(O351:FZ351<=0)),$O$16:$FZ$16)","v":"2018-12-01"},{"$f":"IF(AND(H351>='A - Contractor Summary'!$C$36,I351<='A - Contractor Summary'!$C$42),\"Yes\",\"No\")","v":"Yes"},{"$f":"VLOOKUP($D351,'C.1 - Rate Sheets'!B:F,2,FALSE)","v":0},{"$f":"VLOOKUP($D351,'C.1 - Rate Sheets'!B:F,3,FALSE)","v":150},{"$f":"VLOOKUP($D351,'C.1 - Rate Sheets'!B:F,4,FALSE)","v":0},{"$f":"VLOOKUP($D351,'C.1 - Rate Sheets'!B:F,5,FALSE)","v":0},null,null,null,null,null,null,null,null,null,null,null,null,null,null,null,null,null,null,null,null,null,null,null,null,null,null,null,null,null,null,null,null,null,null,null,null,null,null,null,null,null,null,null,null,null,null,null,null,null,10,10,10,10,10,10,10,null,null,null,null,null,null,null,null,null,null,null,null,null,null,null,null,null,null,null,null,null,null,null,null,null,null,null,null,null,null,null,null,null,null,null,null,null,null,null,null,null,null,null,null,null,null,null,null,null,null,null,null,null,null,null,null,null,null,null,null,null,null,null,null,null,null,null,null,null,null,null,null,null,null,null,null,null,null,null,null,null,null,null,null,null,null,null,null,null,null,null,null,null,null,null,null,null,null,null,null,null,null,null,null,null,null,null,null,null,null,null,null,null,70,null,null,70,0,10500,0,0,10500,10500,"Yes",0,0,0]
[null,334,null,"CLEAN CREW","Vendor No.04","Clean 1",1299,"2018-11-25",{"$f":"LOOKUP(2,1/(1-(O352:FZ352<=0)),$O$16:$FZ$16)","v":"2018-12-01"},{"$f":"IF(AND(H352>='A - Contractor Summary'!$C$36,I352<='A - Contractor Summary'!$C$42),\"Yes\",\"No\")","v":"Yes"},{"$f":"VLOOKUP($D352,'C.1 - Rate Sheets'!B:F,2,FALSE)","v":0},{"$f":"VLOOKUP($D352,'C.1 - Rate Sheets'!B:F,3,FALSE)","v":170},{"$f":"VLOOKUP($D352,'C.1 - Rate Sheets'!B:F,4,FALSE)","v":0},{"$f":"VLOOKUP($D352,'C.1 - Rate Sheets'!B:F,5,FALSE)","v":0},null,null,null,null,null,null,null,null,null,null,null,null,null,null,null,null,null,null,null,null,null,null,null,null,null,null,null,null,null,null,null,null,null,null,null,null,null,null,null,null,null,null,null,null,null,null,null,null,null,10,10,10,10,10,10,10,null,null,null,null,null,null,null,null,null,null,null,null,null,null,null,null,null,null,null,null,null,null,null,null,null,null,null,null,null,null,null,null,null,null,null,null,null,null,null,null,null,null,null,null,null,null,null,null,null,null,null,null,null,null,null,null,null,null,null,null,null,null,null,null,null,null,null,null,null,null,null,null,null,null,null,null,null,null,null,null,null,null,null,null,null,null,null,null,null,null,null,null,null,null,null,null,null,null,null,null,null,null,null,null,null,null,null,null,null,null,null,null,null,70,null,null,70,0,11900,0,0,11900,11900,"Yes",0,0,0]
[null,335,null,"CLEAN CREW","Vendor No.04","Clean 2",1299,"2018-11-25","2018-12-01",{"$f":"IF(AND(H353>='A - Contractor Summary'!$C$36,I353<='A - Contractor Summary'!$C$42),\"Yes\",\"No\")","v":"Yes"},{"$f":"VLOOKUP($D353,'C.1 - Rate Sheets'!B:F,2,FALSE)","v":0},{"$f":"VLOOKUP($D353,'C.1 - Rate Sheets'!B:F,3,FALSE)","v":170},{"$f":"VLOOKUP($D353,'C.1 - Rate Sheets'!B:F,4,FALSE)","v":0},{"$f":"VLOOKUP($D353,'C.1 - Rate Sheets'!B:F,5,FALSE)","v":0},null,null,null,null,null,null,null,null,null,null,null,null,null,null,null,null,null,null,null,null,null,null,null,null,null,null,null,null,null,null,null,null,null,null,null,null,null,null,null,null,null,null,null,null,null,null,null,null,null,10,10,10,10,10,10,10,null,null,null,null,null,null,null,null,null,null,null,null,null,null,null,null,null,null,null,null,null,null,null,null,null,null,null,null,null,null,null,null,null,null,null,null,null,null,null,null,null,null,null,null,null,null,null,null,null,null,null,null,null,null,null,null,null,null,null,null,null,null,null,null,null,null,null,null,null,null,null,null,null,null,null,null,null,null,null,null,null,null,null,null,null,null,null,null,null,null,null,null,null,null,null,null,null,null,null,null,null,null,null,null,null,null,null,null,null,null,null,null,null,70,null,null,70,0,11900,0,0,11900,11900,"Yes",0,0,0]
[null,336,null,"CLEAN CREW","Vendor No.04","Clean 3",1299,"2018-11-25","2018-12-01",{"$f":"IF(AND(H354>='A - Contractor Summary'!$C$36,I354<='A - Contractor Summary'!$C$42),\"Yes\",\"No\")","v":"Yes"},{"$f":"VLOOKUP($D354,'C.1 - Rate Sheets'!B:F,2,FALSE)","v":0},{"$f":"VLOOKUP($D354,'C.1 - Rate Sheets'!B:F,3,FALSE)","v":170},{"$f":"VLOOKUP($D354,'C.1 - Rate Sheets'!B:F,4,FALSE)","v":0},{"$f":"VLOOKUP($D354,'C.1 - Rate Sheets'!B:F,5,FALSE)","v":0},null,null,null,null,null,null,null,null,null,null,null,null,null,null,null,null,null,null,null,null,null,null,null,null,null,null,null,null,null,null,null,null,null,null,null,null,null,null,null,null,null,null,null,null,null,null,null,null,null,10,10,10,10,10,10,10,null,null,null,null,null,null,null,null,null,null,null,null,null,null,null,null,null,null,null,null,null,null,null,null,null,null,null,null,null,null,null,null,null,null,null,null,null,null,null,null,null,null,null,null,null,null,null,null,null,null,null,null,null,null,null,null,null,null,null,null,null,null,null,null,null,null,null,null,null,null,null,null,null,null,null,null,null,null,null,null,null,null,null,null,null,null,null,null,null,null,null,null,null,null,null,null,null,null,null,null,null,null,null,null,null,null,null,null,null,null,null,null,null,70,null,null,70,0,11900,0,0,11900,11900,"Yes",0,0,0]
[null,337,null,"CLEAN CREW","Vendor No.04","Clean 4",1299,"2018-11-25","2018-12-01",{"$f":"IF(AND(H355>='A - Contractor Summary'!$C$36,I355<='A - Contractor Summary'!$C$42),\"Yes\",\"No\")","v":"Yes"},{"$f":"VLOOKUP($D355,'C.1 - Rate Sheets'!B:F,2,FALSE)","v":0},{"$f":"VLOOKUP($D355,'C.1 - Rate Sheets'!B:F,3,FALSE)","v":170},{"$f":"VLOOKUP($D355,'C.1 - Rate Sheets'!B:F,4,FALSE)","v":0},{"$f":"VLOOKUP($D355,'C.1 - Rate Sheets'!B:F,5,FALSE)","v":0},null,null,null,null,null,null,null,null,null,null,null,null,null,null,null,null,null,null,null,null,null,null,null,null,null,null,null,null,null,null,null,null,null,null,null,null,null,null,null,null,null,null,null,null,null,null,null,null,null,10,10,10,10,10,10,10,null,null,null,null,null,null,null,null,null,null,null,null,null,null,null,null,null,null,null,null,null,null,null,null,null,null,null,null,null,null,null,null,null,null,null,null,null,null,null,null,null,null,null,null,null,null,null,null,null,null,null,null,null,null,null,null,null,null,null,null,null,null,null,null,null,null,null,null,null,null,null,null,null,null,null,null,null,null,null,null,null,null,null,null,null,null,null,null,null,null,null,null,null,null,null,null,null,null,null,null,null,null,null,null,null,null,null,null,null,null,null,null,null,70,null,null,70,0,11900,0,0,11900,11900,"Yes",0,0,0]
[null,338,null,"CLEAN CREW","Vendor No.04","Clean 5",1299,"2018-11-25","2018-12-01",{"$f":"IF(AND(H356>='A - Contractor Summary'!$C$36,I356<='A - Contractor Summary'!$C$42),\"Yes\",\"No\")","v":"Yes"},{"$f":"VLOOKUP($D356,'C.1 - Rate Sheets'!B:F,2,FALSE)","v":0},{"$f":"VLOOKUP($D356,'C.1 - Rate Sheets'!B:F,3,FALSE)","v":170},{"$f":"VLOOKUP($D356,'C.1 - Rate Sheets'!B:F,4,FALSE)","v":0},{"$f":"VLOOKUP($D356,'C.1 - Rate Sheets'!B:F,5,FALSE)","v":0},null,null,null,null,null,null,null,null,null,null,null,null,null,null,null,null,null,null,null,null,null,null,null,null,null,null,null,null,null,null,null,null,null,null,null,null,null,null,null,null,null,null,null,null,null,null,null,null,null,10,10,10,10,10,10,10,null,null,null,null,null,null,null,null,null,null,null,null,null,null,null,null,null,null,null,null,null,null,null,null,null,null,null,null,null,null,null,null,null,null,null,null,null,null,null,null,null,null,null,null,null,null,null,null,null,null,null,null,null,null,null,null,null,null,null,null,null,null,null,null,null,null,null,null,null,null,null,null,null,null,null,null,null,null,null,null,null,null,null,null,null,null,null,null,null,null,null,null,null,null,null,null,null,null,null,null,null,null,null,null,null,null,null,null,null,null,null,null,null,70,null,null,70,0,11900,0,0,11900,11900,"Yes",0,0,0]
[null,339,null,"MOT CREW","Vendor No.04","Mot 1",1300,"2018-12-02","2018-12-08",{"$f":"IF(AND(H357>='A - Contractor Summary'!$C$36,I357<='A - Contractor Summary'!$C$42),\"Yes\",\"No\")","v":"Yes"},{"$f":"VLOOKUP($D357,'C.1 - Rate Sheets'!B:F,2,FALSE)","v":0},{"$f":"VLOOKUP($D357,'C.1 - Rate Sheets'!B:F,3,FALSE)","v":150},{"$f":"VLOOKUP($D357,'C.1 - Rate Sheets'!B:F,4,FALSE)","v":0},{"$f":"VLOOKUP($D357,'C.1 - Rate Sheets'!B:F,5,FALSE)","v":0},null,null,null,null,null,null,null,null,null,null,null,null,null,null,null,null,null,null,null,null,null,null,null,null,null,null,null,null,null,null,null,null,null,null,null,null,null,null,null,null,null,null,null,null,null,null,null,null,null,null,null,null,null,null,null,null,10,10,10,10,10,10,10,null,null,null,null,null,null,null,null,null,null,null,null,null,null,null,null,null,null,null,null,null,null,null,null,null,null,null,null,null,null,null,null,null,null,null,null,null,null,null,null,null,null,null,null,null,null,null,null,null,null,null,null,null,null,null,null,null,null,null,null,null,null,null,null,null,null,null,null,null,null,null,null,null,null,null,null,null,null,null,null,null,null,null,null,null,null,null,null,null,null,null,null,null,null,null,null,null,null,null,null,null,null,null,null,null,null,70,null,null,70,0,10500,0,0,10500,10500,"Yes",0,0,0]
[null,340,null,"CLEAN CREW","Vendor No.04","Clean 1",1300,"2018-12-02","2018-12-08",{"$f":"IF(AND(H358>='A - Contractor Summary'!$C$36,I358<='A - Contractor Summary'!$C$42),\"Yes\",\"No\")","v":"Yes"},{"$f":"VLOOKUP($D358,'C.1 - Rate Sheets'!B:F,2,FALSE)","v":0},{"$f":"VLOOKUP($D358,'C.1 - Rate Sheets'!B:F,3,FALSE)","v":170},{"$f":"VLOOKUP($D358,'C.1 - Rate Sheets'!B:F,4,FALSE)","v":0},{"$f":"VLOOKUP($D358,'C.1 - Rate Sheets'!B:F,5,FALSE)","v":0},null,null,null,null,null,null,null,null,null,null,null,null,null,null,null,null,null,null,null,null,null,null,null,null,null,null,null,null,null,null,null,null,null,null,null,null,null,null,null,null,null,null,null,null,null,null,null,null,null,null,null,null,null,null,null,null,10,10,10,10,10,10,10,null,null,null,null,null,null,null,null,null,null,null,null,null,null,null,null,null,null,null,null,null,null,null,null,null,null,null,null,null,null,null,null,null,null,null,null,null,null,null,null,null,null,null,null,null,null,null,null,null,null,null,null,null,null,null,null,null,null,null,null,null,null,null,null,null,null,null,null,null,null,null,null,null,null,null,null,null,null,null,null,null,null,null,null,null,null,null,null,null,null,null,null,null,null,null,null,null,null,null,null,null,null,null,null,null,null,70,null,null,70,0,11900,0,0,11900,11900,"Yes",0,0,0]
[null,341,null,"CLEAN CREW","Vendor No.04","Clean 2",1300,"2018-12-02","2018-12-08",{"$f":"IF(AND(H359>='A - Contractor Summary'!$C$36,I359<='A - Contractor Summary'!$C$42),\"Yes\",\"No\")","v":"Yes"},{"$f":"VLOOKUP($D359,'C.1 - Rate Sheets'!B:F,2,FALSE)","v":0},{"$f":"VLOOKUP($D359,'C.1 - Rate Sheets'!B:F,3,FALSE)","v":170},{"$f":"VLOOKUP($D359,'C.1 - Rate Sheets'!B:F,4,FALSE)","v":0},{"$f":"VLOOKUP($D359,'C.1 - Rate Sheets'!B:F,5,FALSE)","v":0},null,null,null,null,null,null,null,null,null,null,null,null,null,null,null,null,null,null,null,null,null,null,null,null,null,null,null,null,null,null,null,null,null,null,null,null,null,null,null,null,null,null,null,null,null,null,null,null,null,null,null,null,null,null,null,null,10,10,10,10,10,10,10,null,null,null,null,null,null,null,null,null,null,null,null,null,null,null,null,null,null,null,null,null,null,null,null,null,null,null,null,null,null,null,null,null,null,null,null,null,null,null,null,null,null,null,null,null,null,null,null,null,null,null,null,null,null,null,null,null,null,null,null,null,null,null,null,null,null,null,null,null,null,null,null,null,null,null,null,null,null,null,null,null,null,null,null,null,null,null,null,null,null,null,null,null,null,null,null,null,null,null,null,null,null,null,null,null,null,70,null,null,70,0,11900,0,0,11900,11900,"Yes",0,0,0]
[null,342,null,"CLEAN CREW","Vendor No.04","Clean 3",1300,"2018-12-02","2018-12-08",{"$f":"IF(AND(H360>='A - Contractor Summary'!$C$36,I360<='A - Contractor Summary'!$C$42),\"Yes\",\"No\")","v":"Yes"},{"$f":"VLOOKUP($D360,'C.1 - Rate Sheets'!B:F,2,FALSE)","v":0},{"$f":"VLOOKUP($D360,'C.1 - Rate Sheets'!B:F,3,FALSE)","v":170},{"$f":"VLOOKUP($D360,'C.1 - Rate Sheets'!B:F,4,FALSE)","v":0},{"$f":"VLOOKUP($D360,'C.1 - Rate Sheets'!B:F,5,FALSE)","v":0},null,null,null,null,null,null,null,null,null,null,null,null,null,null,null,null,null,null,null,null,null,null,null,null,null,null,null,null,null,null,null,null,null,null,null,null,null,null,null,null,null,null,null,null,null,null,null,null,null,null,null,null,null,null,null,null,10,10,10,10,10,10,10,null,null,null,null,null,null,null,null,null,null,null,null,null,null,null,null,null,null,null,null,null,null,null,null,null,null,null,null,null,null,null,null,null,null,null,null,null,null,null,null,null,null,null,null,null,null,null,null,null,null,null,null,null,null,null,null,null,null,null,null,null,null,null,null,null,null,null,null,null,null,null,null,null,null,null,null,null,null,null,null,null,null,null,null,null,null,null,null,null,null,null,null,null,null,null,null,null,null,null,null,null,null,null,null,null,null,70,null,null,70,0,11900,0,0,11900,11900,"Yes",0,0,0]
[null,343,null,"CLEAN CREW","Vendor No.04","Clean 4",1300,"2018-12-02","2018-12-08",{"$f":"IF(AND(H361>='A - Contractor Summary'!$C$36,I361<='A - Contractor Summary'!$C$42),\"Yes\",\"No\")","v":"Yes"},{"$f":"VLOOKUP($D361,'C.1 - Rate Sheets'!B:F,2,FALSE)","v":0},{"$f":"VLOOKUP($D361,'C.1 - Rate Sheets'!B:F,3,FALSE)","v":170},{"$f":"VLOOKUP($D361,'C.1 - Rate Sheets'!B:F,4,FALSE)","v":0},{"$f":"VLOOKUP($D361,'C.1 - Rate Sheets'!B:F,5,FALSE)","v":0},null,null,null,null,null,null,null,null,null,null,null,null,null,null,null,null,null,null,null,null,null,null,null,null,null,null,null,null,null,null,null,null,null,null,null,null,null,null,null,null,null,null,null,null,null,null,null,null,null,null,null,null,null,null,null,null,10,10,10,10,10,10,10,null,null,null,null,null,null,null,null,null,null,null,null,null,null,null,null,null,null,null,null,null,null,null,null,null,null,null,null,null,null,null,null,null,null,null,null,null,null,null,null,null,null,null,null,null,null,null,null,null,null,null,null,null,null,null,null,null,null,null,null,null,null,null,null,null,null,null,null,null,null,null,null,null,null,null,null,null,null,null,null,null,null,null,null,null,null,null,null,null,null,null,null,null,null,null,null,null,null,null,null,null,null,null,null,null,null,70,null,null,70,0,11900,0,0,11900,11900,"Yes",0,0,0]
[null,344,null,"CLEAN CREW","Vendor No.04","Clean 5",1300,"2018-12-02","2018-12-08",{"$f":"IF(AND(H362>='A - Contractor Summary'!$C$36,I362<='A - Contractor Summary'!$C$42),\"Yes\",\"No\")","v":"Yes"},{"$f":"VLOOKUP($D362,'C.1 - Rate Sheets'!B:F,2,FALSE)","v":0},{"$f":"VLOOKUP($D362,'C.1 - Rate Sheets'!B:F,3,FALSE)","v":170},{"$f":"VLOOKUP($D362,'C.1 - Rate Sheets'!B:F,4,FALSE)","v":0},{"$f":"VLOOKUP($D362,'C.1 - Rate Sheets'!B:F,5,FALSE)","v":0},null,null,null,null,null,null,null,null,null,null,null,null,null,null,null,null,null,null,null,null,null,null,null,null,null,null,null,null,null,null,null,null,null,null,null,null,null,null,null,null,null,null,null,null,null,null,null,null,null,null,null,null,null,null,null,null,10,10,10,10,10,10,10,null,null,null,null,null,null,null,null,null,null,null,null,null,null,null,null,null,null,null,null,null,null,null,null,null,null,null,null,null,null,null,null,null,null,null,null,null,null,null,null,null,null,null,null,null,null,null,null,null,null,null,null,null,null,null,null,null,null,null,null,null,null,null,null,null,null,null,null,null,null,null,null,null,null,null,null,null,null,null,null,null,null,null,null,null,null,null,null,null,null,null,null,null,null,null,null,null,null,null,null,null,null,null,null,null,null,70,null,null,70,0,11900,0,0,11900,11900,"Yes",0,0,0]
[null,345,null,"MOT CREW","Vendor No.04","Mot 1",1322,"2018-12-09","2018-12-14",{"$f":"IF(AND(H363>='A - Contractor Summary'!$C$36,I363<='A - Contractor Summary'!$C$42),\"Yes\",\"No\")","v":"Yes"},{"$f":"VLOOKUP($D363,'C.1 - Rate Sheets'!B:F,2,FALSE)","v":0},{"$f":"VLOOKUP($D363,'C.1 - Rate Sheets'!B:F,3,FALSE)","v":150},{"$f":"VLOOKUP($D363,'C.1 - Rate Sheets'!B:F,4,FALSE)","v":0},{"$f":"VLOOKUP($D363,'C.1 - Rate Sheets'!B:F,5,FALSE)","v":0},null,null,null,null,null,null,null,null,null,null,null,null,null,null,null,null,null,null,null,null,null,null,null,null,null,null,null,null,null,null,null,null,null,null,null,null,null,null,null,null,null,null,null,null,null,null,null,null,null,null,null,null,null,null,null,null,null,null,null,null,null,null,null,10,10,10,10,10,10,null,null,null,null,null,null,null,null,null,null,null,null,null,null,null,null,null,null,null,null,null,null,null,null,null,null,null,null,null,null,null,null,null,null,null,null,null,null,null,null,null,null,null,null,null,null,null,null,null,null,null,null,null,null,null,null,null,null,null,null,null,null,null,null,null,null,null,null,null,null,null,null,null,null,null,null,null,null,null,null,null,null,null,null,null,null,null,null,null,null,null,null,null,null,null,null,null,null,null,null,60,null,null,60,0,9000,0,0,9000,9000,"Yes",0,0,0]
[null,346,null,"MOT CREW","Vendor No.04","Mot 2",1322,"2018-12-09","2018-12-13",{"$f":"IF(AND(H364>='A - Contractor Summary'!$C$36,I364<='A - Contractor Summary'!$C$42),\"Yes\",\"No\")","v":"Yes"},{"$f":"VLOOKUP($D364,'C.1 - Rate Sheets'!B:F,2,FALSE)","v":0},{"$f":"VLOOKUP($D364,'C.1 - Rate Sheets'!B:F,3,FALSE)","v":150},{"$f":"VLOOKUP($D364,'C.1 - Rate Sheets'!B:F,4,FALSE)","v":0},{"$f":"VLOOKUP($D364,'C.1 - Rate Sheets'!B:F,5,FALSE)","v":0},null,null,null,null,null,null,null,null,null,null,null,null,null,null,null,null,null,null,null,null,null,null,null,null,null,null,null,null,null,null,null,null,null,null,null,null,null,null,null,null,null,null,null,null,null,null,null,null,null,null,null,null,null,null,null,null,null,null,null,null,null,null,null,10,null,10,null,10,null,null,null,null,null,null,null,null,null,null,null,null,null,null,null,null,null,null,null,null,null,null,null,null,null,null,null,null,null,null,null,null,null,null,null,null,null,null,null,null,null,null,null,null,null,null,null,null,null,null,null,null,null,null,null,null,null,null,null,null,null,null,null,null,null,null,null,null,null,null,null,null,null,null,null,null,null,null,null,null,null,null,null,null,null,null,null,null,null,null,null,null,null,null,null,null,null,null,null,null,null,30,null,null,30,0,4500,0,0,4500,4500,"Yes",0,0,0]
[null,347,null,"CLEAN CREW","Vendor No.04","Clean 1",1322,"2018-12-09","2018-12-15",{"$f":"IF(AND(H365>='A - Contractor Summary'!$C$36,I365<='A - Contractor Summary'!$C$42),\"Yes\",\"No\")","v":"Yes"},{"$f":"VLOOKUP($D365,'C.1 - Rate Sheets'!B:F,2,FALSE)","v":0},{"$f":"VLOOKUP($D365,'C.1 - Rate Sheets'!B:F,3,FALSE)","v":170},{"$f":"VLOOKUP($D365,'C.1 - Rate Sheets'!B:F,4,FALSE)","v":0},{"$f":"VLOOKUP($D365,'C.1 - Rate Sheets'!B:F,5,FALSE)","v":0},null,null,null,null,null,null,null,null,null,null,null,null,null,null,null,null,null,null,null,null,null,null,null,null,null,null,null,null,null,null,null,null,null,null,null,null,null,null,null,null,null,null,null,null,null,null,null,null,null,null,null,null,null,null,null,null,null,null,null,null,null,null,null,10,10,10,10,10,10,10,null,null,null,null,null,null,null,null,null,null,null,null,null,null,null,null,null,null,null,null,null,null,null,null,null,null,null,null,null,null,null,null,null,null,null,null,null,null,null,null,null,null,null,null,null,null,null,null,null,null,null,null,null,null,null,null,null,null,null,null,null,null,null,null,null,null,null,null,null,null,null,null,null,null,null,null,null,null,null,null,null,null,null,null,null,null,null,null,null,null,null,null,null,null,null,null,null,null,null,70,null,null,70,0,11900,0,0,11900,11900,"Yes",0,0,0]
[null,348,null,"CLEAN CREW","Vendor No.04","Clean 2",1322,"2018-12-09","2018-12-15",{"$f":"IF(AND(H366>='A - Contractor Summary'!$C$36,I366<='A - Contractor Summary'!$C$42),\"Yes\",\"No\")","v":"Yes"},{"$f":"VLOOKUP($D366,'C.1 - Rate Sheets'!B:F,2,FALSE)","v":0},{"$f":"VLOOKUP($D366,'C.1 - Rate Sheets'!B:F,3,FALSE)","v":170},{"$f":"VLOOKUP($D366,'C.1 - Rate Sheets'!B:F,4,FALSE)","v":0},{"$f":"VLOOKUP($D366,'C.1 - Rate Sheets'!B:F,5,FALSE)","v":0},null,null,null,null,null,null,null,null,null,null,null,null,null,null,null,null,null,null,null,null,null,null,null,null,null,null,null,null,null,null,null,null,null,null,null,null,null,null,null,null,null,null,null,null,null,null,null,null,null,null,null,null,null,null,null,null,null,null,null,null,null,null,null,10,10,10,10,10,10,10,null,null,null,null,null,null,null,null,null,null,null,null,null,null,null,null,null,null,null,null,null,null,null,null,null,null,null,null,null,null,null,null,null,null,null,null,null,null,null,null,null,null,null,null,null,null,null,null,null,null,null,null,null,null,null,null,null,null,null,null,null,null,null,null,null,null,null,null,null,null,null,null,null,null,null,null,null,null,null,null,null,null,null,null,null,null,null,null,null,null,null,null,null,null,null,null,null,null,null,70,null,null,70,0,11900,0,0,11900,11900,"Yes",0,0,0]
[null,349,null,"CLEAN CREW","Vendor No.04","Clean 3",1322,"2018-12-10","2018-12-15",{"$f":"IF(AND(H367>='A - Contractor Summary'!$C$36,I367<='A - Contractor Summary'!$C$42),\"Yes\",\"No\")","v":"Yes"},{"$f":"VLOOKUP($D367,'C.1 - Rate Sheets'!B:F,2,FALSE)","v":0},{"$f":"VLOOKUP($D367,'C.1 - Rate Sheets'!B:F,3,FALSE)","v":170},{"$f":"VLOOKUP($D367,'C.1 - Rate Sheets'!B:F,4,FALSE)","v":0},{"$f":"VLOOKUP($D367,'C.1 - Rate Sheets'!B:F,5,FALSE)","v":0},null,null,null,null,null,null,null,null,null,null,null,null,null,null,null,null,null,null,null,null,null,null,null,null,null,null,null,null,null,null,null,null,null,null,null,null,null,null,null,null,null,null,null,null,null,null,null,null,null,null,null,null,null,null,null,null,null,null,null,null,null,null,null,null,10,10,10,10,10,10,null,null,null,null,null,null,null,null,null,null,null,null,null,null,null,null,null,null,null,null,null,null,null,null,null,null,null,null,null,null,null,null,null,null,null,null,null,null,null,null,null,null,null,null,null,null,null,null,null,null,null,null,null,null,null,null,null,null,null,null,null,null,null,null,null,null,null,null,null,null,null,null,null,null,null,null,null,null,null,null,null,null,null,null,null,null,null,null,null,null,null,null,null,null,null,null,null,null,null,60,null,null,60,0,10200,0,0,10200,10200,"Yes",0,0,0]
[null,350,null,"CLEAN CREW","Vendor No.04","Clean 4",1322,"2018-12-10","2018-12-15",{"$f":"IF(AND(H368>='A - Contractor Summary'!$C$36,I368<='A - Contractor Summary'!$C$42),\"Yes\",\"No\")","v":"Yes"},{"$f":"VLOOKUP($D368,'C.1 - Rate Sheets'!B:F,2,FALSE)","v":0},{"$f":"VLOOKUP($D368,'C.1 - Rate Sheets'!B:F,3,FALSE)","v":170},{"$f":"VLOOKUP($D368,'C.1 - Rate Sheets'!B:F,4,FALSE)","v":0},{"$f":"VLOOKUP($D368,'C.1 - Rate Sheets'!B:F,5,FALSE)","v":0},null,null,null,null,null,null,null,null,null,null,null,null,null,null,null,null,null,null,null,null,null,null,null,null,null,null,null,null,null,null,null,null,null,null,null,null,null,null,null,null,null,null,null,null,null,null,null,null,null,null,null,null,null,null,null,null,null,null,null,null,null,null,null,null,10,10,10,10,10,10,null,null,null,null,null,null,null,null,null,null,null,null,null,null,null,null,null,null,null,null,null,null,null,null,null,null,null,null,null,null,null,null,null,null,null,null,null,null,null,null,null,null,null,null,null,null,null,null,null,null,null,null,null,null,null,null,null,null,null,null,null,null,null,null,null,null,null,null,null,null,null,null,null,null,null,null,null,null,null,null,null,null,null,null,null,null,null,null,null,null,null,null,null,null,null,null,null,null,null,60,null,null,60,0,10200,0,0,10200,10200,"Yes",0,0,0]
[null,351,null,"CLEAN CREW","Vendor No.04","Clean 5",1322,"2018-12-11","2018-12-15",{"$f":"IF(AND(H369>='A - Contractor Summary'!$C$36,I369<='A - Contractor Summary'!$C$42),\"Yes\",\"No\")","v":"Yes"},{"$f":"VLOOKUP($D369,'C.1 - Rate Sheets'!B:F,2,FALSE)","v":0},{"$f":"VLOOKUP($D369,'C.1 - Rate Sheets'!B:F,3,FALSE)","v":170},{"$f":"VLOOKUP($D369,'C.1 - Rate Sheets'!B:F,4,FALSE)","v":0},{"$f":"VLOOKUP($D369,'C.1 - Rate Sheets'!B:F,5,FALSE)","v":0},null,null,null,null,null,null,null,null,null,null,null,null,null,null,null,null,null,null,null,null,null,null,null,null,null,null,null,null,null,null,null,null,null,null,null,null,null,null,null,null,null,null,null,null,null,null,null,null,null,null,null,null,null,null,null,null,null,null,null,null,null,null,null,null,null,10,10,10,10,10,null,null,null,null,null,null,null,null,null,null,null,null,null,null,null,null,null,null,null,null,null,null,null,null,null,null,null,null,null,null,null,null,null,null,null,null,null,null,null,null,null,null,null,null,null,null,null,null,null,null,null,null,null,null,null,null,null,null,null,null,null,null,null,null,null,null,null,null,null,null,null,null,null,null,null,null,null,null,null,null,null,null,null,null,null,null,null,null,null,null,null,null,null,null,null,null,null,null,null,50,null,null,50,0,8500,0,0,8500,8500,"Yes",0,0,0]
[null,352,null,"CLEAN CREW","Vendor No.04","Clean 6",1322,"2018-12-12","2018-12-15",{"$f":"IF(AND(H370>='A - Contractor Summary'!$C$36,I370<='A - Contractor Summary'!$C$42),\"Yes\",\"No\")","v":"Yes"},{"$f":"VLOOKUP($D370,'C.1 - Rate Sheets'!B:F,2,FALSE)","v":0},{"$f":"VLOOKUP($D370,'C.1 - Rate Sheets'!B:F,3,FALSE)","v":170},{"$f":"VLOOKUP($D370,'C.1 - Rate Sheets'!B:F,4,FALSE)","v":0},{"$f":"VLOOKUP($D370,'C.1 - Rate Sheets'!B:F,5,FALSE)","v":0},null,null,null,null,null,null,null,null,null,null,null,null,null,null,null,null,null,null,null,null,null,null,null,null,null,null,null,null,null,null,null,null,null,null,null,null,null,null,null,null,null,null,null,null,null,null,null,null,null,null,null,null,null,null,null,null,null,null,null,null,null,null,null,null,null,null,10,null,10,10,null,null,null,null,null,null,null,null,null,null,null,null,null,null,null,null,null,null,null,null,null,null,null,null,null,null,null,null,null,null,null,null,null,null,null,null,null,null,null,null,null,null,null,null,null,null,null,null,null,null,null,null,null,null,null,null,null,null,null,null,null,null,null,null,null,null,null,null,null,null,null,null,null,null,null,null,null,null,null,null,null,null,null,null,null,null,null,null,null,null,null,null,null,null,null,null,null,null,null,30,null,null,30,0,5100,0,0,5100,5100,"Yes",0,0,0]
[null,353,null,"MOT CREW","Vendor No.04","Mot 1",1337,"2018-12-17","2018-12-19",{"$f":"IF(AND(H371>='A - Contractor Summary'!$C$36,I371<='A - Contractor Summary'!$C$42),\"Yes\",\"No\")","v":"Yes"},{"$f":"VLOOKUP($D371,'C.1 - Rate Sheets'!B:F,2,FALSE)","v":0},{"$f":"VLOOKUP($D371,'C.1 - Rate Sheets'!B:F,3,FALSE)","v":150},{"$f":"VLOOKUP($D371,'C.1 - Rate Sheets'!B:F,4,FALSE)","v":0},{"$f":"VLOOKUP($D371,'C.1 - Rate Sheets'!B:F,5,FALSE)","v":0},null,null,null,null,null,null,null,null,null,null,null,null,null,null,null,null,null,null,null,null,null,null,null,null,null,null,null,null,null,null,null,null,null,null,null,null,null,null,null,null,null,null,null,null,null,null,null,null,null,null,null,null,null,null,null,null,null,null,null,null,null,null,null,null,null,null,null,null,null,null,null,10,10,10,null,null,null,null,null,null,null,null,null,null,null,null,null,null,null,null,null,null,null,null,null,null,null,null,null,null,null,null,null,null,null,null,null,null,null,null,null,null,null,null,null,null,null,null,null,null,null,null,null,null,null,null,null,null,null,null,null,null,null,null,null,null,null,null,null,null,null,null,null,null,null,null,null,null,null,null,null,null,null,null,null,null,null,null,null,null,null,null,null,null,null,null,null,null,null,30,null,null,30,0,4500,0,0,4500,4500,"Yes",0,0,0]
[null,354,null,"CLEAN CREW","Vendor No.04","Clean 1",1337,"2018-12-16","2018-12-22",{"$f":"IF(AND(H372>='A - Contractor Summary'!$C$36,I372<='A - Contractor Summary'!$C$42),\"Yes\",\"No\")","v":"Yes"},{"$f":"VLOOKUP($D372,'C.1 - Rate Sheets'!B:F,2,FALSE)","v":0},{"$f":"VLOOKUP($D372,'C.1 - Rate Sheets'!B:F,3,FALSE)","v":170},{"$f":"VLOOKUP($D372,'C.1 - Rate Sheets'!B:F,4,FALSE)","v":0},{"$f":"VLOOKUP($D372,'C.1 - Rate Sheets'!B:F,5,FALSE)","v":0},null,null,null,null,null,null,null,null,null,null,null,null,null,null,null,null,null,null,null,null,null,null,null,null,null,null,null,null,null,null,null,null,null,null,null,null,null,null,null,null,null,null,null,null,null,null,null,null,null,null,null,null,null,null,null,null,null,null,null,null,null,null,null,null,null,null,null,null,null,null,10,10,10,10,10,10,10,null,null,null,null,null,null,null,null,null,null,null,null,null,null,null,null,null,null,null,null,null,null,null,null,null,null,null,null,null,null,null,null,null,null,null,null,null,null,null,null,null,null,null,null,null,null,null,null,null,null,null,null,null,null,null,null,null,null,null,null,null,null,null,null,null,null,null,null,null,null,null,null,null,null,null,null,null,null,null,null,null,null,null,null,null,null,null,null,null,null,null,null,70,null,null,70,0,11900,0,0,11900,11900,"Yes",0,0,0]
[null,355,null,"CLEAN CREW","Vendor No.04","Clean 2",1337,"2018-12-16","2018-12-22",{"$f":"IF(AND(H373>='A - Contractor Summary'!$C$36,I373<='A - Contractor Summary'!$C$42),\"Yes\",\"No\")","v":"Yes"},{"$f":"VLOOKUP($D373,'C.1 - Rate Sheets'!B:F,2,FALSE)","v":0},{"$f":"VLOOKUP($D373,'C.1 - Rate Sheets'!B:F,3,FALSE)","v":170},{"$f":"VLOOKUP($D373,'C.1 - Rate Sheets'!B:F,4,FALSE)","v":0},{"$f":"VLOOKUP($D373,'C.1 - Rate Sheets'!B:F,5,FALSE)","v":0},null,null,null,null,null,null,null,null,null,null,null,null,null,null,null,null,null,null,null,null,null,null,null,null,null,null,null,null,null,null,null,null,null,null,null,null,null,null,null,null,null,null,null,null,null,null,null,null,null,null,null,null,null,null,null,null,null,null,null,null,null,null,null,null,null,null,null,null,null,null,10,10,10,10,10,10,10,null,null,null,null,null,null,null,null,null,null,null,null,null,null,null,null,null,null,null,null,null,null,null,null,null,null,null,null,null,null,null,null,null,null,null,null,null,null,null,null,null,null,null,null,null,null,null,null,null,null,null,null,null,null,null,null,null,null,null,null,null,null,null,null,null,null,null,null,null,null,null,null,null,null,null,null,null,null,null,null,null,null,null,null,null,null,null,null,null,null,null,null,70,null,null,70,0,11900,0,0,11900,11900,"Yes",0,0,0]
[null,356,null,"CLEAN CREW","Vendor No.04","Clean 3",1337,"2018-12-16","2018-12-22",{"$f":"IF(AND(H374>='A - Contractor Summary'!$C$36,I374<='A - Contractor Summary'!$C$42),\"Yes\",\"No\")","v":"Yes"},{"$f":"VLOOKUP($D374,'C.1 - Rate Sheets'!B:F,2,FALSE)","v":0},{"$f":"VLOOKUP($D374,'C.1 - Rate Sheets'!B:F,3,FALSE)","v":170},{"$f":"VLOOKUP($D374,'C.1 - Rate Sheets'!B:F,4,FALSE)","v":0},{"$f":"VLOOKUP($D374,'C.1 - Rate Sheets'!B:F,5,FALSE)","v":0},null,null,null,null,null,null,null,null,null,null,null,null,null,null,null,null,null,null,null,null,null,null,null,null,null,null,null,null,null,null,null,null,null,null,null,null,null,null,null,null,null,null,null,null,null,null,null,null,null,null,null,null,null,null,null,null,null,null,null,null,null,null,null,null,null,null,null,null,null,null,10,10,10,10,10,10,10,null,null,null,null,null,null,null,null,null,null,null,null,null,null,null,null,null,null,null,null,null,null,null,null,null,null,null,null,null,null,null,null,null,null,null,null,null,null,null,null,null,null,null,null,null,null,null,null,null,null,null,null,null,null,null,null,null,null,null,null,null,null,null,null,null,null,null,null,null,null,null,null,null,null,null,null,null,null,null,null,null,null,null,null,null,null,null,null,null,null,null,null,70,null,null,70,0,11900,0,0,11900,11900,"Yes",0,0,0]
[null,357,null,"CLEAN CREW","Vendor No.04","Clean 4",1337,"2018-12-16","2018-12-22",{"$f":"IF(AND(H375>='A - Contractor Summary'!$C$36,I375<='A - Contractor Summary'!$C$42),\"Yes\",\"No\")","v":"Yes"},{"$f":"VLOOKUP($D375,'C.1 - Rate Sheets'!B:F,2,FALSE)","v":0},{"$f":"VLOOKUP($D375,'C.1 - Rate Sheets'!B:F,3,FALSE)","v":170},{"$f":"VLOOKUP($D375,'C.1 - Rate Sheets'!B:F,4,FALSE)","v":0},{"$f":"VLOOKUP($D375,'C.1 - Rate Sheets'!B:F,5,FALSE)","v":0},null,null,null,null,null,null,null,null,null,null,null,null,null,null,null,null,null,null,null,null,null,null,null,null,null,null,null,null,null,null,null,null,null,null,null,null,null,null,null,null,null,null,null,null,null,null,null,null,null,null,null,null,null,null,null,null,null,null,null,null,null,null,null,null,null,null,null,null,null,null,10,10,10,10,10,10,10,null,null,null,null,null,null,null,null,null,null,null,null,null,null,null,null,null,null,null,null,null,null,null,null,null,null,null,null,null,null,null,null,null,null,null,null,null,null,null,null,null,null,null,null,null,null,null,null,null,null,null,null,null,null,null,null,null,null,null,null,null,null,null,null,null,null,null,null,null,null,null,null,null,null,null,null,null,null,null,null,null,null,null,null,null,null,null,null,null,null,null,null,70,null,null,70,0,11900,0,0,11900,11900,"Yes",0,0,0]
[null,358,null,"CLEAN CREW","Vendor No.04","Clean 5",1337,"2018-12-16","2018-12-22",{"$f":"IF(AND(H376>='A - Contractor Summary'!$C$36,I376<='A - Contractor Summary'!$C$42),\"Yes\",\"No\")","v":"Yes"},{"$f":"VLOOKUP($D376,'C.1 - Rate Sheets'!B:F,2,FALSE)","v":0},{"$f":"VLOOKUP($D376,'C.1 - Rate Sheets'!B:F,3,FALSE)","v":170},{"$f":"VLOOKUP($D376,'C.1 - Rate Sheets'!B:F,4,FALSE)","v":0},{"$f":"VLOOKUP($D376,'C.1 - Rate Sheets'!B:F,5,FALSE)","v":0},null,null,null,null,null,null,null,null,null,null,null,null,null,null,null,null,null,null,null,null,null,null,null,null,null,null,null,null,null,null,null,null,null,null,null,null,null,null,null,null,null,null,null,null,null,null,null,null,null,null,null,null,null,null,null,null,null,null,null,null,null,null,null,null,null,null,null,null,null,null,10,10,10,10,10,10,10,null,null,null,null,null,null,null,null,null,null,null,null,null,null,null,null,null,null,null,null,null,null,null,null,null,null,null,null,null,null,null,null,null,null,null,null,null,null,null,null,null,null,null,null,null,null,null,null,null,null,null,null,null,null,null,null,null,null,null,null,null,null,null,null,null,null,null,null,null,null,null,null,null,null,null,null,null,null,null,null,null,null,null,null,null,null,null,null,null,null,null,null,70,null,null,70,0,11900,0,0,11900,11900,"Yes",0,0,0]
[null,359,null,"CLEAN CREW","Vendor No.04","Clean 6",1337,"2018-12-17","2018-12-22",{"$f":"IF(AND(H377>='A - Contractor Summary'!$C$36,I377<='A - Contractor Summary'!$C$42),\"Yes\",\"No\")","v":"Yes"},{"$f":"VLOOKUP($D377,'C.1 - Rate Sheets'!B:F,2,FALSE)","v":0},{"$f":"VLOOKUP($D377,'C.1 - Rate Sheets'!B:F,3,FALSE)","v":170},{"$f":"VLOOKUP($D377,'C.1 - Rate Sheets'!B:F,4,FALSE)","v":0},{"$f":"VLOOKUP($D377,'C.1 - Rate Sheets'!B:F,5,FALSE)","v":0},null,null,null,null,null,null,null,null,null,null,null,null,null,null,null,null,null,null,null,null,null,null,null,null,null,null,null,null,null,null,null,null,null,null,null,null,null,null,null,null,null,null,null,null,null,null,null,null,null,null,null,null,null,null,null,null,null,null,null,null,null,null,null,null,null,null,null,null,null,null,null,10,10,10,10,10,10,null,null,null,null,null,null,null,null,null,null,null,null,null,null,null,null,null,null,null,null,null,null,null,null,null,null,null,null,null,null,null,null,null,null,null,null,null,null,null,null,null,null,null,null,null,null,null,null,null,null,null,null,null,null,null,null,null,null,null,null,null,null,null,null,null,null,null,null,null,null,null,null,null,null,null,null,null,null,null,null,null,null,null,null,null,null,null,null,null,null,null,null,60,null,null,60,0,10200,0,0,10200,10200,"Yes",0,0,0]
[null,360,null,"CLEAN CREW","Vendor No.04","Clean 7",1337,"2018-12-17","2018-12-17",{"$f":"IF(AND(H378>='A - Contractor Summary'!$C$36,I378<='A - Contractor Summary'!$C$42),\"Yes\",\"No\")","v":"Yes"},{"$f":"VLOOKUP($D378,'C.1 - Rate Sheets'!B:F,2,FALSE)","v":0},{"$f":"VLOOKUP($D378,'C.1 - Rate Sheets'!B:F,3,FALSE)","v":170},{"$f":"VLOOKUP($D378,'C.1 - Rate Sheets'!B:F,4,FALSE)","v":0},{"$f":"VLOOKUP($D378,'C.1 - Rate Sheets'!B:F,5,FALSE)","v":0},null,null,null,null,null,null,null,null,null,null,null,null,null,null,null,null,null,null,null,null,null,null,null,null,null,null,null,null,null,null,null,null,null,null,null,null,null,null,null,null,null,null,null,null,null,null,null,null,null,null,null,null,null,null,null,null,null,null,null,null,null,null,null,null,null,null,null,null,null,null,null,10,null,null,null,null,null,null,null,null,null,null,null,null,null,null,null,null,null,null,null,null,null,null,null,null,null,null,null,null,null,null,null,null,null,null,null,null,null,null,null,null,null,null,null,null,null,null,null,null,null,null,null,null,null,null,null,null,null,null,null,null,null,null,null,null,null,null,null,null,null,null,null,null,null,null,null,null,null,null,null,null,null,null,null,null,null,null,null,null,null,null,null,null,null,null,null,null,null,10,null,null,10,0,1700,0,0,1700,1700,"Yes",0,0,0]
[null,361,null,"CLEAN CREW","Vendor No.04","Clean 1",1352,"2018-12-23","2018-12-29",{"$f":"IF(AND(H379>='A - Contractor Summary'!$C$36,I379<='A - Contractor Summary'!$C$42),\"Yes\",\"No\")","v":"Yes"},{"$f":"VLOOKUP($D379,'C.1 - Rate Sheets'!B:F,2,FALSE)","v":0},{"$f":"VLOOKUP($D379,'C.1 - Rate Sheets'!B:F,3,FALSE)","v":170},{"$f":"VLOOKUP($D379,'C.1 - Rate Sheets'!B:F,4,FALSE)","v":0},{"$f":"VLOOKUP($D379,'C.1 - Rate Sheets'!B:F,5,FALSE)","v":0},null,null,null,null,null,null,null,null,null,null,null,null,null,null,null,null,null,null,null,null,null,null,null,null,null,null,null,null,null,null,null,null,null,null,null,null,null,null,null,null,null,null,null,null,null,null,null,null,null,null,null,null,null,null,null,null,null,null,null,null,null,null,null,null,null,null,null,null,null,null,null,null,null,null,null,null,null,10,null,null,10,10,10,10,null,null,null,null,null,null,null,null,null,null,null,null,null,null,null,null,null,null,null,null,null,null,null,null,null,null,null,null,null,null,null,null,null,null,null,null,null,null,null,null,null,null,null,null,null,null,null,null,null,null,null,null,null,null,null,null,null,null,null,null,null,null,null,null,null,null,null,null,null,null,null,null,null,null,null,null,null,null,null,null,null,null,null,null,null,50,null,null,50,0,8500,0,0,8500,8500,"Yes",0,0,0]
[null,362,null,"CLEAN CREW","Vendor No.04","Clean 2",1352,"2018-12-23","2018-12-29",{"$f":"IF(AND(H380>='A - Contractor Summary'!$C$36,I380<='A - Contractor Summary'!$C$42),\"Yes\",\"No\")","v":"Yes"},{"$f":"VLOOKUP($D380,'C.1 - Rate Sheets'!B:F,2,FALSE)","v":0},{"$f":"VLOOKUP($D380,'C.1 - Rate Sheets'!B:F,3,FALSE)","v":170},{"$f":"VLOOKUP($D380,'C.1 - Rate Sheets'!B:F,4,FALSE)","v":0},{"$f":"VLOOKUP($D380,'C.1 - Rate Sheets'!B:F,5,FALSE)","v":0},null,null,null,null,null,null,null,null,null,null,null,null,null,null,null,null,null,null,null,null,null,null,null,null,null,null,null,null,null,null,null,null,null,null,null,null,null,null,null,null,null,null,null,null,null,null,null,null,null,null,null,null,null,null,null,null,null,null,null,null,null,null,null,null,null,null,null,null,null,null,null,null,null,null,null,null,null,10,null,null,10,10,10,10,null,null,null,null,null,null,null,null,null,null,null,null,null,null,null,null,null,null,null,null,null,null,null,null,null,null,null,null,null,null,null,null,null,null,null,null,null,null,null,null,null,null,null,null,null,null,null,null,null,null,null,null,null,null,null,null,null,null,null,null,null,null,null,null,null,null,null,null,null,null,null,null,null,null,null,null,null,null,null,null,null,null,null,null,null,50,null,null,50,0,8500,0,0,8500,8500,"Yes",0,0,0]
[null,363,null,"CLEAN CREW","Vendor No.04","Clean 3",1352,"2018-12-23","2018-12-29",{"$f":"IF(AND(H381>='A - Contractor Summary'!$C$36,I381<='A - Contractor Summary'!$C$42),\"Yes\",\"No\")","v":"Yes"},{"$f":"VLOOKUP($D381,'C.1 - Rate Sheets'!B:F,2,FALSE)","v":0},{"$f":"VLOOKUP($D381,'C.1 - Rate Sheets'!B:F,3,FALSE)","v":170},{"$f":"VLOOKUP($D381,'C.1 - Rate Sheets'!B:F,4,FALSE)","v":0},{"$f":"VLOOKUP($D381,'C.1 - Rate Sheets'!B:F,5,FALSE)","v":0},null,null,null,null,null,null,null,null,null,null,null,null,null,null,null,null,null,null,null,null,null,null,null,null,null,null,null,null,null,null,null,null,null,null,null,null,null,null,null,null,null,null,null,null,null,null,null,null,null,null,null,null,null,null,null,null,null,null,null,null,null,null,null,null,null,null,null,null,null,null,null,null,null,null,null,null,null,10,null,null,10,10,10,10,null,null,null,null,null,null,null,null,null,null,null,null,null,null,null,null,null,null,null,null,null,null,null,null,null,null,null,null,null,null,null,null,null,null,null,null,null,null,null,null,null,null,null,null,null,null,null,null,null,null,null,null,null,null,null,null,null,null,null,null,null,null,null,null,null,null,null,null,null,null,null,null,null,null,null,null,null,null,null,null,null,null,null,null,null,50,null,null,50,0,8500,0,0,8500,8500,"Yes",0,0,0]
[null,364,null,"CLEAN CREW","Vendor No.04","Clean 4",1352,"2018-12-23","2018-12-28",{"$f":"IF(AND(H382>='A - Contractor Summary'!$C$36,I382<='A - Contractor Summary'!$C$42),\"Yes\",\"No\")","v":"Yes"},{"$f":"VLOOKUP($D382,'C.1 - Rate Sheets'!B:F,2,FALSE)","v":0},{"$f":"VLOOKUP($D382,'C.1 - Rate Sheets'!B:F,3,FALSE)","v":170},{"$f":"VLOOKUP($D382,'C.1 - Rate Sheets'!B:F,4,FALSE)","v":0},{"$f":"VLOOKUP($D382,'C.1 - Rate Sheets'!B:F,5,FALSE)","v":0},null,null,null,null,null,null,null,null,null,null,null,null,null,null,null,null,null,null,null,null,null,null,null,null,null,null,null,null,null,null,null,null,null,null,null,null,null,null,null,null,null,null,null,null,null,null,null,null,null,null,null,null,null,null,null,null,null,null,null,null,null,null,null,null,null,null,null,null,null,null,null,null,null,null,null,null,null,10,null,null,10,10,10,null,null,null,null,null,null,null,null,null,null,null,null,null,null,null,null,null,null,null,null,null,null,null,null,null,null,null,null,null,null,null,null,null,null,null,null,null,null,null,null,null,null,null,null,null,null,null,null,null,null,null,null,null,null,null,null,null,null,null,null,null,null,null,null,null,null,null,null,null,null,null,null,null,null,null,null,null,null,null,null,null,null,null,null,null,null,40,null,null,40,0,6800,0,0,6800,6800,"Yes",0,0,0]
[null,365,null,"CLEAN CREW","Vendor No.04","Clean 5",1352,"2018-12-23","2018-12-28",{"$f":"IF(AND(H383>='A - Contractor Summary'!$C$36,I383<='A - Contractor Summary'!$C$42),\"Yes\",\"No\")","v":"Yes"},{"$f":"VLOOKUP($D383,'C.1 - Rate Sheets'!B:F,2,FALSE)","v":0},{"$f":"VLOOKUP($D383,'C.1 - Rate Sheets'!B:F,3,FALSE)","v":170},{"$f":"VLOOKUP($D383,'C.1 - Rate Sheets'!B:F,4,FALSE)","v":0},{"$f":"VLOOKUP($D383,'C.1 - Rate Sheets'!B:F,5,FALSE)","v":0},null,null,null,null,null,null,null,null,null,null,null,null,null,null,null,null,null,null,null,null,null,null,null,null,null,null,null,null,null,null,null,null,null,null,null,null,null,null,null,null,null,null,null,null,null,null,null,null,null,null,null,null,null,null,null,null,null,null,null,null,null,null,null,null,null,null,null,null,null,null,null,null,null,null,null,null,null,10,null,null,10,10,10,null,null,null,null,null,null,null,null,null,null,null,null,null,null,null,null,null,null,null,null,null,null,null,null,null,null,null,null,null,null,null,null,null,null,null,null,null,null,null,null,null,null,null,null,null,null,null,null,null,null,null,null,null,null,null,null,null,null,null,null,null,null,null,null,null,null,null,null,null,null,null,null,null,null,null,null,null,null,null,null,null,null,null,null,null,null,40,null,null,40,0,6800,0,0,6800,6800,"Yes",0,0,0]
[null,366,null,"CLEAN CREW","Vendor No.04","Clean 6",1352,"2018-12-26","2018-12-26",{"$f":"IF(AND(H384>='A - Contractor Summary'!$C$36,I384<='A - Contractor Summary'!$C$42),\"Yes\",\"No\")","v":"Yes"},{"$f":"VLOOKUP($D384,'C.1 - Rate Sheets'!B:F,2,FALSE)","v":0},{"$f":"VLOOKUP($D384,'C.1 - Rate Sheets'!B:F,3,FALSE)","v":170},{"$f":"VLOOKUP($D384,'C.1 - Rate Sheets'!B:F,4,FALSE)","v":0},{"$f":"VLOOKUP($D384,'C.1 - Rate Sheets'!B:F,5,FALSE)","v":0},null,null,null,null,null,null,null,null,null,null,null,null,null,null,null,null,null,null,null,null,null,null,null,null,null,null,null,null,null,null,null,null,null,null,null,null,null,null,null,null,null,null,null,null,null,null,null,null,null,null,null,null,null,null,null,null,null,null,null,null,null,null,null,null,null,null,null,null,null,null,null,null,null,null,null,null,null,null,null,null,10,null,null,null,null,null,null,null,null,null,null,null,null,null,null,null,null,null,null,null,null,null,null,null,null,null,null,null,null,null,null,null,null,null,null,null,null,null,null,null,null,null,null,null,null,null,null,null,null,null,null,null,null,null,null,null,null,null,null,null,null,null,null,null,null,null,null,null,null,null,null,null,null,null,null,null,null,null,null,null,null,null,null,null,null,null,null,null,null,10,null,null,10,0,1700,0,0,1700,1700,"Yes",0,0,0]
[null,367,null,"CLEAN CREW","Vendor No.04","Clean 7",1352,"2018-12-26","2018-12-26",{"$f":"IF(AND(H385>='A - Contractor Summary'!$C$36,I385<='A - Contractor Summary'!$C$42),\"Yes\",\"No\")","v":"Yes"},{"$f":"VLOOKUP($D385,'C.1 - Rate Sheets'!B:F,2,FALSE)","v":0},{"$f":"VLOOKUP($D385,'C.1 - Rate Sheets'!B:F,3,FALSE)","v":170},{"$f":"VLOOKUP($D385,'C.1 - Rate Sheets'!B:F,4,FALSE)","v":0},{"$f":"VLOOKUP($D385,'C.1 - Rate Sheets'!B:F,5,FALSE)","v":0},null,null,null,null,null,null,null,null,null,null,null,null,null,null,null,null,null,null,null,null,null,null,null,null,null,null,null,null,null,null,null,null,null,null,null,null,null,null,null,null,null,null,null,null,null,null,null,null,null,null,null,null,null,null,null,null,null,null,null,null,null,null,null,null,null,null,null,null,null,null,null,null,null,null,null,null,null,null,null,null,10,null,null,null,null,null,null,null,null,null,null,null,null,null,null,null,null,null,null,null,null,null,null,null,null,null,null,null,null,null,null,null,null,null,null,null,null,null,null,null,null,null,null,null,null,null,null,null,null,null,null,null,null,null,null,null,null,null,null,null,null,null,null,null,null,null,null,null,null,null,null,null,null,null,null,null,null,null,null,null,null,null,null,null,null,null,null,null,null,10,null,null,10,0,1700,0,0,1700,1700,"Yes",0,0,0]
[null,368,null,"CLEAN CREW","Vendor No.04","Clean 1",1355,"2018-12-30","2019-01-05",{"$f":"IF(AND(H386>='A - Contractor Summary'!$C$36,I386<='A - Contractor Summary'!$C$42),\"Yes\",\"No\")","v":"Yes"},{"$f":"VLOOKUP($D386,'C.1 - Rate Sheets'!B:F,2,FALSE)","v":0},{"$f":"VLOOKUP($D386,'C.1 - Rate Sheets'!B:F,3,FALSE)","v":170},{"$f":"VLOOKUP($D386,'C.1 - Rate Sheets'!B:F,4,FALSE)","v":0},{"$f":"VLOOKUP($D386,'C.1 - Rate Sheets'!B:F,5,FALSE)","v":0},null,null,null,null,null,null,null,null,null,null,null,null,null,null,null,null,null,null,null,null,null,null,null,null,null,null,null,null,null,null,null,null,null,null,null,null,null,null,null,null,null,null,null,null,null,null,null,null,null,null,null,null,null,null,null,null,null,null,null,null,null,null,null,null,null,null,null,null,null,null,null,null,null,null,null,null,null,null,null,null,null,null,null,null,10,10,10,10,10,10,10,null,null,null,null,null,null,null,null,null,null,null,null,null,null,null,null,null,null,null,null,null,null,null,null,null,null,null,null,null,null,null,null,null,null,null,null,null,null,null,null,null,null,null,null,null,null,null,null,null,null,null,null,null,null,null,null,null,null,null,null,null,null,null,null,null,null,null,null,null,null,null,null,null,null,null,null,null,null,70,null,null,70,0,11900,0,0,11900,11900,"Yes",0,0,0]
[null,369,null,"CLEAN CREW","Vendor No.04","Clean 2",1355,"2018-12-30","2019-01-05",{"$f":"IF(AND(H387>='A - Contractor Summary'!$C$36,I387<='A - Contractor Summary'!$C$42),\"Yes\",\"No\")","v":"Yes"},{"$f":"VLOOKUP($D387,'C.1 - Rate Sheets'!B:F,2,FALSE)","v":0},{"$f":"VLOOKUP($D387,'C.1 - Rate Sheets'!B:F,3,FALSE)","v":170},{"$f":"VLOOKUP($D387,'C.1 - Rate Sheets'!B:F,4,FALSE)","v":0},{"$f":"VLOOKUP($D387,'C.1 - Rate Sheets'!B:F,5,FALSE)","v":0},null,null,null,null,null,null,null,null,null,null,null,null,null,null,null,null,null,null,null,null,null,null,null,null,null,null,null,null,null,null,null,null,null,null,null,null,null,null,null,null,null,null,null,null,null,null,null,null,null,null,null,null,null,null,null,null,null,null,null,null,null,null,null,null,null,null,null,null,null,null,null,null,null,null,null,null,null,null,null,null,null,null,null,null,10,10,10,10,10,10,10,null,null,null,null,null,null,null,null,null,null,null,null,null,null,null,null,null,null,null,null,null,null,null,null,null,null,null,null,null,null,null,null,null,null,null,null,null,null,null,null,null,null,null,null,null,null,null,null,null,null,null,null,null,null,null,null,null,null,null,null,null,null,null,null,null,null,null,null,null,null,null,null,null,null,null,null,null,null,70,null,null,70,0,11900,0,0,11900,11900,"Yes",0,0,0]
[null,370,null,"CLEAN CREW","Vendor No.04","Clean 3",1355,"2018-12-30","2019-01-05",{"$f":"IF(AND(H388>='A - Contractor Summary'!$C$36,I388<='A - Contractor Summary'!$C$42),\"Yes\",\"No\")","v":"Yes"},{"$f":"VLOOKUP($D388,'C.1 - Rate Sheets'!B:F,2,FALSE)","v":0},{"$f":"VLOOKUP($D388,'C.1 - Rate Sheets'!B:F,3,FALSE)","v":170},{"$f":"VLOOKUP($D388,'C.1 - Rate Sheets'!B:F,4,FALSE)","v":0},{"$f":"VLOOKUP($D388,'C.1 - Rate Sheets'!B:F,5,FALSE)","v":0},null,null,null,null,null,null,null,null,null,null,null,null,null,null,null,null,null,null,null,null,null,null,null,null,null,null,null,null,null,null,null,null,null,null,null,null,null,null,null,null,null,null,null,null,null,null,null,null,null,null,null,null,null,null,null,null,null,null,null,null,null,null,null,null,null,null,null,null,null,null,null,null,null,null,null,null,null,null,null,null,null,null,null,null,10,10,10,10,10,10,10,null,null,null,null,null,null,null,null,null,null,null,null,null,null,null,null,null,null,null,null,null,null,null,null,null,null,null,null,null,null,null,null,null,null,null,null,null,null,null,null,null,null,null,null,null,null,null,null,null,null,null,null,null,null,null,null,null,null,null,null,null,null,null,null,null,null,null,null,null,null,null,null,null,null,null,null,null,null,70,null,null,70,0,11900,0,0,11900,11900,"Yes",0,0,0]
[null,371,null,"CLEAN CREW","Vendor No.04","Clean 4",1355,"2018-12-30","2019-01-05",{"$f":"IF(AND(H389>='A - Contractor Summary'!$C$36,I389<='A - Contractor Summary'!$C$42),\"Yes\",\"No\")","v":"Yes"},{"$f":"VLOOKUP($D389,'C.1 - Rate Sheets'!B:F,2,FALSE)","v":0},{"$f":"VLOOKUP($D389,'C.1 - Rate Sheets'!B:F,3,FALSE)","v":170},{"$f":"VLOOKUP($D389,'C.1 - Rate Sheets'!B:F,4,FALSE)","v":0},{"$f":"VLOOKUP($D389,'C.1 - Rate Sheets'!B:F,5,FALSE)","v":0},null,null,null,null,null,null,null,null,null,null,null,null,null,null,null,null,null,null,null,null,null,null,null,null,null,null,null,null,null,null,null,null,null,null,null,null,null,null,null,null,null,null,null,null,null,null,null,null,null,null,null,null,null,null,null,null,null,null,null,null,null,null,null,null,null,null,null,null,null,null,null,null,null,null,null,null,null,null,null,null,null,null,null,null,10,10,10,10,10,10,10,null,null,null,null,null,null,null,null,null,null,null,null,null,null,null,null,null,null,null,null,null,null,null,null,null,null,null,null,null,null,null,null,null,null,null,null,null,null,null,null,null,null,null,null,null,null,null,null,null,null,null,null,null,null,null,null,null,null,null,null,null,null,null,null,null,null,null,null,null,null,null,null,null,null,null,null,null,null,70,null,null,70,0,11900,0,0,11900,11900,"Yes",0,0,0]
[null,372,null,"CLEAN CREW","Vendor No.04","Clean 5",1355,"2018-12-30","2019-01-04",{"$f":"IF(AND(H390>='A - Contractor Summary'!$C$36,I390<='A - Contractor Summary'!$C$42),\"Yes\",\"No\")","v":"Yes"},{"$f":"VLOOKUP($D390,'C.1 - Rate Sheets'!B:F,2,FALSE)","v":0},{"$f":"VLOOKUP($D390,'C.1 - Rate Sheets'!B:F,3,FALSE)","v":170},{"$f":"VLOOKUP($D390,'C.1 - Rate Sheets'!B:F,4,FALSE)","v":0},{"$f":"VLOOKUP($D390,'C.1 - Rate Sheets'!B:F,5,FALSE)","v":0},null,null,null,null,null,null,null,null,null,null,null,null,null,null,null,null,null,null,null,null,null,null,null,null,null,null,null,null,null,null,null,null,null,null,null,null,null,null,null,null,null,null,null,null,null,null,null,null,null,null,null,null,null,null,null,null,null,null,null,null,null,null,null,null,null,null,null,null,null,null,null,null,null,null,null,null,null,null,null,null,null,null,null,null,10,null,10,10,10,10,null,null,null,null,null,null,null,null,null,null,null,null,null,null,null,null,null,null,null,null,null,null,null,null,null,null,null,null,null,null,null,null,null,null,null,null,null,null,null,null,null,null,null,null,null,null,null,null,null,null,null,null,null,null,null,null,null,null,null,null,null,null,null,null,null,null,null,null,null,null,null,null,null,null,null,null,null,null,null,50,null,null,50,0,8500,0,0,8500,8500,"Yes",0,0,0]
[null,373,null,"CLEAN CREW","Vendor No.04","Clean 6",1355,"2018-12-30","2019-01-04",{"$f":"IF(AND(H391>='A - Contractor Summary'!$C$36,I391<='A - Contractor Summary'!$C$42),\"Yes\",\"No\")","v":"Yes"},{"$f":"VLOOKUP($D391,'C.1 - Rate Sheets'!B:F,2,FALSE)","v":0},{"$f":"VLOOKUP($D391,'C.1 - Rate Sheets'!B:F,3,FALSE)","v":170},{"$f":"VLOOKUP($D391,'C.1 - Rate Sheets'!B:F,4,FALSE)","v":0},{"$f":"VLOOKUP($D391,'C.1 - Rate Sheets'!B:F,5,FALSE)","v":0},null,null,null,null,null,null,null,null,null,null,null,null,null,null,null,null,null,null,null,null,null,null,null,null,null,null,null,null,null,null,null,null,null,null,null,null,null,null,null,null,null,null,null,null,null,null,null,null,null,null,null,null,null,null,null,null,null,null,null,null,null,null,null,null,null,null,null,null,null,null,null,null,null,null,null,null,null,null,null,null,null,null,null,null,10,null,10,10,10,10,null,null,null,null,null,null,null,null,null,null,null,null,null,null,null,null,null,null,null,null,null,null,null,null,null,null,null,null,null,null,null,null,null,null,null,null,null,null,null,null,null,null,null,null,null,null,null,null,null,null,null,null,null,null,null,null,null,null,null,null,null,null,null,null,null,null,null,null,null,null,null,null,null,null,null,null,null,null,null,50,null,null,50,0,8500,0,0,8500,8500,"Yes",0,0,0]
[null,374,null,"CLEAN CREW","Vendor No.04","Clean 7",1355,"2019-01-02","2019-01-02",{"$f":"IF(AND(H392>='A - Contractor Summary'!$C$36,I392<='A - Contractor Summary'!$C$42),\"Yes\",\"No\")","v":"Yes"},{"$f":"VLOOKUP($D392,'C.1 - Rate Sheets'!B:F,2,FALSE)","v":0},{"$f":"VLOOKUP($D392,'C.1 - Rate Sheets'!B:F,3,FALSE)","v":170},{"$f":"VLOOKUP($D392,'C.1 - Rate Sheets'!B:F,4,FALSE)","v":0},{"$f":"VLOOKUP($D392,'C.1 - Rate Sheets'!B:F,5,FALSE)","v":0},null,null,null,null,null,null,null,null,null,null,null,null,null,null,null,null,null,null,null,null,null,null,null,null,null,null,null,null,null,null,null,null,null,null,null,null,null,null,null,null,null,null,null,null,null,null,null,null,null,null,null,null,null,null,null,null,null,null,null,null,null,null,null,null,null,null,null,null,null,null,null,null,null,null,null,null,null,null,null,null,null,null,null,null,null,null,null,10,null,null,null,null,null,null,null,null,null,null,null,null,null,null,null,null,null,null,null,null,null,null,null,null,null,null,null,null,null,null,null,null,null,null,null,null,null,null,null,null,null,null,null,null,null,null,null,null,null,null,null,null,null,null,null,null,null,null,null,null,null,null,null,null,null,null,null,null,null,null,null,null,null,null,null,null,null,null,null,null,null,10,null,null,10,0,1700,0,0,1700,1700,"Yes",0,0,0]
[null,375,null,"CLEAN CREW","Vendor No.04","Clean 8",1355,"2019-01-02","2019-01-02",{"$f":"IF(AND(H393>='A - Contractor Summary'!$C$36,I393<='A - Contractor Summary'!$C$42),\"Yes\",\"No\")","v":"Yes"},{"$f":"VLOOKUP($D393,'C.1 - Rate Sheets'!B:F,2,FALSE)","v":0},{"$f":"VLOOKUP($D393,'C.1 - Rate Sheets'!B:F,3,FALSE)","v":170},{"$f":"VLOOKUP($D393,'C.1 - Rate Sheets'!B:F,4,FALSE)","v":0},{"$f":"VLOOKUP($D393,'C.1 - Rate Sheets'!B:F,5,FALSE)","v":0},null,null,null,null,null,null,null,null,null,null,null,null,null,null,null,null,null,null,null,null,null,null,null,null,null,null,null,null,null,null,null,null,null,null,null,null,null,null,null,null,null,null,null,null,null,null,null,null,null,null,null,null,null,null,null,null,null,null,null,null,null,null,null,null,null,null,null,null,null,null,null,null,null,null,null,null,null,null,null,null,null,null,null,null,null,null,null,10,null,null,null,null,null,null,null,null,null,null,null,null,null,null,null,null,null,null,null,null,null,null,null,null,null,null,null,null,null,null,null,null,null,null,null,null,null,null,null,null,null,null,null,null,null,null,null,null,null,null,null,null,null,null,null,null,null,null,null,null,null,null,null,null,null,null,null,null,null,null,null,null,null,null,null,null,null,null,null,null,null,10,null,null,10,0,1700,0,0,1700,1700,"Yes",0,0,0]
[null,376,null,"CLEAN CREW","Vendor No.04","Clean 1",1365,{"$f":"INDEX($O$16:$FZ$16,MATCH(TRUE,INDEX((O394:FZ394>0),0),0))","v":"2019-01-06"},{"$f":"LOOKUP(2,1/(1-(O394:FZ394<=0)),$O$16:$FZ$16)","v":"2019-01-12"},{"$f":"IF(AND(H394>='A - Contractor Summary'!$C$36,I394<='A - Contractor Summary'!$C$42),\"Yes\",\"No\")","v":"Yes"},{"$f":"VLOOKUP($D394,'C.1 - Rate Sheets'!B:F,2,FALSE)","v":0},{"$f":"VLOOKUP($D394,'C.1 - Rate Sheets'!B:F,3,FALSE)","v":170},{"$f":"VLOOKUP($D394,'C.1 - Rate Sheets'!B:F,4,FALSE)","v":0},{"$f":"VLOOKUP($D394,'C.1 - Rate Sheets'!B:F,5,FALSE)","v":0},null,null,null,null,null,null,null,null,null,null,null,null,null,null,null,null,null,null,null,null,null,null,null,null,null,null,null,null,null,null,null,null,null,null,null,null,null,null,null,null,null,null,null,null,null,null,null,null,null,null,null,null,null,null,null,null,null,null,null,null,null,null,null,null,null,null,null,null,null,null,null,null,null,null,null,null,null,null,null,null,null,null,null,null,null,null,null,null,null,null,null,10,10,10,10,10,10,10,null,null,null,null,null,null,null,null,null,null,null,null,null,null,null,null,null,null,null,null,null,null,null,null,null,null,null,null,null,null,null,null,null,null,null,null,null,null,null,null,null,null,null,null,null,null,null,null,null,null,null,null,null,null,null,null,null,null,null,null,null,null,null,null,null,null,null,null,null,null,null,70,null,null,70,0,11900,0,0,11900,11900,"Yes",0,0,0]
[null,377,null,"CLEAN CREW","Vendor No.04","Clean 2",1365,"2019-01-06","2019-01-12",{"$f":"IF(AND(H395>='A - Contractor Summary'!$C$36,I395<='A - Contractor Summary'!$C$42),\"Yes\",\"No\")","v":"Yes"},{"$f":"VLOOKUP($D395,'C.1 - Rate Sheets'!B:F,2,FALSE)","v":0},{"$f":"VLOOKUP($D395,'C.1 - Rate Sheets'!B:F,3,FALSE)","v":170},{"$f":"VLOOKUP($D395,'C.1 - Rate Sheets'!B:F,4,FALSE)","v":0},{"$f":"VLOOKUP($D395,'C.1 - Rate Sheets'!B:F,5,FALSE)","v":0},null,null,null,null,null,null,null,null,null,null,null,null,null,null,null,null,null,null,null,null,null,null,null,null,null,null,null,null,null,null,null,null,null,null,null,null,null,null,null,null,null,null,null,null,null,null,null,null,null,null,null,null,null,null,null,null,null,null,null,null,null,null,null,null,null,null,null,null,null,null,null,null,null,null,null,null,null,null,null,null,null,null,null,null,null,null,null,null,null,null,null,10,10,10,10,10,10,10,null,null,null,null,null,null,null,null,null,null,null,null,null,null,null,null,null,null,null,null,null,null,null,null,null,null,null,null,null,null,null,null,null,null,null,null,null,null,null,null,null,null,null,null,null,null,null,null,null,null,null,null,null,null,null,null,null,null,null,null,null,null,null,null,null,null,null,null,null,null,null,70,null,null,70,0,11900,0,0,11900,11900,"Yes",0,0,0]
[null,378,null,"CLEAN CREW","Vendor No.04","Clean 3",1365,"2019-01-06","2019-01-12",{"$f":"IF(AND(H396>='A - Contractor Summary'!$C$36,I396<='A - Contractor Summary'!$C$42),\"Yes\",\"No\")","v":"Yes"},{"$f":"VLOOKUP($D396,'C.1 - Rate Sheets'!B:F,2,FALSE)","v":0},{"$f":"VLOOKUP($D396,'C.1 - Rate Sheets'!B:F,3,FALSE)","v":170},{"$f":"VLOOKUP($D396,'C.1 - Rate Sheets'!B:F,4,FALSE)","v":0},{"$f":"VLOOKUP($D396,'C.1 - Rate Sheets'!B:F,5,FALSE)","v":0},null,null,null,null,null,null,null,null,null,null,null,null,null,null,null,null,null,null,null,null,null,null,null,null,null,null,null,null,null,null,null,null,null,null,null,null,null,null,null,null,null,null,null,null,null,null,null,null,null,null,null,null,null,null,null,null,null,null,null,null,null,null,null,null,null,null,null,null,null,null,null,null,null,null,null,null,null,null,null,null,null,null,null,null,null,null,null,null,null,null,null,10,10,10,10,10,10,10,null,null,null,null,null,null,null,null,null,null,null,null,null,null,null,null,null,null,null,null,null,null,null,null,null,null,null,null,null,null,null,null,null,null,null,null,null,null,null,null,null,null,null,null,null,null,null,null,null,null,null,null,null,null,null,null,null,null,null,null,null,null,null,null,null,null,null,null,null,null,null,{"$f":"SUM(O396:FZ396)","v":70},null,null,70,{"$f":"GA396*K396","v":0},{"$f":"GB396*L396","v":11900},{"$f":"GC396*M396","v":0},{"$f":"GD396*N396","v":0},{"$f":"SUM(GF396:GI396)","v":11900},11900,"Yes",0,0,0]
[null,379,null,"CLEAN CREW","Vendor No.04","Clean 4",1365,"2019-01-06","2019-01-12",{"$f":"IF(AND(H397>='A - Contractor Summary'!$C$36,I397<='A - Contractor Summary'!$C$42),\"Yes\",\"No\")","v":"Yes"},{"$f":"VLOOKUP($D397,'C.1 - Rate Sheets'!B:F,2,FALSE)","v":0},{"$f":"VLOOKUP($D397,'C.1 - Rate Sheets'!B:F,3,FALSE)","v":170},{"$f":"VLOOKUP($D397,'C.1 - Rate Sheets'!B:F,4,FALSE)","v":0},{"$f":"VLOOKUP($D397,'C.1 - Rate Sheets'!B:F,5,FALSE)","v":0},null,null,null,null,null,null,null,null,null,null,null,null,null,null,null,null,null,null,null,null,null,null,null,null,null,null,null,null,null,null,null,null,null,null,null,null,null,null,null,null,null,null,null,null,null,null,null,null,null,null,null,null,null,null,null,null,null,null,null,null,null,null,null,null,null,null,null,null,null,null,null,null,null,null,null,null,null,null,null,null,null,null,null,null,null,null,null,null,null,null,null,10,10,10,10,10,10,10,null,null,null,null,null,null,null,null,null,null,null,null,null,null,null,null,null,null,null,null,null,null,null,null,null,null,null,null,null,null,null,null,null,null,null,null,null,null,null,null,null,null,null,null,null,null,null,null,null,null,null,null,null,null,null,null,null,null,null,null,null,null,null,null,null,null,null,null,null,null,null,70,null,null,70,0,11900,0,0,11900,11900,"Yes",0,0,0]
[null,380,null,"CLEAN CREW","Vendor No.04","Clean 5",1365,"2019-01-06","2019-01-12",{"$f":"IF(AND(H398>='A - Contractor Summary'!$C$36,I398<='A - Contractor Summary'!$C$42),\"Yes\",\"No\")","v":"Yes"},{"$f":"VLOOKUP($D398,'C.1 - Rate Sheets'!B:F,2,FALSE)","v":0},{"$f":"VLOOKUP($D398,'C.1 - Rate Sheets'!B:F,3,FALSE)","v":170},{"$f":"VLOOKUP($D398,'C.1 - Rate Sheets'!B:F,4,FALSE)","v":0},{"$f":"VLOOKUP($D398,'C.1 - Rate Sheets'!B:F,5,FALSE)","v":0},null,null,null,null,null,null,null,null,null,null,null,null,null,null,null,null,null,null,null,null,null,null,null,null,null,null,null,null,null,null,null,null,null,null,null,null,null,null,null,null,null,null,null,null,null,null,null,null,null,null,null,null,null,null,null,null,null,null,null,null,null,null,null,null,null,null,null,null,null,null,null,null,null,null,null,null,null,null,null,null,null,null,null,null,null,null,null,null,null,null,null,10,10,10,10,10,10,10,null,null,null,null,null,null,null,null,null,null,null,null,null,null,null,null,null,null,null,null,null,null,null,null,null,null,null,null,null,null,null,null,null,null,null,null,null,null,null,null,null,null,null,null,null,null,null,null,null,null,null,null,null,null,null,null,null,null,null,null,null,null,null,null,null,null,null,null,null,null,null,70,null,null,70,0,11900,0,0,11900,{"$f":"GJ398-GM398","v":11900},"Yes",0,0,0]
[null,381,null,"CLEAN CREW","Vendor No.04","Clean 6",1365,"2019-01-06","2019-01-12",{"$f":"IF(AND(H399>='A - Contractor Summary'!$C$36,I399<='A - Contractor Summary'!$C$42),\"Yes\",\"No\")","v":"Yes"},{"$f":"VLOOKUP($D399,'C.1 - Rate Sheets'!B:F,2,FALSE)","v":0},{"$f":"VLOOKUP($D399,'C.1 - Rate Sheets'!B:F,3,FALSE)","v":170},{"$f":"VLOOKUP($D399,'C.1 - Rate Sheets'!B:F,4,FALSE)","v":0},{"$f":"VLOOKUP($D399,'C.1 - Rate Sheets'!B:F,5,FALSE)","v":0},null,null,null,null,null,null,null,null,null,null,null,null,null,null,null,null,null,null,null,null,null,null,null,null,null,null,null,null,null,null,null,null,null,null,null,null,null,null,null,null,null,null,null,null,null,null,null,null,null,null,null,null,null,null,null,null,null,null,null,null,null,null,null,null,null,null,null,null,null,null,null,null,null,null,null,null,null,null,null,null,null,null,null,null,null,null,null,null,null,null,null,10,10,10,10,10,10,10,null,null,null,null,null,null,null,null,null,null,null,null,null,null,null,null,null,null,null,null,null,null,null,null,null,null,null,null,null,null,null,null,null,null,null,null,null,null,null,null,null,null,null,null,null,null,null,null,null,null,null,null,null,null,null,null,null,null,null,null,null,null,null,null,null,null,null,null,null,null,null,70,null,null,70,0,11900,0,0,11900,11900,"Yes",0,0,0]
[null,382,null,"CLEAN CREW","Vendor No.04","Clean 7",1365,"2019-01-06","2019-01-12",{"$f":"IF(AND(H400>='A - Contractor Summary'!$C$36,I400<='A - Contractor Summary'!$C$42),\"Yes\",\"No\")","v":"Yes"},{"$f":"VLOOKUP($D400,'C.1 - Rate Sheets'!B:F,2,FALSE)","v":0},{"$f":"VLOOKUP($D400,'C.1 - Rate Sheets'!B:F,3,FALSE)","v":170},{"$f":"VLOOKUP($D400,'C.1 - Rate Sheets'!B:F,4,FALSE)","v":0},{"$f":"VLOOKUP($D400,'C.1 - Rate Sheets'!B:F,5,FALSE)","v":0},null,null,null,null,null,null,null,null,null,null,null,null,null,null,null,null,null,null,null,null,null,null,null,null,null,null,null,null,null,null,null,null,null,null,null,null,null,null,null,null,null,null,null,null,null,null,null,null,null,null,null,null,null,null,null,null,null,null,null,null,null,null,null,null,null,null,null,null,null,null,null,null,null,null,null,null,null,null,null,null,null,null,null,null,null,null,null,null,null,null,null,10,10,10,10,10,10,10,null,null,null,null,null,null,null,null,null,null,null,null,null,null,null,null,null,null,null,null,null,null,null,null,null,null,null,null,null,null,null,null,null,null,null,null,null,null,null,null,null,null,null,null,null,null,null,null,null,null,null,null,null,null,null,null,null,null,null,null,null,null,null,null,null,null,null,null,null,null,null,70,null,null,70,0,11900,0,0,11900,11900,"Yes",0,0,0]
[null,383,null,"MOT CREW","Vendor No.04","Mot 1",1380,"2019-01-13","2019-01-19",{"$f":"IF(AND(H401>='A - Contractor Summary'!$C$36,I401<='A - Contractor Summary'!$C$42),\"Yes\",\"No\")","v":"Yes"},{"$f":"VLOOKUP($D401,'C.1 - Rate Sheets'!B:F,2,FALSE)","v":0},{"$f":"VLOOKUP($D401,'C.1 - Rate Sheets'!B:F,3,FALSE)","v":150},{"$f":"VLOOKUP($D401,'C.1 - Rate Sheets'!B:F,4,FALSE)","v":0},{"$f":"VLOOKUP($D401,'C.1 - Rate Sheets'!B:F,5,FALSE)","v":0},null,null,null,null,null,null,null,null,null,null,null,null,null,null,null,null,null,null,null,null,null,null,null,null,null,null,null,null,null,null,null,null,null,null,null,null,null,null,null,null,null,null,null,null,null,null,null,null,null,null,null,null,null,null,null,null,null,null,null,null,null,null,null,null,null,null,null,null,null,null,null,null,null,null,null,null,null,null,null,null,null,null,null,null,null,null,null,null,null,null,null,null,null,null,null,null,null,null,10,10,10,10,10,10,10,null,null,null,null,null,null,null,null,null,null,null,null,null,null,null,null,null,null,null,null,null,null,null,null,null,null,null,null,null,null,null,null,null,null,null,null,null,null,null,null,null,null,null,null,null,null,null,null,null,null,null,null,null,null,null,null,null,null,null,null,null,null,null,null,70,null,null,70,0,10500,0,0,10500,10500,"Yes",0,0,0]
[null,384,null,"MOT CREW","Vendor No.04","Mot 2",1380,"2019-01-18","2019-01-19",{"$f":"IF(AND(H402>='A - Contractor Summary'!$C$36,I402<='A - Contractor Summary'!$C$42),\"Yes\",\"No\")","v":"Yes"},{"$f":"VLOOKUP($D402,'C.1 - Rate Sheets'!B:F,2,FALSE)","v":0},{"$f":"VLOOKUP($D402,'C.1 - Rate Sheets'!B:F,3,FALSE)","v":150},{"$f":"VLOOKUP($D402,'C.1 - Rate Sheets'!B:F,4,FALSE)","v":0},{"$f":"VLOOKUP($D402,'C.1 - Rate Sheets'!B:F,5,FALSE)","v":0},null,null,null,null,null,null,null,null,null,null,null,null,null,null,null,null,null,null,null,null,null,null,null,null,null,null,null,null,null,null,null,null,null,null,null,null,null,null,null,null,null,null,null,null,null,null,null,null,null,null,null,null,null,null,null,null,null,null,null,null,null,null,null,null,null,null,null,null,null,null,null,null,null,null,null,null,null,null,null,null,null,null,null,null,null,null,null,null,null,null,null,null,null,null,null,null,null,null,null,null,null,null,null,12,11,null,null,null,null,null,null,null,null,null,null,null,null,null,null,null,null,null,null,null,null,null,null,null,null,null,null,null,null,null,null,null,null,null,null,null,null,null,null,null,null,null,null,null,null,null,null,null,null,null,null,null,null,null,null,null,null,null,null,null,null,null,null,null,null,23,null,null,23,0,3450,0,0,3450,3450,"Yes",0,0,0]
[null,385,null,"CLEAN CREW","Vendor No.04","Clean 1",1380,"2019-01-13","2019-01-19",{"$f":"IF(AND(H403>='A - Contractor Summary'!$C$36,I403<='A - Contractor Summary'!$C$42),\"Yes\",\"No\")","v":"Yes"},{"$f":"VLOOKUP($D403,'C.1 - Rate Sheets'!B:F,2,FALSE)","v":0},{"$f":"VLOOKUP($D403,'C.1 - Rate Sheets'!B:F,3,FALSE)","v":170},{"$f":"VLOOKUP($D403,'C.1 - Rate Sheets'!B:F,4,FALSE)","v":0},{"$f":"VLOOKUP($D403,'C.1 - Rate Sheets'!B:F,5,FALSE)","v":0},null,null,null,null,null,null,null,null,null,null,null,null,null,null,null,null,null,null,null,null,null,null,null,null,null,null,null,null,null,null,null,null,null,null,null,null,null,null,null,null,null,null,null,null,null,null,null,null,null,null,null,null,null,null,null,null,null,null,null,null,null,null,null,null,null,null,null,null,null,null,null,null,null,null,null,null,null,null,null,null,null,null,null,null,null,null,null,null,null,null,null,null,null,null,null,null,null,null,10,10,10,10,10,10,10,null,null,null,null,null,null,null,null,null,null,null,null,null,null,null,null,null,null,null,null,null,null,null,null,null,null,null,null,null,null,null,null,null,null,null,null,null,null,null,null,null,null,null,null,null,null,null,null,null,null,null,null,null,null,null,null,null,null,null,null,null,null,null,null,70,null,null,70,0,11900,0,0,11900,11900,"Yes",0,0,0]
[null,386,null,"CLEAN CREW","Vendor No.04","Clean 2",1380,"2019-01-13","2019-01-19",{"$f":"IF(AND(H404>='A - Contractor Summary'!$C$36,I404<='A - Contractor Summary'!$C$42),\"Yes\",\"No\")","v":"Yes"},{"$f":"VLOOKUP($D404,'C.1 - Rate Sheets'!B:F,2,FALSE)","v":0},{"$f":"VLOOKUP($D404,'C.1 - Rate Sheets'!B:F,3,FALSE)","v":170},{"$f":"VLOOKUP($D404,'C.1 - Rate Sheets'!B:F,4,FALSE)","v":0},{"$f":"VLOOKUP($D404,'C.1 - Rate Sheets'!B:F,5,FALSE)","v":0},null,null,null,null,null,null,null,null,null,null,null,null,null,null,null,null,null,null,null,null,null,null,null,null,null,null,null,null,null,null,null,null,null,null,null,null,null,null,null,null,null,null,null,null,null,null,null,null,null,null,null,null,null,null,null,null,null,null,null,null,null,null,null,null,null,null,null,null,null,null,null,null,null,null,null,null,null,null,null,null,null,null,null,null,null,null,null,null,null,null,null,null,null,null,null,null,null,null,10,10,10,10,10,10,10,null,null,null,null,null,null,null,null,null,null,null,null,null,null,null,null,null,null,null,null,null,null,null,null,null,null,null,null,null,null,null,null,null,null,null,null,null,null,null,null,null,null,null,null,null,null,null,null,null,null,null,null,null,null,null,null,null,null,null,null,null,null,null,null,70,null,null,70,0,11900,0,0,11900,11900,"Yes",0,0,0]
[null,387,null,"CLEAN CREW","Vendor No.04","Clean 3",1380,"2019-01-13","2019-01-19",{"$f":"IF(AND(H405>='A - Contractor Summary'!$C$36,I405<='A - Contractor Summary'!$C$42),\"Yes\",\"No\")","v":"Yes"},{"$f":"VLOOKUP($D405,'C.1 - Rate Sheets'!B:F,2,FALSE)","v":0},{"$f":"VLOOKUP($D405,'C.1 - Rate Sheets'!B:F,3,FALSE)","v":170},{"$f":"VLOOKUP($D405,'C.1 - Rate Sheets'!B:F,4,FALSE)","v":0},{"$f":"VLOOKUP($D405,'C.1 - Rate Sheets'!B:F,5,FALSE)","v":0},null,null,null,null,null,null,null,null,null,null,null,null,null,null,null,null,null,null,null,null,null,null,null,null,null,null,null,null,null,null,null,null,null,null,null,null,null,null,null,null,null,null,null,null,null,null,null,null,null,null,null,null,null,null,null,null,null,null,null,null,null,null,null,null,null,null,null,null,null,null,null,null,null,null,null,null,null,null,null,null,null,null,null,null,null,null,null,null,null,null,null,null,null,null,null,null,null,null,10,10,10,10,10,10,10,null,null,null,null,null,null,null,null,null,null,null,null,null,null,null,null,null,null,null,null,null,null,null,null,null,null,null,null,null,null,null,null,null,null,null,null,null,null,null,null,null,null,null,null,null,null,null,null,null,null,null,null,null,null,null,null,null,null,null,null,null,null,null,null,70,null,null,{"$f":"SUM(GA405:GD405)","v":70},0,11900,0,0,11900,11900,"Yes",0,0,0]
[null,388,null,"CLEAN CREW","Vendor No.04","Clean 4",1380,"2019-01-13","2019-01-19",{"$f":"IF(AND(H406>='A - Contractor Summary'!$C$36,I406<='A - Contractor Summary'!$C$42),\"Yes\",\"No\")","v":"Yes"},{"$f":"VLOOKUP($D406,'C.1 - Rate Sheets'!B:F,2,FALSE)","v":0},{"$f":"VLOOKUP($D406,'C.1 - Rate Sheets'!B:F,3,FALSE)","v":170},{"$f":"VLOOKUP($D406,'C.1 - Rate Sheets'!B:F,4,FALSE)","v":0},{"$f":"VLOOKUP($D406,'C.1 - Rate Sheets'!B:F,5,FALSE)","v":0},null,null,null,null,null,null,null,null,null,null,null,null,null,null,null,null,null,null,null,null,null,null,null,null,null,null,null,null,null,null,null,null,null,null,null,null,null,null,null,null,null,null,null,null,null,null,null,null,null,null,null,null,null,null,null,null,null,null,null,null,null,null,null,null,null,null,null,null,null,null,null,null,null,null,null,null,null,null,null,null,null,null,null,null,null,null,null,null,null,null,null,null,null,null,null,null,null,null,10,10,10,10,10,10,10,null,null,null,null,null,null,null,null,null,null,null,null,null,null,null,null,null,null,null,null,null,null,null,null,null,null,null,null,null,null,null,null,null,null,null,null,null,null,null,null,null,null,null,null,null,null,null,null,null,null,null,null,null,null,null,null,null,null,null,null,null,null,null,null,70,null,null,70,0,11900,0,0,11900,11900,"Yes",0,0,0]
[null,389,null,"CLEAN CREW","Vendor No.04","Clean 5",1380,"2019-01-13","2019-01-19",{"$f":"IF(AND(H407>='A - Contractor Summary'!$C$36,I407<='A - Contractor Summary'!$C$42),\"Yes\",\"No\")","v":"Yes"},{"$f":"VLOOKUP($D407,'C.1 - Rate Sheets'!B:F,2,FALSE)","v":0},{"$f":"VLOOKUP($D407,'C.1 - Rate Sheets'!B:F,3,FALSE)","v":170},{"$f":"VLOOKUP($D407,'C.1 - Rate Sheets'!B:F,4,FALSE)","v":0},{"$f":"VLOOKUP($D407,'C.1 - Rate Sheets'!B:F,5,FALSE)","v":0},null,null,null,null,null,null,null,null,null,null,null,null,null,null,null,null,null,null,null,null,null,null,null,null,null,null,null,null,null,null,null,null,null,null,null,null,null,null,null,null,null,null,null,null,null,null,null,null,null,null,null,null,null,null,null,null,null,null,null,null,null,null,null,null,null,null,null,null,null,null,null,null,null,null,null,null,null,null,null,null,null,null,null,null,null,null,null,null,null,null,null,null,null,null,null,null,null,null,10,10,10,10,10,10,10,null,null,null,null,null,null,null,null,null,null,null,null,null,null,null,null,null,null,null,null,null,null,null,null,null,null,null,null,null,null,null,null,null,null,null,null,null,null,null,null,null,null,null,null,null,null,null,null,null,null,null,null,null,null,null,null,null,null,null,null,null,null,null,null,70,null,null,70,0,11900,0,0,11900,11900,"Yes",0,0,0]
[null,390,null,"CLEAN CREW","Vendor No.04","Clean 6",1380,"2019-01-13","2019-01-19",{"$f":"IF(AND(H408>='A - Contractor Summary'!$C$36,I408<='A - Contractor Summary'!$C$42),\"Yes\",\"No\")","v":"Yes"},{"$f":"VLOOKUP($D408,'C.1 - Rate Sheets'!B:F,2,FALSE)","v":0},{"$f":"VLOOKUP($D408,'C.1 - Rate Sheets'!B:F,3,FALSE)","v":170},{"$f":"VLOOKUP($D408,'C.1 - Rate Sheets'!B:F,4,FALSE)","v":0},{"$f":"VLOOKUP($D408,'C.1 - Rate Sheets'!B:F,5,FALSE)","v":0},null,null,null,null,null,null,null,null,null,null,null,null,null,null,null,null,null,null,null,null,null,null,null,null,null,null,null,null,null,null,null,null,null,null,null,null,null,null,null,null,null,null,null,null,null,null,null,null,null,null,null,null,null,null,null,null,null,null,null,null,null,null,null,null,null,null,null,null,null,null,null,null,null,null,null,null,null,null,null,null,null,null,null,null,null,null,null,null,null,null,null,null,null,null,null,null,null,null,10,10,10,10,10,10,10,null,null,null,null,null,null,null,null,null,null,null,null,null,null,null,null,null,null,null,null,null,null,null,null,null,null,null,null,null,null,null,null,null,null,null,null,null,null,null,null,null,null,null,null,null,null,null,null,null,null,null,null,null,null,null,null,null,null,null,null,null,null,null,null,70,null,null,70,0,11900,0,0,11900,11900,"Yes",0,0,0]
[null,391,null,"MOT CREW","Vendor No.04","Mot 1",1389,"2019-01-20","2019-01-26",{"$f":"IF(AND(H409>='A - Contractor Summary'!$C$36,I409<='A - Contractor Summary'!$C$42),\"Yes\",\"No\")","v":"Yes"},{"$f":"VLOOKUP($D409,'C.1 - Rate Sheets'!B:F,2,FALSE)","v":0},{"$f":"VLOOKUP($D409,'C.1 - Rate Sheets'!B:F,3,FALSE)","v":150},{"$f":"VLOOKUP($D409,'C.1 - Rate Sheets'!B:F,4,FALSE)","v":0},{"$f":"VLOOKUP($D409,'C.1 - Rate Sheets'!B:F,5,FALSE)","v":0},null,null,null,null,null,null,null,null,null,null,null,null,null,null,null,null,null,null,null,null,null,null,null,null,null,null,null,null,null,null,null,null,null,null,null,null,null,null,null,null,null,null,null,null,null,null,null,null,null,null,null,null,null,null,null,null,null,null,null,null,null,null,null,null,null,null,null,null,null,null,null,null,null,null,null,null,null,null,null,null,null,null,null,null,null,null,null,null,null,null,null,null,null,null,null,null,null,null,null,null,null,null,null,null,null,10,10,10,10,10,10,10,null,null,null,null,null,null,null,null,null,null,null,null,null,null,null,null,null,null,null,null,null,null,null,null,null,null,null,null,null,null,null,null,null,null,null,null,null,null,null,null,null,null,null,null,null,null,null,null,null,null,null,null,null,null,null,null,null,70,null,null,70,0,10500,0,0,10500,10500,"Yes",0,0,0]
[null,392,null,"MOT CREW","Vendor No.04","Mot 2",1389,"2019-01-20","2019-01-24",{"$f":"IF(AND(H410>='A - Contractor Summary'!$C$36,I410<='A - Contractor Summary'!$C$42),\"Yes\",\"No\")","v":"Yes"},{"$f":"VLOOKUP($D410,'C.1 - Rate Sheets'!B:F,2,FALSE)","v":0},{"$f":"VLOOKUP($D410,'C.1 - Rate Sheets'!B:F,3,FALSE)","v":150},{"$f":"VLOOKUP($D410,'C.1 - Rate Sheets'!B:F,4,FALSE)","v":0},{"$f":"VLOOKUP($D410,'C.1 - Rate Sheets'!B:F,5,FALSE)","v":0},null,null,null,null,null,null,null,null,null,null,null,null,null,null,null,null,null,null,null,null,null,null,null,null,null,null,null,null,null,null,null,null,null,null,null,null,null,null,null,null,null,null,null,null,null,null,null,null,null,null,null,null,null,null,null,null,null,null,null,null,null,null,null,null,null,null,null,null,null,null,null,null,null,null,null,null,null,null,null,null,null,null,null,null,null,null,null,null,null,null,null,null,null,null,null,null,null,null,null,null,null,null,null,null,null,10,10,10,10,10,null,null,null,null,null,null,null,null,null,null,null,null,null,null,null,null,null,null,null,null,null,null,null,null,null,null,null,null,null,null,null,null,null,null,null,null,null,null,null,null,null,null,null,null,null,null,null,null,null,null,null,null,null,null,null,null,null,null,null,50,null,null,50,0,7500,0,0,7500,7500,"Yes",0,0,0]
[null,393,null,"MOT CREW","Vendor No.04","Mot 3",1389,"2019-01-20","2019-01-24",{"$f":"IF(AND(H411>='A - Contractor Summary'!$C$36,I411<='A - Contractor Summary'!$C$42),\"Yes\",\"No\")","v":"Yes"},{"$f":"VLOOKUP($D411,'C.1 - Rate Sheets'!B:F,2,FALSE)","v":0},{"$f":"VLOOKUP($D411,'C.1 - Rate Sheets'!B:F,3,FALSE)","v":150},{"$f":"VLOOKUP($D411,'C.1 - Rate Sheets'!B:F,4,FALSE)","v":0},{"$f":"VLOOKUP($D411,'C.1 - Rate Sheets'!B:F,5,FALSE)","v":0},null,null,null,null,null,null,null,null,null,null,null,null,null,null,null,null,null,null,null,null,null,null,null,null,null,null,null,null,null,null,null,null,null,null,null,null,null,null,null,null,null,null,null,null,null,null,null,null,null,null,null,null,null,null,null,null,null,null,null,null,null,null,null,null,null,null,null,null,null,null,null,null,null,null,null,null,null,null,null,null,null,null,null,null,null,null,null,null,null,null,null,null,null,null,null,null,null,null,null,null,null,null,null,null,null,11,11,11,10,10,null,null,null,null,null,null,null,null,null,null,null,null,null,null,null,null,null,null,null,null,null,null,null,null,null,null,null,null,null,null,null,null,null,null,null,null,null,null,null,null,null,null,null,null,null,null,null,null,null,null,null,null,null,null,null,null,null,null,null,53,null,null,53,0,7950,0,0,7950,7950,"Yes",0,0,0]
[null,394,null,"CLEAN CREW","Vendor No.04","Clean 1",1389,"2019-01-20","2019-01-26",{"$f":"IF(AND(H412>='A - Contractor Summary'!$C$36,I412<='A - Contractor Summary'!$C$42),\"Yes\",\"No\")","v":"Yes"},{"$f":"VLOOKUP($D412,'C.1 - Rate Sheets'!B:F,2,FALSE)","v":0},{"$f":"VLOOKUP($D412,'C.1 - Rate Sheets'!B:F,3,FALSE)","v":170},{"$f":"VLOOKUP($D412,'C.1 - Rate Sheets'!B:F,4,FALSE)","v":0},{"$f":"VLOOKUP($D412,'C.1 - Rate Sheets'!B:F,5,FALSE)","v":0},null,null,null,null,null,null,null,null,null,null,null,null,null,null,null,null,null,null,null,null,null,null,null,null,null,null,null,null,null,null,null,null,null,null,null,null,null,null,null,null,null,null,null,null,null,null,null,null,null,null,null,null,null,null,null,null,null,null,null,null,null,null,null,null,null,null,null,null,null,null,null,null,null,null,null,null,null,null,null,null,null,null,null,null,null,null,null,null,null,null,null,null,null,null,null,null,null,null,null,null,null,null,null,null,null,10,10,10,10,10,10,10,null,null,null,null,null,null,null,null,null,null,null,null,null,null,null,null,null,null,null,null,null,null,null,null,null,null,null,null,null,null,null,null,null,null,null,null,null,null,null,null,null,null,null,null,null,null,null,null,null,null,null,null,null,null,null,null,null,70,null,null,70,0,11900,0,0,11900,11900,"Yes",0,0,0]
[null,395,null,"CLEAN CREW","Vendor No.04","Clean 2",1389,"2019-01-20","2019-01-26",{"$f":"IF(AND(H413>='A - Contractor Summary'!$C$36,I413<='A - Contractor Summary'!$C$42),\"Yes\",\"No\")","v":"Yes"},{"$f":"VLOOKUP($D413,'C.1 - Rate Sheets'!B:F,2,FALSE)","v":0},{"$f":"VLOOKUP($D413,'C.1 - Rate Sheets'!B:F,3,FALSE)","v":170},{"$f":"VLOOKUP($D413,'C.1 - Rate Sheets'!B:F,4,FALSE)","v":0},{"$f":"VLOOKUP($D413,'C.1 - Rate Sheets'!B:F,5,FALSE)","v":0},null,null,null,null,null,null,null,null,null,null,null,null,null,null,null,null,null,null,null,null,null,null,null,null,null,null,null,null,null,null,null,null,null,null,null,null,null,null,null,null,null,null,null,null,null,null,null,null,null,null,null,null,null,null,null,null,null,null,null,null,null,null,null,null,null,null,null,null,null,null,null,null,null,null,null,null,null,null,null,null,null,null,null,null,null,null,null,null,null,null,null,null,null,null,null,null,null,null,null,null,null,null,null,null,null,10,10,10,10,10,10,10,null,null,null,null,null,null,null,null,null,null,null,null,null,null,null,null,null,null,null,null,null,null,null,null,null,null,null,null,null,null,null,null,null,null,null,null,null,null,null,null,null,null,null,null,null,null,null,null,null,null,null,null,null,null,null,null,null,70,null,null,70,0,11900,0,0,11900,11900,"Yes",0,0,0]
[null,396,null,"CLEAN CREW","Vendor No.04","Clean 3",1389,"2019-01-20","2019-01-26",{"$f":"IF(AND(H414>='A - Contractor Summary'!$C$36,I414<='A - Contractor Summary'!$C$42),\"Yes\",\"No\")","v":"Yes"},{"$f":"VLOOKUP($D414,'C.1 - Rate Sheets'!B:F,2,FALSE)","v":0},{"$f":"VLOOKUP($D414,'C.1 - Rate Sheets'!B:F,3,FALSE)","v":170},{"$f":"VLOOKUP($D414,'C.1 - Rate Sheets'!B:F,4,FALSE)","v":0},{"$f":"VLOOKUP($D414,'C.1 - Rate Sheets'!B:F,5,FALSE)","v":0},null,null,null,null,null,null,null,null,null,null,null,null,null,null,null,null,null,null,null,null,null,null,null,null,null,null,null,null,null,null,null,null,null,null,null,null,null,null,null,null,null,null,null,null,null,null,null,null,null,null,null,null,null,null,null,null,null,null,null,null,null,null,null,null,null,null,null,null,null,null,null,null,null,null,null,null,null,null,null,null,null,null,null,null,null,null,null,null,null,null,null,null,null,null,null,null,null,null,null,null,null,null,null,null,null,10,10,10,10,10,10,10,null,null,null,null,null,null,null,null,null,null,null,null,null,null,null,null,null,null,null,null,null,null,null,null,null,null,null,null,null,null,null,null,null,null,null,null,null,null,null,null,null,null,null,null,null,null,null,null,null,null,null,null,null,null,null,null,null,70,null,null,70,0,11900,0,0,11900,11900,"Yes",0,0,0]
[null,397,null,"CLEAN CREW","Vendor No.04","Clean 4",1389,"2019-01-20","2019-01-26",{"$f":"IF(AND(H415>='A - Contractor Summary'!$C$36,I415<='A - Contractor Summary'!$C$42),\"Yes\",\"No\")","v":"Yes"},{"$f":"VLOOKUP($D415,'C.1 - Rate Sheets'!B:F,2,FALSE)","v":0},{"$f":"VLOOKUP($D415,'C.1 - Rate Sheets'!B:F,3,FALSE)","v":170},{"$f":"VLOOKUP($D415,'C.1 - Rate Sheets'!B:F,4,FALSE)","v":0},{"$f":"VLOOKUP($D415,'C.1 - Rate Sheets'!B:F,5,FALSE)","v":0},null,null,null,null,null,null,null,null,null,null,null,null,null,null,null,null,null,null,null,null,null,null,null,null,null,null,null,null,null,null,null,null,null,null,null,null,null,null,null,null,null,null,null,null,null,null,null,null,null,null,null,null,null,null,null,null,null,null,null,null,null,null,null,null,null,null,null,null,null,null,null,null,null,null,null,null,null,null,null,null,null,null,null,null,null,null,null,null,null,null,null,null,null,null,null,null,null,null,null,null,null,null,null,null,null,10,10,10,10,10,10,10,null,null,null,null,null,null,null,null,null,null,null,null,null,null,null,null,null,null,null,null,null,null,null,null,null,null,null,null,null,null,null,null,null,null,null,null,null,null,null,null,null,null,null,null,null,null,null,null,null,null,null,null,null,null,null,null,null,70,null,null,70,0,11900,0,0,11900,11900,"Yes",0,0,0]
[null,398,null,"CLEAN CREW","Vendor No.04","Clean 5",1389,"2019-01-20","2019-01-26",{"$f":"IF(AND(H416>='A - Contractor Summary'!$C$36,I416<='A - Contractor Summary'!$C$42),\"Yes\",\"No\")","v":"Yes"},{"$f":"VLOOKUP($D416,'C.1 - Rate Sheets'!B:F,2,FALSE)","v":0},{"$f":"VLOOKUP($D416,'C.1 - Rate Sheets'!B:F,3,FALSE)","v":170},{"$f":"VLOOKUP($D416,'C.1 - Rate Sheets'!B:F,4,FALSE)","v":0},{"$f":"VLOOKUP($D416,'C.1 - Rate Sheets'!B:F,5,FALSE)","v":0},null,null,null,null,null,null,null,null,null,null,null,null,null,null,null,null,null,null,null,null,null,null,null,null,null,null,null,null,null,null,null,null,null,null,null,null,null,null,null,null,null,null,null,null,null,null,null,null,null,null,null,null,null,null,null,null,null,null,null,null,null,null,null,null,null,null,null,null,null,null,null,null,null,null,null,null,null,null,null,null,null,null,null,null,null,null,null,null,null,null,null,null,null,null,null,null,null,null,null,null,null,null,null,null,null,10,10,10,10,10,10,10,null,null,null,null,null,null,null,null,null,null,null,null,null,null,null,null,null,null,null,null,null,null,null,null,null,null,null,null,null,null,null,null,null,null,null,null,null,null,null,null,null,null,null,null,null,null,null,null,null,null,null,null,null,null,null,null,null,70,null,null,70,0,11900,0,0,11900,11900,"Yes",0,0,0]
[null,399,null,"CLEAN CREW","Vendor No.04","Clean 6",1389,"2019-01-20","2019-01-26",{"$f":"IF(AND(H417>='A - Contractor Summary'!$C$36,I417<='A - Contractor Summary'!$C$42),\"Yes\",\"No\")","v":"Yes"},{"$f":"VLOOKUP($D417,'C.1 - Rate Sheets'!B:F,2,FALSE)","v":0},{"$f":"VLOOKUP($D417,'C.1 - Rate Sheets'!B:F,3,FALSE)","v":170},{"$f":"VLOOKUP($D417,'C.1 - Rate Sheets'!B:F,4,FALSE)","v":0},{"$f":"VLOOKUP($D417,'C.1 - Rate Sheets'!B:F,5,FALSE)","v":0},null,null,null,null,null,null,null,null,null,null,null,null,null,null,null,null,null,null,null,null,null,null,null,null,null,null,null,null,null,null,null,null,null,null,null,null,null,null,null,null,null,null,null,null,null,null,null,null,null,null,null,null,null,null,null,null,null,null,null,null,null,null,null,null,null,null,null,null,null,null,null,null,null,null,null,null,null,null,null,null,null,null,null,null,null,null,null,null,null,null,null,null,null,null,null,null,null,null,null,null,null,null,null,null,null,10,10,10,10,10,10,10,null,null,null,null,null,null,null,null,null,null,null,null,null,null,null,null,null,null,null,null,null,null,null,null,null,null,null,null,null,null,null,null,null,null,null,null,null,null,null,null,null,null,null,null,null,null,null,null,null,null,null,null,null,null,null,null,null,70,null,null,70,0,11900,0,0,11900,11900,"Yes",0,0,0]
[null,400,null,"CLEAN CREW","Vendor No.04","Clean 7",1389,"2019-01-20","2019-01-26",{"$f":"IF(AND(H418>='A - Contractor Summary'!$C$36,I418<='A - Contractor Summary'!$C$42),\"Yes\",\"No\")","v":"Yes"},{"$f":"VLOOKUP($D418,'C.1 - Rate Sheets'!B:F,2,FALSE)","v":0},{"$f":"VLOOKUP($D418,'C.1 - Rate Sheets'!B:F,3,FALSE)","v":170},{"$f":"VLOOKUP($D418,'C.1 - Rate Sheets'!B:F,4,FALSE)","v":0},{"$f":"VLOOKUP($D418,'C.1 - Rate Sheets'!B:F,5,FALSE)","v":0},null,null,null,null,null,null,null,null,null,null,null,null,null,null,null,null,null,null,null,null,null,null,null,null,null,null,null,null,null,null,null,null,null,null,null,null,null,null,null,null,null,null,null,null,null,null,null,null,null,null,null,null,null,null,null,null,null,null,null,null,null,null,null,null,null,null,null,null,null,null,null,null,null,null,null,null,null,null,null,null,null,null,null,null,null,null,null,null,null,null,null,null,null,null,null,null,null,null,null,null,null,null,null,null,null,10,10,10,10,10,10,10,null,null,null,null,null,null,null,null,null,null,null,null,null,null,null,null,null,null,null,null,null,null,null,null,null,null,null,null,null,null,null,null,null,null,null,null,null,null,null,null,null,null,null,null,null,null,null,null,null,null,null,null,null,null,null,null,null,70,null,null,70,0,11900,0,0,11900,11900,"Yes",0,0,0]
[null,401,null,"CLEAN CREW","Vendor No.04","Clean 8",1389,"2019-01-23","2019-01-26",{"$f":"IF(AND(H419>='A - Contractor Summary'!$C$36,I419<='A - Contractor Summary'!$C$42),\"Yes\",\"No\")","v":"Yes"},{"$f":"VLOOKUP($D419,'C.1 - Rate Sheets'!B:F,2,FALSE)","v":0},{"$f":"VLOOKUP($D419,'C.1 - Rate Sheets'!B:F,3,FALSE)","v":170},{"$f":"VLOOKUP($D419,'C.1 - Rate Sheets'!B:F,4,FALSE)","v":0},{"$f":"VLOOKUP($D419,'C.1 - Rate Sheets'!B:F,5,FALSE)","v":0},null,null,null,null,null,null,null,null,null,null,null,null,null,null,null,null,null,null,null,null,null,null,null,null,null,null,null,null,null,null,null,null,null,null,null,null,null,null,null,null,null,null,null,null,null,null,null,null,null,null,null,null,null,null,null,null,null,null,null,null,null,null,null,null,null,null,null,null,null,null,null,null,null,null,null,null,null,null,null,null,null,null,null,null,null,null,null,null,null,null,null,null,null,null,null,null,null,null,null,null,null,null,null,null,null,null,null,null,10,10,10,10,null,null,null,null,null,null,null,null,null,null,null,null,null,null,null,null,null,null,null,null,null,null,null,null,null,null,null,null,null,null,null,null,null,null,null,null,null,null,null,null,null,null,null,null,null,null,null,null,null,null,null,null,null,null,null,null,null,40,null,null,40,0,6800,0,0,6800,6800,"Yes",0,0,0]
[null,402,null,"MOT CREW","Vendor No.04","Mot 1",1400,"2019-01-27","2019-02-02",{"$f":"IF(AND(H420>='A - Contractor Summary'!$C$36,I420<='A - Contractor Summary'!$C$42),\"Yes\",\"No\")","v":"Yes"},{"$f":"VLOOKUP($D420,'C.1 - Rate Sheets'!B:F,2,FALSE)","v":0},{"$f":"VLOOKUP($D420,'C.1 - Rate Sheets'!B:F,3,FALSE)","v":150},{"$f":"VLOOKUP($D420,'C.1 - Rate Sheets'!B:F,4,FALSE)","v":0},{"$f":"VLOOKUP($D420,'C.1 - Rate Sheets'!B:F,5,FALSE)","v":0},null,null,null,null,null,null,null,null,null,null,null,null,null,null,null,null,null,null,null,null,null,null,null,null,null,null,null,null,null,null,null,null,null,null,null,null,null,null,null,null,null,null,null,null,null,null,null,null,null,null,null,null,null,null,null,null,null,null,null,null,null,null,null,null,null,null,null,null,null,null,null,null,null,null,null,null,null,null,null,null,null,null,null,null,null,null,null,null,null,null,null,null,null,null,null,null,null,null,null,null,null,null,null,null,null,null,null,null,null,null,null,null,10,10,10,10,10,10,10,null,null,null,null,null,null,null,null,null,null,null,null,null,null,null,null,null,null,null,null,null,null,null,null,null,null,null,null,null,null,null,null,null,null,null,null,null,null,null,null,null,null,null,null,null,null,null,null,null,null,70,null,null,70,0,10500,0,0,10500,10500,"Yes",0,0,0]
[null,403,null,"MOT CREW","Vendor No.04","Mot 2",1400,"2019-02-02","2019-02-02",{"$f":"IF(AND(H421>='A - Contractor Summary'!$C$36,I421<='A - Contractor Summary'!$C$42),\"Yes\",\"No\")","v":"Yes"},{"$f":"VLOOKUP($D421,'C.1 - Rate Sheets'!B:F,2,FALSE)","v":0},{"$f":"VLOOKUP($D421,'C.1 - Rate Sheets'!B:F,3,FALSE)","v":150},{"$f":"VLOOKUP($D421,'C.1 - Rate Sheets'!B:F,4,FALSE)","v":0},{"$f":"VLOOKUP($D421,'C.1 - Rate Sheets'!B:F,5,FALSE)","v":0},null,null,null,null,null,null,null,null,null,null,null,null,null,null,null,null,null,null,null,null,null,null,null,null,null,null,null,null,null,null,null,null,null,null,null,null,null,null,null,null,null,null,null,null,null,null,null,null,null,null,null,null,null,null,null,null,null,null,null,null,null,null,null,null,null,null,null,null,null,null,null,null,null,null,null,null,null,null,null,null,null,null,null,null,null,null,null,null,null,null,null,null,null,null,null,null,null,null,null,null,null,null,null,null,null,null,null,null,null,null,null,null,null,null,null,null,null,null,10,null,null,null,null,null,null,null,null,null,null,null,null,null,null,null,null,null,null,null,null,null,null,null,null,null,null,null,null,null,null,null,null,null,null,null,null,null,null,null,null,null,null,null,null,null,null,null,null,null,null,10,null,null,10,0,1500,0,0,1500,1500,"Yes",0,0,0]
[null,404,null,"MOT CREW","Vendor No.04","Mot 3",1400,"2019-02-02","2019-02-02",{"$f":"IF(AND(H422>='A - Contractor Summary'!$C$36,I422<='A - Contractor Summary'!$C$42),\"Yes\",\"No\")","v":"Yes"},{"$f":"VLOOKUP($D422,'C.1 - Rate Sheets'!B:F,2,FALSE)","v":0},{"$f":"VLOOKUP($D422,'C.1 - Rate Sheets'!B:F,3,FALSE)","v":150},{"$f":"VLOOKUP($D422,'C.1 - Rate Sheets'!B:F,4,FALSE)","v":0},{"$f":"VLOOKUP($D422,'C.1 - Rate Sheets'!B:F,5,FALSE)","v":0},null,null,null,null,null,null,null,null,null,null,null,null,null,null,null,null,null,null,null,null,null,null,null,null,null,null,null,null,null,null,null,null,null,null,null,null,null,null,null,null,null,null,null,null,null,null,null,null,null,null,null,null,null,null,null,null,null,null,null,null,null,null,null,null,null,null,null,null,null,null,null,null,null,null,null,null,null,null,null,null,null,null,null,null,null,null,null,null,null,null,null,null,null,null,null,null,null,null,null,null,null,null,null,null,null,null,null,null,null,null,null,null,null,null,null,null,null,null,11,null,null,null,null,null,null,null,null,null,null,null,null,null,null,null,null,null,null,null,null,null,null,null,null,null,null,null,null,null,null,null,null,null,null,null,null,null,null,null,null,null,null,null,null,null,null,null,null,null,null,11,null,null,11,0,1650,0,0,1650,1650,"Yes",0,0,0]
[null,405,null,"CLEAN CREW","Vendor No.04","Clean 1",1400,"2019-01-27","2019-02-02",{"$f":"IF(AND(H423>='A - Contractor Summary'!$C$36,I423<='A - Contractor Summary'!$C$42),\"Yes\",\"No\")","v":"Yes"},{"$f":"VLOOKUP($D423,'C.1 - Rate Sheets'!B:F,2,FALSE)","v":0},{"$f":"VLOOKUP($D423,'C.1 - Rate Sheets'!B:F,3,FALSE)","v":170},{"$f":"VLOOKUP($D423,'C.1 - Rate Sheets'!B:F,4,FALSE)","v":0},{"$f":"VLOOKUP($D423,'C.1 - Rate Sheets'!B:F,5,FALSE)","v":0},null,null,null,null,null,null,null,null,null,null,null,null,null,null,null,null,null,null,null,null,null,null,null,null,null,null,null,null,null,null,null,null,null,null,null,null,null,null,null,null,null,null,null,null,null,null,null,null,null,null,null,null,null,null,null,null,null,null,null,null,null,null,null,null,null,null,null,null,null,null,null,null,null,null,null,null,null,null,null,null,null,null,null,null,null,null,null,null,null,null,null,null,null,null,null,null,null,null,null,null,null,null,null,null,null,null,null,null,null,null,null,null,10,10,10,10,10,10,10,null,null,null,null,null,null,null,null,null,null,null,null,null,null,null,null,null,null,null,null,null,null,null,null,null,null,null,null,null,null,null,null,null,null,null,null,null,null,null,null,null,null,null,null,null,null,null,null,null,null,70,null,null,70,0,11900,0,0,11900,11900,"Yes",0,0,0]
[null,406,null,"CLEAN CREW","Vendor No.04","Clean 2",1400,"2019-01-27","2019-02-02",{"$f":"IF(AND(H424>='A - Contractor Summary'!$C$36,I424<='A - Contractor Summary'!$C$42),\"Yes\",\"No\")","v":"Yes"},{"$f":"VLOOKUP($D424,'C.1 - Rate Sheets'!B:F,2,FALSE)","v":0},{"$f":"VLOOKUP($D424,'C.1 - Rate Sheets'!B:F,3,FALSE)","v":170},{"$f":"VLOOKUP($D424,'C.1 - Rate Sheets'!B:F,4,FALSE)","v":0},{"$f":"VLOOKUP($D424,'C.1 - Rate Sheets'!B:F,5,FALSE)","v":0},null,null,null,null,null,null,null,null,null,null,null,null,null,null,null,null,null,null,null,null,null,null,null,null,null,null,null,null,null,null,null,null,null,null,null,null,null,null,null,null,null,null,null,null,null,null,null,null,null,null,null,null,null,null,null,null,null,null,null,null,null,null,null,null,null,null,null,null,null,null,null,null,null,null,null,null,null,null,null,null,null,null,null,null,null,null,null,null,null,null,null,null,null,null,null,null,null,null,null,null,null,null,null,null,null,null,null,null,null,null,null,null,10,10,10,10,10,10,10,null,null,null,null,null,null,null,null,null,null,null,null,null,null,null,null,null,null,null,null,null,null,null,null,null,null,null,null,null,null,null,null,null,null,null,null,null,null,null,null,null,null,null,null,null,null,null,null,null,null,70,null,null,70,0,11900,0,0,11900,11900,"Yes",0,0,0]
[null,407,null,"CLEAN CREW","Vendor No.04","Clean 3",1400,"2019-01-27","2019-02-02",{"$f":"IF(AND(H425>='A - Contractor Summary'!$C$36,I425<='A - Contractor Summary'!$C$42),\"Yes\",\"No\")","v":"Yes"},{"$f":"VLOOKUP($D425,'C.1 - Rate Sheets'!B:F,2,FALSE)","v":0},{"$f":"VLOOKUP($D425,'C.1 - Rate Sheets'!B:F,3,FALSE)","v":170},{"$f":"VLOOKUP($D425,'C.1 - Rate Sheets'!B:F,4,FALSE)","v":0},{"$f":"VLOOKUP($D425,'C.1 - Rate Sheets'!B:F,5,FALSE)","v":0},null,null,null,null,null,null,null,null,null,null,null,null,null,null,null,null,null,null,null,null,null,null,null,null,null,null,null,null,null,null,null,null,null,null,null,null,null,null,null,null,null,null,null,null,null,null,null,null,null,null,null,null,null,null,null,null,null,null,null,null,null,null,null,null,null,null,null,null,null,null,null,null,null,null,null,null,null,null,null,null,null,null,null,null,null,null,null,null,null,null,null,null,null,null,null,null,null,null,null,null,null,null,null,null,null,null,null,null,null,null,null,null,10,10,10,10,10,10,10,null,null,null,null,null,null,null,null,null,null,null,null,null,null,null,null,null,null,null,null,null,null,null,null,null,null,null,null,null,null,null,null,null,null,null,null,null,null,null,null,null,null,null,null,null,null,null,null,null,null,70,null,null,70,0,11900,0,0,11900,11900,"Yes",0,0,0]
[null,408,null,"CLEAN CREW","Vendor No.04","Clean 4",1400,"2019-01-27","2019-02-02",{"$f":"IF(AND(H426>='A - Contractor Summary'!$C$36,I426<='A - Contractor Summary'!$C$42),\"Yes\",\"No\")","v":"Yes"},{"$f":"VLOOKUP($D426,'C.1 - Rate Sheets'!B:F,2,FALSE)","v":0},{"$f":"VLOOKUP($D426,'C.1 - Rate Sheets'!B:F,3,FALSE)","v":170},{"$f":"VLOOKUP($D426,'C.1 - Rate Sheets'!B:F,4,FALSE)","v":0},{"$f":"VLOOKUP($D426,'C.1 - Rate Sheets'!B:F,5,FALSE)","v":0},null,null,null,null,null,null,null,null,null,null,null,null,null,null,null,null,null,null,null,null,null,null,null,null,null,null,null,null,null,null,null,null,null,null,null,null,null,null,null,null,null,null,null,null,null,null,null,null,null,null,null,null,null,null,null,null,null,null,null,null,null,null,null,null,null,null,null,null,null,null,null,null,null,null,null,null,null,null,null,null,null,null,null,null,null,null,null,null,null,null,null,null,null,null,null,null,null,null,null,null,null,null,null,null,null,null,null,null,null,null,null,null,10,10,10,10,10,10,10,null,null,null,null,null,null,null,null,null,null,null,null,null,null,null,null,null,null,null,null,null,null,null,null,null,null,null,null,null,null,null,null,null,null,null,null,null,null,null,null,null,null,null,null,null,null,null,null,null,null,70,null,null,70,0,11900,0,0,11900,11900,"Yes",0,0,0]
[null,409,null,"CLEAN CREW","Vendor No.04","Clean 5",1400,"2019-01-27","2019-02-02",{"$f":"IF(AND(H427>='A - Contractor Summary'!$C$36,I427<='A - Contractor Summary'!$C$42),\"Yes\",\"No\")","v":"Yes"},{"$f":"VLOOKUP($D427,'C.1 - Rate Sheets'!B:F,2,FALSE)","v":0},{"$f":"VLOOKUP($D427,'C.1 - Rate Sheets'!B:F,3,FALSE)","v":170},{"$f":"VLOOKUP($D427,'C.1 - Rate Sheets'!B:F,4,FALSE)","v":0},{"$f":"VLOOKUP($D427,'C.1 - Rate Sheets'!B:F,5,FALSE)","v":0},null,null,null,null,null,null,null,null,null,null,null,null,null,null,null,null,null,null,null,null,null,null,null,null,null,null,null,null,null,null,null,null,null,null,null,null,null,null,null,null,null,null,null,null,null,null,null,null,null,null,null,null,null,null,null,null,null,null,null,null,null,null,null,null,null,null,null,null,null,null,null,null,null,null,null,null,null,null,null,null,null,null,null,null,null,null,null,null,null,null,null,null,null,null,null,null,null,null,null,null,null,null,null,null,null,null,null,null,null,null,null,null,10,10,10,10,10,10,10,null,null,null,null,null,null,null,null,null,null,null,null,null,null,null,null,null,null,null,null,null,null,null,null,null,null,null,null,null,null,null,null,null,null,null,null,null,null,null,null,null,null,null,null,null,null,null,null,null,null,70,null,null,70,0,11900,0,0,11900,11900,"Yes",0,0,0]
[null,410,null,"CLEAN CREW","Vendor No.04","Clean 6",1400,"2019-01-27","2019-02-02",{"$f":"IF(AND(H428>='A - Contractor Summary'!$C$36,I428<='A - Contractor Summary'!$C$42),\"Yes\",\"No\")","v":"Yes"},{"$f":"VLOOKUP($D428,'C.1 - Rate Sheets'!B:F,2,FALSE)","v":0},{"$f":"VLOOKUP($D428,'C.1 - Rate Sheets'!B:F,3,FALSE)","v":170},{"$f":"VLOOKUP($D428,'C.1 - Rate Sheets'!B:F,4,FALSE)","v":0},{"$f":"VLOOKUP($D428,'C.1 - Rate Sheets'!B:F,5,FALSE)","v":0},null,null,null,null,null,null,null,null,null,null,null,null,null,null,null,null,null,null,null,null,null,null,null,null,null,null,null,null,null,null,null,null,null,null,null,null,null,null,null,null,null,null,null,null,null,null,null,null,null,null,null,null,null,null,null,null,null,null,null,null,null,null,null,null,null,null,null,null,null,null,null,null,null,null,null,null,null,null,null,null,null,null,null,null,null,null,null,null,null,null,null,null,null,null,null,null,null,null,null,null,null,null,null,null,null,null,null,null,null,null,null,null,10,10,10,10,10,10,10,null,null,null,null,null,null,null,null,null,null,null,null,null,null,null,null,null,null,null,null,null,null,null,null,null,null,null,null,null,null,null,null,null,null,null,null,null,null,null,null,null,null,null,null,null,null,null,null,null,null,70,null,null,70,0,11900,0,0,11900,11900,"Yes",0,0,0]
[null,411,null,"CLEAN CREW","Vendor No.04","Clean 7",1400,"2019-01-27","2019-02-02",{"$f":"IF(AND(H429>='A - Contractor Summary'!$C$36,I429<='A - Contractor Summary'!$C$42),\"Yes\",\"No\")","v":"Yes"},{"$f":"VLOOKUP($D429,'C.1 - Rate Sheets'!B:F,2,FALSE)","v":0},{"$f":"VLOOKUP($D429,'C.1 - Rate Sheets'!B:F,3,FALSE)","v":170},{"$f":"VLOOKUP($D429,'C.1 - Rate Sheets'!B:F,4,FALSE)","v":0},{"$f":"VLOOKUP($D429,'C.1 - Rate Sheets'!B:F,5,FALSE)","v":0},null,null,null,null,null,null,null,null,null,null,null,null,null,null,null,null,null,null,null,null,null,null,null,null,null,null,null,null,null,null,null,null,null,null,null,null,null,null,null,null,null,null,null,null,null,null,null,null,null,null,null,null,null,null,null,null,null,null,null,null,null,null,null,null,null,null,null,null,null,null,null,null,null,null,null,null,null,null,null,null,null,null,null,null,null,null,null,null,null,null,null,null,null,null,null,null,null,null,null,null,null,null,null,null,null,null,null,null,null,null,null,null,10,10,10,10,10,10,10,null,null,null,null,null,null,null,null,null,null,null,null,null,null,null,null,null,null,null,null,null,null,null,null,null,null,null,null,null,null,null,null,null,null,null,null,null,null,null,null,null,null,null,null,null,null,null,null,null,null,70,null,null,70,0,11900,0,0,11900,11900,"Yes",0,0,0]
[null,412,null,"CLEAN CREW","Vendor No.04","Clean 8",1400,"2019-01-27","2019-01-29",{"$f":"IF(AND(H430>='A - Contractor Summary'!$C$36,I430<='A - Contractor Summary'!$C$42),\"Yes\",\"No\")","v":"Yes"},{"$f":"VLOOKUP($D430,'C.1 - Rate Sheets'!B:F,2,FALSE)","v":0},{"$f":"VLOOKUP($D430,'C.1 - Rate Sheets'!B:F,3,FALSE)","v":170},{"$f":"VLOOKUP($D430,'C.1 - Rate Sheets'!B:F,4,FALSE)","v":0},{"$f":"VLOOKUP($D430,'C.1 - Rate Sheets'!B:F,5,FALSE)","v":0},null,null,null,null,null,null,null,null,null,null,null,null,null,null,null,null,null,null,null,null,null,null,null,null,null,null,null,null,null,null,null,null,null,null,null,null,null,null,null,null,null,null,null,null,null,null,null,null,null,null,null,null,null,null,null,null,null,null,null,null,null,null,null,null,null,null,null,null,null,null,null,null,null,null,null,null,null,null,null,null,null,null,null,null,null,null,null,null,null,null,null,null,null,null,null,null,null,null,null,null,null,null,null,null,null,null,null,null,null,null,null,null,10,10,10,null,null,null,null,null,null,null,null,null,null,null,null,null,null,null,null,null,null,null,null,null,null,null,null,null,null,null,null,null,null,null,null,null,null,null,null,null,null,null,null,null,null,null,null,null,null,null,null,null,null,null,null,null,null,30,null,null,30,0,5100,0,0,5100,5100,"Yes",0,0,0]
[null,413,null,"MOT CREW","Vendor No.04","Mot 1",1419,"2019-02-03","2019-02-09",{"$f":"IF(AND(H431>='A - Contractor Summary'!$C$36,I431<='A - Contractor Summary'!$C$42),\"Yes\",\"No\")","v":"Yes"},{"$f":"VLOOKUP($D431,'C.1 - Rate Sheets'!B:F,2,FALSE)","v":0},{"$f":"VLOOKUP($D431,'C.1 - Rate Sheets'!B:F,3,FALSE)","v":150},{"$f":"VLOOKUP($D431,'C.1 - Rate Sheets'!B:F,4,FALSE)","v":0},{"$f":"VLOOKUP($D431,'C.1 - Rate Sheets'!B:F,5,FALSE)","v":0},null,null,null,null,null,null,null,null,null,null,null,null,null,null,null,null,null,null,null,null,null,null,null,null,null,null,null,null,null,null,null,null,null,null,null,null,null,null,null,null,null,null,null,null,null,null,null,null,null,null,null,null,null,null,null,null,null,null,null,null,null,null,null,null,null,null,null,null,null,null,null,null,null,null,null,null,null,null,null,null,null,null,null,null,null,null,null,null,null,null,null,null,null,null,null,null,null,null,null,null,null,null,null,null,null,null,null,null,null,null,null,null,null,null,null,null,null,null,null,10,10,10,10,10,10,10,null,null,null,null,null,null,null,null,null,null,null,null,null,null,null,null,null,null,null,null,null,null,null,null,null,null,null,null,null,null,null,null,null,null,null,null,null,null,null,null,null,null,null,70,null,null,70,0,10500,0,0,10500,10500,"Yes",0,0,0]
[null,414,null,"MOT CREW","Vendor No.04","Mot 2",1419,"2019-02-03","2019-02-07",{"$f":"IF(AND(H432>='A - Contractor Summary'!$C$36,I432<='A - Contractor Summary'!$C$42),\"Yes\",\"No\")","v":"Yes"},{"$f":"VLOOKUP($D432,'C.1 - Rate Sheets'!B:F,2,FALSE)","v":0},{"$f":"VLOOKUP($D432,'C.1 - Rate Sheets'!B:F,3,FALSE)","v":150},{"$f":"VLOOKUP($D432,'C.1 - Rate Sheets'!B:F,4,FALSE)","v":0},{"$f":"VLOOKUP($D432,'C.1 - Rate Sheets'!B:F,5,FALSE)","v":0},null,null,null,null,null,null,null,null,null,null,null,null,null,null,null,null,null,null,null,null,null,null,null,null,null,null,null,null,null,null,null,null,null,null,null,null,null,null,null,null,null,null,null,null,null,null,null,null,null,null,null,null,null,null,null,null,null,null,null,null,null,null,null,null,null,null,null,null,null,null,null,null,null,null,null,null,null,null,null,null,null,null,null,null,null,null,null,null,null,null,null,null,null,null,null,null,null,null,null,null,null,null,null,null,null,null,null,null,null,null,null,null,null,null,null,null,null,null,null,11,11,11,11,10,null,null,null,null,null,null,null,null,null,null,null,null,null,null,null,null,null,null,null,null,null,null,null,null,null,null,null,null,null,null,null,null,null,null,null,null,null,null,null,null,null,null,null,null,null,54,null,null,54,0,8100,0,0,8100,8100,"Yes",0,0,0]
[null,415,null,"MOT CREW","Vendor No.04","Mot 3",1419,"2019-02-03","2019-02-07",{"$f":"IF(AND(H433>='A - Contractor Summary'!$C$36,I433<='A - Contractor Summary'!$C$42),\"Yes\",\"No\")","v":"Yes"},{"$f":"VLOOKUP($D433,'C.1 - Rate Sheets'!B:F,2,FALSE)","v":0},{"$f":"VLOOKUP($D433,'C.1 - Rate Sheets'!B:F,3,FALSE)","v":150},{"$f":"VLOOKUP($D433,'C.1 - Rate Sheets'!B:F,4,FALSE)","v":0},{"$f":"VLOOKUP($D433,'C.1 - Rate Sheets'!B:F,5,FALSE)","v":0},null,null,null,null,null,null,null,null,null,null,null,null,null,null,null,null,null,null,null,null,null,null,null,null,null,null,null,null,null,null,null,null,null,null,null,null,null,null,null,null,null,null,null,null,null,null,null,null,null,null,null,null,null,null,null,null,null,null,null,null,null,null,null,null,null,null,null,null,null,null,null,null,null,null,null,null,null,null,null,null,null,null,null,null,null,null,null,null,null,null,null,null,null,null,null,null,null,null,null,null,null,null,null,null,null,null,null,null,null,null,null,null,null,null,null,null,null,null,null,10,10,10,10,10,null,null,null,null,null,null,null,null,null,null,null,null,null,null,null,null,null,null,null,null,null,null,null,null,null,null,null,null,null,null,null,null,null,null,null,null,null,null,null,null,null,null,null,null,null,50,null,null,50,0,7500,0,0,7500,7500,"Yes",0,0,0]
[null,416,null,"CLEAN CREW","Vendor No.04","Clean 1",1419,"2019-02-03","2019-02-09",{"$f":"IF(AND(H434>='A - Contractor Summary'!$C$36,I434<='A - Contractor Summary'!$C$42),\"Yes\",\"No\")","v":"Yes"},{"$f":"VLOOKUP($D434,'C.1 - Rate Sheets'!B:F,2,FALSE)","v":0},{"$f":"VLOOKUP($D434,'C.1 - Rate Sheets'!B:F,3,FALSE)","v":170},{"$f":"VLOOKUP($D434,'C.1 - Rate Sheets'!B:F,4,FALSE)","v":0},{"$f":"VLOOKUP($D434,'C.1 - Rate Sheets'!B:F,5,FALSE)","v":0},null,null,null,null,null,null,null,null,null,null,null,null,null,null,null,null,null,null,null,null,null,null,null,null,null,null,null,null,null,null,null,null,null,null,null,null,null,null,null,null,null,null,null,null,null,null,null,null,null,null,null,null,null,null,null,null,null,null,null,null,null,null,null,null,null,null,null,null,null,null,null,null,null,null,null,null,null,null,null,null,null,null,null,null,null,null,null,null,null,null,null,null,null,null,null,null,null,null,null,null,null,null,null,null,null,null,null,null,null,null,null,null,null,null,null,null,null,null,null,10,10,10,10,10,10,10,null,null,null,null,null,null,null,null,null,null,null,null,null,null,null,null,null,null,null,null,null,null,null,null,null,null,null,null,null,null,null,null,null,null,null,null,null,null,null,null,null,null,null,70,null,null,70,0,11900,0,0,11900,11900,"Yes",0,0,0]
[null,417,null,"CLEAN CREW","Vendor No.04","Clean 2",1419,"2019-02-03","2019-02-09",{"$f":"IF(AND(H435>='A - Contractor Summary'!$C$36,I435<='A - Contractor Summary'!$C$42),\"Yes\",\"No\")","v":"Yes"},{"$f":"VLOOKUP($D435,'C.1 - Rate Sheets'!B:F,2,FALSE)","v":0},{"$f":"VLOOKUP($D435,'C.1 - Rate Sheets'!B:F,3,FALSE)","v":170},{"$f":"VLOOKUP($D435,'C.1 - Rate Sheets'!B:F,4,FALSE)","v":0},{"$f":"VLOOKUP($D435,'C.1 - Rate Sheets'!B:F,5,FALSE)","v":0},null,null,null,null,null,null,null,null,null,null,null,null,null,null,null,null,null,null,null,null,null,null,null,null,null,null,null,null,null,null,null,null,null,null,null,null,null,null,null,null,null,null,null,null,null,null,null,null,null,null,null,null,null,null,null,null,null,null,null,null,null,null,null,null,null,null,null,null,null,null,null,null,null,null,null,null,null,null,null,null,null,null,null,null,null,null,null,null,null,null,null,null,null,null,null,null,null,null,null,null,null,null,null,null,null,null,null,null,null,null,null,null,null,null,null,null,null,null,null,10,10,10,10,10,10,10,null,null,null,null,null,null,null,null,null,null,null,null,null,null,null,null,null,null,null,null,null,null,null,null,null,null,null,null,null,null,null,null,null,null,null,null,null,null,null,null,null,null,null,70,null,null,70,0,11900,0,0,11900,11900,"Yes",0,0,0]
[null,418,null,"CLEAN CREW","Vendor No.04","Clean 3",1419,"2019-02-03","2019-02-09",{"$f":"IF(AND(H436>='A - Contractor Summary'!$C$36,I436<='A - Contractor Summary'!$C$42),\"Yes\",\"No\")","v":"Yes"},{"$f":"VLOOKUP($D436,'C.1 - Rate Sheets'!B:F,2,FALSE)","v":0},{"$f":"VLOOKUP($D436,'C.1 - Rate Sheets'!B:F,3,FALSE)","v":170},{"$f":"VLOOKUP($D436,'C.1 - Rate Sheets'!B:F,4,FALSE)","v":0},{"$f":"VLOOKUP($D436,'C.1 - Rate Sheets'!B:F,5,FALSE)","v":0},null,null,null,null,null,null,null,null,null,null,null,null,null,null,null,null,null,null,null,null,null,null,null,null,null,null,null,null,null,null,null,null,null,null,null,null,null,null,null,null,null,null,null,null,null,null,null,null,null,null,null,null,null,null,null,null,null,null,null,null,null,null,null,null,null,null,null,null,null,null,null,null,null,null,null,null,null,null,null,null,null,null,null,null,null,null,null,null,null,null,null,null,null,null,null,null,null,null,null,null,null,null,null,null,null,null,null,null,null,null,null,null,null,null,null,null,null,null,null,10,10,10,10,10,10,10,null,null,null,null,null,null,null,null,null,null,null,null,null,null,null,null,null,null,null,null,null,null,null,null,null,null,null,null,null,null,null,null,null,null,null,null,null,null,null,null,null,null,null,70,null,null,70,0,11900,0,0,11900,11900,"Yes",0,0,0]
[null,419,null,"CLEAN CREW","Vendor No.04","Clean 4",1419,"2019-02-03","2019-02-09",{"$f":"IF(AND(H437>='A - Contractor Summary'!$C$36,I437<='A - Contractor Summary'!$C$42),\"Yes\",\"No\")","v":"Yes"},{"$f":"VLOOKUP($D437,'C.1 - Rate Sheets'!B:F,2,FALSE)","v":0},{"$f":"VLOOKUP($D437,'C.1 - Rate Sheets'!B:F,3,FALSE)","v":170},{"$f":"VLOOKUP($D437,'C.1 - Rate Sheets'!B:F,4,FALSE)","v":0},{"$f":"VLOOKUP($D437,'C.1 - Rate Sheets'!B:F,5,FALSE)","v":0},null,null,null,null,null,null,null,null,null,null,null,null,null,null,null,null,null,null,null,null,null,null,null,null,null,null,null,null,null,null,null,null,null,null,null,null,null,null,null,null,null,null,null,null,null,null,null,null,null,null,null,null,null,null,null,null,null,null,null,null,null,null,null,null,null,null,null,null,null,null,null,null,null,null,null,null,null,null,null,null,null,null,null,null,null,null,null,null,null,null,null,null,null,null,null,null,null,null,null,null,null,null,null,null,null,null,null,null,null,null,null,null,null,null,null,null,null,null,null,10,10,10,10,10,10,10,null,null,null,null,null,null,null,null,null,null,null,null,null,null,null,null,null,null,null,null,null,null,null,null,null,null,null,null,null,null,null,null,null,null,null,null,null,null,null,null,null,null,null,70,null,null,70,0,11900,0,0,11900,11900,"Yes",0,0,0]
[null,420,null,"CLEAN CREW","Vendor No.04","Clean 5",1419,"2019-02-03","2019-02-09",{"$f":"IF(AND(H438>='A - Contractor Summary'!$C$36,I438<='A - Contractor Summary'!$C$42),\"Yes\",\"No\")","v":"Yes"},{"$f":"VLOOKUP($D438,'C.1 - Rate Sheets'!B:F,2,FALSE)","v":0},{"$f":"VLOOKUP($D438,'C.1 - Rate Sheets'!B:F,3,FALSE)","v":170},{"$f":"VLOOKUP($D438,'C.1 - Rate Sheets'!B:F,4,FALSE)","v":0},{"$f":"VLOOKUP($D438,'C.1 - Rate Sheets'!B:F,5,FALSE)","v":0},null,null,null,null,null,null,null,null,null,null,null,null,null,null,null,null,null,null,null,null,null,null,null,null,null,null,null,null,null,null,null,null,null,null,null,null,null,null,null,null,null,null,null,null,null,null,null,null,null,null,null,null,null,null,null,null,null,null,null,null,null,null,null,null,null,null,null,null,null,null,null,null,null,null,null,null,null,null,null,null,null,null,null,null,null,null,null,null,null,null,null,null,null,null,null,null,null,null,null,null,null,null,null,null,null,null,null,null,null,null,null,null,null,null,null,null,null,null,null,10,10,10,10,10,10,10,null,null,null,null,null,null,null,null,null,null,null,null,null,null,null,null,null,null,null,null,null,null,null,null,null,null,null,null,null,null,null,null,null,null,null,null,null,null,null,null,null,null,null,70,null,null,70,0,11900,0,0,11900,11900,"Yes",0,0,0]
[null,421,null,"CLEAN CREW","Vendor No.04","Clean 6",1419,"2019-02-03","2019-02-09",{"$f":"IF(AND(H439>='A - Contractor Summary'!$C$36,I439<='A - Contractor Summary'!$C$42),\"Yes\",\"No\")","v":"Yes"},{"$f":"VLOOKUP($D439,'C.1 - Rate Sheets'!B:F,2,FALSE)","v":0},{"$f":"VLOOKUP($D439,'C.1 - Rate Sheets'!B:F,3,FALSE)","v":170},{"$f":"VLOOKUP($D439,'C.1 - Rate Sheets'!B:F,4,FALSE)","v":0},{"$f":"VLOOKUP($D439,'C.1 - Rate Sheets'!B:F,5,FALSE)","v":0},null,null,null,null,null,null,null,null,null,null,null,null,null,null,null,null,null,null,null,null,null,null,null,null,null,null,null,null,null,null,null,null,null,null,null,null,null,null,null,null,null,null,null,null,null,null,null,null,null,null,null,null,null,null,null,null,null,null,null,null,null,null,null,null,null,null,null,null,null,null,null,null,null,null,null,null,null,null,null,null,null,null,null,null,null,null,null,null,null,null,null,null,null,null,null,null,null,null,null,null,null,null,null,null,null,null,null,null,null,null,null,null,null,null,null,null,null,null,null,10,10,10,10,10,10,10,null,null,null,null,null,null,null,null,null,null,null,null,null,null,null,null,null,null,null,null,null,null,null,null,null,null,null,null,null,null,null,null,null,null,null,null,null,null,null,null,null,null,null,70,null,null,70,0,11900,0,0,11900,11900,"Yes",0,0,0]
[null,422,null,"CLEAN CREW","Vendor No.04","Clean 7",1419,"2019-02-03","2019-02-09",{"$f":"IF(AND(H440>='A - Contractor Summary'!$C$36,I440<='A - Contractor Summary'!$C$42),\"Yes\",\"No\")","v":"Yes"},{"$f":"VLOOKUP($D440,'C.1 - Rate Sheets'!B:F,2,FALSE)","v":0},{"$f":"VLOOKUP($D440,'C.1 - Rate Sheets'!B:F,3,FALSE)","v":170},{"$f":"VLOOKUP($D440,'C.1 - Rate Sheets'!B:F,4,FALSE)","v":0},{"$f":"VLOOKUP($D440,'C.1 - Rate Sheets'!B:F,5,FALSE)","v":0},null,null,null,null,null,null,null,null,null,null,null,null,null,null,null,null,null,null,null,null,null,null,null,null,null,null,null,null,null,null,null,null,null,null,null,null,null,null,null,null,null,null,null,null,null,null,null,null,null,null,null,null,null,null,null,null,null,null,null,null,null,null,null,null,null,null,null,null,null,null,null,null,null,null,null,null,null,null,null,null,null,null,null,null,null,null,null,null,null,null,null,null,null,null,null,null,null,null,null,null,null,null,null,null,null,null,null,null,null,null,null,null,null,null,null,null,null,null,null,10,10,10,10,10,10,10,null,null,null,null,null,null,null,null,null,null,null,null,null,null,null,null,null,null,null,null,null,null,null,null,null,null,null,null,null,null,null,null,null,null,null,null,null,null,null,null,null,null,null,70,null,null,70,0,11900,0,0,11900,11900,"Yes",0,0,0]
[null,423,null,"MOT CREW","Vendor No.04","Mot 1",1436,"2019-02-10","2019-02-16",{"$f":"IF(AND(H441>='A - Contractor Summary'!$C$36,I441<='A - Contractor Summary'!$C$42),\"Yes\",\"No\")","v":"Yes"},{"$f":"VLOOKUP($D441,'C.1 - Rate Sheets'!B:F,2,FALSE)","v":0},{"$f":"VLOOKUP($D441,'C.1 - Rate Sheets'!B:F,3,FALSE)","v":150},{"$f":"VLOOKUP($D441,'C.1 - Rate Sheets'!B:F,4,FALSE)","v":0},{"$f":"VLOOKUP($D441,'C.1 - Rate Sheets'!B:F,5,FALSE)","v":0},null,null,null,null,null,null,null,null,null,null,null,null,null,null,null,null,null,null,null,null,null,null,null,null,null,null,null,null,null,null,null,null,null,null,null,null,null,null,null,null,null,null,null,null,null,null,null,null,null,null,null,null,null,null,null,null,null,null,null,null,null,null,null,null,null,null,null,null,null,null,null,null,null,null,null,null,null,null,null,null,null,null,null,null,null,null,null,null,null,null,null,null,null,null,null,null,null,null,null,null,null,null,null,null,null,null,null,null,null,null,null,null,null,null,null,null,null,null,null,null,null,null,null,null,null,null,10,10,10,10,10,10,10,null,null,null,null,null,null,null,null,null,null,null,null,null,null,null,null,null,null,null,null,null,null,null,null,null,null,null,null,null,null,null,null,null,null,null,null,70,null,null,70,0,10500,0,0,10500,10500,"Yes",0,0,0]
[null,424,null,"MOT CREW","Vendor No.04","Mot 2",1436,"2019-02-11","2019-02-16",{"$f":"IF(AND(H442>='A - Contractor Summary'!$C$36,I442<='A - Contractor Summary'!$C$42),\"Yes\",\"No\")","v":"Yes"},{"$f":"VLOOKUP($D442,'C.1 - Rate Sheets'!B:F,2,FALSE)","v":0},{"$f":"VLOOKUP($D442,'C.1 - Rate Sheets'!B:F,3,FALSE)","v":150},{"$f":"VLOOKUP($D442,'C.1 - Rate Sheets'!B:F,4,FALSE)","v":0},{"$f":"VLOOKUP($D442,'C.1 - Rate Sheets'!B:F,5,FALSE)","v":0},null,null,null,null,null,null,null,null,null,null,null,null,null,null,null,null,null,null,null,null,null,null,null,null,null,null,null,null,null,null,null,null,null,null,null,null,null,null,null,null,null,null,null,null,null,null,null,null,null,null,null,null,null,null,null,null,null,null,null,null,null,null,null,null,null,null,null,null,null,null,null,null,null,null,null,null,null,null,null,null,null,null,null,null,null,null,null,null,null,null,null,null,null,null,null,null,null,null,null,null,null,null,null,null,null,null,null,null,null,null,null,null,null,null,null,null,null,null,null,null,null,null,null,null,null,null,null,10,10,null,10,10,10,null,null,null,null,null,null,null,null,null,null,null,null,null,null,null,null,null,null,null,null,null,null,null,null,null,null,null,null,null,null,null,null,null,null,null,null,50,null,null,50,0,7500,0,0,7500,7500,"Yes",0,0,0]
[null,425,null,"MOT CREW","Vendor No.04","Mot 3",1436,"2019-02-14","2019-02-16",{"$f":"IF(AND(H443>='A - Contractor Summary'!$C$36,I443<='A - Contractor Summary'!$C$42),\"Yes\",\"No\")","v":"Yes"},{"$f":"VLOOKUP($D443,'C.1 - Rate Sheets'!B:F,2,FALSE)","v":0},{"$f":"VLOOKUP($D443,'C.1 - Rate Sheets'!B:F,3,FALSE)","v":150},{"$f":"VLOOKUP($D443,'C.1 - Rate Sheets'!B:F,4,FALSE)","v":0},{"$f":"VLOOKUP($D443,'C.1 - Rate Sheets'!B:F,5,FALSE)","v":0},null,null,null,null,null,null,null,null,null,null,null,null,null,null,null,null,null,null,null,null,null,null,null,null,null,null,null,null,null,null,null,null,null,null,null,null,null,null,null,null,null,null,null,null,null,null,null,null,null,null,null,null,null,null,null,null,null,null,null,null,null,null,null,null,null,null,null,null,null,null,null,null,null,null,null,null,null,null,null,null,null,null,null,null,null,null,null,null,null,null,null,null,null,null,null,null,null,null,null,null,null,null,null,null,null,null,null,null,null,null,null,null,null,null,null,null,null,null,null,null,null,null,null,null,null,null,null,null,null,null,10,10,10,null,null,null,null,null,null,null,null,null,null,null,null,null,null,null,null,null,null,null,null,null,null,null,null,null,null,null,null,null,null,null,null,null,null,null,null,30,null,null,30,0,4500,0,0,4500,4500,"Yes",0,0,0]
[null,426,null,"MOT CREW","Vendor No.04","Mot 4",1436,"2019-02-14","2019-02-16",{"$f":"IF(AND(H444>='A - Contractor Summary'!$C$36,I444<='A - Contractor Summary'!$C$42),\"Yes\",\"No\")","v":"Yes"},{"$f":"VLOOKUP($D444,'C.1 - Rate Sheets'!B:F,2,FALSE)","v":0},{"$f":"VLOOKUP($D444,'C.1 - Rate Sheets'!B:F,3,FALSE)","v":150},{"$f":"VLOOKUP($D444,'C.1 - Rate Sheets'!B:F,4,FALSE)","v":0},{"$f":"VLOOKUP($D444,'C.1 - Rate Sheets'!B:F,5,FALSE)","v":0},null,null,null,null,null,null,null,null,null,null,null,null,null,null,null,null,null,null,null,null,null,null,null,null,null,null,null,null,null,null,null,null,null,null,null,null,null,null,null,null,null,null,null,null,null,null,null,null,null,null,null,null,null,null,null,null,null,null,null,null,null,null,null,null,null,null,null,null,null,null,null,null,null,null,null,null,null,null,null,null,null,null,null,null,null,null,null,null,null,null,null,null,null,null,null,null,null,null,null,null,null,null,null,null,null,null,null,null,null,null,null,null,null,null,null,null,null,null,null,null,null,null,null,null,null,null,null,null,null,null,10,10,10,null,null,null,null,null,null,null,null,null,null,null,null,null,null,null,null,null,null,null,null,null,null,null,null,null,null,null,null,null,null,null,null,null,null,null,null,30,null,null,30,0,4500,0,0,4500,4500,"Yes",0,0,0]
[null,427,null,"CLEAN CREW","Vendor No.04","Clean 1",1436,"2019-02-10","2019-02-16",{"$f":"IF(AND(H445>='A - Contractor Summary'!$C$36,I445<='A - Contractor Summary'!$C$42),\"Yes\",\"No\")","v":"Yes"},{"$f":"VLOOKUP($D445,'C.1 - Rate Sheets'!B:F,2,FALSE)","v":0},{"$f":"VLOOKUP($D445,'C.1 - Rate Sheets'!B:F,3,FALSE)","v":170},{"$f":"VLOOKUP($D445,'C.1 - Rate Sheets'!B:F,4,FALSE)","v":0},{"$f":"VLOOKUP($D445,'C.1 - Rate Sheets'!B:F,5,FALSE)","v":0},null,null,null,null,null,null,null,null,null,null,null,null,null,null,null,null,null,null,null,null,null,null,null,null,null,null,null,null,null,null,null,null,null,null,null,null,null,null,null,null,null,null,null,null,null,null,null,null,null,null,null,null,null,null,null,null,null,null,null,null,null,null,null,null,null,null,null,null,null,null,null,null,null,null,null,null,null,null,null,null,null,null,null,null,null,null,null,null,null,null,null,null,null,null,null,null,null,null,null,null,null,null,null,null,null,null,null,null,null,null,null,null,null,null,null,null,null,null,null,null,null,null,null,null,null,null,10,10,10,10,10,10,10,null,null,null,null,null,null,null,null,null,null,null,null,null,null,null,null,null,null,null,null,null,null,null,null,null,null,null,null,null,null,null,null,null,null,null,null,70,null,null,70,0,11900,0,0,11900,11900,"Yes",0,0,0]
[null,428,null,"CLEAN CREW","Vendor No.04","Clean 2",1436,"2019-02-10","2019-02-16",{"$f":"IF(AND(H446>='A - Contractor Summary'!$C$36,I446<='A - Contractor Summary'!$C$42),\"Yes\",\"No\")","v":"Yes"},{"$f":"VLOOKUP($D446,'C.1 - Rate Sheets'!B:F,2,FALSE)","v":0},{"$f":"VLOOKUP($D446,'C.1 - Rate Sheets'!B:F,3,FALSE)","v":170},{"$f":"VLOOKUP($D446,'C.1 - Rate Sheets'!B:F,4,FALSE)","v":0},{"$f":"VLOOKUP($D446,'C.1 - Rate Sheets'!B:F,5,FALSE)","v":0},null,null,null,null,null,null,null,null,null,null,null,null,null,null,null,null,null,null,null,null,null,null,null,null,null,null,null,null,null,null,null,null,null,null,null,null,null,null,null,null,null,null,null,null,null,null,null,null,null,null,null,null,null,null,null,null,null,null,null,null,null,null,null,null,null,null,null,null,null,null,null,null,null,null,null,null,null,null,null,null,null,null,null,null,null,null,null,null,null,null,null,null,null,null,null,null,null,null,null,null,null,null,null,null,null,null,null,null,null,null,null,null,null,null,null,null,null,null,null,null,null,null,null,null,null,null,10,10,10,10,10,10,10,null,null,null,null,null,null,null,null,null,null,null,null,null,null,null,null,null,null,null,null,null,null,null,null,null,null,null,null,null,null,null,null,null,null,null,null,70,null,null,70,0,11900,0,0,11900,11900,"Yes",0,0,0]
[null,429,null,"CLEAN CREW","Vendor No.04","Clean 3",1436,"2019-02-10","2019-02-16",{"$f":"IF(AND(H447>='A - Contractor Summary'!$C$36,I447<='A - Contractor Summary'!$C$42),\"Yes\",\"No\")","v":"Yes"},{"$f":"VLOOKUP($D447,'C.1 - Rate Sheets'!B:F,2,FALSE)","v":0},{"$f":"VLOOKUP($D447,'C.1 - Rate Sheets'!B:F,3,FALSE)","v":170},{"$f":"VLOOKUP($D447,'C.1 - Rate Sheets'!B:F,4,FALSE)","v":0},{"$f":"VLOOKUP($D447,'C.1 - Rate Sheets'!B:F,5,FALSE)","v":0},null,null,null,null,null,null,null,null,null,null,null,null,null,null,null,null,null,null,null,null,null,null,null,null,null,null,null,null,null,null,null,null,null,null,null,null,null,null,null,null,null,null,null,null,null,null,null,null,null,null,null,null,null,null,null,null,null,null,null,null,null,null,null,null,null,null,null,null,null,null,null,null,null,null,null,null,null,null,null,null,null,null,null,null,null,null,null,null,null,null,null,null,null,null,null,null,null,null,null,null,null,null,null,null,null,null,null,null,null,null,null,null,null,null,null,null,null,null,null,null,null,null,null,null,null,null,10,10,10,10,10,10,10,null,null,null,null,null,null,null,null,null,null,null,null,null,null,null,null,null,null,null,null,null,null,null,null,null,null,null,null,null,null,null,null,null,null,null,null,70,null,null,70,0,11900,0,0,11900,11900,"Yes",0,0,0]
[null,430,null,"CLEAN CREW","Vendor No.04","Clean 4",1436,"2019-02-10","2019-02-16",{"$f":"IF(AND(H448>='A - Contractor Summary'!$C$36,I448<='A - Contractor Summary'!$C$42),\"Yes\",\"No\")","v":"Yes"},{"$f":"VLOOKUP($D448,'C.1 - Rate Sheets'!B:F,2,FALSE)","v":0},{"$f":"VLOOKUP($D448,'C.1 - Rate Sheets'!B:F,3,FALSE)","v":170},{"$f":"VLOOKUP($D448,'C.1 - Rate Sheets'!B:F,4,FALSE)","v":0},{"$f":"VLOOKUP($D448,'C.1 - Rate Sheets'!B:F,5,FALSE)","v":0},null,null,null,null,null,null,null,null,null,null,null,null,null,null,null,null,null,null,null,null,null,null,null,null,null,null,null,null,null,null,null,null,null,null,null,null,null,null,null,null,null,null,null,null,null,null,null,null,null,null,null,null,null,null,null,null,null,null,null,null,null,null,null,null,null,null,null,null,null,null,null,null,null,null,null,null,null,null,null,null,null,null,null,null,null,null,null,null,null,null,null,null,null,null,null,null,null,null,null,null,null,null,null,null,null,null,null,null,null,null,null,null,null,null,null,null,null,null,null,null,null,null,null,null,null,null,10,10,10,10,10,10,10,null,null,null,null,null,null,null,null,null,null,null,null,null,null,null,null,null,null,null,null,null,null,null,null,null,null,null,null,null,null,null,null,null,null,null,null,70,null,null,70,0,11900,0,0,11900,11900,"Yes",0,0,0]
[null,431,null,"CLEAN CREW","Vendor No.04","Clean 5",1436,"2019-02-10","2019-02-16",{"$f":"IF(AND(H449>='A - Contractor Summary'!$C$36,I449<='A - Contractor Summary'!$C$42),\"Yes\",\"No\")","v":"Yes"},{"$f":"VLOOKUP($D449,'C.1 - Rate Sheets'!B:F,2,FALSE)","v":0},{"$f":"VLOOKUP($D449,'C.1 - Rate Sheets'!B:F,3,FALSE)","v":170},{"$f":"VLOOKUP($D449,'C.1 - Rate Sheets'!B:F,4,FALSE)","v":0},{"$f":"VLOOKUP($D449,'C.1 - Rate Sheets'!B:F,5,FALSE)","v":0},null,null,null,null,null,null,null,null,null,null,null,null,null,null,null,null,null,null,null,null,null,null,null,null,null,null,null,null,null,null,null,null,null,null,null,null,null,null,null,null,null,null,null,null,null,null,null,null,null,null,null,null,null,null,null,null,null,null,null,null,null,null,null,null,null,null,null,null,null,null,null,null,null,null,null,null,null,null,null,null,null,null,null,null,null,null,null,null,null,null,null,null,null,null,null,null,null,null,null,null,null,null,null,null,null,null,null,null,null,null,null,null,null,null,null,null,null,null,null,null,null,null,null,null,null,null,10,10,10,10,10,10,10,null,null,null,null,null,null,null,null,null,null,null,null,null,null,null,null,null,null,null,null,null,null,null,null,null,null,null,null,null,null,null,null,null,null,null,null,70,null,null,70,0,11900,0,0,11900,11900,"Yes",0,0,0]
[null,432,null,"CLEAN CREW","Vendor No.04","Clean 6",1436,"2019-02-10","2019-02-14",{"$f":"IF(AND(H450>='A - Contractor Summary'!$C$36,I450<='A - Contractor Summary'!$C$42),\"Yes\",\"No\")","v":"Yes"},{"$f":"VLOOKUP($D450,'C.1 - Rate Sheets'!B:F,2,FALSE)","v":0},{"$f":"VLOOKUP($D450,'C.1 - Rate Sheets'!B:F,3,FALSE)","v":170},{"$f":"VLOOKUP($D450,'C.1 - Rate Sheets'!B:F,4,FALSE)","v":0},{"$f":"VLOOKUP($D450,'C.1 - Rate Sheets'!B:F,5,FALSE)","v":0},null,null,null,null,null,null,null,null,null,null,null,null,null,null,null,null,null,null,null,null,null,null,null,null,null,null,null,null,null,null,null,null,null,null,null,null,null,null,null,null,null,null,null,null,null,null,null,null,null,null,null,null,null,null,null,null,null,null,null,null,null,null,null,null,null,null,null,null,null,null,null,null,null,null,null,null,null,null,null,null,null,null,null,null,null,null,null,null,null,null,null,null,null,null,null,null,null,null,null,null,null,null,null,null,null,null,null,null,null,null,null,null,null,null,null,null,null,null,null,null,null,null,null,null,null,null,10,10,10,10,10,null,null,null,null,null,null,null,null,null,null,null,null,null,null,null,null,null,null,null,null,null,null,null,null,null,null,null,null,null,null,null,null,null,null,null,null,null,null,50,null,null,50,0,8500,0,0,8500,8500,"Yes",0,0,0]
[null,433,null,"MOT CREW","Vendor No.04","Mot 1",1438,{"$f":"INDEX($O$16:$FZ$16,MATCH(TRUE,INDEX((O451:FZ451>0),0),0))","v":"2019-02-17"},{"$f":"LOOKUP(2,1/(1-(O451:FZ451<=0)),$O$16:$FZ$16)","v":"2019-02-23"},{"$f":"IF(AND(H451>='A - Contractor Summary'!$C$36,I451<='A - Contractor Summary'!$C$42),\"Yes\",\"No\")","v":"Yes"},{"$f":"VLOOKUP($D451,'C.1 - Rate Sheets'!B:F,2,FALSE)","v":0},{"$f":"VLOOKUP($D451,'C.1 - Rate Sheets'!B:F,3,FALSE)","v":150},{"$f":"VLOOKUP($D451,'C.1 - Rate Sheets'!B:F,4,FALSE)","v":0},{"$f":"VLOOKUP($D451,'C.1 - Rate Sheets'!B:F,5,FALSE)","v":0},null,null,null,null,null,null,null,null,null,null,null,null,null,null,null,null,null,null,null,null,null,null,null,null,null,null,null,null,null,null,null,null,null,null,null,null,null,null,null,null,null,null,null,null,null,null,null,null,null,null,null,null,null,null,null,null,null,null,null,null,null,null,null,null,null,null,null,null,null,null,null,null,null,null,null,null,null,null,null,null,null,null,null,null,null,null,null,null,null,null,null,null,null,null,null,null,null,null,null,null,null,null,null,null,null,null,null,null,null,null,null,null,null,null,null,null,null,null,null,null,null,null,null,null,null,null,null,null,null,null,null,null,null,10,10,10,10,10,10,10,null,null,null,null,null,null,null,null,null,null,null,null,null,null,null,null,null,null,null,null,null,null,null,null,null,null,null,null,null,70,null,null,70,0,10500,0,0,10500,10500,"Yes",0,0,0]
[null,434,null,"MOT CREW","Vendor No.04","Mot 2",1438,"2019-02-17","2019-02-23",{"$f":"IF(AND(H452>='A - Contractor Summary'!$C$36,I452<='A - Contractor Summary'!$C$42),\"Yes\",\"No\")","v":"Yes"},{"$f":"VLOOKUP($D452,'C.1 - Rate Sheets'!B:F,2,FALSE)","v":0},{"$f":"VLOOKUP($D452,'C.1 - Rate Sheets'!B:F,3,FALSE)","v":150},{"$f":"VLOOKUP($D452,'C.1 - Rate Sheets'!B:F,4,FALSE)","v":0},{"$f":"VLOOKUP($D452,'C.1 - Rate Sheets'!B:F,5,FALSE)","v":0},null,null,null,null,null,null,null,null,null,null,null,null,null,null,null,null,null,null,null,null,null,null,null,null,null,null,null,null,null,null,null,null,null,null,null,null,null,null,null,null,null,null,null,null,null,null,null,null,null,null,null,null,null,null,null,null,null,null,null,null,null,null,null,null,null,null,null,null,null,null,null,null,null,null,null,null,null,null,null,null,null,null,null,null,null,null,null,null,null,null,null,null,null,null,null,null,null,null,null,null,null,null,null,null,null,null,null,null,null,null,null,null,null,null,null,null,null,null,null,null,null,null,null,null,null,null,null,null,null,null,null,null,null,10,10,10,10,10,10,10,null,null,null,null,null,null,null,null,null,null,null,null,null,null,null,null,null,null,null,null,null,null,null,null,null,null,null,null,null,70,null,null,70,0,10500,0,0,10500,10500,"Yes",0,0,0]
[null,435,null,"MOT CREW","Vendor No.04","Mot 3",1438,"2019-02-17","2019-02-21",{"$f":"IF(AND(H453>='A - Contractor Summary'!$C$36,I453<='A - Contractor Summary'!$C$42),\"Yes\",\"No\")","v":"Yes"},{"$f":"VLOOKUP($D453,'C.1 - Rate Sheets'!B:F,2,FALSE)","v":0},{"$f":"VLOOKUP($D453,'C.1 - Rate Sheets'!B:F,3,FALSE)","v":150},{"$f":"VLOOKUP($D453,'C.1 - Rate Sheets'!B:F,4,FALSE)","v":0},{"$f":"VLOOKUP($D453,'C.1 - Rate Sheets'!B:F,5,FALSE)","v":0},null,null,null,null,null,null,null,null,null,null,null,null,null,null,null,null,null,null,null,null,null,null,null,null,null,null,null,null,null,null,null,null,null,null,null,null,null,null,null,null,null,null,null,null,null,null,null,null,null,null,null,null,null,null,null,null,null,null,null,null,null,null,null,null,null,null,null,null,null,null,null,null,null,null,null,null,null,null,null,null,null,null,null,null,null,null,null,null,null,null,null,null,null,null,null,null,null,null,null,null,null,null,null,null,null,null,null,null,null,null,null,null,null,null,null,null,null,null,null,null,null,null,null,null,null,null,null,null,null,null,null,null,null,10,10,10,10,10,null,null,null,null,null,null,null,null,null,null,null,null,null,null,null,null,null,null,null,null,null,null,null,null,null,null,null,null,null,null,null,50,null,null,50,0,7500,0,0,7500,7500,"Yes",0,0,0]
[null,436,null,"MOT CREW","Vendor No.04","Mot 4",1438,"2019-02-17","2019-02-19",{"$f":"IF(AND(H454>='A - Contractor Summary'!$C$36,I454<='A - Contractor Summary'!$C$42),\"Yes\",\"No\")","v":"Yes"},{"$f":"VLOOKUP($D454,'C.1 - Rate Sheets'!B:F,2,FALSE)","v":0},{"$f":"VLOOKUP($D454,'C.1 - Rate Sheets'!B:F,3,FALSE)","v":150},{"$f":"VLOOKUP($D454,'C.1 - Rate Sheets'!B:F,4,FALSE)","v":0},{"$f":"VLOOKUP($D454,'C.1 - Rate Sheets'!B:F,5,FALSE)","v":0},null,null,null,null,null,null,null,null,null,null,null,null,null,null,null,null,null,null,null,null,null,null,null,null,null,null,null,null,null,null,null,null,null,null,null,null,null,null,null,null,null,null,null,null,null,null,null,null,null,null,null,null,null,null,null,null,null,null,null,null,null,null,null,null,null,null,null,null,null,null,null,null,null,null,null,null,null,null,null,null,null,null,null,null,null,null,null,null,null,null,null,null,null,null,null,null,null,null,null,null,null,null,null,null,null,null,null,null,null,null,null,null,null,null,null,null,null,null,null,null,null,null,null,null,null,null,null,null,null,null,null,null,null,10,10,10,null,null,null,null,null,null,null,null,null,null,null,null,null,null,null,null,null,null,null,null,null,null,null,null,null,null,null,null,null,null,null,null,null,30,null,null,30,0,4500,0,0,4500,4500,"Yes",0,0,0]
[null,437,null,"CLEAN CREW","Vendor No.04","Clean 1",1438,"2019-02-17","2019-02-23",{"$f":"IF(AND(H455>='A - Contractor Summary'!$C$36,I455<='A - Contractor Summary'!$C$42),\"Yes\",\"No\")","v":"Yes"},{"$f":"VLOOKUP($D455,'C.1 - Rate Sheets'!B:F,2,FALSE)","v":0},{"$f":"VLOOKUP($D455,'C.1 - Rate Sheets'!B:F,3,FALSE)","v":170},{"$f":"VLOOKUP($D455,'C.1 - Rate Sheets'!B:F,4,FALSE)","v":0},{"$f":"VLOOKUP($D455,'C.1 - Rate Sheets'!B:F,5,FALSE)","v":0},null,null,null,null,null,null,null,null,null,null,null,null,null,null,null,null,null,null,null,null,null,null,null,null,null,null,null,null,null,null,null,null,null,null,null,null,null,null,null,null,null,null,null,null,null,null,null,null,null,null,null,null,null,null,null,null,null,null,null,null,null,null,null,null,null,null,null,null,null,null,null,null,null,null,null,null,null,null,null,null,null,null,null,null,null,null,null,null,null,null,null,null,null,null,null,null,null,null,null,null,null,null,null,null,null,null,null,null,null,null,null,null,null,null,null,null,null,null,null,null,null,null,null,null,null,null,null,null,null,null,null,null,null,10,10,10,10,10,10,10,null,null,null,null,null,null,null,null,null,null,null,null,null,null,null,null,null,null,null,null,null,null,null,null,null,null,null,null,null,70,null,null,70,0,11900,0,0,11900,11900,"Yes",0,0,0]
[null,438,null,"CLEAN CREW","Vendor No.04","Clean 2",1438,"2019-02-17","2019-02-23",{"$f":"IF(AND(H456>='A - Contractor Summary'!$C$36,I456<='A - Contractor Summary'!$C$42),\"Yes\",\"No\")","v":"Yes"},{"$f":"VLOOKUP($D456,'C.1 - Rate Sheets'!B:F,2,FALSE)","v":0},{"$f":"VLOOKUP($D456,'C.1 - Rate Sheets'!B:F,3,FALSE)","v":170},{"$f":"VLOOKUP($D456,'C.1 - Rate Sheets'!B:F,4,FALSE)","v":0},{"$f":"VLOOKUP($D456,'C.1 - Rate Sheets'!B:F,5,FALSE)","v":0},null,null,null,null,null,null,null,null,null,null,null,null,null,null,null,null,null,null,null,null,null,null,null,null,null,null,null,null,null,null,null,null,null,null,null,null,null,null,null,null,null,null,null,null,null,null,null,null,null,null,null,null,null,null,null,null,null,null,null,null,null,null,null,null,null,null,null,null,null,null,null,null,null,null,null,null,null,null,null,null,null,null,null,null,null,null,null,null,null,null,null,null,null,null,null,null,null,null,null,null,null,null,null,null,null,null,null,null,null,null,null,null,null,null,null,null,null,null,null,null,null,null,null,null,null,null,null,null,null,null,null,null,null,10,10,10,10,10,10,10,null,null,null,null,null,null,null,null,null,null,null,null,null,null,null,null,null,null,null,null,null,null,null,null,null,null,null,null,null,70,null,null,70,0,11900,0,0,11900,11900,"Yes",0,0,0]
[null,439,null,"CLEAN CREW","Vendor No.04","Clean 3",1438,"2019-02-17","2019-02-23",{"$f":"IF(AND(H457>='A - Contractor Summary'!$C$36,I457<='A - Contractor Summary'!$C$42),\"Yes\",\"No\")","v":"Yes"},{"$f":"VLOOKUP($D457,'C.1 - Rate Sheets'!B:F,2,FALSE)","v":0},{"$f":"VLOOKUP($D457,'C.1 - Rate Sheets'!B:F,3,FALSE)","v":170},{"$f":"VLOOKUP($D457,'C.1 - Rate Sheets'!B:F,4,FALSE)","v":0},{"$f":"VLOOKUP($D457,'C.1 - Rate Sheets'!B:F,5,FALSE)","v":0},null,null,null,null,null,null,null,null,null,null,null,null,null,null,null,null,null,null,null,null,null,null,null,null,null,null,null,null,null,null,null,null,null,null,null,null,null,null,null,null,null,null,null,null,null,null,null,null,null,null,null,null,null,null,null,null,null,null,null,null,null,null,null,null,null,null,null,null,null,null,null,null,null,null,null,null,null,null,null,null,null,null,null,null,null,null,null,null,null,null,null,null,null,null,null,null,null,null,null,null,null,null,null,null,null,null,null,null,null,null,null,null,null,null,null,null,null,null,null,null,null,null,null,null,null,null,null,null,null,null,null,null,null,10,10,10,10,10,10,10,null,null,null,null,null,null,null,null,null,null,null,null,null,null,null,null,null,null,null,null,null,null,null,null,null,null,null,null,null,70,null,null,70,0,11900,0,0,11900,11900,"Yes",0,0,0]
[null,440,null,"CLEAN CREW","Vendor No.04","Clean 4",1438,"2019-02-17","2019-02-23",{"$f":"IF(AND(H458>='A - Contractor Summary'!$C$36,I458<='A - Contractor Summary'!$C$42),\"Yes\",\"No\")","v":"Yes"},{"$f":"VLOOKUP($D458,'C.1 - Rate Sheets'!B:F,2,FALSE)","v":0},{"$f":"VLOOKUP($D458,'C.1 - Rate Sheets'!B:F,3,FALSE)","v":170},{"$f":"VLOOKUP($D458,'C.1 - Rate Sheets'!B:F,4,FALSE)","v":0},{"$f":"VLOOKUP($D458,'C.1 - Rate Sheets'!B:F,5,FALSE)","v":0},null,null,null,null,null,null,null,null,null,null,null,null,null,null,null,null,null,null,null,null,null,null,null,null,null,null,null,null,null,null,null,null,null,null,null,null,null,null,null,null,null,null,null,null,null,null,null,null,null,null,null,null,null,null,null,null,null,null,null,null,null,null,null,null,null,null,null,null,null,null,null,null,null,null,null,null,null,null,null,null,null,null,null,null,null,null,null,null,null,null,null,null,null,null,null,null,null,null,null,null,null,null,null,null,null,null,null,null,null,null,null,null,null,null,null,null,null,null,null,null,null,null,null,null,null,null,null,null,null,null,null,null,null,10,10,10,10,10,10,10,null,null,null,null,null,null,null,null,null,null,null,null,null,null,null,null,null,null,null,null,null,null,null,null,null,null,null,null,null,70,null,null,70,0,11900,0,0,11900,11900,"Yes",0,0,0]
[null,441,null,"CLEAN CREW","Vendor No.04","Clean 5",1438,"2019-02-17","2019-02-23",{"$f":"IF(AND(H459>='A - Contractor Summary'!$C$36,I459<='A - Contractor Summary'!$C$42),\"Yes\",\"No\")","v":"Yes"},{"$f":"VLOOKUP($D459,'C.1 - Rate Sheets'!B:F,2,FALSE)","v":0},{"$f":"VLOOKUP($D459,'C.1 - Rate Sheets'!B:F,3,FALSE)","v":170},{"$f":"VLOOKUP($D459,'C.1 - Rate Sheets'!B:F,4,FALSE)","v":0},{"$f":"VLOOKUP($D459,'C.1 - Rate Sheets'!B:F,5,FALSE)","v":0},null,null,null,null,null,null,null,null,null,null,null,null,null,null,null,null,null,null,null,null,null,null,null,null,null,null,null,null,null,null,null,null,null,null,null,null,null,null,null,null,null,null,null,null,null,null,null,null,null,null,null,null,null,null,null,null,null,null,null,null,null,null,null,null,null,null,null,null,null,null,null,null,null,null,null,null,null,null,null,null,null,null,null,null,null,null,null,null,null,null,null,null,null,null,null,null,null,null,null,null,null,null,null,null,null,null,null,null,null,null,null,null,null,null,null,null,null,null,null,null,null,null,null,null,null,null,null,null,null,null,null,null,null,10,10,10,10,10,10,10,null,null,null,null,null,null,null,null,null,null,null,null,null,null,null,null,null,null,null,null,null,null,null,null,null,null,null,null,null,70,null,null,70,0,11900,0,0,11900,11900,"Yes",0,0,0]
[null,442,null,"CLEAN CREW","Vendor No.04","Clean 6",1438,"2019-02-17","2019-02-23",{"$f":"IF(AND(H460>='A - Contractor Summary'!$C$36,I460<='A - Contractor Summary'!$C$42),\"Yes\",\"No\")","v":"Yes"},{"$f":"VLOOKUP($D460,'C.1 - Rate Sheets'!B:F,2,FALSE)","v":0},{"$f":"VLOOKUP($D460,'C.1 - Rate Sheets'!B:F,3,FALSE)","v":170},{"$f":"VLOOKUP($D460,'C.1 - Rate Sheets'!B:F,4,FALSE)","v":0},{"$f":"VLOOKUP($D460,'C.1 - Rate Sheets'!B:F,5,FALSE)","v":0},null,null,null,null,null,null,null,null,null,null,null,null,null,null,null,null,null,null,null,null,null,null,null,null,null,null,null,null,null,null,null,null,null,null,null,null,null,null,null,null,null,null,null,null,null,null,null,null,null,null,null,null,null,null,null,null,null,null,null,null,null,null,null,null,null,null,null,null,null,null,null,null,null,null,null,null,null,null,null,null,null,null,null,null,null,null,null,null,null,null,null,null,null,null,null,null,null,null,null,null,null,null,null,null,null,null,null,null,null,null,null,null,null,null,null,null,null,null,null,null,null,null,null,null,null,null,null,null,null,null,null,null,null,10,10,10,10,10,10,10,null,null,null,null,null,null,null,null,null,null,null,null,null,null,null,null,null,null,null,null,null,null,null,null,null,null,null,null,null,{"$f":"SUM(O460:FZ460)","v":70},null,null,70,{"$f":"GA460*K460","v":0},{"$f":"GB460*L460","v":11900},{"$f":"GC460*M460","v":0},{"$f":"GD460*N460","v":0},{"$f":"SUM(GF460:GI460)","v":11900},11900,"Yes",0,0,0]
[null,443,null,"CLEAN CREW","Vendor No.04","Clean 7",1438,"2019-02-17","2019-02-23",{"$f":"IF(AND(H461>='A - Contractor Summary'!$C$36,I461<='A - Contractor Summary'!$C$42),\"Yes\",\"No\")","v":"Yes"},{"$f":"VLOOKUP($D461,'C.1 - Rate Sheets'!B:F,2,FALSE)","v":0},{"$f":"VLOOKUP($D461,'C.1 - Rate Sheets'!B:F,3,FALSE)","v":170},{"$f":"VLOOKUP($D461,'C.1 - Rate Sheets'!B:F,4,FALSE)","v":0},{"$f":"VLOOKUP($D461,'C.1 - Rate Sheets'!B:F,5,FALSE)","v":0},null,null,null,null,null,null,null,null,null,null,null,null,null,null,null,null,null,null,null,null,null,null,null,null,null,null,null,null,null,null,null,null,null,null,null,null,null,null,null,null,null,null,null,null,null,null,null,null,null,null,null,null,null,null,null,null,null,null,null,null,null,null,null,null,null,null,null,null,null,null,null,null,null,null,null,null,null,null,null,null,null,null,null,null,null,null,null,null,null,null,null,null,null,null,null,null,null,null,null,null,null,null,null,null,null,null,null,null,null,null,null,null,null,null,null,null,null,null,null,null,null,null,null,null,null,null,null,null,null,null,null,null,null,10,10,10,10,10,10,10,null,null,null,null,null,null,null,null,null,null,null,null,null,null,null,null,null,null,null,null,null,null,null,null,null,null,null,null,null,70,null,null,70,0,11900,0,0,11900,11900,"Yes",0,0,0]
[null,444,null,"Additional Laborer","Vendor No.04",null,1438,"2019-02-17","2019-02-23",{"$f":"IF(AND(H462>='A - Contractor Summary'!$C$36,I462<='A - Contractor Summary'!$C$42),\"Yes\",\"No\")","v":"Yes"},{"$f":"VLOOKUP($D462,'C.1 - Rate Sheets'!B:F,2,FALSE)","v":0},{"$f":"VLOOKUP($D462,'C.1 - Rate Sheets'!B:F,3,FALSE)","v":45},{"$f":"VLOOKUP($D462,'C.1 - Rate Sheets'!B:F,4,FALSE)","v":0},{"$f":"VLOOKUP($D462,'C.1 - Rate Sheets'!B:F,5,FALSE)","v":0},null,null,null,null,null,null,null,null,null,null,null,null,null,null,null,null,null,null,null,null,null,null,null,null,null,null,null,null,null,null,null,null,null,null,null,null,null,null,null,null,null,null,null,null,null,null,null,null,null,null,null,null,null,null,null,null,null,null,null,null,null,null,null,null,null,null,null,null,null,null,null,null,null,null,null,null,null,null,null,null,null,null,null,null,null,null,null,null,null,null,null,null,null,null,null,null,null,null,null,null,null,null,null,null,null,null,null,null,null,null,null,null,null,null,null,null,null,null,null,null,null,null,null,null,null,null,null,null,null,null,null,null,null,10,10,10,10,10,10,10,null,null,null,null,null,null,null,null,null,null,null,null,null,null,null,null,null,null,null,null,null,null,null,null,null,null,null,null,null,70,null,null,70,0,3150,0,0,3150,{"$f":"GJ462-GM462","v":3150},"Yes",0,0,0]
[null,445,null,"MOT CREW","Vendor No.04","Mot 1",1463,"2019-02-24","2019-03-02",{"$f":"IF(AND(H463>='A - Contractor Summary'!$C$36,I463<='A - Contractor Summary'!$C$42),\"Yes\",\"No\")","v":"Yes"},{"$f":"VLOOKUP($D463,'C.1 - Rate Sheets'!B:F,2,FALSE)","v":0},{"$f":"VLOOKUP($D463,'C.1 - Rate Sheets'!B:F,3,FALSE)","v":150},{"$f":"VLOOKUP($D463,'C.1 - Rate Sheets'!B:F,4,FALSE)","v":0},{"$f":"VLOOKUP($D463,'C.1 - Rate Sheets'!B:F,5,FALSE)","v":0},null,null,null,null,null,null,null,null,null,null,null,null,null,null,null,null,null,null,null,null,null,null,null,null,null,null,null,null,null,null,null,null,null,null,null,null,null,null,null,null,null,null,null,null,null,null,null,null,null,null,null,null,null,null,null,null,null,null,null,null,null,null,null,null,null,null,null,null,null,null,null,null,null,null,null,null,null,null,null,null,null,null,null,null,null,null,null,null,null,null,null,null,null,null,null,null,null,null,null,null,null,null,null,null,null,null,null,null,null,null,null,null,null,null,null,null,null,null,null,null,null,null,null,null,null,null,null,null,null,null,null,null,null,null,null,null,null,null,null,null,10,10,10,10,6,10,10,null,null,null,null,null,null,null,null,null,null,null,null,null,null,null,null,null,null,null,null,null,null,66,null,null,66,0,9900,0,0,9900,9900,"Yes",0,0,0]
[null,446,null,"MOT CREW","Vendor No.04","Mot 2",1463,"2019-02-24","2019-03-02",{"$f":"IF(AND(H464>='A - Contractor Summary'!$C$36,I464<='A - Contractor Summary'!$C$42),\"Yes\",\"No\")","v":"Yes"},{"$f":"VLOOKUP($D464,'C.1 - Rate Sheets'!B:F,2,FALSE)","v":0},{"$f":"VLOOKUP($D464,'C.1 - Rate Sheets'!B:F,3,FALSE)","v":150},{"$f":"VLOOKUP($D464,'C.1 - Rate Sheets'!B:F,4,FALSE)","v":0},{"$f":"VLOOKUP($D464,'C.1 - Rate Sheets'!B:F,5,FALSE)","v":0},null,null,null,null,null,null,null,null,null,null,null,null,null,null,null,null,null,null,null,null,null,null,null,null,null,null,null,null,null,null,null,null,null,null,null,null,null,null,null,null,null,null,null,null,null,null,null,null,null,null,null,null,null,null,null,null,null,null,null,null,null,null,null,null,null,null,null,null,null,null,null,null,null,null,null,null,null,null,null,null,null,null,null,null,null,null,null,null,null,null,null,null,null,null,null,null,null,null,null,null,null,null,null,null,null,null,null,null,null,null,null,null,null,null,null,null,null,null,null,null,null,null,null,null,null,null,null,null,null,null,null,null,null,null,null,null,null,null,null,null,10,10,10,10,6,10,10,null,null,null,null,null,null,null,null,null,null,null,null,null,null,null,null,null,null,null,null,null,null,66,null,null,66,0,9900,0,0,9900,9900,"Yes",0,0,0]
[null,447,null,"MOT CREW","Vendor No.04","Mot 3",1463,"2019-02-28","2019-03-02",{"$f":"IF(AND(H465>='A - Contractor Summary'!$C$36,I465<='A - Contractor Summary'!$C$42),\"Yes\",\"No\")","v":"Yes"},{"$f":"VLOOKUP($D465,'C.1 - Rate Sheets'!B:F,2,FALSE)","v":0},{"$f":"VLOOKUP($D465,'C.1 - Rate Sheets'!B:F,3,FALSE)","v":150},{"$f":"VLOOKUP($D465,'C.1 - Rate Sheets'!B:F,4,FALSE)","v":0},{"$f":"VLOOKUP($D465,'C.1 - Rate Sheets'!B:F,5,FALSE)","v":0},null,null,null,null,null,null,null,null,null,null,null,null,null,null,null,null,null,null,null,null,null,null,null,null,null,null,null,null,null,null,null,null,null,null,null,null,null,null,null,null,null,null,null,null,null,null,null,null,null,null,null,null,null,null,null,null,null,null,null,null,null,null,null,null,null,null,null,null,null,null,null,null,null,null,null,null,null,null,null,null,null,null,null,null,null,null,null,null,null,null,null,null,null,null,null,null,null,null,null,null,null,null,null,null,null,null,null,null,null,null,null,null,null,null,null,null,null,null,null,null,null,null,null,null,null,null,null,null,null,null,null,null,null,null,null,null,null,null,null,null,null,null,null,null,10,3,10,null,null,null,null,null,null,null,null,null,null,null,null,null,null,null,null,null,null,null,null,null,null,23,null,null,23,0,3450,0,0,3450,3450,"Yes",0,0,0]
[null,448,null,"MOT CREW","Vendor No.04","Mot 4",1463,"2019-02-28","2019-03-02",{"$f":"IF(AND(H466>='A - Contractor Summary'!$C$36,I466<='A - Contractor Summary'!$C$42),\"Yes\",\"No\")","v":"Yes"},{"$f":"VLOOKUP($D466,'C.1 - Rate Sheets'!B:F,2,FALSE)","v":0},{"$f":"VLOOKUP($D466,'C.1 - Rate Sheets'!B:F,3,FALSE)","v":150},{"$f":"VLOOKUP($D466,'C.1 - Rate Sheets'!B:F,4,FALSE)","v":0},{"$f":"VLOOKUP($D466,'C.1 - Rate Sheets'!B:F,5,FALSE)","v":0},null,null,null,null,null,null,null,null,null,null,null,null,null,null,null,null,null,null,null,null,null,null,null,null,null,null,null,null,null,null,null,null,null,null,null,null,null,null,null,null,null,null,null,null,null,null,null,null,null,null,null,null,null,null,null,null,null,null,null,null,null,null,null,null,null,null,null,null,null,null,null,null,null,null,null,null,null,null,null,null,null,null,null,null,null,null,null,null,null,null,null,null,null,null,null,null,null,null,null,null,null,null,null,null,null,null,null,null,null,null,null,null,null,null,null,null,null,null,null,null,null,null,null,null,null,null,null,null,null,null,null,null,null,null,null,null,null,null,null,null,null,null,null,null,10.5,5,10.5,null,null,null,null,null,null,null,null,null,null,null,null,null,null,null,null,null,null,null,null,null,null,26,null,null,26,0,3900,0,0,3900,3900,"Yes",0,0,0]
[null,449,null,"CLEAN CREW","Vendor No.04","Clean 1",1463,"2019-02-24","2019-03-02",{"$f":"IF(AND(H467>='A - Contractor Summary'!$C$36,I467<='A - Contractor Summary'!$C$42),\"Yes\",\"No\")","v":"Yes"},{"$f":"VLOOKUP($D467,'C.1 - Rate Sheets'!B:F,2,FALSE)","v":0},{"$f":"VLOOKUP($D467,'C.1 - Rate Sheets'!B:F,3,FALSE)","v":170},{"$f":"VLOOKUP($D467,'C.1 - Rate Sheets'!B:F,4,FALSE)","v":0},{"$f":"VLOOKUP($D467,'C.1 - Rate Sheets'!B:F,5,FALSE)","v":0},null,null,null,null,null,null,null,null,null,null,null,null,null,null,null,null,null,null,null,null,null,null,null,null,null,null,null,null,null,null,null,null,null,null,null,null,null,null,null,null,null,null,null,null,null,null,null,null,null,null,null,null,null,null,null,null,null,null,null,null,null,null,null,null,null,null,null,null,null,null,null,null,null,null,null,null,null,null,null,null,null,null,null,null,null,null,null,null,null,null,null,null,null,null,null,null,null,null,null,null,null,null,null,null,null,null,null,null,null,null,null,null,null,null,null,null,null,null,null,null,null,null,null,null,null,null,null,null,null,null,null,null,null,null,null,null,null,null,null,null,10,10,10,10,10,10,10,null,null,null,null,null,null,null,null,null,null,null,null,null,null,null,null,null,null,null,null,null,null,70,null,null,70,0,11900,0,0,11900,11900,"Yes",0,0,0]
[null,450,null,"CLEAN CREW","Vendor No.04","Clean 2",1463,"2019-02-24","2019-03-02",{"$f":"IF(AND(H468>='A - Contractor Summary'!$C$36,I468<='A - Contractor Summary'!$C$42),\"Yes\",\"No\")","v":"Yes"},{"$f":"VLOOKUP($D468,'C.1 - Rate Sheets'!B:F,2,FALSE)","v":0},{"$f":"VLOOKUP($D468,'C.1 - Rate Sheets'!B:F,3,FALSE)","v":170},{"$f":"VLOOKUP($D468,'C.1 - Rate Sheets'!B:F,4,FALSE)","v":0},{"$f":"VLOOKUP($D468,'C.1 - Rate Sheets'!B:F,5,FALSE)","v":0},null,null,null,null,null,null,null,null,null,null,null,null,null,null,null,null,null,null,null,null,null,null,null,null,null,null,null,null,null,null,null,null,null,null,null,null,null,null,null,null,null,null,null,null,null,null,null,null,null,null,null,null,null,null,null,null,null,null,null,null,null,null,null,null,null,null,null,null,null,null,null,null,null,null,null,null,null,null,null,null,null,null,null,null,null,null,null,null,null,null,null,null,null,null,null,null,null,null,null,null,null,null,null,null,null,null,null,null,null,null,null,null,null,null,null,null,null,null,null,null,null,null,null,null,null,null,null,null,null,null,null,null,null,null,null,null,null,null,null,null,10,10,10,10,10,10,10,null,null,null,null,null,null,null,null,null,null,null,null,null,null,null,null,null,null,null,null,null,null,70,null,null,70,0,11900,0,0,11900,11900,"Yes",0,0,0]
[null,451,null,"CLEAN CREW","Vendor No.04","Clean 3",1463,"2019-02-24","2019-03-02",{"$f":"IF(AND(H469>='A - Contractor Summary'!$C$36,I469<='A - Contractor Summary'!$C$42),\"Yes\",\"No\")","v":"Yes"},{"$f":"VLOOKUP($D469,'C.1 - Rate Sheets'!B:F,2,FALSE)","v":0},{"$f":"VLOOKUP($D469,'C.1 - Rate Sheets'!B:F,3,FALSE)","v":170},{"$f":"VLOOKUP($D469,'C.1 - Rate Sheets'!B:F,4,FALSE)","v":0},{"$f":"VLOOKUP($D469,'C.1 - Rate Sheets'!B:F,5,FALSE)","v":0},null,null,null,null,null,null,null,null,null,null,null,null,null,null,null,null,null,null,null,null,null,null,null,null,null,null,null,null,null,null,null,null,null,null,null,null,null,null,null,null,null,null,null,null,null,null,null,null,null,null,null,null,null,null,null,null,null,null,null,null,null,null,null,null,null,null,null,null,null,null,null,null,null,null,null,null,null,null,null,null,null,null,null,null,null,null,null,null,null,null,null,null,null,null,null,null,null,null,null,null,null,null,null,null,null,null,null,null,null,null,null,null,null,null,null,null,null,null,null,null,null,null,null,null,null,null,null,null,null,null,null,null,null,null,null,null,null,null,null,null,10,10,10,10,10,10,10,null,null,null,null,null,null,null,null,null,null,null,null,null,null,null,null,null,null,null,null,null,null,70,null,null,{"$f":"SUM(GA469:GD469)","v":70},0,11900,0,0,11900,11900,"Yes",0,0,0]
[null,452,null,"CLEAN CREW","Vendor No.04","Clean 4",1463,"2019-02-24","2019-03-02",{"$f":"IF(AND(H470>='A - Contractor Summary'!$C$36,I470<='A - Contractor Summary'!$C$42),\"Yes\",\"No\")","v":"Yes"},{"$f":"VLOOKUP($D470,'C.1 - Rate Sheets'!B:F,2,FALSE)","v":0},{"$f":"VLOOKUP($D470,'C.1 - Rate Sheets'!B:F,3,FALSE)","v":170},{"$f":"VLOOKUP($D470,'C.1 - Rate Sheets'!B:F,4,FALSE)","v":0},{"$f":"VLOOKUP($D470,'C.1 - Rate Sheets'!B:F,5,FALSE)","v":0},null,null,null,null,null,null,null,null,null,null,null,null,null,null,null,null,null,null,null,null,null,null,null,null,null,null,null,null,null,null,null,null,null,null,null,null,null,null,null,null,null,null,null,null,null,null,null,null,null,null,null,null,null,null,null,null,null,null,null,null,null,null,null,null,null,null,null,null,null,null,null,null,null,null,null,null,null,null,null,null,null,null,null,null,null,null,null,null,null,null,null,null,null,null,null,null,null,null,null,null,null,null,null,null,null,null,null,null,null,null,null,null,null,null,null,null,null,null,null,null,null,null,null,null,null,null,null,null,null,null,null,null,null,null,null,null,null,null,null,null,10,10,10,10,10,10,10,null,null,null,null,null,null,null,null,null,null,null,null,null,null,null,null,null,null,null,null,null,null,70,null,null,70,0,11900,0,0,11900,11900,"Yes",0,0,0]
[null,453,null,"CLEAN CREW","Vendor No.04","Clean 5",1463,"2019-02-24","2019-02-24",{"$f":"IF(AND(H471>='A - Contractor Summary'!$C$36,I471<='A - Contractor Summary'!$C$42),\"Yes\",\"No\")","v":"Yes"},{"$f":"VLOOKUP($D471,'C.1 - Rate Sheets'!B:F,2,FALSE)","v":0},{"$f":"VLOOKUP($D471,'C.1 - Rate Sheets'!B:F,3,FALSE)","v":170},{"$f":"VLOOKUP($D471,'C.1 - Rate Sheets'!B:F,4,FALSE)","v":0},{"$f":"VLOOKUP($D471,'C.1 - Rate Sheets'!B:F,5,FALSE)","v":0},null,null,null,null,null,null,null,null,null,null,null,null,null,null,null,null,null,null,null,null,null,null,null,null,null,null,null,null,null,null,null,null,null,null,null,null,null,null,null,null,null,null,null,null,null,null,null,null,null,null,null,null,null,null,null,null,null,null,null,null,null,null,null,null,null,null,null,null,null,null,null,null,null,null,null,null,null,null,null,null,null,null,null,null,null,null,null,null,null,null,null,null,null,null,null,null,null,null,null,null,null,null,null,null,null,null,null,null,null,null,null,null,null,null,null,null,null,null,null,null,null,null,null,null,null,null,null,null,null,null,null,null,null,null,null,null,null,null,null,null,10,null,null,null,null,null,null,null,null,null,null,null,null,null,null,null,null,null,null,null,null,null,null,null,null,null,null,null,null,10,null,null,10,0,1700,0,0,1700,1700,"Yes",0,0,0]
[null,454,null,"Additional Laborer","Vendor No.04",null,1463,"2019-02-24","2019-03-02",{"$f":"IF(AND(H472>='A - Contractor Summary'!$C$36,I472<='A - Contractor Summary'!$C$42),\"Yes\",\"No\")","v":"Yes"},{"$f":"VLOOKUP($D472,'C.1 - Rate Sheets'!B:F,2,FALSE)","v":0},{"$f":"VLOOKUP($D472,'C.1 - Rate Sheets'!B:F,3,FALSE)","v":45},{"$f":"VLOOKUP($D472,'C.1 - Rate Sheets'!B:F,4,FALSE)","v":0},{"$f":"VLOOKUP($D472,'C.1 - Rate Sheets'!B:F,5,FALSE)","v":0},null,null,null,null,null,null,null,null,null,null,null,null,null,null,null,null,null,null,null,null,null,null,null,null,null,null,null,null,null,null,null,null,null,null,null,null,null,null,null,null,null,null,null,null,null,null,null,null,null,null,null,null,null,null,null,null,null,null,null,null,null,null,null,null,null,null,null,null,null,null,null,null,null,null,null,null,null,null,null,null,null,null,null,null,null,null,null,null,null,null,null,null,null,null,null,null,null,null,null,null,null,null,null,null,null,null,null,null,null,null,null,null,null,null,null,null,null,null,null,null,null,null,null,null,null,null,null,null,null,null,null,null,null,null,null,null,null,null,null,null,10,10,10,10,10,10,10,null,null,null,null,null,null,null,null,null,null,null,null,null,null,null,null,null,null,null,null,null,null,70,null,null,70,0,3150,0,0,3150,3150,"Yes",0,0,0]
[null,455,null,"MOT CREW","Vendor No.04","Mot 1",1476,"2019-03-03","2019-03-09",{"$f":"IF(AND(H473>='A - Contractor Summary'!$C$36,I473<='A - Contractor Summary'!$C$42),\"Yes\",\"No\")","v":"Yes"},{"$f":"VLOOKUP($D473,'C.1 - Rate Sheets'!B:F,2,FALSE)","v":0},{"$f":"VLOOKUP($D473,'C.1 - Rate Sheets'!B:F,3,FALSE)","v":150},{"$f":"VLOOKUP($D473,'C.1 - Rate Sheets'!B:F,4,FALSE)","v":0},{"$f":"VLOOKUP($D473,'C.1 - Rate Sheets'!B:F,5,FALSE)","v":0},null,null,null,null,null,null,null,null,null,null,null,null,null,null,null,null,null,null,null,null,null,null,null,null,null,null,null,null,null,null,null,null,null,null,null,null,null,null,null,null,null,null,null,null,null,null,null,null,null,null,null,null,null,null,null,null,null,null,null,null,null,null,null,null,null,null,null,null,null,null,null,null,null,null,null,null,null,null,null,null,null,null,null,null,null,null,null,null,null,null,null,null,null,null,null,null,null,null,null,null,null,null,null,null,null,null,null,null,null,null,null,null,null,null,null,null,null,null,null,null,null,null,null,null,null,null,null,null,null,null,null,null,null,null,null,null,null,null,null,null,null,null,null,null,null,null,null,10,10,10,10,10,10,10,null,null,null,null,null,null,null,null,null,null,null,null,null,null,null,70,null,null,70,0,10500,0,0,10500,10500,"Yes",0,0,0]
[null,456,null,"MOT CREW","Vendor No.04","Mot 2",1476,"2019-03-03","2019-03-09",{"$f":"IF(AND(H474>='A - Contractor Summary'!$C$36,I474<='A - Contractor Summary'!$C$42),\"Yes\",\"No\")","v":"Yes"},{"$f":"VLOOKUP($D474,'C.1 - Rate Sheets'!B:F,2,FALSE)","v":0},{"$f":"VLOOKUP($D474,'C.1 - Rate Sheets'!B:F,3,FALSE)","v":150},{"$f":"VLOOKUP($D474,'C.1 - Rate Sheets'!B:F,4,FALSE)","v":0},{"$f":"VLOOKUP($D474,'C.1 - Rate Sheets'!B:F,5,FALSE)","v":0},null,null,null,null,null,null,null,null,null,null,null,null,null,null,null,null,null,null,null,null,null,null,null,null,null,null,null,null,null,null,null,null,null,null,null,null,null,null,null,null,null,null,null,null,null,null,null,null,null,null,null,null,null,null,null,null,null,null,null,null,null,null,null,null,null,null,null,null,null,null,null,null,null,null,null,null,null,null,null,null,null,null,null,null,null,null,null,null,null,null,null,null,null,null,null,null,null,null,null,null,null,null,null,null,null,null,null,null,null,null,null,null,null,null,null,null,null,null,null,null,null,null,null,null,null,null,null,null,null,null,null,null,null,null,null,null,null,null,null,null,null,null,null,null,null,null,null,10,10,10,10,10,10,10,null,null,null,null,null,null,null,null,null,null,null,null,null,null,null,70,null,null,70,0,10500,0,0,10500,10500,"Yes",0,0,0]
[null,457,null,"MOT CREW","Vendor No.04","Mot 3",1476,"2019-03-03","2019-03-07",{"$f":"IF(AND(H475>='A - Contractor Summary'!$C$36,I475<='A - Contractor Summary'!$C$42),\"Yes\",\"No\")","v":"Yes"},{"$f":"VLOOKUP($D475,'C.1 - Rate Sheets'!B:F,2,FALSE)","v":0},{"$f":"VLOOKUP($D475,'C.1 - Rate Sheets'!B:F,3,FALSE)","v":150},{"$f":"VLOOKUP($D475,'C.1 - Rate Sheets'!B:F,4,FALSE)","v":0},{"$f":"VLOOKUP($D475,'C.1 - Rate Sheets'!B:F,5,FALSE)","v":0},null,null,null,null,null,null,null,null,null,null,null,null,null,null,null,null,null,null,null,null,null,null,null,null,null,null,null,null,null,null,null,null,null,null,null,null,null,null,null,null,null,null,null,null,null,null,null,null,null,null,null,null,null,null,null,null,null,null,null,null,null,null,null,null,null,null,null,null,null,null,null,null,null,null,null,null,null,null,null,null,null,null,null,null,null,null,null,null,null,null,null,null,null,null,null,null,null,null,null,null,null,null,null,null,null,null,null,null,null,null,null,null,null,null,null,null,null,null,null,null,null,null,null,null,null,null,null,null,null,null,null,null,null,null,null,null,null,null,null,null,null,null,null,null,null,null,null,10,10,10,10,10,null,null,null,null,null,null,null,null,null,null,null,null,null,null,null,null,null,50,null,null,50,0,7500,0,0,7500,7500,"Yes",0,0,0]
[null,458,null,"MOT CREW","Vendor No.04","Mot 4",1476,"2019-03-03","2019-03-07",{"$f":"IF(AND(H476>='A - Contractor Summary'!$C$36,I476<='A - Contractor Summary'!$C$42),\"Yes\",\"No\")","v":"Yes"},{"$f":"VLOOKUP($D476,'C.1 - Rate Sheets'!B:F,2,FALSE)","v":0},{"$f":"VLOOKUP($D476,'C.1 - Rate Sheets'!B:F,3,FALSE)","v":150},{"$f":"VLOOKUP($D476,'C.1 - Rate Sheets'!B:F,4,FALSE)","v":0},{"$f":"VLOOKUP($D476,'C.1 - Rate Sheets'!B:F,5,FALSE)","v":0},null,null,null,null,null,null,null,null,null,null,null,null,null,null,null,null,null,null,null,null,null,null,null,null,null,null,null,null,null,null,null,null,null,null,null,null,null,null,null,null,null,null,null,null,null,null,null,null,null,null,null,null,null,null,null,null,null,null,null,null,null,null,null,null,null,null,null,null,null,null,null,null,null,null,null,null,null,null,null,null,null,null,null,null,null,null,null,null,null,null,null,null,null,null,null,null,null,null,null,null,null,null,null,null,null,null,null,null,null,null,null,null,null,null,null,null,null,null,null,null,null,null,null,null,null,null,null,null,null,null,null,null,null,null,null,null,null,null,null,null,null,null,null,null,null,null,null,10,10,10,10,5,null,null,null,null,null,null,null,null,null,null,null,null,null,null,null,null,null,45,null,null,45,0,6750,0,0,6750,6750,"Yes",0,0,0]
[null,459,null,"CLEAN CREW","Vendor No.04","Clean 1",1476,"2019-03-03","2019-03-09",{"$f":"IF(AND(H477>='A - Contractor Summary'!$C$36,I477<='A - Contractor Summary'!$C$42),\"Yes\",\"No\")","v":"Yes"},{"$f":"VLOOKUP($D477,'C.1 - Rate Sheets'!B:F,2,FALSE)","v":0},{"$f":"VLOOKUP($D477,'C.1 - Rate Sheets'!B:F,3,FALSE)","v":170},{"$f":"VLOOKUP($D477,'C.1 - Rate Sheets'!B:F,4,FALSE)","v":0},{"$f":"VLOOKUP($D477,'C.1 - Rate Sheets'!B:F,5,FALSE)","v":0},null,null,null,null,null,null,null,null,null,null,null,null,null,null,null,null,null,null,null,null,null,null,null,null,null,null,null,null,null,null,null,null,null,null,null,null,null,null,null,null,null,null,null,null,null,null,null,null,null,null,null,null,null,null,null,null,null,null,null,null,null,null,null,null,null,null,null,null,null,null,null,null,null,null,null,null,null,null,null,null,null,null,null,null,null,null,null,null,null,null,null,null,null,null,null,null,null,null,null,null,null,null,null,null,null,null,null,null,null,null,null,null,null,null,null,null,null,null,null,null,null,null,null,null,null,null,null,null,null,null,null,null,null,null,null,null,null,null,null,null,null,null,null,null,null,null,null,10,10,10,10,10,10,10,null,null,null,null,null,null,null,null,null,null,null,null,null,null,null,70,null,null,70,0,11900,0,0,11900,11900,"Yes",0,0,0]
[null,460,null,"CLEAN CREW","Vendor No.04","Clean 2",1476,"2019-03-03","2019-03-09",{"$f":"IF(AND(H478>='A - Contractor Summary'!$C$36,I478<='A - Contractor Summary'!$C$42),\"Yes\",\"No\")","v":"Yes"},{"$f":"VLOOKUP($D478,'C.1 - Rate Sheets'!B:F,2,FALSE)","v":0},{"$f":"VLOOKUP($D478,'C.1 - Rate Sheets'!B:F,3,FALSE)","v":170},{"$f":"VLOOKUP($D478,'C.1 - Rate Sheets'!B:F,4,FALSE)","v":0},{"$f":"VLOOKUP($D478,'C.1 - Rate Sheets'!B:F,5,FALSE)","v":0},null,null,null,null,null,null,null,null,null,null,null,null,null,null,null,null,null,null,null,null,null,null,null,null,null,null,null,null,null,null,null,null,null,null,null,null,null,null,null,null,null,null,null,null,null,null,null,null,null,null,null,null,null,null,null,null,null,null,null,null,null,null,null,null,null,null,null,null,null,null,null,null,null,null,null,null,null,null,null,null,null,null,null,null,null,null,null,null,null,null,null,null,null,null,null,null,null,null,null,null,null,null,null,null,null,null,null,null,null,null,null,null,null,null,null,null,null,null,null,null,null,null,null,null,null,null,null,null,null,null,null,null,null,null,null,null,null,null,null,null,null,null,null,null,null,null,null,10,10,10,10,10,10,10,null,null,null,null,null,null,null,null,null,null,null,null,null,null,null,70,null,null,70,0,11900,0,0,11900,11900,"Yes",0,0,0]
[null,461,null,"CLEAN CREW","Vendor No.04","Clean 3",1476,"2019-03-03","2019-03-09",{"$f":"IF(AND(H479>='A - Contractor Summary'!$C$36,I479<='A - Contractor Summary'!$C$42),\"Yes\",\"No\")","v":"Yes"},{"$f":"VLOOKUP($D479,'C.1 - Rate Sheets'!B:F,2,FALSE)","v":0},{"$f":"VLOOKUP($D479,'C.1 - Rate Sheets'!B:F,3,FALSE)","v":170},{"$f":"VLOOKUP($D479,'C.1 - Rate Sheets'!B:F,4,FALSE)","v":0},{"$f":"VLOOKUP($D479,'C.1 - Rate Sheets'!B:F,5,FALSE)","v":0},null,null,null,null,null,null,null,null,null,null,null,null,null,null,null,null,null,null,null,null,null,null,null,null,null,null,null,null,null,null,null,null,null,null,null,null,null,null,null,null,null,null,null,null,null,null,null,null,null,null,null,null,null,null,null,null,null,null,null,null,null,null,null,null,null,null,null,null,null,null,null,null,null,null,null,null,null,null,null,null,null,null,null,null,null,null,null,null,null,null,null,null,null,null,null,null,null,null,null,null,null,null,null,null,null,null,null,null,null,null,null,null,null,null,null,null,null,null,null,null,null,null,null,null,null,null,null,null,null,null,null,null,null,null,null,null,null,null,null,null,null,null,null,null,null,null,null,10,10,10,10,10,10,10,null,null,null,null,null,null,null,null,null,null,null,null,null,null,null,70,null,null,70,0,11900,0,0,11900,11900,"Yes",0,0,0]
[null,462,null,"CLEAN CREW","Vendor No.04","Clean 4",1476,"2019-03-03","2019-03-09",{"$f":"IF(AND(H480>='A - Contractor Summary'!$C$36,I480<='A - Contractor Summary'!$C$42),\"Yes\",\"No\")","v":"Yes"},{"$f":"VLOOKUP($D480,'C.1 - Rate Sheets'!B:F,2,FALSE)","v":0},{"$f":"VLOOKUP($D480,'C.1 - Rate Sheets'!B:F,3,FALSE)","v":170},{"$f":"VLOOKUP($D480,'C.1 - Rate Sheets'!B:F,4,FALSE)","v":0},{"$f":"VLOOKUP($D480,'C.1 - Rate Sheets'!B:F,5,FALSE)","v":0},null,null,null,null,null,null,null,null,null,null,null,null,null,null,null,null,null,null,null,null,null,null,null,null,null,null,null,null,null,null,null,null,null,null,null,null,null,null,null,null,null,null,null,null,null,null,null,null,null,null,null,null,null,null,null,null,null,null,null,null,null,null,null,null,null,null,null,null,null,null,null,null,null,null,null,null,null,null,null,null,null,null,null,null,null,null,null,null,null,null,null,null,null,null,null,null,null,null,null,null,null,null,null,null,null,null,null,null,null,null,null,null,null,null,null,null,null,null,null,null,null,null,null,null,null,null,null,null,null,null,null,null,null,null,null,null,null,null,null,null,null,null,null,null,null,null,null,10,10,10,10,10,10,10,null,null,null,null,null,null,null,null,null,null,null,null,null,null,null,70,null,null,70,0,11900,0,0,11900,11900,"Yes",0,0,0]
[null,463,null,"CLEAN CREW","Vendor No.04","Clean 5",1476,"2019-03-03","2019-03-09",{"$f":"IF(AND(H481>='A - Contractor Summary'!$C$36,I481<='A - Contractor Summary'!$C$42),\"Yes\",\"No\")","v":"Yes"},{"$f":"VLOOKUP($D481,'C.1 - Rate Sheets'!B:F,2,FALSE)","v":0},{"$f":"VLOOKUP($D481,'C.1 - Rate Sheets'!B:F,3,FALSE)","v":170},{"$f":"VLOOKUP($D481,'C.1 - Rate Sheets'!B:F,4,FALSE)","v":0},{"$f":"VLOOKUP($D481,'C.1 - Rate Sheets'!B:F,5,FALSE)","v":0},null,null,null,null,null,null,null,null,null,null,null,null,null,null,null,null,null,null,null,null,null,null,null,null,null,null,null,null,null,null,null,null,null,null,null,null,null,null,null,null,null,null,null,null,null,null,null,null,null,null,null,null,null,null,null,null,null,null,null,null,null,null,null,null,null,null,null,null,null,null,null,null,null,null,null,null,null,null,null,null,null,null,null,null,null,null,null,null,null,null,null,null,null,null,null,null,null,null,null,null,null,null,null,null,null,null,null,null,null,null,null,null,null,null,null,null,null,null,null,null,null,null,null,null,null,null,null,null,null,null,null,null,null,null,null,null,null,null,null,null,null,null,null,null,null,null,null,10,10,10,10,10,10,10,null,null,null,null,null,null,null,null,null,null,null,null,null,null,null,70,null,null,70,0,11900,0,0,11900,11900,"Yes",0,0,0]
[null,464,null,"Additional Laborer","Vendor No.04",null,1476,"2019-03-03","2019-03-09",{"$f":"IF(AND(H482>='A - Contractor Summary'!$C$36,I482<='A - Contractor Summary'!$C$42),\"Yes\",\"No\")","v":"Yes"},{"$f":"VLOOKUP($D482,'C.1 - Rate Sheets'!B:F,2,FALSE)","v":0},{"$f":"VLOOKUP($D482,'C.1 - Rate Sheets'!B:F,3,FALSE)","v":45},{"$f":"VLOOKUP($D482,'C.1 - Rate Sheets'!B:F,4,FALSE)","v":0},{"$f":"VLOOKUP($D482,'C.1 - Rate Sheets'!B:F,5,FALSE)","v":0},null,null,null,null,null,null,null,null,null,null,null,null,null,null,null,null,null,null,null,null,null,null,null,null,null,null,null,null,null,null,null,null,null,null,null,null,null,null,null,null,null,null,null,null,null,null,null,null,null,null,null,null,null,null,null,null,null,null,null,null,null,null,null,null,null,null,null,null,null,null,null,null,null,null,null,null,null,null,null,null,null,null,null,null,null,null,null,null,null,null,null,null,null,null,null,null,null,null,null,null,null,null,null,null,null,null,null,null,null,null,null,null,null,null,null,null,null,null,null,null,null,null,null,null,null,null,null,null,null,null,null,null,null,null,null,null,null,null,null,null,null,null,null,null,null,null,null,10,10,10,10,10,10,10,null,null,null,null,null,null,null,null,null,null,null,null,null,null,null,70,null,null,70,0,3150,0,0,3150,3150,"Yes",0,0,0]
[null,465,null,"Additional Laborer","Vendor No.04",null,1476,"2019-03-03","2019-03-09",{"$f":"IF(AND(H483>='A - Contractor Summary'!$C$36,I483<='A - Contractor Summary'!$C$42),\"Yes\",\"No\")","v":"Yes"},{"$f":"VLOOKUP($D483,'C.1 - Rate Sheets'!B:F,2,FALSE)","v":0},{"$f":"VLOOKUP($D483,'C.1 - Rate Sheets'!B:F,3,FALSE)","v":45},{"$f":"VLOOKUP($D483,'C.1 - Rate Sheets'!B:F,4,FALSE)","v":0},{"$f":"VLOOKUP($D483,'C.1 - Rate Sheets'!B:F,5,FALSE)","v":0},null,null,null,null,null,null,null,null,null,null,null,null,null,null,null,null,null,null,null,null,null,null,null,null,null,null,null,null,null,null,null,null,null,null,null,null,null,null,null,null,null,null,null,null,null,null,null,null,null,null,null,null,null,null,null,null,null,null,null,null,null,null,null,null,null,null,null,null,null,null,null,null,null,null,null,null,null,null,null,null,null,null,null,null,null,null,null,null,null,null,null,null,null,null,null,null,null,null,null,null,null,null,null,null,null,null,null,null,null,null,null,null,null,null,null,null,null,null,null,null,null,null,null,null,null,null,null,null,null,null,null,null,null,null,null,null,null,null,null,null,null,null,null,null,null,null,null,10,10,10,10,10,10,10,null,null,null,null,null,null,null,null,null,null,null,null,null,null,null,70,null,null,70,0,3150,0,0,3150,3150,"Yes",0,0,0]
[null,466,null,"MOT CREW","Vendor No.04","Mot 1",1490,"2019-03-10","2019-03-16",{"$f":"IF(AND(H484>='A - Contractor Summary'!$C$36,I484<='A - Contractor Summary'!$C$42),\"Yes\",\"No\")","v":"Yes"},{"$f":"VLOOKUP($D484,'C.1 - Rate Sheets'!B:F,2,FALSE)","v":0},{"$f":"VLOOKUP($D484,'C.1 - Rate Sheets'!B:F,3,FALSE)","v":150},{"$f":"VLOOKUP($D484,'C.1 - Rate Sheets'!B:F,4,FALSE)","v":0},{"$f":"VLOOKUP($D484,'C.1 - Rate Sheets'!B:F,5,FALSE)","v":0},null,null,null,null,null,null,null,null,null,null,null,null,null,null,null,null,null,null,null,null,null,null,null,null,null,null,null,null,null,null,null,null,null,null,null,null,null,null,null,null,null,null,null,null,null,null,null,null,null,null,null,null,null,null,null,null,null,null,null,null,null,null,null,null,null,null,null,null,null,null,null,null,null,null,null,null,null,null,null,null,null,null,null,null,null,null,null,null,null,null,null,null,null,null,null,null,null,null,null,null,null,null,null,null,null,null,null,null,null,null,null,null,null,null,null,null,null,null,null,null,null,null,null,null,null,null,null,null,null,null,null,null,null,null,null,null,null,null,null,null,null,null,null,null,null,null,null,null,null,null,null,null,null,null,10,10,10,10,10,10,10,null,null,null,null,null,null,null,null,70,null,null,70,0,10500,0,0,10500,10500,"Yes",0,0,0]
[null,467,null,"MOT CREW","Vendor No.04","Mot 2",1490,"2019-03-10","2019-03-16",{"$f":"IF(AND(H485>='A - Contractor Summary'!$C$36,I485<='A - Contractor Summary'!$C$42),\"Yes\",\"No\")","v":"Yes"},{"$f":"VLOOKUP($D485,'C.1 - Rate Sheets'!B:F,2,FALSE)","v":0},{"$f":"VLOOKUP($D485,'C.1 - Rate Sheets'!B:F,3,FALSE)","v":150},{"$f":"VLOOKUP($D485,'C.1 - Rate Sheets'!B:F,4,FALSE)","v":0},{"$f":"VLOOKUP($D485,'C.1 - Rate Sheets'!B:F,5,FALSE)","v":0},null,null,null,null,null,null,null,null,null,null,null,null,null,null,null,null,null,null,null,null,null,null,null,null,null,null,null,null,null,null,null,null,null,null,null,null,null,null,null,null,null,null,null,null,null,null,null,null,null,null,null,null,null,null,null,null,null,null,null,null,null,null,null,null,null,null,null,null,null,null,null,null,null,null,null,null,null,null,null,null,null,null,null,null,null,null,null,null,null,null,null,null,null,null,null,null,null,null,null,null,null,null,null,null,null,null,null,null,null,null,null,null,null,null,null,null,null,null,null,null,null,null,null,null,null,null,null,null,null,null,null,null,null,null,null,null,null,null,null,null,null,null,null,null,null,null,null,null,null,null,null,null,null,null,10,10,10,10,10,10,10,null,null,null,null,null,null,null,null,70,null,null,70,0,10500,0,0,10500,10500,"Yes",0,0,0]
[null,468,null,"MOT CREW","Vendor No.04","Mot 3",1490,"2019-03-14","2019-03-16",{"$f":"IF(AND(H486>='A - Contractor Summary'!$C$36,I486<='A - Contractor Summary'!$C$42),\"Yes\",\"No\")","v":"Yes"},{"$f":"VLOOKUP($D486,'C.1 - Rate Sheets'!B:F,2,FALSE)","v":0},{"$f":"VLOOKUP($D486,'C.1 - Rate Sheets'!B:F,3,FALSE)","v":150},{"$f":"VLOOKUP($D486,'C.1 - Rate Sheets'!B:F,4,FALSE)","v":0},{"$f":"VLOOKUP($D486,'C.1 - Rate Sheets'!B:F,5,FALSE)","v":0},null,null,null,null,null,null,null,null,null,null,null,null,null,null,null,null,null,null,null,null,null,null,null,null,null,null,null,null,null,null,null,null,null,null,null,null,null,null,null,null,null,null,null,null,null,null,null,null,null,null,null,null,null,null,null,null,null,null,null,null,null,null,null,null,null,null,null,null,null,null,null,null,null,null,null,null,null,null,null,null,null,null,null,null,null,null,null,null,null,null,null,null,null,null,null,null,null,null,null,null,null,null,null,null,null,null,null,null,null,null,null,null,null,null,null,null,null,null,null,null,null,null,null,null,null,null,null,null,null,null,null,null,null,null,null,null,null,null,null,null,null,null,null,null,null,null,null,null,null,null,null,null,null,null,null,null,null,null,10,12,11,null,null,null,null,null,null,null,null,33,null,null,33,0,4950,0,0,4950,4950,"Yes",0,0,0]
[null,469,null,"MOT CREW","Vendor No.04","Mot 4",1490,"2019-03-14","2019-03-16",{"$f":"IF(AND(H487>='A - Contractor Summary'!$C$36,I487<='A - Contractor Summary'!$C$42),\"Yes\",\"No\")","v":"Yes"},{"$f":"VLOOKUP($D487,'C.1 - Rate Sheets'!B:F,2,FALSE)","v":0},{"$f":"VLOOKUP($D487,'C.1 - Rate Sheets'!B:F,3,FALSE)","v":150},{"$f":"VLOOKUP($D487,'C.1 - Rate Sheets'!B:F,4,FALSE)","v":0},{"$f":"VLOOKUP($D487,'C.1 - Rate Sheets'!B:F,5,FALSE)","v":0},null,null,null,null,null,null,null,null,null,null,null,null,null,null,null,null,null,null,null,null,null,null,null,null,null,null,null,null,null,null,null,null,null,null,null,null,null,null,null,null,null,null,null,null,null,null,null,null,null,null,null,null,null,null,null,null,null,null,null,null,null,null,null,null,null,null,null,null,null,null,null,null,null,null,null,null,null,null,null,null,null,null,null,null,null,null,null,null,null,null,null,null,null,null,null,null,null,null,null,null,null,null,null,null,null,null,null,null,null,null,null,null,null,null,null,null,null,null,null,null,null,null,null,null,null,null,null,null,null,null,null,null,null,null,null,null,null,null,null,null,null,null,null,null,null,null,null,null,null,null,null,null,null,null,null,null,null,null,12,12,12,null,null,null,null,null,null,null,null,36,null,null,36,0,5400,0,0,5400,5400,"Yes",0,0,0]
[null,470,null,"CLEAN CREW","Vendor No.04","Clean 1",1490,"2019-03-10","2019-03-16",{"$f":"IF(AND(H488>='A - Contractor Summary'!$C$36,I488<='A - Contractor Summary'!$C$42),\"Yes\",\"No\")","v":"Yes"},{"$f":"VLOOKUP($D488,'C.1 - Rate Sheets'!B:F,2,FALSE)","v":0},{"$f":"VLOOKUP($D488,'C.1 - Rate Sheets'!B:F,3,FALSE)","v":170},{"$f":"VLOOKUP($D488,'C.1 - Rate Sheets'!B:F,4,FALSE)","v":0},{"$f":"VLOOKUP($D488,'C.1 - Rate Sheets'!B:F,5,FALSE)","v":0},null,null,null,null,null,null,null,null,null,null,null,null,null,null,null,null,null,null,null,null,null,null,null,null,null,null,null,null,null,null,null,null,null,null,null,null,null,null,null,null,null,null,null,null,null,null,null,null,null,null,null,null,null,null,null,null,null,null,null,null,null,null,null,null,null,null,null,null,null,null,null,null,null,null,null,null,null,null,null,null,null,null,null,null,null,null,null,null,null,null,null,null,null,null,null,null,null,null,null,null,null,null,null,null,null,null,null,null,null,null,null,null,null,null,null,null,null,null,null,null,null,null,null,null,null,null,null,null,null,null,null,null,null,null,null,null,null,null,null,null,null,null,null,null,null,null,null,null,null,null,null,null,null,null,10,10,10,10,10,10,10,null,null,null,null,null,null,null,null,70,null,null,70,0,11900,0,0,11900,11900,"Yes",0,0,0]
[null,471,null,"CLEAN CREW","Vendor No.04","Clean 2",1490,"2019-03-10","2019-03-16",{"$f":"IF(AND(H489>='A - Contractor Summary'!$C$36,I489<='A - Contractor Summary'!$C$42),\"Yes\",\"No\")","v":"Yes"},{"$f":"VLOOKUP($D489,'C.1 - Rate Sheets'!B:F,2,FALSE)","v":0},{"$f":"VLOOKUP($D489,'C.1 - Rate Sheets'!B:F,3,FALSE)","v":170},{"$f":"VLOOKUP($D489,'C.1 - Rate Sheets'!B:F,4,FALSE)","v":0},{"$f":"VLOOKUP($D489,'C.1 - Rate Sheets'!B:F,5,FALSE)","v":0},null,null,null,null,null,null,null,null,null,null,null,null,null,null,null,null,null,null,null,null,null,null,null,null,null,null,null,null,null,null,null,null,null,null,null,null,null,null,null,null,null,null,null,null,null,null,null,null,null,null,null,null,null,null,null,null,null,null,null,null,null,null,null,null,null,null,null,null,null,null,null,null,null,null,null,null,null,null,null,null,null,null,null,null,null,null,null,null,null,null,null,null,null,null,null,null,null,null,null,null,null,null,null,null,null,null,null,null,null,null,null,null,null,null,null,null,null,null,null,null,null,null,null,null,null,null,null,null,null,null,null,null,null,null,null,null,null,null,null,null,null,null,null,null,null,null,null,null,null,null,null,null,null,null,10,10,10,10,10,10,10,null,null,null,null,null,null,null,null,70,null,null,70,0,11900,0,0,11900,11900,"Yes",0,0,0]
[null,472,null,"CLEAN CREW","Vendor No.04","Clean 3",1490,"2019-03-10","2019-03-16",{"$f":"IF(AND(H490>='A - Contractor Summary'!$C$36,I490<='A - Contractor Summary'!$C$42),\"Yes\",\"No\")","v":"Yes"},{"$f":"VLOOKUP($D490,'C.1 - Rate Sheets'!B:F,2,FALSE)","v":0},{"$f":"VLOOKUP($D490,'C.1 - Rate Sheets'!B:F,3,FALSE)","v":170},{"$f":"VLOOKUP($D490,'C.1 - Rate Sheets'!B:F,4,FALSE)","v":0},{"$f":"VLOOKUP($D490,'C.1 - Rate Sheets'!B:F,5,FALSE)","v":0},null,null,null,null,null,null,null,null,null,null,null,null,null,null,null,null,null,null,null,null,null,null,null,null,null,null,null,null,null,null,null,null,null,null,null,null,null,null,null,null,null,null,null,null,null,null,null,null,null,null,null,null,null,null,null,null,null,null,null,null,null,null,null,null,null,null,null,null,null,null,null,null,null,null,null,null,null,null,null,null,null,null,null,null,null,null,null,null,null,null,null,null,null,null,null,null,null,null,null,null,null,null,null,null,null,null,null,null,null,null,null,null,null,null,null,null,null,null,null,null,null,null,null,null,null,null,null,null,null,null,null,null,null,null,null,null,null,null,null,null,null,null,null,null,null,null,null,null,null,null,null,null,null,null,10,10,10,10,10,10,10,null,null,null,null,null,null,null,null,70,null,null,70,0,11900,0,0,11900,11900,"Yes",0,0,0]
[null,473,null,"CLEAN CREW","Vendor No.04","Clean 4",1490,"2019-03-10","2019-03-16",{"$f":"IF(AND(H491>='A - Contractor Summary'!$C$36,I491<='A - Contractor Summary'!$C$42),\"Yes\",\"No\")","v":"Yes"},{"$f":"VLOOKUP($D491,'C.1 - Rate Sheets'!B:F,2,FALSE)","v":0},{"$f":"VLOOKUP($D491,'C.1 - Rate Sheets'!B:F,3,FALSE)","v":170},{"$f":"VLOOKUP($D491,'C.1 - Rate Sheets'!B:F,4,FALSE)","v":0},{"$f":"VLOOKUP($D491,'C.1 - Rate Sheets'!B:F,5,FALSE)","v":0},null,null,null,null,null,null,null,null,null,null,null,null,null,null,null,null,null,null,null,null,null,null,null,null,null,null,null,null,null,null,null,null,null,null,null,null,null,null,null,null,null,null,null,null,null,null,null,null,null,null,null,null,null,null,null,null,null,null,null,null,null,null,null,null,null,null,null,null,null,null,null,null,null,null,null,null,null,null,null,null,null,null,null,null,null,null,null,null,null,null,null,null,null,null,null,null,null,null,null,null,null,null,null,null,null,null,null,null,null,null,null,null,null,null,null,null,null,null,null,null,null,null,null,null,null,null,null,null,null,null,null,null,null,null,null,null,null,null,null,null,null,null,null,null,null,null,null,null,null,null,null,null,null,null,10,10,10,10,10,10,10,null,null,null,null,null,null,null,null,70,null,null,70,0,11900,0,0,11900,11900,"Yes",0,0,0]
[null,474,null,"CLEAN CREW","Vendor No.04","Clean 5",1490,"2019-03-10","2019-03-16",{"$f":"IF(AND(H492>='A - Contractor Summary'!$C$36,I492<='A - Contractor Summary'!$C$42),\"Yes\",\"No\")","v":"Yes"},{"$f":"VLOOKUP($D492,'C.1 - Rate Sheets'!B:F,2,FALSE)","v":0},{"$f":"VLOOKUP($D492,'C.1 - Rate Sheets'!B:F,3,FALSE)","v":170},{"$f":"VLOOKUP($D492,'C.1 - Rate Sheets'!B:F,4,FALSE)","v":0},{"$f":"VLOOKUP($D492,'C.1 - Rate Sheets'!B:F,5,FALSE)","v":0},null,null,null,null,null,null,null,null,null,null,null,null,null,null,null,null,null,null,null,null,null,null,null,null,null,null,null,null,null,null,null,null,null,null,null,null,null,null,null,null,null,null,null,null,null,null,null,null,null,null,null,null,null,null,null,null,null,null,null,null,null,null,null,null,null,null,null,null,null,null,null,null,null,null,null,null,null,null,null,null,null,null,null,null,null,null,null,null,null,null,null,null,null,null,null,null,null,null,null,null,null,null,null,null,null,null,null,null,null,null,null,null,null,null,null,null,null,null,null,null,null,null,null,null,null,null,null,null,null,null,null,null,null,null,null,null,null,null,null,null,null,null,null,null,null,null,null,null,null,null,null,null,null,null,10,10,10,10,10,10,10,null,null,null,null,null,null,null,null,70,null,null,70,0,11900,0,0,11900,11900,"Yes",0,0,0]
[null,475,null,"CLEAN CREW","Vendor No.04","Clean 6",1490,"2019-03-10","2019-03-16",{"$f":"IF(AND(H493>='A - Contractor Summary'!$C$36,I493<='A - Contractor Summary'!$C$42),\"Yes\",\"No\")","v":"Yes"},{"$f":"VLOOKUP($D493,'C.1 - Rate Sheets'!B:F,2,FALSE)","v":0},{"$f":"VLOOKUP($D493,'C.1 - Rate Sheets'!B:F,3,FALSE)","v":170},{"$f":"VLOOKUP($D493,'C.1 - Rate Sheets'!B:F,4,FALSE)","v":0},{"$f":"VLOOKUP($D493,'C.1 - Rate Sheets'!B:F,5,FALSE)","v":0},null,null,null,null,null,null,null,null,null,null,null,null,null,null,null,null,null,null,null,null,null,null,null,null,null,null,null,null,null,null,null,null,null,null,null,null,null,null,null,null,null,null,null,null,null,null,null,null,null,null,null,null,null,null,null,null,null,null,null,null,null,null,null,null,null,null,null,null,null,null,null,null,null,null,null,null,null,null,null,null,null,null,null,null,null,null,null,null,null,null,null,null,null,null,null,null,null,null,null,null,null,null,null,null,null,null,null,null,null,null,null,null,null,null,null,null,null,null,null,null,null,null,null,null,null,null,null,null,null,null,null,null,null,null,null,null,null,null,null,null,null,null,null,null,null,null,null,null,null,null,null,null,null,null,10,10,10,10,10,10,10,null,null,null,null,null,null,null,null,70,null,null,70,0,11900,0,0,11900,11900,"Yes",0,0,0]
[null,476,null,"MOT CREW","Vendor No.04","Mot 1",1498,"2019-03-17","2019-03-23",{"$f":"IF(AND(H494>='A - Contractor Summary'!$C$36,I494<='A - Contractor Summary'!$C$42),\"Yes\",\"No\")","v":"Yes"},{"$f":"VLOOKUP($D494,'C.1 - Rate Sheets'!B:F,2,FALSE)","v":0},{"$f":"VLOOKUP($D494,'C.1 - Rate Sheets'!B:F,3,FALSE)","v":150},{"$f":"VLOOKUP($D494,'C.1 - Rate Sheets'!B:F,4,FALSE)","v":0},{"$f":"VLOOKUP($D494,'C.1 - Rate Sheets'!B:F,5,FALSE)","v":0},null,null,null,null,null,null,null,null,null,null,null,null,null,null,null,null,null,null,null,null,null,null,null,null,null,null,null,null,null,null,null,null,null,null,null,null,null,null,null,null,null,null,null,null,null,null,null,null,null,null,null,null,null,null,null,null,null,null,null,null,null,null,null,null,null,null,null,null,null,null,null,null,null,null,null,null,null,null,null,null,null,null,null,null,null,null,null,null,null,null,null,null,null,null,null,null,null,null,null,null,null,null,null,null,null,null,null,null,null,null,null,null,null,null,null,null,null,null,null,null,null,null,null,null,null,null,null,null,null,null,null,null,null,null,null,null,null,null,null,null,null,null,null,null,null,null,null,null,null,null,null,null,null,null,null,null,null,null,null,null,null,10,10,10,10,10,10,10,null,70,null,null,70,0,10500,0,0,10500,10500,"Yes",0,0,0]
[null,477,null,"MOT CREW","Vendor No.04","Mot 2",1498,"2019-03-19","2019-03-23",{"$f":"IF(AND(H495>='A - Contractor Summary'!$C$36,I495<='A - Contractor Summary'!$C$42),\"Yes\",\"No\")","v":"Yes"},{"$f":"VLOOKUP($D495,'C.1 - Rate Sheets'!B:F,2,FALSE)","v":0},{"$f":"VLOOKUP($D495,'C.1 - Rate Sheets'!B:F,3,FALSE)","v":150},{"$f":"VLOOKUP($D495,'C.1 - Rate Sheets'!B:F,4,FALSE)","v":0},{"$f":"VLOOKUP($D495,'C.1 - Rate Sheets'!B:F,5,FALSE)","v":0},null,null,null,null,null,null,null,null,null,null,null,null,null,null,null,null,null,null,null,null,null,null,null,null,null,null,null,null,null,null,null,null,null,null,null,null,null,null,null,null,null,null,null,null,null,null,null,null,null,null,null,null,null,null,null,null,null,null,null,null,null,null,null,null,null,null,null,null,null,null,null,null,null,null,null,null,null,null,null,null,null,null,null,null,null,null,null,null,null,null,null,null,null,null,null,null,null,null,null,null,null,null,null,null,null,null,null,null,null,null,null,null,null,null,null,null,null,null,null,null,null,null,null,null,null,null,null,null,null,null,null,null,null,null,null,null,null,null,null,null,null,null,null,null,null,null,null,null,null,null,null,null,null,null,null,null,null,null,null,null,null,null,null,10,10,11,10,10,null,51,null,null,51,0,7650,0,0,7650,7650,"Yes",0,0,0]
[null,478,null,"MOT CREW","Vendor No.04","Mot 3",1498,"2019-03-19","2019-03-19",{"$f":"IF(AND(H496>='A - Contractor Summary'!$C$36,I496<='A - Contractor Summary'!$C$42),\"Yes\",\"No\")","v":"Yes"},{"$f":"VLOOKUP($D496,'C.1 - Rate Sheets'!B:F,2,FALSE)","v":0},{"$f":"VLOOKUP($D496,'C.1 - Rate Sheets'!B:F,3,FALSE)","v":150},{"$f":"VLOOKUP($D496,'C.1 - Rate Sheets'!B:F,4,FALSE)","v":0},{"$f":"VLOOKUP($D496,'C.1 - Rate Sheets'!B:F,5,FALSE)","v":0},null,null,null,null,null,null,null,null,null,null,null,null,null,null,null,null,null,null,null,null,null,null,null,null,null,null,null,null,null,null,null,null,null,null,null,null,null,null,null,null,null,null,null,null,null,null,null,null,null,null,null,null,null,null,null,null,null,null,null,null,null,null,null,null,null,null,null,null,null,null,null,null,null,null,null,null,null,null,null,null,null,null,null,null,null,null,null,null,null,null,null,null,null,null,null,null,null,null,null,null,null,null,null,null,null,null,null,null,null,null,null,null,null,null,null,null,null,null,null,null,null,null,null,null,null,null,null,null,null,null,null,null,null,null,null,null,null,null,null,null,null,null,null,null,null,null,null,null,null,null,null,null,null,null,null,null,null,null,null,null,null,null,null,10,null,null,null,null,null,10,null,null,10,0,1500,0,0,1500,1500,"Yes",0,0,0]
[null,479,null,"MOT CREW","Vendor No.04","Mot 4",1498,"2019-03-17","2019-03-20",{"$f":"IF(AND(H497>='A - Contractor Summary'!$C$36,I497<='A - Contractor Summary'!$C$42),\"Yes\",\"No\")","v":"Yes"},{"$f":"VLOOKUP($D497,'C.1 - Rate Sheets'!B:F,2,FALSE)","v":0},{"$f":"VLOOKUP($D497,'C.1 - Rate Sheets'!B:F,3,FALSE)","v":150},{"$f":"VLOOKUP($D497,'C.1 - Rate Sheets'!B:F,4,FALSE)","v":0},{"$f":"VLOOKUP($D497,'C.1 - Rate Sheets'!B:F,5,FALSE)","v":0},null,null,null,null,null,null,null,null,null,null,null,null,null,null,null,null,null,null,null,null,null,null,null,null,null,null,null,null,null,null,null,null,null,null,null,null,null,null,null,null,null,null,null,null,null,null,null,null,null,null,null,null,null,null,null,null,null,null,null,null,null,null,null,null,null,null,null,null,null,null,null,null,null,null,null,null,null,null,null,null,null,null,null,null,null,null,null,null,null,null,null,null,null,null,null,null,null,null,null,null,null,null,null,null,null,null,null,null,null,null,null,null,null,null,null,null,null,null,null,null,null,null,null,null,null,null,null,null,null,null,null,null,null,null,null,null,null,null,null,null,null,null,null,null,null,null,null,null,null,null,null,null,null,null,null,null,null,null,null,null,null,11.5,11.5,11,11,null,null,null,null,45,null,null,45,0,6750,0,0,6750,6750,"Yes",0,0,0]
[null,480,null,"MOT CREW","Vendor No.04","Mot 5",1498,"2019-03-19","2019-03-20",{"$f":"IF(AND(H498>='A - Contractor Summary'!$C$36,I498<='A - Contractor Summary'!$C$42),\"Yes\",\"No\")","v":"Yes"},{"$f":"VLOOKUP($D498,'C.1 - Rate Sheets'!B:F,2,FALSE)","v":0},{"$f":"VLOOKUP($D498,'C.1 - Rate Sheets'!B:F,3,FALSE)","v":150},{"$f":"VLOOKUP($D498,'C.1 - Rate Sheets'!B:F,4,FALSE)","v":0},{"$f":"VLOOKUP($D498,'C.1 - Rate Sheets'!B:F,5,FALSE)","v":0},null,null,null,null,null,null,null,null,null,null,null,null,null,null,null,null,null,null,null,null,null,null,null,null,null,null,null,null,null,null,null,null,null,null,null,null,null,null,null,null,null,null,null,null,null,null,null,null,null,null,null,null,null,null,null,null,null,null,null,null,null,null,null,null,null,null,null,null,null,null,null,null,null,null,null,null,null,null,null,null,null,null,null,null,null,null,null,null,null,null,null,null,null,null,null,null,null,null,null,null,null,null,null,null,null,null,null,null,null,null,null,null,null,null,null,null,null,null,null,null,null,null,null,null,null,null,null,null,null,null,null,null,null,null,null,null,null,null,null,null,null,null,null,null,null,null,null,null,null,null,null,null,null,null,null,null,null,null,null,null,null,null,null,11,11,null,null,null,null,22,null,null,22,0,3300,0,0,3300,3300,"Yes",0,0,0]
[null,481,null,"MOT CREW","Vendor No.04","Mot 6",1498,"2019-03-17","2019-03-20",{"$f":"IF(AND(H499>='A - Contractor Summary'!$C$36,I499<='A - Contractor Summary'!$C$42),\"Yes\",\"No\")","v":"Yes"},{"$f":"VLOOKUP($D499,'C.1 - Rate Sheets'!B:F,2,FALSE)","v":0},{"$f":"VLOOKUP($D499,'C.1 - Rate Sheets'!B:F,3,FALSE)","v":150},{"$f":"VLOOKUP($D499,'C.1 - Rate Sheets'!B:F,4,FALSE)","v":0},{"$f":"VLOOKUP($D499,'C.1 - Rate Sheets'!B:F,5,FALSE)","v":0},null,null,null,null,null,null,null,null,null,null,null,null,null,null,null,null,null,null,null,null,null,null,null,null,null,null,null,null,null,null,null,null,null,null,null,null,null,null,null,null,null,null,null,null,null,null,null,null,null,null,null,null,null,null,null,null,null,null,null,null,null,null,null,null,null,null,null,null,null,null,null,null,null,null,null,null,null,null,null,null,null,null,null,null,null,null,null,null,null,null,null,null,null,null,null,null,null,null,null,null,null,null,null,null,null,null,null,null,null,null,null,null,null,null,null,null,null,null,null,null,null,null,null,null,null,null,null,null,null,null,null,null,null,null,null,null,null,null,null,null,null,null,null,null,null,null,null,null,null,null,null,null,null,null,null,null,null,null,null,null,null,10,12,10,10,null,null,null,null,42,null,null,42,0,6300,0,0,6300,6300,"Yes",0,0,0]
[null,482,null,"CLEAN CREW","Vendor No.04","Clean 1",1498,"2019-03-17","2019-03-23",{"$f":"IF(AND(H500>='A - Contractor Summary'!$C$36,I500<='A - Contractor Summary'!$C$42),\"Yes\",\"No\")","v":"Yes"},{"$f":"VLOOKUP($D500,'C.1 - Rate Sheets'!B:F,2,FALSE)","v":0},{"$f":"VLOOKUP($D500,'C.1 - Rate Sheets'!B:F,3,FALSE)","v":170},{"$f":"VLOOKUP($D500,'C.1 - Rate Sheets'!B:F,4,FALSE)","v":0},{"$f":"VLOOKUP($D500,'C.1 - Rate Sheets'!B:F,5,FALSE)","v":0},null,null,null,null,null,null,null,null,null,null,null,null,null,null,null,null,null,null,null,null,null,null,null,null,null,null,null,null,null,null,null,null,null,null,null,null,null,null,null,null,null,null,null,null,null,null,null,null,null,null,null,null,null,null,null,null,null,null,null,null,null,null,null,null,null,null,null,null,null,null,null,null,null,null,null,null,null,null,null,null,null,null,null,null,null,null,null,null,null,null,null,null,null,null,null,null,null,null,null,null,null,null,null,null,null,null,null,null,null,null,null,null,null,null,null,null,null,null,null,null,null,null,null,null,null,null,null,null,null,null,null,null,null,null,null,null,null,null,null,null,null,null,null,null,null,null,null,null,null,null,null,null,null,null,null,null,null,null,null,null,null,10,10,10,10,10,10,10,null,70,null,null,70,0,11900,0,0,11900,11900,"Yes",0,0,0]
[null,483,null,"CLEAN CREW","Vendor No.04","Clean 2",1498,"2019-03-17","2019-03-23",{"$f":"IF(AND(H501>='A - Contractor Summary'!$C$36,I501<='A - Contractor Summary'!$C$42),\"Yes\",\"No\")","v":"Yes"},{"$f":"VLOOKUP($D501,'C.1 - Rate Sheets'!B:F,2,FALSE)","v":0},{"$f":"VLOOKUP($D501,'C.1 - Rate Sheets'!B:F,3,FALSE)","v":170},{"$f":"VLOOKUP($D501,'C.1 - Rate Sheets'!B:F,4,FALSE)","v":0},{"$f":"VLOOKUP($D501,'C.1 - Rate Sheets'!B:F,5,FALSE)","v":0},null,null,null,null,null,null,null,null,null,null,null,null,null,null,null,null,null,null,null,null,null,null,null,null,null,null,null,null,null,null,null,null,null,null,null,null,null,null,null,null,null,null,null,null,null,null,null,null,null,null,null,null,null,null,null,null,null,null,null,null,null,null,null,null,null,null,null,null,null,null,null,null,null,null,null,null,null,null,null,null,null,null,null,null,null,null,null,null,null,null,null,null,null,null,null,null,null,null,null,null,null,null,null,null,null,null,null,null,null,null,null,null,null,null,null,null,null,null,null,null,null,null,null,null,null,null,null,null,null,null,null,null,null,null,null,null,null,null,null,null,null,null,null,null,null,null,null,null,null,null,null,null,null,null,null,null,null,null,null,null,null,10,10,10,10,10,10,10,null,70,null,null,70,0,11900,0,0,11900,11900,"Yes",0,0,0]
[null,484,null,"CLEAN CREW","Vendor No.04","Clean 3",1498,"2019-03-17","2019-03-23",{"$f":"IF(AND(H502>='A - Contractor Summary'!$C$36,I502<='A - Contractor Summary'!$C$42),\"Yes\",\"No\")","v":"Yes"},{"$f":"VLOOKUP($D502,'C.1 - Rate Sheets'!B:F,2,FALSE)","v":0},{"$f":"VLOOKUP($D502,'C.1 - Rate Sheets'!B:F,3,FALSE)","v":170},{"$f":"VLOOKUP($D502,'C.1 - Rate Sheets'!B:F,4,FALSE)","v":0},{"$f":"VLOOKUP($D502,'C.1 - Rate Sheets'!B:F,5,FALSE)","v":0},null,null,null,null,null,null,null,null,null,null,null,null,null,null,null,null,null,null,null,null,null,null,null,null,null,null,null,null,null,null,null,null,null,null,null,null,null,null,null,null,null,null,null,null,null,null,null,null,null,null,null,null,null,null,null,null,null,null,null,null,null,null,null,null,null,null,null,null,null,null,null,null,null,null,null,null,null,null,null,null,null,null,null,null,null,null,null,null,null,null,null,null,null,null,null,null,null,null,null,null,null,null,null,null,null,null,null,null,null,null,null,null,null,null,null,null,null,null,null,null,null,null,null,null,null,null,null,null,null,null,null,null,null,null,null,null,null,null,null,null,null,null,null,null,null,null,null,null,null,null,null,null,null,null,null,null,null,null,null,null,null,10,10,10,10,10,10,10,null,70,null,null,70,0,11900,0,0,11900,11900,"Yes",0,0,0]
[null,485,null,"CLEAN CREW","Vendor No.04","Clean 4",1498,"2019-03-20","2019-03-23",{"$f":"IF(AND(H503>='A - Contractor Summary'!$C$36,I503<='A - Contractor Summary'!$C$42),\"Yes\",\"No\")","v":"Yes"},{"$f":"VLOOKUP($D503,'C.1 - Rate Sheets'!B:F,2,FALSE)","v":0},{"$f":"VLOOKUP($D503,'C.1 - Rate Sheets'!B:F,3,FALSE)","v":170},{"$f":"VLOOKUP($D503,'C.1 - Rate Sheets'!B:F,4,FALSE)","v":0},{"$f":"VLOOKUP($D503,'C.1 - Rate Sheets'!B:F,5,FALSE)","v":0},null,null,null,null,null,null,null,null,null,null,null,null,null,null,null,null,null,null,null,null,null,null,null,null,null,null,null,null,null,null,null,null,null,null,null,null,null,null,null,null,null,null,null,null,null,null,null,null,null,null,null,null,null,null,null,null,null,null,null,null,null,null,null,null,null,null,null,null,null,null,null,null,null,null,null,null,null,null,null,null,null,null,null,null,null,null,null,null,null,null,null,null,null,null,null,null,null,null,null,null,null,null,null,null,null,null,null,null,null,null,null,null,null,null,null,null,null,null,null,null,null,null,null,null,null,null,null,null,null,null,null,null,null,null,null,null,null,null,null,null,null,null,null,null,null,null,null,null,null,null,null,null,null,null,null,null,null,null,null,null,null,null,null,null,10,10,null,10,null,30,null,null,30,0,5100,0,0,5100,5100,"Yes",0,0,0]
[null,486,null,"CLEAN CREW","Vendor No.04","Clean 5",1498,"2019-03-23","2019-03-23",{"$f":"IF(AND(H504>='A - Contractor Summary'!$C$36,I504<='A - Contractor Summary'!$C$42),\"Yes\",\"No\")","v":"Yes"},{"$f":"VLOOKUP($D504,'C.1 - Rate Sheets'!B:F,2,FALSE)","v":0},{"$f":"VLOOKUP($D504,'C.1 - Rate Sheets'!B:F,3,FALSE)","v":170},{"$f":"VLOOKUP($D504,'C.1 - Rate Sheets'!B:F,4,FALSE)","v":0},{"$f":"VLOOKUP($D504,'C.1 - Rate Sheets'!B:F,5,FALSE)","v":0},null,null,null,null,null,null,null,null,null,null,null,null,null,null,null,null,null,null,null,null,null,null,null,null,null,null,null,null,null,null,null,null,null,null,null,null,null,null,null,null,null,null,null,null,null,null,null,null,null,null,null,null,null,null,null,null,null,null,null,null,null,null,null,null,null,null,null,null,null,null,null,null,null,null,null,null,null,null,null,null,null,null,null,null,null,null,null,null,null,null,null,null,null,null,null,null,null,null,null,null,null,null,null,null,null,null,null,null,null,null,null,null,null,null,null,null,null,null,null,null,null,null,null,null,null,null,null,null,null,null,null,null,null,null,null,null,null,null,null,null,null,null,null,null,null,null,null,null,null,null,null,null,null,null,null,null,null,null,null,null,null,null,null,null,null,null,null,10,null,10,null,null,10,0,1700,0,0,1700,1700,"Yes",0,0,0]
[null,null,null,null,null,null,null,{"$error":"#N/A"},{"$error":"#N/A"},{"$f":"IF(AND(H505>='A - Contractor Summary'!$C$36,I505<='A - Contractor Summary'!$C$42),\"Yes\",\"No\")","v":{"$error":"#N/A"}},{"$f":"VLOOKUP($D505,'C.1 - Rate Sheets'!B:F,2,FALSE)","v":{"$error":"#N/A"}},{"$f":"VLOOKUP($D505,'C.1 - Rate Sheets'!B:F,3,FALSE)","v":{"$error":"#N/A"}},{"$f":"VLOOKUP($D505,'C.1 - Rate Sheets'!B:F,4,FALSE)","v":{"$error":"#N/A"}},{"$f":"VLOOKUP($D505,'C.1 - Rate Sheets'!B:F,5,FALSE)","v":{"$error":"#N/A"}},null,null,null,null,null,null,null,null,null,null,null,null,null,null,null,null,null,null,null,null,null,null,null,null,null,null,null,null,null,null,null,null,null,null,null,null,null,null,null,null,null,null,null,null,null,null,null,null,null,null,null,null,null,null,null,null,null,null,null,null,null,null,null,null,null,null,null,null,null,null,null,null,null,null,null,null,null,null,null,null,null,null,null,null,null,null,null,null,null,null,null,null,null,null,null,null,null,null,null,null,null,null,null,null,null,null,null,null,null,null,null,null,null,null,null,null,null,null,null,null,null,null,null,null,null,null,null,null,null,null,null,null,null,null,null,null,null,null,null,null,null,null,null,null,null,null,null,null,null,null,null,null,null,null,null,null,null,null,null,null,null,null,null,null,null,null,null,null,null,0,null,null,0,null,null,null,null,0,0,"Yes",0,0,0]
[null,null,null,null,null,null,null,null,null,null,null,null,null," ",{"$f":"SUM(O19:O505)","v":0},0,0,0,416,416,416,672,{"$f":"SUM(W19:W505)","v":672},592,736,720,864,992,1312,{"$f":"SUM(AD19:AD505)","v":1312},{"$f":"SUM(AE19:AE505)","v":1424},{"$f":"SUM(AF19:AF505)","v":1424},{"$f":"SUM(AG19:AG505)","v":1424},{"$f":"SUM(AH19:AH505)","v":1424},{"$f":"SUM(AI19:AI505)","v":1424},{"$f":"SUM(AJ19:AJ505)","v":1424},{"$f":"SUM(AK19:AK505)","v":1424},{"$f":"SUM(AL19:AL505)","v":1424},{"$f":"SUM(AM19:AM505)","v":1424},{"$f":"SUM(AN19:AN505)","v":384},{"$f":"SUM(AO19:AO505)","v":336},{"$f":"SUM(AP19:AP505)","v":336},{"$f":"SUM(AQ19:AQ505)","v":352},{"$f":"SUM(AR19:AR505)","v":384},{"$f":"SUM(AS19:AS505)","v":528},{"$f":"SUM(AT19:AT505)","v":288},{"$f":"SUM(AU19:AU505)","v":160},{"$f":"SUM(AV19:AV505)","v":32},{"$f":"SUM(AW19:AW505)","v":64},{"$f":"SUM(AX19:AX505)","v":172},{"$f":"SUM(AY19:AY505)","v":140},{"$f":"SUM(AZ19:AZ505)","v":140},{"$f":"SUM(BA19:BA505)","v":124},{"$f":"SUM(BB19:BB505)","v":134},{"$f":"SUM(BC19:BC505)","v":98},{"$f":"SUM(BD19:BD505)","v":30},{"$f":"SUM(BE19:BE505)","v":50},{"$f":"SUM(BF19:BF505)","v":50},{"$f":"SUM(BG19:BG505)","v":50},{"$f":"SUM(BH19:BH505)","v":50},{"$f":"SUM(BI19:BI505)","v":0},{"$f":"SUM(BJ19:BJ505)","v":50},{"$f":"SUM(BK19:BK505)","v":50},{"$f":"SUM(BL19:BL505)","v":60},{"$f":"SUM(BM19:BM505)","v":60},{"$f":"SUM(BN19:BN505)","v":60},{"$f":"SUM(BO19:BO505)","v":60},{"$f":"SUM(BP19:BP505)","v":60},{"$f":"SUM(BQ19:BQ505)","v":60},{"$f":"SUM(BR19:BR505)","v":60},{"$f":"SUM(BS19:BS505)","v":60},{"$f":"SUM(BT19:BT505)","v":60},{"$f":"SUM(BU19:BU505)","v":60},{"$f":"SUM(BV19:BV505)","v":60},{"$f":"SUM(BW19:BW505)","v":60},{"$f":"SUM(BX19:BX505)","v":60},{"$f":"SUM(BY19:BY505)","v":60},{"$f":"SUM(BZ19:BZ505)","v":40},{"$f":"SUM(CA19:CA505)","v":50},{"$f":"SUM(CB19:CB505)","v":70},{"$f":"SUM(CC19:CC505)","v":70},{"$f":"SUM(CD19:CD505)","v":70},{"$f":"SUM(CE19:CE505)","v":70},{"$f":"SUM(CF19:CF505)","v":60},{"$f":"SUM(CG19:CG505)","v":50},{"$f":"SUM(CH19:CH505)","v":80},{"$f":"SUM(CI19:CI505)","v":70},{"$f":"SUM(CJ19:CJ505)","v":70},{"$f":"SUM(CK19:CK505)","v":60},{"$f":"SUM(CL19:CL505)","v":60},{"$f":"SUM(CM19:CM505)","v":60},{"$f":"SUM(CN19:CN505)","v":50},{"$f":"SUM(CO19:CO505)","v":0},{"$f":"SUM(CP19:CP505)","v":0},{"$f":"SUM(CQ19:CQ505)","v":70},{"$f":"SUM(CR19:CR505)","v":50},{"$f":"SUM(CS19:CS505)","v":50},{"$f":"SUM(CT19:CT505)","v":30},{"$f":"SUM(CU19:CU505)","v":60},{"$f":"SUM(CV19:CV505)","v":40},{"$f":"SUM(CW19:CW505)","v":60},{"$f":"SUM(CX19:CX505)","v":80},{"$f":"SUM(CY19:CY505)","v":60},{"$f":"SUM(CZ19:CZ505)","v":60},{"$f":"SUM(DA19:DA505)","v":40},{"$f":"SUM(DB19:DB505)","v":70},{"$f":"SUM(DC19:DC505)","v":70},{"$f":"SUM(DD19:DD505)","v":70},{"$f":"SUM(DE19:DE505)","v":70},{"$f":"SUM(DF19:DF505)","v":70},{"$f":"SUM(DG19:DG505)","v":70},{"$f":"SUM(DH19:DH505)","v":70},{"$f":"SUM(DI19:DI505)","v":70},{"$f":"SUM(DJ19:DJ505)","v":70},{"$f":"SUM(DK19:DK505)","v":70},{"$f":"SUM(DL19:DL505)","v":70},{"$f":"SUM(DM19:DM505)","v":70},{"$f":"SUM(DN19:DN505)","v":82},{"$f":"SUM(DO19:DO505)","v":81},{"$f":"SUM(DP19:DP505)","v":101},{"$f":"SUM(DQ19:DQ505)","v":101},{"$f":"SUM(DR19:DR505)","v":101},{"$f":"SUM(DS19:DS505)","v":110},{"$f":"SUM(DT19:DT505)","v":110},{"$f":"SUM(DU19:DU505)","v":90},{"$f":"SUM(DV19:DV505)","v":90},{"$f":"SUM(DW19:DW505)","v":90},{"$f":"SUM(DX19:DX505)","v":90},{"$f":"SUM(DY19:DY505)","v":90},{"$f":"SUM(DZ19:DZ505)","v":80},{"$f":"SUM(EA19:EA505)","v":80},{"$f":"SUM(EB19:EB505)","v":80},{"$f":"SUM(EC19:EC505)","v":101},{"$f":"SUM(ED19:ED505)","v":101},{"$f":"SUM(EE19:EE505)","v":101},{"$f":"SUM(EF19:EF505)","v":101},{"$f":"SUM(EG19:EG505)","v":101},{"$f":"SUM(EH19:EH505)","v":100},{"$f":"SUM(EI19:EI505)","v":80},{"$f":"SUM(EJ19:EJ505)","v":80},{"$f":"SUM(EK19:EK505)","v":70},{"$f":"SUM(EL19:EL505)","v":80},{"$f":"SUM(EM19:EM505)","v":80},{"$f":"SUM(EN19:EN505)","v":70},{"$f":"SUM(EO19:EO505)","v":100},{"$f":"SUM(EP19:EP505)","v":90},{"$f":"SUM(EQ19:EQ505)","v":90},{"$f":"SUM(ER19:ER505)","v":120},{"$f":"SUM(ES19:ES505)","v":120},{"$f":"SUM(ET19:ET505)","v":120},{"$f":"SUM(EU19:EU505)","v":110},{"$f":"SUM(EV19:EV505)","v":110},{"$f":"SUM(EW19:EW505)","v":100},{"$f":"SUM(EX19:EX505)","v":100},{"$f":"SUM(EY19:EY505)","v":80},{"$f":"SUM(EZ19:EZ505)","v":70},{"$f":"SUM(FA19:FA505)","v":70},{"$f":"SUM(FB19:FB505)","v":70},{"$f":"SUM(FC19:FC505)","v":82.5},{"$f":"SUM(FD19:FD505)","v":78},{"$f":"SUM(FE19:FE505)","v":90.5},{"$f":"SUM(FF19:FF505)","v":110},{"$f":"SUM(FG19:FG505)","v":110},{"$f":"SUM(FH19:FH505)","v":110},{"$f":"SUM(FI19:FI505)","v":110},{"$f":"SUM(FJ19:FJ505)","v":105},{"$f":"SUM(FK19:FK505)","v":90},{"$f":"SUM(FL19:FL505)","v":90},{"$f":"SUM(FM19:FM505)","v":80},{"$f":"SUM(FN19:FN505)","v":80},{"$f":"SUM(FO19:FO505)","v":80},{"$f":"SUM(FP19:FP505)","v":80},{"$f":"SUM(FQ19:FQ505)","v":102},{"$f":"SUM(FR19:FR505)","v":104},{"$f":"SUM(FS19:FS505)","v":103},{"$f":"SUM(FT19:FT505)","v":61.5},{"$f":"SUM(FU19:FU505)","v":63.5},{"$f":"SUM(FV19:FV505)","v":92},{"$f":"SUM(FW19:FW505)","v":92},{"$f":"SUM(FX19:FX505)","v":61},{"$f":"SUM(FY19:FY505)","v":50},{"$f":"SUM(FZ19:FZ505)","v":70},null,{"$f":"SUM(GB19:GB505)","v":35034},{"$f":"SUM(GC19:GC505)","v":0},null,{"$f":"SUM(GA506:GD506)","v":35034},{"$f":"SUM(GF19:GF505)","v":0},{"$f":"SUM(GG19:GG505)","v":6005484},{"$f":"SUM(GH19:GH505)","v":0},{"$f":"SUM(GI19:GI505)","v":0},{"$f":"IFERROR(SUM(GJ19:GJ505),0)","v":6005484},{"$f":"GJ506-GM506","v":6005484},null,{"$f":"SUM(GM19:GM505)","v":0},{"$f":"SUM(GN19:GN505)","v":0},{"$f":"SUM(GO19:GO505)","v":0},{"$f":"GM506-GN506-GO506","v":0},"check (b)"]
[null,null,null,null,null,null,null,null,null,null,null,null,null," ","Total # of Crew",null,null,null,null,null,{"$f":"COUNTIF(U19:U505,\">0\")","v":26},"Total # of Crew",null,null,null,null,null,{"$f":"COUNTIF(AB19:AB505,\">0\")","v":62},"Total # of Crew",null,null,null,null,null,{"$f":"COUNTIF(AI19:AI505,\">0\")","v":89},"Total # of Crew",null,null,null,null,null,{"$f":"COUNTIF(AP19:AP505,\">0\")","v":21},"Total # of Crew",null,null,null,null,null,{"$f":"COUNTIF(AW19:AW505,\">0\")","v":4},"Total # of Crew",null,null,null,null,null,{"$f":"COUNTIF(BD19:BD505,\">0\")","v":3},"Total # of Crew",null,null,null,null,null,{"$f":"COUNTIF(BK19:BK505,\">0\")","v":5},"Total # of Crew",null,null,null,null,null,{"$f":"COUNTIF(BR19:BR505,\">0\")","v":6},"Total # of Crew",null,null,null,null,null,{"$f":"COUNTIF(BY19:BY505,\">0\")","v":6},"Total # of Crew",null,null,null,null,null,{"$f":"COUNTIF(CF19:CF505,\">0\")","v":6},"Total # of Crew",null,null,null,null,null,{"$f":"COUNTIF(CM19:CM505,\">0\")","v":6},"Total # of Crew",null,null,null,null,null,{"$f":"COUNTIF(CT19:CT505,\">0\")","v":3},"Total # of Crew",null,null,null,null,null,{"$f":"COUNTIF(DA19:DA505,\">0\")","v":4},"Total # of Crew",null,null,null,null,null,{"$f":"COUNTIF(DH19:DH505,\">0\")","v":7},"Total # of Crew",null,null,null,null,null,{"$f":"COUNTIF(DO19:DO505,\">0\")","v":8},"Total # of Crew",null,null,null,null,null,{"$f":"COUNTIF(DV19:DV505,\">0\")","v":9},"Total # of Crew",null,null,null,null,null,{"$f":"COUNTIF(EC19:EC505,\">0\")","v":10},"Total # of Crew",null,null,null,null,null,{"$f":"COUNTIF(EJ19:EJ505,\">0\")","v":8},"Total # of Crew",null,null,null,null,null,{"$f":"COUNTIF(EQ19:EQ505,\">0\")","v":9},"Total # of Crew",null,null,null,null,null,{"$f":"COUNTIF(EX19:EX505,\">0\")","v":10},"Total # of Crew",null,null,null,null,null,{"$f":"COUNTIF(FE19:FE505,\">0\")","v":9},"Total # of Crew",null,null,null,null,null,{"$f":"COUNTIF(FL19:FL505,\">0\")","v":9},"Total # of Crew",null,null,null,null,null,{"$f":"COUNTIF(FS19:FS505,\">0\")","v":10},"Total # of Crew",null,null,null,null,null,{"$f":"COUNTIF(FZ19:FZ505,\">0\")","v":7},"# of time charges",null,null,null,null,null,null,null,null,null," "]
[]
[]
[]
[]
[]
[]
[]
[null,"Tickmark Explanation:"]
[]
[null,1]
[null,2]
[null,3]

{"sheet":"C.3 - Asset by Company","index":6,"n_rows":1,"n_cols":3,"rows_kept":1,"cut":false,"hidden":false,"merged":[]}
["Asset Tag","Position","Name"]

{"sheet":"C.4 - Timesheets - Equipment","index":7,"n_rows":39,"n_cols":33,"rows_kept":39,"cut":false,"hidden":false,"merged":[[1,1,1,31],[14,29,16,29],[14,30,16,30],[14,31,16,31],[14,28,16,28],[14,26,16,26],[3,2,8,9],[14,25,16,25],[34,1,34,5],[14,10,16,10],[14,1,16,1],[14,2,16,2],[14,4,16,4],[14,5,16,5],[14,6,16,6],[14,9,16,9],[14,7,16,7],[14,8,16,8],[14,3,16,3]]}
[]
[null,"Equipment Charges - Time Card"]
[]
[null,"Test Plan:","Obtain the time cards.  (A) Populate the equipment names and types (if provided). Find additional information regarding individual equipment charge from related invoice. (B) Enter hours worked from time card(s).   (C) Confirm that the dates per the time cards fall between dates provided per 'A - Contractor Summary' tab. (D) Identify any equipment charges to be reviewed.  (E) For charges which required further review, document review (include why it was determined to be allowed/disallowed via a tickmark)."]
[]
[]
[]
[]
[]
[null,"Rx","Recalculated."]
[null,"a","Provided from tab 'C.1 - Rate Sheets'."]
[null,"b","Check figure should equal $0.  Cell will appear yellow if discrepancies are noted."]
[]
[null,null,"A ",null,null,null,null,"Rx",null,"C","a","B",null,null,null,null,null,null,"B",null,null,null,null,null,null,null,null,null,"D","E"]
[null,"#","Equipment Name","Equipment ID","Company","Crew#","Invoice","Start Date","End Date","Dates Worked Reasonable?","Rates","2018-11-17",null,null,null,null,null,null,null,null,null,null,null,null,null,"Total Hours","Total Equipment","Allowable Charges","To Be Reviewed","Reviewed - Allowable Charge","Reviewed - Unallowable Charge","Tickmarks"]
[null,null,null,null,null,null,null,null,null,null,null,"Sunday","Monday","Tuesday","Wednesday","Thursday","Friday","Saturday","Sunday","Monday","Tuesday","Wednesday","Thursday","Friday","Saturday"]
[null,null,null,null,null,null,null,null,null,null,null,"Hours","Hours","Hours","Hours","Hours","Hours","Hours","Hours","Hours","Hours","Hours","Hours","Hours","Hours"]
[null,1,null,null,null,null,null,null,null,{"$f":"IF(AND(H18>='A - Contractor Summary'!$C$36,I18<='A - Contractor Summary'!$C$42),\"Yes\",\"No\")","v":"No"},{"$f":"VLOOKUP(C18,'C.1 - Rate Sheets'!$H$15:$I$46,2,FALSE)","v":{"$error":"#N/A"}},null,null,null,null,null,null,null,null,null,null,null,null,null,null,{"$f":"SUM(L18:Y18)","v":0},{"$f":"Z18*K18","v":{"$error":"#N/A"}},{"$f":"AA18-AC18","v":{"$error":"#N/A"}},0,0,0]
[null,2,null,null,null,null,null,null,null,{"$f":"IF(AND(H19>='A - Contractor Summary'!$C$36,I19<='A - Contractor Summary'!$C$42),\"Yes\",\"No\")","v":"No"},{"$f":"VLOOKUP(C19,'C.1 - Rate Sheets'!$H$15:$I$46,2,FALSE)","v":{"$error":"#N/A"}},null,null,null,null,null,null,null,null,null,null,null,null,null,null,0,{"$error":"#N/A"},{"$f":"AA19-AC19","v":{"$error":"#N/A"}},0,0,0]
[null,3,null,null,null,null,null,null,null,{"$f":"IF(AND(H20>='A - Contractor Summary'!$C$36,I20<='A - Contractor Summary'!$C$42),\"Yes\",\"No\")","v":"No"},{"$f":"VLOOKUP(C20,'C.1 - Rate Sheets'!$H$15:$I$46,2,FALSE)","v":{"$error":"#N/A"}},null,null,null,null,null,null,null,null,null,null,null,null,null,null,0,{"$error":"#N/A"},{"$error":"#N/A"},0,0,0]
[null,4,null,null,null,null,null,null,null,{"$f":"IF(AND(H21>='A - Contractor Summary'!$C$36,I21<='A - Contractor Summary'!$C$42),\"Yes\",\"No\")","v":"No"},{"$f":"VLOOKUP(C21,'C.1 - Rate Sheets'!$H$15:$I$46,2,FALSE)","v":{"$error":"#N/A"}},null,null,null,null,null,null,null,null,null,null,null,null,null,null,0,{"$error":"#N/A"},{"$error":"#N/A"},0,0,0]
[null,5,null,null,null,null,null,null,null,{"$f":"IF(AND(H22>='A - Contractor Summary'!$C$36,I22<='A - Contractor Summary'!$C$42),\"Yes\",\"No\")","v":"No"},{"$f":"VLOOKUP(C22,'C.1 - Rate Sheets'!$H$15:$I$46,2,FALSE)","v":{"$error":"#N/A"}},null,null,null,null,null,null,null,null,null,null,null,null,null,null,0,{"$error":"#N/A"},{"$error":"#N/A"},0,0,0]
[null,6,null,null,null,null,null,null,null,{"$f":"IF(AND(H23>='A - Contractor Summary'!$C$36,I23<='A - Contractor Summary'!$C$42),\"Yes\",\"No\")","v":"No"},{"$f":"VLOOKUP(C23,'C.1 - Rate Sheets'!$H$15:$I$46,2,FALSE)","v":{"$error":"#N/A"}},null,null,null,null,null,null,null,null,null,null,null,null,null,null,0,{"$error":"#N/A"},{"$error":"#N/A"},0,0,0]
[null,7,null,null,null,null,null,null,null,{"$f":"IF(AND(H24>='A - Contractor Summary'!$C$36,I24<='A - Contractor Summary'!$C$42),\"Yes\",\"No\")","v":"No"},{"$f":"VLOOKUP(C24,'C.1 - Rate Sheets'!$H$15:$I$46,2,FALSE)","v":{"$error":"#N/A"}},null,null,null,null,null,null,null,null,null,null,null,null,null,null,0,{"$error":"#N/A"},{"$error":"#N/A"},0,0,0]
[null,8,null,null,null,null,null,null,null,{"$f":"IF(AND(H25>='A - Contractor Summary'!$C$36,I25<='A - Contractor Summary'!$C$42),\"Yes\",\"No\")","v":"No"},{"$f":"VLOOKUP(C25,'C.1 - Rate Sheets'!$H$15:$I$46,2,FALSE)","v":{"$error":"#N/A"}},null,null,null,null,null,null,null,null,null,null,null,null,null,null,0,{"$error":"#N/A"},{"$error":"#N/A"},0,0,0]
[null,9,null,null,null,null,null,null,null,{"$f":"IF(AND(H26>='A - Contractor Summary'!$C$36,I26<='A - Contractor Summary'!$C$42),\"Yes\",\"No\")","v":"No"},{"$f":"VLOOKUP(C26,'C.1 - Rate Sheets'!$H$15:$I$46,2,FALSE)","v":{"$error":"#N/A"}},null,null,null,null,null,null,null,null,null,null,null,null,null,null,0,{"$error":"#N/A"},{"$error":"#N/A"},0,0,0]
[null,10,null,null,null,null,null,null,null,{"$f":"IF(AND(H27>='A - Contractor Summary'!$C$36,I27<='A - Contractor Summary'!$C$42),\"Yes\",\"No\")","v":"No"},{"$f":"VLOOKUP(C27,'C.1 - Rate Sheets'!$H$15:$I$46,2,FALSE)","v":{"$error":"#N/A"}},null,null,null,null,null,null,null,null,null,null,null,null,null,null,0,{"$error":"#N/A"},{"$error":"#N/A"},0,0,0]
[null,11,null,null,null,null,null,null,null,{"$f":"IF(AND(H28>='A - Contractor Summary'!$C$36,I28<='A - Contractor Summary'!$C$42),\"Yes\",\"No\")","v":"No"},{"$f":"VLOOKUP(C28,'C.1 - Rate Sheets'!$H$15:$I$46,2,FALSE)","v":{"$error":"#N/A"}},null,null,null,null,null,null,null,null,null,null,null,null,null,null,0,{"$error":"#N/A"},{"$error":"#N/A"},0,0,0]
[null,12,null,null,null,null,null,null,null,{"$f":"IF(AND(H29>='A - Contractor Summary'!$C$36,I29<='A - Contractor Summary'!$C$42),\"Yes\",\"No\")","v":"No"},{"$f":"VLOOKUP(C29,'C.1 - Rate Sheets'!$H$15:$I$46,2,FALSE)","v":{"$error":"#N/A"}},null,null,null,null,null,null,null,null,null,null,null,null,null,null,0,{"$error":"#N/A"},{"$error":"#N/A"},0,0,0]
[null,13,null,null,null,null,null,null,null,{"$f":"IF(AND(H30>='A - Contractor Summary'!$C$36,I30<='A - Contractor Summary'!$C$42),\"Yes\",\"No\")","v":"No"},{"$f":"VLOOKUP(C30,'C.1 - Rate Sheets'!$H$15:$I$46,2,FALSE)","v":{"$error":"#N/A"}},null,null,null,null,null,null,null,null,null,null,null,null,null,null,0,{"$error":"#N/A"},{"$error":"#N/A"},0,0,0]
[null,14,null,null,null,null,null,null,null,{"$f":"IF(AND(H31>='A - Contractor Summary'!$C$36,I31<='A - Contractor Summary'!$C$42),\"Yes\",\"No\")","v":"No"},{"$f":"VLOOKUP(C31,'C.1 - Rate Sheets'!$H$15:$I$46,2,FALSE)","v":{"$error":"#N/A"}},null,null,null,null,null,null,null,null,null,null,null,null,null,null,0,{"$error":"#N/A"},{"$error":"#N/A"},0,0,0]
[null,15,null,null,null,null,null,null,null,{"$f":"IF(AND(H32>='A - Contractor Summary'!$C$36,I32<='A - Contractor Summary'!$C$42),\"Yes\",\"No\")","v":"No"},{"$f":"VLOOKUP(C32,'C.1 - Rate Sheets'!$H$15:$I$46,2,FALSE)","v":{"$error":"#N/A"}},null,null,null,null,null,null,null,null,null,null,null,null,null,null,0,{"$error":"#N/A"},{"$error":"#N/A"},0,0,0]
[null,16,null,null,null,null,null,null,null,{"$f":"IF(AND(H33>='A - Contractor Summary'!$C$36,I33<='A - Contractor Summary'!$C$42),\"Yes\",\"No\")","v":"No"},{"$f":"VLOOKUP(C33,'C.1 - Rate Sheets'!$H$15:$I$46,2,FALSE)","v":{"$error":"#N/A"}},null,null,null,null,null,null,null,null,null,null,null,null,null,null,0,{"$error":"#N/A"},{"$error":"#N/A"},0,0,0]
[null,90,null,null,null,null,null,null,null,{"$f":"IF(AND(H34>='A - Contractor Summary'!$C$36,I34<='A - Contractor Summary'!$C$42),\"Yes\",\"No\")","v":"No"},null,null,null,null,null,null,null,null,null,null,null,null,null,null,null,null,null,null,0,0,0]
[null,null,null,null,null,null,null,null,null,null,null,{"$f":"SUM(L18:L34)","v":0},0,0,0,0,0,0,0,0,0,0,0,0,0,0,{"$error":"#N/A"},{"$error":"#N/A"},0,0,0,{"$f":"AC35-AD35-AE35","v":0},"check (b)"]
[]
[]
[]
[null,"Tickmark Explanation:"]

{"sheet":"D - Lodging","index":8,"n_rows":100,"n_cols":25,"rows_kept":100,"cut":false,"hidden":false,"merged":[[1,1,1,23],[11,15,11,23],[11,1,11,14],[3,1,6,14]]}
[]
[null,"Lodging Charges"]
[]
[null,"Test Plan:  (A) Obtain support of individual charges. (B) Enter Yes/No if receipt is itemized (C) Enter Yes/No if proof of payment has been provided. (D) Ensure charges fall between the dates the vendor was mobilized and the date they arrived.  (E) Ensure charges are prior to the date the vendor arrived home or was released to another utility.  (F) Ensure the location of stay was reasonable (G) Determine the amount(s) to be reviewed, allowed and/or disallowed.  (H) For charges which required further review, document review (include why it was determined to be allowed/disallowed via a tickmark)."]
[]
[]
[]
[null,"Rx","Recalculated."]
[null,"a","Check figure should equal $0.  Cell will appear yellow if discrepancies are noted."]
[]
[null,null,"A",null,null,null,null,null,null,null,null,null,"Rx","B","C","D","E","F","G",null,null,"H"]
[null,"Support Reviewed",null,null,null,null,null,null,null,null,null,null,null,null,null,"Conclusion"]
[null,"#","Type of Support","Support Identifier","Crew","Company","Check In Date","Person","Hotel Name","Location","# of Nights","Total Invoice","$ / Night","Itemized Receipt","Proof of Payment","Reasonable based on Mobilization date(s)","Reasonable based on Demobilization date(s)","Location Reasonable","Conclusion","$ Allowable Charge","$ To Be Reviewed","Reviewed - Allowable $","Reviewed - Unallowable $","Tickmark"]
[null,1,"Receipt",null,null,null,null,null,null,null,null,null,{"$f":"L14/K14","v":{"$error":"#DIV/0!"}},null,null,{"$f":"IF(AND(G14>='A - Contractor Summary'!$C$36,G14<='A - Contractor Summary'!$C$38),\"Yes\",IF(G14<'A - Contractor Summary'!$C$36,\"No\",IF(G14>'A - Contractor Summary'!$C$39,\"\",\"\")))","v":"No"},{"$f":"IF(OR(P14=\"Yes\",P14=\"No\")*AND(G14<'A - Contractor Summary'!$C$39),\"\",IF(AND(G14>'A - Contractor Summary'!$C$39,G14<'A - Contractor Summary'!$C$42),\"Yes\",IF(G14>'A - Contractor Summary'!$C$42,\"No\",\"Needs Review\")))","v":""},null,{"$f":"IF(AND(R14=\"YES\",O14=\"Yes\",N14=\"Yes\")*OR(P14=\"Yes\",Q14=\"Yes\"),\"Yes\",IF(OR(N14=\"No\",O14=\"No\",P14=\"No\",Q14=\"No\",R14=\"No\"),\"No\",\"Needs Review\"))","v":"No"},{"$f":"IF(S14=\"Yes\",L14,0)","v":0},{"$f":"IF(S14=\"Needs Review\",L14,0)","v":0}]
[null,2,"Receipt",null,null,null,null,null,null,null,null,null,{"$error":"#DIV/0!"},null,null,{"$f":"IF(AND(G15>='A - Contractor Summary'!$C$36,G15<='A - Contractor Summary'!$C$38),\"Yes\",IF(G15<'A - Contractor Summary'!$C$36,\"No\",IF(G15>'A - Contractor Summary'!$C$39,\"\",\"\")))","v":"No"},{"$f":"IF(OR(P15=\"Yes\",P15=\"No\")*AND(G15<'A - Contractor Summary'!$C$39),\"\",IF(AND(G15>'A - Contractor Summary'!$C$39,G15<'A - Contractor Summary'!$C$42),\"Yes\",IF(G15>'A - Contractor Summary'!$C$42,\"No\",\"Needs Review\")))","v":""},null,"No",0,0]
[null,3,"Receipt",null,null,null,null,null,null,null,null,null,{"$error":"#DIV/0!"},null,null,{"$f":"IF(AND(G16>='A - Contractor Summary'!$C$36,G16<='A - Contractor Summary'!$C$38),\"Yes\",IF(G16<'A - Contractor Summary'!$C$36,\"No\",IF(G16>'A - Contractor Summary'!$C$39,\"\",\"\")))","v":"No"},{"$f":"IF(OR(P16=\"Yes\",P16=\"No\")*AND(G16<'A - Contractor Summary'!$C$39),\"\",IF(AND(G16>'A - Contractor Summary'!$C$39,G16<'A - Contractor Summary'!$C$42),\"Yes\",IF(G16>'A - Contractor Summary'!$C$42,\"No\",\"Needs Review\")))","v":""},null,"No",0,0]
[null,4,"Receipt",null,null,null,null,null,null,null,null,null,{"$error":"#DIV/0!"},null,null,{"$f":"IF(AND(G17>='A - Contractor Summary'!$C$36,G17<='A - Contractor Summary'!$C$38),\"Yes\",IF(G17<'A - Contractor Summary'!$C$36,\"No\",IF(G17>'A - Contractor Summary'!$C$39,\"\",\"\")))","v":"No"},{"$f":"IF(OR(P17=\"Yes\",P17=\"No\")*AND(G17<'A - Contractor Summary'!$C$39),\"\",IF(AND(G17>'A - Contractor Summary'!$C$39,G17<'A - Contractor Summary'!$C$42),\"Yes\",IF(G17>'A - Contractor Summary'!$C$42,\"No\",\"Needs Review\")))","v":""},null,"No",0,0]
[null,5,null,null,null,null,null,null,null,null,null,null,{"$error":"#DIV/0!"},null,null,{"$f":"IF(AND(G18>='A - Contractor Summary'!$C$36,G18<='A - Contractor Summary'!$C$38),\"Yes\",IF(G18<'A - Contractor Summary'!$C$36,\"No\",IF(G18>'A - Contractor Summary'!$C$39,\"\",\"\")))","v":"No"},{"$f":"IF(OR(P18=\"Yes\",P18=\"No\")*AND(G18<'A - Contractor Summary'!$C$39),\"\",IF(AND(G18>'A - Contractor Summary'!$C$39,G18<'A - Contractor Summary'!$C$42),\"Yes\",IF(G18>'A - Contractor Summary'!$C$42,\"No\",\"Needs Review\")))","v":""},null,"No",0,0]
[null,6,null,null,null,null,null,null,null,null,null,null,{"$error":"#DIV/0!"},null,null,{"$f":"IF(AND(G19>='A - Contractor Summary'!$C$36,G19<='A - Contractor Summary'!$C$38),\"Yes\",IF(G19<'A - Contractor Summary'!$C$36,\"No\",IF(G19>'A - Contractor Summary'!$C$39,\"\",\"\")))","v":"No"},{"$f":"IF(OR(P19=\"Yes\",P19=\"No\")*AND(G19<'A - Contractor Summary'!$C$39),\"\",IF(AND(G19>'A - Contractor Summary'!$C$39,G19<'A - Contractor Summary'!$C$42),\"Yes\",IF(G19>'A - Contractor Summary'!$C$42,\"No\",\"Needs Review\")))","v":""},null,"No",0,0]
[null,7,null,null,null,null,null,null,null,null,null,null,{"$error":"#DIV/0!"},null,null,{"$f":"IF(AND(G20>='A - Contractor Summary'!$C$36,G20<='A - Contractor Summary'!$C$38),\"Yes\",IF(G20<'A - Contractor Summary'!$C$36,\"No\",IF(G20>'A - Contractor Summary'!$C$39,\"\",\"\")))","v":"No"},{"$f":"IF(OR(P20=\"Yes\",P20=\"No\")*AND(G20<'A - Contractor Summary'!$C$39),\"\",IF(AND(G20>'A - Contractor Summary'!$C$39,G20<'A - Contractor Summary'!$C$42),\"Yes\",IF(G20>'A - Contractor Summary'!$C$42,\"No\",\"Needs Review\")))","v":""},null,"No",0,0]
[null,8,null,null,null,null,null,null,null,null,null,null,{"$error":"#DIV/0!"},null,null,{"$f":"IF(AND(G21>='A - Contractor Summary'!$C$36,G21<='A - Contractor Summary'!$C$38),\"Yes\",IF(G21<'A - Contractor Summary'!$C$36,\"No\",IF(G21>'A - Contractor Summary'!$C$39,\"\",\"\")))","v":"No"},{"$f":"IF(OR(P21=\"Yes\",P21=\"No\")*AND(G21<'A - Contractor Summary'!$C$39),\"\",IF(AND(G21>'A - Contractor Summary'!$C$39,G21<'A - Contractor Summary'!$C$42),\"Yes\",IF(G21>'A - Contractor Summary'!$C$42,\"No\",\"Needs Review\")))","v":""},null,"No",0,0]
[null,9,null,null,null,null,null,null,null,null,null,null,{"$error":"#DIV/0!"},null,null,{"$f":"IF(AND(G22>='A - Contractor Summary'!$C$36,G22<='A - Contractor Summary'!$C$38),\"Yes\",IF(G22<'A - Contractor Summary'!$C$36,\"No\",IF(G22>'A - Contractor Summary'!$C$39,\"\",\"\")))","v":"No"},{"$f":"IF(OR(P22=\"Yes\",P22=\"No\")*AND(G22<'A - Contractor Summary'!$C$39),\"\",IF(AND(G22>'A - Contractor Summary'!$C$39,G22<'A - Contractor Summary'!$C$42),\"Yes\",IF(G22>'A - Contractor Summary'!$C$42,\"No\",\"Needs Review\")))","v":""},null,"No",0,0]
[null,10,null,null,null,null,null,null,null,null,null,null,{"$error":"#DIV/0!"},null,null,{"$f":"IF(AND(G23>='A - Contractor Summary'!$C$36,G23<='A - Contractor Summary'!$C$38),\"Yes\",IF(G23<'A - Contractor Summary'!$C$36,\"No\",IF(G23>'A - Contractor Summary'!$C$39,\"\",\"\")))","v":"No"},{"$f":"IF(OR(P23=\"Yes\",P23=\"No\")*AND(G23<'A - Contractor Summary'!$C$39),\"\",IF(AND(G23>'A - Contractor Summary'!$C$39,G23<'A - Contractor Summary'!$C$42),\"Yes\",IF(G23>'A - Contractor Summary'!$C$42,\"No\",\"Needs Review\")))","v":""},null,"No",0,0]
[null,11,null,null,null,null,null,null,null,null,null,null,{"$error":"#DIV/0!"},null,null,{"$f":"IF(AND(G24>='A - Contractor Summary'!$C$36,G24<='A - Contractor Summary'!$C$38),\"Yes\",IF(G24<'A - Contractor Summary'!$C$36,\"No\",IF(G24>'A - Contractor Summary'!$C$39,\"\",\"\")))","v":"No"},{"$f":"IF(OR(P24=\"Yes\",P24=\"No\")*AND(G24<'A - Contractor Summary'!$C$39),\"\",IF(AND(G24>'A - Contractor Summary'!$C$39,G24<'A - Contractor Summary'!$C$42),\"Yes\",IF(G24>'A - Contractor Summary'!$C$42,\"No\",\"Needs Review\")))","v":""},null,"No",0,0]
[null,12,null,null,null,null,null,null,null,null,null,null,{"$error":"#DIV/0!"},null,null,{"$f":"IF(AND(G25>='A - Contractor Summary'!$C$36,G25<='A - Contractor Summary'!$C$38),\"Yes\",IF(G25<'A - Contractor Summary'!$C$36,\"No\",IF(G25>'A - Contractor Summary'!$C$39,\"\",\"\")))","v":"No"},{"$f":"IF(OR(P25=\"Yes\",P25=\"No\")*AND(G25<'A - Contractor Summary'!$C$39),\"\",IF(AND(G25>'A - Contractor Summary'!$C$39,G25<'A - Contractor Summary'!$C$42),\"Yes\",IF(G25>'A - Contractor Summary'!$C$42,\"No\",\"Needs Review\")))","v":""},null,"No",0,0]
[null,13,null,null,null,null,null,null,null,null,null,null,{"$error":"#DIV/0!"},null,null,{"$f":"IF(AND(G26>='A - Contractor Summary'!$C$36,G26<='A - Contractor Summary'!$C$38),\"Yes\",IF(G26<'A - Contractor Summary'!$C$36,\"No\",IF(G26>'A - Contractor Summary'!$C$39,\"\",\"\")))","v":"No"},{"$f":"IF(OR(P26=\"Yes\",P26=\"No\")*AND(G26<'A - Contractor Summary'!$C$39),\"\",IF(AND(G26>'A - Contractor Summary'!$C$39,G26<'A - Contractor Summary'!$C$42),\"Yes\",IF(G26>'A - Contractor Summary'!$C$42,\"No\",\"Needs Review\")))","v":""},null,"No",0,0]
[null,14,null,null,null,null,null,null,null,null,null,null,{"$error":"#DIV/0!"},null,null,{"$f":"IF(AND(G27>='A - Contractor Summary'!$C$36,G27<='A - Contractor Summary'!$C$38),\"Yes\",IF(G27<'A - Contractor Summary'!$C$36,\"No\",IF(G27>'A - Contractor Summary'!$C$39,\"\",\"\")))","v":"No"},{"$f":"IF(OR(P27=\"Yes\",P27=\"No\")*AND(G27<'A - Contractor Summary'!$C$39),\"\",IF(AND(G27>'A - Contractor Summary'!$C$39,G27<'A - Contractor Summary'!$C$42),\"Yes\",IF(G27>'A - Contractor Summary'!$C$42,\"No\",\"Needs Review\")))","v":""},null,"No",0,0]
[null,15,null,null,null,null,null,null,null,null,null,null,{"$error":"#DIV/0!"},null,null,{"$f":"IF(AND(G28>='A - Contractor Summary'!$C$36,G28<='A - Contractor Summary'!$C$38),\"Yes\",IF(G28<'A - Contractor Summary'!$C$36,\"No\",IF(G28>'A - Contractor Summary'!$C$39,\"\",\"\")))","v":"No"},{"$f":"IF(OR(P28=\"Yes\",P28=\"No\")*AND(G28<'A - Contractor Summary'!$C$39),\"\",IF(AND(G28>'A - Contractor Summary'!$C$39,G28<'A - Contractor Summary'!$C$42),\"Yes\",IF(G28>'A - Contractor Summary'!$C$42,\"No\",\"Needs Review\")))","v":""},null,"No",0,0]
[null,16,null,null,null,null,null,null,null,null,null,null,{"$error":"#DIV/0!"},null,null,{"$f":"IF(AND(G29>='A - Contractor Summary'!$C$36,G29<='A - Contractor Summary'!$C$38),\"Yes\",IF(G29<'A - Contractor Summary'!$C$36,\"No\",IF(G29>'A - Contractor Summary'!$C$39,\"\",\"\")))","v":"No"},{"$f":"IF(OR(P29=\"Yes\",P29=\"No\")*AND(G29<'A - Contractor Summary'!$C$39),\"\",IF(AND(G29>'A - Contractor Summary'!$C$39,G29<'A - Contractor Summary'!$C$42),\"Yes\",IF(G29>'A - Contractor Summary'!$C$42,\"No\",\"Needs Review\")))","v":""},null,"No",0,0]
[null,17,null,null,null,null,null,null,null,null,null,null,{"$error":"#DIV/0!"},null,null,{"$f":"IF(AND(G30>='A - Contractor Summary'!$C$36,G30<='A - Contractor Summary'!$C$38),\"Yes\",IF(G30<'A - Contractor Summary'!$C$36,\"No\",IF(G30>'A - Contractor Summary'!$C$39,\"\",\"\")))","v":"No"},{"$f":"IF(OR(P30=\"Yes\",P30=\"No\")*AND(G30<'A - Contractor Summary'!$C$39),\"\",IF(AND(G30>'A - Contractor Summary'!$C$39,G30<'A - Contractor Summary'!$C$42),\"Yes\",IF(G30>'A - Contractor Summary'!$C$42,\"No\",\"Needs Review\")))","v":""},null,"No",0,0]
[null,18,null,null,null,null,null,null,null,null,null,null,{"$error":"#DIV/0!"},null,null,{"$f":"IF(AND(G31>='A - Contractor Summary'!$C$36,G31<='A - Contractor Summary'!$C$38),\"Yes\",IF(G31<'A - Contractor Summary'!$C$36,\"No\",IF(G31>'A - Contractor Summary'!$C$39,\"\",\"\")))","v":"No"},{"$f":"IF(OR(P31=\"Yes\",P31=\"No\")*AND(G31<'A - Contractor Summary'!$C$39),\"\",IF(AND(G31>'A - Contractor Summary'!$C$39,G31<'A - Contractor Summary'!$C$42),\"Yes\",IF(G31>'A - Contractor Summary'!$C$42,\"No\",\"Needs Review\")))","v":""},null,"No",0,0]
[null,19,null,null,null,null,null,null,null,null,null,null,{"$error":"#DIV/0!"},null,null,{"$f":"IF(AND(G32>='A - Contractor Summary'!$C$36,G32<='A - Contractor Summary'!$C$38),\"Yes\",IF(G32<'A - Contractor Summary'!$C$36,\"No\",IF(G32>'A - Contractor Summary'!$C$39,\"\",\"\")))","v":"No"},{"$f":"IF(OR(P32=\"Yes\",P32=\"No\")*AND(G32<'A - Contractor Summary'!$C$39),\"\",IF(AND(G32>'A - Contractor Summary'!$C$39,G32<'A - Contractor Summary'!$C$42),\"Yes\",IF(G32>'A - Contractor Summary'!$C$42,\"No\",\"Needs Review\")))","v":""},null,"No",0,0]
[null,20,null,null,null,null,null,null,null,null,null,null,{"$error":"#DIV/0!"},null,null,{"$f":"IF(AND(G33>='A - Contractor Summary'!$C$36,G33<='A - Contractor Summary'!$C$38),\"Yes\",IF(G33<'A - Contractor Summary'!$C$36,\"No\",IF(G33>'A - Contractor Summary'!$C$39,\"\",\"\")))","v":"No"},{"$f":"IF(OR(P33=\"Yes\",P33=\"No\")*AND(G33<'A - Contractor Summary'!$C$39),\"\",IF(AND(G33>'A - Contractor Summary'!$C$39,G33<'A - Contractor Summary'!$C$42),\"Yes\",IF(G33>'A - Contractor Summary'!$C$42,\"No\",\"Needs Review\")))","v":""},null,"No",0,0]
[null,21,null,null,null,null,null,null,null,null,null,null,{"$error":"#DIV/0!"},null,null,{"$f":"IF(AND(G34>='A - Contractor Summary'!$C$36,G34<='A - Contractor Summary'!$C$38),\"Yes\",IF(G34<'A - Contractor Summary'!$C$36,\"No\",IF(G34>'A - Contractor Summary'!$C$39,\"\",\"\")))","v":"No"},{"$f":"IF(OR(P34=\"Yes\",P34=\"No\")*AND(G34<'A - Contractor Summary'!$C$39),\"\",IF(AND(G34>'A - Contractor Summary'!$C$39,G34<'A - Contractor Summary'!$C$42),\"Yes\",IF(G34>'A - Contractor Summary'!$C$42,\"No\",\"Needs Review\")))","v":""},null,"No",0,0]
[null,22,null,null,null,null,null,null,null,null,null,null,{"$error":"#DIV/0!"},null,null,{"$f":"IF(AND(G35>='A - Contractor Summary'!$C$36,G35<='A - Contractor Summary'!$C$38),\"Yes\",IF(G35<'A - Contractor Summary'!$C$36,\"No\",IF(G35>'A - Contractor Summary'!$C$39,\"\",\"\")))","v":"No"},{"$f":"IF(OR(P35=\"Yes\",P35=\"No\")*AND(G35<'A - Contractor Summary'!$C$39),\"\",IF(AND(G35>'A - Contractor Summary'!$C$39,G35<'A - Contractor Summary'!$C$42),\"Yes\",IF(G35>'A - Contractor Summary'!$C$42,\"No\",\"Needs Review\")))","v":""},null,"No",0,0]
[null,23,null,null,null,null,null,null,null,null,null,null,{"$error":"#DIV/0!"},null,null,{"$f":"IF(AND(G36>='A - Contractor Summary'!$C$36,G36<='A - Contractor Summary'!$C$38),\"Yes\",IF(G36<'A - Contractor Summary'!$C$36,\"No\",IF(G36>'A - Contractor Summary'!$C$39,\"\",\"\")))","v":"No"},{"$f":"IF(OR(P36=\"Yes\",P36=\"No\")*AND(G36<'A - Contractor Summary'!$C$39),\"\",IF(AND(G36>'A - Contractor Summary'!$C$39,G36<'A - Contractor Summary'!$C$42),\"Yes\",IF(G36>'A - Contractor Summary'!$C$42,\"No\",\"Needs Review\")))","v":""},null,"No",0,0]
[null,24,null,null,null,null,null,null,null,null,null,null,{"$error":"#DIV/0!"},null,null,{"$f":"IF(AND(G37>='A - Contractor Summary'!$C$36,G37<='A - Contractor Summary'!$C$38),\"Yes\",IF(G37<'A - Contractor Summary'!$C$36,\"No\",IF(G37>'A - Contractor Summary'!$C$39,\"\",\"\")))","v":"No"},{"$f":"IF(OR(P37=\"Yes\",P37=\"No\")*AND(G37<'A - Contractor Summary'!$C$39),\"\",IF(AND(G37>'A - Contractor Summary'!$C$39,G37<'A - Contractor Summary'!$C$42),\"Yes\",IF(G37>'A - Contractor Summary'!$C$42,\"No\",\"Needs Review\")))","v":""},null,"No",0,0]
[null,25,null,null,null,null,null,null,null,null,null,null,{"$error":"#DIV/0!"},null,null,{"$f":"IF(AND(G38>='A - Contractor Summary'!$C$36,G38<='A - Contractor Summary'!$C$38),\"Yes\",IF(G38<'A - Contractor Summary'!$C$36,\"No\",IF(G38>'A - Contractor Summary'!$C$39,\"\",\"\")))","v":"No"},{"$f":"IF(OR(P38=\"Yes\",P38=\"No\")*AND(G38<'A - Contractor Summary'!$C$39),\"\",IF(AND(G38>'A - Contractor Summary'!$C$39,G38<'A - Contractor Summary'!$C$42),\"Yes\",IF(G38>'A - Contractor Summary'!$C$42,\"No\",\"Needs Review\")))","v":""},null,"No",0,0]
[null,26,null,null,null,null,null,null,null,null,null,null,{"$error":"#DIV/0!"},null,null,{"$f":"IF(AND(G39>='A - Contractor Summary'!$C$36,G39<='A - Contractor Summary'!$C$38),\"Yes\",IF(G39<'A - Contractor Summary'!$C$36,\"No\",IF(G39>'A - Contractor Summary'!$C$39,\"\",\"\")))","v":"No"},{"$f":"IF(OR(P39=\"Yes\",P39=\"No\")*AND(G39<'A - Contractor Summary'!$C$39),\"\",IF(AND(G39>'A - Contractor Summary'!$C$39,G39<'A - Contractor Summary'!$C$42),\"Yes\",IF(G39>'A - Contractor Summary'!$C$42,\"No\",\"Needs Review\")))","v":""},null,"No",0,0]
[null,27,null,null,null,null,null,null,null,null,null,null,{"$error":"#DIV/0!"},null,null,{"$f":"IF(AND(G40>='A - Contractor Summary'!$C$36,G40<='A - Contractor Summary'!$C$38),\"Yes\",IF(G40<'A - Contractor Summary'!$C$36,\"No\",IF(G40>'A - Contractor Summary'!$C$39,\"\",\"\")))","v":"No"},{"$f":"IF(OR(P40=\"Yes\",P40=\"No\")*AND(G40<'A - Contractor Summary'!$C$39),\"\",IF(AND(G40>'A - Contractor Summary'!$C$39,G40<'A - Contractor Summary'!$C$42),\"Yes\",IF(G40>'A - Contractor Summary'!$C$42,\"No\",\"Needs Review\")))","v":""},null,"No",0,0]
[null,28,null,null,null,null,null,null,null,null,null,null,{"$error":"#DIV/0!"},null,null,{"$f":"IF(AND(G41>='A - Contractor Summary'!$C$36,G41<='A - Contractor Summary'!$C$38),\"Yes\",IF(G41<'A - Contractor Summary'!$C$36,\"No\",IF(G41>'A - Contractor Summary'!$C$39,\"\",\"\")))","v":"No"},{"$f":"IF(OR(P41=\"Yes\",P41=\"No\")*AND(G41<'A - Contractor Summary'!$C$39),\"\",IF(AND(G41>'A - Contractor Summary'!$C$39,G41<'A - Contractor Summary'!$C$42),\"Yes\",IF(G41>'A - Contractor Summary'!$C$42,\"No\",\"Needs Review\")))","v":""},null,"No",0,0]
[null,29,null,null,null,null,null,null,null,null,null,null,{"$error":"#DIV/0!"},null,null,{"$f":"IF(AND(G42>='A - Contractor Summary'!$C$36,G42<='A - Contractor Summary'!$C$38),\"Yes\",IF(G42<'A - Contractor Summary'!$C$36,\"No\",IF(G42>'A - Contractor Summary'!$C$39,\"\",\"\")))","v":"No"},{"$f":"IF(OR(P42=\"Yes\",P42=\"No\")*AND(G42<'A - Contractor Summary'!$C$39),\"\",IF(AND(G42>'A - Contractor Summary'!$C$39,G42<'A - Contractor Summary'!$C$42),\"Yes\",IF(G42>'A - Contractor Summary'!$C$42,\"No\",\"Needs Review\")))","v":""},null,"No",0,0]
[null,30,null,null,null,null,null,null,null,null,null,null,{"$error":"#DIV/0!"},null,null,{"$f":"IF(AND(G43>='A - Contractor Summary'!$C$36,G43<='A - Contractor Summary'!$C$38),\"Yes\",IF(G43<'A - Contractor Summary'!$C$36,\"No\",IF(G43>'A - Contractor Summary'!$C$39,\"\",\"\")))","v":"No"},{"$f":"IF(OR(P43=\"Yes\",P43=\"No\")*AND(G43<'A - Contractor Summary'!$C$39),\"\",IF(AND(G43>'A - Contractor Summary'!$C$39,G43<'A - Contractor Summary'!$C$42),\"Yes\",IF(G43>'A - Contractor Summary'!$C$42,\"No\",\"Needs Review\")))","v":""},null,"No",0,0]
[null,31,null,null,null,null,null,null,null,null,null,null,{"$error":"#DIV/0!"},null,null,{"$f":"IF(AND(G44>='A - Contractor Summary'!$C$36,G44<='A - Contractor Summary'!$C$38),\"Yes\",IF(G44<'A - Contractor Summary'!$C$36,\"No\",IF(G44>'A - Contractor Summary'!$C$39,\"\",\"\")))","v":"No"},{"$f":"IF(OR(P44=\"Yes\",P44=\"No\")*AND(G44<'A - Contractor Summary'!$C$39),\"\",IF(AND(G44>'A - Contractor Summary'!$C$39,G44<'A - Contractor Summary'!$C$42),\"Yes\",IF(G44>'A - Contractor Summary'!$C$42,\"No\",\"Needs Review\")))","v":""},null,"No",0,0]
[null,32,null,null,null,null,null,null,null,null,null,null,{"$error":"#DIV/0!"},null,null,{"$f":"IF(AND(G45>='A - Contractor Summary'!$C$36,G45<='A - Contractor Summary'!$C$38),\"Yes\",IF(G45<'A - Contractor Summary'!$C$36,\"No\",IF(G45>'A - Contractor Summary'!$C$39,\"\",\"\")))","v":"No"},{"$f":"IF(OR(P45=\"Yes\",P45=\"No\")*AND(G45<'A - Contractor Summary'!$C$39),\"\",IF(AND(G45>'A - Contractor Summary'!$C$39,G45<'A - Contractor Summary'!$C$42),\"Yes\",IF(G45>'A - Contractor Summary'!$C$42,\"No\",\"Needs Review\")))","v":""},null,"No",0,0]
[null,33,null,null,null,null,null,null,null,null,null,null,{"$f":"L46/K46","v":{"$error":"#DIV/0!"}},null,null,{"$f":"IF(AND(G46>='A - Contractor Summary'!$C$36,G46<='A - Contractor Summary'!$C$38),\"Yes\",IF(G46<'A - Contractor Summary'!$C$36,\"No\",IF(G46>'A - Contractor Summary'!$C$39,\"\",\"\")))","v":"No"},{"$f":"IF(OR(P46=\"Yes\",P46=\"No\")*AND(G46<'A - Contractor Summary'!$C$39),\"\",IF(AND(G46>'A - Contractor Summary'!$C$39,G46<'A - Contractor Summary'!$C$42),\"Yes\",IF(G46>'A - Contractor Summary'!$C$42,\"No\",\"Needs Review\")))","v":""},null,{"$f":"IF(AND(R46=\"YES\",O46=\"Yes\",N46=\"Yes\")*OR(P46=\"Yes\",Q46=\"Yes\"),\"Yes\",IF(OR(N46=\"No\",O46=\"No\",P46=\"No\",Q46=\"No\",R46=\"No\"),\"No\",\"Needs Review\"))","v":"No"},{"$f":"IF(S46=\"Yes\",L46,0)","v":0},{"$f":"IF(S46=\"Needs Review\",L46,0)","v":0}]
[null,34,null,null,null,null,null,null,null,null,null,null,{"$error":"#DIV/0!"},null,null,{"$f":"IF(AND(G47>='A - Contractor Summary'!$C$36,G47<='A - Contractor Summary'!$C$38),\"Yes\",IF(G47<'A - Contractor Summary'!$C$36,\"No\",IF(G47>'A - Contractor Summary'!$C$39,\"\",\"\")))","v":"No"},{"$f":"IF(OR(P47=\"Yes\",P47=\"No\")*AND(G47<'A - Contractor Summary'!$C$39),\"\",IF(AND(G47>'A - Contractor Summary'!$C$39,G47<'A - Contractor Summary'!$C$42),\"Yes\",IF(G47>'A - Contractor Summary'!$C$42,\"No\",\"Needs Review\")))","v":""},null,"No",0,0]
[null,35,null,null,null,null,null,null,null,null,null,null,{"$error":"#DIV/0!"},null,null,{"$f":"IF(AND(G48>='A - Contractor Summary'!$C$36,G48<='A - Contractor Summary'!$C$38),\"Yes\",IF(G48<'A - Contractor Summary'!$C$36,\"No\",IF(G48>'A - Contractor Summary'!$C$39,\"\",\"\")))","v":"No"},{"$f":"IF(OR(P48=\"Yes\",P48=\"No\")*AND(G48<'A - Contractor Summary'!$C$39),\"\",IF(AND(G48>'A - Contractor Summary'!$C$39,G48<'A - Contractor Summary'!$C$42),\"Yes\",IF(G48>'A - Contractor Summary'!$C$42,\"No\",\"Needs Review\")))","v":""},null,"No",0,0]
[null,36,null,null,null,null,null,null,null,null,null,null,{"$error":"#DIV/0!"},null,null,{"$f":"IF(AND(G49>='A - Contractor Summary'!$C$36,G49<='A - Contractor Summary'!$C$38),\"Yes\",IF(G49<'A - Contractor Summary'!$C$36,\"No\",IF(G49>'A - Contractor Summary'!$C$39,\"\",\"\")))","v":"No"},{"$f":"IF(OR(P49=\"Yes\",P49=\"No\")*AND(G49<'A - Contractor Summary'!$C$39),\"\",IF(AND(G49>'A - Contractor Summary'!$C$39,G49<'A - Contractor Summary'!$C$42),\"Yes\",IF(G49>'A - Contractor Summary'!$C$42,\"No\",\"Needs Review\")))","v":""},null,"No",0,0]
[null,37,null,null,null,null,null,null,null,null,null,null,{"$error":"#DIV/0!"},null,null,{"$f":"IF(AND(G50>='A - Contractor Summary'!$C$36,G50<='A - Contractor Summary'!$C$38),\"Yes\",IF(G50<'A - Contractor Summary'!$C$36,\"No\",IF(G50>'A - Contractor Summary'!$C$39,\"\",\"\")))","v":"No"},{"$f":"IF(OR(P50=\"Yes\",P50=\"No\")*AND(G50<'A - Contractor Summary'!$C$39),\"\",IF(AND(G50>'A - Contractor Summary'!$C$39,G50<'A - Contractor Summary'!$C$42),\"Yes\",IF(G50>'A - Contractor Summary'!$C$42,\"No\",\"Needs Review\")))","v":""},null,"No",0,0]
[null,38,null,null,null,null,null,null,null,null,null,null,{"$error":"#DIV/0!"},null,null,{"$f":"IF(AND(G51>='A - Contractor Summary'!$C$36,G51<='A - Contractor Summary'!$C$38),\"Yes\",IF(G51<'A - Contractor Summary'!$C$36,\"No\",IF(G51>'A - Contractor Summary'!$C$39,\"\",\"\")))","v":"No"},{"$f":"IF(OR(P51=\"Yes\",P51=\"No\")*AND(G51<'A - Contractor Summary'!$C$39),\"\",IF(AND(G51>'A - Contractor Summary'!$C$39,G51<'A - Contractor Summary'!$C$42),\"Yes\",IF(G51>'A - Contractor Summary'!$C$42,\"No\",\"Needs Review\")))","v":""},null,"No",0,0]
[null,39,null,null,null,null,null,null,null,null,null,null,{"$error":"#DIV/0!"},null,null,{"$f":"IF(AND(G52>='A - Contractor Summary'!$C$36,G52<='A - Contractor Summary'!$C$38),\"Yes\",IF(G52<'A - Contractor Summary'!$C$36,\"No\",IF(G52>'A - Contractor Summary'!$C$39,\"\",\"\")))","v":"No"},{"$f":"IF(OR(P52=\"Yes\",P52=\"No\")*AND(G52<'A - Contractor Summary'!$C$39),\"\",IF(AND(G52>'A - Contractor Summary'!$C$39,G52<'A - Contractor Summary'!$C$42),\"Yes\",IF(G52>'A - Contractor Summary'!$C$42,\"No\",\"Needs Review\")))","v":""},null,"No",0,0]
[null,40,null,null,null,null,null,null,null,null,null,null,{"$error":"#DIV/0!"},null,null,{"$f":"IF(AND(G53>='A - Contractor Summary'!$C$36,G53<='A - Contractor Summary'!$C$38),\"Yes\",IF(G53<'A - Contractor Summary'!$C$36,\"No\",IF(G53>'A - Contractor Summary'!$C$39,\"\",\"\")))","v":"No"},{"$f":"IF(OR(P53=\"Yes\",P53=\"No\")*AND(G53<'A - Contractor Summary'!$C$39),\"\",IF(AND(G53>'A - Contractor Summary'!$C$39,G53<'A - Contractor Summary'!$C$42),\"Yes\",IF(G53>'A - Contractor Summary'!$C$42,\"No\",\"Needs Review\")))","v":""},null,"No",0,0]
[null,41,null,null,null,null,null,null,null,null,null,null,{"$error":"#DIV/0!"},null,null,{"$f":"IF(AND(G54>='A - Contractor Summary'!$C$36,G54<='A - Contractor Summary'!$C$38),\"Yes\",IF(G54<'A - Contractor Summary'!$C$36,\"No\",IF(G54>'A - Contractor Summary'!$C$39,\"\",\"\")))","v":"No"},{"$f":"IF(OR(P54=\"Yes\",P54=\"No\")*AND(G54<'A - Contractor Summary'!$C$39),\"\",IF(AND(G54>'A - Contractor Summary'!$C$39,G54<'A - Contractor Summary'!$C$42),\"Yes\",IF(G54>'A - Contractor Summary'!$C$42,\"No\",\"Needs Review\")))","v":""},null,"No",0,0]
[null,42,null,null,null,null,null,null,null,null,null,null,{"$error":"#DIV/0!"},null,null,{"$f":"IF(AND(G55>='A - Contractor Summary'!$C$36,G55<='A - Contractor Summary'!$C$38),\"Yes\",IF(G55<'A - Contractor Summary'!$C$36,\"No\",IF(G55>'A - Contractor Summary'!$C$39,\"\",\"\")))","v":"No"},{"$f":"IF(OR(P55=\"Yes\",P55=\"No\")*AND(G55<'A - Contractor Summary'!$C$39),\"\",IF(AND(G55>'A - Contractor Summary'!$C$39,G55<'A - Contractor Summary'!$C$42),\"Yes\",IF(G55>'A - Contractor Summary'!$C$42,\"No\",\"Needs Review\")))","v":""},null,"No",0,0]
[null,43,null,null,null,null,null,null,null,null,null,null,{"$error":"#DIV/0!"},null,null,{"$f":"IF(AND(G56>='A - Contractor Summary'!$C$36,G56<='A - Contractor Summary'!$C$38),\"Yes\",IF(G56<'A - Contractor Summary'!$C$36,\"No\",IF(G56>'A - Contractor Summary'!$C$39,\"\",\"\")))","v":"No"},{"$f":"IF(OR(P56=\"Yes\",P56=\"No\")*AND(G56<'A - Contractor Summary'!$C$39),\"\",IF(AND(G56>'A - Contractor Summary'!$C$39,G56<'A - Contractor Summary'!$C$42),\"Yes\",IF(G56>'A - Contractor Summary'!$C$42,\"No\",\"Needs Review\")))","v":""},null,"No",0,0]
[null,44,null,null,null,null,null,null,null,null,null,null,{"$error":"#DIV/0!"},null,null,{"$f":"IF(AND(G57>='A - Contractor Summary'!$C$36,G57<='A - Contractor Summary'!$C$38),\"Yes\",IF(G57<'A - Contractor Summary'!$C$36,\"No\",IF(G57>'A - Contractor Summary'!$C$39,\"\",\"\")))","v":"No"},{"$f":"IF(OR(P57=\"Yes\",P57=\"No\")*AND(G57<'A - Contractor Summary'!$C$39),\"\",IF(AND(G57>'A - Contractor Summary'!$C$39,G57<'A - Contractor Summary'!$C$42),\"Yes\",IF(G57>'A - Contractor Summary'!$C$42,\"No\",\"Needs Review\")))","v":""},null,"No",0,0]
[null,45,null,null,null,null,null,null,null,null,null,null,{"$error":"#DIV/0!"},null,null,{"$f":"IF(AND(G58>='A - Contractor Summary'!$C$36,G58<='A - Contractor Summary'!$C$38),\"Yes\",IF(G58<'A - Contractor Summary'!$C$36,\"No\",IF(G58>'A - Contractor Summary'!$C$39,\"\",\"\")))","v":"No"},{"$f":"IF(OR(P58=\"Yes\",P58=\"No\")*AND(G58<'A - Contractor Summary'!$C$39),\"\",IF(AND(G58>'A - Contractor Summary'!$C$39,G58<'A - Contractor Summary'!$C$42),\"Yes\",IF(G58>'A - Contractor Summary'!$C$42,\"No\",\"Needs Review\")))","v":""},null,"No",0,0]
[null,46,null,null,null,null,null,null,null,null,null,null,{"$error":"#DIV/0!"},null,null,{"$f":"IF(AND(G59>='A - Contractor Summary'!$C$36,G59<='A - Contractor Summary'!$C$38),\"Yes\",IF(G59<'A - Contractor Summary'!$C$36,\"No\",IF(G59>'A - Contractor Summary'!$C$39,\"\",\"\")))","v":"No"},{"$f":"IF(OR(P59=\"Yes\",P59=\"No\")*AND(G59<'A - Contractor Summary'!$C$39),\"\",IF(AND(G59>'A - Contractor Summary'!$C$39,G59<'A - Contractor Summary'!$C$42),\"Yes\",IF(G59>'A - Contractor Summary'!$C$42,\"No\",\"Needs Review\")))","v":""},null,"No",0,0]
[null,47,null,null,null,null,null,null,null,null,null,null,{"$error":"#DIV/0!"},null,null,{"$f":"IF(AND(G60>='A - Contractor Summary'!$C$36,G60<='A - Contractor Summary'!$C$38),\"Yes\",IF(G60<'A - Contractor Summary'!$C$36,\"No\",IF(G60>'A - Contractor Summary'!$C$39,\"\",\"\")))","v":"No"},{"$f":"IF(OR(P60=\"Yes\",P60=\"No\")*AND(G60<'A - Contractor Summary'!$C$39),\"\",IF(AND(G60>'A - Contractor Summary'!$C$39,G60<'A - Contractor Summary'!$C$42),\"Yes\",IF(G60>'A - Contractor Summary'!$C$42,\"No\",\"Needs Review\")))","v":""},null,"No",0,0]
[null,48,null,null,null,null,null,null,null,null,null,null,{"$error":"#DIV/0!"},null,null,{"$f":"IF(AND(G61>='A - Contractor Summary'!$C$36,G61<='A - Contractor Summary'!$C$38),\"Yes\",IF(G61<'A - Contractor Summary'!$C$36,\"No\",IF(G61>'A - Contractor Summary'!$C$39,\"\",\"\")))","v":"No"},{"$f":"IF(OR(P61=\"Yes\",P61=\"No\")*AND(G61<'A - Contractor Summary'!$C$39),\"\",IF(AND(G61>'A - Contractor Summary'!$C$39,G61<'A - Contractor Summary'!$C$42),\"Yes\",IF(G61>'A - Contractor Summary'!$C$42,\"No\",\"Needs Review\")))","v":""},null,"No",0,0]
[null,49,null,null,null,null,null,null,null,null,null,null,{"$error":"#DIV/0!"},null,null,{"$f":"IF(AND(G62>='A - Contractor Summary'!$C$36,G62<='A - Contractor Summary'!$C$38),\"Yes\",IF(G62<'A - Contractor Summary'!$C$36,\"No\",IF(G62>'A - Contractor Summary'!$C$39,\"\",\"\")))","v":"No"},{"$f":"IF(OR(P62=\"Yes\",P62=\"No\")*AND(G62<'A - Contractor Summary'!$C$39),\"\",IF(AND(G62>'A - Contractor Summary'!$C$39,G62<'A - Contractor Summary'!$C$42),\"Yes\",IF(G62>'A - Contractor Summary'!$C$42,\"No\",\"Needs Review\")))","v":""},null,"No",0,0]
[null,50,null,null,null,null,null,null,null,null,null,null,{"$error":"#DIV/0!"},null,null,{"$f":"IF(AND(G63>='A - Contractor Summary'!$C$36,G63<='A - Contractor Summary'!$C$38),\"Yes\",IF(G63<'A - Contractor Summary'!$C$36,\"No\",IF(G63>'A - Contractor Summary'!$C$39,\"\",\"\")))","v":"No"},{"$f":"IF(OR(P63=\"Yes\",P63=\"No\")*AND(G63<'A - Contractor Summary'!$C$39),\"\",IF(AND(G63>'A - Contractor Summary'!$C$39,G63<'A - Contractor Summary'!$C$42),\"Yes\",IF(G63>'A - Contractor Summary'!$C$42,\"No\",\"Needs Review\")))","v":""},null,"No",0,0]
[null,51,null,null,null,null,null,null,null,null,null,null,{"$error":"#DIV/0!"},null,null,{"$f":"IF(AND(G64>='A - Contractor Summary'!$C$36,G64<='A - Contractor Summary'!$C$38),\"Yes\",IF(G64<'A - Contractor Summary'!$C$36,\"No\",IF(G64>'A - Contractor Summary'!$C$39,\"\",\"\")))","v":"No"},{"$f":"IF(OR(P64=\"Yes\",P64=\"No\")*AND(G64<'A - Contractor Summary'!$C$39),\"\",IF(AND(G64>'A - Contractor Summary'!$C$39,G64<'A - Contractor Summary'!$C$42),\"Yes\",IF(G64>'A - Contractor Summary'!$C$42,\"No\",\"Needs Review\")))","v":""},null,"No",0,0]
[null,52,null,null,null,null,null,null,null,null,null,null,{"$error":"#DIV/0!"},null,null,{"$f":"IF(AND(G65>='A - Contractor Summary'!$C$36,G65<='A - Contractor Summary'!$C$38),\"Yes\",IF(G65<'A - Contractor Summary'!$C$36,\"No\",IF(G65>'A - Contractor Summary'!$C$39,\"\",\"\")))","v":"No"},{"$f":"IF(OR(P65=\"Yes\",P65=\"No\")*AND(G65<'A - Contractor Summary'!$C$39),\"\",IF(AND(G65>'A - Contractor Summary'!$C$39,G65<'A - Contractor Summary'!$C$42),\"Yes\",IF(G65>'A - Contractor Summary'!$C$42,\"No\",\"Needs Review\")))","v":""},null,"No",0,0]
[null,53,null,null,null,null,null,null,null,null,null,null,{"$error":"#DIV/0!"},null,null,{"$f":"IF(AND(G66>='A - Contractor Summary'!$C$36,G66<='A - Contractor Summary'!$C$38),\"Yes\",IF(G66<'A - Contractor Summary'!$C$36,\"No\",IF(G66>'A - Contractor Summary'!$C$39,\"\",\"\")))","v":"No"},{"$f":"IF(OR(P66=\"Yes\",P66=\"No\")*AND(G66<'A - Contractor Summary'!$C$39),\"\",IF(AND(G66>'A - Contractor Summary'!$C$39,G66<'A - Contractor Summary'!$C$42),\"Yes\",IF(G66>'A - Contractor Summary'!$C$42,\"No\",\"Needs Review\")))","v":""},null,"No",0,0]
[null,54,null,null,null,null,null,null,null,null,null,null,{"$error":"#DIV/0!"},null,null,{"$f":"IF(AND(G67>='A - Contractor Summary'!$C$36,G67<='A - Contractor Summary'!$C$38),\"Yes\",IF(G67<'A - Contractor Summary'!$C$36,\"No\",IF(G67>'A - Contractor Summary'!$C$39,\"\",\"\")))","v":"No"},{"$f":"IF(OR(P67=\"Yes\",P67=\"No\")*AND(G67<'A - Contractor Summary'!$C$39),\"\",IF(AND(G67>'A - Contractor Summary'!$C$39,G67<'A - Contractor Summary'!$C$42),\"Yes\",IF(G67>'A - Contractor Summary'!$C$42,\"No\",\"Needs Review\")))","v":""},null,"No",0,0]
[null,55,null,null,null,null,null,null,null,null,null,null,{"$error":"#DIV/0!"},null,null,{"$f":"IF(AND(G68>='A - Contractor Summary'!$C$36,G68<='A - Contractor Summary'!$C$38),\"Yes\",IF(G68<'A - Contractor Summary'!$C$36,\"No\",IF(G68>'A - Contractor Summary'!$C$39,\"\",\"\")))","v":"No"},{"$f":"IF(OR(P68=\"Yes\",P68=\"No\")*AND(G68<'A - Contractor Summary'!$C$39),\"\",IF(AND(G68>'A - Contractor Summary'!$C$39,G68<'A - Contractor Summary'!$C$42),\"Yes\",IF(G68>'A - Contractor Summary'!$C$42,\"No\",\"Needs Review\")))","v":""},null,"No",0,0]
[null,56,null,null,null,null,null,null,null,null,null,null,{"$error":"#DIV/0!"},null,null,{"$f":"IF(AND(G69>='A - Contractor Summary'!$C$36,G69<='A - Contractor Summary'!$C$38),\"Yes\",IF(G69<'A - Contractor Summary'!$C$36,\"No\",IF(G69>'A - Contractor Summary'!$C$39,\"\",\"\")))","v":"No"},{"$f":"IF(OR(P69=\"Yes\",P69=\"No\")*AND(G69<'A - Contractor Summary'!$C$39),\"\",IF(AND(G69>'A - Contractor Summary'!$C$39,G69<'A - Contractor Summary'!$C$42),\"Yes\",IF(G69>'A - Contractor Summary'!$C$42,\"No\",\"Needs Review\")))","v":""},null,"No",0,0]
[null,57,null,null,null,null,null,null,null,null,null,null,{"$error":"#DIV/0!"},null,null,{"$f":"IF(AND(G70>='A - Contractor Summary'!$C$36,G70<='A - Contractor Summary'!$C$38),\"Yes\",IF(G70<'A - Contractor Summary'!$C$36,\"No\",IF(G70>'A - Contractor Summary'!$C$39,\"\",\"\")))","v":"No"},{"$f":"IF(OR(P70=\"Yes\",P70=\"No\")*AND(G70<'A - Contractor Summary'!$C$39),\"\",IF(AND(G70>'A - Contractor Summary'!$C$39,G70<'A - Contractor Summary'!$C$42),\"Yes\",IF(G70>'A - Contractor Summary'!$C$42,\"No\",\"Needs Review\")))","v":""},null,"No",0,0]
[null,58,null,null,null,null,null,null,null,null,null,null,{"$error":"#DIV/0!"},null,null,{"$f":"IF(AND(G71>='A - Contractor Summary'!$C$36,G71<='A - Contractor Summary'!$C$38),\"Yes\",IF(G71<'A - Contractor Summary'!$C$36,\"No\",IF(G71>'A - Contractor Summary'!$C$39,\"\",\"\")))","v":"No"},{"$f":"IF(OR(P71=\"Yes\",P71=\"No\")*AND(G71<'A - Contractor Summary'!$C$39),\"\",IF(AND(G71>'A - Contractor Summary'!$C$39,G71<'A - Contractor Summary'!$C$42),\"Yes\",IF(G71>'A - Contractor Summary'!$C$42,\"No\",\"Needs Review\")))","v":""},null,"No",0,0]
[null,59,null,null,null,null,null,null,null,null,null,null,{"$error":"#DIV/0!"},null,null,{"$f":"IF(AND(G72>='A - Contractor Summary'!$C$36,G72<='A - Contractor Summary'!$C$38),\"Yes\",IF(G72<'A - Contractor Summary'!$C$36,\"No\",IF(G72>'A - Contractor Summary'!$C$39,\"\",\"\")))","v":"No"},{"$f":"IF(OR(P72=\"Yes\",P72=\"No\")*AND(G72<'A - Contractor Summary'!$C$39),\"\",IF(AND(G72>'A - Contractor Summary'!$C$39,G72<'A - Contractor Summary'!$C$42),\"Yes\",IF(G72>'A - Contractor Summary'!$C$42,\"No\",\"Needs Review\")))","v":""},null,"No",0,0]
[null,60,null,null,null,null,null,null,null,null,null,null,{"$error":"#DIV/0!"},null,null,{"$f":"IF(AND(G73>='A - Contractor Summary'!$C$36,G73<='A - Contractor Summary'!$C$38),\"Yes\",IF(G73<'A - Contractor Summary'!$C$36,\"No\",IF(G73>'A - Contractor Summary'!$C$39,\"\",\"\")))","v":"No"},{"$f":"IF(OR(P73=\"Yes\",P73=\"No\")*AND(G73<'A - Contractor Summary'!$C$39),\"\",IF(AND(G73>'A - Contractor Summary'!$C$39,G73<'A - Contractor Summary'!$C$42),\"Yes\",IF(G73>'A - Contractor Summary'!$C$42,\"No\",\"Needs Review\")))","v":""},null,"No",0,0]
[null,61,null,null,null,null,null,null,null,null,null,null,{"$error":"#DIV/0!"},null,null,{"$f":"IF(AND(G74>='A - Contractor Summary'!$C$36,G74<='A - Contractor Summary'!$C$38),\"Yes\",IF(G74<'A - Contractor Summary'!$C$36,\"No\",IF(G74>'A - Contractor Summary'!$C$39,\"\",\"\")))","v":"No"},{"$f":"IF(OR(P74=\"Yes\",P74=\"No\")*AND(G74<'A - Contractor Summary'!$C$39),\"\",IF(AND(G74>'A - Contractor Summary'!$C$39,G74<'A - Contractor Summary'!$C$42),\"Yes\",IF(G74>'A - Contractor Summary'!$C$42,\"No\",\"Needs Review\")))","v":""},null,"No",0,0]
[null,62,null,null,null,null,null,null,null,null,null,null,{"$error":"#DIV/0!"},null,null,{"$f":"IF(AND(G75>='A - Contractor Summary'!$C$36,G75<='A - Contractor Summary'!$C$38),\"Yes\",IF(G75<'A - Contractor Summary'!$C$36,\"No\",IF(G75>'A - Contractor Summary'!$C$39,\"\",\"\")))","v":"No"},{"$f":"IF(OR(P75=\"Yes\",P75=\"No\")*AND(G75<'A - Contractor Summary'!$C$39),\"\",IF(AND(G75>'A - Contractor Summary'!$C$39,G75<'A - Contractor Summary'!$C$42),\"Yes\",IF(G75>'A - Contractor Summary'!$C$42,\"No\",\"Needs Review\")))","v":""},null,"No",0,0]
[null,63,null,null,null,null,null,null,null,null,null,null,{"$error":"#DIV/0!"},null,null,{"$f":"IF(AND(G76>='A - Contractor Summary'!$C$36,G76<='A - Contractor Summary'!$C$38),\"Yes\",IF(G76<'A - Contractor Summary'!$C$36,\"No\",IF(G76>'A - Contractor Summary'!$C$39,\"\",\"\")))","v":"No"},{"$f":"IF(OR(P76=\"Yes\",P76=\"No\")*AND(G76<'A - Contractor Summary'!$C$39),\"\",IF(AND(G76>'A - Contractor Summary'!$C$39,G76<'A - Contractor Summary'!$C$42),\"Yes\",IF(G76>'A - Contractor Summary'!$C$42,\"No\",\"Needs Review\")))","v":""},null,"No",0,0,null,null,3]
[null,64,null,null,null,null,null,null,null,null,null,null,{"$error":"#DIV/0!"},null,null,{"$f":"IF(AND(G77>='A - Contractor Summary'!$C$36,G77<='A - Contractor Summary'!$C$38),\"Yes\",IF(G77<'A - Contractor Summary'!$C$36,\"No\",IF(G77>'A - Contractor Summary'!$C$39,\"\",\"\")))","v":"No"},{"$f":"IF(OR(P77=\"Yes\",P77=\"No\")*AND(G77<'A - Contractor Summary'!$C$39),\"\",IF(AND(G77>'A - Contractor Summary'!$C$39,G77<'A - Contractor Summary'!$C$42),\"Yes\",IF(G77>'A - Contractor Summary'!$C$42,\"No\",\"Needs Review\")))","v":""},null,"No",0,0,null,null,3]
[null,65,null,null,null,null,null,null,null,null,null,null,{"$f":"L78/K78","v":{"$error":"#DIV/0!"}},null,null,{"$f":"IF(AND(G78>='A - Contractor Summary'!$C$36,G78<='A - Contractor Summary'!$C$38),\"Yes\",IF(G78<'A - Contractor Summary'!$C$36,\"No\",IF(G78>'A - Contractor Summary'!$C$39,\"\",\"\")))","v":"No"},{"$f":"IF(OR(P78=\"Yes\",P78=\"No\")*AND(G78<'A - Contractor Summary'!$C$39),\"\",IF(AND(G78>'A - Contractor Summary'!$C$39,G78<'A - Contractor Summary'!$C$42),\"Yes\",IF(G78>'A - Contractor Summary'!$C$42,\"No\",\"Needs Review\")))","v":""},null,{"$f":"IF(AND(R78=\"YES\",O78=\"Yes\",N78=\"Yes\")*OR(P78=\"Yes\",Q78=\"Yes\"),\"Yes\",IF(OR(N78=\"No\",O78=\"No\",P78=\"No\",Q78=\"No\",R78=\"No\"),\"No\",\"Needs Review\"))","v":"No"},{"$f":"IF(S78=\"Yes\",L78,0)","v":0},{"$f":"IF(S78=\"Needs Review\",L78,0)","v":0}]
[null,66,null,null,null,null,null,null,null,null,null,null,{"$error":"#DIV/0!"},null,null,{"$f":"IF(AND(G79>='A - Contractor Summary'!$C$36,G79<='A - Contractor Summary'!$C$38),\"Yes\",IF(G79<'A - Contractor Summary'!$C$36,\"No\",IF(G79>'A - Contractor Summary'!$C$39,\"\",\"\")))","v":"No"},{"$f":"IF(OR(P79=\"Yes\",P79=\"No\")*AND(G79<'A - Contractor Summary'!$C$39),\"\",IF(AND(G79>'A - Contractor Summary'!$C$39,G79<'A - Contractor Summary'!$C$42),\"Yes\",IF(G79>'A - Contractor Summary'!$C$42,\"No\",\"Needs Review\")))","v":""},null,"No",0,0]
[null,67,null,null,null,null,null,null,null,null,null,null,{"$error":"#DIV/0!"},null,null,{"$f":"IF(AND(G80>='A - Contractor Summary'!$C$36,G80<='A - Contractor Summary'!$C$38),\"Yes\",IF(G80<'A - Contractor Summary'!$C$36,\"No\",IF(G80>'A - Contractor Summary'!$C$39,\"\",\"\")))","v":"No"},{"$f":"IF(OR(P80=\"Yes\",P80=\"No\")*AND(G80<'A - Contractor Summary'!$C$39),\"\",IF(AND(G80>'A - Contractor Summary'!$C$39,G80<'A - Contractor Summary'!$C$42),\"Yes\",IF(G80>'A - Contractor Summary'!$C$42,\"No\",\"Needs Review\")))","v":""},null,"No",0,0]
[null,68,null,null,null,null,null,null,null,null,null,null,{"$error":"#DIV/0!"},null,null,{"$f":"IF(AND(G81>='A - Contractor Summary'!$C$36,G81<='A - Contractor Summary'!$C$38),\"Yes\",IF(G81<'A - Contractor Summary'!$C$36,\"No\",IF(G81>'A - Contractor Summary'!$C$39,\"\",\"\")))","v":"No"},{"$f":"IF(OR(P81=\"Yes\",P81=\"No\")*AND(G81<'A - Contractor Summary'!$C$39),\"\",IF(AND(G81>'A - Contractor Summary'!$C$39,G81<'A - Contractor Summary'!$C$42),\"Yes\",IF(G81>'A - Contractor Summary'!$C$42,\"No\",\"Needs Review\")))","v":""},null,"No",0,0,null,null,3]
[null,69,null,null,null,null,null,null,null,null,null,null,{"$error":"#DIV/0!"},null,null,{"$f":"IF(AND(G82>='A - Contractor Summary'!$C$36,G82<='A - Contractor Summary'!$C$38),\"Yes\",IF(G82<'A - Contractor Summary'!$C$36,\"No\",IF(G82>'A - Contractor Summary'!$C$39,\"\",\"\")))","v":"No"},{"$f":"IF(OR(P82=\"Yes\",P82=\"No\")*AND(G82<'A - Contractor Summary'!$C$39),\"\",IF(AND(G82>'A - Contractor Summary'!$C$39,G82<'A - Contractor Summary'!$C$42),\"Yes\",IF(G82>'A - Contractor Summary'!$C$42,\"No\",\"Needs Review\")))","v":""},null,"No",0,0,null,null,3]
[null,70,null,null,null,null,null,null,null,null,null,null,{"$error":"#DIV/0!"},null,null,{"$f":"IF(AND(G83>='A - Contractor Summary'!$C$36,G83<='A - Contractor Summary'!$C$38),\"Yes\",IF(G83<'A - Contractor Summary'!$C$36,\"No\",IF(G83>'A - Contractor Summary'!$C$39,\"\",\"\")))","v":"No"},{"$f":"IF(OR(P83=\"Yes\",P83=\"No\")*AND(G83<'A - Contractor Summary'!$C$39),\"\",IF(AND(G83>'A - Contractor Summary'!$C$39,G83<'A - Contractor Summary'!$C$42),\"Yes\",IF(G83>'A - Contractor Summary'!$C$42,\"No\",\"Needs Review\")))","v":""},null,"No",0,0]
[null,71,null,null,null,null,null,null,null,null,null,null,{"$error":"#DIV/0!"},null,null,{"$f":"IF(AND(G84>='A - Contractor Summary'!$C$36,G84<='A - Contractor Summary'!$C$38),\"Yes\",IF(G84<'A - Contractor Summary'!$C$36,\"No\",IF(G84>'A - Contractor Summary'!$C$39,\"\",\"\")))","v":"No"},{"$f":"IF(OR(P84=\"Yes\",P84=\"No\")*AND(G84<'A - Contractor Summary'!$C$39),\"\",IF(AND(G84>'A - Contractor Summary'!$C$39,G84<'A - Contractor Summary'!$C$42),\"Yes\",IF(G84>'A - Contractor Summary'!$C$42,\"No\",\"Needs Review\")))","v":""},null,"No",0,0]
[null,72,null,null,null,null,null,null,null,null,null,null,{"$error":"#DIV/0!"},null,null,{"$f":"IF(AND(G85>='A - Contractor Summary'!$C$36,G85<='A - Contractor Summary'!$C$38),\"Yes\",IF(G85<'A - Contractor Summary'!$C$36,\"No\",IF(G85>'A - Contractor Summary'!$C$39,\"\",\"\")))","v":"No"},{"$f":"IF(OR(P85=\"Yes\",P85=\"No\")*AND(G85<'A - Contractor Summary'!$C$39),\"\",IF(AND(G85>'A - Contractor Summary'!$C$39,G85<'A - Contractor Summary'!$C$42),\"Yes\",IF(G85>'A - Contractor Summary'!$C$42,\"No\",\"Needs Review\")))","v":""},null,"No",0,0]
[null,73,null,null,null,null,null,null,null,null,null,null,{"$error":"#DIV/0!"},null,null,{"$f":"IF(AND(G86>='A - Contractor Summary'!$C$36,G86<='A - Contractor Summary'!$C$38),\"Yes\",IF(G86<'A - Contractor Summary'!$C$36,\"No\",IF(G86>'A - Contractor Summary'!$C$39,\"\",\"\")))","v":"No"},{"$f":"IF(OR(P86=\"Yes\",P86=\"No\")*AND(G86<'A - Contractor Summary'!$C$39),\"\",IF(AND(G86>'A - Contractor Summary'!$C$39,G86<'A - Contractor Summary'!$C$42),\"Yes\",IF(G86>'A - Contractor Summary'!$C$42,\"No\",\"Needs Review\")))","v":""},null,"No",0,0]
[null,74,null,null,null,null,null,null,null,null,null,null,{"$error":"#DIV/0!"},null,null,{"$f":"IF(AND(G87>='A - Contractor Summary'!$C$36,G87<='A - Contractor Summary'!$C$38),\"Yes\",IF(G87<'A - Contractor Summary'!$C$36,\"No\",IF(G87>'A - Contractor Summary'!$C$39,\"\",\"\")))","v":"No"},{"$f":"IF(OR(P87=\"Yes\",P87=\"No\")*AND(G87<'A - Contractor Summary'!$C$39),\"\",IF(AND(G87>'A - Contractor Summary'!$C$39,G87<'A - Contractor Summary'!$C$42),\"Yes\",IF(G87>'A - Contractor Summary'!$C$42,\"No\",\"Needs Review\")))","v":""},null,"No",0,0]
[null,75,null,null,null,null,null,null,null,null,null,null,{"$error":"#DIV/0!"},null,null,{"$f":"IF(AND(G88>='A - Contractor Summary'!$C$36,G88<='A - Contractor Summary'!$C$38),\"Yes\",IF(G88<'A - Contractor Summary'!$C$36,\"No\",IF(G88>'A - Contractor Summary'!$C$39,\"\",\"\")))","v":"No"},{"$f":"IF(OR(P88=\"Yes\",P88=\"No\")*AND(G88<'A - Contractor Summary'!$C$39),\"\",IF(AND(G88>'A - Contractor Summary'!$C$39,G88<'A - Contractor Summary'!$C$42),\"Yes\",IF(G88>'A - Contractor Summary'!$C$42,\"No\",\"Needs Review\")))","v":""},null,"No",0,71.680000000000007,{"$f":"+M88","v":{"$error":"#DIV/0!"}},null,4]
[null,76,null,null,null,null,null,null,null,null,null,null,{"$error":"#DIV/0!"},null,null,{"$f":"IF(AND(G89>='A - Contractor Summary'!$C$36,G89<='A - Contractor Summary'!$C$38),\"Yes\",IF(G89<'A - Contractor Summary'!$C$36,\"No\",IF(G89>'A - Contractor Summary'!$C$39,\"\",\"\")))","v":"No"},{"$f":"IF(OR(P89=\"Yes\",P89=\"No\")*AND(G89<'A - Contractor Summary'!$C$39),\"\",IF(AND(G89>'A - Contractor Summary'!$C$39,G89<'A - Contractor Summary'!$C$42),\"Yes\",IF(G89>'A - Contractor Summary'!$C$42,\"No\",\"Needs Review\")))","v":""},null,"No",0,71.680000000000007,{"$f":"+M89","v":{"$error":"#DIV/0!"}},null,4]
[null,77,null,null,null,null,null,null,null,null,null,null,{"$error":"#DIV/0!"},null,null,{"$f":"IF(AND(G90>='A - Contractor Summary'!$C$36,G90<='A - Contractor Summary'!$C$38),\"Yes\",IF(G90<'A - Contractor Summary'!$C$36,\"No\",IF(G90>'A - Contractor Summary'!$C$39,\"\",\"\")))","v":"No"},{"$f":"IF(OR(P90=\"Yes\",P90=\"No\")*AND(G90<'A - Contractor Summary'!$C$39),\"\",IF(AND(G90>'A - Contractor Summary'!$C$39,G90<'A - Contractor Summary'!$C$42),\"Yes\",IF(G90>'A - Contractor Summary'!$C$42,\"No\",\"Needs Review\")))","v":""},null,"No",0,0,null,null,"2,3"]
[null,78,null,null,null,null,null,null,null,null,null,null,{"$error":"#DIV/0!"},null,null,{"$f":"IF(AND(G91>='A - Contractor Summary'!$C$36,G91<='A - Contractor Summary'!$C$38),\"Yes\",IF(G91<'A - Contractor Summary'!$C$36,\"No\",IF(G91>'A - Contractor Summary'!$C$39,\"\",\"\")))","v":"No"},{"$f":"IF(OR(P91=\"Yes\",P91=\"No\")*AND(G91<'A - Contractor Summary'!$C$39),\"\",IF(AND(G91>'A - Contractor Summary'!$C$39,G91<'A - Contractor Summary'!$C$42),\"Yes\",IF(G91>'A - Contractor Summary'!$C$42,\"No\",\"Needs Review\")))","v":""},null,"No",0,0,null,null,1]
[null,79,null,null,null,null,null,null,null,null,null,null,{"$error":"#DIV/0!"},null,null,{"$f":"IF(AND(G92>='A - Contractor Summary'!$C$36,G92<='A - Contractor Summary'!$C$38),\"Yes\",IF(G92<'A - Contractor Summary'!$C$36,\"No\",IF(G92>'A - Contractor Summary'!$C$39,\"\",\"\")))","v":"No"},{"$f":"IF(OR(P92=\"Yes\",P92=\"No\")*AND(G92<'A - Contractor Summary'!$C$39),\"\",IF(AND(G92>'A - Contractor Summary'!$C$39,G92<'A - Contractor Summary'!$C$42),\"Yes\",IF(G92>'A - Contractor Summary'!$C$42,\"No\",\"Needs Review\")))","v":""},null,"No",0,0,null,null,1]
[null,null,null,null,null,null,null,null,null,null,null,{"$f":"SUM(L14:L92)","v":0},null,null,null,null,null,null,null,{"$f":"IFERROR(SUM(T14:T92),0)","v":0},{"$f":"IFERROR(SUM(U14:U92),0)","v":143.36000000000001},0,{"$f":"IFERROR(SUM(W14:W92),0)","v":0},{"$f":"U93-V93-W93","v":143.36000000000001},"check (a)"]
[]
[]
[null,"Tickmark Explanation:"]
[null,1]
[null,2]
[null,3]
[null,4]

{"sheet":"E - Fuel","index":9,"n_rows":24,"n_cols":22,"rows_kept":24,"cut":false,"hidden":false,"merged":[[1,1,1,20],[3,1,6,11],[11,12,11,20],[11,1,11,11],[4,15,6,20]]}
[]
[null,"Fuel Charges"]
[]
[null,"Test Plan: (A) Obtain support of individual charges. (B) Enter Yes/No if receipt is itemized (C) Enter Yes/No if proof of payment has been provided. (D) Ensure charges fall between the dates the vendor was mobilized and the date they arrived.  (E) Ensure charges are prior to the date the vendor arrived home or was released to another utility.  (F) Ensure the location of charge was reasonable (G) Determine the amount(s) to be reviewed, allowed  and/or disallowed.  (H)  For charges which required further review, document review (include why it was determined to be allowed/disallowed via a tickmark)."]
[]
[]
[]
[]
[null,"a","Check figure should equal $0.  Cell will appear yellow if discrepancies are noted."]
[]
[null,null,"A",null,null,null,null,null,null,null,"B","C","D","E","F","G",null,null,"H"]
[null,"Support Reviewed",null,null,null,null,null,null,null,null,null,null,"Conclusions"]
[null,"#","Type of Support","Support Identifier","Company","Date","Person","Name","Location","Total Charge","Itemized Receipt","Proof of Payment","Reasonable based on Mobilization date(s)","Reasonable based on Demobilization date(s)","Locations Reasonable","Conclusion","$ Allowable Charge","$ To Be Reviewed","Reviewed - Allowable Charge","Reviewed - Unallowable Charge","Tickmarks"]
[null,1,"Receipts",null,"Vendor 04","10/13/18-11/10/18",null,null,null,6185.55,null,null,{"$f":"IF(AND(F14>='A - Contractor Summary'!$C$36,F14<='A - Contractor Summary'!$C$38),\"Yes\",IF(F14<'A - Contractor Summary'!$C$36,\"No\",IF(F14>'A - Contractor Summary'!$C$39,\"\",\"\")))","v":""},{"$f":"IF(OR(M14=\"Yes\",M14=\"No\")*AND(F14<'A - Contractor Summary'!$C$39),\"\",IF(AND(F14>'A - Contractor Summary'!$C$39,F14<'A - Contractor Summary'!$C$42),\"Yes\",IF(F14>'A - Contractor Summary'!$C$42,\"No\",\"Needs Review\")))","v":"Yes"},null,{"$f":"IF(AND(O14=\"Yes\",K14=\"Yes\",L14=\"Yes\")*OR(N14=\"Yes\",M14=\"Yes\"),\"Yes\",IF(OR(K14=\"No\",M14=\"No\",N14=\"No\",O14=\"No\",L14=\"No\"),\"No\",\"Needs Review\"))","v":"Needs Review"},{"$f":"IF(P14=\"Yes\",J14,0)","v":0},{"$f":"IF(P14=\"Needs Review\",J14,0)","v":6185.55},{"$f":"+J14","v":6185.55},null,1]
[null,2,null,null,null,null,null,null,null,null,null,null,{"$f":"IF(AND(F15>='A - Contractor Summary'!$C$36,F15<='A - Contractor Summary'!$C$38),\"Yes\",IF(F15<'A - Contractor Summary'!$C$36,\"No\",IF(F15>'A - Contractor Summary'!$C$39,\"\",\"\")))","v":"No"},null,null,null,0,0]
[null,null,null,null,null,null,null,null,null,null,null,null,{"$f":"IF(AND(F16>='A - Contractor Summary'!$C$36,F16<='A - Contractor Summary'!$C$38),\"Yes\",IF(F16<'A - Contractor Summary'!$C$36,\"No\",IF(F16>'A - Contractor Summary'!$C$39,\"\",\"\")))","v":"No"},null,null,null,{"$f":"IF(P16=\"Yes\",#REF!,0)","v":0},{"$f":"IF(P16=\"ED Review\",#REF!,0)","v":0}]
[null,null,null,null,null,null,null,null,null,{"$f":"SUM(J14:J16)","v":6185.55},null,null,null,null,null,null,{"$f":"IFERROR(SUM(Q14:Q16),0)","v":0},{"$f":"IFERROR(SUM(R14:R16),0)","v":6185.55},{"$f":"SUM(S14:S16)","v":6185.55},{"$f":"SUM(T14:T16)","v":0},{"$f":"R17-S17-T17","v":0},"check (a)"]
[]
[]
[]
[]
[]
[null,"Tickmark Explanation:"]
[null,null,"1  Documentation Provided"]

{"sheet":"F - Meals","index":10,"n_rows":152,"n_cols":23,"rows_kept":152,"cut":false,"hidden":false,"merged":[[11,13,11,21],[3,1,6,12],[1,1,1,21],[11,1,11,12]]}
[]
[null,"Meal Charges"]
[]
[null,"Test Plan: (A) Obtain support of individual charges.  (B) Enter Yes/No if receipt is itemized.  (C) Enter Yes/No if proof of payment has been provided.  (D) Ensure charges fall between the dates the vendor was mobilized and the date they arrived.  (E) Ensure charges are prior to the date the vendor arrived home or was released to another utility.  (F) Ensure the location of charge was reasonable (G) Determine the amount(s) to be reviewed, allowed and/or disallowed.  (H) For charges which required further review, document review and include why it was determined to be allowed/disallowed via a tickmark. "]
[]
[]
[]
[]
[null,"a","Check figure should equal $0.  Cell will appear yellow if discrepancies are noted."]
[]
[null,null,"A",null,null,null,null,null,null,null,null,"B","C","D","E","F","G",null,null,"H"]
[null,"Support Reviewed",null,null,null,null,null,null,null,null,null,null,null,"Conclusions"]
[null,"#","Type of Support","Support Identifier","Company","Crew","Date","Person"," Restaurant Name","Location","$ Total","Itemized Receipt","Proof of Payment","Reasonable based on Mobilization date(s)","Reasonable based on Demobilization date(s)","Locations Reasonable","Conclusion","$ Allowable Charge","$ To Be Reviewed","Reviewed - Allowable Charge","Reviewed - Unallowable Charge","Tickmarks"]
[null,1,null,null,null,null,null,null,null,null,null,null,null,{"$f":"IF(AND(G14>='A - Contractor Summary'!$C$36,G14<='A - Contractor Summary'!$C$38),\"Yes\",IF(G14<'A - Contractor Summary'!$C$36,\"No\",IF(G14>'A - Contractor Summary'!$C$39,\"\",\"\")))","v":"No"},{"$f":"IF(OR(N14=\"Yes\",N14=\"No\")*AND(G14<'A - Contractor Summary'!$C$39),\"\",IF(AND(G14>'A - Contractor Summary'!$C$39,G14<'A - Contractor Summary'!$C$42),\"Yes\",IF(G14>'A - Contractor Summary'!$C$42,\"No\",\"Needs Review\")))","v":""},"Yes",{"$f":"IF(AND(P14=\"Yes\",L14=\"Yes\",M14=\"Yes\")*OR(O14=\"Yes\",N14=\"Yes\"),\"Yes\",IF(OR(L14=\"No\",N14=\"No\",O14=\"No\",P14=\"No\",M14=\"No\"),\"No\",\"Needs Review\"))","v":"No"},{"$f":"IF(Q14=\"Yes\",K14,0)","v":0},{"$f":"IF(Q14=\"Needs Review\",K14,0)","v":0}]
[null,2,null,null,null,null,null,null,null,null,null,null,null,{"$f":"IF(AND(G15>='A - Contractor Summary'!$C$36,G15<='A - Contractor Summary'!$C$38),\"Yes\",IF(G15<'A - Contractor Summary'!$C$36,\"No\",IF(G15>'A - Contractor Summary'!$C$39,\"\",\"\")))","v":"No"},{"$f":"IF(OR(N15=\"Yes\",N15=\"No\")*AND(G15<'A - Contractor Summary'!$C$39),\"\",IF(AND(G15>'A - Contractor Summary'!$C$39,G15<'A - Contractor Summary'!$C$42),\"Yes\",IF(G15>'A - Contractor Summary'!$C$42,\"No\",\"Needs Review\")))","v":""},"Yes","No",0,0]
[null,3,null,null,null,null,null,null,null,null,null,null,null,{"$f":"IF(AND(G16>='A - Contractor Summary'!$C$36,G16<='A - Contractor Summary'!$C$38),\"Yes\",IF(G16<'A - Contractor Summary'!$C$36,\"No\",IF(G16>'A - Contractor Summary'!$C$39,\"\",\"\")))","v":"No"},{"$f":"IF(OR(N16=\"Yes\",N16=\"No\")*AND(G16<'A - Contractor Summary'!$C$39),\"\",IF(AND(G16>'A - Contractor Summary'!$C$39,G16<'A - Contractor Summary'!$C$42),\"Yes\",IF(G16>'A - Contractor Summary'!$C$42,\"No\",\"Needs Review\")))","v":""},"Yes","No",0,0]
[null,4,null,null,null,null,null,null,null,null,null,null,null,{"$f":"IF(AND(G17>='A - Contractor Summary'!$C$36,G17<='A - Contractor Summary'!$C$38),\"Yes\",IF(G17<'A - Contractor Summary'!$C$36,\"No\",IF(G17>'A - Contractor Summary'!$C$39,\"\",\"\")))","v":"No"},{"$f":"IF(OR(N17=\"Yes\",N17=\"No\")*AND(G17<'A - Contractor Summary'!$C$39),\"\",IF(AND(G17>'A - Contractor Summary'!$C$39,G17<'A - Contractor Summary'!$C$42),\"Yes\",IF(G17>'A - Contractor Summary'!$C$42,\"No\",\"Needs Review\")))","v":""},"Yes","No",0,0]
[null,5,null,null,null,null,null,null,null,null,null,null,null,{"$f":"IF(AND(G18>='A - Contractor Summary'!$C$36,G18<='A - Contractor Summary'!$C$38),\"Yes\",IF(G18<'A - Contractor Summary'!$C$36,\"No\",IF(G18>'A - Contractor Summary'!$C$39,\"\",\"\")))","v":"No"},{"$f":"IF(OR(N18=\"Yes\",N18=\"No\")*AND(G18<'A - Contractor Summary'!$C$39),\"\",IF(AND(G18>'A - Contractor Summary'!$C$39,G18<'A - Contractor Summary'!$C$42),\"Yes\",IF(G18>'A - Contractor Summary'!$C$42,\"No\",\"Needs Review\")))","v":""},"No","No",0,0]
[null,6,null,null,null,null,null,null,null,null,null,null,null,{"$f":"IF(AND(G19>='A - Contractor Summary'!$C$36,G19<='A - Contractor Summary'!$C$38),\"Yes\",IF(G19<'A - Contractor Summary'!$C$36,\"No\",IF(G19>'A - Contractor Summary'!$C$39,\"\",\"\")))","v":"No"},{"$f":"IF(OR(N19=\"Yes\",N19=\"No\")*AND(G19<'A - Contractor Summary'!$C$39),\"\",IF(AND(G19>'A - Contractor Summary'!$C$39,G19<'A - Contractor Summary'!$C$42),\"Yes\",IF(G19>'A - Contractor Summary'!$C$42,\"No\",\"Needs Review\")))","v":""},"Yes","No",0,0]
[null,7,null,null,null,null,null,null,null,null,null,null,null,{"$f":"IF(AND(G20>='A - Contractor Summary'!$C$36,G20<='A - Contractor Summary'!$C$38),\"Yes\",IF(G20<'A - Contractor Summary'!$C$36,\"No\",IF(G20>'A - Contractor Summary'!$C$39,\"\",\"\")))","v":"No"},{"$f":"IF(OR(N20=\"Yes\",N20=\"No\")*AND(G20<'A - Contractor Summary'!$C$39),\"\",IF(AND(G20>'A - Contractor Summary'!$C$39,G20<'A - Contractor Summary'!$C$42),\"Yes\",IF(G20>'A - Contractor Summary'!$C$42,\"No\",\"Needs Review\")))","v":""},"Yes","No",0,0]
[null,8,null,null,null,null,null,null,null,null,null,null,null,{"$f":"IF(AND(G21>='A - Contractor Summary'!$C$36,G21<='A - Contractor Summary'!$C$38),\"Yes\",IF(G21<'A - Contractor Summary'!$C$36,\"No\",IF(G21>'A - Contractor Summary'!$C$39,\"\",\"\")))","v":"No"},{"$f":"IF(OR(N21=\"Yes\",N21=\"No\")*AND(G21<'A - Contractor Summary'!$C$39),\"\",IF(AND(G21>'A - Contractor Summary'!$C$39,G21<'A - Contractor Summary'!$C$42),\"Yes\",IF(G21>'A - Contractor Summary'!$C$42,\"No\",\"Needs Review\")))","v":""},"Yes","No",0,0]
[null,9,null,null,null,null,null,null,null,null,null,null,null,{"$f":"IF(AND(G22>='A - Contractor Summary'!$C$36,G22<='A - Contractor Summary'!$C$38),\"Yes\",IF(G22<'A - Contractor Summary'!$C$36,\"No\",IF(G22>'A - Contractor Summary'!$C$39,\"\",\"\")))","v":"No"},{"$f":"IF(OR(N22=\"Yes\",N22=\"No\")*AND(G22<'A - Contractor Summary'!$C$39),\"\",IF(AND(G22>'A - Contractor Summary'!$C$39,G22<'A - Contractor Summary'!$C$42),\"Yes\",IF(G22>'A - Contractor Summary'!$C$42,\"No\",\"Needs Review\")))","v":""},"Yes","No",0,0]
[null,10,null,null,null,null,null,null,null,null,null,null,null,{"$f":"IF(AND(G23>='A - Contractor Summary'!$C$36,G23<='A - Contractor Summary'!$C$38),\"Yes\",IF(G23<'A - Contractor Summary'!$C$36,\"No\",IF(G23>'A - Contractor Summary'!$C$39,\"\",\"\")))","v":"No"},{"$f":"IF(OR(N23=\"Yes\",N23=\"No\")*AND(G23<'A - Contractor Summary'!$C$39),\"\",IF(AND(G23>'A - Contractor Summary'!$C$39,G23<'A - Contractor Summary'!$C$42),\"Yes\",IF(G23>'A - Contractor Summary'!$C$42,\"No\",\"Needs Review\")))","v":""},"Yes","No",0,0]
[null,11,null,null,null,null,null,null,null,null,null,null,null,{"$f":"IF(AND(G24>='A - Contractor Summary'!$C$36,G24<='A - Contractor Summary'!$C$38),\"Yes\",IF(G24<'A - Contractor Summary'!$C$36,\"No\",IF(G24>'A - Contractor Summary'!$C$39,\"\",\"\")))","v":"No"},{"$f":"IF(OR(N24=\"Yes\",N24=\"No\")*AND(G24<'A - Contractor Summary'!$C$39),\"\",IF(AND(G24>'A - Contractor Summary'!$C$39,G24<'A - Contractor Summary'!$C$42),\"Yes\",IF(G24>'A - Contractor Summary'!$C$42,\"No\",\"Needs Review\")))","v":""},"Yes","No",0,0]
[null,12,null,null,null,null,null,null,null,null,null,null,null,{"$f":"IF(AND(G25>='A - Contractor Summary'!$C$36,G25<='A - Contractor Summary'!$C$38),\"Yes\",IF(G25<'A - Contractor Summary'!$C$36,\"No\",IF(G25>'A - Contractor Summary'!$C$39,\"\",\"\")))","v":"No"},{"$f":"IF(OR(N25=\"Yes\",N25=\"No\")*AND(G25<'A - Contractor Summary'!$C$39),\"\",IF(AND(G25>'A - Contractor Summary'!$C$39,G25<'A - Contractor Summary'!$C$42),\"Yes\",IF(G25>'A - Contractor Summary'!$C$42,\"No\",\"Needs Review\")))","v":""},"Yes","No",0,0]
[null,13,null,null,null,null,null,null,null,null,null,null,null,{"$f":"IF(AND(G26>='A - Contractor Summary'!$C$36,G26<='A - Contractor Summary'!$C$38),\"Yes\",IF(G26<'A - Contractor Summary'!$C$36,\"No\",IF(G26>'A - Contractor Summary'!$C$39,\"\",\"\")))","v":"No"},{"$f":"IF(OR(N26=\"Yes\",N26=\"No\")*AND(G26<'A - Contractor Summary'!$C$39),\"\",IF(AND(G26>'A - Contractor Summary'!$C$39,G26<'A - Contractor Summary'!$C$42),\"Yes\",IF(G26>'A - Contractor Summary'!$C$42,\"No\",\"Needs Review\")))","v":""},"Yes","No",0,0]
[null,14,null,null,null,null,null,null,null,null,null,null,null,{"$f":"IF(AND(G27>='A - Contractor Summary'!$C$36,G27<='A - Contractor Summary'!$C$38),\"Yes\",IF(G27<'A - Contractor Summary'!$C$36,\"No\",IF(G27>'A - Contractor Summary'!$C$39,\"\",\"\")))","v":"No"},{"$f":"IF(OR(N27=\"Yes\",N27=\"No\")*AND(G27<'A - Contractor Summary'!$C$39),\"\",IF(AND(G27>'A - Contractor Summary'!$C$39,G27<'A - Contractor Summary'!$C$42),\"Yes\",IF(G27>'A - Contractor Summary'!$C$42,\"No\",\"Needs Review\")))","v":""},"Yes","No",0,0]
[null,15,null,null,null,null,null,null,null,null,null,null,null,{"$f":"IF(AND(G28>='A - Contractor Summary'!$C$36,G28<='A - Contractor Summary'!$C$38),\"Yes\",IF(G28<'A - Contractor Summary'!$C$36,\"No\",IF(G28>'A - Contractor Summary'!$C$39,\"\",\"\")))","v":"No"},{"$f":"IF(OR(N28=\"Yes\",N28=\"No\")*AND(G28<'A - Contractor Summary'!$C$39),\"\",IF(AND(G28>'A - Contractor Summary'!$C$39,G28<'A - Contractor Summary'!$C$42),\"Yes\",IF(G28>'A - Contractor Summary'!$C$42,\"No\",\"Needs Review\")))","v":""},"Yes","No",0,0]
[null,16,null,null,null,null,null,null,null,null,null,null,null,{"$f":"IF(AND(G29>='A - Contractor Summary'!$C$36,G29<='A - Contractor Summary'!$C$38),\"Yes\",IF(G29<'A - Contractor Summary'!$C$36,\"No\",IF(G29>'A - Contractor Summary'!$C$39,\"\",\"\")))","v":"No"},{"$f":"IF(OR(N29=\"Yes\",N29=\"No\")*AND(G29<'A - Contractor Summary'!$C$39),\"\",IF(AND(G29>'A - Contractor Summary'!$C$39,G29<'A - Contractor Summary'!$C$42),\"Yes\",IF(G29>'A - Contractor Summary'!$C$42,\"No\",\"Needs Review\")))","v":""},"No","No",0,0]
[null,17,null,null,null,null,null,null,null,null,null,null,null,{"$f":"IF(AND(G30>='A - Contractor Summary'!$C$36,G30<='A - Contractor Summary'!$C$38),\"Yes\",IF(G30<'A - Contractor Summary'!$C$36,\"No\",IF(G30>'A - Contractor Summary'!$C$39,\"\",\"\")))","v":"No"},{"$f":"IF(OR(N30=\"Yes\",N30=\"No\")*AND(G30<'A - Contractor Summary'!$C$39),\"\",IF(AND(G30>'A - Contractor Summary'!$C$39,G30<'A - Contractor Summary'!$C$42),\"Yes\",IF(G30>'A - Contractor Summary'!$C$42,\"No\",\"Needs Review\")))","v":""},"Yes","No",0,0]
[null,18,null,null,null,null,null,null,null,null,null,null,null,{"$f":"IF(AND(G31>='A - Contractor Summary'!$C$36,G31<='A - Contractor Summary'!$C$38),\"Yes\",IF(G31<'A - Contractor Summary'!$C$36,\"No\",IF(G31>'A - Contractor Summary'!$C$39,\"\",\"\")))","v":"No"},{"$f":"IF(OR(N31=\"Yes\",N31=\"No\")*AND(G31<'A - Contractor Summary'!$C$39),\"\",IF(AND(G31>'A - Contractor Summary'!$C$39,G31<'A - Contractor Summary'!$C$42),\"Yes\",IF(G31>'A - Contractor Summary'!$C$42,\"No\",\"Needs Review\")))","v":""},"Yes","No",0,0]
[null,19,null,null,null,null,null,null,null,null,null,null,null,{"$f":"IF(AND(G32>='A - Contractor Summary'!$C$36,G32<='A - Contractor Summary'!$C$38),\"Yes\",IF(G32<'A - Contractor Summary'!$C$36,\"No\",IF(G32>'A - Contractor Summary'!$C$39,\"\",\"\")))","v":"No"},{"$f":"IF(OR(N32=\"Yes\",N32=\"No\")*AND(G32<'A - Contractor Summary'!$C$39),\"\",IF(AND(G32>'A - Contractor Summary'!$C$39,G32<'A - Contractor Summary'!$C$42),\"Yes\",IF(G32>'A - Contractor Summary'!$C$42,\"No\",\"Needs Review\")))","v":""},"Yes","No",0,0]
[null,20,null,null,null,null,null,null,null,null,null,null,null,{"$f":"IF(AND(G33>='A - Contractor Summary'!$C$36,G33<='A - Contractor Summary'!$C$38),\"Yes\",IF(G33<'A - Contractor Summary'!$C$36,\"No\",IF(G33>'A - Contractor Summary'!$C$39,\"\",\"\")))","v":"No"},{"$f":"IF(OR(N33=\"Yes\",N33=\"No\")*AND(G33<'A - Contractor Summary'!$C$39),\"\",IF(AND(G33>'A - Contractor Summary'!$C$39,G33<'A - Contractor Summary'!$C$42),\"Yes\",IF(G33>'A - Contractor Summary'!$C$42,\"No\",\"Needs Review\")))","v":""},"Yes","No",0,0]
[null,21,null,null,null,null,null,null,null,null,null,null,null,{"$f":"IF(AND(G34>='A - Contractor Summary'!$C$36,G34<='A - Contractor Summary'!$C$38),\"Yes\",IF(G34<'A - Contractor Summary'!$C$36,\"No\",IF(G34>'A - Contractor Summary'!$C$39,\"\",\"\")))","v":"No"},{"$f":"IF(OR(N34=\"Yes\",N34=\"No\")*AND(G34<'A - Contractor Summary'!$C$39),\"\",IF(AND(G34>'A - Contractor Summary'!$C$39,G34<'A - Contractor Summary'!$C$42),\"Yes\",IF(G34>'A - Contractor Summary'!$C$42,\"No\",\"Needs Review\")))","v":""},"Yes","No",0,0]
[null,22,null,null,null,null,null,null,null,null,null,null,null,{"$f":"IF(AND(G35>='A - Contractor Summary'!$C$36,G35<='A - Contractor Summary'!$C$38),\"Yes\",IF(G35<'A - Contractor Summary'!$C$36,\"No\",IF(G35>'A - Contractor Summary'!$C$39,\"\",\"\")))","v":"No"},{"$f":"IF(OR(N35=\"Yes\",N35=\"No\")*AND(G35<'A - Contractor Summary'!$C$39),\"\",IF(AND(G35>'A - Contractor Summary'!$C$39,G35<'A - Contractor Summary'!$C$42),\"Yes\",IF(G35>'A - Contractor Summary'!$C$42,\"No\",\"Needs Review\")))","v":""},"Yes","No",0,0]
[null,23,null,null,null,null,null,null,null,null,null,null,null,{"$f":"IF(AND(G36>='A - Contractor Summary'!$C$36,G36<='A - Contractor Summary'!$C$38),\"Yes\",IF(G36<'A - Contractor Summary'!$C$36,\"No\",IF(G36>'A - Contractor Summary'!$C$39,\"\",\"\")))","v":"No"},{"$f":"IF(OR(N36=\"Yes\",N36=\"No\")*AND(G36<'A - Contractor Summary'!$C$39),\"\",IF(AND(G36>'A - Contractor Summary'!$C$39,G36<'A - Contractor Summary'!$C$42),\"Yes\",IF(G36>'A - Contractor Summary'!$C$42,\"No\",\"Needs Review\")))","v":""},"Yes","No",0,0]
[null,24,null,null,null,null,null,null,null,null,null,null,null,{"$f":"IF(AND(G37>='A - Contractor Summary'!$C$36,G37<='A - Contractor Summary'!$C$38),\"Yes\",IF(G37<'A - Contractor Summary'!$C$36,\"No\",IF(G37>'A - Contractor Summary'!$C$39,\"\",\"\")))","v":"No"},{"$f":"IF(OR(N37=\"Yes\",N37=\"No\")*AND(G37<'A - Contractor Summary'!$C$39),\"\",IF(AND(G37>'A - Contractor Summary'!$C$39,G37<'A - Contractor Summary'!$C$42),\"Yes\",IF(G37>'A - Contractor Summary'!$C$42,\"No\",\"Needs Review\")))","v":""},"Yes","No",0,0]
[null,25,null,null,null,null,null,null,null,null,null,null,null,{"$f":"IF(AND(G38>='A - Contractor Summary'!$C$36,G38<='A - Contractor Summary'!$C$38),\"Yes\",IF(G38<'A - Contractor Summary'!$C$36,\"No\",IF(G38>'A - Contractor Summary'!$C$39,\"\",\"\")))","v":"No"},{"$f":"IF(OR(N38=\"Yes\",N38=\"No\")*AND(G38<'A - Contractor Summary'!$C$39),\"\",IF(AND(G38>'A - Contractor Summary'!$C$39,G38<'A - Contractor Summary'!$C$42),\"Yes\",IF(G38>'A - Contractor Summary'!$C$42,\"No\",\"Needs Review\")))","v":""},"Yes","No",0,0]
[null,26,null,null,null,null,null,null,null,null,null,null,null,{"$f":"IF(AND(G39>='A - Contractor Summary'!$C$36,G39<='A - Contractor Summary'!$C$38),\"Yes\",IF(G39<'A - Contractor Summary'!$C$36,\"No\",IF(G39>'A - Contractor Summary'!$C$39,\"\",\"\")))","v":"No"},{"$f":"IF(OR(N39=\"Yes\",N39=\"No\")*AND(G39<'A - Contractor Summary'!$C$39),\"\",IF(AND(G39>'A - Contractor Summary'!$C$39,G39<'A - Contractor Summary'!$C$42),\"Yes\",IF(G39>'A - Contractor Summary'!$C$42,\"No\",\"Needs Review\")))","v":""},"Yes","No",0,0]
[null,27,null,null,null,null,null,null,null,null,null,null,null,{"$f":"IF(AND(G40>='A - Contractor Summary'!$C$36,G40<='A - Contractor Summary'!$C$38),\"Yes\",IF(G40<'A - Contractor Summary'!$C$36,\"No\",IF(G40>'A - Contractor Summary'!$C$39,\"\",\"\")))","v":"No"},{"$f":"IF(OR(N40=\"Yes\",N40=\"No\")*AND(G40<'A - Contractor Summary'!$C$39),\"\",IF(AND(G40>'A - Contractor Summary'!$C$39,G40<'A - Contractor Summary'!$C$42),\"Yes\",IF(G40>'A - Contractor Summary'!$C$42,\"No\",\"Needs Review\")))","v":""},"Yes","No",0,0]
[null,28,null,null,null,null,null,null,null,null,null,null,null,{"$f":"IF(AND(G41>='A - Contractor Summary'!$C$36,G41<='A - Contractor Summary'!$C$38),\"Yes\",IF(G41<'A - Contractor Summary'!$C$36,\"No\",IF(G41>'A - Contractor Summary'!$C$39,\"\",\"\")))","v":"No"},{"$f":"IF(OR(N41=\"Yes\",N41=\"No\")*AND(G41<'A - Contractor Summary'!$C$39),\"\",IF(AND(G41>'A - Contractor Summary'!$C$39,G41<'A - Contractor Summary'!$C$42),\"Yes\",IF(G41>'A - Contractor Summary'!$C$42,\"No\",\"Needs Review\")))","v":""},"Yes","No",0,0]
[null,29,null,null,null,null,null,null,null,null,null,null,null,{"$f":"IF(AND(G42>='A - Contractor Summary'!$C$36,G42<='A - Contractor Summary'!$C$38),\"Yes\",IF(G42<'A - Contractor Summary'!$C$36,\"No\",IF(G42>'A - Contractor Summary'!$C$39,\"\",\"\")))","v":"No"},{"$f":"IF(OR(N42=\"Yes\",N42=\"No\")*AND(G42<'A - Contractor Summary'!$C$39),\"\",IF(AND(G42>'A - Contractor Summary'!$C$39,G42<'A - Contractor Summary'!$C$42),\"Yes\",IF(G42>'A - Contractor Summary'!$C$42,\"No\",\"Needs Review\")))","v":""},"Yes","No",0,0]
[null,30,null,null,null,null,null,null,null,null,null,null,null,{"$f":"IF(AND(G43>='A - Contractor Summary'!$C$36,G43<='A - Contractor Summary'!$C$38),\"Yes\",IF(G43<'A - Contractor Summary'!$C$36,\"No\",IF(G43>'A - Contractor Summary'!$C$39,\"\",\"\")))","v":"No"},{"$f":"IF(OR(N43=\"Yes\",N43=\"No\")*AND(G43<'A - Contractor Summary'!$C$39),\"\",IF(AND(G43>'A - Contractor Summary'!$C$39,G43<'A - Contractor Summary'!$C$42),\"Yes\",IF(G43>'A - Contractor Summary'!$C$42,\"No\",\"Needs Review\")))","v":""},"Yes","No",0,0]
[null,31,null,null,null,null,null,null,null,null,null,null,null,{"$f":"IF(AND(G44>='A - Contractor Summary'!$C$36,G44<='A - Contractor Summary'!$C$38),\"Yes\",IF(G44<'A - Contractor Summary'!$C$36,\"No\",IF(G44>'A - Contractor Summary'!$C$39,\"\",\"\")))","v":"No"},{"$f":"IF(OR(N44=\"Yes\",N44=\"No\")*AND(G44<'A - Contractor Summary'!$C$39),\"\",IF(AND(G44>'A - Contractor Summary'!$C$39,G44<'A - Contractor Summary'!$C$42),\"Yes\",IF(G44>'A - Contractor Summary'!$C$42,\"No\",\"Needs Review\")))","v":""},"Yes","No",0,0]
[null,32,null,null,null,null,null,null,null,null,null,null,null,{"$f":"IF(AND(G45>='A - Contractor Summary'!$C$36,G45<='A - Contractor Summary'!$C$38),\"Yes\",IF(G45<'A - Contractor Summary'!$C$36,\"No\",IF(G45>'A - Contractor Summary'!$C$39,\"\",\"\")))","v":"No"},{"$f":"IF(OR(N45=\"Yes\",N45=\"No\")*AND(G45<'A - Contractor Summary'!$C$39),\"\",IF(AND(G45>'A - Contractor Summary'!$C$39,G45<'A - Contractor Summary'!$C$42),\"Yes\",IF(G45>'A - Contractor Summary'!$C$42,\"No\",\"Needs Review\")))","v":""},"Yes","No",0,0]
[null,33,null,null,null,null,null,null,null,null,null,null,null,{"$f":"IF(AND(G46>='A - Contractor Summary'!$C$36,G46<='A - Contractor Summary'!$C$38),\"Yes\",IF(G46<'A - Contractor Summary'!$C$36,\"No\",IF(G46>'A - Contractor Summary'!$C$39,\"\",\"\")))","v":"No"},{"$f":"IF(OR(N46=\"Yes\",N46=\"No\")*AND(G46<'A - Contractor Summary'!$C$39),\"\",IF(AND(G46>'A - Contractor Summary'!$C$39,G46<'A - Contractor Summary'!$C$42),\"Yes\",IF(G46>'A - Contractor Summary'!$C$42,\"No\",\"Needs Review\")))","v":""},"Yes",{"$f":"IF(AND(P46=\"Yes\",L46=\"Yes\",M46=\"Yes\")*OR(O46=\"Yes\",N46=\"Yes\"),\"Yes\",IF(OR(L46=\"No\",N46=\"No\",O46=\"No\",P46=\"No\",M46=\"No\"),\"No\",\"Needs Review\"))","v":"No"},{"$f":"IF(Q46=\"Yes\",K46,0)","v":0},{"$f":"IF(Q46=\"Needs Review\",K46,0)","v":0}]
[null,34,null,null,null,null,null,null,null,null,null,null,null,{"$f":"IF(AND(G47>='A - Contractor Summary'!$C$36,G47<='A - Contractor Summary'!$C$38),\"Yes\",IF(G47<'A - Contractor Summary'!$C$36,\"No\",IF(G47>'A - Contractor Summary'!$C$39,\"\",\"\")))","v":"No"},{"$f":"IF(OR(N47=\"Yes\",N47=\"No\")*AND(G47<'A - Contractor Summary'!$C$39),\"\",IF(AND(G47>'A - Contractor Summary'!$C$39,G47<'A - Contractor Summary'!$C$42),\"Yes\",IF(G47>'A - Contractor Summary'!$C$42,\"No\",\"Needs Review\")))","v":""},"Yes","No",0,0]
[null,35,null,null,null,null,null,null,null,null,null,null,null,{"$f":"IF(AND(G48>='A - Contractor Summary'!$C$36,G48<='A - Contractor Summary'!$C$38),\"Yes\",IF(G48<'A - Contractor Summary'!$C$36,\"No\",IF(G48>'A - Contractor Summary'!$C$39,\"\",\"\")))","v":"No"},{"$f":"IF(OR(N48=\"Yes\",N48=\"No\")*AND(G48<'A - Contractor Summary'!$C$39),\"\",IF(AND(G48>'A - Contractor Summary'!$C$39,G48<'A - Contractor Summary'!$C$42),\"Yes\",IF(G48>'A - Contractor Summary'!$C$42,\"No\",\"Needs Review\")))","v":""},"Yes","No",0,0]
[null,36,null,null,null,null,null,null,null,null,null,null,null,{"$f":"IF(AND(G49>='A - Contractor Summary'!$C$36,G49<='A - Contractor Summary'!$C$38),\"Yes\",IF(G49<'A - Contractor Summary'!$C$36,\"No\",IF(G49>'A - Contractor Summary'!$C$39,\"\",\"\")))","v":"No"},{"$f":"IF(OR(N49=\"Yes\",N49=\"No\")*AND(G49<'A - Contractor Summary'!$C$39),\"\",IF(AND(G49>'A - Contractor Summary'!$C$39,G49<'A - Contractor Summary'!$C$42),\"Yes\",IF(G49>'A - Contractor Summary'!$C$42,\"No\",\"Needs Review\")))","v":""},"Yes","No",0,0]
[null,37,null,null,null,null,null,null,null,null,null,null,null,{"$f":"IF(AND(G50>='A - Contractor Summary'!$C$36,G50<='A - Contractor Summary'!$C$38),\"Yes\",IF(G50<'A - Contractor Summary'!$C$36,\"No\",IF(G50>'A - Contractor Summary'!$C$39,\"\",\"\")))","v":"No"},{"$f":"IF(OR(N50=\"Yes\",N50=\"No\")*AND(G50<'A - Contractor Summary'!$C$39),\"\",IF(AND(G50>'A - Contractor Summary'!$C$39,G50<'A - Contractor Summary'!$C$42),\"Yes\",IF(G50>'A - Contractor Summary'!$C$42,\"No\",\"Needs Review\")))","v":""},"Yes","No",0,0]
[null,38,null,null,null,null,null,null,null,null,null,null,null,{"$f":"IF(AND(G51>='A - Contractor Summary'!$C$36,G51<='A - Contractor Summary'!$C$38),\"Yes\",IF(G51<'A - Contractor Summary'!$C$36,\"No\",IF(G51>'A - Contractor Summary'!$C$39,\"\",\"\")))","v":"No"},{"$f":"IF(OR(N51=\"Yes\",N51=\"No\")*AND(G51<'A - Contractor Summary'!$C$39),\"\",IF(AND(G51>'A - Contractor Summary'!$C$39,G51<'A - Contractor Summary'!$C$42),\"Yes\",IF(G51>'A - Contractor Summary'!$C$42,\"No\",\"Needs Review\")))","v":""},"Yes","No",0,0]
[null,39,null,null,null,null,null,null,null,null,null,null,null,{"$f":"IF(AND(G52>='A - Contractor Summary'!$C$36,G52<='A - Contractor Summary'!$C$38),\"Yes\",IF(G52<'A - Contractor Summary'!$C$36,\"No\",IF(G52>'A - Contractor Summary'!$C$39,\"\",\"\")))","v":"No"},{"$f":"IF(OR(N52=\"Yes\",N52=\"No\")*AND(G52<'A - Contractor Summary'!$C$39),\"\",IF(AND(G52>'A - Contractor Summary'!$C$39,G52<'A - Contractor Summary'!$C$42),\"Yes\",IF(G52>'A - Contractor Summary'!$C$42,\"No\",\"Needs Review\")))","v":""},"Yes","No",0,0]
[null,40,null,null,null,null,null,null,null,null,null,null,null,{"$f":"IF(AND(G53>='A - Contractor Summary'!$C$36,G53<='A - Contractor Summary'!$C$38),\"Yes\",IF(G53<'A - Contractor Summary'!$C$36,\"No\",IF(G53>'A - Contractor Summary'!$C$39,\"\",\"\")))","v":"No"},{"$f":"IF(OR(N53=\"Yes\",N53=\"No\")*AND(G53<'A - Contractor Summary'!$C$39),\"\",IF(AND(G53>'A - Contractor Summary'!$C$39,G53<'A - Contractor Summary'!$C$42),\"Yes\",IF(G53>'A - Contractor Summary'!$C$42,\"No\",\"Needs Review\")))","v":""},"Yes","No",0,0]
[null,41,null,null,null,null,null,null,null,null,null,null,null,{"$f":"IF(AND(G54>='A - Contractor Summary'!$C$36,G54<='A - Contractor Summary'!$C$38),\"Yes\",IF(G54<'A - Contractor Summary'!$C$36,\"No\",IF(G54>'A - Contractor Summary'!$C$39,\"\",\"\")))","v":"No"},{"$f":"IF(OR(N54=\"Yes\",N54=\"No\")*AND(G54<'A - Contractor Summary'!$C$39),\"\",IF(AND(G54>'A - Contractor Summary'!$C$39,G54<'A - Contractor Summary'!$C$42),\"Yes\",IF(G54>'A - Contractor Summary'!$C$42,\"No\",\"Needs Review\")))","v":""},"Yes","No",0,0]
[null,42,null,null,null,null,null,null,null,null,null,null,null,{"$f":"IF(AND(G55>='A - Contractor Summary'!$C$36,G55<='A - Contractor Summary'!$C$38),\"Yes\",IF(G55<'A - Contractor Summary'!$C$36,\"No\",IF(G55>'A - Contractor Summary'!$C$39,\"\",\"\")))","v":"No"},{"$f":"IF(OR(N55=\"Yes\",N55=\"No\")*AND(G55<'A - Contractor Summary'!$C$39),\"\",IF(AND(G55>'A - Contractor Summary'!$C$39,G55<'A - Contractor Summary'!$C$42),\"Yes\",IF(G55>'A - Contractor Summary'!$C$42,\"No\",\"Needs Review\")))","v":""},"No","No",0,0]
[null,43,null,null,null,null,null,null,null,null,null,null,null,{"$f":"IF(AND(G56>='A - Contractor Summary'!$C$36,G56<='A - Contractor Summary'!$C$38),\"Yes\",IF(G56<'A - Contractor Summary'!$C$36,\"No\",IF(G56>'A - Contractor Summary'!$C$39,\"\",\"\")))","v":"No"},{"$f":"IF(OR(N56=\"Yes\",N56=\"No\")*AND(G56<'A - Contractor Summary'!$C$39),\"\",IF(AND(G56>'A - Contractor Summary'!$C$39,G56<'A - Contractor Summary'!$C$42),\"Yes\",IF(G56>'A - Contractor Summary'!$C$42,\"No\",\"Needs Review\")))","v":""},"Yes","No",0,0]
[null,44,null,null,null,null,null,null,null,null,null,null,null,{"$f":"IF(AND(G57>='A - Contractor Summary'!$C$36,G57<='A - Contractor Summary'!$C$38),\"Yes\",IF(G57<'A - Contractor Summary'!$C$36,\"No\",IF(G57>'A - Contractor Summary'!$C$39,\"\",\"\")))","v":"No"},{"$f":"IF(OR(N57=\"Yes\",N57=\"No\")*AND(G57<'A - Contractor Summary'!$C$39),\"\",IF(AND(G57>'A - Contractor Summary'!$C$39,G57<'A - Contractor Summary'!$C$42),\"Yes\",IF(G57>'A - Contractor Summary'!$C$42,\"No\",\"Needs Review\")))","v":""},"Yes","No",0,0]
[null,46,null,null,null,null,null,null,null,null,null,null,null,{"$f":"IF(AND(G58>='A - Contractor Summary'!$C$36,G58<='A - Contractor Summary'!$C$38),\"Yes\",IF(G58<'A - Contractor Summary'!$C$36,\"No\",IF(G58>'A - Contractor Summary'!$C$39,\"\",\"\")))","v":"No"},{"$f":"IF(OR(N58=\"Yes\",N58=\"No\")*AND(G58<'A - Contractor Summary'!$C$39),\"\",IF(AND(G58>'A - Contractor Summary'!$C$39,G58<'A - Contractor Summary'!$C$42),\"Yes\",IF(G58>'A - Contractor Summary'!$C$42,\"No\",\"Needs Review\")))","v":""},"Yes","No",0,0]
[null,47,null,null,null,null,null,null,null,null,null,null,null,{"$f":"IF(AND(G59>='A - Contractor Summary'!$C$36,G59<='A - Contractor Summary'!$C$38),\"Yes\",IF(G59<'A - Contractor Summary'!$C$36,\"No\",IF(G59>'A - Contractor Summary'!$C$39,\"\",\"\")))","v":"No"},{"$f":"IF(OR(N59=\"Yes\",N59=\"No\")*AND(G59<'A - Contractor Summary'!$C$39),\"\",IF(AND(G59>'A - Contractor Summary'!$C$39,G59<'A - Contractor Summary'!$C$42),\"Yes\",IF(G59>'A - Contractor Summary'!$C$42,\"No\",\"Needs Review\")))","v":""},"Yes","No",0,0]
[null,48,null,null,null,null,null,null,null,null,null,null,null,{"$f":"IF(AND(G60>='A - Contractor Summary'!$C$36,G60<='A - Contractor Summary'!$C$38),\"Yes\",IF(G60<'A - Contractor Summary'!$C$36,\"No\",IF(G60>'A - Contractor Summary'!$C$39,\"\",\"\")))","v":"No"},{"$f":"IF(OR(N60=\"Yes\",N60=\"No\")*AND(G60<'A - Contractor Summary'!$C$39),\"\",IF(AND(G60>'A - Contractor Summary'!$C$39,G60<'A - Contractor Summary'!$C$42),\"Yes\",IF(G60>'A - Contractor Summary'!$C$42,\"No\",\"Needs Review\")))","v":""},"Yes","No",0,0]
[null,49,null,null,null,null,null,null,null,null,null,null,null,{"$f":"IF(AND(G61>='A - Contractor Summary'!$C$36,G61<='A - Contractor Summary'!$C$38),\"Yes\",IF(G61<'A - Contractor Summary'!$C$36,\"No\",IF(G61>'A - Contractor Summary'!$C$39,\"\",\"\")))","v":"No"},{"$f":"IF(OR(N61=\"Yes\",N61=\"No\")*AND(G61<'A - Contractor Summary'!$C$39),\"\",IF(AND(G61>'A - Contractor Summary'!$C$39,G61<'A - Contractor Summary'!$C$42),\"Yes\",IF(G61>'A - Contractor Summary'!$C$42,\"No\",\"Needs Review\")))","v":""},"Yes","No",0,0]
[null,50,null,null,null,null,null,null,null,null,null,null,null,{"$f":"IF(AND(G62>='A - Contractor Summary'!$C$36,G62<='A - Contractor Summary'!$C$38),\"Yes\",IF(G62<'A - Contractor Summary'!$C$36,\"No\",IF(G62>'A - Contractor Summary'!$C$39,\"\",\"\")))","v":"No"},{"$f":"IF(OR(N62=\"Yes\",N62=\"No\")*AND(G62<'A - Contractor Summary'!$C$39),\"\",IF(AND(G62>'A - Contractor Summary'!$C$39,G62<'A - Contractor Summary'!$C$42),\"Yes\",IF(G62>'A - Contractor Summary'!$C$42,\"No\",\"Needs Review\")))","v":""},"Yes","No",0,0]
[null,51,null,null,null,null,null,null,null,null,null,null,null,{"$f":"IF(AND(G63>='A - Contractor Summary'!$C$36,G63<='A - Contractor Summary'!$C$38),\"Yes\",IF(G63<'A - Contractor Summary'!$C$36,\"No\",IF(G63>'A - Contractor Summary'!$C$39,\"\",\"\")))","v":"No"},{"$f":"IF(OR(N63=\"Yes\",N63=\"No\")*AND(G63<'A - Contractor Summary'!$C$39),\"\",IF(AND(G63>'A - Contractor Summary'!$C$39,G63<'A - Contractor Summary'!$C$42),\"Yes\",IF(G63>'A - Contractor Summary'!$C$42,\"No\",\"Needs Review\")))","v":""},"Yes","No",0,0]
[null,52,null,null,null,null,null,null,null,null,null,null,null,{"$f":"IF(AND(G64>='A - Contractor Summary'!$C$36,G64<='A - Contractor Summary'!$C$38),\"Yes\",IF(G64<'A - Contractor Summary'!$C$36,\"No\",IF(G64>'A - Contractor Summary'!$C$39,\"\",\"\")))","v":"No"},{"$f":"IF(OR(N64=\"Yes\",N64=\"No\")*AND(G64<'A - Contractor Summary'!$C$39),\"\",IF(AND(G64>'A - Contractor Summary'!$C$39,G64<'A - Contractor Summary'!$C$42),\"Yes\",IF(G64>'A - Contractor Summary'!$C$42,\"No\",\"Needs Review\")))","v":""},"Yes","No",0,0]
[null,53,null,null,null,null,null,null,null,null,null,null,null,{"$f":"IF(AND(G65>='A - Contractor Summary'!$C$36,G65<='A - Contractor Summary'!$C$38),\"Yes\",IF(G65<'A - Contractor Summary'!$C$36,\"No\",IF(G65>'A - Contractor Summary'!$C$39,\"\",\"\")))","v":"No"},{"$f":"IF(OR(N65=\"Yes\",N65=\"No\")*AND(G65<'A - Contractor Summary'!$C$39),\"\",IF(AND(G65>'A - Contractor Summary'!$C$39,G65<'A - Contractor Summary'!$C$42),\"Yes\",IF(G65>'A - Contractor Summary'!$C$42,\"No\",\"Needs Review\")))","v":""},"Yes","No",0,0]
[null,54,null,null,null,null,null,null,null,null,null,null,null,{"$f":"IF(AND(G66>='A - Contractor Summary'!$C$36,G66<='A - Contractor Summary'!$C$38),\"Yes\",IF(G66<'A - Contractor Summary'!$C$36,\"No\",IF(G66>'A - Contractor Summary'!$C$39,\"\",\"\")))","v":"No"},{"$f":"IF(OR(N66=\"Yes\",N66=\"No\")*AND(G66<'A - Contractor Summary'!$C$39),\"\",IF(AND(G66>'A - Contractor Summary'!$C$39,G66<'A - Contractor Summary'!$C$42),\"Yes\",IF(G66>'A - Contractor Summary'!$C$42,\"No\",\"Needs Review\")))","v":""},"Yes","No",0,0]
[null,55,null,null,null,null,null,null,null,null,null,null,null,{"$f":"IF(AND(G67>='A - Contractor Summary'!$C$36,G67<='A - Contractor Summary'!$C$38),\"Yes\",IF(G67<'A - Contractor Summary'!$C$36,\"No\",IF(G67>'A - Contractor Summary'!$C$39,\"\",\"\")))","v":"No"},{"$f":"IF(OR(N67=\"Yes\",N67=\"No\")*AND(G67<'A - Contractor Summary'!$C$39),\"\",IF(AND(G67>'A - Contractor Summary'!$C$39,G67<'A - Contractor Summary'!$C$42),\"Yes\",IF(G67>'A - Contractor Summary'!$C$42,\"No\",\"Needs Review\")))","v":""},"Yes","No",0,0]
[null,56,null,null,null,null,null,null,null,null,null,null,null,{"$f":"IF(AND(G68>='A - Contractor Summary'!$C$36,G68<='A - Contractor Summary'!$C$38),\"Yes\",IF(G68<'A - Contractor Summary'!$C$36,\"No\",IF(G68>'A - Contractor Summary'!$C$39,\"\",\"\")))","v":"No"},{"$f":"IF(OR(N68=\"Yes\",N68=\"No\")*AND(G68<'A - Contractor Summary'!$C$39),\"\",IF(AND(G68>'A - Contractor Summary'!$C$39,G68<'A - Contractor Summary'!$C$42),\"Yes\",IF(G68>'A - Contractor Summary'!$C$42,\"No\",\"Needs Review\")))","v":""},"Yes","No",0,0]
[null,57,null,null,null,null,null,null,null,null,null,null,null,{"$f":"IF(AND(G69>='A - Contractor Summary'!$C$36,G69<='A - Contractor Summary'!$C$38),\"Yes\",IF(G69<'A - Contractor Summary'!$C$36,\"No\",IF(G69>'A - Contractor Summary'!$C$39,\"\",\"\")))","v":"No"},{"$f":"IF(OR(N69=\"Yes\",N69=\"No\")*AND(G69<'A - Contractor Summary'!$C$39),\"\",IF(AND(G69>'A - Contractor Summary'!$C$39,G69<'A - Contractor Summary'!$C$42),\"Yes\",IF(G69>'A - Contractor Summary'!$C$42,\"No\",\"Needs Review\")))","v":""},"Yes","No",0,0]
[null,58,null,null,null,null,null,null,null,null,null,null,null,{"$f":"IF(AND(G70>='A - Contractor Summary'!$C$36,G70<='A - Contractor Summary'!$C$38),\"Yes\",IF(G70<'A - Contractor Summary'!$C$36,\"No\",IF(G70>'A - Contractor Summary'!$C$39,\"\",\"\")))","v":"No"},{"$f":"IF(OR(N70=\"Yes\",N70=\"No\")*AND(G70<'A - Contractor Summary'!$C$39),\"\",IF(AND(G70>'A - Contractor Summary'!$C$39,G70<'A - Contractor Summary'!$C$42),\"Yes\",IF(G70>'A - Contractor Summary'!$C$42,\"No\",\"Needs Review\")))","v":""},"No","Needs Review",0,0]
[null,59,null,null,null,null,null,null,null,null,null,null,null,{"$f":"IF(AND(G71>='A - Contractor Summary'!$C$36,G71<='A - Contractor Summary'!$C$38),\"Yes\",IF(G71<'A - Contractor Summary'!$C$36,\"No\",IF(G71>'A - Contractor Summary'!$C$39,\"\",\"\")))","v":"No"},{"$f":"IF(OR(N71=\"Yes\",N71=\"No\")*AND(G71<'A - Contractor Summary'!$C$39),\"\",IF(AND(G71>'A - Contractor Summary'!$C$39,G71<'A - Contractor Summary'!$C$42),\"Yes\",IF(G71>'A - Contractor Summary'!$C$42,\"No\",\"Needs Review\")))","v":""},"Yes","No",0,0]
[null,61,null,null,null,null,null,null,null,null,null,null,null,{"$f":"IF(AND(G72>='A - Contractor Summary'!$C$36,G72<='A - Contractor Summary'!$C$38),\"Yes\",IF(G72<'A - Contractor Summary'!$C$36,\"No\",IF(G72>'A - Contractor Summary'!$C$39,\"\",\"\")))","v":"No"},{"$f":"IF(OR(N72=\"Yes\",N72=\"No\")*AND(G72<'A - Contractor Summary'!$C$39),\"\",IF(AND(G72>'A - Contractor Summary'!$C$39,G72<'A - Contractor Summary'!$C$42),\"Yes\",IF(G72>'A - Contractor Summary'!$C$42,\"No\",\"Needs Review\")))","v":""},"Yes","No",0,0]
[null,62,null,null,null,null,null,null,null,null,null,null,null,{"$f":"IF(AND(G73>='A - Contractor Summary'!$C$36,G73<='A - Contractor Summary'!$C$38),\"Yes\",IF(G73<'A - Contractor Summary'!$C$36,\"No\",IF(G73>'A - Contractor Summary'!$C$39,\"\",\"\")))","v":"No"},{"$f":"IF(OR(N73=\"Yes\",N73=\"No\")*AND(G73<'A - Contractor Summary'!$C$39),\"\",IF(AND(G73>'A - Contractor Summary'!$C$39,G73<'A - Contractor Summary'!$C$42),\"Yes\",IF(G73>'A - Contractor Summary'!$C$42,\"No\",\"Needs Review\")))","v":""},"Yes","No",0,0]
[null,63,null,null,null,null,null,null,null,null,null,null,null,{"$f":"IF(AND(G74>='A - Contractor Summary'!$C$36,G74<='A - Contractor Summary'!$C$38),\"Yes\",IF(G74<'A - Contractor Summary'!$C$36,\"No\",IF(G74>'A - Contractor Summary'!$C$39,\"\",\"\")))","v":"No"},{"$f":"IF(OR(N74=\"Yes\",N74=\"No\")*AND(G74<'A - Contractor Summary'!$C$39),\"\",IF(AND(G74>'A - Contractor Summary'!$C$39,G74<'A - Contractor Summary'!$C$42),\"Yes\",IF(G74>'A - Contractor Summary'!$C$42,\"No\",\"Needs Review\")))","v":""},"Yes","No",0,0]
[null,64,null,null,null,null,null,null,null,null,null,null,null,{"$f":"IF(AND(G75>='A - Contractor Summary'!$C$36,G75<='A - Contractor Summary'!$C$38),\"Yes\",IF(G75<'A - Contractor Summary'!$C$36,\"No\",IF(G75>'A - Contractor Summary'!$C$39,\"\",\"\")))","v":"No"},{"$f":"IF(OR(N75=\"Yes\",N75=\"No\")*AND(G75<'A - Contractor Summary'!$C$39),\"\",IF(AND(G75>'A - Contractor Summary'!$C$39,G75<'A - Contractor Summary'!$C$42),\"Yes\",IF(G75>'A - Contractor Summary'!$C$42,\"No\",\"Needs Review\")))","v":""},"Yes","No",0,0]
[null,65,null,null,null,null,null,null,null,null,null,null,null,{"$f":"IF(AND(G76>='A - Contractor Summary'!$C$36,G76<='A - Contractor Summary'!$C$38),\"Yes\",IF(G76<'A - Contractor Summary'!$C$36,\"No\",IF(G76>'A - Contractor Summary'!$C$39,\"\",\"\")))","v":"No"},{"$f":"IF(OR(N76=\"Yes\",N76=\"No\")*AND(G76<'A - Contractor Summary'!$C$39),\"\",IF(AND(G76>'A - Contractor Summary'!$C$39,G76<'A - Contractor Summary'!$C$42),\"Yes\",IF(G76>'A - Contractor Summary'!$C$42,\"No\",\"Needs Review\")))","v":""},"No","No",0,0]
[null,66,null,null,null,null,null,null,null,null,null,null,null,{"$f":"IF(AND(G77>='A - Contractor Summary'!$C$36,G77<='A - Contractor Summary'!$C$38),\"Yes\",IF(G77<'A - Contractor Summary'!$C$36,\"No\",IF(G77>'A - Contractor Summary'!$C$39,\"\",\"\")))","v":"No"},{"$f":"IF(OR(N77=\"Yes\",N77=\"No\")*AND(G77<'A - Contractor Summary'!$C$39),\"\",IF(AND(G77>'A - Contractor Summary'!$C$39,G77<'A - Contractor Summary'!$C$42),\"Yes\",IF(G77>'A - Contractor Summary'!$C$42,\"No\",\"Needs Review\")))","v":""},"Yes","No",0,0]
[null,67,null,null,null,null,null,null,null,null,null,null,null,{"$f":"IF(AND(G78>='A - Contractor Summary'!$C$36,G78<='A - Contractor Summary'!$C$38),\"Yes\",IF(G78<'A - Contractor Summary'!$C$36,\"No\",IF(G78>'A - Contractor Summary'!$C$39,\"\",\"\")))","v":"No"},{"$f":"IF(OR(N78=\"Yes\",N78=\"No\")*AND(G78<'A - Contractor Summary'!$C$39),\"\",IF(AND(G78>'A - Contractor Summary'!$C$39,G78<'A - Contractor Summary'!$C$42),\"Yes\",IF(G78>'A - Contractor Summary'!$C$42,\"No\",\"Needs Review\")))","v":""},"No","Needs Review",{"$f":"IF(Q78=\"Yes\",K78,0)","v":0},{"$f":"IF(Q78=\"Needs Review\",K78,0)","v":0}]
[null,68,null,null,null,null,null,null,null,null,null,null,null,{"$f":"IF(AND(G79>='A - Contractor Summary'!$C$36,G79<='A - Contractor Summary'!$C$38),\"Yes\",IF(G79<'A - Contractor Summary'!$C$36,\"No\",IF(G79>'A - Contractor Summary'!$C$39,\"\",\"\")))","v":"No"},{"$f":"IF(OR(N79=\"Yes\",N79=\"No\")*AND(G79<'A - Contractor Summary'!$C$39),\"\",IF(AND(G79>'A - Contractor Summary'!$C$39,G79<'A - Contractor Summary'!$C$42),\"Yes\",IF(G79>'A - Contractor Summary'!$C$42,\"No\",\"Needs Review\")))","v":""},"Yes",{"$f":"IF(AND(P79=\"Yes\",L79=\"Yes\",M79=\"Yes\")*OR(O79=\"Yes\",N79=\"Yes\"),\"Yes\",IF(OR(L79=\"No\",N79=\"No\",O79=\"No\",P79=\"No\",M79=\"No\"),\"No\",\"Needs Review\"))","v":"No"},0,0]
[null,69,null,null,null,null,null,null,null,null,null,null,null,{"$f":"IF(AND(G80>='A - Contractor Summary'!$C$36,G80<='A - Contractor Summary'!$C$38),\"Yes\",IF(G80<'A - Contractor Summary'!$C$36,\"No\",IF(G80>'A - Contractor Summary'!$C$39,\"\",\"\")))","v":"No"},{"$f":"IF(OR(N80=\"Yes\",N80=\"No\")*AND(G80<'A - Contractor Summary'!$C$39),\"\",IF(AND(G80>'A - Contractor Summary'!$C$39,G80<'A - Contractor Summary'!$C$42),\"Yes\",IF(G80>'A - Contractor Summary'!$C$42,\"No\",\"Needs Review\")))","v":""},"Yes","No",0,0]
[null,70,null,null,null,null,null,null,null,null,null,null,null,{"$f":"IF(AND(G81>='A - Contractor Summary'!$C$36,G81<='A - Contractor Summary'!$C$38),\"Yes\",IF(G81<'A - Contractor Summary'!$C$36,\"No\",IF(G81>'A - Contractor Summary'!$C$39,\"\",\"\")))","v":"No"},{"$f":"IF(OR(N81=\"Yes\",N81=\"No\")*AND(G81<'A - Contractor Summary'!$C$39),\"\",IF(AND(G81>'A - Contractor Summary'!$C$39,G81<'A - Contractor Summary'!$C$42),\"Yes\",IF(G81>'A - Contractor Summary'!$C$42,\"No\",\"Needs Review\")))","v":""},"Yes","No",0,0]
[null,71,null,null,null,null,null,null,null,null,null,null,null,{"$f":"IF(AND(G82>='A - Contractor Summary'!$C$36,G82<='A - Contractor Summary'!$C$38),\"Yes\",IF(G82<'A - Contractor Summary'!$C$36,\"No\",IF(G82>'A - Contractor Summary'!$C$39,\"\",\"\")))","v":"No"},{"$f":"IF(OR(N82=\"Yes\",N82=\"No\")*AND(G82<'A - Contractor Summary'!$C$39),\"\",IF(AND(G82>'A - Contractor Summary'!$C$39,G82<'A - Contractor Summary'!$C$42),\"Yes\",IF(G82>'A - Contractor Summary'!$C$42,\"No\",\"Needs Review\")))","v":""},"Yes","No",0,0]
[null,72,null,null,null,null,null,null,null,null,null,null,null,{"$f":"IF(AND(G83>='A - Contractor Summary'!$C$36,G83<='A - Contractor Summary'!$C$38),\"Yes\",IF(G83<'A - Contractor Summary'!$C$36,\"No\",IF(G83>'A - Contractor Summary'!$C$39,\"\",\"\")))","v":"No"},{"$f":"IF(OR(N83=\"Yes\",N83=\"No\")*AND(G83<'A - Contractor Summary'!$C$39),\"\",IF(AND(G83>'A - Contractor Summary'!$C$39,G83<'A - Contractor Summary'!$C$42),\"Yes\",IF(G83>'A - Contractor Summary'!$C$42,\"No\",\"Needs Review\")))","v":""},"Yes","No",0,0]
[null,73,null,null,null,null,null,null,null,null,null,null,null,{"$f":"IF(AND(G84>='A - Contractor Summary'!$C$36,G84<='A - Contractor Summary'!$C$38),\"Yes\",IF(G84<'A - Contractor Summary'!$C$36,\"No\",IF(G84>'A - Contractor Summary'!$C$39,\"\",\"\")))","v":"No"},{"$f":"IF(OR(N84=\"Yes\",N84=\"No\")*AND(G84<'A - Contractor Summary'!$C$39),\"\",IF(AND(G84>'A - Contractor Summary'!$C$39,G84<'A - Contractor Summary'!$C$42),\"Yes\",IF(G84>'A - Contractor Summary'!$C$42,\"No\",\"Needs Review\")))","v":""},"No","Needs Review",0,0]
[null,74,null,null,null,null,null,null,null,null,null,null,null,{"$f":"IF(AND(G85>='A - Contractor Summary'!$C$36,G85<='A - Contractor Summary'!$C$38),\"Yes\",IF(G85<'A - Contractor Summary'!$C$36,\"No\",IF(G85>'A - Contractor Summary'!$C$39,\"\",\"\")))","v":"No"},{"$f":"IF(OR(N85=\"Yes\",N85=\"No\")*AND(G85<'A - Contractor Summary'!$C$39),\"\",IF(AND(G85>'A - Contractor Summary'!$C$39,G85<'A - Contractor Summary'!$C$42),\"Yes\",IF(G85>'A - Contractor Summary'!$C$42,\"No\",\"Needs Review\")))","v":""},"No","No",0,0]
[null,75,null,null,null,null,null,null,null,null,null,null,null,{"$f":"IF(AND(G86>='A - Contractor Summary'!$C$36,G86<='A - Contractor Summary'!$C$38),\"Yes\",IF(G86<'A - Contractor Summary'!$C$36,\"No\",IF(G86>'A - Contractor Summary'!$C$39,\"\",\"\")))","v":"No"},{"$f":"IF(OR(N86=\"Yes\",N86=\"No\")*AND(G86<'A - Contractor Summary'!$C$39),\"\",IF(AND(G86>'A - Contractor Summary'!$C$39,G86<'A - Contractor Summary'!$C$42),\"Yes\",IF(G86>'A - Contractor Summary'!$C$42,\"No\",\"Needs Review\")))","v":""},"Yes","No",0,0]
[null,76,null,null,null,null,null,null,null,null,null,null,null,{"$f":"IF(AND(G87>='A - Contractor Summary'!$C$36,G87<='A - Contractor Summary'!$C$38),\"Yes\",IF(G87<'A - Contractor Summary'!$C$36,\"No\",IF(G87>'A - Contractor Summary'!$C$39,\"\",\"\")))","v":"No"},{"$f":"IF(OR(N87=\"Yes\",N87=\"No\")*AND(G87<'A - Contractor Summary'!$C$39),\"\",IF(AND(G87>'A - Contractor Summary'!$C$39,G87<'A - Contractor Summary'!$C$42),\"Yes\",IF(G87>'A - Contractor Summary'!$C$42,\"No\",\"Needs Review\")))","v":""},"Yes","No",0,0]
[null,77,null,null,null,null,null,null,null,null,null,null,null,{"$f":"IF(AND(G88>='A - Contractor Summary'!$C$36,G88<='A - Contractor Summary'!$C$38),\"Yes\",IF(G88<'A - Contractor Summary'!$C$36,\"No\",IF(G88>'A - Contractor Summary'!$C$39,\"\",\"\")))","v":"No"},{"$f":"IF(OR(N88=\"Yes\",N88=\"No\")*AND(G88<'A - Contractor Summary'!$C$39),\"\",IF(AND(G88>'A - Contractor Summary'!$C$39,G88<'A - Contractor Summary'!$C$42),\"Yes\",IF(G88>'A - Contractor Summary'!$C$42,\"No\",\"Needs Review\")))","v":""},"Yes","No",0,0]
[null,78,null,null,null,null,null,null,null,null,null,null,null,{"$f":"IF(AND(G89>='A - Contractor Summary'!$C$36,G89<='A - Contractor Summary'!$C$38),\"Yes\",IF(G89<'A - Contractor Summary'!$C$36,\"No\",IF(G89>'A - Contractor Summary'!$C$39,\"\",\"\")))","v":"No"},{"$f":"IF(OR(N89=\"Yes\",N89=\"No\")*AND(G89<'A - Contractor Summary'!$C$39),\"\",IF(AND(G89>'A - Contractor Summary'!$C$39,G89<'A - Contractor Summary'!$C$42),\"Yes\",IF(G89>'A - Contractor Summary'!$C$42,\"No\",\"Needs Review\")))","v":""},"Yes","No",0,0]
[null,79,null,null,null,null,null,null,null,null,null,null,null,{"$f":"IF(AND(G90>='A - Contractor Summary'!$C$36,G90<='A - Contractor Summary'!$C$38),\"Yes\",IF(G90<'A - Contractor Summary'!$C$36,\"No\",IF(G90>'A - Contractor Summary'!$C$39,\"\",\"\")))","v":"No"},{"$f":"IF(OR(N90=\"Yes\",N90=\"No\")*AND(G90<'A - Contractor Summary'!$C$39),\"\",IF(AND(G90>'A - Contractor Summary'!$C$39,G90<'A - Contractor Summary'!$C$42),\"Yes\",IF(G90>'A - Contractor Summary'!$C$42,\"No\",\"Needs Review\")))","v":""},"Yes","No",0,0]
[null,80,null,null,null,null,null,null,null,null,null,null,null,{"$f":"IF(AND(G91>='A - Contractor Summary'!$C$36,G91<='A - Contractor Summary'!$C$38),\"Yes\",IF(G91<'A - Contractor Summary'!$C$36,\"No\",IF(G91>'A - Contractor Summary'!$C$39,\"\",\"\")))","v":"No"},{"$f":"IF(OR(N91=\"Yes\",N91=\"No\")*AND(G91<'A - Contractor Summary'!$C$39),\"\",IF(AND(G91>'A - Contractor Summary'!$C$39,G91<'A - Contractor Summary'!$C$42),\"Yes\",IF(G91>'A - Contractor Summary'!$C$42,\"No\",\"Needs Review\")))","v":""},"No","No",0,0]
[null,81,null,null,null,null,null,null,null,null,null,null,null,{"$f":"IF(AND(G92>='A - Contractor Summary'!$C$36,G92<='A - Contractor Summary'!$C$38),\"Yes\",IF(G92<'A - Contractor Summary'!$C$36,\"No\",IF(G92>'A - Contractor Summary'!$C$39,\"\",\"\")))","v":"No"},{"$f":"IF(OR(N92=\"Yes\",N92=\"No\")*AND(G92<'A - Contractor Summary'!$C$39),\"\",IF(AND(G92>'A - Contractor Summary'!$C$39,G92<'A - Contractor Summary'!$C$42),\"Yes\",IF(G92>'A - Contractor Summary'!$C$42,\"No\",\"Needs Review\")))","v":""},"No","No",0,0]
[null,82,null,null,null,null,null,null,null,null,null,null,null,{"$f":"IF(AND(G93>='A - Contractor Summary'!$C$36,G93<='A - Contractor Summary'!$C$38),\"Yes\",IF(G93<'A - Contractor Summary'!$C$36,\"No\",IF(G93>'A - Contractor Summary'!$C$39,\"\",\"\")))","v":"No"},{"$f":"IF(OR(N93=\"Yes\",N93=\"No\")*AND(G93<'A - Contractor Summary'!$C$39),\"\",IF(AND(G93>'A - Contractor Summary'!$C$39,G93<'A - Contractor Summary'!$C$42),\"Yes\",IF(G93>'A - Contractor Summary'!$C$42,\"No\",\"Needs Review\")))","v":""},"No","No",0,0]
[null,83,null,null,null,null,null,null,null,null,null,null,null,{"$f":"IF(AND(G94>='A - Contractor Summary'!$C$36,G94<='A - Contractor Summary'!$C$38),\"Yes\",IF(G94<'A - Contractor Summary'!$C$36,\"No\",IF(G94>'A - Contractor Summary'!$C$39,\"\",\"\")))","v":"No"},{"$f":"IF(OR(N94=\"Yes\",N94=\"No\")*AND(G94<'A - Contractor Summary'!$C$39),\"\",IF(AND(G94>'A - Contractor Summary'!$C$39,G94<'A - Contractor Summary'!$C$42),\"Yes\",IF(G94>'A - Contractor Summary'!$C$42,\"No\",\"Needs Review\")))","v":""},"No",{"$f":"IF(AND(P94=\"Yes\",L94=\"Yes\",M94=\"Yes\")*OR(O94=\"Yes\",N94=\"Yes\"),\"Yes\",IF(OR(L94=\"No\",N94=\"No\",O94=\"No\",P94=\"No\",M94=\"No\"),\"No\",\"Needs Review\"))","v":"No"},{"$f":"IF(Q94=\"Yes\",K94,0)","v":0},{"$f":"IF(Q94=\"Needs Review\",K94,0)","v":0}]
[null,84,null,null,null,null,null,null,null,null,null,null,null,{"$f":"IF(AND(G95>='A - Contractor Summary'!$C$36,G95<='A - Contractor Summary'!$C$38),\"Yes\",IF(G95<'A - Contractor Summary'!$C$36,\"No\",IF(G95>'A - Contractor Summary'!$C$39,\"\",\"\")))","v":"No"},{"$f":"IF(OR(N95=\"Yes\",N95=\"No\")*AND(G95<'A - Contractor Summary'!$C$39),\"\",IF(AND(G95>'A - Contractor Summary'!$C$39,G95<'A - Contractor Summary'!$C$42),\"Yes\",IF(G95>'A - Contractor Summary'!$C$42,\"No\",\"Needs Review\")))","v":""},"No","No",0,0]
[null,85,null,null,null,null,null,null,null,null,null,null,null,{"$f":"IF(AND(G96>='A - Contractor Summary'!$C$36,G96<='A - Contractor Summary'!$C$38),\"Yes\",IF(G96<'A - Contractor Summary'!$C$36,\"No\",IF(G96>'A - Contractor Summary'!$C$39,\"\",\"\")))","v":"No"},{"$f":"IF(OR(N96=\"Yes\",N96=\"No\")*AND(G96<'A - Contractor Summary'!$C$39),\"\",IF(AND(G96>'A - Contractor Summary'!$C$39,G96<'A - Contractor Summary'!$C$42),\"Yes\",IF(G96>'A - Contractor Summary'!$C$42,\"No\",\"Needs Review\")))","v":""},"No","No",0,0]
[null,86,null,null,null,null,null,null,null,null,null,null,null,{"$f":"IF(AND(G97>='A - Contractor Summary'!$C$36,G97<='A - Contractor Summary'!$C$38),\"Yes\",IF(G97<'A - Contractor Summary'!$C$36,\"No\",IF(G97>'A - Contractor Summary'!$C$39,\"\",\"\")))","v":"No"},{"$f":"IF(OR(N97=\"Yes\",N97=\"No\")*AND(G97<'A - Contractor Summary'!$C$39),\"\",IF(AND(G97>'A - Contractor Summary'!$C$39,G97<'A - Contractor Summary'!$C$42),\"Yes\",IF(G97>'A - Contractor Summary'!$C$42,\"No\",\"Needs Review\")))","v":""},"Yes","No",0,0]
[null,87,null,null,null,null,null,null,null,null,null,null,null,{"$f":"IF(AND(G98>='A - Contractor Summary'!$C$36,G98<='A - Contractor Summary'!$C$38),\"Yes\",IF(G98<'A - Contractor Summary'!$C$36,\"No\",IF(G98>'A - Contractor Summary'!$C$39,\"\",\"\")))","v":"No"},{"$f":"IF(OR(N98=\"Yes\",N98=\"No\")*AND(G98<'A - Contractor Summary'!$C$39),\"\",IF(AND(G98>'A - Contractor Summary'!$C$39,G98<'A - Contractor Summary'!$C$42),\"Yes\",IF(G98>'A - Contractor Summary'!$C$42,\"No\",\"Needs Review\")))","v":""},"Yes","No",0,0]
[null,88,null,null,null,null,null,null,null,null,null,null,null,{"$f":"IF(AND(G99>='A - Contractor Summary'!$C$36,G99<='A - Contractor Summary'!$C$38),\"Yes\",IF(G99<'A - Contractor Summary'!$C$36,\"No\",IF(G99>'A - Contractor Summary'!$C$39,\"\",\"\")))","v":"No"},{"$f":"IF(OR(N99=\"Yes\",N99=\"No\")*AND(G99<'A - Contractor Summary'!$C$39),\"\",IF(AND(G99>'A - Contractor Summary'!$C$39,G99<'A - Contractor Summary'!$C$42),\"Yes\",IF(G99>'A - Contractor Summary'!$C$42,\"No\",\"Needs Review\")))","v":""},"Yes","No",0,0]
[null,89,null,null,null,null,null,null,null,null,null,null,null,{"$f":"IF(AND(G100>='A - Contractor Summary'!$C$36,G100<='A - Contractor Summary'!$C$38),\"Yes\",IF(G100<'A - Contractor Summary'!$C$36,\"No\",IF(G100>'A - Contractor Summary'!$C$39,\"\",\"\")))","v":"No"},{"$f":"IF(OR(N100=\"Yes\",N100=\"No\")*AND(G100<'A - Contractor Summary'!$C$39),\"\",IF(AND(G100>'A - Contractor Summary'!$C$39,G100<'A - Contractor Summary'!$C$42),\"Yes\",IF(G100>'A - Contractor Summary'!$C$42,\"No\",\"Needs Review\")))","v":""},"Yes","No",0,0]
[null,90,null,null,null,null,null,null,null,null,null,null,null,{"$f":"IF(AND(G101>='A - Contractor Summary'!$C$36,G101<='A - Contractor Summary'!$C$38),\"Yes\",IF(G101<'A - Contractor Summary'!$C$36,\"No\",IF(G101>'A - Contractor Summary'!$C$39,\"\",\"\")))","v":"No"},{"$f":"IF(OR(N101=\"Yes\",N101=\"No\")*AND(G101<'A - Contractor Summary'!$C$39),\"\",IF(AND(G101>'A - Contractor Summary'!$C$39,G101<'A - Contractor Summary'!$C$42),\"Yes\",IF(G101>'A - Contractor Summary'!$C$42,\"No\",\"Needs Review\")))","v":""},"Yes","No",0,0]
[null,91,null,null,null,null,null,null,null,null,null,null,null,{"$f":"IF(AND(G102>='A - Contractor Summary'!$C$36,G102<='A - Contractor Summary'!$C$38),\"Yes\",IF(G102<'A - Contractor Summary'!$C$36,\"No\",IF(G102>'A - Contractor Summary'!$C$39,\"\",\"\")))","v":"No"},{"$f":"IF(OR(N102=\"Yes\",N102=\"No\")*AND(G102<'A - Contractor Summary'!$C$39),\"\",IF(AND(G102>'A - Contractor Summary'!$C$39,G102<'A - Contractor Summary'!$C$42),\"Yes\",IF(G102>'A - Contractor Summary'!$C$42,\"No\",\"Needs Review\")))","v":""},"Yes","No",0,0]
[null,92,null,null,null,null,null,null,null,null,null,null,null,{"$f":"IF(AND(G103>='A - Contractor Summary'!$C$36,G103<='A - Contractor Summary'!$C$38),\"Yes\",IF(G103<'A - Contractor Summary'!$C$36,\"No\",IF(G103>'A - Contractor Summary'!$C$39,\"\",\"\")))","v":"No"},{"$f":"IF(OR(N103=\"Yes\",N103=\"No\")*AND(G103<'A - Contractor Summary'!$C$39),\"\",IF(AND(G103>'A - Contractor Summary'!$C$39,G103<'A - Contractor Summary'!$C$42),\"Yes\",IF(G103>'A - Contractor Summary'!$C$42,\"No\",\"Needs Review\")))","v":""},"Yes","No",0,0]
[null,93,null,null,null,null,null,null,null,null,null,null,null,{"$f":"IF(AND(G104>='A - Contractor Summary'!$C$36,G104<='A - Contractor Summary'!$C$38),\"Yes\",IF(G104<'A - Contractor Summary'!$C$36,\"No\",IF(G104>'A - Contractor Summary'!$C$39,\"\",\"\")))","v":"No"},{"$f":"IF(OR(N104=\"Yes\",N104=\"No\")*AND(G104<'A - Contractor Summary'!$C$39),\"\",IF(AND(G104>'A - Contractor Summary'!$C$39,G104<'A - Contractor Summary'!$C$42),\"Yes\",IF(G104>'A - Contractor Summary'!$C$42,\"No\",\"Needs Review\")))","v":""},"Yes","No",0,0]
[null,94,null,null,null,null,null,null,null,null,null,null,null,{"$f":"IF(AND(G105>='A - Contractor Summary'!$C$36,G105<='A - Contractor Summary'!$C$38),\"Yes\",IF(G105<'A - Contractor Summary'!$C$36,\"No\",IF(G105>'A - Contractor Summary'!$C$39,\"\",\"\")))","v":"No"},{"$f":"IF(OR(N105=\"Yes\",N105=\"No\")*AND(G105<'A - Contractor Summary'!$C$39),\"\",IF(AND(G105>'A - Contractor Summary'!$C$39,G105<'A - Contractor Summary'!$C$42),\"Yes\",IF(G105>'A - Contractor Summary'!$C$42,\"No\",\"Needs Review\")))","v":""},"Yes","No",0,0]
[null,95,null,null,null,null,null,null,null,null,null,null,null,{"$f":"IF(AND(G106>='A - Contractor Summary'!$C$36,G106<='A - Contractor Summary'!$C$38),\"Yes\",IF(G106<'A - Contractor Summary'!$C$36,\"No\",IF(G106>'A - Contractor Summary'!$C$39,\"\",\"\")))","v":"No"},{"$f":"IF(OR(N106=\"Yes\",N106=\"No\")*AND(G106<'A - Contractor Summary'!$C$39),\"\",IF(AND(G106>'A - Contractor Summary'!$C$39,G106<'A - Contractor Summary'!$C$42),\"Yes\",IF(G106>'A - Contractor Summary'!$C$42,\"No\",\"Needs Review\")))","v":""},"Yes","No",0,0]
[null,96,null,null,null,null,null,null,null,null,null,null,null,{"$f":"IF(AND(G107>='A - Contractor Summary'!$C$36,G107<='A - Contractor Summary'!$C$38),\"Yes\",IF(G107<'A - Contractor Summary'!$C$36,\"No\",IF(G107>'A - Contractor Summary'!$C$39,\"\",\"\")))","v":"No"},{"$f":"IF(OR(N107=\"Yes\",N107=\"No\")*AND(G107<'A - Contractor Summary'!$C$39),\"\",IF(AND(G107>'A - Contractor Summary'!$C$39,G107<'A - Contractor Summary'!$C$42),\"Yes\",IF(G107>'A - Contractor Summary'!$C$42,\"No\",\"Needs Review\")))","v":""},"Yes","No",0,0]
[null,97,null,null,null,null,null,null,null,null,null,null,null,{"$f":"IF(AND(G108>='A - Contractor Summary'!$C$36,G108<='A - Contractor Summary'!$C$38),\"Yes\",IF(G108<'A - Contractor Summary'!$C$36,\"No\",IF(G108>'A - Contractor Summary'!$C$39,\"\",\"\")))","v":"No"},{"$f":"IF(OR(N108=\"Yes\",N108=\"No\")*AND(G108<'A - Contractor Summary'!$C$39),\"\",IF(AND(G108>'A - Contractor Summary'!$C$39,G108<'A - Contractor Summary'!$C$42),\"Yes\",IF(G108>'A - Contractor Summary'!$C$42,\"No\",\"Needs Review\")))","v":""},"Yes","No",0,0]
[null,98,null,null,null,null,null,null,null,null,null,null,null,{"$f":"IF(AND(G109>='A - Contractor Summary'!$C$36,G109<='A - Contractor Summary'!$C$38),\"Yes\",IF(G109<'A - Contractor Summary'!$C$36,\"No\",IF(G109>'A - Contractor Summary'!$C$39,\"\",\"\")))","v":"No"},{"$f":"IF(OR(N109=\"Yes\",N109=\"No\")*AND(G109<'A - Contractor Summary'!$C$39),\"\",IF(AND(G109>'A - Contractor Summary'!$C$39,G109<'A - Contractor Summary'!$C$42),\"Yes\",IF(G109>'A - Contractor Summary'!$C$42,\"No\",\"Needs Review\")))","v":""},"Yes","No",0,0]
[null,99,null,null,null,null,null,null,null,null,null,null,null,{"$f":"IF(AND(G110>='A - Contractor Summary'!$C$36,G110<='A - Contractor Summary'!$C$38),\"Yes\",IF(G110<'A - Contractor Summary'!$C$36,\"No\",IF(G110>'A - Contractor Summary'!$C$39,\"\",\"\")))","v":"No"},{"$f":"IF(OR(N110=\"Yes\",N110=\"No\")*AND(G110<'A - Contractor Summary'!$C$39),\"\",IF(AND(G110>'A - Contractor Summary'!$C$39,G110<'A - Contractor Summary'!$C$42),\"Yes\",IF(G110>'A - Contractor Summary'!$C$42,\"No\",\"Needs Review\")))","v":""},"Yes","No",0,0]
[null,100,null,null,null,null,null,null,null,null,null,null,null,{"$f":"IF(AND(G111>='A - Contractor Summary'!$C$36,G111<='A - Contractor Summary'!$C$38),\"Yes\",IF(G111<'A - Contractor Summary'!$C$36,\"No\",IF(G111>'A - Contractor Summary'!$C$39,\"\",\"\")))","v":"No"},{"$f":"IF(OR(N111=\"Yes\",N111=\"No\")*AND(G111<'A - Contractor Summary'!$C$39),\"\",IF(AND(G111>'A - Contractor Summary'!$C$39,G111<'A - Contractor Summary'!$C$42),\"Yes\",IF(G111>'A - Contractor Summary'!$C$42,\"No\",\"Needs Review\")))","v":""},"Yes","No",0,0]
[null,101,null,null,null,null,null,null,null,null,null,null,null,{"$f":"IF(AND(G112>='A - Contractor Summary'!$C$36,G112<='A - Contractor Summary'!$C$38),\"Yes\",IF(G112<'A - Contractor Summary'!$C$36,\"No\",IF(G112>'A - Contractor Summary'!$C$39,\"\",\"\")))","v":"No"},{"$f":"IF(OR(N112=\"Yes\",N112=\"No\")*AND(G112<'A - Contractor Summary'!$C$39),\"\",IF(AND(G112>'A - Contractor Summary'!$C$39,G112<'A - Contractor Summary'!$C$42),\"Yes\",IF(G112>'A - Contractor Summary'!$C$42,\"No\",\"Needs Review\")))","v":""},"Yes","No",0,0]
[null,102,null,null,null,null,null,null,null,null,null,null,null,{"$f":"IF(AND(G113>='A - Contractor Summary'!$C$36,G113<='A - Contractor Summary'!$C$38),\"Yes\",IF(G113<'A - Contractor Summary'!$C$36,\"No\",IF(G113>'A - Contractor Summary'!$C$39,\"\",\"\")))","v":"No"},{"$f":"IF(OR(N113=\"Yes\",N113=\"No\")*AND(G113<'A - Contractor Summary'!$C$39),\"\",IF(AND(G113>'A - Contractor Summary'!$C$39,G113<'A - Contractor Summary'!$C$42),\"Yes\",IF(G113>'A - Contractor Summary'!$C$42,\"No\",\"Needs Review\")))","v":""},"Yes","No",0,0]
[null,103,null,null,null,null,null,null,null,null,null,null,null,{"$f":"IF(AND(G114>='A - Contractor Summary'!$C$36,G114<='A - Contractor Summary'!$C$38),\"Yes\",IF(G114<'A - Contractor Summary'!$C$36,\"No\",IF(G114>'A - Contractor Summary'!$C$39,\"\",\"\")))","v":"No"},{"$f":"IF(OR(N114=\"Yes\",N114=\"No\")*AND(G114<'A - Contractor Summary'!$C$39),\"\",IF(AND(G114>'A - Contractor Summary'!$C$39,G114<'A - Contractor Summary'!$C$42),\"Yes\",IF(G114>'A - Contractor Summary'!$C$42,\"No\",\"Needs Review\")))","v":""},"Yes","No",0,0]
[null,104,null,null,null,null,null,null,null,null,null,null,null,{"$f":"IF(AND(G115>='A - Contractor Summary'!$C$36,G115<='A - Contractor Summary'!$C$38),\"Yes\",IF(G115<'A - Contractor Summary'!$C$36,\"No\",IF(G115>'A - Contractor Summary'!$C$39,\"\",\"\")))","v":"No"},{"$f":"IF(OR(N115=\"Yes\",N115=\"No\")*AND(G115<'A - Contractor Summary'!$C$39),\"\",IF(AND(G115>'A - Contractor Summary'!$C$39,G115<'A - Contractor Summary'!$C$42),\"Yes\",IF(G115>'A - Contractor Summary'!$C$42,\"No\",\"Needs Review\")))","v":""},"Yes","No",0,0]
[null,105,null,null,null,null,null,null,null,null,null,null,null,{"$f":"IF(AND(G116>='A - Contractor Summary'!$C$36,G116<='A - Contractor Summary'!$C$38),\"Yes\",IF(G116<'A - Contractor Summary'!$C$36,\"No\",IF(G116>'A - Contractor Summary'!$C$39,\"\",\"\")))","v":"No"},{"$f":"IF(OR(N116=\"Yes\",N116=\"No\")*AND(G116<'A - Contractor Summary'!$C$39),\"\",IF(AND(G116>'A - Contractor Summary'!$C$39,G116<'A - Contractor Summary'!$C$42),\"Yes\",IF(G116>'A - Contractor Summary'!$C$42,\"No\",\"Needs Review\")))","v":""},"Yes","No",0,0]
[null,106,null,null,null,null,null,null,null,null,null,null,null,{"$f":"IF(AND(G117>='A - Contractor Summary'!$C$36,G117<='A - Contractor Summary'!$C$38),\"Yes\",IF(G117<'A - Contractor Summary'!$C$36,\"No\",IF(G117>'A - Contractor Summary'!$C$39,\"\",\"\")))","v":"No"},{"$f":"IF(OR(N117=\"Yes\",N117=\"No\")*AND(G117<'A - Contractor Summary'!$C$39),\"\",IF(AND(G117>'A - Contractor Summary'!$C$39,G117<'A - Contractor Summary'!$C$42),\"Yes\",IF(G117>'A - Contractor Summary'!$C$42,\"No\",\"Needs Review\")))","v":""},"Yes","No",0,0]
[null,107,null,null,null,null,null,null,null,null,null,null,null,{"$f":"IF(AND(G118>='A - Contractor Summary'!$C$36,G118<='A - Contractor Summary'!$C$38),\"Yes\",IF(G118<'A - Contractor Summary'!$C$36,\"No\",IF(G118>'A - Contractor Summary'!$C$39,\"\",\"\")))","v":"No"},{"$f":"IF(OR(N118=\"Yes\",N118=\"No\")*AND(G118<'A - Contractor Summary'!$C$39),\"\",IF(AND(G118>'A - Contractor Summary'!$C$39,G118<'A - Contractor Summary'!$C$42),\"Yes\",IF(G118>'A - Contractor Summary'!$C$42,\"No\",\"Needs Review\")))","v":""},"Yes","No",0,0]
[null,108,null,null,null,null,null,null,null,null,null,null,null,{"$f":"IF(AND(G119>='A - Contractor Summary'!$C$36,G119<='A - Contractor Summary'!$C$38),\"Yes\",IF(G119<'A - Contractor Summary'!$C$36,\"No\",IF(G119>'A - Contractor Summary'!$C$39,\"\",\"\")))","v":"No"},{"$f":"IF(OR(N119=\"Yes\",N119=\"No\")*AND(G119<'A - Contractor Summary'!$C$39),\"\",IF(AND(G119>'A - Contractor Summary'!$C$39,G119<'A - Contractor Summary'!$C$42),\"Yes\",IF(G119>'A - Contractor Summary'!$C$42,\"No\",\"Needs Review\")))","v":""},"Yes","No",0,0]
[null,109,null,null,null,null,null,null,null,null,null,null,null,{"$f":"IF(AND(G120>='A - Contractor Summary'!$C$36,G120<='A - Contractor Summary'!$C$38),\"Yes\",IF(G120<'A - Contractor Summary'!$C$36,\"No\",IF(G120>'A - Contractor Summary'!$C$39,\"\",\"\")))","v":"No"},{"$f":"IF(OR(N120=\"Yes\",N120=\"No\")*AND(G120<'A - Contractor Summary'!$C$39),\"\",IF(AND(G120>'A - Contractor Summary'!$C$39,G120<'A - Contractor Summary'!$C$42),\"Yes\",IF(G120>'A - Contractor Summary'!$C$42,\"No\",\"Needs Review\")))","v":""},"Yes","No",0,0]
[null,110,null,null,null,null,null,null,null,null,null,null,null,{"$f":"IF(AND(G121>='A - Contractor Summary'!$C$36,G121<='A - Contractor Summary'!$C$38),\"Yes\",IF(G121<'A - Contractor Summary'!$C$36,\"No\",IF(G121>'A - Contractor Summary'!$C$39,\"\",\"\")))","v":"No"},{"$f":"IF(OR(N121=\"Yes\",N121=\"No\")*AND(G121<'A - Contractor Summary'!$C$39),\"\",IF(AND(G121>'A - Contractor Summary'!$C$39,G121<'A - Contractor Summary'!$C$42),\"Yes\",IF(G121>'A - Contractor Summary'!$C$42,\"No\",\"Needs Review\")))","v":""},"Yes","No",0,0]
[null,111,null,null,null,null,null,null,null,null,null,null,null,{"$f":"IF(AND(G122>='A - Contractor Summary'!$C$36,G122<='A - Contractor Summary'!$C$38),\"Yes\",IF(G122<'A - Contractor Summary'!$C$36,\"No\",IF(G122>'A - Contractor Summary'!$C$39,\"\",\"\")))","v":"No"},{"$f":"IF(OR(N122=\"Yes\",N122=\"No\")*AND(G122<'A - Contractor Summary'!$C$39),\"\",IF(AND(G122>'A - Contractor Summary'!$C$39,G122<'A - Contractor Summary'!$C$42),\"Yes\",IF(G122>'A - Contractor Summary'!$C$42,\"No\",\"Needs Review\")))","v":""},"Yes","No",0,0]
[null,112,null,null,null,null,null,null,null,null,null,null,null,{"$f":"IF(AND(G123>='A - Contractor Summary'!$C$36,G123<='A - Contractor Summary'!$C$38),\"Yes\",IF(G123<'A - Contractor Summary'!$C$36,\"No\",IF(G123>'A - Contractor Summary'!$C$39,\"\",\"\")))","v":"No"},{"$f":"IF(OR(N123=\"Yes\",N123=\"No\")*AND(G123<'A - Contractor Summary'!$C$39),\"\",IF(AND(G123>'A - Contractor Summary'!$C$39,G123<'A - Contractor Summary'!$C$42),\"Yes\",IF(G123>'A - Contractor Summary'!$C$42,\"No\",\"Needs Review\")))","v":""},"Yes","No",0,0]
[null,113,null,null,null,null,null,null,null,null,null,null,null,{"$f":"IF(AND(G124>='A - Contractor Summary'!$C$36,G124<='A - Contractor Summary'!$C$38),\"Yes\",IF(G124<'A - Contractor Summary'!$C$36,\"No\",IF(G124>'A - Contractor Summary'!$C$39,\"\",\"\")))","v":"No"},{"$f":"IF(OR(N124=\"Yes\",N124=\"No\")*AND(G124<'A - Contractor Summary'!$C$39),\"\",IF(AND(G124>'A - Contractor Summary'!$C$39,G124<'A - Contractor Summary'!$C$42),\"Yes\",IF(G124>'A - Contractor Summary'!$C$42,\"No\",\"Needs Review\")))","v":""},"Yes","No",0,0]
[null,114,null,null,null,null,null,null,null,null,null,null,null,{"$f":"IF(AND(G125>='A - Contractor Summary'!$C$36,G125<='A - Contractor Summary'!$C$38),\"Yes\",IF(G125<'A - Contractor Summary'!$C$36,\"No\",IF(G125>'A - Contractor Summary'!$C$39,\"\",\"\")))","v":"No"},{"$f":"IF(OR(N125=\"Yes\",N125=\"No\")*AND(G125<'A - Contractor Summary'!$C$39),\"\",IF(AND(G125>'A - Contractor Summary'!$C$39,G125<'A - Contractor Summary'!$C$42),\"Yes\",IF(G125>'A - Contractor Summary'!$C$42,\"No\",\"Needs Review\")))","v":""},"Yes","No",0,0]
[null,115,null,null,null,null,null,null,null,null,null,null,null,{"$f":"IF(AND(G126>='A - Contractor Summary'!$C$36,G126<='A - Contractor Summary'!$C$38),\"Yes\",IF(G126<'A - Contractor Summary'!$C$36,\"No\",IF(G126>'A - Contractor Summary'!$C$39,\"\",\"\")))","v":"No"},{"$f":"IF(OR(N126=\"Yes\",N126=\"No\")*AND(G126<'A - Contractor Summary'!$C$39),\"\",IF(AND(G126>'A - Contractor Summary'!$C$39,G126<'A - Contractor Summary'!$C$42),\"Yes\",IF(G126>'A - Contractor Summary'!$C$42,\"No\",\"Needs Review\")))","v":""},"Yes","No",0,0]
[null,116,null,null,null,null,null,null,null,null,null,null,null,{"$f":"IF(AND(G127>='A - Contractor Summary'!$C$36,G127<='A - Contractor Summary'!$C$38),\"Yes\",IF(G127<'A - Contractor Summary'!$C$36,\"No\",IF(G127>'A - Contractor Summary'!$C$39,\"\",\"\")))","v":"No"},{"$f":"IF(OR(N127=\"Yes\",N127=\"No\")*AND(G127<'A - Contractor Summary'!$C$39),\"\",IF(AND(G127>'A - Contractor Summary'!$C$39,G127<'A - Contractor Summary'!$C$42),\"Yes\",IF(G127>'A - Contractor Summary'!$C$42,\"No\",\"Needs Review\")))","v":""},"Yes","No",0,0]
[null,117,null,null,null,null,null,null,null,null,null,null,null,{"$f":"IF(AND(G128>='A - Contractor Summary'!$C$36,G128<='A - Contractor Summary'!$C$38),\"Yes\",IF(G128<'A - Contractor Summary'!$C$36,\"No\",IF(G128>'A - Contractor Summary'!$C$39,\"\",\"\")))","v":"No"},{"$f":"IF(OR(N128=\"Yes\",N128=\"No\")*AND(G128<'A - Contractor Summary'!$C$39),\"\",IF(AND(G128>'A - Contractor Summary'!$C$39,G128<'A - Contractor Summary'!$C$42),\"Yes\",IF(G128>'A - Contractor Summary'!$C$42,\"No\",\"Needs Review\")))","v":""},"Yes","No",0,0]
[null,118,null,null,null,null,null,null,null,null,null,null,null,{"$f":"IF(AND(G129>='A - Contractor Summary'!$C$36,G129<='A - Contractor Summary'!$C$38),\"Yes\",IF(G129<'A - Contractor Summary'!$C$36,\"No\",IF(G129>'A - Contractor Summary'!$C$39,\"\",\"\")))","v":"No"},{"$f":"IF(OR(N129=\"Yes\",N129=\"No\")*AND(G129<'A - Contractor Summary'!$C$39),\"\",IF(AND(G129>'A - Contractor Summary'!$C$39,G129<'A - Contractor Summary'!$C$42),\"Yes\",IF(G129>'A - Contractor Summary'!$C$42,\"No\",\"Needs Review\")))","v":""},"Yes","No",0,0]
[null,119,null,null,null,null,null,null,null,null,null,null,null,{"$f":"IF(AND(G130>='A - Contractor Summary'!$C$36,G130<='A - Contractor Summary'!$C$38),\"Yes\",IF(G130<'A - Contractor Summary'!$C$36,\"No\",IF(G130>'A - Contractor Summary'!$C$39,\"\",\"\")))","v":"No"},{"$f":"IF(OR(N130=\"Yes\",N130=\"No\")*AND(G130<'A - Contractor Summary'!$C$39),\"\",IF(AND(G130>'A - Contractor Summary'!$C$39,G130<'A - Contractor Summary'!$C$42),\"Yes\",IF(G130>'A - Contractor Summary'!$C$42,\"No\",\"Needs Review\")))","v":""},"Yes","No",0,0]
[null,120,null,null,null,null,null,null,null,null,null,null,null,{"$f":"IF(AND(G131>='A - Contractor Summary'!$C$36,G131<='A - Contractor Summary'!$C$38),\"Yes\",IF(G131<'A - Contractor Summary'!$C$36,\"No\",IF(G131>'A - Contractor Summary'!$C$39,\"\",\"\")))","v":"No"},{"$f":"IF(OR(N131=\"Yes\",N131=\"No\")*AND(G131<'A - Contractor Summary'!$C$39),\"\",IF(AND(G131>'A - Contractor Summary'!$C$39,G131<'A - Contractor Summary'!$C$42),\"Yes\",IF(G131>'A - Contractor Summary'!$C$42,\"No\",\"Needs Review\")))","v":""},"Yes","No",0,0]
[null,121,null,null,null,null,null,null,null,null,null,null,null,{"$f":"IF(AND(G132>='A - Contractor Summary'!$C$36,G132<='A - Contractor Summary'!$C$38),\"Yes\",IF(G132<'A - Contractor Summary'!$C$36,\"No\",IF(G132>'A - Contractor Summary'!$C$39,\"\",\"\")))","v":"No"},{"$f":"IF(OR(N132=\"Yes\",N132=\"No\")*AND(G132<'A - Contractor Summary'!$C$39),\"\",IF(AND(G132>'A - Contractor Summary'!$C$39,G132<'A - Contractor Summary'!$C$42),\"Yes\",IF(G132>'A - Contractor Summary'!$C$42,\"No\",\"Needs Review\")))","v":""},"Yes","No",0,0]
[null,122,null,null,null,null,null,null,null,null,null,null,null,{"$f":"IF(AND(G133>='A - Contractor Summary'!$C$36,G133<='A - Contractor Summary'!$C$38),\"Yes\",IF(G133<'A - Contractor Summary'!$C$36,\"No\",IF(G133>'A - Contractor Summary'!$C$39,\"\",\"\")))","v":"No"},{"$f":"IF(OR(N133=\"Yes\",N133=\"No\")*AND(G133<'A - Contractor Summary'!$C$39),\"\",IF(AND(G133>'A - Contractor Summary'!$C$39,G133<'A - Contractor Summary'!$C$42),\"Yes\",IF(G133>'A - Contractor Summary'!$C$42,\"No\",\"Needs Review\")))","v":""},"Yes","No",0,0]
[null,123,null,null,null,null,null,null,null,null,null,null,null,{"$f":"IF(AND(G134>='A - Contractor Summary'!$C$36,G134<='A - Contractor Summary'!$C$38),\"Yes\",IF(G134<'A - Contractor Summary'!$C$36,\"No\",IF(G134>'A - Contractor Summary'!$C$39,\"\",\"\")))","v":"No"},{"$f":"IF(OR(N134=\"Yes\",N134=\"No\")*AND(G134<'A - Contractor Summary'!$C$39),\"\",IF(AND(G134>'A - Contractor Summary'!$C$39,G134<'A - Contractor Summary'!$C$42),\"Yes\",IF(G134>'A - Contractor Summary'!$C$42,\"No\",\"Needs Review\")))","v":""},"Yes","No",0,0]
[null,124,null,null,null,null,null,null,null,null,null,null,null,{"$f":"IF(AND(G135>='A - Contractor Summary'!$C$36,G135<='A - Contractor Summary'!$C$38),\"Yes\",IF(G135<'A - Contractor Summary'!$C$36,\"No\",IF(G135>'A - Contractor Summary'!$C$39,\"\",\"\")))","v":"No"},{"$f":"IF(OR(N135=\"Yes\",N135=\"No\")*AND(G135<'A - Contractor Summary'!$C$39),\"\",IF(AND(G135>'A - Contractor Summary'!$C$39,G135<'A - Contractor Summary'!$C$42),\"Yes\",IF(G135>'A - Contractor Summary'!$C$42,\"No\",\"Needs Review\")))","v":""},"Yes","No",0,0]
[null,125,null,null,null,null,null,null,null,null,null,null,null,{"$f":"IF(AND(G136>='A - Contractor Summary'!$C$36,G136<='A - Contractor Summary'!$C$38),\"Yes\",IF(G136<'A - Contractor Summary'!$C$36,\"No\",IF(G136>'A - Contractor Summary'!$C$39,\"\",\"\")))","v":"No"},{"$f":"IF(OR(N136=\"Yes\",N136=\"No\")*AND(G136<'A - Contractor Summary'!$C$39),\"\",IF(AND(G136>'A - Contractor Summary'!$C$39,G136<'A - Contractor Summary'!$C$42),\"Yes\",IF(G136>'A - Contractor Summary'!$C$42,\"No\",\"Needs Review\")))","v":""},"Yes","No",0,0]
[null,126,null,null,null,null,null,null,null,null,null,null,null,{"$f":"IF(AND(G137>='A - Contractor Summary'!$C$36,G137<='A - Contractor Summary'!$C$38),\"Yes\",IF(G137<'A - Contractor Summary'!$C$36,\"No\",IF(G137>'A - Contractor Summary'!$C$39,\"\",\"\")))","v":"No"},{"$f":"IF(OR(N137=\"Yes\",N137=\"No\")*AND(G137<'A - Contractor Summary'!$C$39),\"\",IF(AND(G137>'A - Contractor Summary'!$C$39,G137<'A - Contractor Summary'!$C$42),\"Yes\",IF(G137>'A - Contractor Summary'!$C$42,\"No\",\"Needs Review\")))","v":""},"Yes","No",0,0]
[null,127,null,null,null,null,null,null,null,null,null,null,null,{"$f":"IF(AND(G138>='A - Contractor Summary'!$C$36,G138<='A - Contractor Summary'!$C$38),\"Yes\",IF(G138<'A - Contractor Summary'!$C$36,\"No\",IF(G138>'A - Contractor Summary'!$C$39,\"\",\"\")))","v":"No"},{"$f":"IF(OR(N138=\"Yes\",N138=\"No\")*AND(G138<'A - Contractor Summary'!$C$39),\"\",IF(AND(G138>'A - Contractor Summary'!$C$39,G138<'A - Contractor Summary'!$C$42),\"Yes\",IF(G138>'A - Contractor Summary'!$C$42,\"No\",\"Needs Review\")))","v":""},"Yes","No",0,0]
[null,128,null,null,null,null,null,null,null,null,null,null,null,{"$f":"IF(AND(G139>='A - Contractor Summary'!$C$36,G139<='A - Contractor Summary'!$C$38),\"Yes\",IF(G139<'A - Contractor Summary'!$C$36,\"No\",IF(G139>'A - Contractor Summary'!$C$39,\"\",\"\")))","v":"No"},{"$f":"IF(OR(N139=\"Yes\",N139=\"No\")*AND(G139<'A - Contractor Summary'!$C$39),\"\",IF(AND(G139>'A - Contractor Summary'!$C$39,G139<'A - Contractor Summary'!$C$42),\"Yes\",IF(G139>'A - Contractor Summary'!$C$42,\"No\",\"Needs Review\")))","v":""},"Yes","No",0,0]
[null,129,null,null,null,null,null,null,null,null,null,null,null,{"$f":"IF(AND(G140>='A - Contractor Summary'!$C$36,G140<='A - Contractor Summary'!$C$38),\"Yes\",IF(G140<'A - Contractor Summary'!$C$36,\"No\",IF(G140>'A - Contractor Summary'!$C$39,\"\",\"\")))","v":"No"},{"$f":"IF(OR(N140=\"Yes\",N140=\"No\")*AND(G140<'A - Contractor Summary'!$C$39),\"\",IF(AND(G140>'A - Contractor Summary'!$C$39,G140<'A - Contractor Summary'!$C$42),\"Yes\",IF(G140>'A - Contractor Summary'!$C$42,\"No\",\"Needs Review\")))","v":""},"Yes",{"$f":"IF(AND(P140=\"Yes\",L140=\"Yes\",M140=\"Yes\")*OR(O140=\"Yes\",N140=\"Yes\"),\"Yes\",IF(OR(L140=\"No\",N140=\"No\",O140=\"No\",P140=\"No\",M140=\"No\"),\"No\",\"Needs Review\"))","v":"No"},{"$f":"IF(Q140=\"Yes\",K140,0)","v":0},{"$f":"IF(Q140=\"Needs Review\",K140,0)","v":0}]
[null,null,null,null,null,null,null,null,null,null,{"$f":"SUM(K14:K140)","v":0},null,null,null,null,null,null,{"$f":"IFERROR(SUM(R14:R140),0)","v":0},{"$f":"IFERROR(SUM(S14:S140),0)","v":0},{"$f":"SUM(T14:T140)","v":0},{"$f":"SUM(U14:U140)","v":0},{"$f":"S141-T141-U141","v":0},"check (a)"]
[]
[]
[]
[null,"Tickmark Explanation:"]
[null,null,1]
[null,null,2]
[null,null,3]
[null,null,4]
[null,null,5]
[null,null,6]
[null,null,7]

{"sheet":"I - Other","index":11,"n_rows":36,"n_cols":23,"rows_kept":36,"cut":false,"hidden":false,"merged":[[12,13,12,21],[12,1,12,12],[3,1,7,12],[36,3,36,21]]}
[]
[null,"Other Charges"]
[]
[null,"Test Plan: (A) Obtain support of individual charges.   (B) Enter Yes/No if receipt is itemized.  (C) Enter Yes/No if proof of payment has been provided.  (D) Ensure charges fall between the dates the vendor was mobilized and the date they arrived.  (E) Ensure charges are prior to the date the vendor arrived home or was released to another utility.  (F) Ensure the expense type is reasonable (G) Determine the amount(s) to be reviewed, allowed and/or disallowed.   (H)  For charges which required further review, document review and include why it was determined to be allowed/disallowed via a tickmark."]
[]
[]
[]
[]
[null,"a","Check figure should equal $0.  Cell will appear yellow if discrepancies are noted."]
[]
[]
[null,null,"A",null,null,null,null,null,null,null,null,"B","C","D","E","F","G",null,null,"H"]
[null,"Support Reviewed",null,null,null,null,null,null,null,null,null,null,null,"Conclusions"]
[null,"#","Type of Support","Support Identifier","Company","Crew","Date","Person","Vendor Name","Location","$ Total","Itemized Receipt","Proof of Payment","Reasonable based on Mobilization date(s)","Reasonable based on Demobilization date(s)","Expense Type Appropriate","Conclusion","$ Allowable Charge","$ To Be Reviewed","Reviewed - Allowable Charge","Reviewed - Unallowable Charge","Tickmarks"]
[null,null,"Invoice","INV#1267","Vendor 04",null,"2018-11-17",null,"Sun Belt Rentals",null,18504.330000000002,null,null,null,null,null,null,null,null,{"$f":"+K15","v":18504.330000000002},null,1]
[null,null,"Invoice","INV#1389","Vendor 04",null,"2019-01-09",null,"J Curry Farms",null,2145,null,null,null,null,null,null,null,null,{"$f":"+K16","v":2145},null,1]
[null,null,"Invoice","INV#1389","Vendor 04",null,"2019-01-14",null,"J Curry Farms",null,1155,null,null,null,null,null,null,null,null,1155,null,1]
[null,null,"Invoice","INV#1389","Vendor 04",null,"2019-02-14",null,"Acme Barricades",null,220.8,null,null,null,null,null,null,null,null,220.8,null,1]
[null,null,"Invoice","INV#1419","Vendor 04",null,"2019-02-08",null,"J Curry Farms",null,7535,null,null,null,null,null,null,null,null,7535,null,1]
[null,null,"Invoice","INV#1267","Vendor 04",null,"2019-02-11",null,"J Curry Farms",null,5720,null,null,null,null,null,null,null,null,5720,null,1]
[null,null,"Invoice","INV#1438","Vendor 04",null,"2019-02-19",null,"J Curry Farms",null,6875,null,null,null,null,null,null,null,null,6875,null,1]
[null,null,"Invoice","INV#1463","Vendor 04",null,"2019-02-19",null,"J Curry Farms",null,3740,null,null,null,null,null,null,null,null,3740,null,1]
[null,null,"Invoice","INV#1503","Vendor 04",null,"2019-02-22",null,null,null,12621.53,null,null,null,null,null,null,null,null,12621.53,null,1]
[]
[]
[]
[]
[]
[]
[null,null,null,null,null,null,null,null,null,null,null,null,null,{"$f":"IF(AND(G30>='A - Contractor Summary'!$C$36,G30<='A - Contractor Summary'!$C$38),\"Yes\",IF(G30<'A - Contractor Summary'!$C$36,\"No\",IF(G30>'A - Contractor Summary'!$C$39,\"\",\"\")))","v":"No"},{"$f":"IF(OR(N30=\"Yes\",N30=\"No\")*AND(G30<'A - Contractor Summary'!$C$39),\"\",IF(AND(G30>'A - Contractor Summary'!$C$39,G30<'A - Contractor Summary'!$C$42),\"Yes\",IF(G30>'A - Contractor Summary'!$C$42,\"No\",\"Needs Review\")))","v":""},"Needs Reviewed",{"$f":"IF(AND(P30=\"YES\",L30=\"Yes\",M30=\"yes\")*OR(N30=\"Yes\",O30=\"Yes\"),\"Yes\",IF(OR(O30=\"No\",P30=\"No\",N30=\"No\",M30=\"No\"),\"No\",\"Needs Review\"))","v":"No"},{"$f":"IF(Q30=\"Yes\",K30,0)","v":0},{"$f":"IF(Q30=\"Needs Review\",K30,0)","v":0},null,null,1]
[null,null,null,null,null,null,null,null,null,null,{"$f":"SUM(K15:K30)","v":58516.66},null,null,null,null,null,null,{"$f":"IFERROR(SUM(R30:R30),0)","v":0},{"$f":"IFERROR(SUM(S30:S30),0)","v":0},{"$f":"SUM(T15:T30)","v":58516.66},{"$f":"SUM(U15:U30)","v":0},{"$f":"S31-T31-U31","v":-58516.66},"check (a)"]
[]
[]
[]
[null,"Tickmark Explanation:"]
[null,null,"1 Documentation Provided"]

{"sheet":"G - Per Diem","index":12,"n_rows":54,"n_cols":19,"rows_kept":54,"cut":false,"hidden":false,"merged":[[3,1,8,9],[1,1,1,17],[14,9,14,17],[14,1,14,8],[4,11,6,16]]}
[null,null,null,null,null,null,null," "]
[null,"Per Diem Charges"]
[]
[null,"Test Plan: (A) Enter per diem charges per invoice. (B) Enter number of crew worked per timecard.  (C) Enter the Per Diem Rate charged per person per meal (D) Ensure the number of crew members being charged is appropriate (This is comparing the submitted timecards and the per diem charges invoiced).  (E) Ensure charges fall between the dates the vendor was mobilized and the date they arrived.  (F) Ensure charges are prior to the date the vendor arrived home or was released to another utility.  (G)  Determine the amount(s) to be reviewed, allowed and/or disallowed.   (H) For charges which required further review, document review and include why it was determined to be allowed/disallowed via a tickmark."]
[]
[]
[]
[]
[]
[null,"Rx","Recalculated."]
[null,"a","Check figure should equal $0.  Cell will appear yellow if discrepancies are noted."]
[]
[]
[null,"A",null,null,null,"B","Rx","C","Rx","D","E","F","G",null,null,"H"]
[null,"Support Reviewed",null,null,null,null,null,null,null,"Conclusion"]
[null,"Dates","Company","Per Diem Type","# Crew Worked (per invoice)","# Crew Worked (per timecards)","Difference","Per Diem Rate","Total Per Diem  ","# Crew Reasonable","Reasonable based on Mobilization date(s)","Reasonable based on Demobilization date(s)","Conclusion","$ Allowable Charge","$ To Be Reviewed","Reviewed - Allowable Charge","Reviewed - Unallowable Charge","Tickmarks"]
[null,"2018-10-11","Vendor No. 04","Hotel",52,null,{"$f":"E17-F17","v":52},50,{"$f":"E17*H17","v":2600},{"$f":"IF(G17>0,\"No\",IF(F17=0,\"N/A\",\"Yes\"))","v":"No"},{"$f":"IF(AND(B17>='A - Contractor Summary'!$C$36,B17<='A - Contractor Summary'!$C$38),\"Yes\",IF(B17<'A - Contractor Summary'!$C$36,\"No\",IF(B17>'A - Contractor Summary'!$C$39,\"\",\"\")))","v":"Yes"},{"$f":"IF(OR(K17=\"Yes\",K17=\"No\")*AND(B17<'A - Contractor Summary'!$C$39),\"\",IF(AND(B17>'A - Contractor Summary'!$C$39,B17<'A - Contractor Summary'!$C$42),\"Yes\",IF(B17>'A - Contractor Summary'!$C$42,\"No\",\"Needs Review\")))","v":""},{"$f":"IF(AND(J17=\"Yes\")*OR(K17=\"Yes\",L17=\"Yes\"),\"Yes\",IF(OR(K17=\"No\",J17=\"No\",L17=\"No\"),\"No\",\"Needs Review\"))","v":"No"},{"$f":"IF(M17=\"Yes\",I17,0)","v":0},{"$f":"IF(M17=\"Needs Review\",I17,0)","v":0},{"$f":"+I17","v":2600},null,1]
[null,"2018-10-12","Vendor No. 04","Hotel",52,null,52,50,{"$f":"E18*H18","v":2600},{"$f":"IF(G18>0,\"No\",IF(F18=0,\"N/A\",\"Yes\"))","v":"No"},{"$f":"IF(AND(B18>='A - Contractor Summary'!$C$36,B18<='A - Contractor Summary'!$C$38),\"Yes\",IF(B18<'A - Contractor Summary'!$C$36,\"No\",IF(B18>'A - Contractor Summary'!$C$39,\"\",\"\")))","v":""},{"$f":"IF(OR(K18=\"Yes\",K18=\"No\")*AND(B18<'A - Contractor Summary'!$C$39),\"\",IF(AND(B18>'A - Contractor Summary'!$C$39,B18<'A - Contractor Summary'!$C$42),\"Yes\",IF(B18>'A - Contractor Summary'!$C$42,\"No\",\"Needs Review\")))","v":"Needs Review"},{"$f":"IF(AND(J18=\"Yes\")*OR(K18=\"Yes\",L18=\"Yes\"),\"Yes\",IF(OR(K18=\"No\",J18=\"No\",L18=\"No\"),\"No\",\"Needs Review\"))","v":"No"},{"$f":"IF(M18=\"Yes\",I18,0)","v":0},{"$f":"IF(M18=\"Needs Review\",I18,0)","v":0},{"$f":"+I18","v":2600},null,1]
[null,"2018-10-13","Vendor No. 04","Hotel",52,null,52,50,{"$f":"E19*H19","v":2600},{"$f":"IF(G19>0,\"No\",IF(F19=0,\"N/A\",\"Yes\"))","v":"No"},{"$f":"IF(AND(B19>='A - Contractor Summary'!$C$36,B19<='A - Contractor Summary'!$C$38),\"Yes\",IF(B19<'A - Contractor Summary'!$C$36,\"No\",IF(B19>'A - Contractor Summary'!$C$39,\"\",\"\")))","v":""},{"$f":"IF(OR(K19=\"Yes\",K19=\"No\")*AND(B19<'A - Contractor Summary'!$C$39),\"\",IF(AND(B19>'A - Contractor Summary'!$C$39,B19<'A - Contractor Summary'!$C$42),\"Yes\",IF(B19>'A - Contractor Summary'!$C$42,\"No\",\"Needs Review\")))","v":"Needs Review"},"No",0,0,2600,null,1]
[null,"2018-10-14","Vendor No. 04","Hotel",79,null,79,50,3950,"No",{"$f":"IF(AND(B20>='A - Contractor Summary'!$C$36,B20<='A - Contractor Summary'!$C$38),\"Yes\",IF(B20<'A - Contractor Summary'!$C$36,\"No\",IF(B20>'A - Contractor Summary'!$C$39,\"\",\"\")))","v":""},{"$f":"IF(OR(K20=\"Yes\",K20=\"No\")*AND(B20<'A - Contractor Summary'!$C$39),\"\",IF(AND(B20>'A - Contractor Summary'!$C$39,B20<'A - Contractor Summary'!$C$42),\"Yes\",IF(B20>'A - Contractor Summary'!$C$42,\"No\",\"Needs Review\")))","v":"Needs Review"},"No",0,0,3950,null,1]
[null,"2018-10-15","Vendor No. 04","Hotel",79,null,79,50,3950,"No",{"$f":"IF(AND(B21>='A - Contractor Summary'!$C$36,B21<='A - Contractor Summary'!$C$38),\"Yes\",IF(B21<'A - Contractor Summary'!$C$36,\"No\",IF(B21>'A - Contractor Summary'!$C$39,\"\",\"\")))","v":""},{"$f":"IF(OR(K21=\"Yes\",K21=\"No\")*AND(B21<'A - Contractor Summary'!$C$39),\"\",IF(AND(B21>'A - Contractor Summary'!$C$39,B21<'A - Contractor Summary'!$C$42),\"Yes\",IF(B21>'A - Contractor Summary'!$C$42,\"No\",\"Needs Review\")))","v":"Needs Review"},"No",0,0,3950,null,1]
[null,"2018-10-16","Vendor No. 04","Hotel",81,null,81,50,4050,"No",{"$f":"IF(AND(B22>='A - Contractor Summary'!$C$36,B22<='A - Contractor Summary'!$C$38),\"Yes\",IF(B22<'A - Contractor Summary'!$C$36,\"No\",IF(B22>'A - Contractor Summary'!$C$39,\"\",\"\")))","v":""},{"$f":"IF(OR(K22=\"Yes\",K22=\"No\")*AND(B22<'A - Contractor Summary'!$C$39),\"\",IF(AND(B22>'A - Contractor Summary'!$C$39,B22<'A - Contractor Summary'!$C$42),\"Yes\",IF(B22>'A - Contractor Summary'!$C$42,\"No\",\"Needs Review\")))","v":"Needs Review"},"No",0,0,4050,null,1]
[null,"2018-10-17","Vendor No. 04","Hotel",87,null,87,50,4350,"No",{"$f":"IF(AND(B23>='A - Contractor Summary'!$C$36,B23<='A - Contractor Summary'!$C$38),\"Yes\",IF(B23<'A - Contractor Summary'!$C$36,\"No\",IF(B23>'A - Contractor Summary'!$C$39,\"\",\"\")))","v":""},{"$f":"IF(OR(K23=\"Yes\",K23=\"No\")*AND(B23<'A - Contractor Summary'!$C$39),\"\",IF(AND(B23>'A - Contractor Summary'!$C$39,B23<'A - Contractor Summary'!$C$42),\"Yes\",IF(B23>'A - Contractor Summary'!$C$42,\"No\",\"Needs Review\")))","v":"Needs Review"},"No",0,0,4350,null,1]
[null,"2018-10-18","Vendor No. 04","Hotel",87,null,87,50,4350,"No",{"$f":"IF(AND(B24>='A - Contractor Summary'!$C$36,B24<='A - Contractor Summary'!$C$38),\"Yes\",IF(B24<'A - Contractor Summary'!$C$36,\"No\",IF(B24>'A - Contractor Summary'!$C$39,\"\",\"\")))","v":""},{"$f":"IF(OR(K24=\"Yes\",K24=\"No\")*AND(B24<'A - Contractor Summary'!$C$39),\"\",IF(AND(B24>'A - Contractor Summary'!$C$39,B24<'A - Contractor Summary'!$C$42),\"Yes\",IF(B24>'A - Contractor Summary'!$C$42,\"No\",\"Needs Review\")))","v":"Needs Review"},"No",0,0,4350,null,1]
[null,"2018-10-19","Vendor No. 04","Hotel",105,null,105,50,5250,"No",{"$f":"IF(AND(B25>='A - Contractor Summary'!$C$36,B25<='A - Contractor Summary'!$C$38),\"Yes\",IF(B25<'A - Contractor Summary'!$C$36,\"No\",IF(B25>'A - Contractor Summary'!$C$39,\"\",\"\")))","v":""},{"$f":"IF(OR(K25=\"Yes\",K25=\"No\")*AND(B25<'A - Contractor Summary'!$C$39),\"\",IF(AND(B25>'A - Contractor Summary'!$C$39,B25<'A - Contractor Summary'!$C$42),\"Yes\",IF(B25>'A - Contractor Summary'!$C$42,\"No\",\"Needs Review\")))","v":"Needs Review"},"No",0,0,5250,null,1]
[null,"2018-10-20","Vendor No. 04","Hotel",122,null,122,50,6100,"No",{"$f":"IF(AND(B26>='A - Contractor Summary'!$C$36,B26<='A - Contractor Summary'!$C$38),\"Yes\",IF(B26<'A - Contractor Summary'!$C$36,\"No\",IF(B26>'A - Contractor Summary'!$C$39,\"\",\"\")))","v":""},{"$f":"IF(OR(K26=\"Yes\",K26=\"No\")*AND(B26<'A - Contractor Summary'!$C$39),\"\",IF(AND(B26>'A - Contractor Summary'!$C$39,B26<'A - Contractor Summary'!$C$42),\"Yes\",IF(B26>'A - Contractor Summary'!$C$42,\"No\",\"Needs Review\")))","v":"Needs Review"},"No",0,0,6100,null,1]
[null,"2018-10-21","Vendor No. 04","Hotel",150,null,150,50,7500,"No",{"$f":"IF(AND(B27>='A - Contractor Summary'!$C$36,B27<='A - Contractor Summary'!$C$38),\"Yes\",IF(B27<'A - Contractor Summary'!$C$36,\"No\",IF(B27>'A - Contractor Summary'!$C$39,\"\",\"\")))","v":""},{"$f":"IF(OR(K27=\"Yes\",K27=\"No\")*AND(B27<'A - Contractor Summary'!$C$39),\"\",IF(AND(B27>'A - Contractor Summary'!$C$39,B27<'A - Contractor Summary'!$C$42),\"Yes\",IF(B27>'A - Contractor Summary'!$C$42,\"No\",\"Needs Review\")))","v":"Needs Review"},"No",0,0,7500,null,1]
[null,"2018-10-22","Vendor No. 04","Hotel",150,null,150,50,7500,"No",{"$f":"IF(AND(B28>='A - Contractor Summary'!$C$36,B28<='A - Contractor Summary'!$C$38),\"Yes\",IF(B28<'A - Contractor Summary'!$C$36,\"No\",IF(B28>'A - Contractor Summary'!$C$39,\"\",\"\")))","v":""},{"$f":"IF(OR(K28=\"Yes\",K28=\"No\")*AND(B28<'A - Contractor Summary'!$C$39),\"\",IF(AND(B28>'A - Contractor Summary'!$C$39,B28<'A - Contractor Summary'!$C$42),\"Yes\",IF(B28>'A - Contractor Summary'!$C$42,\"No\",\"Needs Review\")))","v":"Needs Review"},"No",0,0,7500,null,1]
[null,"2018-10-23","Vendor No. 04","Hotel",150,null,150,50,7500,"No",{"$f":"IF(AND(B29>='A - Contractor Summary'!$C$36,B29<='A - Contractor Summary'!$C$38),\"Yes\",IF(B29<'A - Contractor Summary'!$C$36,\"No\",IF(B29>'A - Contractor Summary'!$C$39,\"\",\"\")))","v":""},{"$f":"IF(OR(K29=\"Yes\",K29=\"No\")*AND(B29<'A - Contractor Summary'!$C$39),\"\",IF(AND(B29>'A - Contractor Summary'!$C$39,B29<'A - Contractor Summary'!$C$42),\"Yes\",IF(B29>'A - Contractor Summary'!$C$42,\"No\",\"Needs Review\")))","v":"Needs Review"},"No",0,0,7500,null,1]
[null,"2018-10-24","Vendor No. 04","Hotel",150,null,150,50,7500,"No",{"$f":"IF(AND(B30>='A - Contractor Summary'!$C$36,B30<='A - Contractor Summary'!$C$38),\"Yes\",IF(B30<'A - Contractor Summary'!$C$36,\"No\",IF(B30>'A - Contractor Summary'!$C$39,\"\",\"\")))","v":""},{"$f":"IF(OR(K30=\"Yes\",K30=\"No\")*AND(B30<'A - Contractor Summary'!$C$39),\"\",IF(AND(B30>'A - Contractor Summary'!$C$39,B30<'A - Contractor Summary'!$C$42),\"Yes\",IF(B30>'A - Contractor Summary'!$C$42,\"No\",\"Needs Review\")))","v":"Needs Review"},"No",0,0,7500,null,1]
[null,"2018-10-25","Vendor No. 04","Hotel",150,null,150,50,7500,"No",{"$f":"IF(AND(B31>='A - Contractor Summary'!$C$36,B31<='A - Contractor Summary'!$C$38),\"Yes\",IF(B31<'A - Contractor Summary'!$C$36,\"No\",IF(B31>'A - Contractor Summary'!$C$39,\"\",\"\")))","v":""},{"$f":"IF(OR(K31=\"Yes\",K31=\"No\")*AND(B31<'A - Contractor Summary'!$C$39),\"\",IF(AND(B31>'A - Contractor Summary'!$C$39,B31<'A - Contractor Summary'!$C$42),\"Yes\",IF(B31>'A - Contractor Summary'!$C$42,\"No\",\"Needs Review\")))","v":"Needs Review"},"No",0,0,7500,null,1]
[null,"2018-10-26","Vendor No. 04","Hotel",150,null,150,50,7500,"No",{"$f":"IF(AND(B32>='A - Contractor Summary'!$C$36,B32<='A - Contractor Summary'!$C$38),\"Yes\",IF(B32<'A - Contractor Summary'!$C$36,\"No\",IF(B32>'A - Contractor Summary'!$C$39,\"\",\"\")))","v":""},{"$f":"IF(OR(K32=\"Yes\",K32=\"No\")*AND(B32<'A - Contractor Summary'!$C$39),\"\",IF(AND(B32>'A - Contractor Summary'!$C$39,B32<'A - Contractor Summary'!$C$42),\"Yes\",IF(B32>'A - Contractor Summary'!$C$42,\"No\",\"Needs Review\")))","v":"Needs Review"},"No",0,0,7500,null,1]
[null,"2018-10-27","Vendor No. 04","Hotel",150,null,150,50,7500,"No",{"$f":"IF(AND(B33>='A - Contractor Summary'!$C$36,B33<='A - Contractor Summary'!$C$38),\"Yes\",IF(B33<'A - Contractor Summary'!$C$36,\"No\",IF(B33>'A - Contractor Summary'!$C$39,\"\",\"\")))","v":""},{"$f":"IF(OR(K33=\"Yes\",K33=\"No\")*AND(B33<'A - Contractor Summary'!$C$39),\"\",IF(AND(B33>'A - Contractor Summary'!$C$39,B33<'A - Contractor Summary'!$C$42),\"Yes\",IF(B33>'A - Contractor Summary'!$C$42,\"No\",\"Needs Review\")))","v":"Needs Review"},"No",0,0,7500,null,1]
[null,"2018-10-28","Vendor No. 04","Hotel",175,null,{"$f":"E34-F34","v":175},50,{"$f":"E34*H34","v":8750},{"$f":"IF(G34>0,\"No\",IF(F34=0,\"N/A\",\"Yes\"))","v":"No"},null,{"$f":"IF(OR(K34=\"Yes\",K34=\"No\")*AND(B34<'A - Contractor Summary'!$C$39),\"\",IF(AND(B34>'A - Contractor Summary'!$C$39,B34<'A - Contractor Summary'!$C$42),\"Yes\",IF(B34>'A - Contractor Summary'!$C$42,\"No\",\"Needs Review\")))","v":"Needs Review"},{"$f":"IF(AND(J34=\"Yes\")*OR(K34=\"Yes\",L34=\"Yes\"),\"Yes\",IF(OR(K34=\"No\",J34=\"No\",L34=\"No\"),\"No\",\"Needs Review\"))","v":"No"},{"$f":"IF(M34=\"Yes\",I34,0)","v":0},{"$f":"IF(M34=\"Needs Review\",I34,0)","v":0},8750,null,1]
[null,"2018-10-29","Vendor No. 04","Hotel",175,null,175,50,8750,"No",null,{"$f":"IF(OR(K35=\"Yes\",K35=\"No\")*AND(B35<'A - Contractor Summary'!$C$39),\"\",IF(AND(B35>'A - Contractor Summary'!$C$39,B35<'A - Contractor Summary'!$C$42),\"Yes\",IF(B35>'A - Contractor Summary'!$C$42,\"No\",\"Needs Review\")))","v":"Needs Review"},"No",0,0,8750,null,1]
[null,"2018-10-30","Vendor No. 04","Hotel",175,null,175,50,8750,"No",null,{"$f":"IF(OR(K36=\"Yes\",K36=\"No\")*AND(B36<'A - Contractor Summary'!$C$39),\"\",IF(AND(B36>'A - Contractor Summary'!$C$39,B36<'A - Contractor Summary'!$C$42),\"Yes\",IF(B36>'A - Contractor Summary'!$C$42,\"No\",\"Needs Review\")))","v":"Needs Review"},"No",0,0,8750,null,1]
[null,"2018-10-31","Vendor No. 04","Hotel",175,null,175,50,8750,"No",null,{"$f":"IF(OR(K37=\"Yes\",K37=\"No\")*AND(B37<'A - Contractor Summary'!$C$39),\"\",IF(AND(B37>'A - Contractor Summary'!$C$39,B37<'A - Contractor Summary'!$C$42),\"Yes\",IF(B37>'A - Contractor Summary'!$C$42,\"No\",\"Needs Review\")))","v":"Needs Review"},"No",0,0,8750,null,1]
[null,"2018-11-01","Vendor No. 04","Hotel",40,null,40,50,2000,"No",null,{"$f":"IF(OR(K38=\"Yes\",K38=\"No\")*AND(B38<'A - Contractor Summary'!$C$39),\"\",IF(AND(B38>'A - Contractor Summary'!$C$39,B38<'A - Contractor Summary'!$C$42),\"Yes\",IF(B38>'A - Contractor Summary'!$C$42,\"No\",\"Needs Review\")))","v":"Needs Review"},"No",0,0,2000,null,1]
[null,"2018-11-02","Vendor No. 04","Hotel",40,null,40,50,2000,"No",null,{"$f":"IF(OR(K39=\"Yes\",K39=\"No\")*AND(B39<'A - Contractor Summary'!$C$39),\"\",IF(AND(B39>'A - Contractor Summary'!$C$39,B39<'A - Contractor Summary'!$C$42),\"Yes\",IF(B39>'A - Contractor Summary'!$C$42,\"No\",\"Needs Review\")))","v":"Needs Review"},"No",0,0,2000,null,1]
[null,"2018-11-03","Vendor No. 04","Hotel",40,null,40,50,2000,"No",null,{"$f":"IF(OR(K40=\"Yes\",K40=\"No\")*AND(B40<'A - Contractor Summary'!$C$39),\"\",IF(AND(B40>'A - Contractor Summary'!$C$39,B40<'A - Contractor Summary'!$C$42),\"Yes\",IF(B40>'A - Contractor Summary'!$C$42,\"No\",\"Needs Review\")))","v":"Needs Review"},"No",0,0,2000,null,1]
[null,"2018-11-04","Vendor No. 04","Hotel",32,null,32,50,1600,"No",null,{"$f":"IF(OR(K41=\"Yes\",K41=\"No\")*AND(B41<'A - Contractor Summary'!$C$39),\"\",IF(AND(B41>'A - Contractor Summary'!$C$39,B41<'A - Contractor Summary'!$C$42),\"Yes\",IF(B41>'A - Contractor Summary'!$C$42,\"No\",\"Needs Review\")))","v":"Needs Review"},"No",0,0,1600,null,1]
[null,"2018-11-05","Vendor No. 04","Hotel",28,null,28,50,1400,"No",null,{"$f":"IF(OR(K42=\"Yes\",K42=\"No\")*AND(B42<'A - Contractor Summary'!$C$39),\"\",IF(AND(B42>'A - Contractor Summary'!$C$39,B42<'A - Contractor Summary'!$C$42),\"Yes\",IF(B42>'A - Contractor Summary'!$C$42,\"No\",\"Needs Review\")))","v":"Needs Review"},"No",0,0,1400,null,1]
[null,"2018-11-06","Vendor No. 04","Hotel",28,null,28,50,1400,"No",null,{"$f":"IF(OR(K43=\"Yes\",K43=\"No\")*AND(B43<'A - Contractor Summary'!$C$39),\"\",IF(AND(B43>'A - Contractor Summary'!$C$39,B43<'A - Contractor Summary'!$C$42),\"Yes\",IF(B43>'A - Contractor Summary'!$C$42,\"No\",\"Needs Review\")))","v":"Needs Review"},"No",0,0,1400,null,1]
[null,"2018-11-07","Vendor No. 04","Hotel",28,null,28,50,1400,"No",null,{"$f":"IF(OR(K44=\"Yes\",K44=\"No\")*AND(B44<'A - Contractor Summary'!$C$39),\"\",IF(AND(B44>'A - Contractor Summary'!$C$39,B44<'A - Contractor Summary'!$C$42),\"Yes\",IF(B44>'A - Contractor Summary'!$C$42,\"No\",\"Needs Review\")))","v":"Needs Review"},"No",0,0,1400,null,1]
[null,"2018-11-08","Vendor No. 04","Hotel",16,null,16,50,800,"No",null,{"$f":"IF(OR(K45=\"Yes\",K45=\"No\")*AND(B45<'A - Contractor Summary'!$C$39),\"\",IF(AND(B45>'A - Contractor Summary'!$C$39,B45<'A - Contractor Summary'!$C$42),\"Yes\",IF(B45>'A - Contractor Summary'!$C$42,\"No\",\"Needs Review\")))","v":"Needs Review"},"No",0,0,800,null,1]
[null,"2018-11-09","Vendor No. 04","Hotel",16,null,16,50,800,"No",null,{"$f":"IF(OR(K46=\"Yes\",K46=\"No\")*AND(B46<'A - Contractor Summary'!$C$39),\"\",IF(AND(B46>'A - Contractor Summary'!$C$39,B46<'A - Contractor Summary'!$C$42),\"Yes\",IF(B46>'A - Contractor Summary'!$C$42,\"No\",\"Needs Review\")))","v":"Needs Review"},"No",0,0,800,null,1]
[null,null,"Vendor No. 04",null,null,null,0,50,0,"N/A",null,{"$f":"IF(OR(K47=\"Yes\",K47=\"No\")*AND(B47<'A - Contractor Summary'!$C$39),\"\",IF(AND(B47>'A - Contractor Summary'!$C$39,B47<'A - Contractor Summary'!$C$42),\"Yes\",IF(B47>'A - Contractor Summary'!$C$42,\"No\",\"Needs Review\")))","v":"Needs Review"},"Needs Review",0,0,0]
[null,null,null,null,null,null,0,null,0,"N/A",{"$f":"IF(AND(B48>='A - Contractor Summary'!$C$36,B48<='A - Contractor Summary'!$C$38),\"Yes\",IF(B48<'A - Contractor Summary'!$C$36,\"No\",IF(B48>'A - Contractor Summary'!$C$39,\"\",\"\")))","v":"No"},{"$f":"IF(OR(K48=\"Yes\",K48=\"No\")*AND(B48<'A - Contractor Summary'!$C$39),\"\",IF(AND(B48>'A - Contractor Summary'!$C$39,B48<'A - Contractor Summary'!$C$42),\"Yes\",IF(B48>'A - Contractor Summary'!$C$42,\"No\",\"Needs Review\")))","v":""},"No",0,0,0]
[null,null,null,null,null,null,{"$f":"SUM(G17:G48)","v":2814},null,{"$f":"SUM(I17:I48)","v":140700},null,null,null,null,{"$f":"IFERROR(SUM(N17:N48),0)","v":0},{"$f":"IFERROR(SUM(O17:O48),0)","v":0},{"$f":"SUM(P17:P48)","v":140700},{"$f":"SUM(Q17:Q48)","v":0},{"$f":"O49-P49-Q49","v":-140700},"check (a)"]
[]
[]
[null,"Tickmark Explanation:"]
[]
[null,"1 Documentation Provided"]

{"sheet":"H - Mileage","index":13,"n_rows":42,"n_cols":23,"rows_kept":42,"cut":false,"hidden":false,"merged":[[1,1,1,21],[13,1,13,11],[13,12,13,21],[3,1,7,11],[5,14,7,19]]}
[]
[null,"Mileage Charges"]
[]
[null,"Test Plan: (A) Obtain support of individual mileage charged (Typically a rate and mileage included on invoice).  (B) Ensure charges fall between the dates the vendor was mobilized and the date they arrived.  (C) Ensure charges are prior to the date the vendor arrived home or was released to another utility.  (D)  Ensure number of miles charged deemed reasonable based on vendor location (recalculated per 'A - Contractor Summary' tab).  (E) Ensure the location of charge was reasonable (If mobilizing, charges should be related to travelling to TECO Service area, and home, if demobilizing).  (F) Determine the amount(s) to be reviewed, allowed and/or disallowed.  (G) For charges which required further review, document review and include why it was determined to be allowed/disallowed via a tickmark."]
[]
[]
[]
[]
[]
[null,"Rx","Recalculated."]
[null,"a","Check figure should equal $0.  Cell will appear yellow if discrepancies are noted."]
[]
[null,null,"A",null,null,null,null,null,null,null,null,"Rx","B","C","D","E","F",null,null,"G"]
[null,"Support Reviewed",null,null,null,null,null,null,null,null,null,null,"Conclusions"]
[null,"#","Type of Support","Company","Equipment Name","Equipment ID","Crew","Date","Location","Miles Charged","$ / Mile (Rate)","Total Charge","Reasonable based on Mobilization date(s)","Reasonable based on Demobilization date(s)","Number of Miles Charged Reasonable","Locations Reasonable","Conclusion","$ Allowable Charge","$ To Be Reviewed","Reviewed - Allowable Charge","Reviewed - Unallowable Charge","Tickmarks"]
[null,1,null,null,null,null,null,null,null,null,null,{"$f":"J16*K16","v":0},{"$f":"IF(AND(H16>='A - Contractor Summary'!$C$36,H16<='A - Contractor Summary'!$C$38),\"Yes\",IF(H16<'A - Contractor Summary'!$C$36,\"No\",IF(H16>'A - Contractor Summary'!$C$39,\"\",\"\")))","v":"No"},{"$f":"IF(OR(M16=\"Yes\",M16=\"No\")*AND(H16<'A - Contractor Summary'!$C$39),\"\",IF(AND(H16>'A - Contractor Summary'!$C$39,H16<'A - Contractor Summary'!$C$42),\"Yes\",IF(H16>'A - Contractor Summary'!$C$42,\"No\",\"Needs Review\")))","v":""},{"$f":"IF(AND(J16>PRODUCT('A - Contractor Summary'!$C$29,0.85),J16<PRODUCT('A - Contractor Summary'!$C$29,1.15)),\"Yes\",\"No\")","v":"No"},null,{"$f":"IF(AND(P16=\"Yes\",O16=\"Yes\")*OR(N16=\"Yes\",M16=\"Yes\"),\"Yes\",IF(OR(M16=\"No\",N16=\"No\",P16=\"No\",O16=\"No\"),\"No\",\"Needs Review\"))","v":"No"},{"$f":"IF(Q16=\"Yes\",L16,0)","v":0},{"$f":"IF(Q16=\"Needs Review\",L16,0)","v":0}]
[null,2,null,null,null,null,null,null,null,null,null,0,{"$f":"IF(AND(H17>='A - Contractor Summary'!$C$36,H17<='A - Contractor Summary'!$C$38),\"Yes\",IF(H17<'A - Contractor Summary'!$C$36,\"No\",IF(H17>'A - Contractor Summary'!$C$39,\"\",\"\")))","v":"No"},{"$f":"IF(OR(M17=\"Yes\",M17=\"No\")*AND(H17<'A - Contractor Summary'!$C$39),\"\",IF(AND(H17>'A - Contractor Summary'!$C$39,H17<'A - Contractor Summary'!$C$42),\"Yes\",IF(H17>'A - Contractor Summary'!$C$42,\"No\",\"Needs Review\")))","v":""},{"$f":"IF(AND(J17>PRODUCT('A - Contractor Summary'!$C$29,0.85),J17<PRODUCT('A - Contractor Summary'!$C$29,1.15)),\"Yes\",\"No\")","v":"No"},null,"No",0,0]
[null,3,null,null,null,null,null,null,null,null,null,0,{"$f":"IF(AND(H18>='A - Contractor Summary'!$C$36,H18<='A - Contractor Summary'!$C$38),\"Yes\",IF(H18<'A - Contractor Summary'!$C$36,\"No\",IF(H18>'A - Contractor Summary'!$C$39,\"\",\"\")))","v":"No"},{"$f":"IF(OR(M18=\"Yes\",M18=\"No\")*AND(H18<'A - Contractor Summary'!$C$39),\"\",IF(AND(H18>'A - Contractor Summary'!$C$39,H18<'A - Contractor Summary'!$C$42),\"Yes\",IF(H18>'A - Contractor Summary'!$C$42,\"No\",\"Needs Review\")))","v":""},{"$f":"IF(AND(J18>PRODUCT('A - Contractor Summary'!$C$29,0.85),J18<PRODUCT('A - Contractor Summary'!$C$29,1.15)),\"Yes\",\"No\")","v":"No"},null,"No",0,0]
[null,4,null,null,null,null,null,null,null,null,null,0,{"$f":"IF(AND(H19>='A - Contractor Summary'!$C$36,H19<='A - Contractor Summary'!$C$38),\"Yes\",IF(H19<'A - Contractor Summary'!$C$36,\"No\",IF(H19>'A - Contractor Summary'!$C$39,\"\",\"\")))","v":"No"},{"$f":"IF(OR(M19=\"Yes\",M19=\"No\")*AND(H19<'A - Contractor Summary'!$C$39),\"\",IF(AND(H19>'A - Contractor Summary'!$C$39,H19<'A - Contractor Summary'!$C$42),\"Yes\",IF(H19>'A - Contractor Summary'!$C$42,\"No\",\"Needs Review\")))","v":""},{"$f":"IF(AND(J19>PRODUCT('A - Contractor Summary'!$C$29,0.85),J19<PRODUCT('A - Contractor Summary'!$C$29,1.15)),\"Yes\",\"No\")","v":"No"},null,"No",0,0]
[null,5,null,null,null,null,null,null,null,null,null,0,{"$f":"IF(AND(H20>='A - Contractor Summary'!$C$36,H20<='A - Contractor Summary'!$C$38),\"Yes\",IF(H20<'A - Contractor Summary'!$C$36,\"No\",IF(H20>'A - Contractor Summary'!$C$39,\"\",\"\")))","v":"No"},{"$f":"IF(OR(M20=\"Yes\",M20=\"No\")*AND(H20<'A - Contractor Summary'!$C$39),\"\",IF(AND(H20>'A - Contractor Summary'!$C$39,H20<'A - Contractor Summary'!$C$42),\"Yes\",IF(H20>'A - Contractor Summary'!$C$42,\"No\",\"Needs Review\")))","v":""},{"$f":"IF(AND(J20>PRODUCT('A - Contractor Summary'!$C$29,0.85),J20<PRODUCT('A - Contractor Summary'!$C$29,1.15)),\"Yes\",\"No\")","v":"No"},null,"No",0,0]
[null,6,null,null,null,null,null,null,null,null,null,0,{"$f":"IF(AND(H21>='A - Contractor Summary'!$C$36,H21<='A - Contractor Summary'!$C$38),\"Yes\",IF(H21<'A - Contractor Summary'!$C$36,\"No\",IF(H21>'A - Contractor Summary'!$C$39,\"\",\"\")))","v":"No"},{"$f":"IF(OR(M21=\"Yes\",M21=\"No\")*AND(H21<'A - Contractor Summary'!$C$39),\"\",IF(AND(H21>'A - Contractor Summary'!$C$39,H21<'A - Contractor Summary'!$C$42),\"Yes\",IF(H21>'A - Contractor Summary'!$C$42,\"No\",\"Needs Review\")))","v":""},{"$f":"IF(AND(J21>PRODUCT('A - Contractor Summary'!$C$29,0.85),J21<PRODUCT('A - Contractor Summary'!$C$29,1.15)),\"Yes\",\"No\")","v":"No"},null,"No",0,0]
[null,7,null,null,null,null,null,null,null,null,null,0,{"$f":"IF(AND(H22>='A - Contractor Summary'!$C$36,H22<='A - Contractor Summary'!$C$38),\"Yes\",IF(H22<'A - Contractor Summary'!$C$36,\"No\",IF(H22>'A - Contractor Summary'!$C$39,\"\",\"\")))","v":"No"},{"$f":"IF(OR(M22=\"Yes\",M22=\"No\")*AND(H22<'A - Contractor Summary'!$C$39),\"\",IF(AND(H22>'A - Contractor Summary'!$C$39,H22<'A - Contractor Summary'!$C$42),\"Yes\",IF(H22>'A - Contractor Summary'!$C$42,\"No\",\"Needs Review\")))","v":""},{"$f":"IF(AND(J22>PRODUCT('A - Contractor Summary'!$C$29,0.85),J22<PRODUCT('A - Contractor Summary'!$C$29,1.15)),\"Yes\",\"No\")","v":"No"},null,"No",0,0]
[null,8,null,null,null,null,null,null,null,null,null,0,{"$f":"IF(AND(H23>='A - Contractor Summary'!$C$36,H23<='A - Contractor Summary'!$C$38),\"Yes\",IF(H23<'A - Contractor Summary'!$C$36,\"No\",IF(H23>'A - Contractor Summary'!$C$39,\"\",\"\")))","v":"No"},{"$f":"IF(OR(M23=\"Yes\",M23=\"No\")*AND(H23<'A - Contractor Summary'!$C$39),\"\",IF(AND(H23>'A - Contractor Summary'!$C$39,H23<'A - Contractor Summary'!$C$42),\"Yes\",IF(H23>'A - Contractor Summary'!$C$42,\"No\",\"Needs Review\")))","v":""},{"$f":"IF(AND(J23>PRODUCT('A - Contractor Summary'!$C$29,0.85),J23<PRODUCT('A - Contractor Summary'!$C$29,1.15)),\"Yes\",\"No\")","v":"No"},null,"No",0,0]
[null,9,null,null,null,null,null,null,null,null,null,0,{"$f":"IF(AND(H24>='A - Contractor Summary'!$C$36,H24<='A - Contractor Summary'!$C$38),\"Yes\",IF(H24<'A - Contractor Summary'!$C$36,\"No\",IF(H24>'A - Contractor Summary'!$C$39,\"\",\"\")))","v":"No"},{"$f":"IF(OR(M24=\"Yes\",M24=\"No\")*AND(H24<'A - Contractor Summary'!$C$39),\"\",IF(AND(H24>'A - Contractor Summary'!$C$39,H24<'A - Contractor Summary'!$C$42),\"Yes\",IF(H24>'A - Contractor Summary'!$C$42,\"No\",\"Needs Review\")))","v":""},{"$f":"IF(AND(J24>PRODUCT('A - Contractor Summary'!$C$29,0.85),J24<PRODUCT('A - Contractor Summary'!$C$29,1.15)),\"Yes\",\"No\")","v":"No"},null,"No",0,0]
[null,10,null,null,null,null,null,null,null,null,null,0,{"$f":"IF(AND(H25>='A - Contractor Summary'!$C$36,H25<='A - Contractor Summary'!$C$38),\"Yes\",IF(H25<'A - Contractor Summary'!$C$36,\"No\",IF(H25>'A - Contractor Summary'!$C$39,\"\",\"\")))","v":"No"},{"$f":"IF(OR(M25=\"Yes\",M25=\"No\")*AND(H25<'A - Contractor Summary'!$C$39),\"\",IF(AND(H25>'A - Contractor Summary'!$C$39,H25<'A - Contractor Summary'!$C$42),\"Yes\",IF(H25>'A - Contractor Summary'!$C$42,\"No\",\"Needs Review\")))","v":""},{"$f":"IF(AND(J25>PRODUCT('A - Contractor Summary'!$C$29,0.85),J25<PRODUCT('A - Contractor Summary'!$C$29,1.15)),\"Yes\",\"No\")","v":"No"},null,"No",0,0]
[null,11,null,null,null,null,null,null,null,null,null,0,{"$f":"IF(AND(H26>='A - Contractor Summary'!$C$36,H26<='A - Contractor Summary'!$C$38),\"Yes\",IF(H26<'A - Contractor Summary'!$C$36,\"No\",IF(H26>'A - Contractor Summary'!$C$39,\"\",\"\")))","v":"No"},{"$f":"IF(OR(M26=\"Yes\",M26=\"No\")*AND(H26<'A - Contractor Summary'!$C$39),\"\",IF(AND(H26>'A - Contractor Summary'!$C$39,H26<'A - Contractor Summary'!$C$42),\"Yes\",IF(H26>'A - Contractor Summary'!$C$42,\"No\",\"Needs Review\")))","v":""},{"$f":"IF(AND(J26>PRODUCT('A - Contractor Summary'!$C$29,0.85),J26<PRODUCT('A - Contractor Summary'!$C$29,1.15)),\"Yes\",\"No\")","v":"No"},null,"No",0,0]
[null,12,null,null,null,null,null,null,null,null,null,0,{"$f":"IF(AND(H27>='A - Contractor Summary'!$C$36,H27<='A - Contractor Summary'!$C$38),\"Yes\",IF(H27<'A - Contractor Summary'!$C$36,\"No\",IF(H27>'A - Contractor Summary'!$C$39,\"\",\"\")))","v":"No"},{"$f":"IF(OR(M27=\"Yes\",M27=\"No\")*AND(H27<'A - Contractor Summary'!$C$39),\"\",IF(AND(H27>'A - Contractor Summary'!$C$39,H27<'A - Contractor Summary'!$C$42),\"Yes\",IF(H27>'A - Contractor Summary'!$C$42,\"No\",\"Needs Review\")))","v":""},{"$f":"IF(AND(J27>PRODUCT('A - Contractor Summary'!$C$29,0.85),J27<PRODUCT('A - Contractor Summary'!$C$29,1.15)),\"Yes\",\"No\")","v":"No"},null,"No",0,0]
[null,13,null,null,null,null,null,null,null,null,null,0,{"$f":"IF(AND(H28>='A - Contractor Summary'!$C$36,H28<='A - Contractor Summary'!$C$38),\"Yes\",IF(H28<'A - Contractor Summary'!$C$36,\"No\",IF(H28>'A - Contractor Summary'!$C$39,\"\",\"\")))","v":"No"},{"$f":"IF(OR(M28=\"Yes\",M28=\"No\")*AND(H28<'A - Contractor Summary'!$C$39),\"\",IF(AND(H28>'A - Contractor Summary'!$C$39,H28<'A - Contractor Summary'!$C$42),\"Yes\",IF(H28>'A - Contractor Summary'!$C$42,\"No\",\"Needs Review\")))","v":""},{"$f":"IF(AND(J28>PRODUCT('A - Contractor Summary'!$C$29,0.85),J28<PRODUCT('A - Contractor Summary'!$C$29,1.15)),\"Yes\",\"No\")","v":"No"},null,"No",0,0]
[null,14,null,null,null,null,null,null,null,null,null,0,{"$f":"IF(AND(H29>='A - Contractor Summary'!$C$36,H29<='A - Contractor Summary'!$C$38),\"Yes\",IF(H29<'A - Contractor Summary'!$C$36,\"No\",IF(H29>'A - Contractor Summary'!$C$39,\"\",\"\")))","v":"No"},{"$f":"IF(OR(M29=\"Yes\",M29=\"No\")*AND(H29<'A - Contractor Summary'!$C$39),\"\",IF(AND(H29>'A - Contractor Summary'!$C$39,H29<'A - Contractor Summary'!$C$42),\"Yes\",IF(H29>'A - Contractor Summary'!$C$42,\"No\",\"Needs Review\")))","v":""},{"$f":"IF(AND(J29>PRODUCT('A - Contractor Summary'!$C$29,0.85),J29<PRODUCT('A - Contractor Summary'!$C$29,1.15)),\"Yes\",\"No\")","v":"No"},null,"No",0,0]
[null,15,null,null,null,null,null,null,null,null,null,0,{"$f":"IF(AND(H30>='A - Contractor Summary'!$C$36,H30<='A - Contractor Summary'!$C$38),\"Yes\",IF(H30<'A - Contractor Summary'!$C$36,\"No\",IF(H30>'A - Contractor Summary'!$C$39,\"\",\"\")))","v":"No"},{"$f":"IF(OR(M30=\"Yes\",M30=\"No\")*AND(H30<'A - Contractor Summary'!$C$39),\"\",IF(AND(H30>'A - Contractor Summary'!$C$39,H30<'A - Contractor Summary'!$C$42),\"Yes\",IF(H30>'A - Contractor Summary'!$C$42,\"No\",\"Needs Review\")))","v":""},{"$f":"IF(AND(J30>PRODUCT('A - Contractor Summary'!$C$29,0.85),J30<PRODUCT('A - Contractor Summary'!$C$29,1.15)),\"Yes\",\"No\")","v":"No"},null,"No",0,0]
[null,16,null,null,null,null,null,null,null,null,null,0,{"$f":"IF(AND(H31>='A - Contractor Summary'!$C$36,H31<='A - Contractor Summary'!$C$38),\"Yes\",IF(H31<'A - Contractor Summary'!$C$36,\"No\",IF(H31>'A - Contractor Summary'!$C$39,\"\",\"\")))","v":"No"},{"$f":"IF(OR(M31=\"Yes\",M31=\"No\")*AND(H31<'A - Contractor Summary'!$C$39),\"\",IF(AND(H31>'A - Contractor Summary'!$C$39,H31<'A - Contractor Summary'!$C$42),\"Yes\",IF(H31>'A - Contractor Summary'!$C$42,\"No\",\"Needs Review\")))","v":""},{"$f":"IF(AND(J31>PRODUCT('A - Contractor Summary'!$C$29,0.85),J31<PRODUCT('A - Contractor Summary'!$C$29,1.15)),\"Yes\",\"No\")","v":"No"},null,"No",0,0]
[null,17,null,null,null,null,null,null,null,null,null,0,{"$f":"IF(AND(H32>='A - Contractor Summary'!$C$36,H32<='A - Contractor Summary'!$C$38),\"Yes\",IF(H32<'A - Contractor Summary'!$C$36,\"No\",IF(H32>'A - Contractor Summary'!$C$39,\"\",\"\")))","v":"No"},{"$f":"IF(OR(M32=\"Yes\",M32=\"No\")*AND(H32<'A - Contractor Summary'!$C$39),\"\",IF(AND(H32>'A - Contractor Summary'!$C$39,H32<'A - Contractor Summary'!$C$42),\"Yes\",IF(H32>'A - Contractor Summary'!$C$42,\"No\",\"Needs Review\")))","v":""},{"$f":"IF(AND(J32>PRODUCT('A - Contractor Summary'!$C$29,0.85),J32<PRODUCT('A - Contractor Summary'!$C$29,1.15)),\"Yes\",\"No\")","v":"No"},null,"No",0,0]
[null,18,null,null,null,null,null,null,null,null,null,0,{"$f":"IF(AND(H33>='A - Contractor Summary'!$C$36,H33<='A - Contractor Summary'!$C$38),\"Yes\",IF(H33<'A - Contractor Summary'!$C$36,\"No\",IF(H33>'A - Contractor Summary'!$C$39,\"\",\"\")))","v":"No"},{"$f":"IF(OR(M33=\"Yes\",M33=\"No\")*AND(H33<'A - Contractor Summary'!$C$39),\"\",IF(AND(H33>'A - Contractor Summary'!$C$39,H33<'A - Contractor Summary'!$C$42),\"Yes\",IF(H33>'A - Contractor Summary'!$C$42,\"No\",\"Needs Review\")))","v":""},{"$f":"IF(AND(J33>PRODUCT('A - Contractor Summary'!$C$29,0.85),J33<PRODUCT('A - Contractor Summary'!$C$29,1.15)),\"Yes\",\"No\")","v":"No"},null,"No",{"$f":"IF(Q33=\"Yes\",#REF!,0)","v":0},0]
[null,19,null,null,null,null,null,null,null,null,null,0,{"$f":"IF(AND(H34>='A - Contractor Summary'!$C$36,H34<='A - Contractor Summary'!$C$38),\"Yes\",IF(H34<'A - Contractor Summary'!$C$36,\"No\",IF(H34>'A - Contractor Summary'!$C$39,\"\",\"\")))","v":"No"},{"$f":"IF(OR(M34=\"Yes\",M34=\"No\")*AND(H34<'A - Contractor Summary'!$C$39),\"\",IF(AND(H34>'A - Contractor Summary'!$C$39,H34<'A - Contractor Summary'!$C$42),\"Yes\",IF(H34>'A - Contractor Summary'!$C$42,\"No\",\"Needs Review\")))","v":""},{"$f":"IF(AND(J34>PRODUCT('A - Contractor Summary'!$C$29,0.85),J34<PRODUCT('A - Contractor Summary'!$C$29,1.15)),\"Yes\",\"No\")","v":"No"},null,"No",{"$f":"IF(Q34=\"Yes\",#REF!,0)","v":0},0]
[null,20,null,null,null,null,null,null,null,null,null,0,{"$f":"IF(AND(H35>='A - Contractor Summary'!$C$36,H35<='A - Contractor Summary'!$C$38),\"Yes\",IF(H35<'A - Contractor Summary'!$C$36,\"No\",IF(H35>'A - Contractor Summary'!$C$39,\"\",\"\")))","v":"No"},{"$f":"IF(OR(M35=\"Yes\",M35=\"No\")*AND(H35<'A - Contractor Summary'!$C$39),\"\",IF(AND(H35>'A - Contractor Summary'!$C$39,H35<'A - Contractor Summary'!$C$42),\"Yes\",IF(H35>'A - Contractor Summary'!$C$42,\"No\",\"Needs Review\")))","v":""},{"$f":"IF(AND(J35>PRODUCT('A - Contractor Summary'!$C$29,0.85),J35<PRODUCT('A - Contractor Summary'!$C$29,1.15)),\"Yes\",\"No\")","v":"No"},null,"No",{"$f":"IF(Q35=\"Yes\",#REF!,0)","v":0},{"$f":"IF(Q35=\"ED Review\",#REF!,0)","v":0}]
[null,null,null,null,null,null,null,null,null,null,null,{"$f":"SUM(L16:L35)","v":0},null,null,null,null,null,{"$f":"IFERROR(SUM(R16:R35),0)","v":0},{"$f":"IFERROR(SUM(S16:S35),0)","v":0},{"$f":"SUM(T16:T35)","v":0},{"$f":"SUM(U16:U35)","v":0},{"$f":"S36-T36-U36","v":0},"check (a)"]
[]
[]
[]
[]
[]
[null,"Tickmark Explanation:"]