{"text_format":"1","workbook":"xlsx","n_sheets":14,"sheets":["Sign Off","A - Contractor Summary","A.1 SEE Members","B - Summary Expenses ","C.1 - Rate Sheets","C.2 - Timesheets - Labor","C.3 - Asset by Company","C.4 - Timesheets - Equipment","D - Lodging","E - Fuel","F - Meals","I - Other","G - Per Diem","H - Mileage"],"not_rendered":{"charts":0,"images":0,"macros":1,"external_links":3,"defined_names":11,"comments":0,"pivot_tables":0},"unopened":[],"bounds":{"document_bytes":16777216,"sheet_cells":100000,"rows_first":2000,"rows_last":500,"rows_between":2000,"halvings":0,"cell_chars":16384,"cell_head_chars":4096},"cells_cut":0,"cells_raw":0,"read":"whole","date_system":"1900"}

{"sheet":"Sign Off","index":0,"n_rows":19,"n_cols":5,"rows_kept":19,"cut":false,"hidden":false,"merged":[[1,1,1,4],[3,1,3,4],[10,1,10,4],[15,1,15,4]]}
[]
[null,"Sign Off's"]
[]
[null,"Accounting"]
[]
[null,null,"Name","Title","Date"]
[null,"Preparer","Belen Villalba","Temp Analyst","2019-12-20"]
[null,"Reviewer","William Adams","Financial Planner Manager","2020-01-14"]
[null,"Approver","N/A","N/A","N/A"]
[]
[null,"Audit Services"]
[]
[null,null,"Name","Title","Date"]
[null,"Preparer"]
[]
[null,"Energy Delivery"]
[]
[null,null,"Name","Title","Date"]
[null,"Final Reviewer"]

{"sheet":"A - Contractor Summary","index":1,"n_rows":61,"n_cols":13,"rows_kept":61,"cut":false,"hidden":false,"merged":[[1,1,1,3],[3,1,12,3],[22,6,26,6],[22,9,26,9]]}
[]
[null,"Contractor Summary"]
[]
[null,"Test Plan: (A) Using the drop down list, select the vendor.  (B) Ensure address agrees to invoice(s). (C) Enter the distance between vendor address to Plant City, FL.  (D) Determine if vendor is part of the SEE (see tab A.1 for listing). (E) Determine if other agreements exist.  (F) Using the drop down list, select the Incident Base that the vendor was initially assigned.  (G) If the contractor includes multiple crews with different timelines, utilize the '+' symbol at the top of columns 'H' and 'K' (if necessary) to unhide the vendor summary.  (H) Click the button to populate the second (and third, if necessary) set of tabs for documentation of those expenses.  (I) Complete steps (A) through (F)."]
[]
[]
[]
[]
[]
[]
[]
[]
[]
[null,null,null,null,null,"G",null,null,"G",null,"G",null,"G"]
[null,null,"Vendor #6"]
[]
[null,null,null,null,null,null,"H",null,null,"H"]
[]
[null,"Contractor/Company","DAVEY TREE EXPERT COMPANY, THE","A",null,null,"A",null,null,"A"]
[null,"SAP Vendor#"]
[null,"Service Type","Distribution"]
[]
[null,"Address","PO Box 709","B"]
[null,"City","Kent"]
[null,"State/Providence","OH"]
[null,"Zip",44240]
[null,"Country","USA"]
[]
[null,"Distance from FL (in miles)",null,"C"]
[null,"Travel Days (500 m/per day)"]
[]
[null,"Member of the SEE",null,"D"]
[null,"Other Agreement/Contract (Y/N)",null,"E"]
[null,"Incident Base",null,"F"]
[]
[null,"Date Secured","10/11/2018-11/7/2018"]
[null,"Start Travel","Various"]
[null,"Date Arrived","2018-10-11"]
[null,"Date Released","2018-11-07"]
[null,"Time Released"]
[null,"Released To","Marianna, FL"]
[null,"Arrived Home/Utility*"]
[]
[]
[]
[]
[null,null,null,null,null,"C.1 - Rate Sheets (2)",null,null,"C.1 - Rate Sheets (3)",null,"C.1 - Rate Sheets (3)",null,"C.1 - Rate Sheets (3)"]
[null,null,null,null,null,"C.2 - Timesheets - Labor (2)",null,null,"C.2 - Timesheets - Labor (3)",null,"C.2 - Timesheets - Labor (3)",null,"C.2 - Timesheets - Labor (3)"]
[null,null,null,null,null,"C.4 - Timesheets - Equipmen (2)",null,null,"C.4 - Timesheets - Equipmen (3)",null,"C.4 - Timesheets - Equipmen (3)",null,"C.4 - Timesheets - Equipmen (3)"]
[null,null,null,null,null,"D - Lodging (2)",null,null,"D - Lodging (3)",null,"D - Lodging (3)",null,"D - Lodging (3)"]
[null,null,null,null,null,"E - Fuel (2)",null,null,"E - Fuel (3)",null,"E - Fuel (3)",null,"E - Fuel (3)"]
[null,null,null,null,null,"F - Meals (2)",null,null,"F - Meals (3)",null,"F - Meals (3)",null,"F - Meals (3)"]
[null,null,null,null,null,"G - Per Diem (2)",null,null,"G - Per Diem (3)",null,"G - Per Diem (3)",null,"G - Per Diem (3)"]
[null,null,null,null,null,"H - Mileage (2)",null,null,"H - Mileage (3)",null,"H - Mileage (3)",null,"H - Mileage (3)"]
[null,null,null,null,null,"I - Other (2)",null,null,"I - Other (3)",null,"I - Other (3)",null,"I - Other (3)"]
[]
[]
[]
[null,"*Estimates reasonable arrival time"]
[]
[null,"Tickmark Explanation: "]

{"sheet":"A.1 SEE Members","index":2,"n_rows":65,"n_cols":3,"rows_kept":65,"cut":false,"hidden":false,"merged":[]}
["RMAG","RESPONDING COMPANY","COMPANY NAME"]
["SEE"]
["SEE"]
["SEE"]
["SEE"]
["SEE"]
["SEE"]
["SEE"]
["SEE"]
["SEE"]
["SEE"]
["SEE"]
["SEE"]
["SEE"]
["SEE"]
["SEE"]
["SEE"]
["SEE"]
["SEE"]
[]
[]
[]
[]
["SEE"]
["SEE"]
["SEE"]
["SEE"]
["SEE"]
["SEE"]
[]
["SEE"]
["SEE"]
["SEE"]
["SEE"]
["SEE"]
[]
[]
[]
[]
["SEE"]
["SEE"]
["SEE"]
["SEE"]
[]
[]
[]
["SEE"]
[]
[]
[]
[]
[]
[]
[]
["SEE"]
["SEE"]
["SEE"]
[]
[]
[]
["SEE"]
[]
[]
["SEE"]
["SEE"]

{"sheet":"B - Summary Expenses ","index":3,"n_rows":344,"n_cols":14,"rows_kept":344,"cut":false,"hidden":false,"merged":[[1,1,1,7],[3,1,6,7],[30,1,30,4],[31,1,31,4]]}
[]
[null,"Summary of Expenses"]
[]
[null,"Test Plan: (A) Calculate Total Amount Invoiced for each expense category. (B) Using SAP t-code FBL1N, list Vendor Invoices Paid.  (C) Ensure there are no differences between the Total Expense Amount and the Total Paid Amount. (D) Ensure there are no difference between Total Invoiced Amount and Total Expense Amount.  (E) If applicable, identify difference due to Foreign currency exchange rates.  "]
[]
[]
[]
[]
[null,null,"A"]
[null,null,"Total Invoiced","Total Calculated","Allowable","Reviewed - Allowed","Reviewed - Not Allowable","Not Allowable"]
[null,"Labor Expense Total",1962671.8000000033,{"$f":"+'C.2 - Timesheets - Labor'!BB427","v":1975917.8000000047},{"$f":"'C.2 - Timesheets - Labor'!BC427","v":1975917.8000000047},{"$f":"'C.2 - Timesheets - Labor'!BD427","v":0},{"$f":"'C.2 - Timesheets - Labor'!BE427","v":0},{"$f":"D11-(E11+F11+G11)","v":0}]
[null,"Equipment Expense Total",253388.6875,{"$f":"+'C.4 - Timesheets - Equipment'!R264","v":253388.6875},{"$f":"+'C.4 - Timesheets - Equipment'!S264","v":253388.6875},{"$f":"'C.4 - Timesheets - Equipment'!U264","v":0},{"$f":"'C.4 - Timesheets - Equipment'!V264","v":502},{"$f":"D12-(E12+F12+G12)","v":-502}]
[null,"Lodging Expense Total",null,null,null,{"$f":"'D - Lodging'!V93","v":0},{"$f":"'D - Lodging'!W93","v":0},{"$f":"D13-(E13+F13+G13)","v":0}]
[null,"Fuel/Transport Expense Total",null,null,null,{"$f":"'E - Fuel'!S34","v":0},{"$f":"'E - Fuel'!T34","v":0},0]
[null,"Meal Expense Total",null,null,null,{"$f":"'F - Meals'!T141","v":0},{"$f":"'F - Meals'!U141","v":0},0]
[null,"Per Diem Expense Total",20691,{"$f":"+'G - Per Diem'!I121","v":20691},null,{"$f":"'G - Per Diem'!P121","v":20691},{"$f":"'G - Per Diem'!Q121","v":0},0]
[null,"Mileage Expense Total",36581.504000000015,{"$f":"+'H - Mileage'!L123","v":36581.504000000015},null,{"$f":"'H - Mileage'!R123","v":36581.504000000015},{"$f":"'H - Mileage'!U123","v":53.800000000000068},-53.80000000000291]
[null,"Other Expense",275.22000000000003,{"$f":"+'I - Other'!K19","v":275.22000000000003},null,{"$f":"'I - Other'!T19","v":0},{"$f":"'I - Other'!U19","v":0},{"$f":"D18-(E18+F18+G18)","v":275.22000000000003}]
[]
[null,"Total Expense per tabs",{"$f":"SUM(C11:C18)","v":2273608.2115000039},{"$f":"SUM(D11:D18)","v":2286854.2115000049},{"$f":"SUM(E11:E18)","v":2229306.4875000045},{"$f":"SUM(F11:F18)","v":57272.504000000015},{"$f":"SUM(G11:G18)","v":555.80000000000007},-280.58000000000288]
[null,"Difference",{"$f":"IF(D21=0,\"\",\"1\")","v":"1"},{"$f":"C20-D20","v":-13246.000000000931},"D"]
[]
[null,"Total Expense ",null,{"$f":"+D20","v":2286854.2115000049}," (from Total SAP Summary)"]
[null,"Total Paid",null,{"$f":"+D221","v":2273608.2115000002},"(from FBL1N in SAP)"]
[null,"Difference",{"$f":"IF(D25=0,\"\",SUM(C21,1))","v":1},{"$f":"+D23-D24","v":13246.000000004657},"C"," "]
[]
[null,"Exchange Rate"]
[null,"Fx Adjusted to USD",null,null," "]
[null,"Difference",{"$f":"IF(D29=0,\"\",\"3\")","v":""},null,"E"]
[]
[null,"B"]
[]
[null,"Document No ","Doc Date ","Amount","Reference"]
[null,913220721,"2018-10-31",11178.98,680998,null,null," "]
[null,913220823,"2018-10-31",10790.48,684052]
[null,913220899,"2018-11-16",39571.200000000004,684080]
[null,913223258,"2018-12-26",17901,680999]
[null,913223259,"2018-12-26",18520.5,681000]
[null,913223261,"2018-11-15",15605.6,681001]
[null,913223262,"2018-11-15",16151.6,681002]
[null,913223316,"2018-11-15",24818.080000000002,684064]
[null,913231713,"2018-11-27",20807.2,684072]
[null,913231714,"2018-11-27",22535.200000000001,684073]
[null,913231715,"2018-11-27",22535.200000000001,684074]
[null,913231720,"2018-11-27",22535.200000000001,684070]
[null,913231722,"2018-11-27",11568.8,684071]
[null,913231723,"2018-11-27",13475.72,684069]
[null,913231724,"2018-11-27",13475.72,684067]
[null,913231726,"2018-11-27",13475.72,684068]
[null,913231727,"2018-11-27",7146.01,684053]
[null,913231731,"2018-11-27",23238.17,684054]
[null,913231732,"2018-11-27",35940,684055]
[null,913231733,"2018-11-27",11568.8,684056]
[null,913231734,"2018-11-27",16887.2,684057]
[null,913231735,"2018-11-27",11568.8,684058]
[null,913231736,"2018-11-27",16887.2,684059]
[null,913231737,"2018-11-27",30138.399999999998,684060]
[null,913231738,"2018-11-27",16887.2,684061]
[null,913231739,"2018-11-27",3332.08,684081]
[null,913231740,"2018-11-27",3075.41,684082,null,null," "]
[null,913231741,"2018-11-27",6995.41,684083]
[null,913231743,"2018-11-27",2892.21,684084]
[null,913232495,"2018-12-14",9612.2400000000016,678305]
[null,913232497,"2018-11-20",9360.2400000000016,678306]
[null,913232498,"2018-11-20",9360.2400000000016,678307]
[null,913232500,"2018-11-20",9360.2400000000016,678308]
[null,913241575,"2018-11-29",33922.399999999994,684089]
[null,913241576,"2018-11-29",16887.2,684090]
[null,913241581,"2018-11-29",11568.8,684062]
[null,913241583,"2018-11-29",16887.2,684063]
[null,913242897,"2018-11-14",12370.3,698391]
[null,913242903,"2018-11-14",18490.199999999997,698384]
[null,913242904,"2018-11-14",18490.199999999997,698385]
[null,913242906,"2018-11-14",18490.199999999997,698386]
[null,913242907,"2018-11-14",18490.199999999997,698387]
[null,913242909,"2018-11-14",17288.599999999999,698388]
[null,913242910,"2018-11-14",18490.199999999997,698389]
[null,913242911,"2018-11-14",23013.100000000002,698390]
[null,913243107,"2018-11-01",4860.7299999999996,695220]
[null,913243108,"2018-11-01",4860.7299999999996,695221]
[null,913243110,"2018-11-01",5359.9299999999994,695222]
[null,913243111,"2018-11-01",4860.7299999999996,695223]
[null,913243112,"2018-11-01",4516.7299999999996,695224]
[null,913243113,"2018-11-01",6730.96,695225]
[null,913243114,"2018-11-01",5396.73,695219]
[null,913243115,"2018-11-01",3328.8199999999997,695226,null,null," "]
[null,913243149,"2018-11-14",10154.720000000001,698392]
[null,913243150,"2018-11-14",10154.720000000001,698393]
[null,913243151,"2018-11-14",6797.36,698394]
[null,913243152,"2018-11-14",10154.720000000001,698395]
[null,913243153,"2018-11-14",10154.720000000001,698396]
[null,913243156,"2018-11-14",9503.1200000000008,698397]
[null,913243158,"2018-11-14",9995.52,698398]
[null,913243160,"2018-11-14",10154.720000000001,698399]
[null,913243328,"2018-11-29",2751.42,684093]
[null,913243330,"2018-11-29",2871.42,684094]
[null,913243332,"2018-11-29",2054.2199999999998,684095]
[null,913243334,"2018-11-29",18160.45,684066]
[null,913243336,"2018-11-29",35437.600000000006,684065]
[null,913243339,"2018-11-29",4666.42,684096]
[null,913243348,"2018-11-29",12728.92,684085]
[null,913243350,"2018-11-29",5821.72,684086]
[null,913243352,"2018-11-29",5230.5200000000004,684087]
[null,913243353,"2018-11-29",6303.72,684088]
[null,913243354,"2018-11-29",13425.76,684075]
[null,913243356,"2018-11-29",7472.380000000001,684076]
[null,913243358,"2018-11-29",13425.76,684077]
[null,913243359,"2018-11-29",10253.76,684078]
[null,913243361,"2018-11-29",13425.76,684079]
[null,913259237,"2018-12-04",12909.580000000002,695238]
[null,913259242,"2018-12-04",12124.08,695239]
[null,913259268,"2018-11-14",22840.800000000003,698404,null,null," "]
[null,913259270,"2018-11-14",8865.6,698405]
[null,913259274,"2018-11-14",17475.199999999997,698406]
[null,913259277,"2018-11-01",18569.600000000002,698400]
[null,913259282,"2018-11-01",33929.600000000006,698401]
[null,913259291,"2018-11-01",27730.400000000001,698402]
[null,913259293,"2018-11-01",16887.199999999997,698403]
[null,913259300,"2018-11-14",5842.4,695235]
[null,913259306,"2018-12-04",5842.4,695234]
[null,913259355,"2018-12-04",53541.599999999999,698383]
[null,913259357,"2018-11-01",11568.8,698377]
[null,913259364,"2018-11-14",29531.119999999999,698382]
[null,913259367,"2018-12-04",28607.82,698380]
[null,913259368,"2018-12-04",6408.62,698379]
[null,913259373,"2018-11-01",9454.82,695218]
[null,913262294,"2018-11-01",5024.6665000000012,695243]
[null,913262502,"2019-11-01",4860.6040000000012,695245]
[null,913262582,"2019-11-01",4860.6040000000012,695244]
[null,913262679,"2018-11-01",3328.74,695242]
[null,913280569,"2018-11-14",8648.3000000000011,684091]
[null,913280571,"2018-11-14",3217,684092]
[null,913281758,"2018-11-01",11730.460000000001,685791]
[null,913281761,"2018-11-01",16165.560000000001,685792]
[null,913281767,"2018-11-01",4947.0600000000004,695237]
[null,913281769,"2018-11-01",16291.359999999999,685790]
[null,913281772,"2018-11-01",16153.76,685789]
[null,913281791,"2018-11-01",3419.17,695236,null,null," "]
[null,913293304,"2019-03-21",2050.48,685767]
[null,913293305,"2019-03-21",2010.57,685768]
[null,913293310,"2019-03-21",2941.42,685769]
[null,913293312,"2019-03-21",5060,685770]
[null,913293314,"2019-03-21",4200,685774]
[null,913293315,"2019-03-21",2750,685775]
[null,913293316,"2019-03-21",1050,685776]
[null,913293317,"2019-03-21",4240,685777]
[null,913293318,"2019-03-21",7350,685778]
[null,913293319,"2019-03-21",2950,685779]
[null,913293320,"2019-03-21",2100,685780]
[null,913293321,"2019-03-21",3150,685781]
[null,913293322,"2019-03-21",7192.41,685782]
[null,913293323,"2018-12-19",6100,685781]
[null,913293325,"2018-12-19",3146.42,685782]
[null,913301063,"2018-12-19",6631.58,685785]
[null,913301066,"2018-12-19",6505.69,685786]
[null,913301068,"2018-12-19",3383.58,685787]
[null,913301069,"2018-12-19",3790.7799999999997,685788]
[null,913301070,"2018-12-19",1189.6399999999999,685783]
[null,913301071,"2018-12-19",2369.21,685784]
[null,913332915,"2018-11-14",10940,695229]
[null,913333177,"2018-11-14",11612,695230]
[null,913333182,"2018-11-14",7556,698375]
[null,913333184,"2018-11-14",11612,695231]
[null,913333188,"2018-11-01",17208.760000000002,695227]
[null,913333193,"2018-11-01",12516.560000000001,695228]
[null,913333205,"2018-11-14",10940,695232]
[null,913333211,"2018-11-14",17077.599999999999,695233]
[null,913346146,"2018-11-01",13248.16,698381,null,null," "]
[null,913346153,"2018-11-01",18085.559999999998,695240]
[null,913346156,"2019-11-01",6984.6665000000003,695247]
[null,913346172,"2019-11-01",5024.6665000000012,695246]
[null,913346195,"2018-11-01",17902.199999999997,695241]
[null,913346317,"2018-11-01",4947.0600000000004,698374]
[null,913346321,"2018-11-24",31574.399999999998,695248]
[null,913346329,"2018-11-14",15001.419999999998,698378]
[null,913346486,"2018-11-24",21176.874000000003,698376]
[null,913176206,"2018-10-26",18392.2,716009]
[null,913194965,"2018-10-18",14063.4,716004]
[null,913194966,"2018-10-18",14063.4,716005]
[null,913194968,"2018-10-18",7865.9,716006]
[null,913194969,"2018-10-18",16887.2,716007]
[null,913194970,"2018-10-18",14063.4,716008]
[null,913194971,"2018-10-18",16887.2,716015]
[null,913194972,"2018-10-18",16887.2,716016]
[null,913194973,"2018-10-18",11568.8,716017]
[null,913194975,"2018-10-18",16887.2,716018]
[null,913195018,"2018-10-26",12265.2,719829]
[null,913195020,"2018-10-26",16887.2,719830]
[null,913195022,"2018-10-26",2563.1999999999998,716024]
[null,913195027,"2018-10-26",11568.8,719832]
[null,913221020,"2018-10-26",16451.599999999999,716025]
[null,9132223001,"2018-10-18",4831.2,716019]
[null,9132223003,"2018-10-18",4831.2,716020]
[null,913222888,"2018-10-26",9616,719838]
[null,913222891,"2018-10-26",9328,716031]
[null,913222996,"2018-10-18",4999.2,716021]
[null,913222998,"2018-10-18",4831.2,716022]
[null,913222999,"2018-10-18",3309.6,716023]
[null,913225341,"2018-10-26",6554.8,719836]
[null,913243903,"2018-11-20",6414.82,716033]
[null,913259175,"2018-12-04",16887.2,719833]
[null,913259179,"2018-11-14",15033.4,719831]
[null,913259181,"2018-12-04",9480.52,719837]
[null,913259235,"2018-12-04",15781.2,716011]
[null,913259255,"2018-12-04",18918,716012]
[null,913259273,"2018-11-06",33289.599999999999,716032]
[null,913259361,"2018-12-04",6235.2,716013]
[null,913293313,"2018-12-19",6681.73,685771]
[null,913317486,"2018-10-18",9147.2000000000007,716028]
[null,913317487,"2018-10-18",6268.4,716035]
[null,913317488,"2018-10-18",9147.2000000000007,716029]
[null,913317489,"2018-10-18",8497.2000000000007,716030]
[null,913333196,"2018-11-01",-279,719834]
[null,913333201,"2018-11-01",1052.2,719835]
[null,913601157,"2018-11-27",13272.12,716010]
[null,913601173,"2018-12-04",50609.599999999999,716027]
[null,913601176,"2019-05-17",37827.86,716014]
[null,913601185,"2019-05-17",5292.59,716034]
[null,"913259306CR","2018-12-04",-498,716036]
[]
[null,null,null,{"$f":"SUM(D34:D220)","v":2273608.2115000002}]
[]
[null,"Tickmark Explanation:"]
[null,{"$f":"IFERROR(C21,\"\")","v":"1"}]
[]
[null,{"$f":"IFERROR(C25,\"\")","v":1}]
[]
[]
[]
[]
[]
[]
[]
[]
[]
[]
[null,null,"Invoice","Crew","Date Secured/Start Travel","Date Arrived in Service Area","Location","Mileage",null,null,"Number of Travel Days",null,null,"Notes"]
[null,null,913220721,"Horn","2018-10-09","2018-10-09","Kissimmee, FL",332,null,null,1]
[null,null,913220823,"Guilds","2018-10-09","2018-10-09","Kissimmee, FL",332,null,null,1]
[null,null,913231731,"Bowers","2018-10-12","2018-10-12","Irmo, SC",453]
[null,null,913281767,"Kapler","2018-10-12","2018-10-12","Chiefland, FL",191]
[null,null,913281791,"Pate","2018-10-12","2018-10-12","Chiefland, FL",191]
[null,null,913293304,"Ellis","2018-10-11","2018-10-11","Perry, FL",124]
[null,null,913293305,"Danielson","2018-10-11","2018-10-11","Biloxi, MS",241]
[null,null,913293310,"Rowe","2018-10-11","2018-10-11","Batesburg-Leesville SC",346,null,null,null,null,null,"Time ticket states left from Mississippi, support shows South Carolina"]
[null,null,913346317,"Kalimeyer","2018-10-12","2018-10-12","Chiefland, FL",191]
[null,null,913223316,"Riddle","2018-10-17","2018-10-17","Tallahassee, FL",65.5]
[null,null,913223316,"Riddle","2018-10-17","2018-10-17","Tallahassee, FL",65.5]
[null,null,913223316,"Riddle","2018-10-17","2018-10-17","Tallahassee, FL",65.5]
[null,null,913231723,"Williams","2018-10-17","2018-10-17","Richlands NC",633]
[null,null,913231724,"Wyett","2018-10-17","2018-10-17","Richlands NC",633]
[null,null,913231726,"Duvall","2018-10-17","2018-10-17","Richlands NC",633]
[null,null,913231727,"Gray","2018-10-17","2018-10-17","Richlands NC",633]
[null,null,913259237,"cant read name","2018-10-17","2018-10-17","Marion, VA",607]
[null,null,913259242,"cant read name","2018-10-17","2018-10-17","Marion, VA",607]
[null,null,913259373,"Morejon-Cruz","2018-10-18","2018-10-18","Spring Hill, Fl",286]
[null,null,913281772,"Kallmeyer","2018-10-14","2018-10-14","Chiefland, FL",191]
[null,null,913293313,"McNamara","2018-10-14","2018-10-14","Atlanta, GA",249]
[null,null,913301063,"Rowe","2018-10-28","2018-11-03","Marrianna FL",547.5,"home"]
[null,null,913301070,"Gonzalez","2018-10-19","2018-10-21","Willis, Tx",532,null,null,2,null,null,"mileage for Texas to Pensacola"]
[null,null,913301071,"Palmer","2018-10-19","2018-10-21","Rimersburg, PN",973,null,null,2]
[null,null,913346146,"Pate","2018-10-27","2018-10-27","Chiefland, FL",191,"home"]
[null,null,913346153,"Kalimeyer","2018-10-27","2018-10-27","Chiefland, FL",191,"home"]
[null,null,913346486,"Jones","2018-10-17","2018-10-17","Tallahassee, FL",65.8]
[null,null,913346486,"Jones","2018-10-17","2018-10-17","Tallahassee, FL",65.8]
[null,null,913262679,"Thomas","2018-10-26","2018-10-26","Donalsonville, GA",34.6]
[null,null,913231739,"Scott","2018-10-26","2018-10-26","Donalsonville, GA",29.2]
[null,null,913231740,"Wight","2018-10-26","2018-10-26","Donalsonville, GA",29.2]
[null,null,913231741,"Cannady","2018-10-26","2018-10-26","Donalsonville, GA",29.2]
[null,null,913231743,"Massey","2018-10-26","2018-10-26","Donalsonville, GA",29.2]
[null,null,913243107,"Caln","2018-10-26","2018-10-26","Donalsonville, GA",34.700000000000003]
[null,null,913243108,"Kepler","2018-10-26","2018-10-26","Donalsonville, GA",34.700000000000003]
[null,null,913243110,"Couret","2018-10-26","2018-10-26","Donalsonville, GA",34.700000000000003]
[null,null,913243111,"Ryan","2018-10-26","2018-10-26","Donalsonville, GA",34.700000000000003]
[null,null,913243112,"Zapr","2018-10-26","2018-10-26","Donalsonville, GA",34.700000000000003]
[null,null,913243113,"Schwebetterman","2018-10-26","2018-10-26","Donalsonville, GA",34.700000000000003]
[null,null,913243114,"Bryon","2018-10-26","2018-10-26","Donalsonville, GA",34.700000000000003]
[null,null,913243115,"Bell","2018-10-26","2018-10-26","Donalsonville, GA",34.700000000000003]
[null,null,913262294,null,"2018-10-26","2018-10-26","Donalsonville, GA",34.6]
[null,null,913262502,"Acosta","2018-10-26","2018-10-26","Donalsonville, GA",34.6]
[null,null,913262582,"Conley","2018-10-26","2018-10-26","Donalsonville, GA",34.6]
[null,null,913281758,"Pale","2018-10-27","2018-10-27","Chiefland, FL",191,"local miles"]
[null,null,913281761,"Kallmeyer","2018-10-27","2018-10-27","Chiefland, FL",191,"local miles"]
[null,null,913281769,"Kepler","2018-10-27","2018-10-27","Chiefland, FL",191,"local miles"]
[null,null,913293322,"Gonzalez","2018-10-27","2018-10-27","Pensacola",133,"local miles"]
[null,null,913333188,"Garcia","2018-10-27","2018-10-27","Chiefland, FL",191,"local miles"]
[null,null,913333193,"Pale","2018-10-27","2018-10-27","Chiefland, FL",191,"local miles"]
[null,null,913346156,"Alverez","2018-10-26","2018-10-26","Donalsonville, GA",34.6]
[null,null,913346172,"Carter","2018-10-26","2018-10-26","Donalsonville, GA",34.6]
[null,null,913232495,"McNambe","2018-10-31","2018-10-31","St. Cloud, FL",346,"home"]
[null,null,913232497,"Napolee","2018-10-31","2018-10-31","St. Cloud, FL",346,"home"]
[null,null,913232498,"Yasmani","2018-10-31","2018-10-31","St. Cloud, FL",346,"home"]
[null,null,913232500,"Rodriguez","2018-10-31","2018-10-31","St. Cloud, FL",346,"home"]
[null,null,913243348,"Cannady","2018-10-31","2018-10-31","Newberry SC",383,"home"]
[null,null,913243350,"Wright","2018-10-31","2018-10-31","Newberry SC",383,"home"]
[null,null,913243352,"Massey","2018-10-31","2018-10-31","Newberry SC",383,"home"]
[null,null,913243353,"Scott","2018-10-31","2018-10-31","Newberry SC",383,"home"]
[null,null,913243354,"Dodson","2018-10-31","2018-10-31","Richlands NC",634,"home"]
[null,null,913243356,"Gray","2018-10-31","2018-10-31","Richlands NC",634,"home"]
[null,null,913243358,"Williams","2018-10-31","2018-10-31","Richlands NC",634,"home"]
[null,null,913243359,"Wyett","2018-10-31","2018-10-31","Richlands NC",634,"home"]
[null,null,913243361,"Duvall","2018-10-31","2018-10-31","Richlands NC",634,"home"]
[null,null,913259364,"Medzer","2018-10-31","2018-10-31","Spring Hill, Fl",286,"home"]
[null,null,913259364,"Medzer","2018-10-31","2018-10-31","Spring Hill, Fl",572,"home"]
[null,null,913259367,"Chirino","2018-10-31","2018-10-31","Spring Hill, Fl",572,"home"]
[null,null,913259367,"Chirino","2018-10-31","2018-10-31","Spring Hill, Fl",286,"home"]
[null,null,913259368,"Vetasquez","2018-10-31","2018-10-31","Spring Hill, Fl",286,"home"]
[null,null,913293325,"Danielson","2018-10-30","2018-10-30","Easley SC",346,"home"]
[null,null,913301066,"Paris","2018-11-03","2018-11-03","Sylva NC",397,"local miles"]
[null,null,913301068,"Gonzalez","2018-10-30","2018-10-30","Willis TX",654,"home"]
[null,null,913301069,"Palmer","2018-10-30","2018-10-30","Rimersburg PA",1014,"home"]
[null,null,913243149,"Couret","2018-11-07","2018-11-07","Ocala FL",248,"home"]
[null,null,913243150,"Bryan","2018-11-07","2018-11-07","Ocala FL",248,"home"]
[null,null,913243151,"Bell","2018-11-07","2018-11-07","Ocala FL",248,"home",null,"timesheet has wrong dates on it has 10/24/18"]
[null,null,913243152,null,"2018-11-07","2018-11-07","Ocala FL",248,"home"]
[null,null,913243153,"Kepler","2018-11-07","2018-11-07","Ocala FL",248,"home"]
[null,null,913243156,"Zopf","2018-11-07","2018-11-07","Ocala FL",248,"home"]
[null,null,913243158,"Schwebetterman","2018-11-07","2018-11-07","Ocala FL",248,"home"]
[null,null,913243160,"Cala","2018-11-07","2018-11-07","Ocala FL",248,"home"]
[null,null,913243328,"Harley","2018-11-04","2018-11-04","Irmo SC",398,"home"]
[null,null,913243330,"whendmill","2018-11-04","2018-11-04","Irmo SC",398,"home"]
[null,null,913243332,"can't read","2018-11-04","2018-11-04","Irmo SC",398,"home"]
[null,null,913243334,"Riddle","2018-11-07","2018-11-07","Hacenville AL",273,"home"]
[null,null,913243334,"Riddle","2018-11-07","2018-11-07","Hacenville AL",273,"home"]
[null,null,913243334,"Riddle","2018-11-07","2018-11-07","Hacenville AL",273,"home"]
[null,null,913243339,"Gonzalez","2018-11-04","2018-11-04","Irmo SC",398,"home"]
[null,null,913259300,"Harley","2018-11-05","2018-11-05","Marion VA",610,"home"]
[null,null,913259306,"Rolando","2018-10-27","2018-10-27","Donalsonville, GA",610]
[null,null,913280569,"Jackson","2018-11-05","2018-11-05","Marion VA",610,"home"]
[null,null,913280571,"cant read name","2018-11-05","2018-11-05","Marion VA",610,"home"]
[null,null,913346329,"Jones","2018-11-07","2018-11-07","Wetumpka AL",154,"home"]
[null,null,913346329,"Jones","2018-11-07","2018-11-07","Wetumpka AL",154,"home"]
[null,null,913222888,"Kepler","2018-10-31","2018-10-31",null,320,"home",null,"no destination"]
[null,null,913222891,"Phillips","2018-10-31","2018-10-31",null,320,"home",null,"no destination"]
[null,null,913225341,"Orek","2018-10-31","2018-10-31",null,320,"home",null,"no destination"]
[null,null,913243903,"Rodriguez","2018-10-31","2018-10-31","St. Cloud, FL",346,"home"]
[null,null,913259181,"Pitts","2018-10-31","2018-10-31",null,443,"home",null,"no destination"]
[null,null,913259235,"cant read name",null,"2018-10-20","Marion VA",640,null,null,"can't read"]
[null,null,913259255,"cant read name",null,"2018-10-20","Marion VA",640,null,null,"can't read"]
[null,null,913259255,"cant read name",null,"2018-10-20","Marion VA",640,null,null,"can't read"]
[null,null,913601157,null,"2018-10-20",null,null,633]
[null,null,913601176,"Chirino","2018-10-15","2018-10-18","Spring Hill, Fl",282]
[null,null,913601176,"Chirino","2018-10-15","2018-10-18","Spring Hill, Fl",282]
[null,null,913601185,"Garcia","2018-10-12","2018-10-12","Chiefland, FL",191]

{"sheet":"C.1 - Rate Sheets","index":4,"n_rows":55,"n_cols":19,"rows_kept":55,"cut":false,"hidden":false,"merged":[[12,1,12,5],[12,7,12,8],[3,1,3,8],[54,6,54,8],[1,1,1,8]]}
[]
[null,"Labor Charges - Rate Sheet"]
[]
[null,"Test Plan: (A) Using the vendor rate sheet, ensure that a rate was provided for all Positions and Equipment types.  "]
[]
[null,"Labor Types:"]
[null,"ST","Straight Time"]
[null,"OT","Over Time"]
[null,"DT","Double Time"]
[null,"MOB/DMOB","Mobilization/Demobilization Time"]
[]
[]
[null,"Labor per Man Hour",null,null,null,null," ","Labor per Equipment Hour"]
[null,"A",null,null,null,null,null,"A"]
[null,"POSITION","ST","OT","DT","MOB/DMOB",null,"Type","$/HOUR"]
[null,"Crew Foreman",56.8,76.7,90.9,null,null,"Aerial Lift 60'- 4WD",23.25]
[null,"Tree Trimmer",48.5,65.5,77.599999999999994,null,null,"Aerial Lift 60'- 2WD",18]
[null,"Supervisor",74,99.9,118.4,null,null,"4X4 Pick Up",10]
[null,"Ground Person",40,54,64,null,null,"Manual Crew Truck",14]
[null,"On-Site Safety Coordinator",65,65,65,null,null,"Aerial Lift 60'- 4WD (a)",23.25]
[null,null,null,null,null,null,null,"Aerial Lift < 60'",28]
[null,null,null,null,null,null,null,"Saws",0]
[null,null,null,null,null,null,null,"Blower",0]
[null,null,null,null,null,null,null,"Computer",0,null,null,null,null,null,null,null,null,null," "]
[null,null,null,null,null,null,null,"none",0]
[null,null,null,null,null,null,null,"cell phone",0]
[]
[]
[null,null,null,null,null,null,null,"Mileage for Aerial under 60'",1.24]
[null,null,null,null,null,null,null,"Mileage to Marianna",1.29]
[null,null,null,null,null,null,null,"Mileage Manual Crew Truck",0.96]
[null,null,null,null,null,null,null,"Mileage Pick Up Truck",0.77]
[null,null,null,null,null,null,null,"Mileage Aerial Lift > 60'",1.29]
[null,null,null,null,null,null,null,"Mileage Aerial Lift < 60'",1.24]
[]
[]
[]
[]
[]
[]
[]
[]
[]
[]
[]
[]
[]
[]
[]
[]
[]
[]
[]
[null,"Tickmark Explanation:"]
[null,1]

{"sheet":"C.2 - Timesheets - Labor","index":5,"n_rows":457,"n_cols":61,"rows_kept":457,"cut":false,"hidden":false,"merged":[[427,29,427,32],[1,1,1,59],[14,57,17,57],[14,58,17,58],[14,59,17,59],[15,48,17,48],[15,47,17,47],[15,46,17,46],[15,45,17,45],[15,44,17,44],[14,54,17,54],[14,56,17,56],[14,49,14,53],[15,53,17,53],[15,52,17,52],[15,51,17,51],[14,29,14,33],[14,34,14,38],[14,39,14,43],[16,29,16,33],[16,34,16,38],[16,39,16,43],[427,24,427,27],[427,14,427,17],[427,19,427,22],[3,2,7,13],[14,10,16,13],[14,9,17,9],[16,14,16,18],[14,7,17,7],[14,6,17,6],[14,19,14,23],[16,19,16,23],[14,24,14,28],[14,14,14,18],[16,24,16,28],[14,8,17,8],[426,1,426,5],[14,1,17,1],[14,2,17,2],[14,4,17,4],[14,5,17,5],[14,3,17,3],[427,34,427,37],[427,39,427,42],[15,49,17,49],[14,55,17,55],[14,44,14,48],[427,44,427,47],[15,50,17,50]]}
[]
[null,"Labor Charges - Time Card"]
[]
[null,"Test Plan:","Obtain the time cards.  (A) Using the Asset by Company tab (C.3), populate the crew members names and positions (if provided).  Find additional information regarding individual crew member from related invoice.  (B) Enter hours worked from time card(s). (C) Confirm that the dates per the time cards fall between dates provided per 'A - Contractor Summary' tab. (D) Confirm the labor type charged agrees to the rate sheet. (E) Identify any labor charges to be reviewed (manually enter amounts based on reasonability of time period labor was charged, discrepancies between timecards and invoice, etc.  (F) For charges which required further review, document review (include why it was determined to be allowed/disallowed via a tickmark)."]
[]
[]
[]
[]
[]
[null,"Rx","Recalculated."]
[null,"a","Provided from tab 'C.1 - Rate Sheets'.",{"$f":"+'C.2 - Timesheets - Labor'!A435","v":0}]
[null,"b","Check figure should equal $0.  Cell will appear yellow if discrepancies are noted."]
[]
[null,null,"A ",null,null,null,null,"Rx",null,"C","a",null,null,null,null,null,null,null,null,null,null,null,null,null,null,null,null,null,null,null,null,null,null,null,null,null,null,null,null,null,null,null,null,null,"Rx",null,null,null,null,"Rx",null,null,null,null,"Rx",null,"E","F"]
[null,"#","Name","Position","Company","Crew#","Invoice#","Start Date","End Date","Dates Worked Reasonable?","Rates",null,null,null,"10/7/18-10/13/18",null,null,null,null,"10/14/2018-10/20/2018",null,null,null,null,"10/21/2018-10/27/2018",null,null,null,null,"10/28/2018-11/3/2018",null,null,null,null,"11/4/2018-11/10/2018",null,null,null,null,null,null,null,null,null,"Total Labor Hours",null,null,null,null,"Total Labor $",null,null,null,null,"Allowable Charges","Labor Type Appropriate?","To Be Reviewed","Reviewed - Allowable Charge","Reviewed - Unallowable Charge","Tickmarks"]
[null,null,null,null,null,null,null,null,null,null,null,null,null,null,null,null,null,null,null,null,null,null,null,null,null,null,null,null,null,null,null,null,null,null,null,null,null,null,null,null,null,null,null,null,"Total ST","OT","DT","MOB/DMOB","Total Hours","Total ST $","Total OT $","Total DT $","Total MOB/DMOB $","Total Labor $"]
[]
[null,null,null,null,null,null,null,null,null,null,"ST","OT","DT","MOB/DMOB","ST","OT","DT","MOB/DMOB","Total","ST","OT","DT","MOB/DMOB","Total","ST","OT","DT","MOB/DMOB","Total","ST","OT","DT","MOB/DMOB","Total","ST","OT","DT","MOB/DMOB","Total"]
[null,1,"Horn, Bryan","Crew Foreman","Vendor No 6","Horn",913220721,"2018-10-09","2018-10-13",{"$f":"IF(AND(H19>='A - Contractor Summary'!$C$36,I19<='A - Contractor Summary'!$C$42),\"Yes\",\"No\")","v":"No"},{"$f":"VLOOKUP($D19,'C.1 - Rate Sheets'!B:I,2,FALSE)","v":56.8},{"$f":"VLOOKUP($D19,'C.1 - Rate Sheets'!B:I,3,FALSE)","v":76.7},{"$f":"VLOOKUP($D19,'C.1 - Rate Sheets'!B:I,4,FALSE)","v":90.9},{"$f":"VLOOKUP($D19,'C.1 - Rate Sheets'!B:I,5,FALSE)","v":0},40,34,null,null,{"$f":"SUM(O19:R19)","v":74},null,null,null,null,{"$f":"SUM(T19:W19)","v":0},null,null,null,null,{"$f":"SUM(Y19:AB19)","v":0},null,null,null,null,{"$f":"SUM(AD19:AG19)","v":0},null,null,null,null,{"$f":"SUM(AI19:AL19)","v":0},null,null,null,null,null,{"$f":"SUM(O19,T19,Y19,AD19,AI19,AN19)","v":40},{"$f":"SUM(P19,U19,Z19,AE19,AJ19,AO19)","v":34},0,0,{"$f":"SUM(AS19:AV19)","v":74},{"$f":"AS19*K19","v":2272},{"$f":"AT19*L19","v":2607.8000000000002},{"$f":"AU19*M19","v":0},{"$f":"AV19*N19","v":0},{"$f":"SUM(AX19:BA19)","v":4879.8},{"$f":"BB19-BE19","v":4879.8},"Yes",0,0,0]
[null,2,"Cook, Ronald","Tree Trimmer","Vendor No 6","Horn",913220721,"2018-10-09","2018-10-13",{"$f":"IF(AND(H20>='A - Contractor Summary'!$C$36,I20<='A - Contractor Summary'!$C$42),\"Yes\",\"No\")","v":"No"},{"$f":"VLOOKUP($D20,'C.1 - Rate Sheets'!B:I,2,FALSE)","v":48.5},{"$f":"VLOOKUP($D20,'C.1 - Rate Sheets'!B:I,3,FALSE)","v":65.5},{"$f":"VLOOKUP($D20,'C.1 - Rate Sheets'!B:I,4,FALSE)","v":77.599999999999994},{"$f":"VLOOKUP($D20,'C.1 - Rate Sheets'!B:I,5,FALSE)","v":0},40,34,null,null,{"$f":"SUM(O20:R20)","v":74},null,null,null,null,{"$f":"SUM(T20:W20)","v":0},null,null,null,null,{"$f":"SUM(Y20:AB20)","v":0},null,null,null,null,{"$f":"SUM(AD20:AG20)","v":0},null,null,null,null,{"$f":"SUM(AI20:AL20)","v":0},null,null,null,null,null,{"$f":"SUM(O20,T20,Y20,AD20,AI20,AN20)","v":40},{"$f":"SUM(P20,U20,Z20,AE20,AJ20,AO20)","v":34},{"$f":"SUM(Q20,V20,AA20,AF20,AK20,AP20)","v":0},{"$f":"SUM(R20,W20,AB20,AG20,AL20,AQ20)","v":0},{"$f":"SUM(AS20:AV20)","v":74},{"$f":"AS20*K20","v":1940},{"$f":"AT20*L20","v":2227},{"$f":"AU20*M20","v":0},{"$f":"AV20*N20","v":0},{"$f":"SUM(AX20:BA20)","v":4167},4167,"Yes",0,0,0]
[null,3,"Guilds, Jay","Crew Foreman","Vendor No 6","Guilds",913220823,"2018-10-12","2018-10-13",{"$f":"IF(AND(H21>='A - Contractor Summary'!$C$36,I21<='A - Contractor Summary'!$C$42),\"Yes\",\"No\")","v":"No"},{"$f":"VLOOKUP($D21,'C.1 - Rate Sheets'!B:I,2,FALSE)","v":56.8},{"$f":"VLOOKUP($D21,'C.1 - Rate Sheets'!B:I,3,FALSE)","v":76.7},{"$f":"VLOOKUP($D21,'C.1 - Rate Sheets'!B:I,4,FALSE)","v":90.9},{"$f":"VLOOKUP($D21,'C.1 - Rate Sheets'!B:I,5,FALSE)","v":0},40,34,null,null,74,null,null,null,null,0,null,null,null,null,0,null,null,null,null,0,null,null,null,null,0,null,null,null,null,null,40,34,0,0,74,{"$f":"AS21*K21","v":2272},{"$f":"AT21*L21","v":2607.8000000000002},{"$f":"AU21*M21","v":0},{"$f":"AV21*N21","v":0},{"$f":"SUM(AX21:BA21)","v":4879.8},4879.8,"Yes",0,0,0]
[null,4,"Stewart, Erik","Tree Trimmer","Vendor No 6","Guilds",913220823,"2018-10-12","2018-10-13",{"$f":"IF(AND(H22>='A - Contractor Summary'!$C$36,I22<='A - Contractor Summary'!$C$42),\"Yes\",\"No\")","v":"No"},{"$f":"VLOOKUP($D22,'C.1 - Rate Sheets'!B:I,2,FALSE)","v":48.5},{"$f":"VLOOKUP($D22,'C.1 - Rate Sheets'!B:I,3,FALSE)","v":65.5},{"$f":"VLOOKUP($D22,'C.1 - Rate Sheets'!B:I,4,FALSE)","v":77.599999999999994},{"$f":"VLOOKUP($D22,'C.1 - Rate Sheets'!B:I,5,FALSE)","v":0},40,34,null,null,74,null,null,null,null,0,null,null,null,null,0,null,null,null,null,0,null,null,null,null,0,null,null,null,null,null,40,34,0,0,74,1940,2227,0,0,4167,4167,"Yes",0,0,0]
[null,5,"Michael Bowers","Supervisor","Vendor No 6","Bowers",913231731,"2018-10-12","2018-10-13",{"$f":"IF(AND(H23>='A - Contractor Summary'!$C$36,I23<='A - Contractor Summary'!$C$42),\"Yes\",\"No\")","v":"No"},{"$f":"VLOOKUP($D23,'C.1 - Rate Sheets'!B:I,2,FALSE)","v":74},{"$f":"VLOOKUP($D23,'C.1 - Rate Sheets'!B:I,3,FALSE)","v":99.9},{"$f":"VLOOKUP($D23,'C.1 - Rate Sheets'!B:I,4,FALSE)","v":118.4},{"$f":"VLOOKUP($D23,'C.1 - Rate Sheets'!B:I,5,FALSE)","v":0},null,34,null,null,34,null,null,null,null,0,null,null,null,null,0,null,null,null,null,0,null,null,null,null,0,null,null,null,null,null,0,34,0,0,34,0,3396.6000000000004,0,0,3396.6000000000004,3396.6000000000004,"Yes",0,0,0]
[null,6,"Dustin Woodward","Crew Foreman","Vendor No 6","Bowers",913231731,"2018-10-12","2018-10-13",{"$f":"IF(AND(H24>='A - Contractor Summary'!$C$36,I24<='A - Contractor Summary'!$C$42),\"Yes\",\"No\")","v":"No"},{"$f":"VLOOKUP($D24,'C.1 - Rate Sheets'!B:I,2,FALSE)","v":56.8},{"$f":"VLOOKUP($D24,'C.1 - Rate Sheets'!B:I,3,FALSE)","v":76.7},{"$f":"VLOOKUP($D24,'C.1 - Rate Sheets'!B:I,4,FALSE)","v":90.9},{"$f":"VLOOKUP($D24,'C.1 - Rate Sheets'!B:I,5,FALSE)","v":0},6,28,null,null,34,null,null,null,null,0,null,null,null,null,0,null,null,null,null,0,null,null,null,null,0,null,null,null,null,null,6,28,0,0,34,340.79999999999995,2147.6,0,0,2488.3999999999996,2488.3999999999996,"Yes",0,0,0]
[null,6,"Jose Guitarrez","Crew Foreman","Vendor No 6","Bowers",913231731,"2018-10-12","2018-10-13",{"$f":"IF(AND(H25>='A - Contractor Summary'!$C$36,I25<='A - Contractor Summary'!$C$42),\"Yes\",\"No\")","v":"No"},{"$f":"VLOOKUP($D25,'C.1 - Rate Sheets'!B:I,2,FALSE)","v":56.8},{"$f":"VLOOKUP($D25,'C.1 - Rate Sheets'!B:I,3,FALSE)","v":76.7},{"$f":"VLOOKUP($D25,'C.1 - Rate Sheets'!B:I,4,FALSE)","v":90.9},{"$f":"VLOOKUP($D25,'C.1 - Rate Sheets'!B:I,5,FALSE)","v":0},0,34,null,null,{"$f":"SUM(O25:R25)","v":34},null,null,null,null,{"$f":"SUM(T25:W25)","v":0},null,null,null,null,{"$f":"SUM(Y25:AB25)","v":0},null,null,null,null,{"$f":"SUM(AD25:AG25)","v":0},null,null,null,null,{"$f":"SUM(AI25:AL25)","v":0},null,null,null,null,null,{"$f":"SUM(O25,T25,Y25,AD25,AI25,AN25)","v":0},{"$f":"SUM(P25,U25,Z25,AE25,AJ25,AO25)","v":34},{"$f":"SUM(Q25,V25,AA25,AF25,AK25,AP25)","v":0},{"$f":"SUM(R25,W25,AB25,AG25,AL25,AQ25)","v":0},{"$f":"SUM(AS25:AV25)","v":34},{"$f":"AS25*K25","v":0},{"$f":"AT25*L25","v":2607.8000000000002},{"$f":"AU25*M25","v":0},{"$f":"AV25*N25","v":0},{"$f":"SUM(AX25:BA25)","v":2607.8000000000002},{"$f":"BB25-BE25","v":2607.8000000000002},"Yes",0,0,0]
[null,6,"Rubelsy Perez","Crew Foreman","Vendor No 6","Bowers",913231731,"2018-10-12","2018-10-13",{"$f":"IF(AND(H26>='A - Contractor Summary'!$C$36,I26<='A - Contractor Summary'!$C$42),\"Yes\",\"No\")","v":"No"},{"$f":"VLOOKUP($D26,'C.1 - Rate Sheets'!B:I,2,FALSE)","v":56.8},{"$f":"VLOOKUP($D26,'C.1 - Rate Sheets'!B:I,3,FALSE)","v":76.7},{"$f":"VLOOKUP($D26,'C.1 - Rate Sheets'!B:I,4,FALSE)","v":90.9},{"$f":"VLOOKUP($D26,'C.1 - Rate Sheets'!B:I,5,FALSE)","v":0},16,16,null,null,32,null,null,null,null,0,null,null,null,null,0,null,null,null,null,0,null,null,null,null,0,null,null,null,null,null,16,16,0,0,32,908.8,1227.2,0,0,2136,2136,"Yes",0,0,0]
[null,6,"Phillip Nix","Crew Foreman","Vendor No 6","Bowers",913231731,"2018-10-12","2018-10-13",{"$f":"IF(AND(H27>='A - Contractor Summary'!$C$36,I27<='A - Contractor Summary'!$C$42),\"Yes\",\"No\")","v":"No"},{"$f":"VLOOKUP($D27,'C.1 - Rate Sheets'!B:I,2,FALSE)","v":56.8},{"$f":"VLOOKUP($D27,'C.1 - Rate Sheets'!B:I,3,FALSE)","v":76.7},{"$f":"VLOOKUP($D27,'C.1 - Rate Sheets'!B:I,4,FALSE)","v":90.9},{"$f":"VLOOKUP($D27,'C.1 - Rate Sheets'!B:I,5,FALSE)","v":0},0,0,null,null,0,null,null,null,null,0,null,null,null,null,0,null,null,null,null,0,null,null,null,null,0,null,null,null,null,null,0,0,0,0,0,0,0,0,0,0,0,"Yes",0,0,0]
[null,6,"Terry Herley","Crew Foreman","Vendor No 6","Bowers",913231731,"2018-10-12","2018-10-13",{"$f":"IF(AND(H28>='A - Contractor Summary'!$C$36,I28<='A - Contractor Summary'!$C$42),\"Yes\",\"No\")","v":"No"},{"$f":"VLOOKUP($D28,'C.1 - Rate Sheets'!B:I,2,FALSE)","v":56.8},{"$f":"VLOOKUP($D28,'C.1 - Rate Sheets'!B:I,3,FALSE)","v":76.7},{"$f":"VLOOKUP($D28,'C.1 - Rate Sheets'!B:I,4,FALSE)","v":90.9},{"$f":"VLOOKUP($D28,'C.1 - Rate Sheets'!B:I,5,FALSE)","v":0},28,8,null,null,36,null,null,null,null,0,null,null,null,null,0,null,null,null,null,0,null,null,null,null,0,null,null,null,null,null,28,8,0,0,36,1590.3999999999999,613.6,0,0,2204,2204,"Yes",0,0,0]
[null,7,"Victor Lara","Tree Trimmer","Vendor No 6","Bowers",913231731,"2018-10-12","2018-10-13",{"$f":"IF(AND(H29>='A - Contractor Summary'!$C$36,I29<='A - Contractor Summary'!$C$42),\"Yes\",\"No\")","v":"No"},{"$f":"VLOOKUP($D29,'C.1 - Rate Sheets'!B:I,2,FALSE)","v":48.5},{"$f":"VLOOKUP($D29,'C.1 - Rate Sheets'!B:I,3,FALSE)","v":65.5},{"$f":"VLOOKUP($D29,'C.1 - Rate Sheets'!B:I,4,FALSE)","v":77.599999999999994},{"$f":"VLOOKUP($D29,'C.1 - Rate Sheets'!B:I,5,FALSE)","v":0},6,28,null,null,34,null,null,null,null,0,null,null,null,null,0,null,null,null,null,0,null,null,null,null,0,null,null,null,null,null,{"$f":"SUM(O29,T29,Y29,AD29,AI29,AN29)","v":6},{"$f":"SUM(P29,U29,Z29,AE29,AJ29,AO29)","v":28},{"$f":"SUM(Q29,V29,AA29,AF29,AK29,AP29)","v":0},{"$f":"SUM(R29,W29,AB29,AG29,AL29,AQ29)","v":0},{"$f":"SUM(AS29:AV29)","v":34},291,1834,0,0,2125,2125,"Yes",0,0,0]
[null,7,"Edgar Flores","Tree Trimmer","Vendor No 6","Bowers",913231731,"2018-10-12","2018-10-13",{"$f":"IF(AND(H30>='A - Contractor Summary'!$C$36,I30<='A - Contractor Summary'!$C$42),\"Yes\",\"No\")","v":"No"},{"$f":"VLOOKUP($D30,'C.1 - Rate Sheets'!B:I,2,FALSE)","v":48.5},{"$f":"VLOOKUP($D30,'C.1 - Rate Sheets'!B:I,3,FALSE)","v":65.5},{"$f":"VLOOKUP($D30,'C.1 - Rate Sheets'!B:I,4,FALSE)","v":77.599999999999994},{"$f":"VLOOKUP($D30,'C.1 - Rate Sheets'!B:I,5,FALSE)","v":0},6,28,null,null,{"$f":"SUM(O30:R30)","v":34},null,null,null,null,{"$f":"SUM(T30:W30)","v":0},null,null,null,null,{"$f":"SUM(Y30:AB30)","v":0},null,null,null,null,{"$f":"SUM(AD30:AG30)","v":0},null,null,null,null,{"$f":"SUM(AI30:AL30)","v":0},null,null,null,null,null,{"$f":"SUM(O30,T30,Y30,AD30,AI30,AN30)","v":6},{"$f":"SUM(P30,U30,Z30,AE30,AJ30,AO30)","v":28},{"$f":"SUM(Q30,V30,AA30,AF30,AK30,AP30)","v":0},{"$f":"SUM(R30,W30,AB30,AG30,AL30,AQ30)","v":0},{"$f":"SUM(AS30:AV30)","v":34},{"$f":"AS30*K30","v":291},{"$f":"AT30*L30","v":1834},{"$f":"AU30*M30","v":0},{"$f":"AV30*N30","v":0},{"$f":"SUM(AX30:BA30)","v":2125},{"$f":"BB30-BE30","v":2125},"Yes",0,0,0]
[null,8,"Andres Tapia","Ground Person","Vendor No 6","Bowers",913231731,"2018-10-12","2018-10-13",{"$f":"IF(AND(H31>='A - Contractor Summary'!$C$36,I31<='A - Contractor Summary'!$C$42),\"Yes\",\"No\")","v":"No"},{"$f":"VLOOKUP($D31,'C.1 - Rate Sheets'!B:I,2,FALSE)","v":40},{"$f":"VLOOKUP($D31,'C.1 - Rate Sheets'!B:I,3,FALSE)","v":54},{"$f":"VLOOKUP($D31,'C.1 - Rate Sheets'!B:I,4,FALSE)","v":64},{"$f":"VLOOKUP($D31,'C.1 - Rate Sheets'!B:I,5,FALSE)","v":0},6,28,null,null,34,null,null,null,null,0,null,null,null,null,0,null,null,null,null,0,null,null,null,null,0,null,null,null,null,null,6,28,0,0,34,240,1512,0,0,1752,1752,"Yes",0,0,0]
[null,8,"Jesus Jimenez","Ground Person","Vendor No 6","Bowers",913231731,"2018-10-12","2018-10-13",{"$f":"IF(AND(H32>='A - Contractor Summary'!$C$36,I32<='A - Contractor Summary'!$C$42),\"Yes\",\"No\")","v":"No"},{"$f":"VLOOKUP($D32,'C.1 - Rate Sheets'!B:I,2,FALSE)","v":40},{"$f":"VLOOKUP($D32,'C.1 - Rate Sheets'!B:I,3,FALSE)","v":54},{"$f":"VLOOKUP($D32,'C.1 - Rate Sheets'!B:I,4,FALSE)","v":64},{"$f":"VLOOKUP($D32,'C.1 - Rate Sheets'!B:I,5,FALSE)","v":0},6,28,null,null,34,null,null,null,null,0,null,null,null,null,0,null,null,null,null,0,null,null,null,null,0,null,null,null,null,null,6,28,0,0,34,240,1512,0,0,1752,1752,"Yes",0,0,0]
[null,9,"Kapler, Mike","Crew Foreman","Vendor No 6","Kapler",913281767,"2018-10-12","2018-10-13",{"$f":"IF(AND(H33>='A - Contractor Summary'!$C$36,I33<='A - Contractor Summary'!$C$42),\"Yes\",\"No\")","v":"No"},{"$f":"VLOOKUP($D33,'C.1 - Rate Sheets'!B:I,2,FALSE)","v":56.8},{"$f":"VLOOKUP($D33,'C.1 - Rate Sheets'!B:I,3,FALSE)","v":76.7},{"$f":"VLOOKUP($D33,'C.1 - Rate Sheets'!B:I,4,FALSE)","v":90.9},{"$f":"VLOOKUP($D33,'C.1 - Rate Sheets'!B:I,5,FALSE)","v":0},8,24,null,null,32,null,null,null,null,0,null,null,null,null,0,null,null,null,null,0,null,null,null,null,0,null,null,null,null,null,8,24,0,0,32,454.4,1840.8000000000002,0,0,2295.2000000000003,2295.2000000000003,"Yes",0,0,0]
[null,10,"Cardo, Rafael","Tree Trimmer","Vendor No 6","Kapler",913281767,"2018-10-12","2018-10-13",{"$f":"IF(AND(H34>='A - Contractor Summary'!$C$36,I34<='A - Contractor Summary'!$C$42),\"Yes\",\"No\")","v":"No"},{"$f":"VLOOKUP($D34,'C.1 - Rate Sheets'!B:I,2,FALSE)","v":48.5},{"$f":"VLOOKUP($D34,'C.1 - Rate Sheets'!B:I,3,FALSE)","v":65.5},{"$f":"VLOOKUP($D34,'C.1 - Rate Sheets'!B:I,4,FALSE)","v":77.599999999999994},{"$f":"VLOOKUP($D34,'C.1 - Rate Sheets'!B:I,5,FALSE)","v":0},8,24,null,null,32,null,null,null,null,0,null,null,null,null,0,null,null,null,null,0,null,null,null,null,0,null,null,null,null,null,8,24,0,0,32,388,1572,0,0,1960,1960,"Yes",0,0,0]
[null,11,"Pate, Joseph","Supervisor","Vendor No 6","Pate",913281791,"2018-10-12","2018-10-13",{"$f":"IF(AND(H35>='A - Contractor Summary'!$C$36,I35<='A - Contractor Summary'!$C$42),\"Yes\",\"No\")","v":"No"},{"$f":"VLOOKUP($D35,'C.1 - Rate Sheets'!B:I,2,FALSE)","v":74},{"$f":"VLOOKUP($D35,'C.1 - Rate Sheets'!B:I,3,FALSE)","v":99.9},{"$f":"VLOOKUP($D35,'C.1 - Rate Sheets'!B:I,4,FALSE)","v":118.4},{"$f":"VLOOKUP($D35,'C.1 - Rate Sheets'!B:I,5,FALSE)","v":0},8,24,null,null,32,null,null,null,null,0,null,null,null,null,0,null,null,null,null,0,null,null,null,null,0,null,null,null,null,null,8,24,0,0,32,592,2397.6000000000004,0,0,2989.6000000000004,2989.6000000000004,"Yes",0,0,0]
[null,12,"Robert Ellis","On-Site Safety Coordinator","Vendor No 6","Ellis",913293304,"2018-10-11","2018-10-13",{"$f":"IF(AND(H36>='A - Contractor Summary'!$C$36,I36<='A - Contractor Summary'!$C$42),\"Yes\",\"No\")","v":"No"},{"$f":"VLOOKUP($D36,'C.1 - Rate Sheets'!B:I,2,FALSE)","v":65},{"$f":"VLOOKUP($D36,'C.1 - Rate Sheets'!B:I,3,FALSE)","v":65},{"$f":"VLOOKUP($D36,'C.1 - Rate Sheets'!B:I,4,FALSE)","v":65},{"$f":"VLOOKUP($D36,'C.1 - Rate Sheets'!B:I,5,FALSE)","v":0},16,13,null,null,29,null,null,null,null,0,null,null,null,null,0,null,null,null,null,0,null,null,null,null,0,null,null,null,null,null,16,13,0,0,29,1040,845,0,0,1885,1885,"Yes",0,0,0]
[null,13,"Harold Danielson","On-Site Safety Coordinator","Vendor No 6","Danielson",913293305,"2018-10-11","2018-10-13",{"$f":"IF(AND(H37>='A - Contractor Summary'!$C$36,I37<='A - Contractor Summary'!$C$42),\"Yes\",\"No\")","v":"No"},{"$f":"VLOOKUP($D37,'C.1 - Rate Sheets'!B:I,2,FALSE)","v":65},{"$f":"VLOOKUP($D37,'C.1 - Rate Sheets'!B:I,3,FALSE)","v":65},{"$f":"VLOOKUP($D37,'C.1 - Rate Sheets'!B:I,4,FALSE)","v":65},{"$f":"VLOOKUP($D37,'C.1 - Rate Sheets'!B:I,5,FALSE)","v":0},16,11,null,null,27,null,null,null,null,0,null,null,null,null,0,null,null,null,null,0,null,null,null,null,0,null,null,null,null,null,16,11,0,0,27,1040,715,0,0,1755,1755,"Yes",0,0,0]
[null,14,"Kenny Rowe","On-Site Safety Coordinator","Vendor No 6","Rowe",913293310,"2018-10-11","2018-10-13",{"$f":"IF(AND(H38>='A - Contractor Summary'!$C$36,I38<='A - Contractor Summary'!$C$42),\"Yes\",\"No\")","v":"No"},{"$f":"VLOOKUP($D38,'C.1 - Rate Sheets'!B:I,2,FALSE)","v":65},{"$f":"VLOOKUP($D38,'C.1 - Rate Sheets'!B:I,3,FALSE)","v":65},{"$f":"VLOOKUP($D38,'C.1 - Rate Sheets'!B:I,4,FALSE)","v":65},{"$f":"VLOOKUP($D38,'C.1 - Rate Sheets'!B:I,5,FALSE)","v":0},16,23,null,null,39,null,null,null,null,0,null,null,null,null,0,null,null,null,null,0,null,null,null,null,0,null,null,null,null,null,16,23,0,0,39,1040,1495,0,0,2535,2535,"Yes",0,0,0]
[null,15,"Kallmayer, David","Crew Foreman","Vendor No 6","Kallmayer",913346317,"2018-10-12","2018-10-13",{"$f":"IF(AND(H39>='A - Contractor Summary'!$C$36,I39<='A - Contractor Summary'!$C$42),\"Yes\",\"No\")","v":"No"},{"$f":"VLOOKUP($D39,'C.1 - Rate Sheets'!B:I,2,FALSE)","v":56.8},{"$f":"VLOOKUP($D39,'C.1 - Rate Sheets'!B:I,3,FALSE)","v":76.7},{"$f":"VLOOKUP($D39,'C.1 - Rate Sheets'!B:I,4,FALSE)","v":90.9},{"$f":"VLOOKUP($D39,'C.1 - Rate Sheets'!B:I,5,FALSE)","v":0},8,24,null,null,32,null,null,null,null,0,null,null,null,null,0,null,null,null,null,0,null,null,null,null,0,null,null,null,null,null,8,24,0,0,32,454.4,1840.8000000000002,0,0,2295.2000000000003,2295.2000000000003,"Yes",0,0,0]
[null,16,"Sansom, James","Tree Trimmer","Vendor No 6","Kallmayer",913346317,"2018-10-12","2018-10-13",{"$f":"IF(AND(H40>='A - Contractor Summary'!$C$36,I40<='A - Contractor Summary'!$C$42),\"Yes\",\"No\")","v":"No"},{"$f":"VLOOKUP($D40,'C.1 - Rate Sheets'!B:I,2,FALSE)","v":48.5},{"$f":"VLOOKUP($D40,'C.1 - Rate Sheets'!B:I,3,FALSE)","v":65.5},{"$f":"VLOOKUP($D40,'C.1 - Rate Sheets'!B:I,4,FALSE)","v":77.599999999999994},{"$f":"VLOOKUP($D40,'C.1 - Rate Sheets'!B:I,5,FALSE)","v":0},8,24,null,null,32,null,null,null,null,0,null,null,null,null,0,null,null,null,null,0,null,null,null,null,0,null,null,null,null,null,8,24,0,0,32,388,1572,0,0,1960,1960,"Yes",0,0,0]
[null,17,"Guilds, Jay","Crew Foreman","Vendor No 6","Guilds",913223258,"2018-10-14","2018-10-20",{"$f":"IF(AND(H41>='A - Contractor Summary'!$C$36,I41<='A - Contractor Summary'!$C$42),\"Yes\",\"No\")","v":"No"},{"$f":"VLOOKUP($D41,'C.1 - Rate Sheets'!B:I,2,FALSE)","v":56.8},{"$f":"VLOOKUP($D41,'C.1 - Rate Sheets'!B:I,3,FALSE)","v":76.7},{"$f":"VLOOKUP($D41,'C.1 - Rate Sheets'!B:I,4,FALSE)","v":90.9},{"$f":"VLOOKUP($D41,'C.1 - Rate Sheets'!B:I,5,FALSE)","v":0},null,null,null,null,0,40,60,18,null,118,null,null,null,null,0,null,null,null,null,0,null,null,null,null,0,null,null,null,null,null,40,60,18,0,118,2272,4602,1636.2,0,8510.2000000000007,8510.2000000000007,"Yes",0,0,0]
[null,18,"Stewart, Erik","Tree Trimmer","Vendor No 6","Guilds",913223258,"2018-10-14","2018-10-20",{"$f":"IF(AND(H42>='A - Contractor Summary'!$C$36,I42<='A - Contractor Summary'!$C$42),\"Yes\",\"No\")","v":"No"},{"$f":"VLOOKUP($D42,'C.1 - Rate Sheets'!B:I,2,FALSE)","v":48.5},{"$f":"VLOOKUP($D42,'C.1 - Rate Sheets'!B:I,3,FALSE)","v":65.5},{"$f":"VLOOKUP($D42,'C.1 - Rate Sheets'!B:I,4,FALSE)","v":77.599999999999994},{"$f":"VLOOKUP($D42,'C.1 - Rate Sheets'!B:I,5,FALSE)","v":0},null,null,null,null,0,40,60,18,null,118,null,null,null,null,0,null,null,null,null,0,null,null,null,null,0,null,null,null,null,null,40,60,18,0,118,1940,3930,1396.8,0,7266.8,7266.8,"Yes",0,0,0]
[null,19,"Horn, Bryan","Crew Foreman","Vendor No 6","Horn",913223259,"2018-10-14","2018-10-20",{"$f":"IF(AND(H43>='A - Contractor Summary'!$C$36,I43<='A - Contractor Summary'!$C$42),\"Yes\",\"No\")","v":"No"},{"$f":"VLOOKUP($D43,'C.1 - Rate Sheets'!B:I,2,FALSE)","v":56.8},{"$f":"VLOOKUP($D43,'C.1 - Rate Sheets'!B:I,3,FALSE)","v":76.7},{"$f":"VLOOKUP($D43,'C.1 - Rate Sheets'!B:I,4,FALSE)","v":90.9},{"$f":"VLOOKUP($D43,'C.1 - Rate Sheets'!B:I,5,FALSE)","v":0},null,null,null,null,0,40,60,18,null,118,null,null,null,null,0,null,null,null,null,0,null,null,null,null,0,null,null,null,null,null,40,60,18,0,118,2272,4602,1636.2,0,8510.2000000000007,8510.2000000000007,"Yes",0,0,0]
[null,20,"Cook, Ronald","Tree Trimmer","Vendor No 6","Horn",913223259,"2018-10-14","2018-10-20",{"$f":"IF(AND(H44>='A - Contractor Summary'!$C$36,I44<='A - Contractor Summary'!$C$42),\"Yes\",\"No\")","v":"No"},{"$f":"VLOOKUP($D44,'C.1 - Rate Sheets'!B:I,2,FALSE)","v":48.5},{"$f":"VLOOKUP($D44,'C.1 - Rate Sheets'!B:I,3,FALSE)","v":65.5},{"$f":"VLOOKUP($D44,'C.1 - Rate Sheets'!B:I,4,FALSE)","v":77.599999999999994},{"$f":"VLOOKUP($D44,'C.1 - Rate Sheets'!B:I,5,FALSE)","v":0},null,null,null,null,0,40,60,18,null,118,null,null,null,null,0,null,null,null,null,0,null,null,null,null,0,null,null,null,null,null,40,60,18,0,118,1940,3930,1396.8,0,7266.8,7266.8,"Yes",0,0,0]
[null,21,"Roy Riddle","Supervisor","Vendor No 6","Riddle",913223316,"2018-10-17","2018-10-20",{"$f":"IF(AND(H45>='A - Contractor Summary'!$C$36,I45<='A - Contractor Summary'!$C$42),\"Yes\",\"No\")","v":"No"},{"$f":"VLOOKUP($D45,'C.1 - Rate Sheets'!B:I,2,FALSE)","v":74},{"$f":"VLOOKUP($D45,'C.1 - Rate Sheets'!B:I,3,FALSE)","v":99.9},{"$f":"VLOOKUP($D45,'C.1 - Rate Sheets'!B:I,4,FALSE)","v":118.4},{"$f":"VLOOKUP($D45,'C.1 - Rate Sheets'!B:I,5,FALSE)","v":0},null,null,null,null,0,24,40,null,null,64,null,null,null,null,0,null,null,null,null,0,null,null,null,null,0,null,null,null,null,null,24,40,0,0,64,1776,3996,0,0,5772,5772,"Yes",0,0,0]
[null,22,"John Weaver","Crew Foreman","Vendor No 6","Riddle",913223316,"2018-10-17","2018-10-20",{"$f":"IF(AND(H46>='A - Contractor Summary'!$C$36,I46<='A - Contractor Summary'!$C$42),\"Yes\",\"No\")","v":"No"},{"$f":"VLOOKUP($D46,'C.1 - Rate Sheets'!B:I,2,FALSE)","v":56.8},{"$f":"VLOOKUP($D46,'C.1 - Rate Sheets'!B:I,3,FALSE)","v":76.7},{"$f":"VLOOKUP($D46,'C.1 - Rate Sheets'!B:I,4,FALSE)","v":90.9},{"$f":"VLOOKUP($D46,'C.1 - Rate Sheets'!B:I,5,FALSE)","v":0},null,null,null,null,0,24,40,null,null,64,null,null,null,null,0,null,null,null,null,0,null,null,null,null,0,null,null,null,null,null,24,40,0,0,64,1363.1999999999998,3068,0,0,4431.2,4431.2,"Yes",0,0,0]
[null,23,"Mason Johnson","Tree Trimmer","Vendor No 6","Riddle",913223316,"2018-10-17","2018-10-20",{"$f":"IF(AND(H47>='A - Contractor Summary'!$C$36,I47<='A - Contractor Summary'!$C$42),\"Yes\",\"No\")","v":"No"},{"$f":"VLOOKUP($D47,'C.1 - Rate Sheets'!B:I,2,FALSE)","v":48.5},{"$f":"VLOOKUP($D47,'C.1 - Rate Sheets'!B:I,3,FALSE)","v":65.5},{"$f":"VLOOKUP($D47,'C.1 - Rate Sheets'!B:I,4,FALSE)","v":77.599999999999994},{"$f":"VLOOKUP($D47,'C.1 - Rate Sheets'!B:I,5,FALSE)","v":0},null,null,null,null,0,24,40,null,null,64,null,null,null,null,0,null,null,null,null,0,null,null,null,null,0,null,null,null,null,null,24,40,0,0,64,1164,2620,0,0,3784,3784,"Yes",0,0,0]
[null,23,"Austin Story","Tree Trimmer","Vendor No 6","Riddle",913223316,"2018-10-17","2018-10-20",{"$f":"IF(AND(H48>='A - Contractor Summary'!$C$36,I48<='A - Contractor Summary'!$C$42),\"Yes\",\"No\")","v":"No"},{"$f":"VLOOKUP($D48,'C.1 - Rate Sheets'!B:I,2,FALSE)","v":48.5},{"$f":"VLOOKUP($D48,'C.1 - Rate Sheets'!B:I,3,FALSE)","v":65.5},{"$f":"VLOOKUP($D48,'C.1 - Rate Sheets'!B:I,4,FALSE)","v":77.599999999999994},{"$f":"VLOOKUP($D48,'C.1 - Rate Sheets'!B:I,5,FALSE)","v":0},null,null,null,null,0,24,40,null,null,64,null,null,null,null,0,null,null,null,null,0,null,null,null,null,0,null,null,null,null,null,24,40,0,0,64,1164,2620,0,0,3784,3784,"Yes",0,0,0]
[null,23,"Johnathan Gardner","Tree Trimmer","Vendor No 6","Riddle",913223316,"2018-10-17","2018-10-20",{"$f":"IF(AND(H49>='A - Contractor Summary'!$C$36,I49<='A - Contractor Summary'!$C$42),\"Yes\",\"No\")","v":"No"},{"$f":"VLOOKUP($D49,'C.1 - Rate Sheets'!B:I,2,FALSE)","v":48.5},{"$f":"VLOOKUP($D49,'C.1 - Rate Sheets'!B:I,3,FALSE)","v":65.5},{"$f":"VLOOKUP($D49,'C.1 - Rate Sheets'!B:I,4,FALSE)","v":77.599999999999994},{"$f":"VLOOKUP($D49,'C.1 - Rate Sheets'!B:I,5,FALSE)","v":0},null,null,null,null,{"$f":"SUM(O49:R49)","v":0},24,40,null,null,{"$f":"SUM(T49:W49)","v":64},null,null,null,null,{"$f":"SUM(Y49:AB49)","v":0},null,null,null,null,{"$f":"SUM(AD49:AG49)","v":0},null,null,null,null,{"$f":"SUM(AI49:AL49)","v":0},null,null,null,null,null,{"$f":"SUM(O49,T49,Y49,AD49,AI49,AN49)","v":24},{"$f":"SUM(P49,U49,Z49,AE49,AJ49,AO49)","v":40},{"$f":"SUM(Q49,V49,AA49,AF49,AK49,AP49)","v":0},{"$f":"SUM(R49,W49,AB49,AG49,AL49,AQ49)","v":0},{"$f":"SUM(AS49:AV49)","v":64},{"$f":"AS49*K49","v":1164},{"$f":"AT49*L49","v":2620},{"$f":"AU49*M49","v":0},{"$f":"AV49*N49","v":0},{"$f":"SUM(AX49:BA49)","v":3784},{"$f":"BB49-BE49","v":3784},"Yes",0,0,0]
[null,23,"Ryan Caldwell","Tree Trimmer","Vendor No 6","Riddle",913223316,"2018-10-17","2018-10-20",{"$f":"IF(AND(H50>='A - Contractor Summary'!$C$36,I50<='A - Contractor Summary'!$C$42),\"Yes\",\"No\")","v":"No"},{"$f":"VLOOKUP($D50,'C.1 - Rate Sheets'!B:I,2,FALSE)","v":48.5},{"$f":"VLOOKUP($D50,'C.1 - Rate Sheets'!B:I,3,FALSE)","v":65.5},{"$f":"VLOOKUP($D50,'C.1 - Rate Sheets'!B:I,4,FALSE)","v":77.599999999999994},{"$f":"VLOOKUP($D50,'C.1 - Rate Sheets'!B:I,5,FALSE)","v":0},null,null,null,null,0,8,8,null,null,16,null,null,null,null,0,null,null,null,null,0,null,null,null,null,0,null,null,null,null,null,8,8,0,0,16,388,524,0,0,912,912,"Yes",0,0,0]
[null,24,"Gary Williams","Crew Foreman","Vendor No 6","Williams",913231723,"2018-10-17","2018-10-20",{"$f":"IF(AND(H51>='A - Contractor Summary'!$C$36,I51<='A - Contractor Summary'!$C$42),\"Yes\",\"No\")","v":"No"},{"$f":"VLOOKUP($D51,'C.1 - Rate Sheets'!B:I,2,FALSE)","v":56.8},{"$f":"VLOOKUP($D51,'C.1 - Rate Sheets'!B:I,3,FALSE)","v":76.7},{"$f":"VLOOKUP($D51,'C.1 - Rate Sheets'!B:I,4,FALSE)","v":90.9},{"$f":"VLOOKUP($D51,'C.1 - Rate Sheets'!B:I,5,FALSE)","v":0},null,null,null,null,0,20,44,null,null,64,null,null,null,null,0,null,null,null,null,0,null,null,null,null,0,null,null,null,null,null,20,44,0,0,64,1136,3374.8,0,0,4510.8,4510.8,"Yes",0,0,0]
[null,25,"Jonathan Swinson","Tree Trimmer","Vendor No 6","Williams",913231723,"2018-10-17","2018-10-20",{"$f":"IF(AND(H52>='A - Contractor Summary'!$C$36,I52<='A - Contractor Summary'!$C$42),\"Yes\",\"No\")","v":"No"},{"$f":"VLOOKUP($D52,'C.1 - Rate Sheets'!B:I,2,FALSE)","v":48.5},{"$f":"VLOOKUP($D52,'C.1 - Rate Sheets'!B:I,3,FALSE)","v":65.5},{"$f":"VLOOKUP($D52,'C.1 - Rate Sheets'!B:I,4,FALSE)","v":77.599999999999994},{"$f":"VLOOKUP($D52,'C.1 - Rate Sheets'!B:I,5,FALSE)","v":0},null,null,null,null,0,20,44,null,null,64,null,null,null,null,0,null,null,null,null,0,null,null,null,null,0,null,null,null,null,null,20,44,0,0,64,970,2882,0,0,3852,3852,"Yes",0,0,0]
[null,26,"Jeremiah Roberts","Ground Person","Vendor No 6","Williams",913231723,"2018-10-17","2018-10-20",{"$f":"IF(AND(H53>='A - Contractor Summary'!$C$36,I53<='A - Contractor Summary'!$C$42),\"Yes\",\"No\")","v":"No"},{"$f":"VLOOKUP($D53,'C.1 - Rate Sheets'!B:I,2,FALSE)","v":40},{"$f":"VLOOKUP($D53,'C.1 - Rate Sheets'!B:I,3,FALSE)","v":54},{"$f":"VLOOKUP($D53,'C.1 - Rate Sheets'!B:I,4,FALSE)","v":64},{"$f":"VLOOKUP($D53,'C.1 - Rate Sheets'!B:I,5,FALSE)","v":0},null,null,null,null,0,20,44,null,null,64,null,null,null,null,0,null,null,null,null,0,null,null,null,null,0,null,null,null,null,null,20,44,0,0,64,800,2376,0,0,3176,3176,"Yes",0,0,0]
[null,27,"Llewellyn Wyett","Crew Foreman","Vendor No 6","Wyett",913231724,"2018-10-17","2018-10-20",{"$f":"IF(AND(H54>='A - Contractor Summary'!$C$36,I54<='A - Contractor Summary'!$C$42),\"Yes\",\"No\")","v":"No"},{"$f":"VLOOKUP($D54,'C.1 - Rate Sheets'!B:I,2,FALSE)","v":56.8},{"$f":"VLOOKUP($D54,'C.1 - Rate Sheets'!B:I,3,FALSE)","v":76.7},{"$f":"VLOOKUP($D54,'C.1 - Rate Sheets'!B:I,4,FALSE)","v":90.9},{"$f":"VLOOKUP($D54,'C.1 - Rate Sheets'!B:I,5,FALSE)","v":0},null,null,null,null,0,20,44,null,null,64,null,null,null,null,0,null,null,null,null,0,null,null,null,null,0,null,null,null,null,null,20,44,0,0,64,1136,3374.8,0,0,4510.8,4510.8,"Yes",0,0,0]
[null,28,"Christopher Scarborugh","Tree Trimmer","Vendor No 6","Wyett",913231724,"2018-10-17","2018-10-20",{"$f":"IF(AND(H55>='A - Contractor Summary'!$C$36,I55<='A - Contractor Summary'!$C$42),\"Yes\",\"No\")","v":"No"},{"$f":"VLOOKUP($D55,'C.1 - Rate Sheets'!B:I,2,FALSE)","v":48.5},{"$f":"VLOOKUP($D55,'C.1 - Rate Sheets'!B:I,3,FALSE)","v":65.5},{"$f":"VLOOKUP($D55,'C.1 - Rate Sheets'!B:I,4,FALSE)","v":77.599999999999994},{"$f":"VLOOKUP($D55,'C.1 - Rate Sheets'!B:I,5,FALSE)","v":0},null,null,null,null,0,20,44,null,null,64,null,null,null,null,0,null,null,null,null,0,null,null,null,null,0,null,null,null,null,null,20,44,0,0,64,970,2882,0,0,3852,3852,"Yes",0,0,0]
[null,29,"Colton Johnson","Ground Person","Vendor No 6","Wyett",913231724,"2018-10-17","2018-10-20",{"$f":"IF(AND(H56>='A - Contractor Summary'!$C$36,I56<='A - Contractor Summary'!$C$42),\"Yes\",\"No\")","v":"No"},{"$f":"VLOOKUP($D56,'C.1 - Rate Sheets'!B:I,2,FALSE)","v":40},{"$f":"VLOOKUP($D56,'C.1 - Rate Sheets'!B:I,3,FALSE)","v":54},{"$f":"VLOOKUP($D56,'C.1 - Rate Sheets'!B:I,4,FALSE)","v":64},{"$f":"VLOOKUP($D56,'C.1 - Rate Sheets'!B:I,5,FALSE)","v":0},null,null,null,null,0,20,44,null,null,64,null,null,null,null,0,null,null,null,null,0,null,null,null,null,0,null,null,null,null,null,20,44,0,0,64,800,2376,0,0,3176,3176,"Yes",0,0,0]
[null,30,"Scott Duvall","Crew Foreman","Vendor No 6","Duvall",913231726,"2018-10-17","2018-10-20",{"$f":"IF(AND(H57>='A - Contractor Summary'!$C$36,I57<='A - Contractor Summary'!$C$42),\"Yes\",\"No\")","v":"No"},{"$f":"VLOOKUP($D57,'C.1 - Rate Sheets'!B:I,2,FALSE)","v":56.8},{"$f":"VLOOKUP($D57,'C.1 - Rate Sheets'!B:I,3,FALSE)","v":76.7},{"$f":"VLOOKUP($D57,'C.1 - Rate Sheets'!B:I,4,FALSE)","v":90.9},{"$f":"VLOOKUP($D57,'C.1 - Rate Sheets'!B:I,5,FALSE)","v":0},null,null,null,null,0,20,44,null,null,64,null,null,null,null,0,null,null,null,null,0,null,null,null,null,0,null,null,null,null,null,20,44,0,0,64,1136,3374.8,0,0,4510.8,4510.8,"Yes",0,0,0]
[null,31,"Jaron Weldon","Tree Trimmer","Vendor No 6","Duvall",913231726,"2018-10-17","2018-10-20",{"$f":"IF(AND(H58>='A - Contractor Summary'!$C$36,I58<='A - Contractor Summary'!$C$42),\"Yes\",\"No\")","v":"No"},{"$f":"VLOOKUP($D58,'C.1 - Rate Sheets'!B:I,2,FALSE)","v":48.5},{"$f":"VLOOKUP($D58,'C.1 - Rate Sheets'!B:I,3,FALSE)","v":65.5},{"$f":"VLOOKUP($D58,'C.1 - Rate Sheets'!B:I,4,FALSE)","v":77.599999999999994},{"$f":"VLOOKUP($D58,'C.1 - Rate Sheets'!B:I,5,FALSE)","v":0},null,null,null,null,0,20,44,null,null,64,null,null,null,null,0,null,null,null,null,0,null,null,null,null,0,null,null,null,null,null,20,44,0,0,64,970,2882,0,0,3852,3852,"Yes",0,0,0]
[null,32,"Devin Brinson","Ground Person","Vendor No 6","Duvall",913231726,"2018-10-17","2018-10-20",{"$f":"IF(AND(H59>='A - Contractor Summary'!$C$36,I59<='A - Contractor Summary'!$C$42),\"Yes\",\"No\")","v":"No"},{"$f":"VLOOKUP($D59,'C.1 - Rate Sheets'!B:I,2,FALSE)","v":40},{"$f":"VLOOKUP($D59,'C.1 - Rate Sheets'!B:I,3,FALSE)","v":54},{"$f":"VLOOKUP($D59,'C.1 - Rate Sheets'!B:I,4,FALSE)","v":64},{"$f":"VLOOKUP($D59,'C.1 - Rate Sheets'!B:I,5,FALSE)","v":0},null,null,null,null,0,20,44,null,null,64,null,null,null,null,0,null,null,null,null,0,null,null,null,null,0,null,null,null,null,null,20,44,0,0,64,800,2376,0,0,3176,3176,"Yes",0,0,0]
[null,33,"William Gray","Supervisor","Vendor No 6","Gray",913231727,"2018-10-17","2018-10-20",{"$f":"IF(AND(H60>='A - Contractor Summary'!$C$36,I60<='A - Contractor Summary'!$C$42),\"Yes\",\"No\")","v":"No"},{"$f":"VLOOKUP($D60,'C.1 - Rate Sheets'!B:I,2,FALSE)","v":74},{"$f":"VLOOKUP($D60,'C.1 - Rate Sheets'!B:I,3,FALSE)","v":99.9},{"$f":"VLOOKUP($D60,'C.1 - Rate Sheets'!B:I,4,FALSE)","v":118.4},{"$f":"VLOOKUP($D60,'C.1 - Rate Sheets'!B:I,5,FALSE)","v":0},null,null,null,null,0,20,44,null,null,64,null,null,null,null,0,null,null,null,null,0,null,null,null,null,0,null,null,null,null,null,20,44,0,0,64,1480,4395.6000000000004,0,0,5875.6,5875.6,"Yes",0,0,0]
[null,34,"Jose Gutierrez","Crew Foreman","Vendor No 6","Guitierrez",913231732,"2018-10-14","2018-10-20",{"$f":"IF(AND(H61>='A - Contractor Summary'!$C$36,I61<='A - Contractor Summary'!$C$42),\"Yes\",\"No\")","v":"No"},{"$f":"VLOOKUP($D61,'C.1 - Rate Sheets'!B:I,2,FALSE)","v":56.8},{"$f":"VLOOKUP($D61,'C.1 - Rate Sheets'!B:I,3,FALSE)","v":76.7},{"$f":"VLOOKUP($D61,'C.1 - Rate Sheets'!B:I,4,FALSE)","v":90.9},{"$f":"VLOOKUP($D61,'C.1 - Rate Sheets'!B:I,5,FALSE)","v":0},null,null,null,null,0,40,56,16,null,112,null,null,null,null,0,null,null,null,null,0,null,null,null,null,0,null,null,null,null,null,40,56,16,0,112,2272,4295.2,1454.4,0,8021.6,8021.6,"Yes",0,0,0]
[null,35,"Victor Lara","Tree Trimmer","Vendor No 6","Guitierrez",913231732,"2018-10-14","2018-10-20",{"$f":"IF(AND(H62>='A - Contractor Summary'!$C$36,I62<='A - Contractor Summary'!$C$42),\"Yes\",\"No\")","v":"No"},{"$f":"VLOOKUP($D62,'C.1 - Rate Sheets'!B:I,2,FALSE)","v":48.5},{"$f":"VLOOKUP($D62,'C.1 - Rate Sheets'!B:I,3,FALSE)","v":65.5},{"$f":"VLOOKUP($D62,'C.1 - Rate Sheets'!B:I,4,FALSE)","v":77.599999999999994},{"$f":"VLOOKUP($D62,'C.1 - Rate Sheets'!B:I,5,FALSE)","v":0},null,null,null,null,0,40,52,16,null,108,null,null,null,null,0,null,null,null,null,0,null,null,null,null,0,null,null,null,null,null,40,52,16,0,108,1940,3406,1241.5999999999999,0,6587.6,6587.6,"Yes",0,0,0]
[null,35,"Phillip Nix","Tree Trimmer","Vendor No 6","Guitierrez",913231732,"2018-10-14","2018-10-20",{"$f":"IF(AND(H63>='A - Contractor Summary'!$C$36,I63<='A - Contractor Summary'!$C$42),\"Yes\",\"No\")","v":"No"},{"$f":"VLOOKUP($D63,'C.1 - Rate Sheets'!B:I,2,FALSE)","v":48.5},{"$f":"VLOOKUP($D63,'C.1 - Rate Sheets'!B:I,3,FALSE)","v":65.5},{"$f":"VLOOKUP($D63,'C.1 - Rate Sheets'!B:I,4,FALSE)","v":77.599999999999994},{"$f":"VLOOKUP($D63,'C.1 - Rate Sheets'!B:I,5,FALSE)","v":0},null,null,null,null,{"$f":"SUM(O63:R63)","v":0},40,52,16,null,{"$f":"SUM(T63:W63)","v":108},null,null,null,null,{"$f":"SUM(Y63:AB63)","v":0},null,null,null,null,{"$f":"SUM(AD63:AG63)","v":0},null,null,null,null,{"$f":"SUM(AI63:AL63)","v":0},null,null,null,null,null,{"$f":"SUM(O63,T63,Y63,AD63,AI63,AN63)","v":40},{"$f":"SUM(P63,U63,Z63,AE63,AJ63,AO63)","v":52},{"$f":"SUM(Q63,V63,AA63,AF63,AK63,AP63)","v":16},{"$f":"SUM(R63,W63,AB63,AG63,AL63,AQ63)","v":0},{"$f":"SUM(AS63:AV63)","v":108},{"$f":"AS63*K63","v":1940},{"$f":"AT63*L63","v":3406},{"$f":"AU63*M63","v":1241.5999999999999},{"$f":"AV63*N63","v":0},{"$f":"SUM(AX63:BA63)","v":6587.6},{"$f":"BB63-BE63","v":6587.6},"Yes",0,0,0]
[null,35,"Andrea Tapia","Tree Trimmer","Vendor No 6","Guitierrez",913231732,"2018-10-14","2018-10-20",{"$f":"IF(AND(H64>='A - Contractor Summary'!$C$36,I64<='A - Contractor Summary'!$C$42),\"Yes\",\"No\")","v":"No"},{"$f":"VLOOKUP($D64,'C.1 - Rate Sheets'!B:I,2,FALSE)","v":48.5},{"$f":"VLOOKUP($D64,'C.1 - Rate Sheets'!B:I,3,FALSE)","v":65.5},{"$f":"VLOOKUP($D64,'C.1 - Rate Sheets'!B:I,4,FALSE)","v":77.599999999999994},{"$f":"VLOOKUP($D64,'C.1 - Rate Sheets'!B:I,5,FALSE)","v":0},null,null,null,null,0,40,52,16,null,108,null,null,null,null,0,null,null,null,null,0,null,null,null,null,0,null,null,null,null,null,40,52,16,0,108,1940,3406,1241.5999999999999,0,6587.6,6587.6,"Yes",0,0,0]
[null,35,"Jesus Jimenez","Tree Trimmer","Vendor No 6","Guitierrez",913231732,"2018-10-14","2018-10-20",{"$f":"IF(AND(H65>='A - Contractor Summary'!$C$36,I65<='A - Contractor Summary'!$C$42),\"Yes\",\"No\")","v":"No"},{"$f":"VLOOKUP($D65,'C.1 - Rate Sheets'!B:I,2,FALSE)","v":48.5},{"$f":"VLOOKUP($D65,'C.1 - Rate Sheets'!B:I,3,FALSE)","v":65.5},{"$f":"VLOOKUP($D65,'C.1 - Rate Sheets'!B:I,4,FALSE)","v":77.599999999999994},{"$f":"VLOOKUP($D65,'C.1 - Rate Sheets'!B:I,5,FALSE)","v":0},null,null,null,null,0,40,52,16,null,108,null,null,null,null,0,null,null,null,null,0,null,null,null,null,0,null,null,null,null,null,40,52,16,0,108,1940,3406,1241.5999999999999,0,6587.6,6587.6,"Yes",0,0,0]
[null,36,"Bowers, Michael","Supervisor","Vendor No 6","Bowers",913231733,"2018-10-14","2018-10-20",{"$f":"IF(AND(H66>='A - Contractor Summary'!$C$36,I66<='A - Contractor Summary'!$C$42),\"Yes\",\"No\")","v":"No"},{"$f":"VLOOKUP($D66,'C.1 - Rate Sheets'!B:I,2,FALSE)","v":74},{"$f":"VLOOKUP($D66,'C.1 - Rate Sheets'!B:I,3,FALSE)","v":99.9},{"$f":"VLOOKUP($D66,'C.1 - Rate Sheets'!B:I,4,FALSE)","v":118.4},{"$f":"VLOOKUP($D66,'C.1 - Rate Sheets'!B:I,5,FALSE)","v":0},null,null,null,null,0,40,56,16,null,112,null,null,null,null,0,null,null,null,null,0,null,null,null,null,0,null,null,null,null,null,40,56,16,0,112,2960,5594.4000000000005,1894.4,0,10448.800000000001,10448.800000000001,"Yes",0,0,0]
[null,37,"Harley, Terry","Crew Foreman","Vendor No 6","Harley",913231734,"2018-10-14","2018-10-20",{"$f":"IF(AND(H67>='A - Contractor Summary'!$C$36,I67<='A - Contractor Summary'!$C$42),\"Yes\",\"No\")","v":"No"},{"$f":"VLOOKUP($D67,'C.1 - Rate Sheets'!B:I,2,FALSE)","v":56.8},{"$f":"VLOOKUP($D67,'C.1 - Rate Sheets'!B:I,3,FALSE)","v":76.7},{"$f":"VLOOKUP($D67,'C.1 - Rate Sheets'!B:I,4,FALSE)","v":90.9},{"$f":"VLOOKUP($D67,'C.1 - Rate Sheets'!B:I,5,FALSE)","v":0},null,null,null,null,0,40,56,16,null,112,null,null,null,null,0,null,null,null,null,0,null,null,null,null,0,null,null,null,null,null,40,56,16,0,112,2272,4295.2,1454.4,0,8021.6,8021.6,"Yes",0,0,0]
[null,38,"Flores, Edgar","Tree Trimmer","Vendor No 6","Harley",913231734,"2018-10-14","2018-10-20",{"$f":"IF(AND(H68>='A - Contractor Summary'!$C$36,I68<='A - Contractor Summary'!$C$42),\"Yes\",\"No\")","v":"No"},{"$f":"VLOOKUP($D68,'C.1 - Rate Sheets'!B:I,2,FALSE)","v":48.5},{"$f":"VLOOKUP($D68,'C.1 - Rate Sheets'!B:I,3,FALSE)","v":65.5},{"$f":"VLOOKUP($D68,'C.1 - Rate Sheets'!B:I,4,FALSE)","v":77.599999999999994},{"$f":"VLOOKUP($D68,'C.1 - Rate Sheets'!B:I,5,FALSE)","v":0},null,null,null,null,0,40,56,16,null,112,null,null,null,null,0,null,null,null,null,0,null,null,null,null,0,null,null,null,null,null,40,56,16,0,112,1940,3668,1241.5999999999999,0,6849.6,6849.6,"Yes",0,0,0]
[null,39,"Robert Cardel","Crew Foreman","Vendor No 6","Cardel",913259237,"2018-10-17","2018-10-20",{"$f":"IF(AND(H69>='A - Contractor Summary'!$C$36,I69<='A - Contractor Summary'!$C$42),\"Yes\",\"No\")","v":"No"},{"$f":"VLOOKUP($D69,'C.1 - Rate Sheets'!B:I,2,FALSE)","v":56.8},{"$f":"VLOOKUP($D69,'C.1 - Rate Sheets'!B:I,3,FALSE)","v":76.7},{"$f":"VLOOKUP($D69,'C.1 - Rate Sheets'!B:I,4,FALSE)","v":90.9},{"$f":"VLOOKUP($D69,'C.1 - Rate Sheets'!B:I,5,FALSE)","v":0},null,null,null,null,0,24,36,null,null,60,null,null,null,null,0,null,null,null,null,0,null,null,null,null,0,null,null,null,null,null,24,36,0,0,60,1363.1999999999998,2761.2000000000003,0,0,4124.3999999999996,4124.3999999999996,"Yes",0,0,0]
[null,40,"cant read name","Tree Trimmer","Vendor No 6","Cardel",913259237,"2018-10-17","2018-10-20",{"$f":"IF(AND(H70>='A - Contractor Summary'!$C$36,I70<='A - Contractor Summary'!$C$42),\"Yes\",\"No\")","v":"No"},{"$f":"VLOOKUP($D70,'C.1 - Rate Sheets'!B:I,2,FALSE)","v":48.5},{"$f":"VLOOKUP($D70,'C.1 - Rate Sheets'!B:I,3,FALSE)","v":65.5},{"$f":"VLOOKUP($D70,'C.1 - Rate Sheets'!B:I,4,FALSE)","v":77.599999999999994},{"$f":"VLOOKUP($D70,'C.1 - Rate Sheets'!B:I,5,FALSE)","v":0},null,null,null,null,{"$f":"SUM(O70:R70)","v":0},24,36,null,null,{"$f":"SUM(T70:W70)","v":60},null,null,null,null,{"$f":"SUM(Y70:AB70)","v":0},null,null,null,null,{"$f":"SUM(AD70:AG70)","v":0},null,null,null,null,{"$f":"SUM(AI70:AL70)","v":0},null,null,null,null,null,{"$f":"SUM(O70,T70,Y70,AD70,AI70,AN70)","v":24},{"$f":"SUM(P70,U70,Z70,AE70,AJ70,AO70)","v":36},{"$f":"SUM(Q70,V70,AA70,AF70,AK70,AP70)","v":0},{"$f":"SUM(R70,W70,AB70,AG70,AL70,AQ70)","v":0},{"$f":"SUM(AS70:AV70)","v":60},{"$f":"AS70*K70","v":1164},{"$f":"AT70*L70","v":2358},{"$f":"AU70*M70","v":0},{"$f":"AV70*N70","v":0},{"$f":"SUM(AX70:BA70)","v":3522},{"$f":"BB70-BE70","v":3522},"Yes",0,0,0]
[null,40,"Kevin Wilson","Tree Trimmer","Vendor No 6","Cardel",913259237,"2018-10-17","2018-10-20",{"$f":"IF(AND(H71>='A - Contractor Summary'!$C$36,I71<='A - Contractor Summary'!$C$42),\"Yes\",\"No\")","v":"No"},{"$f":"VLOOKUP($D71,'C.1 - Rate Sheets'!B:I,2,FALSE)","v":48.5},{"$f":"VLOOKUP($D71,'C.1 - Rate Sheets'!B:I,3,FALSE)","v":65.5},{"$f":"VLOOKUP($D71,'C.1 - Rate Sheets'!B:I,4,FALSE)","v":77.599999999999994},{"$f":"VLOOKUP($D71,'C.1 - Rate Sheets'!B:I,5,FALSE)","v":0},null,null,null,null,0,24,36,null,null,60,null,null,null,null,0,null,null,null,null,0,null,null,null,null,0,null,null,null,null,null,24,36,0,0,60,1164,2358,0,0,3522,3522,"Yes",0,0,0]
[null,41,"James Hardy","Crew Foreman","Vendor No 6","Hardy",913259242,"2018-10-17","2018-10-20",{"$f":"IF(AND(H72>='A - Contractor Summary'!$C$36,I72<='A - Contractor Summary'!$C$42),\"Yes\",\"No\")","v":"No"},{"$f":"VLOOKUP($D72,'C.1 - Rate Sheets'!B:I,2,FALSE)","v":56.8},{"$f":"VLOOKUP($D72,'C.1 - Rate Sheets'!B:I,3,FALSE)","v":76.7},{"$f":"VLOOKUP($D72,'C.1 - Rate Sheets'!B:I,4,FALSE)","v":90.9},{"$f":"VLOOKUP($D72,'C.1 - Rate Sheets'!B:I,5,FALSE)","v":0},null,null,null,null,0,24,36,null,null,60,null,null,null,null,0,null,null,null,null,0,null,null,null,null,0,null,null,null,null,null,24,36,0,0,60,1363.1999999999998,2761.2000000000003,0,0,4124.3999999999996,4124.3999999999996,"Yes",0,0,0]
[null,42,"cant read name","Tree Trimmer","Vendor No 6","Hardy",913259242,"2018-10-17","2018-10-20",{"$f":"IF(AND(H73>='A - Contractor Summary'!$C$36,I73<='A - Contractor Summary'!$C$42),\"Yes\",\"No\")","v":"No"},{"$f":"VLOOKUP($D73,'C.1 - Rate Sheets'!B:I,2,FALSE)","v":48.5},{"$f":"VLOOKUP($D73,'C.1 - Rate Sheets'!B:I,3,FALSE)","v":65.5},{"$f":"VLOOKUP($D73,'C.1 - Rate Sheets'!B:I,4,FALSE)","v":77.599999999999994},{"$f":"VLOOKUP($D73,'C.1 - Rate Sheets'!B:I,5,FALSE)","v":0},null,null,null,null,{"$f":"SUM(O73:R73)","v":0},24,28,null,null,{"$f":"SUM(T73:W73)","v":52},null,null,null,null,{"$f":"SUM(Y73:AB73)","v":0},null,null,null,null,{"$f":"SUM(AD73:AG73)","v":0},null,null,null,null,{"$f":"SUM(AI73:AL73)","v":0},null,null,null,null,null,{"$f":"SUM(O73,T73,Y73,AD73,AI73,AN73)","v":24},{"$f":"SUM(P73,U73,Z73,AE73,AJ73,AO73)","v":28},{"$f":"SUM(Q73,V73,AA73,AF73,AK73,AP73)","v":0},{"$f":"SUM(R73,W73,AB73,AG73,AL73,AQ73)","v":0},{"$f":"SUM(AS73:AV73)","v":52},{"$f":"AS73*K73","v":1164},{"$f":"AT73*L73","v":1834},{"$f":"AU73*M73","v":0},{"$f":"AV73*N73","v":0},{"$f":"SUM(AX73:BA73)","v":2998},{"$f":"BB73-BE73","v":2998},"Yes",0,0,0]
[null,42,"cant read name","Tree Trimmer","Vendor No 6","Hardy",913259242,"2018-10-17","2018-10-20",{"$f":"IF(AND(H74>='A - Contractor Summary'!$C$36,I74<='A - Contractor Summary'!$C$42),\"Yes\",\"No\")","v":"No"},{"$f":"VLOOKUP($D74,'C.1 - Rate Sheets'!B:I,2,FALSE)","v":48.5},{"$f":"VLOOKUP($D74,'C.1 - Rate Sheets'!B:I,3,FALSE)","v":65.5},{"$f":"VLOOKUP($D74,'C.1 - Rate Sheets'!B:I,4,FALSE)","v":77.599999999999994},{"$f":"VLOOKUP($D74,'C.1 - Rate Sheets'!B:I,5,FALSE)","v":0},null,null,null,null,0,24,28,null,null,52,null,null,null,null,0,null,null,null,null,0,null,null,null,null,0,null,null,null,null,null,24,28,0,0,52,1164,1834,0,0,2998,2998,"Yes",0,0,0]
[null,43,"Osbany Marejon-Cruz","Supervisor","Vendor No 6","Morejon-Cruz",913259373,"2018-10-18","2018-10-20",{"$f":"IF(AND(H75>='A - Contractor Summary'!$C$36,I75<='A - Contractor Summary'!$C$42),\"Yes\",\"No\")","v":"No"},{"$f":"VLOOKUP($D75,'C.1 - Rate Sheets'!B:I,2,FALSE)","v":74},{"$f":"VLOOKUP($D75,'C.1 - Rate Sheets'!B:I,3,FALSE)","v":99.9},{"$f":"VLOOKUP($D75,'C.1 - Rate Sheets'!B:I,4,FALSE)","v":118.4},{"$f":"VLOOKUP($D75,'C.1 - Rate Sheets'!B:I,5,FALSE)","v":0},null,null,null,null,{"$f":"SUM(O75:R75)","v":0},20,27,null,null,{"$f":"SUM(T75:W75)","v":47},null,null,null,null,{"$f":"SUM(Y75:AB75)","v":0},null,null,null,null,{"$f":"SUM(AD75:AG75)","v":0},null,null,null,null,{"$f":"SUM(AI75:AL75)","v":0},null,null,null,null,null,{"$f":"SUM(O75,T75,Y75,AD75,AI75,AN75)","v":20},{"$f":"SUM(P75,U75,Z75,AE75,AJ75,AO75)","v":27},{"$f":"SUM(Q75,V75,AA75,AF75,AK75,AP75)","v":0},{"$f":"SUM(R75,W75,AB75,AG75,AL75,AQ75)","v":0},{"$f":"SUM(AS75:AV75)","v":47},{"$f":"AS75*K75","v":1480},{"$f":"AT75*L75","v":2697.3},{"$f":"AU75*M75","v":0},{"$f":"AV75*N75","v":0},{"$f":"SUM(AX75:BA75)","v":4177.3},{"$f":"BB75-BE75","v":4177.3},"Yes",0,0,0,1]
[null,43,"Yohandy Cruiz","Supervisor","Vendor No 6","Morejon-Cruz",913259373,"2018-10-18","2018-10-20",{"$f":"IF(AND(H76>='A - Contractor Summary'!$C$36,I76<='A - Contractor Summary'!$C$42),\"Yes\",\"No\")","v":"No"},{"$f":"VLOOKUP($D76,'C.1 - Rate Sheets'!B:I,2,FALSE)","v":74},{"$f":"VLOOKUP($D76,'C.1 - Rate Sheets'!B:I,3,FALSE)","v":99.9},{"$f":"VLOOKUP($D76,'C.1 - Rate Sheets'!B:I,4,FALSE)","v":118.4},{"$f":"VLOOKUP($D76,'C.1 - Rate Sheets'!B:I,5,FALSE)","v":0},null,null,null,null,0,20,27,null,null,47,null,null,null,null,0,null,null,null,null,0,null,null,null,null,0,null,null,null,null,null,20,27,0,0,47,1480,2697.3,0,0,4177.3,4177.3,"Yes",0,0,0,1]
[null,44,"Kallmayer, David","Crew Foreman","Vendor No 6","Kallmayer",913281772,"2018-10-14","2018-10-20",{"$f":"IF(AND(H77>='A - Contractor Summary'!$C$36,I77<='A - Contractor Summary'!$C$42),\"Yes\",\"No\")","v":"No"},{"$f":"VLOOKUP($D77,'C.1 - Rate Sheets'!B:I,2,FALSE)","v":56.8},{"$f":"VLOOKUP($D77,'C.1 - Rate Sheets'!B:I,3,FALSE)","v":76.7},{"$f":"VLOOKUP($D77,'C.1 - Rate Sheets'!B:I,4,FALSE)","v":90.9},{"$f":"VLOOKUP($D77,'C.1 - Rate Sheets'!B:I,5,FALSE)","v":0},null,null,null,null,0,40,72,null,null,112,null,null,null,null,0,null,null,null,null,0,null,null,null,null,0,null,null,null,null,null,40,72,0,0,112,2272,5522.4000000000005,0,0,7794.4000000000005,7794.4000000000005,"Yes",0,0,0]
[null,45,"Sansom, James","Ground Person","Vendor No 6","Kallmayer",913281772,"2018-10-14","2018-10-20",{"$f":"IF(AND(H78>='A - Contractor Summary'!$C$36,I78<='A - Contractor Summary'!$C$42),\"Yes\",\"No\")","v":"No"},{"$f":"VLOOKUP($D78,'C.1 - Rate Sheets'!B:I,2,FALSE)","v":40},{"$f":"VLOOKUP($D78,'C.1 - Rate Sheets'!B:I,3,FALSE)","v":54},{"$f":"VLOOKUP($D78,'C.1 - Rate Sheets'!B:I,4,FALSE)","v":64},{"$f":"VLOOKUP($D78,'C.1 - Rate Sheets'!B:I,5,FALSE)","v":0},null,null,null,null,0,40,72,null,null,112,null,null,null,null,0,null,null,null,null,0,null,null,null,null,0,null,null,null,null,null,40,72,0,0,112,1600,3888,0,0,5488,5488,"Yes",0,0,0]
[null,46,"Tim Cheever","On-Site Safety Coordinator","Vendor No 6","Cheever",913293312,"2018-10-14","2018-10-18",{"$f":"IF(AND(H79>='A - Contractor Summary'!$C$36,I79<='A - Contractor Summary'!$C$42),\"Yes\",\"No\")","v":"No"},{"$f":"VLOOKUP($D79,'C.1 - Rate Sheets'!B:I,2,FALSE)","v":65},{"$f":"VLOOKUP($D79,'C.1 - Rate Sheets'!B:I,3,FALSE)","v":65},{"$f":"VLOOKUP($D79,'C.1 - Rate Sheets'!B:I,4,FALSE)","v":65},{"$f":"VLOOKUP($D79,'C.1 - Rate Sheets'!B:I,5,FALSE)","v":0},null,null,null,null,0,32,24,12,null,68,null,null,null,null,0,null,null,null,null,0,null,null,null,null,0,null,null,null,null,null,32,24,12,0,68,2080,1560,780,0,4420,4420,"Yes",0,0,0]
[null,47,"Kerry McNamara","On-Site Safety Coordinator","Vendor No 6","McNamee",913293313,"2018-10-14","2018-10-20",{"$f":"IF(AND(H80>='A - Contractor Summary'!$C$36,I80<='A - Contractor Summary'!$C$42),\"Yes\",\"No\")","v":"No"},{"$f":"VLOOKUP($D80,'C.1 - Rate Sheets'!B:I,2,FALSE)","v":65},{"$f":"VLOOKUP($D80,'C.1 - Rate Sheets'!B:I,3,FALSE)","v":65},{"$f":"VLOOKUP($D80,'C.1 - Rate Sheets'!B:I,4,FALSE)","v":65},{"$f":"VLOOKUP($D80,'C.1 - Rate Sheets'!B:I,5,FALSE)","v":0},null,null,null,null,0,40,42,12,null,94,null,null,null,null,0,null,null,null,null,0,null,null,null,null,0,null,null,null,null,null,40,42,12,0,94,2600,2730,780,0,6110,6110,"Yes",0,0,0]
[null,48,"Robert Ellis","On-Site Safety Coordinator","Vendor No 6","Ellis",913293314,"2018-10-17","2018-10-20",{"$f":"IF(AND(H81>='A - Contractor Summary'!$C$36,I81<='A - Contractor Summary'!$C$42),\"Yes\",\"No\")","v":"No"},{"$f":"VLOOKUP($D81,'C.1 - Rate Sheets'!B:I,2,FALSE)","v":65},{"$f":"VLOOKUP($D81,'C.1 - Rate Sheets'!B:I,3,FALSE)","v":65},{"$f":"VLOOKUP($D81,'C.1 - Rate Sheets'!B:I,4,FALSE)","v":65},{"$f":"VLOOKUP($D81,'C.1 - Rate Sheets'!B:I,5,FALSE)","v":0},null,null,null,null,0,24,32,null,null,56,null,null,null,null,0,null,null,null,null,0,null,null,null,null,0,null,null,null,null,null,24,32,0,0,56,1560,2080,0,0,3640,3640,"Yes",0,0,0]
[null,49,"Kenny Rowe","On-Site Safety Coordinator","Vendor No 6","Rowe",913293315,"2018-10-14","2018-10-20",{"$f":"IF(AND(H82>='A - Contractor Summary'!$C$36,I82<='A - Contractor Summary'!$C$42),\"Yes\",\"No\")","v":"No"},{"$f":"VLOOKUP($D82,'C.1 - Rate Sheets'!B:I,2,FALSE)","v":65},{"$f":"VLOOKUP($D82,'C.1 - Rate Sheets'!B:I,3,FALSE)","v":65},{"$f":"VLOOKUP($D82,'C.1 - Rate Sheets'!B:I,4,FALSE)","v":65},{"$f":"VLOOKUP($D82,'C.1 - Rate Sheets'!B:I,5,FALSE)","v":0},null,null,null,null,0,8,16,14,null,38,null,null,null,null,0,null,null,null,null,0,null,null,null,null,0,null,null,null,null,null,8,16,14,0,38,520,1040,910,0,2470,2470,"Yes",0,0,0]
[null,50,"Harold Danielson","On-Site Safety Coordinator","Vendor No 6","Danielson",913293316,"2018-10-20","2018-10-20",{"$f":"IF(AND(H83>='A - Contractor Summary'!$C$36,I83<='A - Contractor Summary'!$C$42),\"Yes\",\"No\")","v":"No"},{"$f":"VLOOKUP($D83,'C.1 - Rate Sheets'!B:I,2,FALSE)","v":65},{"$f":"VLOOKUP($D83,'C.1 - Rate Sheets'!B:I,3,FALSE)","v":65},{"$f":"VLOOKUP($D83,'C.1 - Rate Sheets'!B:I,4,FALSE)","v":65},{"$f":"VLOOKUP($D83,'C.1 - Rate Sheets'!B:I,5,FALSE)","v":0},null,null,null,null,0,14,null,null,null,14,null,null,null,null,0,null,null,null,null,0,null,null,null,null,0,null,null,null,null,null,14,0,0,0,14,910,0,0,0,910,910,"Yes",0,0,0]
[null,51,"Kenny Rowe","On-Site Safety Coordinator","Vendor No 6","Rowe",913301063,"2018-10-28","2018-11-02",{"$f":"IF(AND(H84>='A - Contractor Summary'!$C$36,I84<='A - Contractor Summary'!$C$42),\"Yes\",\"No\")","v":"No"},{"$f":"VLOOKUP($D84,'C.1 - Rate Sheets'!B:I,2,FALSE)","v":65},{"$f":"VLOOKUP($D84,'C.1 - Rate Sheets'!B:I,3,FALSE)","v":65},{"$f":"VLOOKUP($D84,'C.1 - Rate Sheets'!B:I,4,FALSE)","v":65},{"$f":"VLOOKUP($D84,'C.1 - Rate Sheets'!B:I,5,FALSE)","v":0},null,null,null,null,0,null,null,null,null,0,null,null,null,null,0,40,30,14,null,84,null,null,null,null,0,null,null,null,null,null,40,30,14,0,84,2600,1950,910,0,5460,5460,"Yes",0,0,0]
[null,52,"Bradley Gonzalez","On-Site Safety Coordinator","Vendor No 6","Gonzales",913301070,"2018-10-20","2018-10-20",{"$f":"IF(AND(H85>='A - Contractor Summary'!$C$36,I85<='A - Contractor Summary'!$C$42),\"Yes\",\"No\")","v":"No"},{"$f":"VLOOKUP($D85,'C.1 - Rate Sheets'!B:I,2,FALSE)","v":65},{"$f":"VLOOKUP($D85,'C.1 - Rate Sheets'!B:I,3,FALSE)","v":65},{"$f":"VLOOKUP($D85,'C.1 - Rate Sheets'!B:I,4,FALSE)","v":65},{"$f":"VLOOKUP($D85,'C.1 - Rate Sheets'!B:I,5,FALSE)","v":0},null,null,null,null,0,null,12,null,null,12,null,null,null,null,0,null,null,null,null,0,null,null,null,null,0,null,null,null,null,null,0,12,0,0,12,0,780,0,0,780,780,"Yes",0,0,0]
[null,53,"Random Palmer","On-Site Safety Coordinator","Vendor No 6","Palmer",913301071,"2018-10-19","2018-10-20",{"$f":"IF(AND(H86>='A - Contractor Summary'!$C$36,I86<='A - Contractor Summary'!$C$42),\"Yes\",\"No\")","v":"No"},{"$f":"VLOOKUP($D86,'C.1 - Rate Sheets'!B:I,2,FALSE)","v":65},{"$f":"VLOOKUP($D86,'C.1 - Rate Sheets'!B:I,3,FALSE)","v":65},{"$f":"VLOOKUP($D86,'C.1 - Rate Sheets'!B:I,4,FALSE)","v":65},{"$f":"VLOOKUP($D86,'C.1 - Rate Sheets'!B:I,5,FALSE)","v":0},null,null,null,null,0,8,16,null,null,24,null,null,null,null,0,null,null,null,null,0,null,null,null,null,0,null,null,null,null,null,8,16,0,0,24,520,1040,0,0,1560,1560,"Yes",0,0,0]
[null,54,"Joseph Pate","Supervisor","Vendor No 6","Pate",913346146,"2018-10-14","2018-10-20",{"$f":"IF(AND(H87>='A - Contractor Summary'!$C$36,I87<='A - Contractor Summary'!$C$42),\"Yes\",\"No\")","v":"No"},{"$f":"VLOOKUP($D87,'C.1 - Rate Sheets'!B:I,2,FALSE)","v":74},{"$f":"VLOOKUP($D87,'C.1 - Rate Sheets'!B:I,3,FALSE)","v":99.9},{"$f":"VLOOKUP($D87,'C.1 - Rate Sheets'!B:I,4,FALSE)","v":118.4},{"$f":"VLOOKUP($D87,'C.1 - Rate Sheets'!B:I,5,FALSE)","v":0},null,null,null,null,0,40,56,16,null,112,null,null,null,null,0,null,null,null,null,0,null,null,null,null,0,null,null,null,null,null,40,56,16,0,112,2960,5594.4000000000005,1894.4,0,10448.800000000001,10448.800000000001,"Yes",0,0,0]
[null,55,"Kallmayer, David","Crew Foreman","Vendor No 6","Kallmayer",913346153,"2018-10-14","2018-10-20",{"$f":"IF(AND(H88>='A - Contractor Summary'!$C$36,I88<='A - Contractor Summary'!$C$42),\"Yes\",\"No\")","v":"No"},{"$f":"VLOOKUP($D88,'C.1 - Rate Sheets'!B:I,2,FALSE)","v":56.8},{"$f":"VLOOKUP($D88,'C.1 - Rate Sheets'!B:I,3,FALSE)","v":76.7},{"$f":"VLOOKUP($D88,'C.1 - Rate Sheets'!B:I,4,FALSE)","v":90.9},{"$f":"VLOOKUP($D88,'C.1 - Rate Sheets'!B:I,5,FALSE)","v":0},null,null,null,null,0,40,56,16,null,112,null,null,null,null,0,null,null,null,null,0,null,null,null,null,0,null,null,null,null,null,40,56,16,0,112,2272,4295.2,1454.4,0,8021.6,8021.6,"Yes",0,0,0]
[null,56,"Sansom, James","Tree Trimmer","Vendor No 6","Kallmayer",913346153,"2018-10-14","2018-10-20",{"$f":"IF(AND(H89>='A - Contractor Summary'!$C$36,I89<='A - Contractor Summary'!$C$42),\"Yes\",\"No\")","v":"No"},{"$f":"VLOOKUP($D89,'C.1 - Rate Sheets'!B:I,2,FALSE)","v":48.5},{"$f":"VLOOKUP($D89,'C.1 - Rate Sheets'!B:I,3,FALSE)","v":65.5},{"$f":"VLOOKUP($D89,'C.1 - Rate Sheets'!B:I,4,FALSE)","v":77.599999999999994},{"$f":"VLOOKUP($D89,'C.1 - Rate Sheets'!B:I,5,FALSE)","v":0},null,null,null,null,0,40,56,16,null,112,null,null,null,null,0,null,null,null,null,0,null,null,null,null,0,null,null,null,null,null,40,56,16,0,112,1940,3668,1241.5999999999999,0,6849.6,6849.6,"Yes",0,0,0]
[null,57,"Garcia, Alejandro","Crew Foreman","Vendor No 6","Garcia",913346195,"2018-10-14","2018-10-20",{"$f":"IF(AND(H90>='A - Contractor Summary'!$C$36,I90<='A - Contractor Summary'!$C$42),\"Yes\",\"No\")","v":"No"},{"$f":"VLOOKUP($D90,'C.1 - Rate Sheets'!B:I,2,FALSE)","v":56.8},{"$f":"VLOOKUP($D90,'C.1 - Rate Sheets'!B:I,3,FALSE)","v":76.7},{"$f":"VLOOKUP($D90,'C.1 - Rate Sheets'!B:I,4,FALSE)","v":90.9},{"$f":"VLOOKUP($D90,'C.1 - Rate Sheets'!B:I,5,FALSE)","v":0},null,null,null,null,0,40,56,16,null,112,null,null,null,null,0,null,null,null,null,0,null,null,null,null,0,null,null,null,null,null,40,56,16,0,112,2272,4295.2,1454.4,0,8021.6,8021.6,"Yes",0,0,0,3]
[null,58,"Yuhas, Matthew","Tree Trimmer","Vendor No 6","Garcia",913346195,"2018-10-14","2018-10-20",{"$f":"IF(AND(H91>='A - Contractor Summary'!$C$36,I91<='A - Contractor Summary'!$C$42),\"Yes\",\"No\")","v":"No"},{"$f":"VLOOKUP($D91,'C.1 - Rate Sheets'!B:I,2,FALSE)","v":48.5},{"$f":"VLOOKUP($D91,'C.1 - Rate Sheets'!B:I,3,FALSE)","v":65.5},{"$f":"VLOOKUP($D91,'C.1 - Rate Sheets'!B:I,4,FALSE)","v":77.599999999999994},{"$f":"VLOOKUP($D91,'C.1 - Rate Sheets'!B:I,5,FALSE)","v":0},null,null,null,null,0,40,56,16,null,112,null,null,null,null,0,null,null,null,null,0,null,null,null,null,0,null,null,null,null,null,40,56,16,0,112,1940,3668,1241.5999999999999,0,6849.6,6849.6,"Yes",0,0,0,3]
[null,59,"Tim Jones","Crew Foreman","Vendor No 6","Jones",913346486,"2018-10-17","2018-10-20",{"$f":"IF(AND(H92>='A - Contractor Summary'!$C$36,I92<='A - Contractor Summary'!$C$42),\"Yes\",\"No\")","v":"No"},{"$f":"VLOOKUP($D92,'C.1 - Rate Sheets'!B:I,2,FALSE)","v":56.8},{"$f":"VLOOKUP($D92,'C.1 - Rate Sheets'!B:I,3,FALSE)","v":76.7},{"$f":"VLOOKUP($D92,'C.1 - Rate Sheets'!B:I,4,FALSE)","v":90.9},{"$f":"VLOOKUP($D92,'C.1 - Rate Sheets'!B:I,5,FALSE)","v":0},null,null,null,null,{"$f":"SUM(O92:R92)","v":0},24,40,null,null,{"$f":"SUM(T92:W92)","v":64},null,null,null,null,{"$f":"SUM(Y92:AB92)","v":0},null,null,null,null,{"$f":"SUM(AD92:AG92)","v":0},null,null,null,null,{"$f":"SUM(AI92:AL92)","v":0},null,null,null,null,null,{"$f":"SUM(O92,T92,Y92,AD92,AI92,AN92)","v":24},{"$f":"SUM(P92,U92,Z92,AE92,AJ92,AO92)","v":40},{"$f":"SUM(Q92,V92,AA92,AF92,AK92,AP92)","v":0},{"$f":"SUM(R92,W92,AB92,AG92,AL92,AQ92)","v":0},{"$f":"SUM(AS92:AV92)","v":64},{"$f":"AS92*K92","v":1363.1999999999998},{"$f":"AT92*L92","v":3068},{"$f":"AU92*M92","v":0},{"$f":"AV92*N92","v":0},{"$f":"SUM(AX92:BA92)","v":4431.2},{"$f":"BB92-BE92","v":4431.2},"Yes",0,0,0]
[null,59,"Allan Johnson","Crew Foreman","Vendor No 6","Jones",913346486,"2018-10-17","2018-10-20",{"$f":"IF(AND(H93>='A - Contractor Summary'!$C$36,I93<='A - Contractor Summary'!$C$42),\"Yes\",\"No\")","v":"No"},{"$f":"VLOOKUP($D93,'C.1 - Rate Sheets'!B:I,2,FALSE)","v":56.8},{"$f":"VLOOKUP($D93,'C.1 - Rate Sheets'!B:I,3,FALSE)","v":76.7},{"$f":"VLOOKUP($D93,'C.1 - Rate Sheets'!B:I,4,FALSE)","v":90.9},{"$f":"VLOOKUP($D93,'C.1 - Rate Sheets'!B:I,5,FALSE)","v":0},null,null,null,null,0,24,40,null,null,64,null,null,null,null,0,null,null,null,null,0,null,null,null,null,0,null,null,null,null,null,24,40,0,0,64,1363.1999999999998,3068,0,0,4431.2,4431.2,"Yes",0,0,0]
[null,60,"Hunter Standfield","Tree Trimmer","Vendor No 6","Jones",913346486,"2018-10-17","2018-10-20",{"$f":"IF(AND(H94>='A - Contractor Summary'!$C$36,I94<='A - Contractor Summary'!$C$42),\"Yes\",\"No\")","v":"No"},{"$f":"VLOOKUP($D94,'C.1 - Rate Sheets'!B:I,2,FALSE)","v":48.5},{"$f":"VLOOKUP($D94,'C.1 - Rate Sheets'!B:I,3,FALSE)","v":65.5},{"$f":"VLOOKUP($D94,'C.1 - Rate Sheets'!B:I,4,FALSE)","v":77.599999999999994},{"$f":"VLOOKUP($D94,'C.1 - Rate Sheets'!B:I,5,FALSE)","v":0},null,null,null,null,{"$f":"SUM(O94:R94)","v":0},24,40,null,null,{"$f":"SUM(T94:W94)","v":64},null,null,null,null,{"$f":"SUM(Y94:AB94)","v":0},null,null,null,null,{"$f":"SUM(AD94:AG94)","v":0},null,null,null,null,{"$f":"SUM(AI94:AL94)","v":0},null,null,null,null,null,{"$f":"SUM(O94,T94,Y94,AD94,AI94,AN94)","v":24},{"$f":"SUM(P94,U94,Z94,AE94,AJ94,AO94)","v":40},{"$f":"SUM(Q94,V94,AA94,AF94,AK94,AP94)","v":0},{"$f":"SUM(R94,W94,AB94,AG94,AL94,AQ94)","v":0},{"$f":"SUM(AS94:AV94)","v":64},{"$f":"AS94*K94","v":1164},{"$f":"AT94*L94","v":2620},{"$f":"AU94*M94","v":0},{"$f":"AV94*N94","v":0},{"$f":"SUM(AX94:BA94)","v":3784},{"$f":"BB94-BE94","v":3784},"Yes",0,0,0]
[null,60,"Jarad Osbourn","Tree Trimmer","Vendor No 6","Jones",913346486,"2018-10-17","2018-10-20",{"$f":"IF(AND(H95>='A - Contractor Summary'!$C$36,I95<='A - Contractor Summary'!$C$42),\"Yes\",\"No\")","v":"No"},{"$f":"VLOOKUP($D95,'C.1 - Rate Sheets'!B:I,2,FALSE)","v":48.5},{"$f":"VLOOKUP($D95,'C.1 - Rate Sheets'!B:I,3,FALSE)","v":65.5},{"$f":"VLOOKUP($D95,'C.1 - Rate Sheets'!B:I,4,FALSE)","v":77.599999999999994},{"$f":"VLOOKUP($D95,'C.1 - Rate Sheets'!B:I,5,FALSE)","v":0},null,null,null,null,0,24,40,null,null,64,null,null,null,null,0,null,null,null,null,0,null,null,null,null,0,null,null,null,null,null,24,40,0,0,64,1164,2620,0,0,3784,3784,"Yes",0,0,0]
[null,60,"Mike Varden","Tree Trimmer","Vendor No 6","Jones",913346486,"2018-10-17","2018-10-19",{"$f":"IF(AND(H96>='A - Contractor Summary'!$C$36,I96<='A - Contractor Summary'!$C$42),\"Yes\",\"No\")","v":"No"},{"$f":"VLOOKUP($D96,'C.1 - Rate Sheets'!B:I,2,FALSE)","v":48.5},{"$f":"VLOOKUP($D96,'C.1 - Rate Sheets'!B:I,3,FALSE)","v":65.5},{"$f":"VLOOKUP($D96,'C.1 - Rate Sheets'!B:I,4,FALSE)","v":77.599999999999994},{"$f":"VLOOKUP($D96,'C.1 - Rate Sheets'!B:I,5,FALSE)","v":0},null,null,null,null,0,24,20,null,null,44,null,null,null,null,0,null,null,null,null,0,null,null,null,null,0,null,null,null,null,null,24,20,0,0,44,1164,1310,0,0,2474,2474,"Yes",0,0,0,2]
[null,61,"Gary W. Thomas","Supervisor","Vendor No 6","Thomas",913262679,"2018-10-26","2018-10-27",{"$f":"IF(AND(H97>='A - Contractor Summary'!$C$36,I97<='A - Contractor Summary'!$C$42),\"Yes\",\"No\")","v":"No"},{"$f":"VLOOKUP($D97,'C.1 - Rate Sheets'!B:I,2,FALSE)","v":74},{"$f":"VLOOKUP($D97,'C.1 - Rate Sheets'!B:I,3,FALSE)","v":99.9},{"$f":"VLOOKUP($D97,'C.1 - Rate Sheets'!B:I,4,FALSE)","v":118.4},{"$f":"VLOOKUP($D97,'C.1 - Rate Sheets'!B:I,5,FALSE)","v":0},null,null,null,null,0,null,null,null,null,0,8,24,null,null,32,null,null,null,null,0,null,null,null,null,0,null,null,null,null,null,8,24,0,0,32,592,2397.6000000000004,0,0,2989.6000000000004,2989.6000000000004,"Yes",0,0,0]
[null,62,"John Weaver","Crew Foreman","Vendor No 6","Riddle",913220899,"2018-10-21","2018-10-27",{"$f":"IF(AND(H98>='A - Contractor Summary'!$C$36,I98<='A - Contractor Summary'!$C$42),\"Yes\",\"No\")","v":"No"},{"$f":"VLOOKUP($D98,'C.1 - Rate Sheets'!B:I,2,FALSE)","v":56.8},{"$f":"VLOOKUP($D98,'C.1 - Rate Sheets'!B:I,3,FALSE)","v":76.7},{"$f":"VLOOKUP($D98,'C.1 - Rate Sheets'!B:I,4,FALSE)","v":90.9},{"$f":"VLOOKUP($D98,'C.1 - Rate Sheets'!B:I,5,FALSE)","v":0},null,null,null,null,0,null,null,null,null,0,40,56,16,null,112,null,null,null,null,0,null,null,null,null,0,null,null,null,null,null,40,56,16,0,112,2272,4295.2,1454.4,0,8021.6,8021.6,"Yes",0,0,0]
[null,63,"Mason Johnson","Tree Trimmer","Vendor No 6","Riddle",913220899,"2018-10-21","2018-10-27",{"$f":"IF(AND(H99>='A - Contractor Summary'!$C$36,I99<='A - Contractor Summary'!$C$42),\"Yes\",\"No\")","v":"No"},{"$f":"VLOOKUP($D99,'C.1 - Rate Sheets'!B:I,2,FALSE)","v":48.5},{"$f":"VLOOKUP($D99,'C.1 - Rate Sheets'!B:I,3,FALSE)","v":65.5},{"$f":"VLOOKUP($D99,'C.1 - Rate Sheets'!B:I,4,FALSE)","v":77.599999999999994},{"$f":"VLOOKUP($D99,'C.1 - Rate Sheets'!B:I,5,FALSE)","v":0},null,null,null,null,0,null,null,null,null,0,40,56,16,null,112,null,null,null,null,0,null,null,null,null,0,null,null,null,null,null,40,56,16,0,112,1940,3668,1241.5999999999999,0,6849.6,6849.6,"Yes",0,0,0]
[null,63,"Austin Story","Tree Trimmer","Vendor No 6","Riddle",913220899,"2018-10-21","2018-10-27",{"$f":"IF(AND(H100>='A - Contractor Summary'!$C$36,I100<='A - Contractor Summary'!$C$42),\"Yes\",\"No\")","v":"No"},{"$f":"VLOOKUP($D100,'C.1 - Rate Sheets'!B:I,2,FALSE)","v":48.5},{"$f":"VLOOKUP($D100,'C.1 - Rate Sheets'!B:I,3,FALSE)","v":65.5},{"$f":"VLOOKUP($D100,'C.1 - Rate Sheets'!B:I,4,FALSE)","v":77.599999999999994},{"$f":"VLOOKUP($D100,'C.1 - Rate Sheets'!B:I,5,FALSE)","v":0},null,null,null,null,{"$f":"SUM(O100:R100)","v":0},null,null,null,null,{"$f":"SUM(T100:W100)","v":0},40,56,16,null,{"$f":"SUM(Y100:AB100)","v":112},null,null,null,null,{"$f":"SUM(AD100:AG100)","v":0},null,null,null,null,{"$f":"SUM(AI100:AL100)","v":0},null,null,null,null,null,{"$f":"SUM(O100,T100,Y100,AD100,AI100,AN100)","v":40},{"$f":"SUM(P100,U100,Z100,AE100,AJ100,AO100)","v":56},{"$f":"SUM(Q100,V100,AA100,AF100,AK100,AP100)","v":16},{"$f":"SUM(R100,W100,AB100,AG100,AL100,AQ100)","v":0},{"$f":"SUM(AS100:AV100)","v":112},{"$f":"AS100*K100","v":1940},{"$f":"AT100*L100","v":3668},{"$f":"AU100*M100","v":1241.5999999999999},{"$f":"AV100*N100","v":0},{"$f":"SUM(AX100:BA100)","v":6849.6},{"$f":"BB100-BE100","v":6849.6},"Yes",0,0,0]
[null,63,"Johnathan Gardner","Tree Trimmer","Vendor No 6","Riddle",913220899,"2018-10-21","2018-10-27",{"$f":"IF(AND(H101>='A - Contractor Summary'!$C$36,I101<='A - Contractor Summary'!$C$42),\"Yes\",\"No\")","v":"No"},{"$f":"VLOOKUP($D101,'C.1 - Rate Sheets'!B:I,2,FALSE)","v":48.5},{"$f":"VLOOKUP($D101,'C.1 - Rate Sheets'!B:I,3,FALSE)","v":65.5},{"$f":"VLOOKUP($D101,'C.1 - Rate Sheets'!B:I,4,FALSE)","v":77.599999999999994},{"$f":"VLOOKUP($D101,'C.1 - Rate Sheets'!B:I,5,FALSE)","v":0},null,null,null,null,0,null,null,null,null,0,24,24,16,null,64,null,null,null,null,0,null,null,null,null,0,null,null,null,null,null,24,24,16,0,64,1164,1572,1241.5999999999999,0,3977.6,3977.6,"Yes",0,0,0]
[null,64,"Roy Riddle","Supervisor","Vendor No 6","Riddle",913220899,"2018-10-21","2018-10-27",{"$f":"IF(AND(H102>='A - Contractor Summary'!$C$36,I102<='A - Contractor Summary'!$C$42),\"Yes\",\"No\")","v":"No"},{"$f":"VLOOKUP($D102,'C.1 - Rate Sheets'!B:I,2,FALSE)","v":74},{"$f":"VLOOKUP($D102,'C.1 - Rate Sheets'!B:I,3,FALSE)","v":99.9},{"$f":"VLOOKUP($D102,'C.1 - Rate Sheets'!B:I,4,FALSE)","v":118.4},{"$f":"VLOOKUP($D102,'C.1 - Rate Sheets'!B:I,5,FALSE)","v":0},null,null,null,null,0,null,null,null,null,0,40,56,16,null,112,null,null,null,null,0,null,null,null,null,0,null,null,null,null,null,40,56,16,0,112,2960,5594.4000000000005,1894.4,0,10448.800000000001,10448.800000000001,"Yes",0,0,0]
[null,65,"Jay Guilds","Crew Foreman","Vendor No 6","Guilds",913223261,"2018-10-21","2018-10-27",{"$f":"IF(AND(H103>='A - Contractor Summary'!$C$36,I103<='A - Contractor Summary'!$C$42),\"Yes\",\"No\")","v":"No"},{"$f":"VLOOKUP($D103,'C.1 - Rate Sheets'!B:I,2,FALSE)","v":56.8},{"$f":"VLOOKUP($D103,'C.1 - Rate Sheets'!B:I,3,FALSE)","v":76.7},{"$f":"VLOOKUP($D103,'C.1 - Rate Sheets'!B:I,4,FALSE)","v":90.9},{"$f":"VLOOKUP($D103,'C.1 - Rate Sheets'!B:I,5,FALSE)","v":0},null,null,null,null,0,null,null,null,null,0,40,48,16,null,104,null,null,null,null,0,null,null,null,null,0,null,null,null,null,null,40,48,16,0,104,2272,3681.6000000000004,1454.4,0,7408,7408,"Yes",0,0,0,3]
[null,66,"Erik Stewart","Tree Trimmer","Vendor No 6","Guilds",913223261,"2018-10-21","2018-10-27",{"$f":"IF(AND(H104>='A - Contractor Summary'!$C$36,I104<='A - Contractor Summary'!$C$42),\"Yes\",\"No\")","v":"No"},{"$f":"VLOOKUP($D104,'C.1 - Rate Sheets'!B:I,2,FALSE)","v":48.5},{"$f":"VLOOKUP($D104,'C.1 - Rate Sheets'!B:I,3,FALSE)","v":65.5},{"$f":"VLOOKUP($D104,'C.1 - Rate Sheets'!B:I,4,FALSE)","v":77.599999999999994},{"$f":"VLOOKUP($D104,'C.1 - Rate Sheets'!B:I,5,FALSE)","v":0},null,null,null,null,{"$f":"SUM(O104:R104)","v":0},null,null,null,null,{"$f":"SUM(T104:W104)","v":0},40,48,16,null,{"$f":"SUM(Y104:AB104)","v":104},null,null,null,null,{"$f":"SUM(AD104:AG104)","v":0},null,null,null,null,{"$f":"SUM(AI104:AL104)","v":0},null,null,null,null,null,40,48,16,0,104,1940,3144,1241.5999999999999,0,6325.6,6325.6,"Yes",0,0,0,3]
[null,67,"Bryan Horn","Crew Foreman","Vendor No 6","Horn",913223262,"2018-10-21","2018-10-27",{"$f":"IF(AND(H105>='A - Contractor Summary'!$C$36,I105<='A - Contractor Summary'!$C$42),\"Yes\",\"No\")","v":"No"},{"$f":"VLOOKUP($D105,'C.1 - Rate Sheets'!B:I,2,FALSE)","v":56.8},{"$f":"VLOOKUP($D105,'C.1 - Rate Sheets'!B:I,3,FALSE)","v":76.7},{"$f":"VLOOKUP($D105,'C.1 - Rate Sheets'!B:I,4,FALSE)","v":90.9},{"$f":"VLOOKUP($D105,'C.1 - Rate Sheets'!B:I,5,FALSE)","v":0},null,null,null,null,0,null,null,null,null,0,40,48,16,null,104,null,null,null,null,0,null,null,null,null,0,null,null,null,null,null,40,48,16,0,104,{"$f":"AS105*K105","v":2272},{"$f":"AT105*L105","v":3681.6000000000004},{"$f":"AU105*M105","v":1454.4},{"$f":"AV105*N105","v":0},{"$f":"SUM(AX105:BA105)","v":7408},7408,"Yes",0,0,0,3]
[null,68,"Ronald Cook","Tree Trimmer","Vendor No 6","Horn",913223262,"2018-10-21","2018-10-27",{"$f":"IF(AND(H106>='A - Contractor Summary'!$C$36,I106<='A - Contractor Summary'!$C$42),\"Yes\",\"No\")","v":"No"},{"$f":"VLOOKUP($D106,'C.1 - Rate Sheets'!B:I,2,FALSE)","v":48.5},{"$f":"VLOOKUP($D106,'C.1 - Rate Sheets'!B:I,3,FALSE)","v":65.5},{"$f":"VLOOKUP($D106,'C.1 - Rate Sheets'!B:I,4,FALSE)","v":77.599999999999994},{"$f":"VLOOKUP($D106,'C.1 - Rate Sheets'!B:I,5,FALSE)","v":0},null,null,null,null,0,null,null,null,null,0,40,48,16,null,104,null,null,null,null,0,null,null,null,null,0,null,null,null,null,null,40,48,16,0,104,1940,3144,1241.5999999999999,0,6325.6,6325.6,"Yes",0,0,0,3]
[null,69,"Llewellyn Wyett","Crew Foreman","Vendor No 6","Wyett",913231713,"2018-10-21","2018-10-27",{"$f":"IF(AND(H107>='A - Contractor Summary'!$C$36,I107<='A - Contractor Summary'!$C$42),\"Yes\",\"No\")","v":"No"},{"$f":"VLOOKUP($D107,'C.1 - Rate Sheets'!B:I,2,FALSE)","v":56.8},{"$f":"VLOOKUP($D107,'C.1 - Rate Sheets'!B:I,3,FALSE)","v":76.7},{"$f":"VLOOKUP($D107,'C.1 - Rate Sheets'!B:I,4,FALSE)","v":90.9},{"$f":"VLOOKUP($D107,'C.1 - Rate Sheets'!B:I,5,FALSE)","v":0},null,null,null,null,0,null,null,null,null,0,40,56,16,null,112,null,null,null,null,0,null,null,null,null,0,null,null,null,null,null,40,56,16,0,112,2272,4295.2,1454.4,0,8021.6,8021.6,"Yes",0,0,0,3]
[null,70,"Christopher Scarborugh","Tree Trimmer","Vendor No 6","Wyett",913231713,"2018-10-21","2018-10-27",{"$f":"IF(AND(H108>='A - Contractor Summary'!$C$36,I108<='A - Contractor Summary'!$C$42),\"Yes\",\"No\")","v":"No"},{"$f":"VLOOKUP($D108,'C.1 - Rate Sheets'!B:I,2,FALSE)","v":48.5},{"$f":"VLOOKUP($D108,'C.1 - Rate Sheets'!B:I,3,FALSE)","v":65.5},{"$f":"VLOOKUP($D108,'C.1 - Rate Sheets'!B:I,4,FALSE)","v":77.599999999999994},{"$f":"VLOOKUP($D108,'C.1 - Rate Sheets'!B:I,5,FALSE)","v":0},null,null,null,null,0,null,null,null,null,0,40,56,16,null,112,null,null,null,null,0,null,null,null,null,0,null,null,null,null,null,40,56,16,0,112,1940,3668,1241.5999999999999,0,6849.6,{"$f":"BB108-BE108","v":6849.6},"Yes",0,0,0,3]
[null,71,"Colton Johnson","Ground Person","Vendor No 6","Wyett",913231713,"2018-10-21","2018-10-25",{"$f":"IF(AND(H109>='A - Contractor Summary'!$C$36,I109<='A - Contractor Summary'!$C$42),\"Yes\",\"No\")","v":"No"},{"$f":"VLOOKUP($D109,'C.1 - Rate Sheets'!B:I,2,FALSE)","v":40},{"$f":"VLOOKUP($D109,'C.1 - Rate Sheets'!B:I,3,FALSE)","v":54},{"$f":"VLOOKUP($D109,'C.1 - Rate Sheets'!B:I,4,FALSE)","v":64},{"$f":"VLOOKUP($D109,'C.1 - Rate Sheets'!B:I,5,FALSE)","v":0},null,null,null,null,0,null,null,null,null,0,40,24,16,null,80,null,null,null,null,0,null,null,null,null,0,null,null,null,null,null,{"$f":"SUM(O109,T109,Y109,AD109,AI109,AN109)","v":40},{"$f":"SUM(P109,U109,Z109,AE109,AJ109,AO109)","v":24},{"$f":"SUM(Q109,V109,AA109,AF109,AK109,AP109)","v":16},{"$f":"SUM(R109,W109,AB109,AG109,AL109,AQ109)","v":0},{"$f":"SUM(AS109:AV109)","v":80},1600,1296,1024,0,3920,3920,"Yes",0,0,0,3]
[null,72,"Gary Williams","Crew Foreman","Vendor No 6","Williams",913231714,"2018-10-21","2018-10-27",{"$f":"IF(AND(H110>='A - Contractor Summary'!$C$36,I110<='A - Contractor Summary'!$C$42),\"Yes\",\"No\")","v":"No"},{"$f":"VLOOKUP($D110,'C.1 - Rate Sheets'!B:I,2,FALSE)","v":56.8},{"$f":"VLOOKUP($D110,'C.1 - Rate Sheets'!B:I,3,FALSE)","v":76.7},{"$f":"VLOOKUP($D110,'C.1 - Rate Sheets'!B:I,4,FALSE)","v":90.9},{"$f":"VLOOKUP($D110,'C.1 - Rate Sheets'!B:I,5,FALSE)","v":0},null,null,null,null,0,null,null,null,null,0,40,56,16,null,112,null,null,null,null,0,null,null,null,null,0,null,null,null,null,null,40,56,16,0,112,2272,4295.2,1454.4,0,8021.6,8021.6,"Yes",0,0,0,3]
[null,73,"Johnathan Swinson","Tree Trimmer","Vendor No 6","Williams",913231714,"2018-10-21","2018-10-27",{"$f":"IF(AND(H111>='A - Contractor Summary'!$C$36,I111<='A - Contractor Summary'!$C$42),\"Yes\",\"No\")","v":"No"},{"$f":"VLOOKUP($D111,'C.1 - Rate Sheets'!B:I,2,FALSE)","v":48.5},{"$f":"VLOOKUP($D111,'C.1 - Rate Sheets'!B:I,3,FALSE)","v":65.5},{"$f":"VLOOKUP($D111,'C.1 - Rate Sheets'!B:I,4,FALSE)","v":77.599999999999994},{"$f":"VLOOKUP($D111,'C.1 - Rate Sheets'!B:I,5,FALSE)","v":0},null,null,null,null,0,null,null,null,null,0,40,56,16,null,112,null,null,null,null,0,null,null,null,null,0,null,null,null,null,null,40,56,16,0,112,1940,3668,1241.5999999999999,0,6849.6,6849.6,"Yes",0,0,0,3]
[null,74,"Jeremish Roberts","Ground Person","Vendor No 6","Williams",913231714,"2018-10-21","2018-10-27",{"$f":"IF(AND(H112>='A - Contractor Summary'!$C$36,I112<='A - Contractor Summary'!$C$42),\"Yes\",\"No\")","v":"No"},{"$f":"VLOOKUP($D112,'C.1 - Rate Sheets'!B:I,2,FALSE)","v":40},{"$f":"VLOOKUP($D112,'C.1 - Rate Sheets'!B:I,3,FALSE)","v":54},{"$f":"VLOOKUP($D112,'C.1 - Rate Sheets'!B:I,4,FALSE)","v":64},{"$f":"VLOOKUP($D112,'C.1 - Rate Sheets'!B:I,5,FALSE)","v":0},null,null,null,null,0,null,null,null,null,0,40,56,16,null,112,null,null,null,null,0,null,null,null,null,0,null,null,null,null,null,40,56,16,0,112,1600,3024,1024,0,5648,5648,"Yes",0,0,0,3]
[null,75,"Scott Duvall","Crew Foreman","Vendor No 6","Duvall",913231715,"2018-10-21","2018-10-27",{"$f":"IF(AND(H113>='A - Contractor Summary'!$C$36,I113<='A - Contractor Summary'!$C$42),\"Yes\",\"No\")","v":"No"},{"$f":"VLOOKUP($D113,'C.1 - Rate Sheets'!B:I,2,FALSE)","v":56.8},{"$f":"VLOOKUP($D113,'C.1 - Rate Sheets'!B:I,3,FALSE)","v":76.7},{"$f":"VLOOKUP($D113,'C.1 - Rate Sheets'!B:I,4,FALSE)","v":90.9},{"$f":"VLOOKUP($D113,'C.1 - Rate Sheets'!B:I,5,FALSE)","v":0},null,null,null,null,0,null,null,null,null,0,40,56,16,null,112,null,null,null,null,0,null,null,null,null,0,null,null,null,null,null,40,56,16,0,112,2272,4295.2,1454.4,0,8021.6,8021.6,"Yes",0,0,0,3]
[null,76,"Jaron Weldon","Tree Trimmer","Vendor No 6","Duvall",913231715,"2018-10-21","2018-10-27",{"$f":"IF(AND(H114>='A - Contractor Summary'!$C$36,I114<='A - Contractor Summary'!$C$42),\"Yes\",\"No\")","v":"No"},{"$f":"VLOOKUP($D114,'C.1 - Rate Sheets'!B:I,2,FALSE)","v":48.5},{"$f":"VLOOKUP($D114,'C.1 - Rate Sheets'!B:I,3,FALSE)","v":65.5},{"$f":"VLOOKUP($D114,'C.1 - Rate Sheets'!B:I,4,FALSE)","v":77.599999999999994},{"$f":"VLOOKUP($D114,'C.1 - Rate Sheets'!B:I,5,FALSE)","v":0},null,null,null,null,0,null,null,null,null,0,40,56,16,null,112,null,null,null,null,0,null,null,null,null,0,null,null,null,null,null,40,56,16,0,112,1940,3668,1241.5999999999999,0,6849.6,6849.6,"Yes",0,0,0,3]
[null,77,"Devin Brinson","Ground Person","Vendor No 6","Duvall",913231715,"2018-10-21","2018-10-27",{"$f":"IF(AND(H115>='A - Contractor Summary'!$C$36,I115<='A - Contractor Summary'!$C$42),\"Yes\",\"No\")","v":"No"},{"$f":"VLOOKUP($D115,'C.1 - Rate Sheets'!B:I,2,FALSE)","v":40},{"$f":"VLOOKUP($D115,'C.1 - Rate Sheets'!B:I,3,FALSE)","v":54},{"$f":"VLOOKUP($D115,'C.1 - Rate Sheets'!B:I,4,FALSE)","v":64},{"$f":"VLOOKUP($D115,'C.1 - Rate Sheets'!B:I,5,FALSE)","v":0},null,null,null,null,0,null,null,null,null,0,40,56,16,null,112,null,null,null,null,0,null,null,null,null,0,null,null,null,null,null,40,56,16,0,112,1600,3024,1024,0,5648,5648,"Yes",0,0,0,3]
[null,78,"William Dodson","Crew Foreman","Vendor No 6","Dodson",913231720,"2018-10-21","2018-10-27",{"$f":"IF(AND(H116>='A - Contractor Summary'!$C$36,I116<='A - Contractor Summary'!$C$42),\"Yes\",\"No\")","v":"No"},{"$f":"VLOOKUP($D116,'C.1 - Rate Sheets'!B:I,2,FALSE)","v":56.8},{"$f":"VLOOKUP($D116,'C.1 - Rate Sheets'!B:I,3,FALSE)","v":76.7},{"$f":"VLOOKUP($D116,'C.1 - Rate Sheets'!B:I,4,FALSE)","v":90.9},{"$f":"VLOOKUP($D116,'C.1 - Rate Sheets'!B:I,5,FALSE)","v":0},null,null,null,null,0,null,null,null,null,0,40,56,16,null,112,null,null,null,null,0,null,null,null,null,0,null,null,null,null,null,40,56,16,0,112,2272,4295.2,1454.4,0,8021.6,8021.6,"Yes",0,0,0,3]
[null,79,"Justin Murphy","Tree Trimmer","Vendor No 6","Dodson",913231720,"2018-10-21","2018-10-27",{"$f":"IF(AND(H117>='A - Contractor Summary'!$C$36,I117<='A - Contractor Summary'!$C$42),\"Yes\",\"No\")","v":"No"},{"$f":"VLOOKUP($D117,'C.1 - Rate Sheets'!B:I,2,FALSE)","v":48.5},{"$f":"VLOOKUP($D117,'C.1 - Rate Sheets'!B:I,3,FALSE)","v":65.5},{"$f":"VLOOKUP($D117,'C.1 - Rate Sheets'!B:I,4,FALSE)","v":77.599999999999994},{"$f":"VLOOKUP($D117,'C.1 - Rate Sheets'!B:I,5,FALSE)","v":0},null,null,null,null,0,null,null,null,null,0,40,56,16,null,112,null,null,null,null,0,null,null,null,null,0,null,null,null,null,null,40,56,16,0,112,1940,3668,1241.5999999999999,0,6849.6,6849.6,"Yes",0,0,0,3]
[null,80,"Nikos Hurt","Ground Person","Vendor No 6","Dodson",913231720,"2018-10-21","2018-10-27",{"$f":"IF(AND(H118>='A - Contractor Summary'!$C$36,I118<='A - Contractor Summary'!$C$42),\"Yes\",\"No\")","v":"No"},{"$f":"VLOOKUP($D118,'C.1 - Rate Sheets'!B:I,2,FALSE)","v":40},{"$f":"VLOOKUP($D118,'C.1 - Rate Sheets'!B:I,3,FALSE)","v":54},{"$f":"VLOOKUP($D118,'C.1 - Rate Sheets'!B:I,4,FALSE)","v":64},{"$f":"VLOOKUP($D118,'C.1 - Rate Sheets'!B:I,5,FALSE)","v":0},null,null,null,null,0,null,null,null,null,0,40,56,16,null,112,null,null,null,null,0,null,null,null,null,0,null,null,null,null,null,40,56,16,0,112,1600,3024,1024,0,5648,5648,"Yes",0,0,0,3]
[null,81,"William Gray","Supervisor","Vendor No 6","Gray",913231722,"2018-10-21","2018-10-27",{"$f":"IF(AND(H119>='A - Contractor Summary'!$C$36,I119<='A - Contractor Summary'!$C$42),\"Yes\",\"No\")","v":"No"},{"$f":"VLOOKUP($D119,'C.1 - Rate Sheets'!B:I,2,FALSE)","v":74},{"$f":"VLOOKUP($D119,'C.1 - Rate Sheets'!B:I,3,FALSE)","v":99.9},{"$f":"VLOOKUP($D119,'C.1 - Rate Sheets'!B:I,4,FALSE)","v":118.4},{"$f":"VLOOKUP($D119,'C.1 - Rate Sheets'!B:I,5,FALSE)","v":0},null,null,null,null,0,null,null,null,null,0,40,56,16,null,112,null,null,null,null,0,null,null,null,null,0,null,null,null,null,null,40,56,16,0,112,2960,5594.4000000000005,1894.4,0,10448.800000000001,10448.800000000001,"Yes",0,0,0,3]
[null,82,"Michael Bowers","Supervisor","Vendor No 6","Bowers",913231735,"2018-10-21","2018-10-27",{"$f":"IF(AND(H120>='A - Contractor Summary'!$C$36,I120<='A - Contractor Summary'!$C$42),\"Yes\",\"No\")","v":"No"},{"$f":"VLOOKUP($D120,'C.1 - Rate Sheets'!B:I,2,FALSE)","v":74},{"$f":"VLOOKUP($D120,'C.1 - Rate Sheets'!B:I,3,FALSE)","v":99.9},{"$f":"VLOOKUP($D120,'C.1 - Rate Sheets'!B:I,4,FALSE)","v":118.4},{"$f":"VLOOKUP($D120,'C.1 - Rate Sheets'!B:I,5,FALSE)","v":0},null,null,null,null,0,null,null,null,null,0,40,56,16,null,112,null,null,null,null,0,null,null,null,null,0,null,null,null,null,null,40,56,16,0,112,2960,5594.4000000000005,1894.4,0,10448.800000000001,10448.800000000001,"Yes",0,0,0,3]
[null,83,"Terry Herley","Crew Foreman","Vendor No 6","Harley",913231736,"2018-10-21","2018-10-27",{"$f":"IF(AND(H121>='A - Contractor Summary'!$C$36,I121<='A - Contractor Summary'!$C$42),\"Yes\",\"No\")","v":"No"},{"$f":"VLOOKUP($D121,'C.1 - Rate Sheets'!B:I,2,FALSE)","v":56.8},{"$f":"VLOOKUP($D121,'C.1 - Rate Sheets'!B:I,3,FALSE)","v":76.7},{"$f":"VLOOKUP($D121,'C.1 - Rate Sheets'!B:I,4,FALSE)","v":90.9},{"$f":"VLOOKUP($D121,'C.1 - Rate Sheets'!B:I,5,FALSE)","v":0},null,null,null,null,0,null,null,null,null,0,40,56,16,null,112,null,null,null,null,0,null,null,null,null,0,null,null,null,null,null,40,56,16,0,112,2272,4295.2,1454.4,0,8021.6,8021.6,"Yes",0,0,0,3]
[null,84,"Edgar Flores","Tree Trimmer","Vendor No 6","Harley",913231736,"2018-10-21","2018-10-27",{"$f":"IF(AND(H122>='A - Contractor Summary'!$C$36,I122<='A - Contractor Summary'!$C$42),\"Yes\",\"No\")","v":"No"},{"$f":"VLOOKUP($D122,'C.1 - Rate Sheets'!B:I,2,FALSE)","v":48.5},{"$f":"VLOOKUP($D122,'C.1 - Rate Sheets'!B:I,3,FALSE)","v":65.5},{"$f":"VLOOKUP($D122,'C.1 - Rate Sheets'!B:I,4,FALSE)","v":77.599999999999994},{"$f":"VLOOKUP($D122,'C.1 - Rate Sheets'!B:I,5,FALSE)","v":0},null,null,null,null,0,null,null,null,null,0,40,56,16,null,112,null,null,null,null,0,null,null,null,null,0,null,null,null,null,null,40,56,16,0,112,1940,3668,1241.5999999999999,0,6849.6,6849.6,"Yes",0,0,0,3]
[null,85,"Gutierrez, Jose","Crew Foreman","Vendor No 6","Guitierrez",913231737,"2018-10-21","2018-10-27",{"$f":"IF(AND(H123>='A - Contractor Summary'!$C$36,I123<='A - Contractor Summary'!$C$42),\"Yes\",\"No\")","v":"No"},{"$f":"VLOOKUP($D123,'C.1 - Rate Sheets'!B:I,2,FALSE)","v":56.8},{"$f":"VLOOKUP($D123,'C.1 - Rate Sheets'!B:I,3,FALSE)","v":76.7},{"$f":"VLOOKUP($D123,'C.1 - Rate Sheets'!B:I,4,FALSE)","v":90.9},{"$f":"VLOOKUP($D123,'C.1 - Rate Sheets'!B:I,5,FALSE)","v":0},null,null,null,null,0,null,null,null,null,0,40,56,16,null,112,null,null,null,null,0,null,null,null,null,0,null,null,null,null,null,40,56,16,0,112,2272,4295.2,1454.4,0,8021.6,8021.6,"Yes",0,0,0]
[null,86,"Lara, Victor","Tree Trimmer","Vendor No 6","Guitierrez",913231737,"2018-10-21","2018-10-27",{"$f":"IF(AND(H124>='A - Contractor Summary'!$C$36,I124<='A - Contractor Summary'!$C$42),\"Yes\",\"No\")","v":"No"},{"$f":"VLOOKUP($D124,'C.1 - Rate Sheets'!B:I,2,FALSE)","v":48.5},{"$f":"VLOOKUP($D124,'C.1 - Rate Sheets'!B:I,3,FALSE)","v":65.5},{"$f":"VLOOKUP($D124,'C.1 - Rate Sheets'!B:I,4,FALSE)","v":77.599999999999994},{"$f":"VLOOKUP($D124,'C.1 - Rate Sheets'!B:I,5,FALSE)","v":0},null,null,null,null,0,null,null,null,null,0,40,56,16,null,112,null,null,null,null,0,null,null,null,null,0,null,null,null,null,null,40,56,16,0,112,1940,3668,1241.5999999999999,0,6849.6,6849.6,"Yes",0,0,0]
[null,86,"Jesus Jimenez","Tree Trimmer","Vendor No 6","Guitierrez",913231737,"2018-10-21","2018-10-27",{"$f":"IF(AND(H125>='A - Contractor Summary'!$C$36,I125<='A - Contractor Summary'!$C$42),\"Yes\",\"No\")","v":"No"},{"$f":"VLOOKUP($D125,'C.1 - Rate Sheets'!B:I,2,FALSE)","v":48.5},{"$f":"VLOOKUP($D125,'C.1 - Rate Sheets'!B:I,3,FALSE)","v":65.5},{"$f":"VLOOKUP($D125,'C.1 - Rate Sheets'!B:I,4,FALSE)","v":77.599999999999994},{"$f":"VLOOKUP($D125,'C.1 - Rate Sheets'!B:I,5,FALSE)","v":0},null,null,null,null,{"$f":"SUM(O125:R125)","v":0},null,null,null,null,{"$f":"SUM(T125:W125)","v":0},40,56,16,null,{"$f":"SUM(Y125:AB125)","v":112},null,null,null,null,{"$f":"SUM(AD125:AG125)","v":0},null,null,null,null,{"$f":"SUM(AI125:AL125)","v":0},null,null,null,null,null,{"$f":"SUM(O125,T125,Y125,AD125,AI125,AN125)","v":40},{"$f":"SUM(P125,U125,Z125,AE125,AJ125,AO125)","v":56},{"$f":"SUM(Q125,V125,AA125,AF125,AK125,AP125)","v":16},{"$f":"SUM(R125,W125,AB125,AG125,AL125,AQ125)","v":0},{"$f":"SUM(AS125:AV125)","v":112},{"$f":"AS125*K125","v":1940},{"$f":"AT125*L125","v":3668},{"$f":"AU125*M125","v":1241.5999999999999},{"$f":"AV125*N125","v":0},{"$f":"SUM(AX125:BA125)","v":6849.6},{"$f":"BB125-BE125","v":6849.6},"Yes",0,0,0]
[null,86,"Andres Tapia","Tree Trimmer","Vendor No 6","Guitierrez",913231737,"2018-10-21","2018-10-27",{"$f":"IF(AND(H126>='A - Contractor Summary'!$C$36,I126<='A - Contractor Summary'!$C$42),\"Yes\",\"No\")","v":"No"},{"$f":"VLOOKUP($D126,'C.1 - Rate Sheets'!B:I,2,FALSE)","v":48.5},{"$f":"VLOOKUP($D126,'C.1 - Rate Sheets'!B:I,3,FALSE)","v":65.5},{"$f":"VLOOKUP($D126,'C.1 - Rate Sheets'!B:I,4,FALSE)","v":77.599999999999994},{"$f":"VLOOKUP($D126,'C.1 - Rate Sheets'!B:I,5,FALSE)","v":0},null,null,null,null,0,null,null,null,null,0,40,56,16,null,112,null,null,null,null,0,null,null,null,null,0,null,null,null,null,null,40,56,16,0,112,1940,3668,1241.5999999999999,0,6849.6,6849.6,"Yes",0,0,0]
[null,87,"Dustin Woodward","Crew Foreman","Vendor No 6","Woodward",913231738,"2018-10-21","2018-10-27",{"$f":"IF(AND(H127>='A - Contractor Summary'!$C$36,I127<='A - Contractor Summary'!$C$42),\"Yes\",\"No\")","v":"No"},{"$f":"VLOOKUP($D127,'C.1 - Rate Sheets'!B:I,2,FALSE)","v":56.8},{"$f":"VLOOKUP($D127,'C.1 - Rate Sheets'!B:I,3,FALSE)","v":76.7},{"$f":"VLOOKUP($D127,'C.1 - Rate Sheets'!B:I,4,FALSE)","v":90.9},{"$f":"VLOOKUP($D127,'C.1 - Rate Sheets'!B:I,5,FALSE)","v":0},null,null,null,null,0,null,null,null,null,0,40,56,16,null,112,null,null,null,null,0,null,null,null,null,0,null,null,null,null,null,40,56,16,0,112,2272,4295.2,1454.4,0,8021.6,8021.6,"Yes",0,0,0]
[null,88,"Rubelsy Perez","Tree Trimmer","Vendor No 6","Woodward",913231738,"2018-10-21","2018-10-27",{"$f":"IF(AND(H128>='A - Contractor Summary'!$C$36,I128<='A - Contractor Summary'!$C$42),\"Yes\",\"No\")","v":"No"},{"$f":"VLOOKUP($D128,'C.1 - Rate Sheets'!B:I,2,FALSE)","v":48.5},{"$f":"VLOOKUP($D128,'C.1 - Rate Sheets'!B:I,3,FALSE)","v":65.5},{"$f":"VLOOKUP($D128,'C.1 - Rate Sheets'!B:I,4,FALSE)","v":77.599999999999994},{"$f":"VLOOKUP($D128,'C.1 - Rate Sheets'!B:I,5,FALSE)","v":0},null,null,null,null,0,null,null,null,null,0,40,56,16,null,112,null,null,null,null,0,null,null,null,null,0,null,null,null,null,null,40,56,16,0,112,1940,3668,1241.5999999999999,0,6849.6,6849.6,"Yes",0,0,0]
[null,89,"Chris Scott","Supervisor","Vendor No 6","Scott",913231739,"2018-10-26","2018-10-27",{"$f":"IF(AND(H129>='A - Contractor Summary'!$C$36,I129<='A - Contractor Summary'!$C$42),\"Yes\",\"No\")","v":"No"},{"$f":"VLOOKUP($D129,'C.1 - Rate Sheets'!B:I,2,FALSE)","v":74},{"$f":"VLOOKUP($D129,'C.1 - Rate Sheets'!B:I,3,FALSE)","v":99.9},{"$f":"VLOOKUP($D129,'C.1 - Rate Sheets'!B:I,4,FALSE)","v":118.4},{"$f":"VLOOKUP($D129,'C.1 - Rate Sheets'!B:I,5,FALSE)","v":0},null,null,null,null,0,null,null,null,null,0,8,24,null,null,32,null,null,null,null,0,null,null,null,null,0,null,null,null,null,null,8,24,0,0,32,592,2397.6000000000004,0,0,2989.6000000000004,2989.6000000000004,"Yes",0,0,0]
[null,90,"Bobby Wright","Crew Foreman","Vendor No 6","Wright",913231740,"2018-10-26","2018-10-27",{"$f":"IF(AND(H130>='A - Contractor Summary'!$C$36,I130<='A - Contractor Summary'!$C$42),\"Yes\",\"No\")","v":"No"},{"$f":"VLOOKUP($D130,'C.1 - Rate Sheets'!B:I,2,FALSE)","v":56.8},{"$f":"VLOOKUP($D130,'C.1 - Rate Sheets'!B:I,3,FALSE)","v":76.7},{"$f":"VLOOKUP($D130,'C.1 - Rate Sheets'!B:I,4,FALSE)","v":90.9},{"$f":"VLOOKUP($D130,'C.1 - Rate Sheets'!B:I,5,FALSE)","v":0},null,null,null,null,0,null,null,null,null,0,8,24,null,null,32,null,null,null,null,0,null,null,null,null,0,null,null,null,null,null,8,24,0,0,32,454.4,1840.8000000000002,0,0,2295.2000000000003,2295.2000000000003,"Yes",0,0,0]
[null,91,"Dean Cannady","Crew Foreman","Vendor No 6","Cannady",913231741,"2018-10-26","2018-10-27",{"$f":"IF(AND(H131>='A - Contractor Summary'!$C$36,I131<='A - Contractor Summary'!$C$42),\"Yes\",\"No\")","v":"No"},{"$f":"VLOOKUP($D131,'C.1 - Rate Sheets'!B:I,2,FALSE)","v":56.8},{"$f":"VLOOKUP($D131,'C.1 - Rate Sheets'!B:I,3,FALSE)","v":76.7},{"$f":"VLOOKUP($D131,'C.1 - Rate Sheets'!B:I,4,FALSE)","v":90.9},{"$f":"VLOOKUP($D131,'C.1 - Rate Sheets'!B:I,5,FALSE)","v":0},null,null,null,null,0,null,null,null,null,0,8,24,null,null,32,null,null,null,null,0,null,null,null,null,0,null,null,null,null,null,8,24,0,0,32,454.4,1840.8000000000002,0,0,2295.2000000000003,2295.2000000000003,"Yes",0,0,0]
[null,92,"Phillip Russ","Tree Trimmer","Vendor No 6","Cannady",913231741,"2018-10-26","2018-10-27",{"$f":"IF(AND(H132>='A - Contractor Summary'!$C$36,I132<='A - Contractor Summary'!$C$42),\"Yes\",\"No\")","v":"No"},{"$f":"VLOOKUP($D132,'C.1 - Rate Sheets'!B:I,2,FALSE)","v":48.5},{"$f":"VLOOKUP($D132,'C.1 - Rate Sheets'!B:I,3,FALSE)","v":65.5},{"$f":"VLOOKUP($D132,'C.1 - Rate Sheets'!B:I,4,FALSE)","v":77.599999999999994},{"$f":"VLOOKUP($D132,'C.1 - Rate Sheets'!B:I,5,FALSE)","v":0},null,null,null,null,{"$f":"SUM(O132:R132)","v":0},null,null,null,null,{"$f":"SUM(T132:W132)","v":0},8,24,null,null,{"$f":"SUM(Y132:AB132)","v":32},null,null,null,null,{"$f":"SUM(AD132:AG132)","v":0},null,null,null,null,{"$f":"SUM(AI132:AL132)","v":0},null,null,null,null,null,{"$f":"SUM(O132,T132,Y132,AD132,AI132,AN132)","v":8},{"$f":"SUM(P132,U132,Z132,AE132,AJ132,AO132)","v":24},{"$f":"SUM(Q132,V132,AA132,AF132,AK132,AP132)","v":0},{"$f":"SUM(R132,W132,AB132,AG132,AL132,AQ132)","v":0},{"$f":"SUM(AS132:AV132)","v":32},{"$f":"AS132*K132","v":388},{"$f":"AT132*L132","v":1572},{"$f":"AU132*M132","v":0},{"$f":"AV132*N132","v":0},{"$f":"SUM(AX132:BA132)","v":1960},{"$f":"BB132-BE132","v":1960},"Yes",0,0,0]
[null,92,"Lewis Sims","Tree Trimmer","Vendor No 6","Cannady",913231741,"2018-10-26","2018-10-27",{"$f":"IF(AND(H133>='A - Contractor Summary'!$C$36,I133<='A - Contractor Summary'!$C$42),\"Yes\",\"No\")","v":"No"},{"$f":"VLOOKUP($D133,'C.1 - Rate Sheets'!B:I,2,FALSE)","v":48.5},{"$f":"VLOOKUP($D133,'C.1 - Rate Sheets'!B:I,3,FALSE)","v":65.5},{"$f":"VLOOKUP($D133,'C.1 - Rate Sheets'!B:I,4,FALSE)","v":77.599999999999994},{"$f":"VLOOKUP($D133,'C.1 - Rate Sheets'!B:I,5,FALSE)","v":0},null,null,null,null,0,null,null,null,null,0,8,24,null,null,32,null,null,null,null,0,null,null,null,null,0,null,null,null,null,null,8,24,0,0,32,388,1572,0,0,1960,1960,"Yes",0,0,0]
[null,93,"Justin Massey","Tree Trimmer","Vendor No 6","Massey",913231743,"2018-10-26","2018-10-27",{"$f":"IF(AND(H134>='A - Contractor Summary'!$C$36,I134<='A - Contractor Summary'!$C$42),\"Yes\",\"No\")","v":"No"},{"$f":"VLOOKUP($D134,'C.1 - Rate Sheets'!B:I,2,FALSE)","v":48.5},{"$f":"VLOOKUP($D134,'C.1 - Rate Sheets'!B:I,3,FALSE)","v":65.5},{"$f":"VLOOKUP($D134,'C.1 - Rate Sheets'!B:I,4,FALSE)","v":77.599999999999994},{"$f":"VLOOKUP($D134,'C.1 - Rate Sheets'!B:I,5,FALSE)","v":0},null,null,null,null,0,null,null,null,null,0,8,24,null,null,32,null,null,null,null,0,null,null,null,null,0,null,null,null,null,null,8,24,0,0,32,388,1572,0,0,1960,1960,"Yes",0,0,0]
[null,94,"Chase Cain","Crew Foreman","Vendor No 6","Cain",913243107,"2018-10-26","2018-10-27",{"$f":"IF(AND(H135>='A - Contractor Summary'!$C$36,I135<='A - Contractor Summary'!$C$42),\"Yes\",\"No\")","v":"No"},{"$f":"VLOOKUP($D135,'C.1 - Rate Sheets'!B:I,2,FALSE)","v":56.8},{"$f":"VLOOKUP($D135,'C.1 - Rate Sheets'!B:I,3,FALSE)","v":76.7},{"$f":"VLOOKUP($D135,'C.1 - Rate Sheets'!B:I,4,FALSE)","v":90.9},{"$f":"VLOOKUP($D135,'C.1 - Rate Sheets'!B:I,5,FALSE)","v":0},null,null,null,null,0,null,null,null,null,0,8,24,null,null,32,null,null,null,null,0,null,null,null,null,0,null,null,null,null,null,8,24,0,0,32,454.4,1840.8000000000002,0,0,2295.2000000000003,2295.2000000000003,"Yes",0,0,0]
[null,95,"Michael Kohler","Tree Trimmer","Vendor No 6","Cain",913243107,"2018-10-26","2018-10-27",{"$f":"IF(AND(H136>='A - Contractor Summary'!$C$36,I136<='A - Contractor Summary'!$C$42),\"Yes\",\"No\")","v":"No"},{"$f":"VLOOKUP($D136,'C.1 - Rate Sheets'!B:I,2,FALSE)","v":48.5},{"$f":"VLOOKUP($D136,'C.1 - Rate Sheets'!B:I,3,FALSE)","v":65.5},{"$f":"VLOOKUP($D136,'C.1 - Rate Sheets'!B:I,4,FALSE)","v":77.599999999999994},{"$f":"VLOOKUP($D136,'C.1 - Rate Sheets'!B:I,5,FALSE)","v":0},null,null,null,null,0,null,null,null,null,0,8,24,null,null,32,null,null,null,null,0,null,null,null,null,0,null,null,null,null,null,8,24,0,0,32,388,1572,0,0,1960,1960,"Yes",0,0,0]
[null,96,"Martin Kepler","Crew Foreman","Vendor No 6","Kepler",913243108,"2018-10-26","2018-10-27",{"$f":"IF(AND(H137>='A - Contractor Summary'!$C$36,I137<='A - Contractor Summary'!$C$42),\"Yes\",\"No\")","v":"No"},{"$f":"VLOOKUP($D137,'C.1 - Rate Sheets'!B:I,2,FALSE)","v":56.8},{"$f":"VLOOKUP($D137,'C.1 - Rate Sheets'!B:I,3,FALSE)","v":76.7},{"$f":"VLOOKUP($D137,'C.1 - Rate Sheets'!B:I,4,FALSE)","v":90.9},{"$f":"VLOOKUP($D137,'C.1 - Rate Sheets'!B:I,5,FALSE)","v":0},null,null,null,null,0,null,null,null,null,0,8,24,null,null,32,null,null,null,null,0,null,null,null,null,0,null,null,null,null,null,8,24,0,0,32,454.4,1840.8000000000002,0,0,2295.2000000000003,2295.2000000000003,"Yes",0,0,0]
[null,97,"Omello Manzo","Tree Trimmer","Vendor No 6","Kepler",913243108,"2018-10-26","2018-10-27",{"$f":"IF(AND(H138>='A - Contractor Summary'!$C$36,I138<='A - Contractor Summary'!$C$42),\"Yes\",\"No\")","v":"No"},{"$f":"VLOOKUP($D138,'C.1 - Rate Sheets'!B:I,2,FALSE)","v":48.5},{"$f":"VLOOKUP($D138,'C.1 - Rate Sheets'!B:I,3,FALSE)","v":65.5},{"$f":"VLOOKUP($D138,'C.1 - Rate Sheets'!B:I,4,FALSE)","v":77.599999999999994},{"$f":"VLOOKUP($D138,'C.1 - Rate Sheets'!B:I,5,FALSE)","v":0},null,null,null,null,0,null,null,null,null,0,8,24,null,null,32,null,null,null,null,0,null,null,null,null,0,null,null,null,null,null,8,24,0,0,32,388,1572,0,0,1960,1960,"Yes",0,0,0]
[null,98,"Richard Couret","Crew Foreman","Vendor No 6","Couret",913243110,"2018-10-26","2018-10-27",{"$f":"IF(AND(H139>='A - Contractor Summary'!$C$36,I139<='A - Contractor Summary'!$C$42),\"Yes\",\"No\")","v":"No"},{"$f":"VLOOKUP($D139,'C.1 - Rate Sheets'!B:I,2,FALSE)","v":56.8},{"$f":"VLOOKUP($D139,'C.1 - Rate Sheets'!B:I,3,FALSE)","v":76.7},{"$f":"VLOOKUP($D139,'C.1 - Rate Sheets'!B:I,4,FALSE)","v":90.9},{"$f":"VLOOKUP($D139,'C.1 - Rate Sheets'!B:I,5,FALSE)","v":0},null,null,null,null,0,null,null,null,null,0,8,14,null,null,22,null,null,null,null,0,null,null,null,null,0,null,null,null,null,null,8,14,0,0,22,454.4,1073.8,0,0,1528.1999999999998,1528.1999999999998,"Yes",0,0,0,3]
[null,99,"Douglas Brown","Tree Trimmer","Vendor No 6","Couret",913243110,"2018-10-26","2018-10-27",{"$f":"IF(AND(H140>='A - Contractor Summary'!$C$36,I140<='A - Contractor Summary'!$C$42),\"Yes\",\"No\")","v":"No"},{"$f":"VLOOKUP($D140,'C.1 - Rate Sheets'!B:I,2,FALSE)","v":48.5},{"$f":"VLOOKUP($D140,'C.1 - Rate Sheets'!B:I,3,FALSE)","v":65.5},{"$f":"VLOOKUP($D140,'C.1 - Rate Sheets'!B:I,4,FALSE)","v":77.599999999999994},{"$f":"VLOOKUP($D140,'C.1 - Rate Sheets'!B:I,5,FALSE)","v":0},null,null,null,null,{"$f":"SUM(O140:R140)","v":0},null,null,null,null,{"$f":"SUM(T140:W140)","v":0},8,20,null,null,{"$f":"SUM(Y140:AB140)","v":28},null,null,null,null,{"$f":"SUM(AD140:AG140)","v":0},null,null,null,null,{"$f":"SUM(AI140:AL140)","v":0},null,null,null,null,null,{"$f":"SUM(O140,T140,Y140,AD140,AI140,AN140)","v":8},{"$f":"SUM(P140,U140,Z140,AE140,AJ140,AO140)","v":20},{"$f":"SUM(Q140,V140,AA140,AF140,AK140,AP140)","v":0},{"$f":"SUM(R140,W140,AB140,AG140,AL140,AQ140)","v":0},{"$f":"SUM(AS140:AV140)","v":28},{"$f":"AS140*K140","v":388},{"$f":"AT140*L140","v":1310},{"$f":"AU140*M140","v":0},{"$f":"AV140*N140","v":0},{"$f":"SUM(AX140:BA140)","v":1698},{"$f":"BB140-BE140","v":1698},"Yes",0,0,0,3]
[null,99,"Scott Wells","Crew Foreman","Vendor No 6","Couret",913243110,"2018-10-26","2018-10-27",{"$f":"IF(AND(H141>='A - Contractor Summary'!$C$36,I141<='A - Contractor Summary'!$C$42),\"Yes\",\"No\")","v":"No"},{"$f":"VLOOKUP($D141,'C.1 - Rate Sheets'!B:I,2,FALSE)","v":56.8},{"$f":"VLOOKUP($D141,'C.1 - Rate Sheets'!B:I,3,FALSE)","v":76.7},{"$f":"VLOOKUP($D141,'C.1 - Rate Sheets'!B:I,4,FALSE)","v":90.9},{"$f":"VLOOKUP($D141,'C.1 - Rate Sheets'!B:I,5,FALSE)","v":0},null,null,null,null,0,null,null,null,null,0,8,14,null,null,22,null,null,null,null,0,null,null,null,null,0,null,null,null,null,null,8,14,0,0,22,454.4,1073.8,0,0,1528.1999999999998,1528.1999999999998,"Yes",0,0,0,3]
[null,100,"Korpl, Ryan","Crew Foreman","Vendor No 6","Korpl",913243111,"2018-10-26","2018-10-27",{"$f":"IF(AND(H142>='A - Contractor Summary'!$C$36,I142<='A - Contractor Summary'!$C$42),\"Yes\",\"No\")","v":"No"},{"$f":"VLOOKUP($D142,'C.1 - Rate Sheets'!B:I,2,FALSE)","v":56.8},{"$f":"VLOOKUP($D142,'C.1 - Rate Sheets'!B:I,3,FALSE)","v":76.7},{"$f":"VLOOKUP($D142,'C.1 - Rate Sheets'!B:I,4,FALSE)","v":90.9},{"$f":"VLOOKUP($D142,'C.1 - Rate Sheets'!B:I,5,FALSE)","v":0},null,null,null,null,0,null,null,null,null,0,8,24,null,null,32,null,null,null,null,0,null,null,null,null,0,null,null,null,null,null,8,24,0,0,32,454.4,1840.8000000000002,0,0,2295.2000000000003,2295.2000000000003,"Yes",0,0,0]
[null,101,"Manullow, Morgan","Tree Trimmer","Vendor No 6","Korpl",913243111,"2018-10-26","2018-10-27",{"$f":"IF(AND(H143>='A - Contractor Summary'!$C$36,I143<='A - Contractor Summary'!$C$42),\"Yes\",\"No\")","v":"No"},{"$f":"VLOOKUP($D143,'C.1 - Rate Sheets'!B:I,2,FALSE)","v":48.5},{"$f":"VLOOKUP($D143,'C.1 - Rate Sheets'!B:I,3,FALSE)","v":65.5},{"$f":"VLOOKUP($D143,'C.1 - Rate Sheets'!B:I,4,FALSE)","v":77.599999999999994},{"$f":"VLOOKUP($D143,'C.1 - Rate Sheets'!B:I,5,FALSE)","v":0},null,null,null,null,0,null,null,null,null,0,8,24,null,null,32,null,null,null,null,0,null,null,null,null,0,null,null,null,null,null,8,24,0,0,32,388,1572,0,0,1960,1960,"Yes",0,0,0]
[null,102,"Mike Zopf","Crew Foreman","Vendor No 6","Zopf",913243112,"2018-10-26","2018-10-27",{"$f":"IF(AND(H144>='A - Contractor Summary'!$C$36,I144<='A - Contractor Summary'!$C$42),\"Yes\",\"No\")","v":"No"},{"$f":"VLOOKUP($D144,'C.1 - Rate Sheets'!B:I,2,FALSE)","v":56.8},{"$f":"VLOOKUP($D144,'C.1 - Rate Sheets'!B:I,3,FALSE)","v":76.7},{"$f":"VLOOKUP($D144,'C.1 - Rate Sheets'!B:I,4,FALSE)","v":90.9},{"$f":"VLOOKUP($D144,'C.1 - Rate Sheets'!B:I,5,FALSE)","v":0},null,null,null,null,0,null,null,null,null,0,8,24,null,null,32,null,null,null,null,0,null,null,null,null,0,null,null,null,null,null,8,24,0,0,32,454.4,1840.8000000000002,0,0,2295.2000000000003,2295.2000000000003,"Yes",0,0,0]
[null,103,"Patrick Cambell","Ground Person","Vendor No 6","Zopf",913243112,"2018-10-26","2018-10-27",{"$f":"IF(AND(H145>='A - Contractor Summary'!$C$36,I145<='A - Contractor Summary'!$C$42),\"Yes\",\"No\")","v":"No"},{"$f":"VLOOKUP($D145,'C.1 - Rate Sheets'!B:I,2,FALSE)","v":40},{"$f":"VLOOKUP($D145,'C.1 - Rate Sheets'!B:I,3,FALSE)","v":54},{"$f":"VLOOKUP($D145,'C.1 - Rate Sheets'!B:I,4,FALSE)","v":64},{"$f":"VLOOKUP($D145,'C.1 - Rate Sheets'!B:I,5,FALSE)","v":0},null,null,null,null,0,null,null,null,null,0,8,24,null,null,32,null,null,null,null,0,null,null,null,null,0,null,null,null,null,null,8,24,0,0,32,320,1296,0,0,1616,1616,"Yes",0,0,0]
[null,104,"Chris Schwletterman","Crew Foreman","Vendor No 6","Schwletterman",913243113,"2018-10-26","2018-10-27",{"$f":"IF(AND(H146>='A - Contractor Summary'!$C$36,I146<='A - Contractor Summary'!$C$42),\"Yes\",\"No\")","v":"No"},{"$f":"VLOOKUP($D146,'C.1 - Rate Sheets'!B:I,2,FALSE)","v":56.8},{"$f":"VLOOKUP($D146,'C.1 - Rate Sheets'!B:I,3,FALSE)","v":76.7},{"$f":"VLOOKUP($D146,'C.1 - Rate Sheets'!B:I,4,FALSE)","v":90.9},{"$f":"VLOOKUP($D146,'C.1 - Rate Sheets'!B:I,5,FALSE)","v":0},null,null,null,null,0,null,null,null,null,0,null,8,24,null,32,null,null,null,null,0,null,null,null,null,0,null,null,null,null,null,0,8,24,0,32,0,613.6,2181.6000000000004,0,2795.2000000000003,2795.2000000000003,"Yes",0,0,0,3]
[null,105,"Asthan Kennedy","Ground Person","Vendor No 6","Schwletterman",913243113,"2018-10-26","2018-10-27",{"$f":"IF(AND(H147>='A - Contractor Summary'!$C$36,I147<='A - Contractor Summary'!$C$42),\"Yes\",\"No\")","v":"No"},{"$f":"VLOOKUP($D147,'C.1 - Rate Sheets'!B:I,2,FALSE)","v":40},{"$f":"VLOOKUP($D147,'C.1 - Rate Sheets'!B:I,3,FALSE)","v":54},{"$f":"VLOOKUP($D147,'C.1 - Rate Sheets'!B:I,4,FALSE)","v":64},{"$f":"VLOOKUP($D147,'C.1 - Rate Sheets'!B:I,5,FALSE)","v":0},null,null,null,null,{"$f":"SUM(O147:R147)","v":0},null,null,null,null,{"$f":"SUM(T147:W147)","v":0},8,22,null,null,{"$f":"SUM(Y147:AB147)","v":30},null,null,null,null,{"$f":"SUM(AD147:AG147)","v":0},null,null,null,null,{"$f":"SUM(AI147:AL147)","v":0},null,null,null,null,null,{"$f":"SUM(O147,T147,Y147,AD147,AI147,AN147)","v":8},{"$f":"SUM(P147,U147,Z147,AE147,AJ147,AO147)","v":22},{"$f":"SUM(Q147,V147,AA147,AF147,AK147,AP147)","v":0},{"$f":"SUM(R147,W147,AB147,AG147,AL147,AQ147)","v":0},{"$f":"SUM(AS147:AV147)","v":30},{"$f":"AS147*K147","v":320},{"$f":"AT147*L147","v":1188},{"$f":"AU147*M147","v":0},{"$f":"AV147*N147","v":0},{"$f":"SUM(AX147:BA147)","v":1508},{"$f":"BB147-BE147","v":1508},"Yes",0,0,0,3]
[null,105,"John Mayer","Ground Person","Vendor No 6","Schwletterman",913243113,"2018-10-26","2018-10-27",{"$f":"IF(AND(H148>='A - Contractor Summary'!$C$36,I148<='A - Contractor Summary'!$C$42),\"Yes\",\"No\")","v":"No"},{"$f":"VLOOKUP($D148,'C.1 - Rate Sheets'!B:I,2,FALSE)","v":40},{"$f":"VLOOKUP($D148,'C.1 - Rate Sheets'!B:I,3,FALSE)","v":54},{"$f":"VLOOKUP($D148,'C.1 - Rate Sheets'!B:I,4,FALSE)","v":64},{"$f":"VLOOKUP($D148,'C.1 - Rate Sheets'!B:I,5,FALSE)","v":0},null,null,null,null,0,null,null,null,null,0,8,22,null,null,30,null,null,null,null,0,null,null,null,null,0,null,null,null,null,null,8,22,0,0,30,320,1188,0,0,1508,1508,"Yes",0,0,0,3]
[null,106,"William Bryan","Crew Foreman","Vendor No 6","Bryan",913243114,"2018-10-26","2018-10-27",{"$f":"IF(AND(H149>='A - Contractor Summary'!$C$36,I149<='A - Contractor Summary'!$C$42),\"Yes\",\"No\")","v":"No"},{"$f":"VLOOKUP($D149,'C.1 - Rate Sheets'!B:I,2,FALSE)","v":56.8},{"$f":"VLOOKUP($D149,'C.1 - Rate Sheets'!B:I,3,FALSE)","v":76.7},{"$f":"VLOOKUP($D149,'C.1 - Rate Sheets'!B:I,4,FALSE)","v":90.9},{"$f":"VLOOKUP($D149,'C.1 - Rate Sheets'!B:I,5,FALSE)","v":0},null,null,null,null,0,null,null,null,null,0,8,24,null,null,32,null,null,null,null,0,null,null,null,null,0,null,null,null,null,null,8,24,0,0,32,454.4,1840.8000000000002,0,0,2295.2000000000003,2295.2000000000003,"Yes",0,0,0]
[null,107,"Andrew Vanco","Tree Trimmer","Vendor No 6","Bryan",913243114,"2018-10-26","2018-10-27",{"$f":"IF(AND(H150>='A - Contractor Summary'!$C$36,I150<='A - Contractor Summary'!$C$42),\"Yes\",\"No\")","v":"No"},{"$f":"VLOOKUP($D150,'C.1 - Rate Sheets'!B:I,2,FALSE)","v":48.5},{"$f":"VLOOKUP($D150,'C.1 - Rate Sheets'!B:I,3,FALSE)","v":65.5},{"$f":"VLOOKUP($D150,'C.1 - Rate Sheets'!B:I,4,FALSE)","v":77.599999999999994},{"$f":"VLOOKUP($D150,'C.1 - Rate Sheets'!B:I,5,FALSE)","v":0},null,null,null,null,0,null,null,null,null,0,8,24,null,null,32,null,null,null,null,0,null,null,null,null,0,null,null,null,null,null,8,24,0,0,32,388,1572,0,0,1960,1960,"Yes",0,0,0]
[null,108,"Sean Zak","Ground Person","Vendor No 6","Bryan",913243114,"2018-10-26","2018-10-27",{"$f":"IF(AND(H151>='A - Contractor Summary'!$C$36,I151<='A - Contractor Summary'!$C$42),\"Yes\",\"No\")","v":"No"},{"$f":"VLOOKUP($D151,'C.1 - Rate Sheets'!B:I,2,FALSE)","v":40},{"$f":"VLOOKUP($D151,'C.1 - Rate Sheets'!B:I,3,FALSE)","v":54},{"$f":"VLOOKUP($D151,'C.1 - Rate Sheets'!B:I,4,FALSE)","v":64},{"$f":"VLOOKUP($D151,'C.1 - Rate Sheets'!B:I,5,FALSE)","v":0},null,null,null,null,0,null,null,null,null,0,8,4,null,null,12,null,null,null,null,0,null,null,null,null,0,null,null,null,null,null,8,4,0,0,12,320,216,0,0,536,536,"Yes",0,0,0]
[null,109,"Keith Bell","Supervisor","Vendor No 6","Bell",913243115,"2018-10-26","2018-10-27",{"$f":"IF(AND(H152>='A - Contractor Summary'!$C$36,I152<='A - Contractor Summary'!$C$42),\"Yes\",\"No\")","v":"No"},{"$f":"VLOOKUP($D152,'C.1 - Rate Sheets'!B:I,2,FALSE)","v":74},{"$f":"VLOOKUP($D152,'C.1 - Rate Sheets'!B:I,3,FALSE)","v":99.9},{"$f":"VLOOKUP($D152,'C.1 - Rate Sheets'!B:I,4,FALSE)","v":118.4},{"$f":"VLOOKUP($D152,'C.1 - Rate Sheets'!B:I,5,FALSE)","v":0},null,null,null,null,0,null,null,null,null,0,8,24,null,null,32,null,null,null,null,0,null,null,null,null,0,null,null,null,null,null,8,24,0,0,32,592,2397.6000000000004,0,0,2989.6000000000004,2989.6000000000004,"Yes",0,0,0]
[null,110,"Robert Cambell","Crew Foreman","Vendor No 6","Cambell",913259277,"2018-10-21","2018-10-27",{"$f":"IF(AND(H153>='A - Contractor Summary'!$C$36,I153<='A - Contractor Summary'!$C$42),\"Yes\",\"No\")","v":"No"},{"$f":"VLOOKUP($D153,'C.1 - Rate Sheets'!B:I,2,FALSE)","v":56.8},{"$f":"VLOOKUP($D153,'C.1 - Rate Sheets'!B:I,3,FALSE)","v":76.7},{"$f":"VLOOKUP($D153,'C.1 - Rate Sheets'!B:I,4,FALSE)","v":90.9},{"$f":"VLOOKUP($D153,'C.1 - Rate Sheets'!B:I,5,FALSE)","v":0},null,null,null,null,0,null,null,null,null,0,32,32,16,null,80,null,null,null,null,0,null,null,null,null,0,null,null,null,null,null,32,32,16,0,80,1817.6,2454.4,1454.4,0,5726.4,5726.4,"Yes",0,0,0]
[null,111,"Kevin Wilson","Tree Trimmer","Vendor No 6","Cambell",913259277,"2018-10-21","2018-10-27",{"$f":"IF(AND(H154>='A - Contractor Summary'!$C$36,I154<='A - Contractor Summary'!$C$42),\"Yes\",\"No\")","v":"No"},{"$f":"VLOOKUP($D154,'C.1 - Rate Sheets'!B:I,2,FALSE)","v":48.5},{"$f":"VLOOKUP($D154,'C.1 - Rate Sheets'!B:I,3,FALSE)","v":65.5},{"$f":"VLOOKUP($D154,'C.1 - Rate Sheets'!B:I,4,FALSE)","v":77.599999999999994},{"$f":"VLOOKUP($D154,'C.1 - Rate Sheets'!B:I,5,FALSE)","v":0},null,null,null,null,{"$f":"SUM(O154:R154)","v":0},null,null,null,null,{"$f":"SUM(T154:W154)","v":0},24,24,16,null,{"$f":"SUM(Y154:AB154)","v":64},null,null,null,null,{"$f":"SUM(AD154:AG154)","v":0},null,null,null,null,{"$f":"SUM(AI154:AL154)","v":0},null,null,null,null,null,{"$f":"SUM(O154,T154,Y154,AD154,AI154,AN154)","v":24},{"$f":"SUM(P154,U154,Z154,AE154,AJ154,AO154)","v":24},{"$f":"SUM(Q154,V154,AA154,AF154,AK154,AP154)","v":16},{"$f":"SUM(R154,W154,AB154,AG154,AL154,AQ154)","v":0},{"$f":"SUM(AS154:AV154)","v":64},{"$f":"AS154*K154","v":1164},{"$f":"AT154*L154","v":1572},{"$f":"AU154*M154","v":1241.5999999999999},{"$f":"AV154*N154","v":0},{"$f":"SUM(AX154:BA154)","v":3977.6},{"$f":"BB154-BE154","v":3977.6},"Yes",0,0,0]
[null,111,"Bryan Caldwell","Tree Trimmer","Vendor No 6","Cambell",913259277,"2018-10-21","2018-10-27",{"$f":"IF(AND(H155>='A - Contractor Summary'!$C$36,I155<='A - Contractor Summary'!$C$42),\"Yes\",\"No\")","v":"No"},{"$f":"VLOOKUP($D155,'C.1 - Rate Sheets'!B:I,2,FALSE)","v":48.5},{"$f":"VLOOKUP($D155,'C.1 - Rate Sheets'!B:I,3,FALSE)","v":65.5},{"$f":"VLOOKUP($D155,'C.1 - Rate Sheets'!B:I,4,FALSE)","v":77.599999999999994},{"$f":"VLOOKUP($D155,'C.1 - Rate Sheets'!B:I,5,FALSE)","v":0},null,null,null,null,0,null,null,null,null,0,40,56,16,null,112,null,null,null,null,0,null,null,null,null,0,null,null,null,null,null,40,56,16,0,112,1940,3668,1241.5999999999999,0,6849.6,6849.6,"Yes",0,0,0]
[null,112,"Pascual Pablo","Crew Foreman","Vendor No 6","Jackson",913259282,"2018-10-21","2018-10-27",{"$f":"IF(AND(H156>='A - Contractor Summary'!$C$36,I156<='A - Contractor Summary'!$C$42),\"Yes\",\"No\")","v":"No"},{"$f":"VLOOKUP($D156,'C.1 - Rate Sheets'!B:I,2,FALSE)","v":56.8},{"$f":"VLOOKUP($D156,'C.1 - Rate Sheets'!B:I,3,FALSE)","v":76.7},{"$f":"VLOOKUP($D156,'C.1 - Rate Sheets'!B:I,4,FALSE)","v":90.9},{"$f":"VLOOKUP($D156,'C.1 - Rate Sheets'!B:I,5,FALSE)","v":0},null,null,null,null,0,null,null,null,null,0,40,56,16,null,112,null,null,null,null,0,null,null,null,null,0,null,null,null,null,null,40,56,16,0,112,2272,4295.2,1454.4,0,8021.6,8021.6,"Yes",0,0,0]
[null,113,"Jeremy McNamee","Tree Trimmer","Vendor No 6","Jackson",913259282,"2018-10-21","2018-10-27",{"$f":"IF(AND(H157>='A - Contractor Summary'!$C$36,I157<='A - Contractor Summary'!$C$42),\"Yes\",\"No\")","v":"No"},{"$f":"VLOOKUP($D157,'C.1 - Rate Sheets'!B:I,2,FALSE)","v":48.5},{"$f":"VLOOKUP($D157,'C.1 - Rate Sheets'!B:I,3,FALSE)","v":65.5},{"$f":"VLOOKUP($D157,'C.1 - Rate Sheets'!B:I,4,FALSE)","v":77.599999999999994},{"$f":"VLOOKUP($D157,'C.1 - Rate Sheets'!B:I,5,FALSE)","v":0},null,null,null,null,0,null,null,null,null,0,40,56,16,null,112,null,null,null,null,0,null,null,null,null,0,null,null,null,null,null,40,56,16,0,112,1940,3668,1241.5999999999999,0,6849.6,6849.6,"Yes",0,0,0]
[null,113,"Jeremy McNamee","Tree Trimmer","Vendor No 6","Jackson",913259282,"2018-10-21","2018-10-27",{"$f":"IF(AND(H158>='A - Contractor Summary'!$C$36,I158<='A - Contractor Summary'!$C$42),\"Yes\",\"No\")","v":"No"},{"$f":"VLOOKUP($D158,'C.1 - Rate Sheets'!B:I,2,FALSE)","v":48.5},{"$f":"VLOOKUP($D158,'C.1 - Rate Sheets'!B:I,3,FALSE)","v":65.5},{"$f":"VLOOKUP($D158,'C.1 - Rate Sheets'!B:I,4,FALSE)","v":77.599999999999994},{"$f":"VLOOKUP($D158,'C.1 - Rate Sheets'!B:I,5,FALSE)","v":0},null,null,null,null,{"$f":"SUM(O158:R158)","v":0},null,null,null,null,{"$f":"SUM(T158:W158)","v":0},40,56,16,null,{"$f":"SUM(Y158:AB158)","v":112},null,null,null,null,{"$f":"SUM(AD158:AG158)","v":0},null,null,null,null,{"$f":"SUM(AI158:AL158)","v":0},null,null,null,null,null,{"$f":"SUM(O158,T158,Y158,AD158,AI158,AN158)","v":40},{"$f":"SUM(P158,U158,Z158,AE158,AJ158,AO158)","v":56},{"$f":"SUM(Q158,V158,AA158,AF158,AK158,AP158)","v":16},{"$f":"SUM(R158,W158,AB158,AG158,AL158,AQ158)","v":0},{"$f":"SUM(AS158:AV158)","v":112},{"$f":"AS158*K158","v":1940},{"$f":"AT158*L158","v":3668},{"$f":"AU158*M158","v":1241.5999999999999},{"$f":"AV158*N158","v":0},{"$f":"SUM(AX158:BA158)","v":6849.6},{"$f":"BB158-BE158","v":6849.6},"Yes",0,0,0]
[null,114,"Samuel Jackson","Supervisor","Vendor No 6","Jackson",913259282,"2018-10-21","2018-10-27",{"$f":"IF(AND(H159>='A - Contractor Summary'!$C$36,I159<='A - Contractor Summary'!$C$42),\"Yes\",\"No\")","v":"No"},{"$f":"VLOOKUP($D159,'C.1 - Rate Sheets'!B:I,2,FALSE)","v":74},{"$f":"VLOOKUP($D159,'C.1 - Rate Sheets'!B:I,3,FALSE)","v":99.9},{"$f":"VLOOKUP($D159,'C.1 - Rate Sheets'!B:I,4,FALSE)","v":118.4},{"$f":"VLOOKUP($D159,'C.1 - Rate Sheets'!B:I,5,FALSE)","v":0},null,null,null,null,0,null,null,null,null,0,40,56,16,null,112,null,null,null,null,0,null,null,null,null,0,null,null,null,null,null,40,56,16,0,112,2960,5594.4000000000005,1894.4,0,10448.800000000001,10448.800000000001,"Yes",0,0,0]
[null,115,"Joel Long","Crew Foreman","Vendor No 6","Long",913259291,"2018-10-21","2018-10-27",{"$f":"IF(AND(H160>='A - Contractor Summary'!$C$36,I160<='A - Contractor Summary'!$C$42),\"Yes\",\"No\")","v":"No"},{"$f":"VLOOKUP($D160,'C.1 - Rate Sheets'!B:I,2,FALSE)","v":56.8},{"$f":"VLOOKUP($D160,'C.1 - Rate Sheets'!B:I,3,FALSE)","v":76.7},{"$f":"VLOOKUP($D160,'C.1 - Rate Sheets'!B:I,4,FALSE)","v":90.9},{"$f":"VLOOKUP($D160,'C.1 - Rate Sheets'!B:I,5,FALSE)","v":0},null,null,null,null,0,null,null,null,null,0,40,56,16,null,112,null,null,null,null,0,null,null,null,null,0,null,null,null,null,null,40,56,16,0,112,2272,4295.2,1454.4,0,8021.6,8021.6,"Yes",0,0,0]
[null,116,"Michael Davis","Tree Trimmer","Vendor No 6","Long",913259291,"2018-10-21","2018-10-27",{"$f":"IF(AND(H161>='A - Contractor Summary'!$C$36,I161<='A - Contractor Summary'!$C$42),\"Yes\",\"No\")","v":"No"},{"$f":"VLOOKUP($D161,'C.1 - Rate Sheets'!B:I,2,FALSE)","v":48.5},{"$f":"VLOOKUP($D161,'C.1 - Rate Sheets'!B:I,3,FALSE)","v":65.5},{"$f":"VLOOKUP($D161,'C.1 - Rate Sheets'!B:I,4,FALSE)","v":77.599999999999994},{"$f":"VLOOKUP($D161,'C.1 - Rate Sheets'!B:I,5,FALSE)","v":0},null,null,null,null,0,null,null,null,null,0,40,56,16,null,112,null,null,null,null,0,null,null,null,null,0,null,null,null,null,null,40,56,16,0,112,1940,3668,1241.5999999999999,0,6849.6,6849.6,"Yes",0,0,0]
[null,116,"Rammel Suarez","Tree Trimmer","Vendor No 6","Long",913259291,"2018-10-21","2018-10-27",{"$f":"IF(AND(H162>='A - Contractor Summary'!$C$36,I162<='A - Contractor Summary'!$C$42),\"Yes\",\"No\")","v":"No"},{"$f":"VLOOKUP($D162,'C.1 - Rate Sheets'!B:I,2,FALSE)","v":48.5},{"$f":"VLOOKUP($D162,'C.1 - Rate Sheets'!B:I,3,FALSE)","v":65.5},{"$f":"VLOOKUP($D162,'C.1 - Rate Sheets'!B:I,4,FALSE)","v":77.599999999999994},{"$f":"VLOOKUP($D162,'C.1 - Rate Sheets'!B:I,5,FALSE)","v":0},null,null,null,null,{"$f":"SUM(O162:R162)","v":0},null,null,null,null,{"$f":"SUM(T162:W162)","v":0},40,56,16,null,{"$f":"SUM(Y162:AB162)","v":112},null,null,null,null,{"$f":"SUM(AD162:AG162)","v":0},null,null,null,null,{"$f":"SUM(AI162:AL162)","v":0},null,null,null,null,null,{"$f":"SUM(O162,T162,Y162,AD162,AI162,AN162)","v":40},{"$f":"SUM(P162,U162,Z162,AE162,AJ162,AO162)","v":56},{"$f":"SUM(Q162,V162,AA162,AF162,AK162,AP162)","v":16},{"$f":"SUM(R162,W162,AB162,AG162,AL162,AQ162)","v":0},{"$f":"SUM(AS162:AV162)","v":112},{"$f":"AS162*K162","v":1940},{"$f":"AT162*L162","v":3668},{"$f":"AU162*M162","v":1241.5999999999999},{"$f":"AV162*N162","v":0},{"$f":"SUM(AX162:BA162)","v":6849.6},{"$f":"BB162-BE162","v":6849.6},"Yes",0,0,0]
[null,116,"Kisha Kahnike","Tree Trimmer","Vendor No 6","Long",913259291,"2018-10-21","2018-10-25",{"$f":"IF(AND(H163>='A - Contractor Summary'!$C$36,I163<='A - Contractor Summary'!$C$42),\"Yes\",\"No\")","v":"No"},{"$f":"VLOOKUP($D163,'C.1 - Rate Sheets'!B:I,2,FALSE)","v":48.5},{"$f":"VLOOKUP($D163,'C.1 - Rate Sheets'!B:I,3,FALSE)","v":65.5},{"$f":"VLOOKUP($D163,'C.1 - Rate Sheets'!B:I,4,FALSE)","v":77.599999999999994},{"$f":"VLOOKUP($D163,'C.1 - Rate Sheets'!B:I,5,FALSE)","v":0},null,null,null,null,0,null,null,null,null,0,32,32,16,null,80,null,null,null,null,0,null,null,null,null,0,null,null,null,null,null,32,32,16,0,80,1552,2096,1241.5999999999999,0,4889.6000000000004,4889.6000000000004,"Yes",0,0,0]
[null,117,"James Hardy","Crew Foreman","Vendor No 6","Hardy",913259293,"2018-10-21","2018-10-27",{"$f":"IF(AND(H164>='A - Contractor Summary'!$C$36,I164<='A - Contractor Summary'!$C$42),\"Yes\",\"No\")","v":"No"},{"$f":"VLOOKUP($D164,'C.1 - Rate Sheets'!B:I,2,FALSE)","v":56.8},{"$f":"VLOOKUP($D164,'C.1 - Rate Sheets'!B:I,3,FALSE)","v":76.7},{"$f":"VLOOKUP($D164,'C.1 - Rate Sheets'!B:I,4,FALSE)","v":90.9},{"$f":"VLOOKUP($D164,'C.1 - Rate Sheets'!B:I,5,FALSE)","v":0},null,null,null,null,0,null,null,null,null,0,40,56,16,null,112,null,null,null,null,0,null,null,null,null,0,null,null,null,null,null,40,56,16,0,112,2272,4295.2,1454.4,0,8021.6,8021.6,"Yes",0,0,0]
[null,118,"John Erti","Tree Trimmer","Vendor No 6","Hardy",913259293,"2018-10-21","2018-10-27",{"$f":"IF(AND(H165>='A - Contractor Summary'!$C$36,I165<='A - Contractor Summary'!$C$42),\"Yes\",\"No\")","v":"No"},{"$f":"VLOOKUP($D165,'C.1 - Rate Sheets'!B:I,2,FALSE)","v":48.5},{"$f":"VLOOKUP($D165,'C.1 - Rate Sheets'!B:I,3,FALSE)","v":65.5},{"$f":"VLOOKUP($D165,'C.1 - Rate Sheets'!B:I,4,FALSE)","v":77.599999999999994},{"$f":"VLOOKUP($D165,'C.1 - Rate Sheets'!B:I,5,FALSE)","v":0},null,null,null,null,0,null,null,null,null,0,40,56,16,null,112,null,null,null,null,0,null,null,null,null,0,null,null,null,null,null,40,56,16,0,112,1940,3668,1241.5999999999999,0,6849.6,6849.6,"Yes",0,0,0]
[null,119,"Romulo Melgar","Crew Foreman","Vendor No 6","Melgar",913259355,"2018-10-21","2018-10-27",{"$f":"IF(AND(H166>='A - Contractor Summary'!$C$36,I166<='A - Contractor Summary'!$C$42),\"Yes\",\"No\")","v":"No"},{"$f":"VLOOKUP($D166,'C.1 - Rate Sheets'!B:I,2,FALSE)","v":56.8},{"$f":"VLOOKUP($D166,'C.1 - Rate Sheets'!B:I,3,FALSE)","v":76.7},{"$f":"VLOOKUP($D166,'C.1 - Rate Sheets'!B:I,4,FALSE)","v":90.9},{"$f":"VLOOKUP($D166,'C.1 - Rate Sheets'!B:I,5,FALSE)","v":0},null,null,null,null,0,null,null,null,null,0,40,56,16,null,112,null,null,null,null,0,null,null,null,null,0,null,null,null,null,null,40,56,16,0,112,2272,4295.2,1454.4,0,8021.6,8021.6,"Yes",0,0,0]
[null,119,"Gamaller Ramirez","Crew Foreman","Vendor No 6","Melgar",913259355,"2018-10-21","2018-10-27",{"$f":"IF(AND(H167>='A - Contractor Summary'!$C$36,I167<='A - Contractor Summary'!$C$42),\"Yes\",\"No\")","v":"No"},{"$f":"VLOOKUP($D167,'C.1 - Rate Sheets'!B:I,2,FALSE)","v":56.8},{"$f":"VLOOKUP($D167,'C.1 - Rate Sheets'!B:I,3,FALSE)","v":76.7},{"$f":"VLOOKUP($D167,'C.1 - Rate Sheets'!B:I,4,FALSE)","v":90.9},{"$f":"VLOOKUP($D167,'C.1 - Rate Sheets'!B:I,5,FALSE)","v":0},null,null,null,null,{"$f":"SUM(O167:R167)","v":0},null,null,null,null,{"$f":"SUM(T167:W167)","v":0},40,56,16,null,{"$f":"SUM(Y167:AB167)","v":112},null,null,null,null,{"$f":"SUM(AD167:AG167)","v":0},null,null,null,null,{"$f":"SUM(AI167:AL167)","v":0},null,null,null,null,null,{"$f":"SUM(O167,T167,Y167,AD167,AI167,AN167)","v":40},{"$f":"SUM(P167,U167,Z167,AE167,AJ167,AO167)","v":56},{"$f":"SUM(Q167,V167,AA167,AF167,AK167,AP167)","v":16},{"$f":"SUM(R167,W167,AB167,AG167,AL167,AQ167)","v":0},{"$f":"SUM(AS167:AV167)","v":112},{"$f":"AS167*K167","v":2272},{"$f":"AT167*L167","v":4295.2},{"$f":"AU167*M167","v":1454.4},{"$f":"AV167*N167","v":0},{"$f":"SUM(AX167:BA167)","v":8021.6},{"$f":"BB167-BE167","v":8021.6},"Yes",0,0,0]
[null,119,"Ormand Mendoza-Rivero","Crew Foreman","Vendor No 6","Melgar",913259355,"2018-10-21","2018-10-27",{"$f":"IF(AND(H168>='A - Contractor Summary'!$C$36,I168<='A - Contractor Summary'!$C$42),\"Yes\",\"No\")","v":"No"},{"$f":"VLOOKUP($D168,'C.1 - Rate Sheets'!B:I,2,FALSE)","v":56.8},{"$f":"VLOOKUP($D168,'C.1 - Rate Sheets'!B:I,3,FALSE)","v":76.7},{"$f":"VLOOKUP($D168,'C.1 - Rate Sheets'!B:I,4,FALSE)","v":90.9},{"$f":"VLOOKUP($D168,'C.1 - Rate Sheets'!B:I,5,FALSE)","v":0},null,null,null,null,0,null,null,null,null,0,40,56,16,null,112,null,null,null,null,0,null,null,null,null,0,null,null,null,null,null,40,56,16,0,112,2272,4295.2,1454.4,0,8021.6,8021.6,"Yes",0,0,0]
[null,119,"Pedro Caspedes","Crew Foreman","Vendor No 6","Melgar",913259355,"2018-10-21","2018-10-27",{"$f":"IF(AND(H169>='A - Contractor Summary'!$C$36,I169<='A - Contractor Summary'!$C$42),\"Yes\",\"No\")","v":"No"},{"$f":"VLOOKUP($D169,'C.1 - Rate Sheets'!B:I,2,FALSE)","v":56.8},{"$f":"VLOOKUP($D169,'C.1 - Rate Sheets'!B:I,3,FALSE)","v":76.7},{"$f":"VLOOKUP($D169,'C.1 - Rate Sheets'!B:I,4,FALSE)","v":90.9},{"$f":"VLOOKUP($D169,'C.1 - Rate Sheets'!B:I,5,FALSE)","v":0},null,null,null,null,0,null,null,null,null,0,40,56,16,null,112,null,null,null,null,0,null,null,null,null,0,null,null,null,null,null,40,56,16,0,112,2272,4295.2,1454.4,0,8021.6,8021.6,"Yes",0,0,0]
[null,120,"Eddy Mendoza-Rhero","Tree Trimmer","Vendor No 6","Melgar",913259355,"2018-10-21","2018-10-27",{"$f":"IF(AND(H170>='A - Contractor Summary'!$C$36,I170<='A - Contractor Summary'!$C$42),\"Yes\",\"No\")","v":"No"},{"$f":"VLOOKUP($D170,'C.1 - Rate Sheets'!B:I,2,FALSE)","v":48.5},{"$f":"VLOOKUP($D170,'C.1 - Rate Sheets'!B:I,3,FALSE)","v":65.5},{"$f":"VLOOKUP($D170,'C.1 - Rate Sheets'!B:I,4,FALSE)","v":77.599999999999994},{"$f":"VLOOKUP($D170,'C.1 - Rate Sheets'!B:I,5,FALSE)","v":0},null,null,null,null,0,null,null,null,null,0,40,56,16,null,112,null,null,null,null,0,null,null,null,null,0,null,null,null,null,null,40,56,16,0,112,1940,3668,1241.5999999999999,0,6849.6,6849.6,"Yes",0,0,0]
[null,120,"Julio Rayes","Tree Trimmer","Vendor No 6","Melgar",913259355,"2018-10-21","2018-10-27",{"$f":"IF(AND(H171>='A - Contractor Summary'!$C$36,I171<='A - Contractor Summary'!$C$42),\"Yes\",\"No\")","v":"No"},{"$f":"VLOOKUP($D171,'C.1 - Rate Sheets'!B:I,2,FALSE)","v":48.5},{"$f":"VLOOKUP($D171,'C.1 - Rate Sheets'!B:I,3,FALSE)","v":65.5},{"$f":"VLOOKUP($D171,'C.1 - Rate Sheets'!B:I,4,FALSE)","v":77.599999999999994},{"$f":"VLOOKUP($D171,'C.1 - Rate Sheets'!B:I,5,FALSE)","v":0},null,null,null,null,0,null,null,null,null,0,40,56,16,null,112,null,null,null,null,0,null,null,null,null,0,null,null,null,null,null,40,56,16,0,112,1940,3668,1241.5999999999999,0,6849.6,6849.6,"Yes",0,0,0]
[null,121,"Ramon Velasquez","Supervisor","Vendor No 6","Velasquez",913259357,"2018-10-21","2018-10-27",{"$f":"IF(AND(H172>='A - Contractor Summary'!$C$36,I172<='A - Contractor Summary'!$C$42),\"Yes\",\"No\")","v":"No"},{"$f":"VLOOKUP($D172,'C.1 - Rate Sheets'!B:I,2,FALSE)","v":74},{"$f":"VLOOKUP($D172,'C.1 - Rate Sheets'!B:I,3,FALSE)","v":99.9},{"$f":"VLOOKUP($D172,'C.1 - Rate Sheets'!B:I,4,FALSE)","v":118.4},{"$f":"VLOOKUP($D172,'C.1 - Rate Sheets'!B:I,5,FALSE)","v":0},null,null,null,null,0,null,null,null,null,0,40,56,16,null,112,null,null,null,null,0,null,null,null,null,0,null,null,null,null,null,40,56,16,0,112,2960,5594.4000000000005,1894.4,0,10448.800000000001,10448.800000000001,"Yes",0,0,0]
[null,122,"No support","Crew Foreman","Vendor No 6","no support",913262294,"2018-10-21","2018-10-27",{"$f":"IF(AND(H173>='A - Contractor Summary'!$C$36,I173<='A - Contractor Summary'!$C$42),\"Yes\",\"No\")","v":"No"},{"$f":"VLOOKUP($D173,'C.1 - Rate Sheets'!B:I,2,FALSE)","v":56.8},{"$f":"VLOOKUP($D173,'C.1 - Rate Sheets'!B:I,3,FALSE)","v":76.7},{"$f":"VLOOKUP($D173,'C.1 - Rate Sheets'!B:I,4,FALSE)","v":90.9},{"$f":"VLOOKUP($D173,'C.1 - Rate Sheets'!B:I,5,FALSE)","v":0},null,null,null,null,0,null,null,null,null,0,8,24,null,null,32,null,null,null,null,0,null,null,null,null,0,null,null,null,null,null,8,24,0,0,32,454.4,1840.8000000000002,0,0,2295.2000000000003,2295.2000000000003,"Yes",0,0,0,4]
[null,123,"No support","Tree Trimmer","Vendor No 6","no support",913262294,"2018-10-21","2018-10-27",{"$f":"IF(AND(H174>='A - Contractor Summary'!$C$36,I174<='A - Contractor Summary'!$C$42),\"Yes\",\"No\")","v":"No"},{"$f":"VLOOKUP($D174,'C.1 - Rate Sheets'!B:I,2,FALSE)","v":48.5},{"$f":"VLOOKUP($D174,'C.1 - Rate Sheets'!B:I,3,FALSE)","v":65.5},{"$f":"VLOOKUP($D174,'C.1 - Rate Sheets'!B:I,4,FALSE)","v":77.599999999999994},{"$f":"VLOOKUP($D174,'C.1 - Rate Sheets'!B:I,5,FALSE)","v":0},null,null,null,null,0,null,null,null,null,0,8,24,null,null,32,null,null,null,null,0,null,null,null,null,0,null,null,null,null,null,8,24,0,0,32,388,1572,0,0,1960,1960,"Yes",0,0,0,4]
[null,124,"Manuel Acosta","Crew Foreman","Vendor No 6","Acosta",913262502,"2018-10-26","2018-10-27",{"$f":"IF(AND(H175>='A - Contractor Summary'!$C$36,I175<='A - Contractor Summary'!$C$42),\"Yes\",\"No\")","v":"No"},{"$f":"VLOOKUP($D175,'C.1 - Rate Sheets'!B:I,2,FALSE)","v":56.8},{"$f":"VLOOKUP($D175,'C.1 - Rate Sheets'!B:I,3,FALSE)","v":76.7},{"$f":"VLOOKUP($D175,'C.1 - Rate Sheets'!B:I,4,FALSE)","v":90.9},{"$f":"VLOOKUP($D175,'C.1 - Rate Sheets'!B:I,5,FALSE)","v":0},null,null,null,null,0,null,null,null,null,0,8,24,null,null,32,null,null,null,null,0,null,null,null,null,0,null,null,null,null,null,8,24,0,0,32,454.4,1840.8000000000002,0,0,2295.2000000000003,2295.2000000000003,"Yes",0,0,0]
[null,125,"Jose Hernandez","Tree Trimmer","Vendor No 6","Acosta",913262502,"2018-10-26","2018-10-27",{"$f":"IF(AND(H176>='A - Contractor Summary'!$C$36,I176<='A - Contractor Summary'!$C$42),\"Yes\",\"No\")","v":"No"},{"$f":"VLOOKUP($D176,'C.1 - Rate Sheets'!B:I,2,FALSE)","v":48.5},{"$f":"VLOOKUP($D176,'C.1 - Rate Sheets'!B:I,3,FALSE)","v":65.5},{"$f":"VLOOKUP($D176,'C.1 - Rate Sheets'!B:I,4,FALSE)","v":77.599999999999994},{"$f":"VLOOKUP($D176,'C.1 - Rate Sheets'!B:I,5,FALSE)","v":0},null,null,null,null,0,null,null,null,null,0,8,24,null,null,32,null,null,null,null,0,null,null,null,null,0,null,null,null,null,null,8,24,0,0,32,388,1572,0,0,1960,1960,"Yes",0,0,0]
[null,126,"Conley, Christopher","Crew Foreman","Vendor No 6","Conley",913262582,"2018-10-26","2018-10-27",{"$f":"IF(AND(H177>='A - Contractor Summary'!$C$36,I177<='A - Contractor Summary'!$C$42),\"Yes\",\"No\")","v":"No"},{"$f":"VLOOKUP($D177,'C.1 - Rate Sheets'!B:I,2,FALSE)","v":56.8},{"$f":"VLOOKUP($D177,'C.1 - Rate Sheets'!B:I,3,FALSE)","v":76.7},{"$f":"VLOOKUP($D177,'C.1 - Rate Sheets'!B:I,4,FALSE)","v":90.9},{"$f":"VLOOKUP($D177,'C.1 - Rate Sheets'!B:I,5,FALSE)","v":0},null,null,null,null,0,null,null,null,null,0,8,24,null,null,32,null,null,null,null,0,null,null,null,null,0,null,null,null,null,null,8,24,0,0,32,454.4,1840.8000000000002,0,0,2295.2000000000003,2295.2000000000003,"Yes",0,0,0]
[null,127,"Garcia, Francisco","Tree Trimmer","Vendor No 6","Conley",913262582,"2018-10-26","2018-10-27",{"$f":"IF(AND(H178>='A - Contractor Summary'!$C$36,I178<='A - Contractor Summary'!$C$42),\"Yes\",\"No\")","v":"No"},{"$f":"VLOOKUP($D178,'C.1 - Rate Sheets'!B:I,2,FALSE)","v":48.5},{"$f":"VLOOKUP($D178,'C.1 - Rate Sheets'!B:I,3,FALSE)","v":65.5},{"$f":"VLOOKUP($D178,'C.1 - Rate Sheets'!B:I,4,FALSE)","v":77.599999999999994},{"$f":"VLOOKUP($D178,'C.1 - Rate Sheets'!B:I,5,FALSE)","v":0},null,null,null,null,0,null,null,null,null,0,8,24,null,null,32,null,null,null,null,0,null,null,null,null,0,null,null,null,null,null,8,24,0,0,32,388,1572,0,0,1960,1960,"Yes",0,0,0]
[null,128,"Joseph Pate","Supervisor","Vendor No 6","Pate",913281758,"2018-10-21","2018-10-27",{"$f":"IF(AND(H179>='A - Contractor Summary'!$C$36,I179<='A - Contractor Summary'!$C$42),\"Yes\",\"No\")","v":"No"},{"$f":"VLOOKUP($D179,'C.1 - Rate Sheets'!B:I,2,FALSE)","v":74},{"$f":"VLOOKUP($D179,'C.1 - Rate Sheets'!B:I,3,FALSE)","v":99.9},{"$f":"VLOOKUP($D179,'C.1 - Rate Sheets'!B:I,4,FALSE)","v":118.4},{"$f":"VLOOKUP($D179,'C.1 - Rate Sheets'!B:I,5,FALSE)","v":0},null,null,null,null,0,null,null,null,null,0,32,53,16,null,101,null,null,null,null,0,null,null,null,null,0,null,null,null,null,null,32,53,16,0,101,2368,5294.7000000000007,1894.4,0,9557.1,9557.1,"Yes",0,0,0]
[null,129,"Kallmayer, David","Crew Foreman","Vendor No 6","Kallmayer",913281761,"2018-10-21","2018-10-27",{"$f":"IF(AND(H180>='A - Contractor Summary'!$C$36,I180<='A - Contractor Summary'!$C$42),\"Yes\",\"No\")","v":"No"},{"$f":"VLOOKUP($D180,'C.1 - Rate Sheets'!B:I,2,FALSE)","v":56.8},{"$f":"VLOOKUP($D180,'C.1 - Rate Sheets'!B:I,3,FALSE)","v":76.7},{"$f":"VLOOKUP($D180,'C.1 - Rate Sheets'!B:I,4,FALSE)","v":90.9},{"$f":"VLOOKUP($D180,'C.1 - Rate Sheets'!B:I,5,FALSE)","v":0},null,null,null,null,0,null,null,null,null,0,32,53,16,null,101,null,null,null,null,0,null,null,null,null,0,null,null,null,null,null,32,53,16,0,101,1817.6,4065.1000000000004,1454.4,0,7337.1,7337.1,"Yes",0,0,0]
[null,130,"Sansom, James","Tree Trimmer","Vendor No 6","Kallmayer",913281761,"2018-10-21","2018-10-27",{"$f":"IF(AND(H181>='A - Contractor Summary'!$C$36,I181<='A - Contractor Summary'!$C$42),\"Yes\",\"No\")","v":"No"},{"$f":"VLOOKUP($D181,'C.1 - Rate Sheets'!B:I,2,FALSE)","v":48.5},{"$f":"VLOOKUP($D181,'C.1 - Rate Sheets'!B:I,3,FALSE)","v":65.5},{"$f":"VLOOKUP($D181,'C.1 - Rate Sheets'!B:I,4,FALSE)","v":77.599999999999994},{"$f":"VLOOKUP($D181,'C.1 - Rate Sheets'!B:I,5,FALSE)","v":0},null,null,null,null,{"$f":"SUM(O181:R181)","v":0},null,null,null,null,{"$f":"SUM(T181:W181)","v":0},32,53,16,null,{"$f":"SUM(Y181:AB181)","v":101},null,null,null,null,{"$f":"SUM(AD181:AG181)","v":0},null,null,null,null,{"$f":"SUM(AI181:AL181)","v":0},null,null,null,null,null,32,53,16,0,101,1552,3471.5,1241.5999999999999,0,6265.1,6265.1,"Yes",0,0,0]
[null,131,"Kepler, Mike","Crew Foreman","Vendor No 6","Kepler",913281769,"2018-10-21","2018-10-27",{"$f":"IF(AND(H182>='A - Contractor Summary'!$C$36,I182<='A - Contractor Summary'!$C$42),\"Yes\",\"No\")","v":"No"},{"$f":"VLOOKUP($D182,'C.1 - Rate Sheets'!B:I,2,FALSE)","v":56.8},{"$f":"VLOOKUP($D182,'C.1 - Rate Sheets'!B:I,3,FALSE)","v":76.7},{"$f":"VLOOKUP($D182,'C.1 - Rate Sheets'!B:I,4,FALSE)","v":90.9},{"$f":"VLOOKUP($D182,'C.1 - Rate Sheets'!B:I,5,FALSE)","v":0},null,null,null,null,0,null,null,null,null,0,32,56,16,null,104,null,null,null,null,0,null,null,null,null,0,null,null,null,null,null,32,56,16,0,104,{"$f":"AS182*K182","v":1817.6},{"$f":"AT182*L182","v":4295.2},{"$f":"AU182*M182","v":1454.4},{"$f":"AV182*N182","v":0},{"$f":"SUM(AX182:BA182)","v":7567.1999999999989},7567.1999999999989,"Yes",0,0,0]
[null,132,"Cardo, Rafael","Tree Trimmer","Vendor No 6","Kepler",913281769,"2018-10-21","2018-10-23",{"$f":"IF(AND(H183>='A - Contractor Summary'!$C$36,I183<='A - Contractor Summary'!$C$42),\"Yes\",\"No\")","v":"No"},{"$f":"VLOOKUP($D183,'C.1 - Rate Sheets'!B:I,2,FALSE)","v":48.5},{"$f":"VLOOKUP($D183,'C.1 - Rate Sheets'!B:I,3,FALSE)","v":65.5},{"$f":"VLOOKUP($D183,'C.1 - Rate Sheets'!B:I,4,FALSE)","v":77.599999999999994},{"$f":"VLOOKUP($D183,'C.1 - Rate Sheets'!B:I,5,FALSE)","v":0},null,null,null,null,{"$f":"SUM(O183:R183)","v":0},null,null,null,null,{"$f":"SUM(T183:W183)","v":0},20,12,8,null,{"$f":"SUM(Y183:AB183)","v":40},null,null,null,null,{"$f":"SUM(AD183:AG183)","v":0},null,null,null,null,{"$f":"SUM(AI183:AL183)","v":0},null,null,null,null,null,{"$f":"SUM(O183,T183,Y183,AD183,AI183,AN183)","v":20},{"$f":"SUM(P183,U183,Z183,AE183,AJ183,AO183)","v":12},{"$f":"SUM(Q183,V183,AA183,AF183,AK183,AP183)","v":8},{"$f":"SUM(R183,W183,AB183,AG183,AL183,AQ183)","v":0},{"$f":"SUM(AS183:AV183)","v":40},{"$f":"AS183*K183","v":970},{"$f":"AT183*L183","v":786},{"$f":"AU183*M183","v":620.79999999999995},{"$f":"AV183*N183","v":0},{"$f":"SUM(AX183:BA183)","v":2376.8000000000002},{"$f":"BB183-BE183","v":2376.8000000000002},"Yes",0,0,0]
[null,132,"Vincent Santoyo","Tree Trimmer","Vendor No 6","Kepler",913281769,"2018-10-23","2018-10-27",{"$f":"IF(AND(H184>='A - Contractor Summary'!$C$36,I184<='A - Contractor Summary'!$C$42),\"Yes\",\"No\")","v":"No"},{"$f":"VLOOKUP($D184,'C.1 - Rate Sheets'!B:I,2,FALSE)","v":48.5},{"$f":"VLOOKUP($D184,'C.1 - Rate Sheets'!B:I,3,FALSE)","v":65.5},{"$f":"VLOOKUP($D184,'C.1 - Rate Sheets'!B:I,4,FALSE)","v":77.599999999999994},{"$f":"VLOOKUP($D184,'C.1 - Rate Sheets'!B:I,5,FALSE)","v":0},null,null,null,null,0,null,null,null,null,0,24,40,0,null,64,null,null,null,null,0,null,null,null,null,0,null,null,null,null,null,24,40,0,0,64,1164,2620,0,0,3784,3784,"Yes",0,0,0]
[null,133,"Robert Ellis","On-Site Safety Coordinator","Vendor No 6","Ellis",913293317,"2018-10-21","2018-10-25",{"$f":"IF(AND(H185>='A - Contractor Summary'!$C$36,I185<='A - Contractor Summary'!$C$42),\"Yes\",\"No\")","v":"No"},{"$f":"VLOOKUP($D185,'C.1 - Rate Sheets'!B:I,2,FALSE)","v":65},{"$f":"VLOOKUP($D185,'C.1 - Rate Sheets'!B:I,3,FALSE)","v":65},{"$f":"VLOOKUP($D185,'C.1 - Rate Sheets'!B:I,4,FALSE)","v":65},{"$f":"VLOOKUP($D185,'C.1 - Rate Sheets'!B:I,5,FALSE)","v":0},null,null,null,null,0,null,null,null,null,0,24,20,14,null,58,null,null,null,null,0,null,null,null,null,0,null,null,null,null,null,24,20,14,0,58,1560,1300,910,0,3770,3770,"Yes",0,0,0]
[null,134,"Random Palmer","On-Site Safety Coordinator","Vendor No 6","Palmer",913293318,"2018-10-21","2018-10-27",{"$f":"IF(AND(H186>='A - Contractor Summary'!$C$36,I186<='A - Contractor Summary'!$C$42),\"Yes\",\"No\")","v":"No"},{"$f":"VLOOKUP($D186,'C.1 - Rate Sheets'!B:I,2,FALSE)","v":65},{"$f":"VLOOKUP($D186,'C.1 - Rate Sheets'!B:I,3,FALSE)","v":65},{"$f":"VLOOKUP($D186,'C.1 - Rate Sheets'!B:I,4,FALSE)","v":65},{"$f":"VLOOKUP($D186,'C.1 - Rate Sheets'!B:I,5,FALSE)","v":0},null,null,null,null,0,null,null,null,null,0,40,44,14,null,98,null,null,null,null,0,null,null,null,null,0,null,null,null,null,null,40,44,14,0,98,2600,2860,910,0,6370,{"$f":"BB186-BE186","v":6370},"Yes",0,0,0]
[null,135,"Kenny Rowe","On-Site Safety Coordinator","Vendor No 6","Rowe",913293319,"2018-10-21","2018-10-27",{"$f":"IF(AND(H187>='A - Contractor Summary'!$C$36,I187<='A - Contractor Summary'!$C$42),\"Yes\",\"No\")","v":"No"},{"$f":"VLOOKUP($D187,'C.1 - Rate Sheets'!B:I,2,FALSE)","v":65},{"$f":"VLOOKUP($D187,'C.1 - Rate Sheets'!B:I,3,FALSE)","v":65},{"$f":"VLOOKUP($D187,'C.1 - Rate Sheets'!B:I,4,FALSE)","v":65},{"$f":"VLOOKUP($D187,'C.1 - Rate Sheets'!B:I,5,FALSE)","v":0},null,null,null,null,0,null,null,null,null,0,8,20,12,null,40,null,null,null,null,0,null,null,null,null,0,null,null,null,null,null,{"$f":"SUM(O187,T187,Y187,AD187,AI187,AN187)","v":8},{"$f":"SUM(P187,U187,Z187,AE187,AJ187,AO187)","v":20},{"$f":"SUM(Q187,V187,AA187,AF187,AK187,AP187)","v":12},{"$f":"SUM(R187,W187,AB187,AG187,AL187,AQ187)","v":0},{"$f":"SUM(AS187:AV187)","v":40},520,1300,780,0,2600,2600,"Yes",0,0,0]
[null,136,"Harold Danielson","On-Site Safety Coordinator","Vendor No 6","Danielson",913293320,"2018-10-26","2018-10-27",{"$f":"IF(AND(H188>='A - Contractor Summary'!$C$36,I188<='A - Contractor Summary'!$C$42),\"Yes\",\"No\")","v":"No"},{"$f":"VLOOKUP($D188,'C.1 - Rate Sheets'!B:I,2,FALSE)","v":65},{"$f":"VLOOKUP($D188,'C.1 - Rate Sheets'!B:I,3,FALSE)","v":65},{"$f":"VLOOKUP($D188,'C.1 - Rate Sheets'!B:I,4,FALSE)","v":65},{"$f":"VLOOKUP($D188,'C.1 - Rate Sheets'!B:I,5,FALSE)","v":0},null,null,null,null,0,null,null,null,null,0,8,20,null,null,28,null,null,null,null,0,null,null,null,null,0,null,null,null,null,null,8,20,0,0,28,520,1300,0,0,1820,1820,"Yes",0,0,0]
[null,137,"Brian Parris","On-Site Safety Coordinator","Vendor No 6","Parris",913293321,"2018-10-24","2018-10-27",{"$f":"IF(AND(H189>='A - Contractor Summary'!$C$36,I189<='A - Contractor Summary'!$C$42),\"Yes\",\"No\")","v":"No"},{"$f":"VLOOKUP($D189,'C.1 - Rate Sheets'!B:I,2,FALSE)","v":65},{"$f":"VLOOKUP($D189,'C.1 - Rate Sheets'!B:I,3,FALSE)","v":65},{"$f":"VLOOKUP($D189,'C.1 - Rate Sheets'!B:I,4,FALSE)","v":65},{"$f":"VLOOKUP($D189,'C.1 - Rate Sheets'!B:I,5,FALSE)","v":0},null,null,null,null,0,null,null,null,null,0,16,26,null,null,42,null,null,null,null,0,null,null,null,null,0,null,null,null,null,null,16,26,0,0,42,1040,1690,0,0,2730,2730,"Yes",0,0,0]
[null,138,"Bradley Gonzalez","On-Site Safety Coordinator","Vendor No 6","Gonzalez",913293322,"2018-10-21","2018-10-27",{"$f":"IF(AND(H190>='A - Contractor Summary'!$C$36,I190<='A - Contractor Summary'!$C$42),\"Yes\",\"No\")","v":"No"},{"$f":"VLOOKUP($D190,'C.1 - Rate Sheets'!B:I,2,FALSE)","v":65},{"$f":"VLOOKUP($D190,'C.1 - Rate Sheets'!B:I,3,FALSE)","v":65},{"$f":"VLOOKUP($D190,'C.1 - Rate Sheets'!B:I,4,FALSE)","v":65},{"$f":"VLOOKUP($D190,'C.1 - Rate Sheets'!B:I,5,FALSE)","v":0},null,null,null,null,0,null,null,null,null,0,40,42,14,null,96,null,null,null,null,0,null,null,null,null,0,null,null,null,null,null,40,42,14,0,96,2600,2730,910,0,6240,6240,"Yes",0,0,0,5]
[null,139,"Garcia, Alejandro","Crew Foreman","Vendor No 6","Garcia",913333188,"2018-10-21","2018-10-27",{"$f":"IF(AND(H191>='A - Contractor Summary'!$C$36,I191<='A - Contractor Summary'!$C$42),\"Yes\",\"No\")","v":"No"},{"$f":"VLOOKUP($D191,'C.1 - Rate Sheets'!B:I,2,FALSE)","v":56.8},{"$f":"VLOOKUP($D191,'C.1 - Rate Sheets'!B:I,3,FALSE)","v":76.7},{"$f":"VLOOKUP($D191,'C.1 - Rate Sheets'!B:I,4,FALSE)","v":90.9},{"$f":"VLOOKUP($D191,'C.1 - Rate Sheets'!B:I,5,FALSE)","v":0},null,null,null,null,0,null,null,null,null,0,40,52,16,null,108,null,null,null,null,0,null,null,null,null,0,null,null,null,null,null,40,52,16,0,108,2272,3988.4,1454.4,0,7714.7999999999993,7714.7999999999993,"Yes",0,0,0,5]
[null,140,"Yuhas, Matthew","Tree Trimmer","Vendor No 6","Garcia",913333188,"2018-10-21","2018-10-27",{"$f":"IF(AND(H192>='A - Contractor Summary'!$C$36,I192<='A - Contractor Summary'!$C$42),\"Yes\",\"No\")","v":"No"},{"$f":"VLOOKUP($D192,'C.1 - Rate Sheets'!B:I,2,FALSE)","v":48.5},{"$f":"VLOOKUP($D192,'C.1 - Rate Sheets'!B:I,3,FALSE)","v":65.5},{"$f":"VLOOKUP($D192,'C.1 - Rate Sheets'!B:I,4,FALSE)","v":77.599999999999994},{"$f":"VLOOKUP($D192,'C.1 - Rate Sheets'!B:I,5,FALSE)","v":0},null,null,null,null,0,null,null,null,null,0,40,52,16,null,108,null,null,null,null,0,null,null,null,null,0,null,null,null,null,null,40,52,16,0,108,1940,3406,1241.5999999999999,0,6587.6,6587.6,"Yes",0,0,0,5]
[null,141,"Pate, Joseph","Supervisor","Vendor No 6","Pate",913333193,"2018-10-21","2018-10-27",{"$f":"IF(AND(H193>='A - Contractor Summary'!$C$36,I193<='A - Contractor Summary'!$C$42),\"Yes\",\"No\")","v":"No"},{"$f":"VLOOKUP($D193,'C.1 - Rate Sheets'!B:I,2,FALSE)","v":74},{"$f":"VLOOKUP($D193,'C.1 - Rate Sheets'!B:I,3,FALSE)","v":99.9},{"$f":"VLOOKUP($D193,'C.1 - Rate Sheets'!B:I,4,FALSE)","v":118.4},{"$f":"VLOOKUP($D193,'C.1 - Rate Sheets'!B:I,5,FALSE)","v":0},null,null,null,null,0,null,null,null,null,0,40,52,16,null,108,null,null,null,null,0,null,null,null,null,0,null,null,null,null,null,40,52,16,0,108,2960,5194.8,1894.4,0,10049.200000000001,10049.200000000001,"Yes",0,0,0,5]
[null,142,"Kelly Alvarez","Crew Foreman","Vendor No 6","Alverez",913346156,"2018-10-26","2018-10-27",{"$f":"IF(AND(H194>='A - Contractor Summary'!$C$36,I194<='A - Contractor Summary'!$C$42),\"Yes\",\"No\")","v":"No"},{"$f":"VLOOKUP($D194,'C.1 - Rate Sheets'!B:I,2,FALSE)","v":56.8},{"$f":"VLOOKUP($D194,'C.1 - Rate Sheets'!B:I,3,FALSE)","v":76.7},{"$f":"VLOOKUP($D194,'C.1 - Rate Sheets'!B:I,4,FALSE)","v":90.9},{"$f":"VLOOKUP($D194,'C.1 - Rate Sheets'!B:I,5,FALSE)","v":0},null,null,null,null,0,null,null,null,null,0,8,24,null,null,32,null,null,null,null,0,null,null,null,null,0,null,null,null,null,null,8,24,0,0,32,454.4,1840.8000000000002,0,0,2295.2000000000003,2295.2000000000003,"Yes",0,0,0]
[null,143,"Caleb Mannon","Tree Trimmer","Vendor No 6","Alverez",913346156,"2018-10-26","2018-10-27",{"$f":"IF(AND(H195>='A - Contractor Summary'!$C$36,I195<='A - Contractor Summary'!$C$42),\"Yes\",\"No\")","v":"No"},{"$f":"VLOOKUP($D195,'C.1 - Rate Sheets'!B:I,2,FALSE)","v":48.5},{"$f":"VLOOKUP($D195,'C.1 - Rate Sheets'!B:I,3,FALSE)","v":65.5},{"$f":"VLOOKUP($D195,'C.1 - Rate Sheets'!B:I,4,FALSE)","v":77.599999999999994},{"$f":"VLOOKUP($D195,'C.1 - Rate Sheets'!B:I,5,FALSE)","v":0},null,null,null,null,{"$f":"SUM(O195:R195)","v":0},null,null,null,null,{"$f":"SUM(T195:W195)","v":0},8,24,null,null,{"$f":"SUM(Y195:AB195)","v":32},null,null,null,null,{"$f":"SUM(AD195:AG195)","v":0},null,null,null,null,{"$f":"SUM(AI195:AL195)","v":0},null,null,null,null,null,{"$f":"SUM(O195,T195,Y195,AD195,AI195,AN195)","v":8},{"$f":"SUM(P195,U195,Z195,AE195,AJ195,AO195)","v":24},{"$f":"SUM(Q195,V195,AA195,AF195,AK195,AP195)","v":0},{"$f":"SUM(R195,W195,AB195,AG195,AL195,AQ195)","v":0},{"$f":"SUM(AS195:AV195)","v":32},{"$f":"AS195*K195","v":388},{"$f":"AT195*L195","v":1572},{"$f":"AU195*M195","v":0},{"$f":"AV195*N195","v":0},{"$f":"SUM(AX195:BA195)","v":1960},{"$f":"BB195-BE195","v":1960},"Yes",0,0,0]
[null,143,"Howard Neal","Tree Trimmer","Vendor No 6","Alverez",913346156,"2018-10-26","2018-10-27",{"$f":"IF(AND(H196>='A - Contractor Summary'!$C$36,I196<='A - Contractor Summary'!$C$42),\"Yes\",\"No\")","v":"No"},{"$f":"VLOOKUP($D196,'C.1 - Rate Sheets'!B:I,2,FALSE)","v":48.5},{"$f":"VLOOKUP($D196,'C.1 - Rate Sheets'!B:I,3,FALSE)","v":65.5},{"$f":"VLOOKUP($D196,'C.1 - Rate Sheets'!B:I,4,FALSE)","v":77.599999999999994},{"$f":"VLOOKUP($D196,'C.1 - Rate Sheets'!B:I,5,FALSE)","v":0},null,null,null,null,0,null,null,null,null,0,8,24,null,null,32,null,null,null,null,0,null,null,null,null,0,null,null,null,null,null,8,24,0,0,32,388,1572,0,0,1960,1960,"Yes",0,0,0]
[null,144,"Marcus Carter","Crew Foreman","Vendor No 6","Carter",913346172,"2018-10-26","2018-10-27",{"$f":"IF(AND(H197>='A - Contractor Summary'!$C$36,I197<='A - Contractor Summary'!$C$42),\"Yes\",\"No\")","v":"No"},{"$f":"VLOOKUP($D197,'C.1 - Rate Sheets'!B:I,2,FALSE)","v":56.8},{"$f":"VLOOKUP($D197,'C.1 - Rate Sheets'!B:I,3,FALSE)","v":76.7},{"$f":"VLOOKUP($D197,'C.1 - Rate Sheets'!B:I,4,FALSE)","v":90.9},{"$f":"VLOOKUP($D197,'C.1 - Rate Sheets'!B:I,5,FALSE)","v":0},null,null,null,null,0,null,null,null,null,0,8,24,null,null,32,null,null,null,null,0,null,null,null,null,0,null,null,null,null,null,8,24,0,0,32,454.4,1840.8000000000002,0,0,2295.2000000000003,2295.2000000000003,"Yes",0,0,0]
[null,145,"Mark Cody","Tree Trimmer","Vendor No 6","Carter",913346172,"2018-10-26","2018-10-27",{"$f":"IF(AND(H198>='A - Contractor Summary'!$C$36,I198<='A - Contractor Summary'!$C$42),\"Yes\",\"No\")","v":"No"},{"$f":"VLOOKUP($D198,'C.1 - Rate Sheets'!B:I,2,FALSE)","v":48.5},{"$f":"VLOOKUP($D198,'C.1 - Rate Sheets'!B:I,3,FALSE)","v":65.5},{"$f":"VLOOKUP($D198,'C.1 - Rate Sheets'!B:I,4,FALSE)","v":77.599999999999994},{"$f":"VLOOKUP($D198,'C.1 - Rate Sheets'!B:I,5,FALSE)","v":0},null,null,null,null,0,null,null,null,null,0,8,24,null,null,32,null,null,null,null,0,null,null,null,null,0,null,null,null,null,null,8,24,0,0,32,388,1572,0,0,1960,1960,"Yes",0,0,0]
[null,146,"Tim Jones","Crew Foreman","Vendor No 6","Jones",913346321,"2018-10-21","2018-10-27",{"$f":"IF(AND(H199>='A - Contractor Summary'!$C$36,I199<='A - Contractor Summary'!$C$42),\"Yes\",\"No\")","v":"No"},{"$f":"VLOOKUP($D199,'C.1 - Rate Sheets'!B:I,2,FALSE)","v":56.8},{"$f":"VLOOKUP($D199,'C.1 - Rate Sheets'!B:I,3,FALSE)","v":76.7},{"$f":"VLOOKUP($D199,'C.1 - Rate Sheets'!B:I,4,FALSE)","v":90.9},{"$f":"VLOOKUP($D199,'C.1 - Rate Sheets'!B:I,5,FALSE)","v":0},null,null,null,null,0,null,null,null,null,0,40,56,16,null,112,null,null,null,null,0,null,null,null,null,0,null,null,null,null,null,40,56,16,0,112,2272,4295.2,1454.4,0,8021.6,8021.6,"Yes",0,0,0]
[null,146,"Allan Johnson","Crew Foreman","Vendor No 6","Jones",913346321,"2018-10-21","2018-10-27",{"$f":"IF(AND(H200>='A - Contractor Summary'!$C$36,I200<='A - Contractor Summary'!$C$42),\"Yes\",\"No\")","v":"No"},{"$f":"VLOOKUP($D200,'C.1 - Rate Sheets'!B:I,2,FALSE)","v":56.8},{"$f":"VLOOKUP($D200,'C.1 - Rate Sheets'!B:I,3,FALSE)","v":76.7},{"$f":"VLOOKUP($D200,'C.1 - Rate Sheets'!B:I,4,FALSE)","v":90.9},{"$f":"VLOOKUP($D200,'C.1 - Rate Sheets'!B:I,5,FALSE)","v":0},null,null,null,null,{"$f":"SUM(O200:R200)","v":0},null,null,null,null,{"$f":"SUM(T200:W200)","v":0},40,56,16,null,{"$f":"SUM(Y200:AB200)","v":112},null,null,null,null,{"$f":"SUM(AD200:AG200)","v":0},null,null,null,null,{"$f":"SUM(AI200:AL200)","v":0},null,null,null,null,null,{"$f":"SUM(O200,T200,Y200,AD200,AI200,AN200)","v":40},{"$f":"SUM(P200,U200,Z200,AE200,AJ200,AO200)","v":56},{"$f":"SUM(Q200,V200,AA200,AF200,AK200,AP200)","v":16},{"$f":"SUM(R200,W200,AB200,AG200,AL200,AQ200)","v":0},{"$f":"SUM(AS200:AV200)","v":112},{"$f":"AS200*K200","v":2272},{"$f":"AT200*L200","v":4295.2},{"$f":"AU200*M200","v":1454.4},{"$f":"AV200*N200","v":0},{"$f":"SUM(AX200:BA200)","v":8021.6},{"$f":"BB200-BE200","v":8021.6},"Yes",0,0,0]
[null,147,"Hunter Standfield","Tree Trimmer","Vendor No 6","Jones",913346321,"2018-10-21","2018-10-27",{"$f":"IF(AND(H201>='A - Contractor Summary'!$C$36,I201<='A - Contractor Summary'!$C$42),\"Yes\",\"No\")","v":"No"},{"$f":"VLOOKUP($D201,'C.1 - Rate Sheets'!B:I,2,FALSE)","v":48.5},{"$f":"VLOOKUP($D201,'C.1 - Rate Sheets'!B:I,3,FALSE)","v":65.5},{"$f":"VLOOKUP($D201,'C.1 - Rate Sheets'!B:I,4,FALSE)","v":77.599999999999994},{"$f":"VLOOKUP($D201,'C.1 - Rate Sheets'!B:I,5,FALSE)","v":0},null,null,null,null,0,null,null,null,null,0,24,24,16,null,64,null,null,null,null,0,null,null,null,null,0,null,null,null,null,null,24,24,16,0,64,1164,1572,1241.5999999999999,0,3977.6,3977.6,"Yes",0,0,0]
[null,147,"Jarad Osbourn","Tree Trimmer","Vendor No 6","Jones",913346321,"2018-10-21","2018-10-27",{"$f":"IF(AND(H202>='A - Contractor Summary'!$C$36,I202<='A - Contractor Summary'!$C$42),\"Yes\",\"No\")","v":"No"},{"$f":"VLOOKUP($D202,'C.1 - Rate Sheets'!B:I,2,FALSE)","v":48.5},{"$f":"VLOOKUP($D202,'C.1 - Rate Sheets'!B:I,3,FALSE)","v":65.5},{"$f":"VLOOKUP($D202,'C.1 - Rate Sheets'!B:I,4,FALSE)","v":77.599999999999994},{"$f":"VLOOKUP($D202,'C.1 - Rate Sheets'!B:I,5,FALSE)","v":0},null,null,null,null,0,null,null,null,null,0,40,56,16,null,112,null,null,null,null,0,null,null,null,null,0,null,null,null,null,null,40,56,16,0,112,1940,3668,1241.5999999999999,0,6849.6,6849.6,"Yes",0,0,0]
[null,148,"Jeremy McNamee","Crew Foreman","Vendor No 6","McNamee",913232495,"2018-10-28","2018-10-31",{"$f":"IF(AND(H203>='A - Contractor Summary'!$C$36,I203<='A - Contractor Summary'!$C$42),\"Yes\",\"No\")","v":"No"},{"$f":"VLOOKUP($D203,'C.1 - Rate Sheets'!B:I,2,FALSE)","v":56.8},{"$f":"VLOOKUP($D203,'C.1 - Rate Sheets'!B:I,3,FALSE)","v":76.7},{"$f":"VLOOKUP($D203,'C.1 - Rate Sheets'!B:I,4,FALSE)","v":90.9},{"$f":"VLOOKUP($D203,'C.1 - Rate Sheets'!B:I,5,FALSE)","v":0},null,null,null,null,0,null,null,null,null,0,null,null,null,null,0,24,20,16,null,60,null,null,null,null,0,null,null,null,null,null,24,20,16,0,60,1363.1999999999998,1534,1454.4,0,4351.6000000000004,4351.6000000000004,"Yes",0,0,0]
[null,149,"Gonzalez, Lazaro","Tree Trimmer","Vendor No 6","McNamee",913232495,"2018-10-28","2018-10-31",{"$f":"IF(AND(H204>='A - Contractor Summary'!$C$36,I204<='A - Contractor Summary'!$C$42),\"Yes\",\"No\")","v":"No"},{"$f":"VLOOKUP($D204,'C.1 - Rate Sheets'!B:I,2,FALSE)","v":48.5},{"$f":"VLOOKUP($D204,'C.1 - Rate Sheets'!B:I,3,FALSE)","v":65.5},{"$f":"VLOOKUP($D204,'C.1 - Rate Sheets'!B:I,4,FALSE)","v":77.599999999999994},{"$f":"VLOOKUP($D204,'C.1 - Rate Sheets'!B:I,5,FALSE)","v":0},null,null,null,null,0,null,null,null,null,0,null,null,null,null,0,24,20,16,null,60,null,null,null,null,0,null,null,null,null,null,24,20,16,0,60,1164,1310,1241.5999999999999,0,3715.6,3715.6,"Yes",0,0,0]
[null,150,"Ernesto Napoles ","Crew Foreman","Vendor No 6","Napoles",913232497,"2018-10-28","2018-10-31",{"$f":"IF(AND(H205>='A - Contractor Summary'!$C$36,I205<='A - Contractor Summary'!$C$42),\"Yes\",\"No\")","v":"No"},{"$f":"VLOOKUP($D205,'C.1 - Rate Sheets'!B:I,2,FALSE)","v":56.8},{"$f":"VLOOKUP($D205,'C.1 - Rate Sheets'!B:I,3,FALSE)","v":76.7},{"$f":"VLOOKUP($D205,'C.1 - Rate Sheets'!B:I,4,FALSE)","v":90.9},{"$f":"VLOOKUP($D205,'C.1 - Rate Sheets'!B:I,5,FALSE)","v":0},null,null,null,null,0,null,null,null,null,0,null,null,null,null,0,24,20,16,null,60,null,null,null,null,0,null,null,null,null,null,24,20,16,0,60,1363.1999999999998,1534,1454.4,0,4351.6000000000004,4351.6000000000004,"Yes",0,0,0]
[null,151,"Galano Wilson","Tree Trimmer","Vendor No 6","Napoles",913232497,"2018-10-28","2018-10-31",{"$f":"IF(AND(H206>='A - Contractor Summary'!$C$36,I206<='A - Contractor Summary'!$C$42),\"Yes\",\"No\")","v":"No"},{"$f":"VLOOKUP($D206,'C.1 - Rate Sheets'!B:I,2,FALSE)","v":48.5},{"$f":"VLOOKUP($D206,'C.1 - Rate Sheets'!B:I,3,FALSE)","v":65.5},{"$f":"VLOOKUP($D206,'C.1 - Rate Sheets'!B:I,4,FALSE)","v":77.599999999999994},{"$f":"VLOOKUP($D206,'C.1 - Rate Sheets'!B:I,5,FALSE)","v":0},null,null,null,null,0,null,null,null,null,0,null,null,null,null,0,24,20,16,null,60,null,null,null,null,0,null,null,null,null,null,24,20,16,0,60,1164,1310,1241.5999999999999,0,3715.6,3715.6,"Yes",0,0,0]
[null,152,"Vidal, Jasmani","Crew Foreman","Vendor No 6","Yasmani",913232498,"2018-10-28","2018-10-31",{"$f":"IF(AND(H207>='A - Contractor Summary'!$C$36,I207<='A - Contractor Summary'!$C$42),\"Yes\",\"No\")","v":"No"},{"$f":"VLOOKUP($D207,'C.1 - Rate Sheets'!B:I,2,FALSE)","v":56.8},{"$f":"VLOOKUP($D207,'C.1 - Rate Sheets'!B:I,3,FALSE)","v":76.7},{"$f":"VLOOKUP($D207,'C.1 - Rate Sheets'!B:I,4,FALSE)","v":90.9},{"$f":"VLOOKUP($D207,'C.1 - Rate Sheets'!B:I,5,FALSE)","v":0},null,null,null,null,0,null,null,null,null,0,null,null,null,null,0,24,20,16,null,60,null,null,null,null,0,null,null,null,null,null,24,20,16,0,60,1363.1999999999998,1534,1454.4,0,4351.6000000000004,4351.6000000000004,"Yes",0,0,0]
[null,153,"La Rosa, Alexander","Tree Trimmer","Vendor No 6","Yasmani",913232498,"2018-10-28","2018-10-31",{"$f":"IF(AND(H208>='A - Contractor Summary'!$C$36,I208<='A - Contractor Summary'!$C$42),\"Yes\",\"No\")","v":"No"},{"$f":"VLOOKUP($D208,'C.1 - Rate Sheets'!B:I,2,FALSE)","v":48.5},{"$f":"VLOOKUP($D208,'C.1 - Rate Sheets'!B:I,3,FALSE)","v":65.5},{"$f":"VLOOKUP($D208,'C.1 - Rate Sheets'!B:I,4,FALSE)","v":77.599999999999994},{"$f":"VLOOKUP($D208,'C.1 - Rate Sheets'!B:I,5,FALSE)","v":0},null,null,null,null,0,null,null,null,null,0,null,null,null,null,0,24,20,16,null,60,null,null,null,null,0,null,null,null,null,null,24,20,16,0,60,1164,1310,1241.5999999999999,0,3715.6,3715.6,"Yes",0,0,0]
[null,154,"Rodriguez, Jusmani","Crew Foreman","Vendor No 6","Rodriguez",913232500,"2018-10-28","2018-10-31",{"$f":"IF(AND(H209>='A - Contractor Summary'!$C$36,I209<='A - Contractor Summary'!$C$42),\"Yes\",\"No\")","v":"No"},{"$f":"VLOOKUP($D209,'C.1 - Rate Sheets'!B:I,2,FALSE)","v":56.8},{"$f":"VLOOKUP($D209,'C.1 - Rate Sheets'!B:I,3,FALSE)","v":76.7},{"$f":"VLOOKUP($D209,'C.1 - Rate Sheets'!B:I,4,FALSE)","v":90.9},{"$f":"VLOOKUP($D209,'C.1 - Rate Sheets'!B:I,5,FALSE)","v":0},null,null,null,null,0,null,null,null,null,0,null,null,null,null,0,24,20,16,null,60,null,null,null,null,0,null,null,null,null,null,24,20,16,0,60,1363.1999999999998,1534,1454.4,0,4351.6000000000004,4351.6000000000004,"Yes",0,0,0]
[null,155,"Vidal, Jorge","Tree Trimmer","Vendor No 6","Rodriguez",913232500,"2018-10-28","2018-10-31",{"$f":"IF(AND(H210>='A - Contractor Summary'!$C$36,I210<='A - Contractor Summary'!$C$42),\"Yes\",\"No\")","v":"No"},{"$f":"VLOOKUP($D210,'C.1 - Rate Sheets'!B:I,2,FALSE)","v":48.5},{"$f":"VLOOKUP($D210,'C.1 - Rate Sheets'!B:I,3,FALSE)","v":65.5},{"$f":"VLOOKUP($D210,'C.1 - Rate Sheets'!B:I,4,FALSE)","v":77.599999999999994},{"$f":"VLOOKUP($D210,'C.1 - Rate Sheets'!B:I,5,FALSE)","v":0},null,null,null,null,0,null,null,null,null,0,null,null,null,null,0,24,20,16,null,60,null,null,null,null,0,null,null,null,null,null,24,20,16,0,60,1164,1310,1241.5999999999999,0,3715.6,3715.6,"Yes",0,0,0]
[null,156,"Gutierrez, Jose","Crew Foreman","Vendor No 6","Guitierrez",913241575,"2018-10-28","2018-11-03",{"$f":"IF(AND(H211>='A - Contractor Summary'!$C$36,I211<='A - Contractor Summary'!$C$42),\"Yes\",\"No\")","v":"No"},{"$f":"VLOOKUP($D211,'C.1 - Rate Sheets'!B:I,2,FALSE)","v":56.8},{"$f":"VLOOKUP($D211,'C.1 - Rate Sheets'!B:I,3,FALSE)","v":76.7},{"$f":"VLOOKUP($D211,'C.1 - Rate Sheets'!B:I,4,FALSE)","v":90.9},{"$f":"VLOOKUP($D211,'C.1 - Rate Sheets'!B:I,5,FALSE)","v":0},null,null,null,null,0,null,null,null,null,0,null,null,null,null,0,40,56,16,null,112,null,null,null,null,0,null,null,null,null,null,40,56,16,0,112,2272,4295.2,1454.4,0,8021.6,8021.6,"Yes",0,0,0]
[null,157,"Victor Lara","Tree Trimmer","Vendor No 6","Guitierrez",913241575,"2018-10-28","2018-11-03",{"$f":"IF(AND(H212>='A - Contractor Summary'!$C$36,I212<='A - Contractor Summary'!$C$42),\"Yes\",\"No\")","v":"No"},{"$f":"VLOOKUP($D212,'C.1 - Rate Sheets'!B:I,2,FALSE)","v":48.5},{"$f":"VLOOKUP($D212,'C.1 - Rate Sheets'!B:I,3,FALSE)","v":65.5},{"$f":"VLOOKUP($D212,'C.1 - Rate Sheets'!B:I,4,FALSE)","v":77.599999999999994},{"$f":"VLOOKUP($D212,'C.1 - Rate Sheets'!B:I,5,FALSE)","v":0},null,null,null,null,0,null,null,null,null,0,null,null,null,null,0,40,56,16,null,112,null,null,null,null,0,null,null,null,null,null,40,56,16,0,112,1940,3668,1241.5999999999999,0,6849.6,6849.6,"Yes",0,0,0]
[null,157,"Jesus Jimenez","Tree Trimmer","Vendor No 6","Guitierrez",913241575,"2018-10-28","2018-11-03",{"$f":"IF(AND(H213>='A - Contractor Summary'!$C$36,I213<='A - Contractor Summary'!$C$42),\"Yes\",\"No\")","v":"No"},{"$f":"VLOOKUP($D213,'C.1 - Rate Sheets'!B:I,2,FALSE)","v":48.5},{"$f":"VLOOKUP($D213,'C.1 - Rate Sheets'!B:I,3,FALSE)","v":65.5},{"$f":"VLOOKUP($D213,'C.1 - Rate Sheets'!B:I,4,FALSE)","v":77.599999999999994},{"$f":"VLOOKUP($D213,'C.1 - Rate Sheets'!B:I,5,FALSE)","v":0},null,null,null,null,{"$f":"SUM(O213:R213)","v":0},null,null,null,null,{"$f":"SUM(T213:W213)","v":0},null,null,null,null,{"$f":"SUM(Y213:AB213)","v":0},40,56,16,null,{"$f":"SUM(AD213:AG213)","v":112},null,null,null,null,{"$f":"SUM(AI213:AL213)","v":0},null,null,null,null,null,{"$f":"SUM(O213,T213,Y213,AD213,AI213,AN213)","v":40},{"$f":"SUM(P213,U213,Z213,AE213,AJ213,AO213)","v":56},{"$f":"SUM(Q213,V213,AA213,AF213,AK213,AP213)","v":16},{"$f":"SUM(R213,W213,AB213,AG213,AL213,AQ213)","v":0},{"$f":"SUM(AS213:AV213)","v":112},{"$f":"AS213*K213","v":1940},{"$f":"AT213*L213","v":3668},{"$f":"AU213*M213","v":1241.5999999999999},{"$f":"AV213*N213","v":0},{"$f":"SUM(AX213:BA213)","v":6849.6},{"$f":"BB213-BE213","v":6849.6},"Yes",0,0,0]
[null,157,"Phillip Nix","Tree Trimmer","Vendor No 6","Guitierrez",913241575,"2018-10-28","2018-11-03",{"$f":"IF(AND(H214>='A - Contractor Summary'!$C$36,I214<='A - Contractor Summary'!$C$42),\"Yes\",\"No\")","v":"No"},{"$f":"VLOOKUP($D214,'C.1 - Rate Sheets'!B:I,2,FALSE)","v":48.5},{"$f":"VLOOKUP($D214,'C.1 - Rate Sheets'!B:I,3,FALSE)","v":65.5},{"$f":"VLOOKUP($D214,'C.1 - Rate Sheets'!B:I,4,FALSE)","v":77.599999999999994},{"$f":"VLOOKUP($D214,'C.1 - Rate Sheets'!B:I,5,FALSE)","v":0},null,null,null,null,0,null,null,null,null,0,null,null,null,null,0,24,40,0,null,64,null,null,null,null,0,null,null,null,null,null,24,40,0,0,64,1164,2620,0,0,3784,3784,"Yes",0,0,0]
[null,157,"Andres Tapia","Tree Trimmer","Vendor No 6","Guitierrez",913241575,"2018-10-28","2018-11-03",{"$f":"IF(AND(H215>='A - Contractor Summary'!$C$36,I215<='A - Contractor Summary'!$C$42),\"Yes\",\"No\")","v":"No"},{"$f":"VLOOKUP($D215,'C.1 - Rate Sheets'!B:I,2,FALSE)","v":48.5},{"$f":"VLOOKUP($D215,'C.1 - Rate Sheets'!B:I,3,FALSE)","v":65.5},{"$f":"VLOOKUP($D215,'C.1 - Rate Sheets'!B:I,4,FALSE)","v":77.599999999999994},{"$f":"VLOOKUP($D215,'C.1 - Rate Sheets'!B:I,5,FALSE)","v":0},null,null,null,null,0,null,null,null,null,0,null,null,null,null,0,40,56,16,null,112,null,null,null,null,0,null,null,null,null,null,40,56,16,0,112,1940,3668,1241.5999999999999,0,6849.6,6849.6,"Yes",0,0,0]
[null,158,"Dustin Woodward","Crew Foreman","Vendor No 6","Woodward",913241576,"2018-10-28","2018-11-03",{"$f":"IF(AND(H216>='A - Contractor Summary'!$C$36,I216<='A - Contractor Summary'!$C$42),\"Yes\",\"No\")","v":"No"},{"$f":"VLOOKUP($D216,'C.1 - Rate Sheets'!B:I,2,FALSE)","v":56.8},{"$f":"VLOOKUP($D216,'C.1 - Rate Sheets'!B:I,3,FALSE)","v":76.7},{"$f":"VLOOKUP($D216,'C.1 - Rate Sheets'!B:I,4,FALSE)","v":90.9},{"$f":"VLOOKUP($D216,'C.1 - Rate Sheets'!B:I,5,FALSE)","v":0},null,null,null,null,0,null,null,null,null,0,null,null,null,null,0,40,56,16,null,112,null,null,null,null,0,null,null,null,null,null,40,56,16,0,112,2272,4295.2,1454.4,0,8021.6,8021.6,"Yes",0,0,0]
[null,159,"Rubelsy Perez","Tree Trimmer","Vendor No 6","Woodward",913241576,"2018-10-28","2018-11-03",{"$f":"IF(AND(H217>='A - Contractor Summary'!$C$36,I217<='A - Contractor Summary'!$C$42),\"Yes\",\"No\")","v":"No"},{"$f":"VLOOKUP($D217,'C.1 - Rate Sheets'!B:I,2,FALSE)","v":48.5},{"$f":"VLOOKUP($D217,'C.1 - Rate Sheets'!B:I,3,FALSE)","v":65.5},{"$f":"VLOOKUP($D217,'C.1 - Rate Sheets'!B:I,4,FALSE)","v":77.599999999999994},{"$f":"VLOOKUP($D217,'C.1 - Rate Sheets'!B:I,5,FALSE)","v":0},null,null,null,null,0,null,null,null,null,0,null,null,null,null,0,40,56,16,null,112,null,null,null,null,0,null,null,null,null,null,40,56,16,0,112,1940,3668,1241.5999999999999,0,6849.6,6849.6,"Yes",0,0,0]
[null,160,"Michael Bowers","Supervisor","Vendor No 6","Bowers",913241581,"2018-10-28","2018-11-03",{"$f":"IF(AND(H218>='A - Contractor Summary'!$C$36,I218<='A - Contractor Summary'!$C$42),\"Yes\",\"No\")","v":"No"},{"$f":"VLOOKUP($D218,'C.1 - Rate Sheets'!B:I,2,FALSE)","v":74},{"$f":"VLOOKUP($D218,'C.1 - Rate Sheets'!B:I,3,FALSE)","v":99.9},{"$f":"VLOOKUP($D218,'C.1 - Rate Sheets'!B:I,4,FALSE)","v":118.4},{"$f":"VLOOKUP($D218,'C.1 - Rate Sheets'!B:I,5,FALSE)","v":0},null,null,null,null,0,null,null,null,null,0,null,null,null,null,0,40,56,16,null,112,null,null,null,null,0,null,null,null,null,null,40,56,16,0,112,2960,5594.4000000000005,1894.4,0,10448.800000000001,10448.800000000001,"Yes",0,0,0]
[null,161,"Terry Herley","Crew Foreman","Vendor No 6","Harley",913241583,"2018-10-28","2018-11-03",{"$f":"IF(AND(H219>='A - Contractor Summary'!$C$36,I219<='A - Contractor Summary'!$C$42),\"Yes\",\"No\")","v":"No"},{"$f":"VLOOKUP($D219,'C.1 - Rate Sheets'!B:I,2,FALSE)","v":56.8},{"$f":"VLOOKUP($D219,'C.1 - Rate Sheets'!B:I,3,FALSE)","v":76.7},{"$f":"VLOOKUP($D219,'C.1 - Rate Sheets'!B:I,4,FALSE)","v":90.9},{"$f":"VLOOKUP($D219,'C.1 - Rate Sheets'!B:I,5,FALSE)","v":0},null,null,null,null,0,null,null,null,null,0,null,null,null,null,0,40,56,16,null,112,null,null,null,null,0,null,null,null,null,null,40,56,16,0,112,2272,4295.2,1454.4,0,8021.6,8021.6,"Yes",0,0,0]
[null,162,"Edgar Flores","Tree Trimmer","Vendor No 6","Harley",913241583,"2018-10-28","2018-11-03",{"$f":"IF(AND(H220>='A - Contractor Summary'!$C$36,I220<='A - Contractor Summary'!$C$42),\"Yes\",\"No\")","v":"No"},{"$f":"VLOOKUP($D220,'C.1 - Rate Sheets'!B:I,2,FALSE)","v":48.5},{"$f":"VLOOKUP($D220,'C.1 - Rate Sheets'!B:I,3,FALSE)","v":65.5},{"$f":"VLOOKUP($D220,'C.1 - Rate Sheets'!B:I,4,FALSE)","v":77.599999999999994},{"$f":"VLOOKUP($D220,'C.1 - Rate Sheets'!B:I,5,FALSE)","v":0},null,null,null,null,0,null,null,null,null,0,null,null,null,null,0,40,56,16,null,112,null,null,null,null,0,null,null,null,null,null,40,56,16,0,112,1940,3668,1241.5999999999999,0,6849.6,6849.6,"Yes",0,0,0]
[null,163,"John Weaver","Crew Foreman","Vendor No 6","Riddle",913243336,"2018-10-28","2018-11-03",{"$f":"IF(AND(H221>='A - Contractor Summary'!$C$36,I221<='A - Contractor Summary'!$C$42),\"Yes\",\"No\")","v":"No"},{"$f":"VLOOKUP($D221,'C.1 - Rate Sheets'!B:I,2,FALSE)","v":56.8},{"$f":"VLOOKUP($D221,'C.1 - Rate Sheets'!B:I,3,FALSE)","v":76.7},{"$f":"VLOOKUP($D221,'C.1 - Rate Sheets'!B:I,4,FALSE)","v":90.9},{"$f":"VLOOKUP($D221,'C.1 - Rate Sheets'!B:I,5,FALSE)","v":0},null,null,null,null,0,null,null,null,null,0,null,null,null,null,0,40,56,16,null,112,null,null,null,null,0,null,null,null,null,null,40,56,16,0,112,2272,4295.2,1454.4,0,8021.6,8021.6,"Yes",0,0,0]
[null,164,"Mason Johnson","Tree Trimmer","Vendor No 6","Riddle",913243336,"2018-10-28","2018-11-03",{"$f":"IF(AND(H222>='A - Contractor Summary'!$C$36,I222<='A - Contractor Summary'!$C$42),\"Yes\",\"No\")","v":"No"},{"$f":"VLOOKUP($D222,'C.1 - Rate Sheets'!B:I,2,FALSE)","v":48.5},{"$f":"VLOOKUP($D222,'C.1 - Rate Sheets'!B:I,3,FALSE)","v":65.5},{"$f":"VLOOKUP($D222,'C.1 - Rate Sheets'!B:I,4,FALSE)","v":77.599999999999994},{"$f":"VLOOKUP($D222,'C.1 - Rate Sheets'!B:I,5,FALSE)","v":0},null,null,null,null,{"$f":"SUM(O222:R222)","v":0},null,null,null,null,{"$f":"SUM(T222:W222)","v":0},null,null,null,null,{"$f":"SUM(Y222:AB222)","v":0},40,56,16,null,{"$f":"SUM(AD222:AG222)","v":112},null,null,null,null,{"$f":"SUM(AI222:AL222)","v":0},null,null,null,null,null,{"$f":"SUM(O222,T222,Y222,AD222,AI222,AN222)","v":40},{"$f":"SUM(P222,U222,Z222,AE222,AJ222,AO222)","v":56},{"$f":"SUM(Q222,V222,AA222,AF222,AK222,AP222)","v":16},{"$f":"SUM(R222,W222,AB222,AG222,AL222,AQ222)","v":0},{"$f":"SUM(AS222:AV222)","v":112},{"$f":"AS222*K222","v":1940},{"$f":"AT222*L222","v":3668},{"$f":"AU222*M222","v":1241.5999999999999},{"$f":"AV222*N222","v":0},{"$f":"SUM(AX222:BA222)","v":6849.6},{"$f":"BB222-BE222","v":6849.6},"Yes",0,0,0]
[null,164,"Austin Story","Tree Trimmer","Vendor No 6","Riddle",913243336,"2018-10-28","2018-11-03",{"$f":"IF(AND(H223>='A - Contractor Summary'!$C$36,I223<='A - Contractor Summary'!$C$42),\"Yes\",\"No\")","v":"No"},{"$f":"VLOOKUP($D223,'C.1 - Rate Sheets'!B:I,2,FALSE)","v":48.5},{"$f":"VLOOKUP($D223,'C.1 - Rate Sheets'!B:I,3,FALSE)","v":65.5},{"$f":"VLOOKUP($D223,'C.1 - Rate Sheets'!B:I,4,FALSE)","v":77.599999999999994},{"$f":"VLOOKUP($D223,'C.1 - Rate Sheets'!B:I,5,FALSE)","v":0},null,null,null,null,0,null,null,null,null,0,null,null,null,null,0,40,56,16,null,112,null,null,null,null,0,null,null,null,null,null,40,56,16,0,112,1940,3668,1241.5999999999999,0,6849.6,6849.6,"Yes",0,0,0]
[null,165,"Roy Riddle","Supervisor","Vendor No 6","Riddle",913243336,"2018-10-28","2018-11-03",{"$f":"IF(AND(H224>='A - Contractor Summary'!$C$36,I224<='A - Contractor Summary'!$C$42),\"Yes\",\"No\")","v":"No"},{"$f":"VLOOKUP($D224,'C.1 - Rate Sheets'!B:I,2,FALSE)","v":74},{"$f":"VLOOKUP($D224,'C.1 - Rate Sheets'!B:I,3,FALSE)","v":99.9},{"$f":"VLOOKUP($D224,'C.1 - Rate Sheets'!B:I,4,FALSE)","v":118.4},{"$f":"VLOOKUP($D224,'C.1 - Rate Sheets'!B:I,5,FALSE)","v":0},null,null,null,null,0,null,null,null,null,0,null,null,null,null,0,40,56,16,null,112,null,null,null,null,0,null,null,null,null,null,40,56,16,0,112,2960,5594.4000000000005,1894.4,0,10448.800000000001,10448.800000000001,"Yes",0,0,0]
[null,166,"Dean Cannady","Crew Foreman","Vendor No 6","Cannady",913243348,"2018-10-28","2018-10-31",{"$f":"IF(AND(H225>='A - Contractor Summary'!$C$36,I225<='A - Contractor Summary'!$C$42),\"Yes\",\"No\")","v":"No"},{"$f":"VLOOKUP($D225,'C.1 - Rate Sheets'!B:I,2,FALSE)","v":56.8},{"$f":"VLOOKUP($D225,'C.1 - Rate Sheets'!B:I,3,FALSE)","v":76.7},{"$f":"VLOOKUP($D225,'C.1 - Rate Sheets'!B:I,4,FALSE)","v":90.9},{"$f":"VLOOKUP($D225,'C.1 - Rate Sheets'!B:I,5,FALSE)","v":0},null,null,null,null,0,null,null,null,null,0,null,null,null,null,0,24,16,16,null,56,null,null,null,null,0,null,null,null,null,null,24,16,16,0,56,1363.1999999999998,1227.2,1454.4,0,4044.7999999999997,4044.7999999999997,"Yes",0,0,0]
[null,167,"Phillip Russ","Tree Trimmer","Vendor No 6","Cannady",913243348,"2018-10-28","2018-10-31",{"$f":"IF(AND(H226>='A - Contractor Summary'!$C$36,I226<='A - Contractor Summary'!$C$42),\"Yes\",\"No\")","v":"No"},{"$f":"VLOOKUP($D226,'C.1 - Rate Sheets'!B:I,2,FALSE)","v":48.5},{"$f":"VLOOKUP($D226,'C.1 - Rate Sheets'!B:I,3,FALSE)","v":65.5},{"$f":"VLOOKUP($D226,'C.1 - Rate Sheets'!B:I,4,FALSE)","v":77.599999999999994},{"$f":"VLOOKUP($D226,'C.1 - Rate Sheets'!B:I,5,FALSE)","v":0},null,null,null,null,{"$f":"SUM(O226:R226)","v":0},null,null,null,null,{"$f":"SUM(T226:W226)","v":0},null,null,null,null,{"$f":"SUM(Y226:AB226)","v":0},24,16,16,null,{"$f":"SUM(AD226:AG226)","v":56},null,null,null,null,{"$f":"SUM(AI226:AL226)","v":0},null,null,null,null,null,{"$f":"SUM(O226,T226,Y226,AD226,AI226,AN226)","v":24},{"$f":"SUM(P226,U226,Z226,AE226,AJ226,AO226)","v":16},{"$f":"SUM(Q226,V226,AA226,AF226,AK226,AP226)","v":16},{"$f":"SUM(R226,W226,AB226,AG226,AL226,AQ226)","v":0},{"$f":"SUM(AS226:AV226)","v":56},{"$f":"AS226*K226","v":1164},{"$f":"AT226*L226","v":1048},{"$f":"AU226*M226","v":1241.5999999999999},{"$f":"AV226*N226","v":0},{"$f":"SUM(AX226:BA226)","v":3453.6},{"$f":"BB226-BE226","v":3453.6},"Yes",0,0,0]
[null,167,"Lewis Sims","Tree Trimmer","Vendor No 6","Cannady",913243348,"2018-10-28","2018-10-31",{"$f":"IF(AND(H227>='A - Contractor Summary'!$C$36,I227<='A - Contractor Summary'!$C$42),\"Yes\",\"No\")","v":"No"},{"$f":"VLOOKUP($D227,'C.1 - Rate Sheets'!B:I,2,FALSE)","v":48.5},{"$f":"VLOOKUP($D227,'C.1 - Rate Sheets'!B:I,3,FALSE)","v":65.5},{"$f":"VLOOKUP($D227,'C.1 - Rate Sheets'!B:I,4,FALSE)","v":77.599999999999994},{"$f":"VLOOKUP($D227,'C.1 - Rate Sheets'!B:I,5,FALSE)","v":0},null,null,null,null,0,null,null,null,null,0,null,null,null,null,0,24,16,16,null,56,null,null,null,null,0,null,null,null,null,null,24,16,16,0,56,1164,1048,1241.5999999999999,0,3453.6,3453.6,"Yes",0,0,0]
[null,168,"Bobby Wright","Crew Foreman","Vendor No 6","Wright",913243350,"2018-10-28","2018-10-31",{"$f":"IF(AND(H228>='A - Contractor Summary'!$C$36,I228<='A - Contractor Summary'!$C$42),\"Yes\",\"No\")","v":"No"},{"$f":"VLOOKUP($D228,'C.1 - Rate Sheets'!B:I,2,FALSE)","v":56.8},{"$f":"VLOOKUP($D228,'C.1 - Rate Sheets'!B:I,3,FALSE)","v":76.7},{"$f":"VLOOKUP($D228,'C.1 - Rate Sheets'!B:I,4,FALSE)","v":90.9},{"$f":"VLOOKUP($D228,'C.1 - Rate Sheets'!B:I,5,FALSE)","v":0},null,null,null,null,0,null,null,null,null,0,null,null,null,null,0,24,16,16,null,56,null,null,null,null,0,null,null,null,null,null,24,16,16,0,56,1363.1999999999998,1227.2,1454.4,0,4044.7999999999997,4044.7999999999997,"Yes",0,0,0]
[null,169,"Justin Massey","Tree Trimmer","Vendor No 6","Massey",913243352,"2018-10-28","2018-10-31",{"$f":"IF(AND(H229>='A - Contractor Summary'!$C$36,I229<='A - Contractor Summary'!$C$42),\"Yes\",\"No\")","v":"No"},{"$f":"VLOOKUP($D229,'C.1 - Rate Sheets'!B:I,2,FALSE)","v":48.5},{"$f":"VLOOKUP($D229,'C.1 - Rate Sheets'!B:I,3,FALSE)","v":65.5},{"$f":"VLOOKUP($D229,'C.1 - Rate Sheets'!B:I,4,FALSE)","v":77.599999999999994},{"$f":"VLOOKUP($D229,'C.1 - Rate Sheets'!B:I,5,FALSE)","v":0},null,null,null,null,0,null,null,null,null,0,null,null,null,null,0,24,16,16,null,56,null,null,null,null,0,null,null,null,null,null,24,16,16,0,56,1164,1048,1241.5999999999999,0,3453.6,3453.6,"Yes",0,0,0]
[null,170,"Chris Scott","Supervisor","Vendor No 6","Scott",913243353,"2018-10-28","2018-10-31",{"$f":"IF(AND(H230>='A - Contractor Summary'!$C$36,I230<='A - Contractor Summary'!$C$42),\"Yes\",\"No\")","v":"No"},{"$f":"VLOOKUP($D230,'C.1 - Rate Sheets'!B:I,2,FALSE)","v":74},{"$f":"VLOOKUP($D230,'C.1 - Rate Sheets'!B:I,3,FALSE)","v":99.9},{"$f":"VLOOKUP($D230,'C.1 - Rate Sheets'!B:I,4,FALSE)","v":118.4},{"$f":"VLOOKUP($D230,'C.1 - Rate Sheets'!B:I,5,FALSE)","v":0},null,null,null,null,0,null,null,null,null,0,null,null,null,null,0,24,16,16,null,56,null,null,null,null,0,null,null,null,null,null,24,16,16,0,56,1776,1598.4,1894.4,0,5268.8,5268.8,"Yes",0,0,0]
[null,171,"William Dodson","Crew Foreman","Vendor No 6","Dodson",913243354,"2018-10-28","2018-10-31",{"$f":"IF(AND(H231>='A - Contractor Summary'!$C$36,I231<='A - Contractor Summary'!$C$42),\"Yes\",\"No\")","v":"No"},{"$f":"VLOOKUP($D231,'C.1 - Rate Sheets'!B:I,2,FALSE)","v":56.8},{"$f":"VLOOKUP($D231,'C.1 - Rate Sheets'!B:I,3,FALSE)","v":76.7},{"$f":"VLOOKUP($D231,'C.1 - Rate Sheets'!B:I,4,FALSE)","v":90.9},{"$f":"VLOOKUP($D231,'C.1 - Rate Sheets'!B:I,5,FALSE)","v":0},null,null,null,null,0,null,null,null,null,0,null,null,null,null,0,24,22,16,null,62,null,null,null,null,0,null,null,null,null,null,24,22,16,0,62,1363.1999999999998,1687.4,1454.4,0,4505,4505,"Yes",0,0,0]
[null,172,"Justin Murphy","Tree Trimmer","Vendor No 6","Dodson",913243354,"2018-10-28","2018-10-31",{"$f":"IF(AND(H232>='A - Contractor Summary'!$C$36,I232<='A - Contractor Summary'!$C$42),\"Yes\",\"No\")","v":"No"},{"$f":"VLOOKUP($D232,'C.1 - Rate Sheets'!B:I,2,FALSE)","v":48.5},{"$f":"VLOOKUP($D232,'C.1 - Rate Sheets'!B:I,3,FALSE)","v":65.5},{"$f":"VLOOKUP($D232,'C.1 - Rate Sheets'!B:I,4,FALSE)","v":77.599999999999994},{"$f":"VLOOKUP($D232,'C.1 - Rate Sheets'!B:I,5,FALSE)","v":0},null,null,null,null,0,null,null,null,null,0,null,null,null,null,0,24,22,16,null,62,null,null,null,null,0,null,null,null,null,null,24,22,16,0,62,1164,1441,1241.5999999999999,0,3846.6,3846.6,"Yes",0,0,0]
[null,173,"Nikos Hurt","Ground Person","Vendor No 6","Dodson",913243354,"2018-10-28","2018-10-31",{"$f":"IF(AND(H233>='A - Contractor Summary'!$C$36,I233<='A - Contractor Summary'!$C$42),\"Yes\",\"No\")","v":"No"},{"$f":"VLOOKUP($D233,'C.1 - Rate Sheets'!B:I,2,FALSE)","v":40},{"$f":"VLOOKUP($D233,'C.1 - Rate Sheets'!B:I,3,FALSE)","v":54},{"$f":"VLOOKUP($D233,'C.1 - Rate Sheets'!B:I,4,FALSE)","v":64},{"$f":"VLOOKUP($D233,'C.1 - Rate Sheets'!B:I,5,FALSE)","v":0},null,null,null,null,0,null,null,null,null,0,null,null,null,null,0,24,22,16,null,62,null,null,null,null,0,null,null,null,null,null,24,22,16,0,62,960,1188,1024,0,3172,3172,"Yes",0,0,0]
[null,174,"William Gray","Supervisor","Vendor No 6","Gray",913243356,"2018-10-28","2018-10-31",{"$f":"IF(AND(H234>='A - Contractor Summary'!$C$36,I234<='A - Contractor Summary'!$C$42),\"Yes\",\"No\")","v":"No"},{"$f":"VLOOKUP($D234,'C.1 - Rate Sheets'!B:I,2,FALSE)","v":74},{"$f":"VLOOKUP($D234,'C.1 - Rate Sheets'!B:I,3,FALSE)","v":99.9},{"$f":"VLOOKUP($D234,'C.1 - Rate Sheets'!B:I,4,FALSE)","v":118.4},{"$f":"VLOOKUP($D234,'C.1 - Rate Sheets'!B:I,5,FALSE)","v":0},null,null,null,null,0,null,null,null,null,0,null,null,null,null,0,24,22,16,null,62,null,null,null,null,0,null,null,null,null,null,24,22,16,0,62,1776,2197.8000000000002,1894.4,0,5868.2000000000007,5868.2000000000007,"Yes",0,0,0]
[null,175,"Gary Williams","Crew Foreman","Vendor No 6","Williams",913243358,"2018-10-28","2018-10-31",{"$f":"IF(AND(H235>='A - Contractor Summary'!$C$36,I235<='A - Contractor Summary'!$C$42),\"Yes\",\"No\")","v":"No"},{"$f":"VLOOKUP($D235,'C.1 - Rate Sheets'!B:I,2,FALSE)","v":56.8},{"$f":"VLOOKUP($D235,'C.1 - Rate Sheets'!B:I,3,FALSE)","v":76.7},{"$f":"VLOOKUP($D235,'C.1 - Rate Sheets'!B:I,4,FALSE)","v":90.9},{"$f":"VLOOKUP($D235,'C.1 - Rate Sheets'!B:I,5,FALSE)","v":0},null,null,null,null,0,null,null,null,null,0,null,null,null,null,0,24,22,16,null,62,null,null,null,null,0,null,null,null,null,null,24,22,16,0,62,1363.1999999999998,1687.4,1454.4,0,4505,4505,"Yes",0,0,0]
[null,176,"Jonathan Swinson","Tree Trimmer","Vendor No 6","Williams",913243358,"2018-10-28","2018-10-31",{"$f":"IF(AND(H236>='A - Contractor Summary'!$C$36,I236<='A - Contractor Summary'!$C$42),\"Yes\",\"No\")","v":"No"},{"$f":"VLOOKUP($D236,'C.1 - Rate Sheets'!B:I,2,FALSE)","v":48.5},{"$f":"VLOOKUP($D236,'C.1 - Rate Sheets'!B:I,3,FALSE)","v":65.5},{"$f":"VLOOKUP($D236,'C.1 - Rate Sheets'!B:I,4,FALSE)","v":77.599999999999994},{"$f":"VLOOKUP($D236,'C.1 - Rate Sheets'!B:I,5,FALSE)","v":0},null,null,null,null,0,null,null,null,null,0,null,null,null,null,0,24,22,16,null,62,null,null,null,null,0,null,null,null,null,null,24,22,16,0,62,1164,1441,1241.5999999999999,0,3846.6,3846.6,"Yes",0,0,0]
[null,177,"Jeremiah Roberts","Ground Person","Vendor No 6","Williams",913243358,"2018-10-28","2018-10-31",{"$f":"IF(AND(H237>='A - Contractor Summary'!$C$36,I237<='A - Contractor Summary'!$C$42),\"Yes\",\"No\")","v":"No"},{"$f":"VLOOKUP($D237,'C.1 - Rate Sheets'!B:I,2,FALSE)","v":40},{"$f":"VLOOKUP($D237,'C.1 - Rate Sheets'!B:I,3,FALSE)","v":54},{"$f":"VLOOKUP($D237,'C.1 - Rate Sheets'!B:I,4,FALSE)","v":64},{"$f":"VLOOKUP($D237,'C.1 - Rate Sheets'!B:I,5,FALSE)","v":0},null,null,null,null,0,null,null,null,null,0,null,null,null,null,0,24,22,16,null,62,null,null,null,null,0,null,null,null,null,null,24,22,16,0,62,960,1188,1024,0,3172,3172,"Yes",0,0,0]
[null,178,"Liewellyn Wyatt","Crew Foreman","Vendor No 6","Wyett",913243359,"2018-10-28","2018-10-31",{"$f":"IF(AND(H238>='A - Contractor Summary'!$C$36,I238<='A - Contractor Summary'!$C$42),\"Yes\",\"No\")","v":"No"},{"$f":"VLOOKUP($D238,'C.1 - Rate Sheets'!B:I,2,FALSE)","v":56.8},{"$f":"VLOOKUP($D238,'C.1 - Rate Sheets'!B:I,3,FALSE)","v":76.7},{"$f":"VLOOKUP($D238,'C.1 - Rate Sheets'!B:I,4,FALSE)","v":90.9},{"$f":"VLOOKUP($D238,'C.1 - Rate Sheets'!B:I,5,FALSE)","v":0},null,null,null,null,0,null,null,null,null,0,null,null,null,null,0,24,22,16,null,62,null,null,null,null,0,null,null,null,null,null,24,22,16,0,62,1363.1999999999998,1687.4,1454.4,0,4505,4505,"Yes",0,0,0]
[null,179,"Christopher Scarborugh","Tree Trimmer","Vendor No 6","Wyett",913243359,"2018-10-28","2018-10-31",{"$f":"IF(AND(H239>='A - Contractor Summary'!$C$36,I239<='A - Contractor Summary'!$C$42),\"Yes\",\"No\")","v":"No"},{"$f":"VLOOKUP($D239,'C.1 - Rate Sheets'!B:I,2,FALSE)","v":48.5},{"$f":"VLOOKUP($D239,'C.1 - Rate Sheets'!B:I,3,FALSE)","v":65.5},{"$f":"VLOOKUP($D239,'C.1 - Rate Sheets'!B:I,4,FALSE)","v":77.599999999999994},{"$f":"VLOOKUP($D239,'C.1 - Rate Sheets'!B:I,5,FALSE)","v":0},null,null,null,null,0,null,null,null,null,0,null,null,null,null,0,24,22,16,null,62,null,null,null,null,0,null,null,null,null,null,24,22,16,0,62,1164,1441,1241.5999999999999,0,3846.6,3846.6,"Yes",0,0,0]
[null,180,"Scott Duvall","Crew Foreman","Vendor No 6","Duvall",913243361,"2018-10-28","2018-10-31",{"$f":"IF(AND(H240>='A - Contractor Summary'!$C$36,I240<='A - Contractor Summary'!$C$42),\"Yes\",\"No\")","v":"No"},{"$f":"VLOOKUP($D240,'C.1 - Rate Sheets'!B:I,2,FALSE)","v":56.8},{"$f":"VLOOKUP($D240,'C.1 - Rate Sheets'!B:I,3,FALSE)","v":76.7},{"$f":"VLOOKUP($D240,'C.1 - Rate Sheets'!B:I,4,FALSE)","v":90.9},{"$f":"VLOOKUP($D240,'C.1 - Rate Sheets'!B:I,5,FALSE)","v":0},null,null,null,null,0,null,null,null,null,0,null,null,null,null,0,24,22,16,null,62,null,null,null,null,0,null,null,null,null,null,24,22,16,0,62,1363.1999999999998,1687.4,1454.4,0,4505,4505,"Yes",0,0,0]
[null,181,"Jaron Weldon","Tree Trimmer","Vendor No 6","Duvall",913243361,"2018-10-28","2018-10-31",{"$f":"IF(AND(H241>='A - Contractor Summary'!$C$36,I241<='A - Contractor Summary'!$C$42),\"Yes\",\"No\")","v":"No"},{"$f":"VLOOKUP($D241,'C.1 - Rate Sheets'!B:I,2,FALSE)","v":48.5},{"$f":"VLOOKUP($D241,'C.1 - Rate Sheets'!B:I,3,FALSE)","v":65.5},{"$f":"VLOOKUP($D241,'C.1 - Rate Sheets'!B:I,4,FALSE)","v":77.599999999999994},{"$f":"VLOOKUP($D241,'C.1 - Rate Sheets'!B:I,5,FALSE)","v":0},null,null,null,null,0,null,null,null,null,0,null,null,null,null,0,24,22,16,null,62,null,null,null,null,0,null,null,null,null,null,24,22,16,0,62,1164,1441,1241.5999999999999,0,3846.6,3846.6,"Yes",0,0,0]
[null,182,"Devin Brinson","Ground Person","Vendor No 6","Duvall",913243361,"2018-10-28","2018-10-31",{"$f":"IF(AND(H242>='A - Contractor Summary'!$C$36,I242<='A - Contractor Summary'!$C$42),\"Yes\",\"No\")","v":"No"},{"$f":"VLOOKUP($D242,'C.1 - Rate Sheets'!B:I,2,FALSE)","v":40},{"$f":"VLOOKUP($D242,'C.1 - Rate Sheets'!B:I,3,FALSE)","v":54},{"$f":"VLOOKUP($D242,'C.1 - Rate Sheets'!B:I,4,FALSE)","v":64},{"$f":"VLOOKUP($D242,'C.1 - Rate Sheets'!B:I,5,FALSE)","v":0},null,null,null,null,0,null,null,null,null,0,null,null,null,null,0,24,22,16,null,62,null,null,null,null,0,null,null,null,null,null,24,22,16,0,62,960,1188,1024,0,3172,3172,"Yes",0,0,0]
[null,183,"William Bryan","Crew Foreman","Vendor No 6","Bryan",913242904,"2018-10-28","2018-11-03",{"$f":"IF(AND(H243>='A - Contractor Summary'!$C$36,I243<='A - Contractor Summary'!$C$42),\"Yes\",\"No\")","v":"No"},{"$f":"VLOOKUP($D243,'C.1 - Rate Sheets'!B:I,2,FALSE)","v":56.8},{"$f":"VLOOKUP($D243,'C.1 - Rate Sheets'!B:I,3,FALSE)","v":76.7},{"$f":"VLOOKUP($D243,'C.1 - Rate Sheets'!B:I,4,FALSE)","v":90.9},{"$f":"VLOOKUP($D243,'C.1 - Rate Sheets'!B:I,5,FALSE)","v":0},null,null,null,null,0,null,null,null,null,0,null,null,null,null,0,40,56,16,null,112,null,null,null,null,0,null,null,null,null,null,40,56,16,0,112,2272,4295.2,1454.4,0,8021.6,8021.6,"Yes",0,0,0]
[null,184,"Andrew Vanco","Tree Trimmer","Vendor No 6","Bryan",913242904,"2018-10-28","2018-11-03",{"$f":"IF(AND(H244>='A - Contractor Summary'!$C$36,I244<='A - Contractor Summary'!$C$42),\"Yes\",\"No\")","v":"No"},{"$f":"VLOOKUP($D244,'C.1 - Rate Sheets'!B:I,2,FALSE)","v":48.5},{"$f":"VLOOKUP($D244,'C.1 - Rate Sheets'!B:I,3,FALSE)","v":65.5},{"$f":"VLOOKUP($D244,'C.1 - Rate Sheets'!B:I,4,FALSE)","v":77.599999999999994},{"$f":"VLOOKUP($D244,'C.1 - Rate Sheets'!B:I,5,FALSE)","v":0},null,null,null,null,0,null,null,null,null,0,null,null,null,null,0,40,56,16,null,112,null,null,null,null,0,null,null,null,null,null,40,56,16,0,112,1940,3668,1241.5999999999999,0,6849.6,6849.6,"Yes",0,0,0]
[null,185,"Chase Cain","Crew Foreman","Vendor No 6","Cain",913242906,"2018-10-28","2018-11-03",{"$f":"IF(AND(H245>='A - Contractor Summary'!$C$36,I245<='A - Contractor Summary'!$C$42),\"Yes\",\"No\")","v":"No"},{"$f":"VLOOKUP($D245,'C.1 - Rate Sheets'!B:I,2,FALSE)","v":56.8},{"$f":"VLOOKUP($D245,'C.1 - Rate Sheets'!B:I,3,FALSE)","v":76.7},{"$f":"VLOOKUP($D245,'C.1 - Rate Sheets'!B:I,4,FALSE)","v":90.9},{"$f":"VLOOKUP($D245,'C.1 - Rate Sheets'!B:I,5,FALSE)","v":0},null,null,null,null,0,null,null,null,null,0,null,null,null,null,0,40,56,16,null,112,null,null,null,null,0,null,null,null,null,null,40,56,16,0,112,2272,4295.2,1454.4,0,8021.6,8021.6,"Yes",0,0,0]
[null,186,"Michael Kohler","Tree Trimmer","Vendor No 6","Cain",913242906,"2018-10-28","2018-11-03",{"$f":"IF(AND(H246>='A - Contractor Summary'!$C$36,I246<='A - Contractor Summary'!$C$42),\"Yes\",\"No\")","v":"No"},{"$f":"VLOOKUP($D246,'C.1 - Rate Sheets'!B:I,2,FALSE)","v":48.5},{"$f":"VLOOKUP($D246,'C.1 - Rate Sheets'!B:I,3,FALSE)","v":65.5},{"$f":"VLOOKUP($D246,'C.1 - Rate Sheets'!B:I,4,FALSE)","v":77.599999999999994},{"$f":"VLOOKUP($D246,'C.1 - Rate Sheets'!B:I,5,FALSE)","v":0},null,null,null,null,0,null,null,null,null,0,null,null,null,null,0,40,56,16,null,112,null,null,null,null,0,null,null,null,null,null,40,56,16,0,112,1940,3668,1241.5999999999999,0,6849.6,6849.6,"Yes",0,0,0]
[null,187,"Martin Kepler","Crew Foreman","Vendor No 6","Kepler",913242907,"2018-10-28","2018-11-03",{"$f":"IF(AND(H247>='A - Contractor Summary'!$C$36,I247<='A - Contractor Summary'!$C$42),\"Yes\",\"No\")","v":"No"},{"$f":"VLOOKUP($D247,'C.1 - Rate Sheets'!B:I,2,FALSE)","v":56.8},{"$f":"VLOOKUP($D247,'C.1 - Rate Sheets'!B:I,3,FALSE)","v":76.7},{"$f":"VLOOKUP($D247,'C.1 - Rate Sheets'!B:I,4,FALSE)","v":90.9},{"$f":"VLOOKUP($D247,'C.1 - Rate Sheets'!B:I,5,FALSE)","v":0},null,null,null,null,0,null,null,null,null,0,null,null,null,null,0,40,56,16,null,112,null,null,null,null,0,null,null,null,null,null,40,56,16,0,112,2272,4295.2,1454.4,0,8021.6,8021.6,"Yes",0,0,0]
[null,188,"Omello Manzo","Tree Trimmer","Vendor No 6","Kepler",913242907,"2018-10-28","2018-11-03",{"$f":"IF(AND(H248>='A - Contractor Summary'!$C$36,I248<='A - Contractor Summary'!$C$42),\"Yes\",\"No\")","v":"No"},{"$f":"VLOOKUP($D248,'C.1 - Rate Sheets'!B:I,2,FALSE)","v":48.5},{"$f":"VLOOKUP($D248,'C.1 - Rate Sheets'!B:I,3,FALSE)","v":65.5},{"$f":"VLOOKUP($D248,'C.1 - Rate Sheets'!B:I,4,FALSE)","v":77.599999999999994},{"$f":"VLOOKUP($D248,'C.1 - Rate Sheets'!B:I,5,FALSE)","v":0},null,null,null,null,0,null,null,null,null,0,null,null,null,null,0,40,56,16,null,112,null,null,null,null,0,null,null,null,null,null,40,56,16,0,112,1940,3668,1241.5999999999999,0,6849.6,6849.6,"Yes",0,0,0]
[null,189,"Mike Zopf","Crew Foreman","Vendor No 6","Zopf",913242909,"2018-10-28","2018-11-03",{"$f":"IF(AND(H249>='A - Contractor Summary'!$C$36,I249<='A - Contractor Summary'!$C$42),\"Yes\",\"No\")","v":"No"},{"$f":"VLOOKUP($D249,'C.1 - Rate Sheets'!B:I,2,FALSE)","v":56.8},{"$f":"VLOOKUP($D249,'C.1 - Rate Sheets'!B:I,3,FALSE)","v":76.7},{"$f":"VLOOKUP($D249,'C.1 - Rate Sheets'!B:I,4,FALSE)","v":90.9},{"$f":"VLOOKUP($D249,'C.1 - Rate Sheets'!B:I,5,FALSE)","v":0},null,null,null,null,0,null,null,null,null,0,null,null,null,null,0,40,56,16,null,112,null,null,null,null,0,null,null,null,null,null,40,56,16,0,112,2272,4295.2,1454.4,0,8021.6,8021.6,"Yes",0,0,0]
[null,190,"Patrick Cambell","Ground Person","Vendor No 6","Zopf",913242909,"2018-10-28","2018-11-03",{"$f":"IF(AND(H250>='A - Contractor Summary'!$C$36,I250<='A - Contractor Summary'!$C$42),\"Yes\",\"No\")","v":"No"},{"$f":"VLOOKUP($D250,'C.1 - Rate Sheets'!B:I,2,FALSE)","v":40},{"$f":"VLOOKUP($D250,'C.1 - Rate Sheets'!B:I,3,FALSE)","v":54},{"$f":"VLOOKUP($D250,'C.1 - Rate Sheets'!B:I,4,FALSE)","v":64},{"$f":"VLOOKUP($D250,'C.1 - Rate Sheets'!B:I,5,FALSE)","v":0},null,null,null,null,0,null,null,null,null,0,null,null,null,null,0,40,56,16,null,112,null,null,null,null,0,null,null,null,null,null,40,56,16,0,112,1600,3024,1024,0,5648,5648,"Yes",0,0,0]
[null,191,"Richard Couret","Crew Foreman","Vendor No 6","Couret",913242910,"2018-10-28","2018-11-03",{"$f":"IF(AND(H251>='A - Contractor Summary'!$C$36,I251<='A - Contractor Summary'!$C$42),\"Yes\",\"No\")","v":"No"},{"$f":"VLOOKUP($D251,'C.1 - Rate Sheets'!B:I,2,FALSE)","v":56.8},{"$f":"VLOOKUP($D251,'C.1 - Rate Sheets'!B:I,3,FALSE)","v":76.7},{"$f":"VLOOKUP($D251,'C.1 - Rate Sheets'!B:I,4,FALSE)","v":90.9},{"$f":"VLOOKUP($D251,'C.1 - Rate Sheets'!B:I,5,FALSE)","v":0},null,null,null,null,0,null,null,null,null,0,null,null,null,null,0,40,56,16,null,112,null,null,null,null,0,null,null,null,null,null,40,56,16,0,112,2272,4295.2,1454.4,0,8021.6,8021.6,"Yes",0,0,0]
[null,192,"Douglas Brown","Tree Trimmer","Vendor No 6","Couret",913242910,"2018-10-28","2018-11-03",{"$f":"IF(AND(H252>='A - Contractor Summary'!$C$36,I252<='A - Contractor Summary'!$C$42),\"Yes\",\"No\")","v":"No"},{"$f":"VLOOKUP($D252,'C.1 - Rate Sheets'!B:I,2,FALSE)","v":48.5},{"$f":"VLOOKUP($D252,'C.1 - Rate Sheets'!B:I,3,FALSE)","v":65.5},{"$f":"VLOOKUP($D252,'C.1 - Rate Sheets'!B:I,4,FALSE)","v":77.599999999999994},{"$f":"VLOOKUP($D252,'C.1 - Rate Sheets'!B:I,5,FALSE)","v":0},null,null,null,null,0,null,null,null,null,0,null,null,null,null,0,40,56,16,null,112,null,null,null,null,0,null,null,null,null,null,40,56,16,0,112,1940,3668,1241.5999999999999,0,6849.6,6849.6,"Yes",0,0,0]
[null,193,"Chris Schwletterman","Crew Foreman","Vendor No 6","Schwletterman",913242911,"2018-10-28","2018-11-03",{"$f":"IF(AND(H253>='A - Contractor Summary'!$C$36,I253<='A - Contractor Summary'!$C$42),\"Yes\",\"No\")","v":"No"},{"$f":"VLOOKUP($D253,'C.1 - Rate Sheets'!B:I,2,FALSE)","v":56.8},{"$f":"VLOOKUP($D253,'C.1 - Rate Sheets'!B:I,3,FALSE)","v":76.7},{"$f":"VLOOKUP($D253,'C.1 - Rate Sheets'!B:I,4,FALSE)","v":90.9},{"$f":"VLOOKUP($D253,'C.1 - Rate Sheets'!B:I,5,FALSE)","v":0},null,null,null,null,0,null,null,null,null,0,null,null,null,null,0,40,56,16,null,112,null,null,null,null,0,null,null,null,null,null,40,56,16,0,112,2272,4295.2,1454.4,0,8021.6,8021.6,"Yes",0,0,0]
[null,194,"Aathan Kennedy","Ground Person","Vendor No 6","Schwletterman",913242911,"2018-10-28","2018-11-03",{"$f":"IF(AND(H254>='A - Contractor Summary'!$C$36,I254<='A - Contractor Summary'!$C$42),\"Yes\",\"No\")","v":"No"},{"$f":"VLOOKUP($D254,'C.1 - Rate Sheets'!B:I,2,FALSE)","v":40},{"$f":"VLOOKUP($D254,'C.1 - Rate Sheets'!B:I,3,FALSE)","v":54},{"$f":"VLOOKUP($D254,'C.1 - Rate Sheets'!B:I,4,FALSE)","v":64},{"$f":"VLOOKUP($D254,'C.1 - Rate Sheets'!B:I,5,FALSE)","v":0},null,null,null,null,{"$f":"SUM(O254:R254)","v":0},null,null,null,null,{"$f":"SUM(T254:W254)","v":0},null,null,null,null,{"$f":"SUM(Y254:AB254)","v":0},40,56,16,null,{"$f":"SUM(AD254:AG254)","v":112},null,null,null,null,{"$f":"SUM(AI254:AL254)","v":0},null,null,null,null,null,{"$f":"SUM(O254,T254,Y254,AD254,AI254,AN254)","v":40},{"$f":"SUM(P254,U254,Z254,AE254,AJ254,AO254)","v":56},{"$f":"SUM(Q254,V254,AA254,AF254,AK254,AP254)","v":16},{"$f":"SUM(R254,W254,AB254,AG254,AL254,AQ254)","v":0},{"$f":"SUM(AS254:AV254)","v":112},{"$f":"AS254*K254","v":1600},{"$f":"AT254*L254","v":3024},{"$f":"AU254*M254","v":1024},{"$f":"AV254*N254","v":0},{"$f":"SUM(AX254:BA254)","v":5648},{"$f":"BB254-BE254","v":5648},"Yes",0,0,0]
[null,194,"John Mayer","Ground Person","Vendor No 6","Schwletterman",913242911,"2018-10-28","2018-11-01",{"$f":"IF(AND(H255>='A - Contractor Summary'!$C$36,I255<='A - Contractor Summary'!$C$42),\"Yes\",\"No\")","v":"No"},{"$f":"VLOOKUP($D255,'C.1 - Rate Sheets'!B:I,2,FALSE)","v":40},{"$f":"VLOOKUP($D255,'C.1 - Rate Sheets'!B:I,3,FALSE)","v":54},{"$f":"VLOOKUP($D255,'C.1 - Rate Sheets'!B:I,4,FALSE)","v":64},{"$f":"VLOOKUP($D255,'C.1 - Rate Sheets'!B:I,5,FALSE)","v":0},null,null,null,null,{"$f":"SUM(O255:R255)","v":0},null,null,null,null,{"$f":"SUM(T255:W255)","v":0},null,null,null,null,{"$f":"SUM(Y255:AB255)","v":0},32,32,16,null,{"$f":"SUM(AD255:AG255)","v":80},null,null,null,null,{"$f":"SUM(AI255:AL255)","v":0},null,null,null,null,null,32,32,16,0,80,1280,1728,1024,0,4032,4032,"Yes",0,0,0]
[null,195,"Joel Long","Crew Foreman","Vendor No 6","Long",913259268,"2018-10-28","2018-11-03",{"$f":"IF(AND(H256>='A - Contractor Summary'!$C$36,I256<='A - Contractor Summary'!$C$42),\"Yes\",\"No\")","v":"No"},{"$f":"VLOOKUP($D256,'C.1 - Rate Sheets'!B:I,2,FALSE)","v":56.8},{"$f":"VLOOKUP($D256,'C.1 - Rate Sheets'!B:I,3,FALSE)","v":76.7},{"$f":"VLOOKUP($D256,'C.1 - Rate Sheets'!B:I,4,FALSE)","v":90.9},{"$f":"VLOOKUP($D256,'C.1 - Rate Sheets'!B:I,5,FALSE)","v":0},null,null,null,null,0,null,null,null,null,0,null,null,null,null,0,40,56,16,null,112,null,null,null,null,0,null,null,null,null,null,40,56,16,0,112,{"$f":"AS256*K256","v":2272},{"$f":"AT256*L256","v":4295.2},{"$f":"AU256*M256","v":1454.4},{"$f":"AV256*N256","v":0},{"$f":"SUM(AX256:BA256)","v":8021.6},8021.6,"Yes",0,0,0]
[null,196,"Michael Davis","Tree Trimmer","Vendor No 6","Long",913259268,"2018-10-28","2018-11-03",{"$f":"IF(AND(H257>='A - Contractor Summary'!$C$36,I257<='A - Contractor Summary'!$C$42),\"Yes\",\"No\")","v":"No"},{"$f":"VLOOKUP($D257,'C.1 - Rate Sheets'!B:I,2,FALSE)","v":48.5},{"$f":"VLOOKUP($D257,'C.1 - Rate Sheets'!B:I,3,FALSE)","v":65.5},{"$f":"VLOOKUP($D257,'C.1 - Rate Sheets'!B:I,4,FALSE)","v":77.599999999999994},{"$f":"VLOOKUP($D257,'C.1 - Rate Sheets'!B:I,5,FALSE)","v":0},null,null,null,null,{"$f":"SUM(O257:R257)","v":0},null,null,null,null,{"$f":"SUM(T257:W257)","v":0},null,null,null,null,{"$f":"SUM(Y257:AB257)","v":0},40,56,16,null,{"$f":"SUM(AD257:AG257)","v":112},null,null,null,null,{"$f":"SUM(AI257:AL257)","v":0},null,null,null,null,null,{"$f":"SUM(O257,T257,Y257,AD257,AI257,AN257)","v":40},{"$f":"SUM(P257,U257,Z257,AE257,AJ257,AO257)","v":56},{"$f":"SUM(Q257,V257,AA257,AF257,AK257,AP257)","v":16},{"$f":"SUM(R257,W257,AB257,AG257,AL257,AQ257)","v":0},{"$f":"SUM(AS257:AV257)","v":112},{"$f":"AS257*K257","v":1940},{"$f":"AT257*L257","v":3668},{"$f":"AU257*M257","v":1241.5999999999999},{"$f":"AV257*N257","v":0},{"$f":"SUM(AX257:BA257)","v":6849.6},{"$f":"BB257-BE257","v":6849.6},"Yes",0,0,0]
[null,196,"Rommel Suarez","Tree Trimmer","Vendor No 6","Long",913259268,"2018-10-28","2018-11-03",{"$f":"IF(AND(H258>='A - Contractor Summary'!$C$36,I258<='A - Contractor Summary'!$C$42),\"Yes\",\"No\")","v":"No"},{"$f":"VLOOKUP($D258,'C.1 - Rate Sheets'!B:I,2,FALSE)","v":48.5},{"$f":"VLOOKUP($D258,'C.1 - Rate Sheets'!B:I,3,FALSE)","v":65.5},{"$f":"VLOOKUP($D258,'C.1 - Rate Sheets'!B:I,4,FALSE)","v":77.599999999999994},{"$f":"VLOOKUP($D258,'C.1 - Rate Sheets'!B:I,5,FALSE)","v":0},null,null,null,null,0,null,null,null,null,0,null,null,null,null,0,40,56,16,null,112,null,null,null,null,0,null,null,null,null,null,40,56,16,0,112,1940,3668,1241.5999999999999,0,6849.6,6849.6,"Yes",0,0,0]
[null,197,"Bryan Caldwell","Tree Trimmer","Vendor No 6","Cambell",913259270,"2018-10-28","2018-11-03",{"$f":"IF(AND(H259>='A - Contractor Summary'!$C$36,I259<='A - Contractor Summary'!$C$42),\"Yes\",\"No\")","v":"No"},{"$f":"VLOOKUP($D259,'C.1 - Rate Sheets'!B:I,2,FALSE)","v":48.5},{"$f":"VLOOKUP($D259,'C.1 - Rate Sheets'!B:I,3,FALSE)","v":65.5},{"$f":"VLOOKUP($D259,'C.1 - Rate Sheets'!B:I,4,FALSE)","v":77.599999999999994},{"$f":"VLOOKUP($D259,'C.1 - Rate Sheets'!B:I,5,FALSE)","v":0},null,null,null,null,0,null,null,null,null,0,null,null,null,null,0,40,56,16,null,112,null,null,null,null,0,null,null,null,null,null,40,56,16,0,112,1940,3668,1241.5999999999999,0,6849.6,6849.6,"Yes",0,0,0]
[null,198,"James Hardy","Crew Foreman","Vendor No 6","Hardy",913259274,"2018-10-28","2018-11-03",{"$f":"IF(AND(H260>='A - Contractor Summary'!$C$36,I260<='A - Contractor Summary'!$C$42),\"Yes\",\"No\")","v":"No"},{"$f":"VLOOKUP($D260,'C.1 - Rate Sheets'!B:I,2,FALSE)","v":56.8},{"$f":"VLOOKUP($D260,'C.1 - Rate Sheets'!B:I,3,FALSE)","v":76.7},{"$f":"VLOOKUP($D260,'C.1 - Rate Sheets'!B:I,4,FALSE)","v":90.9},{"$f":"VLOOKUP($D260,'C.1 - Rate Sheets'!B:I,5,FALSE)","v":0},null,null,null,null,0,null,null,null,null,0,null,null,null,null,0,40,56,16,null,112,null,null,null,null,0,null,null,null,null,null,40,56,16,0,112,2272,4295.2,1454.4,0,8021.6,{"$f":"BB260-BE260","v":8021.6},"Yes",0,0,0]
[null,199,"John Erti","Tree Trimmer","Vendor No 6","Hardy",913259274,"2018-10-28","2018-11-03",{"$f":"IF(AND(H261>='A - Contractor Summary'!$C$36,I261<='A - Contractor Summary'!$C$42),\"Yes\",\"No\")","v":"No"},{"$f":"VLOOKUP($D261,'C.1 - Rate Sheets'!B:I,2,FALSE)","v":48.5},{"$f":"VLOOKUP($D261,'C.1 - Rate Sheets'!B:I,3,FALSE)","v":65.5},{"$f":"VLOOKUP($D261,'C.1 - Rate Sheets'!B:I,4,FALSE)","v":77.599999999999994},{"$f":"VLOOKUP($D261,'C.1 - Rate Sheets'!B:I,5,FALSE)","v":0},null,null,null,null,0,null,null,null,null,0,null,null,null,null,0,40,56,16,null,112,null,null,null,null,0,null,null,null,null,null,{"$f":"SUM(O261,T261,Y261,AD261,AI261,AN261)","v":40},{"$f":"SUM(P261,U261,Z261,AE261,AJ261,AO261)","v":56},{"$f":"SUM(Q261,V261,AA261,AF261,AK261,AP261)","v":16},{"$f":"SUM(R261,W261,AB261,AG261,AL261,AQ261)","v":0},{"$f":"SUM(AS261:AV261)","v":112},1940,3668,1241.5999999999999,0,6849.6,6849.6,"Yes",0,0,0]
[null,200,"Romulo Melgar","Crew Foreman","Vendor No 6","Melgar",913259364,"2018-10-28","2018-10-31",{"$f":"IF(AND(H262>='A - Contractor Summary'!$C$36,I262<='A - Contractor Summary'!$C$42),\"Yes\",\"No\")","v":"No"},{"$f":"VLOOKUP($D262,'C.1 - Rate Sheets'!B:I,2,FALSE)","v":56.8},{"$f":"VLOOKUP($D262,'C.1 - Rate Sheets'!B:I,3,FALSE)","v":76.7},{"$f":"VLOOKUP($D262,'C.1 - Rate Sheets'!B:I,4,FALSE)","v":90.9},{"$f":"VLOOKUP($D262,'C.1 - Rate Sheets'!B:I,5,FALSE)","v":0},null,null,null,null,0,null,null,null,null,0,null,null,null,null,0,24,20,16,null,60,null,null,null,null,0,null,null,null,null,null,24,20,16,0,60,1363.1999999999998,1534,1454.4,0,4351.6000000000004,4351.6000000000004,"Yes",0,0,0,5]
[null,200,"Gamaller Ramirez","Crew Foreman","Vendor No 6","Melgar",913259364,"2018-10-28","2018-10-31",{"$f":"IF(AND(H263>='A - Contractor Summary'!$C$36,I263<='A - Contractor Summary'!$C$42),\"Yes\",\"No\")","v":"No"},{"$f":"VLOOKUP($D263,'C.1 - Rate Sheets'!B:I,2,FALSE)","v":56.8},{"$f":"VLOOKUP($D263,'C.1 - Rate Sheets'!B:I,3,FALSE)","v":76.7},{"$f":"VLOOKUP($D263,'C.1 - Rate Sheets'!B:I,4,FALSE)","v":90.9},{"$f":"VLOOKUP($D263,'C.1 - Rate Sheets'!B:I,5,FALSE)","v":0},null,null,null,null,{"$f":"SUM(O263:R263)","v":0},null,null,null,null,{"$f":"SUM(T263:W263)","v":0},null,null,null,null,{"$f":"SUM(Y263:AB263)","v":0},24,20,16,null,{"$f":"SUM(AD263:AG263)","v":60},null,null,null,null,{"$f":"SUM(AI263:AL263)","v":0},null,null,null,null,null,{"$f":"SUM(O263,T263,Y263,AD263,AI263,AN263)","v":24},{"$f":"SUM(P263,U263,Z263,AE263,AJ263,AO263)","v":20},{"$f":"SUM(Q263,V263,AA263,AF263,AK263,AP263)","v":16},{"$f":"SUM(R263,W263,AB263,AG263,AL263,AQ263)","v":0},{"$f":"SUM(AS263:AV263)","v":60},{"$f":"AS263*K263","v":1363.1999999999998},{"$f":"AT263*L263","v":1534},{"$f":"AU263*M263","v":1454.4},{"$f":"AV263*N263","v":0},{"$f":"SUM(AX263:BA263)","v":4351.6000000000004},{"$f":"BB263-BE263","v":4351.6000000000004},"Yes",0,0,0,5]
[null,200,"Osmani Morejon-Cruz","Crew Foreman","Vendor No 6","Melgar",913259364,"2018-10-28","2018-10-31",{"$f":"IF(AND(H264>='A - Contractor Summary'!$C$36,I264<='A - Contractor Summary'!$C$42),\"Yes\",\"No\")","v":"No"},{"$f":"VLOOKUP($D264,'C.1 - Rate Sheets'!B:I,2,FALSE)","v":56.8},{"$f":"VLOOKUP($D264,'C.1 - Rate Sheets'!B:I,3,FALSE)","v":76.7},{"$f":"VLOOKUP($D264,'C.1 - Rate Sheets'!B:I,4,FALSE)","v":90.9},{"$f":"VLOOKUP($D264,'C.1 - Rate Sheets'!B:I,5,FALSE)","v":0},null,null,null,null,0,null,null,null,null,0,null,null,null,null,0,24,20,16,null,60,null,null,null,null,0,null,null,null,null,null,24,20,16,0,60,1363.1999999999998,1534,1454.4,0,4351.6000000000004,4351.6000000000004,"Yes",0,0,0,5]
[null,200,"Pedro Caspedes","Crew Foreman","Vendor No 6","Melgar",913259364,"2018-10-28","2018-10-31",{"$f":"IF(AND(H265>='A - Contractor Summary'!$C$36,I265<='A - Contractor Summary'!$C$42),\"Yes\",\"No\")","v":"No"},{"$f":"VLOOKUP($D265,'C.1 - Rate Sheets'!B:I,2,FALSE)","v":56.8},{"$f":"VLOOKUP($D265,'C.1 - Rate Sheets'!B:I,3,FALSE)","v":76.7},{"$f":"VLOOKUP($D265,'C.1 - Rate Sheets'!B:I,4,FALSE)","v":90.9},{"$f":"VLOOKUP($D265,'C.1 - Rate Sheets'!B:I,5,FALSE)","v":0},null,null,null,null,0,null,null,null,null,0,null,null,null,null,0,24,20,16,null,60,null,null,null,null,0,null,null,null,null,null,24,20,16,0,60,1363.1999999999998,1534,1454.4,0,4351.6000000000004,4351.6000000000004,"Yes",0,0,0,5]
[null,201,"Eddy Mendoza-Rhivero","Tree Trimmer","Vendor No 6","Melgar",913259364,"2018-10-28","2018-10-31",{"$f":"IF(AND(H266>='A - Contractor Summary'!$C$36,I266<='A - Contractor Summary'!$C$42),\"Yes\",\"No\")","v":"No"},{"$f":"VLOOKUP($D266,'C.1 - Rate Sheets'!B:I,2,FALSE)","v":48.5},{"$f":"VLOOKUP($D266,'C.1 - Rate Sheets'!B:I,3,FALSE)","v":65.5},{"$f":"VLOOKUP($D266,'C.1 - Rate Sheets'!B:I,4,FALSE)","v":77.599999999999994},{"$f":"VLOOKUP($D266,'C.1 - Rate Sheets'!B:I,5,FALSE)","v":0},null,null,null,null,0,null,null,null,null,0,null,null,null,null,0,24,20,16,null,60,null,null,null,null,0,null,null,null,null,null,24,20,16,0,60,1164,1310,1241.5999999999999,0,3715.6,3715.6,"Yes",0,0,0,5]
[null,201,"Julio Reyes","Tree Trimmer","Vendor No 6","Melgar",913259364,"2018-10-28","2018-10-31",{"$f":"IF(AND(H267>='A - Contractor Summary'!$C$36,I267<='A - Contractor Summary'!$C$42),\"Yes\",\"No\")","v":"No"},{"$f":"VLOOKUP($D267,'C.1 - Rate Sheets'!B:I,2,FALSE)","v":48.5},{"$f":"VLOOKUP($D267,'C.1 - Rate Sheets'!B:I,3,FALSE)","v":65.5},{"$f":"VLOOKUP($D267,'C.1 - Rate Sheets'!B:I,4,FALSE)","v":77.599999999999994},{"$f":"VLOOKUP($D267,'C.1 - Rate Sheets'!B:I,5,FALSE)","v":0},null,null,null,null,0,null,null,null,null,0,null,null,null,null,0,24,20,16,null,60,null,null,null,null,0,null,null,null,null,null,24,20,16,0,60,1164,1310,1241.5999999999999,0,3715.6,3715.6,"Yes",0,0,0,5]
[null,202,"Abel Chirino","Crew Foreman","Vendor No 6","Chirino",913259367,"2018-10-28","2018-10-31",{"$f":"IF(AND(H268>='A - Contractor Summary'!$C$36,I268<='A - Contractor Summary'!$C$42),\"Yes\",\"No\")","v":"No"},{"$f":"VLOOKUP($D268,'C.1 - Rate Sheets'!B:I,2,FALSE)","v":56.8},{"$f":"VLOOKUP($D268,'C.1 - Rate Sheets'!B:I,3,FALSE)","v":76.7},{"$f":"VLOOKUP($D268,'C.1 - Rate Sheets'!B:I,4,FALSE)","v":90.9},{"$f":"VLOOKUP($D268,'C.1 - Rate Sheets'!B:I,5,FALSE)","v":0},null,null,null,null,{"$f":"SUM(O268:R268)","v":0},null,null,null,null,{"$f":"SUM(T268:W268)","v":0},null,null,null,null,{"$f":"SUM(Y268:AB268)","v":0},24,20,16,null,{"$f":"SUM(AD268:AG268)","v":60},null,null,null,null,{"$f":"SUM(AI268:AL268)","v":0},null,null,null,null,null,{"$f":"SUM(O268,T268,Y268,AD268,AI268,AN268)","v":24},{"$f":"SUM(P268,U268,Z268,AE268,AJ268,AO268)","v":20},{"$f":"SUM(Q268,V268,AA268,AF268,AK268,AP268)","v":16},{"$f":"SUM(R268,W268,AB268,AG268,AL268,AQ268)","v":0},{"$f":"SUM(AS268:AV268)","v":60},{"$f":"AS268*K268","v":1363.1999999999998},{"$f":"AT268*L268","v":1534},{"$f":"AU268*M268","v":1454.4},{"$f":"AV268*N268","v":0},{"$f":"SUM(AX268:BA268)","v":4351.6000000000004},{"$f":"BB268-BE268","v":4351.6000000000004},"Yes",0,0,0,5]
[null,202,"Osbany Marejon-Cruz","Crew Foreman","Vendor No 6","Chirino",913259367,"2018-10-28","2018-10-31",{"$f":"IF(AND(H269>='A - Contractor Summary'!$C$36,I269<='A - Contractor Summary'!$C$42),\"Yes\",\"No\")","v":"No"},{"$f":"VLOOKUP($D269,'C.1 - Rate Sheets'!B:I,2,FALSE)","v":56.8},{"$f":"VLOOKUP($D269,'C.1 - Rate Sheets'!B:I,3,FALSE)","v":76.7},{"$f":"VLOOKUP($D269,'C.1 - Rate Sheets'!B:I,4,FALSE)","v":90.9},{"$f":"VLOOKUP($D269,'C.1 - Rate Sheets'!B:I,5,FALSE)","v":0},null,null,null,null,0,null,null,null,null,0,null,null,null,null,0,24,20,16,null,60,null,null,null,null,0,null,null,null,null,null,24,20,16,0,60,1363.1999999999998,1534,1454.4,0,4351.6000000000004,4351.6000000000004,"Yes",0,0,0,5]
[null,202,"Andres Mena","Crew Foreman","Vendor No 6","Chirino",913259367,"2018-10-28","2018-10-31",{"$f":"IF(AND(H270>='A - Contractor Summary'!$C$36,I270<='A - Contractor Summary'!$C$42),\"Yes\",\"No\")","v":"No"},{"$f":"VLOOKUP($D270,'C.1 - Rate Sheets'!B:I,2,FALSE)","v":56.8},{"$f":"VLOOKUP($D270,'C.1 - Rate Sheets'!B:I,3,FALSE)","v":76.7},{"$f":"VLOOKUP($D270,'C.1 - Rate Sheets'!B:I,4,FALSE)","v":90.9},{"$f":"VLOOKUP($D270,'C.1 - Rate Sheets'!B:I,5,FALSE)","v":0},null,null,null,null,0,null,null,null,null,0,null,null,null,null,0,24,20,16,null,60,null,null,null,null,0,null,null,null,null,null,24,20,16,0,60,1363.1999999999998,1534,1454.4,0,4351.6000000000004,4351.6000000000004,"Yes",0,0,0,5]
[null,203,"Ray Montellier-Antega","Tree Trimmer","Vendor No 6","Chirino",913259367,"2018-10-28","2018-10-31",{"$f":"IF(AND(H271>='A - Contractor Summary'!$C$36,I271<='A - Contractor Summary'!$C$42),\"Yes\",\"No\")","v":"No"},{"$f":"VLOOKUP($D271,'C.1 - Rate Sheets'!B:I,2,FALSE)","v":48.5},{"$f":"VLOOKUP($D271,'C.1 - Rate Sheets'!B:I,3,FALSE)","v":65.5},{"$f":"VLOOKUP($D271,'C.1 - Rate Sheets'!B:I,4,FALSE)","v":77.599999999999994},{"$f":"VLOOKUP($D271,'C.1 - Rate Sheets'!B:I,5,FALSE)","v":0},null,null,null,null,0,null,null,null,null,0,null,null,null,null,0,24,20,16,null,60,null,null,null,null,0,null,null,null,null,null,24,20,16,0,60,1164,1310,1241.5999999999999,0,3715.6,3715.6,"Yes",0,0,0,5]
[null,203,"Yohandy Cruiz","Tree Trimmer","Vendor No 6","Chirino",913259367,"2018-10-28","2018-10-31",{"$f":"IF(AND(H272>='A - Contractor Summary'!$C$36,I272<='A - Contractor Summary'!$C$42),\"Yes\",\"No\")","v":"No"},{"$f":"VLOOKUP($D272,'C.1 - Rate Sheets'!B:I,2,FALSE)","v":48.5},{"$f":"VLOOKUP($D272,'C.1 - Rate Sheets'!B:I,3,FALSE)","v":65.5},{"$f":"VLOOKUP($D272,'C.1 - Rate Sheets'!B:I,4,FALSE)","v":77.599999999999994},{"$f":"VLOOKUP($D272,'C.1 - Rate Sheets'!B:I,5,FALSE)","v":0},null,null,null,null,{"$f":"SUM(O272:R272)","v":0},null,null,null,null,{"$f":"SUM(T272:W272)","v":0},null,null,null,null,{"$f":"SUM(Y272:AB272)","v":0},24,20,16,null,{"$f":"SUM(AD272:AG272)","v":60},null,null,null,null,{"$f":"SUM(AI272:AL272)","v":0},null,null,null,null,null,{"$f":"SUM(O272,T272,Y272,AD272,AI272,AN272)","v":24},{"$f":"SUM(P272,U272,Z272,AE272,AJ272,AO272)","v":20},{"$f":"SUM(Q272,V272,AA272,AF272,AK272,AP272)","v":16},{"$f":"SUM(R272,W272,AB272,AG272,AL272,AQ272)","v":0},{"$f":"SUM(AS272:AV272)","v":60},{"$f":"AS272*K272","v":1164},{"$f":"AT272*L272","v":1310},{"$f":"AU272*M272","v":1241.5999999999999},{"$f":"AV272*N272","v":0},{"$f":"SUM(AX272:BA272)","v":3715.6},{"$f":"BB272-BE272","v":3715.6},"Yes",0,0,0,5]
[null,203,"Leovan Puentes","Tree Trimmer","Vendor No 6","Chirino",913259367,"2018-10-28","2018-10-31",{"$f":"IF(AND(H273>='A - Contractor Summary'!$C$36,I273<='A - Contractor Summary'!$C$42),\"Yes\",\"No\")","v":"No"},{"$f":"VLOOKUP($D273,'C.1 - Rate Sheets'!B:I,2,FALSE)","v":48.5},{"$f":"VLOOKUP($D273,'C.1 - Rate Sheets'!B:I,3,FALSE)","v":65.5},{"$f":"VLOOKUP($D273,'C.1 - Rate Sheets'!B:I,4,FALSE)","v":77.599999999999994},{"$f":"VLOOKUP($D273,'C.1 - Rate Sheets'!B:I,5,FALSE)","v":0},null,null,null,null,0,null,null,null,null,0,null,null,null,null,0,24,20,16,null,60,null,null,null,null,0,null,null,null,null,null,24,20,16,0,60,1164,1310,1241.5999999999999,0,3715.6,3715.6,"Yes",0,0,0,5]
[null,204,"Velazquez, Ramon","Supervisor","Vendor No 6","Velasquez",913259368,"2018-10-28","2018-10-31",{"$f":"IF(AND(H274>='A - Contractor Summary'!$C$36,I274<='A - Contractor Summary'!$C$42),\"Yes\",\"No\")","v":"No"},{"$f":"VLOOKUP($D274,'C.1 - Rate Sheets'!B:I,2,FALSE)","v":74},{"$f":"VLOOKUP($D274,'C.1 - Rate Sheets'!B:I,3,FALSE)","v":99.9},{"$f":"VLOOKUP($D274,'C.1 - Rate Sheets'!B:I,4,FALSE)","v":118.4},{"$f":"VLOOKUP($D274,'C.1 - Rate Sheets'!B:I,5,FALSE)","v":0},null,null,null,null,0,null,null,null,null,0,null,null,null,null,0,24,20,16,null,60,null,null,null,null,0,null,null,null,null,null,24,20,16,0,60,1776,1998,1894.4,0,5668.4,5668.4,"Yes",0,0,0]
[null,205,"Robert Ellis","On-Site Safety Coordinator","Vendor No 6","Ellis",913293323,"2018-10-28","2018-11-03",{"$f":"IF(AND(H275>='A - Contractor Summary'!$C$36,I275<='A - Contractor Summary'!$C$42),\"Yes\",\"No\")","v":"No"},{"$f":"VLOOKUP($D275,'C.1 - Rate Sheets'!B:I,2,FALSE)","v":65},{"$f":"VLOOKUP($D275,'C.1 - Rate Sheets'!B:I,3,FALSE)","v":65},{"$f":"VLOOKUP($D275,'C.1 - Rate Sheets'!B:I,4,FALSE)","v":65},{"$f":"VLOOKUP($D275,'C.1 - Rate Sheets'!B:I,5,FALSE)","v":0},null,null,null,null,0,null,null,null,null,0,null,null,null,null,0,40,42,null,null,82,null,null,null,null,0,null,null,null,null,null,40,42,0,0,82,2600,2730,0,0,5330,5330,"Yes",0,0,0]
[null,206,"Harold Danielson","On-Site Safety Coordinator","Vendor No 6","Danielson",913293325,"2018-10-28","2018-10-30",{"$f":"IF(AND(H276>='A - Contractor Summary'!$C$36,I276<='A - Contractor Summary'!$C$42),\"Yes\",\"No\")","v":"No"},{"$f":"VLOOKUP($D276,'C.1 - Rate Sheets'!B:I,2,FALSE)","v":65},{"$f":"VLOOKUP($D276,'C.1 - Rate Sheets'!B:I,3,FALSE)","v":65},{"$f":"VLOOKUP($D276,'C.1 - Rate Sheets'!B:I,4,FALSE)","v":65},{"$f":"VLOOKUP($D276,'C.1 - Rate Sheets'!B:I,5,FALSE)","v":0},null,null,null,null,0,null,null,null,null,0,null,null,null,null,0,16,10,14,null,40,null,null,null,null,0,null,null,null,null,null,16,10,14,0,40,1040,650,910,0,2600,2600,"Yes",0,0,0]
[null,207,"Brian Parris","On-Site Safety Coordinator","Vendor No 6","Parris",913301066,"2018-10-28","2018-11-02",{"$f":"IF(AND(H277>='A - Contractor Summary'!$C$36,I277<='A - Contractor Summary'!$C$42),\"Yes\",\"No\")","v":"No"},{"$f":"VLOOKUP($D277,'C.1 - Rate Sheets'!B:I,2,FALSE)","v":65},{"$f":"VLOOKUP($D277,'C.1 - Rate Sheets'!B:I,3,FALSE)","v":65},{"$f":"VLOOKUP($D277,'C.1 - Rate Sheets'!B:I,4,FALSE)","v":65},{"$f":"VLOOKUP($D277,'C.1 - Rate Sheets'!B:I,5,FALSE)","v":0},null,null,null,null,0,null,null,null,null,0,null,null,null,null,0,40,30,14,null,84,null,null,null,null,0,null,null,null,null,null,40,30,14,0,84,2600,1950,910,0,5460,5460,"Yes",0,0,0]
[null,208,"Bradley Gonzalez","On-Site Safety Coordinator","Vendor No 6","Gonzalez",913301068,"2018-10-28","2018-10-30",{"$f":"IF(AND(H278>='A - Contractor Summary'!$C$36,I278<='A - Contractor Summary'!$C$42),\"Yes\",\"No\")","v":"No"},{"$f":"VLOOKUP($D278,'C.1 - Rate Sheets'!B:I,2,FALSE)","v":65},{"$f":"VLOOKUP($D278,'C.1 - Rate Sheets'!B:I,3,FALSE)","v":65},{"$f":"VLOOKUP($D278,'C.1 - Rate Sheets'!B:I,4,FALSE)","v":65},{"$f":"VLOOKUP($D278,'C.1 - Rate Sheets'!B:I,5,FALSE)","v":0},null,null,null,null,0,null,null,null,null,0,null,null,null,null,0,16,10,14,null,40,null,null,null,null,0,null,null,null,null,null,16,10,14,0,40,1040,650,910,0,2600,2600,"Yes",0,0,0]
[null,209,"Random Palmer","On-Site Safety Coordinator","Vendor No 6","Palmer",913301069,"2018-10-28","2018-10-30",{"$f":"IF(AND(H279>='A - Contractor Summary'!$C$36,I279<='A - Contractor Summary'!$C$42),\"Yes\",\"No\")","v":"No"},{"$f":"VLOOKUP($D279,'C.1 - Rate Sheets'!B:I,2,FALSE)","v":65},{"$f":"VLOOKUP($D279,'C.1 - Rate Sheets'!B:I,3,FALSE)","v":65},{"$f":"VLOOKUP($D279,'C.1 - Rate Sheets'!B:I,4,FALSE)","v":65},{"$f":"VLOOKUP($D279,'C.1 - Rate Sheets'!B:I,5,FALSE)","v":0},null,null,null,null,0,null,null,null,null,0,null,null,null,null,0,16,12,14,null,42,null,null,null,null,0,null,null,null,null,null,16,12,14,0,42,1040,780,910,0,2730,2730,"Yes",0,0,0,"timesheet shows 43 hours"]
[null,210,"Manuel Acosta","Crew Foreman","Vendor No 6","Acosta",913332915,"2018-10-28","2018-10-31",{"$f":"IF(AND(H280>='A - Contractor Summary'!$C$36,I280<='A - Contractor Summary'!$C$42),\"Yes\",\"No\")","v":"No"},{"$f":"VLOOKUP($D280,'C.1 - Rate Sheets'!B:I,2,FALSE)","v":56.8},{"$f":"VLOOKUP($D280,'C.1 - Rate Sheets'!B:I,3,FALSE)","v":76.7},{"$f":"VLOOKUP($D280,'C.1 - Rate Sheets'!B:I,4,FALSE)","v":90.9},{"$f":"VLOOKUP($D280,'C.1 - Rate Sheets'!B:I,5,FALSE)","v":0},null,null,null,null,0,null,null,null,null,0,null,null,null,null,0,24,24,16,null,64,null,null,null,null,0,null,null,null,null,null,24,24,16,0,64,1363.1999999999998,1840.8000000000002,1454.4,0,4658.3999999999996,4658.3999999999996,"Yes",0,0,0]
[null,211,"Jose Hernandez","Tree Trimmer","Vendor No 6","Acosta",913332915,"2018-10-28","2018-10-31",{"$f":"IF(AND(H281>='A - Contractor Summary'!$C$36,I281<='A - Contractor Summary'!$C$42),\"Yes\",\"No\")","v":"No"},{"$f":"VLOOKUP($D281,'C.1 - Rate Sheets'!B:I,2,FALSE)","v":48.5},{"$f":"VLOOKUP($D281,'C.1 - Rate Sheets'!B:I,3,FALSE)","v":65.5},{"$f":"VLOOKUP($D281,'C.1 - Rate Sheets'!B:I,4,FALSE)","v":77.599999999999994},{"$f":"VLOOKUP($D281,'C.1 - Rate Sheets'!B:I,5,FALSE)","v":0},null,null,null,null,0,null,null,null,null,0,null,null,null,null,0,24,24,16,null,64,null,null,null,null,0,null,null,null,null,null,24,24,16,0,64,1164,1572,1241.5999999999999,0,3977.6,3977.6,"Yes",0,0,0]
[null,212,"Marcus Carter","Crew Foreman","Vendor No 6","Carter",913333177,"2018-10-28","2018-10-31",{"$f":"IF(AND(H282>='A - Contractor Summary'!$C$36,I282<='A - Contractor Summary'!$C$42),\"Yes\",\"No\")","v":"No"},{"$f":"VLOOKUP($D282,'C.1 - Rate Sheets'!B:I,2,FALSE)","v":56.8},{"$f":"VLOOKUP($D282,'C.1 - Rate Sheets'!B:I,3,FALSE)","v":76.7},{"$f":"VLOOKUP($D282,'C.1 - Rate Sheets'!B:I,4,FALSE)","v":90.9},{"$f":"VLOOKUP($D282,'C.1 - Rate Sheets'!B:I,5,FALSE)","v":0},null,null,null,null,0,null,null,null,null,0,null,null,null,null,0,24,24,16,null,64,null,null,null,null,0,null,null,null,null,null,24,24,16,0,64,1363.1999999999998,1840.8000000000002,1454.4,0,4658.3999999999996,4658.3999999999996,"Yes",0,0,0]
[null,213,"Mark Cody","Tree Trimmer","Vendor No 6","Carter",913333177,"2018-10-28","2018-10-31",{"$f":"IF(AND(H283>='A - Contractor Summary'!$C$36,I283<='A - Contractor Summary'!$C$42),\"Yes\",\"No\")","v":"No"},{"$f":"VLOOKUP($D283,'C.1 - Rate Sheets'!B:I,2,FALSE)","v":48.5},{"$f":"VLOOKUP($D283,'C.1 - Rate Sheets'!B:I,3,FALSE)","v":65.5},{"$f":"VLOOKUP($D283,'C.1 - Rate Sheets'!B:I,4,FALSE)","v":77.599999999999994},{"$f":"VLOOKUP($D283,'C.1 - Rate Sheets'!B:I,5,FALSE)","v":0},null,null,null,null,0,null,null,null,null,0,null,null,null,null,0,24,24,16,null,64,null,null,null,null,0,null,null,null,null,null,24,24,16,0,64,1164,1572,1241.5999999999999,0,3977.6,3977.6,"Yes",0,0,0]
[null,214,"Gary Thomas","Supervisor","Vendor No 6","Thomas",913333182,"2018-10-28","2018-10-31",{"$f":"IF(AND(H284>='A - Contractor Summary'!$C$36,I284<='A - Contractor Summary'!$C$42),\"Yes\",\"No\")","v":"No"},{"$f":"VLOOKUP($D284,'C.1 - Rate Sheets'!B:I,2,FALSE)","v":74},{"$f":"VLOOKUP($D284,'C.1 - Rate Sheets'!B:I,3,FALSE)","v":99.9},{"$f":"VLOOKUP($D284,'C.1 - Rate Sheets'!B:I,4,FALSE)","v":118.4},{"$f":"VLOOKUP($D284,'C.1 - Rate Sheets'!B:I,5,FALSE)","v":0},null,null,null,null,0,null,null,null,null,0,null,null,null,null,0,24,24,16,null,64,null,null,null,null,0,null,null,null,null,null,24,24,16,0,64,1776,2397.6000000000004,1894.4,0,6068,6068,"Yes",0,0,0]
[null,215,"Rolando Hermida ","Crew Foreman","Vendor No 6","Hermida",913333184,"2018-10-28","2018-10-31",{"$f":"IF(AND(H285>='A - Contractor Summary'!$C$36,I285<='A - Contractor Summary'!$C$42),\"Yes\",\"No\")","v":"No"},{"$f":"VLOOKUP($D285,'C.1 - Rate Sheets'!B:I,2,FALSE)","v":56.8},{"$f":"VLOOKUP($D285,'C.1 - Rate Sheets'!B:I,3,FALSE)","v":76.7},{"$f":"VLOOKUP($D285,'C.1 - Rate Sheets'!B:I,4,FALSE)","v":90.9},{"$f":"VLOOKUP($D285,'C.1 - Rate Sheets'!B:I,5,FALSE)","v":0},null,null,null,null,0,null,null,null,null,0,null,null,null,null,0,24,24,16,null,64,null,null,null,null,0,null,null,null,null,null,24,24,16,0,64,1363.1999999999998,1840.8000000000002,1454.4,0,4658.3999999999996,4658.3999999999996,"Yes",0,0,0]
[null,216,"Adel Rodriguez","Tree Trimmer","Vendor No 6","Hermida",913333184,"2018-10-28","2018-10-31",{"$f":"IF(AND(H286>='A - Contractor Summary'!$C$36,I286<='A - Contractor Summary'!$C$42),\"Yes\",\"No\")","v":"No"},{"$f":"VLOOKUP($D286,'C.1 - Rate Sheets'!B:I,2,FALSE)","v":48.5},{"$f":"VLOOKUP($D286,'C.1 - Rate Sheets'!B:I,3,FALSE)","v":65.5},{"$f":"VLOOKUP($D286,'C.1 - Rate Sheets'!B:I,4,FALSE)","v":77.599999999999994},{"$f":"VLOOKUP($D286,'C.1 - Rate Sheets'!B:I,5,FALSE)","v":0},null,null,null,null,0,null,null,null,null,0,null,null,null,null,0,24,24,16,null,64,null,null,null,null,0,null,null,null,null,null,24,24,16,0,64,1164,1572,1241.5999999999999,0,3977.6,3977.6,"Yes",0,0,0]
[null,217,"No support","Crew Foreman","Vendor No 6","no support",913333205,"2018-10-28","2018-10-31",{"$f":"IF(AND(H287>='A - Contractor Summary'!$C$36,I287<='A - Contractor Summary'!$C$42),\"Yes\",\"No\")","v":"No"},{"$f":"VLOOKUP($D287,'C.1 - Rate Sheets'!B:I,2,FALSE)","v":56.8},{"$f":"VLOOKUP($D287,'C.1 - Rate Sheets'!B:I,3,FALSE)","v":76.7},{"$f":"VLOOKUP($D287,'C.1 - Rate Sheets'!B:I,4,FALSE)","v":90.9},{"$f":"VLOOKUP($D287,'C.1 - Rate Sheets'!B:I,5,FALSE)","v":0},null,null,null,null,0,null,null,null,null,0,null,null,null,null,0,24,24,16,null,64,null,null,null,null,0,null,null,null,null,null,24,24,16,0,64,1363.1999999999998,1840.8000000000002,1454.4,0,4658.3999999999996,4658.3999999999996,"Yes",0,0,0,4]
[null,218,"No support","Tree Trimmer","Vendor No 6","no support",913333205,"2018-10-28","2018-10-31",{"$f":"IF(AND(H288>='A - Contractor Summary'!$C$36,I288<='A - Contractor Summary'!$C$42),\"Yes\",\"No\")","v":"No"},{"$f":"VLOOKUP($D288,'C.1 - Rate Sheets'!B:I,2,FALSE)","v":48.5},{"$f":"VLOOKUP($D288,'C.1 - Rate Sheets'!B:I,3,FALSE)","v":65.5},{"$f":"VLOOKUP($D288,'C.1 - Rate Sheets'!B:I,4,FALSE)","v":77.599999999999994},{"$f":"VLOOKUP($D288,'C.1 - Rate Sheets'!B:I,5,FALSE)","v":0},null,null,null,null,0,null,null,null,null,0,null,null,null,null,0,24,24,16,null,64,null,null,null,null,0,null,null,null,null,null,24,24,16,0,64,1164,1572,1241.5999999999999,0,3977.6,3977.6,"Yes",0,0,0,4]
[null,219,"Kelly Alvarez","Crew Foreman","Vendor No 6","Alverez",913333211,"2018-10-28","2018-10-31",{"$f":"IF(AND(H289>='A - Contractor Summary'!$C$36,I289<='A - Contractor Summary'!$C$42),\"Yes\",\"No\")","v":"No"},{"$f":"VLOOKUP($D289,'C.1 - Rate Sheets'!B:I,2,FALSE)","v":56.8},{"$f":"VLOOKUP($D289,'C.1 - Rate Sheets'!B:I,3,FALSE)","v":76.7},{"$f":"VLOOKUP($D289,'C.1 - Rate Sheets'!B:I,4,FALSE)","v":90.9},{"$f":"VLOOKUP($D289,'C.1 - Rate Sheets'!B:I,5,FALSE)","v":0},null,null,null,null,0,null,null,null,null,0,null,null,null,null,0,24,24,16,null,64,null,null,null,null,0,null,null,null,null,null,24,24,16,0,64,1363.1999999999998,1840.8000000000002,1454.4,0,4658.3999999999996,4658.3999999999996,"Yes",0,0,0]
[null,220,"Caleb Mannon","Tree Trimmer","Vendor No 6","Alverez",913333211,"2018-10-28","2018-10-31",{"$f":"IF(AND(H290>='A - Contractor Summary'!$C$36,I290<='A - Contractor Summary'!$C$42),\"Yes\",\"No\")","v":"No"},{"$f":"VLOOKUP($D290,'C.1 - Rate Sheets'!B:I,2,FALSE)","v":48.5},{"$f":"VLOOKUP($D290,'C.1 - Rate Sheets'!B:I,3,FALSE)","v":65.5},{"$f":"VLOOKUP($D290,'C.1 - Rate Sheets'!B:I,4,FALSE)","v":77.599999999999994},{"$f":"VLOOKUP($D290,'C.1 - Rate Sheets'!B:I,5,FALSE)","v":0},null,null,null,null,{"$f":"SUM(O290:R290)","v":0},null,null,null,null,{"$f":"SUM(T290:W290)","v":0},null,null,null,null,{"$f":"SUM(Y290:AB290)","v":0},24,24,16,null,{"$f":"SUM(AD290:AG290)","v":64},null,null,null,null,{"$f":"SUM(AI290:AL290)","v":0},null,null,null,null,null,{"$f":"SUM(O290,T290,Y290,AD290,AI290,AN290)","v":24},{"$f":"SUM(P290,U290,Z290,AE290,AJ290,AO290)","v":24},{"$f":"SUM(Q290,V290,AA290,AF290,AK290,AP290)","v":16},{"$f":"SUM(R290,W290,AB290,AG290,AL290,AQ290)","v":0},{"$f":"SUM(AS290:AV290)","v":64},{"$f":"AS290*K290","v":1164},{"$f":"AT290*L290","v":1572},{"$f":"AU290*M290","v":1241.5999999999999},{"$f":"AV290*N290","v":0},{"$f":"SUM(AX290:BA290)","v":3977.6},{"$f":"BB290-BE290","v":3977.6},"Yes",0,0,0]
[null,220,"Howard Neal","Tree Trimmer","Vendor No 6","Alverez",913333211,"2018-10-28","2018-10-31",{"$f":"IF(AND(H291>='A - Contractor Summary'!$C$36,I291<='A - Contractor Summary'!$C$42),\"Yes\",\"No\")","v":"No"},{"$f":"VLOOKUP($D291,'C.1 - Rate Sheets'!B:I,2,FALSE)","v":48.5},{"$f":"VLOOKUP($D291,'C.1 - Rate Sheets'!B:I,3,FALSE)","v":65.5},{"$f":"VLOOKUP($D291,'C.1 - Rate Sheets'!B:I,4,FALSE)","v":77.599999999999994},{"$f":"VLOOKUP($D291,'C.1 - Rate Sheets'!B:I,5,FALSE)","v":0},null,null,null,null,0,null,null,null,null,0,null,null,null,null,0,24,24,16,null,64,null,null,null,null,0,null,null,null,null,null,24,24,16,0,64,1164,1572,1241.5999999999999,0,3977.6,3977.6,"Yes",0,0,0]
[null,221,"Keith Bell","Supervisor","Vendor No 6","Bell",913242897,"2018-10-28","2018-11-03",{"$f":"IF(AND(H292>='A - Contractor Summary'!$C$36,I292<='A - Contractor Summary'!$C$42),\"Yes\",\"No\")","v":"No"},{"$f":"VLOOKUP($D292,'C.1 - Rate Sheets'!B:I,2,FALSE)","v":74},{"$f":"VLOOKUP($D292,'C.1 - Rate Sheets'!B:I,3,FALSE)","v":99.9},{"$f":"VLOOKUP($D292,'C.1 - Rate Sheets'!B:I,4,FALSE)","v":118.4},{"$f":"VLOOKUP($D292,'C.1 - Rate Sheets'!B:I,5,FALSE)","v":0},null,null,null,null,0,null,null,null,null,0,null,null,null,null,0,40,56,16,null,112,null,null,null,null,0,null,null,null,null,null,40,56,16,0,112,2960,5594.4000000000005,1894.4,0,10448.800000000001,10448.800000000001,"Yes",0,0,0]
[null,222,"Ryan Korpi","Crew Foreman","Vendor No 6","Korpl",913242903,"2018-10-28","2018-11-03",{"$f":"IF(AND(H293>='A - Contractor Summary'!$C$36,I293<='A - Contractor Summary'!$C$42),\"Yes\",\"No\")","v":"No"},{"$f":"VLOOKUP($D293,'C.1 - Rate Sheets'!B:I,2,FALSE)","v":56.8},{"$f":"VLOOKUP($D293,'C.1 - Rate Sheets'!B:I,3,FALSE)","v":76.7},{"$f":"VLOOKUP($D293,'C.1 - Rate Sheets'!B:I,4,FALSE)","v":90.9},{"$f":"VLOOKUP($D293,'C.1 - Rate Sheets'!B:I,5,FALSE)","v":0},null,null,null,null,0,null,null,null,null,0,null,null,null,null,0,40,56,16,null,112,null,null,null,null,0,null,null,null,null,null,40,56,16,0,112,2272,4295.2,1454.4,0,8021.6,8021.6,"Yes",0,0,0]
[null,223,"Morgan Mantilow","Tree Trimmer","Vendor No 6","Korpl",913242903,"2018-10-28","2018-11-03",{"$f":"IF(AND(H294>='A - Contractor Summary'!$C$36,I294<='A - Contractor Summary'!$C$42),\"Yes\",\"No\")","v":"No"},{"$f":"VLOOKUP($D294,'C.1 - Rate Sheets'!B:I,2,FALSE)","v":48.5},{"$f":"VLOOKUP($D294,'C.1 - Rate Sheets'!B:I,3,FALSE)","v":65.5},{"$f":"VLOOKUP($D294,'C.1 - Rate Sheets'!B:I,4,FALSE)","v":77.599999999999994},{"$f":"VLOOKUP($D294,'C.1 - Rate Sheets'!B:I,5,FALSE)","v":0},null,null,null,null,0,null,null,null,null,0,null,null,null,null,0,40,56,16,null,112,null,null,null,null,0,null,null,null,null,null,40,56,16,0,112,1940,3668,1241.5999999999999,0,6849.6,6849.6,"Yes",0,0,0]
[null,224,"Richard Couret","Crew Foreman","Vendor No 6","Couret",913243149,"2018-11-04","2018-11-07",{"$f":"IF(AND(H295>='A - Contractor Summary'!$C$36,I295<='A - Contractor Summary'!$C$42),\"Yes\",\"No\")","v":"No"},{"$f":"VLOOKUP($D295,'C.1 - Rate Sheets'!B:I,2,FALSE)","v":56.8},{"$f":"VLOOKUP($D295,'C.1 - Rate Sheets'!B:I,3,FALSE)","v":76.7},{"$f":"VLOOKUP($D295,'C.1 - Rate Sheets'!B:I,4,FALSE)","v":90.9},{"$f":"VLOOKUP($D295,'C.1 - Rate Sheets'!B:I,5,FALSE)","v":0},null,null,null,null,0,null,null,null,null,0,null,null,null,null,0,null,null,null,null,0,24,20,16,null,60,null,null,null,null,null,24,20,16,0,60,1363.1999999999998,1534,1454.4,0,4351.6000000000004,4351.6000000000004,"Yes",0,0,0,5]
[null,225,"Douglas Brown","Tree Trimmer","Vendor No 6","Couret",913243149,"2018-11-04","2018-11-07",{"$f":"IF(AND(H296>='A - Contractor Summary'!$C$36,I296<='A - Contractor Summary'!$C$42),\"Yes\",\"No\")","v":"No"},{"$f":"VLOOKUP($D296,'C.1 - Rate Sheets'!B:I,2,FALSE)","v":48.5},{"$f":"VLOOKUP($D296,'C.1 - Rate Sheets'!B:I,3,FALSE)","v":65.5},{"$f":"VLOOKUP($D296,'C.1 - Rate Sheets'!B:I,4,FALSE)","v":77.599999999999994},{"$f":"VLOOKUP($D296,'C.1 - Rate Sheets'!B:I,5,FALSE)","v":0},null,null,null,null,0,null,null,null,null,0,null,null,null,null,0,null,null,null,null,0,24,20,16,null,60,null,null,null,null,null,24,20,16,0,60,1164,1310,1241.5999999999999,0,3715.6,3715.6,"Yes",0,0,0,5]
[null,226,"William Bryan","Crew Foreman","Vendor No 6","Bryan",913243150,"2018-11-04","2018-11-07",{"$f":"IF(AND(H297>='A - Contractor Summary'!$C$36,I297<='A - Contractor Summary'!$C$42),\"Yes\",\"No\")","v":"No"},{"$f":"VLOOKUP($D297,'C.1 - Rate Sheets'!B:I,2,FALSE)","v":56.8},{"$f":"VLOOKUP($D297,'C.1 - Rate Sheets'!B:I,3,FALSE)","v":76.7},{"$f":"VLOOKUP($D297,'C.1 - Rate Sheets'!B:I,4,FALSE)","v":90.9},{"$f":"VLOOKUP($D297,'C.1 - Rate Sheets'!B:I,5,FALSE)","v":0},null,null,null,null,0,null,null,null,null,0,null,null,null,null,0,null,null,null,null,0,24,20,16,null,60,null,null,null,null,null,24,20,16,0,60,1363.1999999999998,1534,1454.4,0,4351.6000000000004,4351.6000000000004,"Yes",0,0,0,5]
[null,227,"Andrew Vanco","Tree Trimmer","Vendor No 6","Bryan",913243150,"2018-11-04","2018-11-07",{"$f":"IF(AND(H298>='A - Contractor Summary'!$C$36,I298<='A - Contractor Summary'!$C$42),\"Yes\",\"No\")","v":"No"},{"$f":"VLOOKUP($D298,'C.1 - Rate Sheets'!B:I,2,FALSE)","v":48.5},{"$f":"VLOOKUP($D298,'C.1 - Rate Sheets'!B:I,3,FALSE)","v":65.5},{"$f":"VLOOKUP($D298,'C.1 - Rate Sheets'!B:I,4,FALSE)","v":77.599999999999994},{"$f":"VLOOKUP($D298,'C.1 - Rate Sheets'!B:I,5,FALSE)","v":0},null,null,null,null,0,null,null,null,null,0,null,null,null,null,0,null,null,null,null,0,24,20,16,null,60,null,null,null,null,null,24,20,16,0,60,1164,1310,1241.5999999999999,0,3715.6,3715.6,"Yes",0,0,0,5]
[null,228,"Keith Bell","Supervisor","Vendor No 6","Bell",913243151,"2018-11-04","2018-11-07",{"$f":"IF(AND(H299>='A - Contractor Summary'!$C$36,I299<='A - Contractor Summary'!$C$42),\"Yes\",\"No\")","v":"No"},{"$f":"VLOOKUP($D299,'C.1 - Rate Sheets'!B:I,2,FALSE)","v":74},{"$f":"VLOOKUP($D299,'C.1 - Rate Sheets'!B:I,3,FALSE)","v":99.9},{"$f":"VLOOKUP($D299,'C.1 - Rate Sheets'!B:I,4,FALSE)","v":118.4},{"$f":"VLOOKUP($D299,'C.1 - Rate Sheets'!B:I,5,FALSE)","v":0},null,null,null,null,0,null,null,null,null,0,null,null,null,null,0,null,null,null,null,0,24,20,16,null,60,null,null,null,null,null,24,20,16,0,60,1776,1998,1894.4,0,5668.4,5668.4,"Yes",0,0,0,5]
[null,229,"No support","Crew Foreman","Vendor No 6","no support",913243152,"2018-11-04","2018-11-07",{"$f":"IF(AND(H300>='A - Contractor Summary'!$C$36,I300<='A - Contractor Summary'!$C$42),\"Yes\",\"No\")","v":"No"},{"$f":"VLOOKUP($D300,'C.1 - Rate Sheets'!B:I,2,FALSE)","v":56.8},{"$f":"VLOOKUP($D300,'C.1 - Rate Sheets'!B:I,3,FALSE)","v":76.7},{"$f":"VLOOKUP($D300,'C.1 - Rate Sheets'!B:I,4,FALSE)","v":90.9},{"$f":"VLOOKUP($D300,'C.1 - Rate Sheets'!B:I,5,FALSE)","v":0},null,null,null,null,0,null,null,null,null,0,null,null,null,null,0,null,null,null,null,0,24,20,16,null,60,null,null,null,null,null,24,20,16,0,60,1363.1999999999998,1534,1454.4,0,4351.6000000000004,4351.6000000000004,"Yes",0,0,0]
[null,230,"No support","Tree Trimmer","Vendor No 6","no support",913243152,"2018-11-04","2018-11-07",{"$f":"IF(AND(H301>='A - Contractor Summary'!$C$36,I301<='A - Contractor Summary'!$C$42),\"Yes\",\"No\")","v":"No"},{"$f":"VLOOKUP($D301,'C.1 - Rate Sheets'!B:I,2,FALSE)","v":48.5},{"$f":"VLOOKUP($D301,'C.1 - Rate Sheets'!B:I,3,FALSE)","v":65.5},{"$f":"VLOOKUP($D301,'C.1 - Rate Sheets'!B:I,4,FALSE)","v":77.599999999999994},{"$f":"VLOOKUP($D301,'C.1 - Rate Sheets'!B:I,5,FALSE)","v":0},null,null,null,null,0,null,null,null,null,0,null,null,null,null,0,null,null,null,null,0,24,20,16,null,60,null,null,null,null,null,24,20,16,0,60,1164,1310,1241.5999999999999,0,3715.6,3715.6,"Yes",0,0,0]
[null,231,"Martin Kepler","Crew Foreman","Vendor No 6","Kepler",913243153,"2018-11-04","2018-11-07",{"$f":"IF(AND(H302>='A - Contractor Summary'!$C$36,I302<='A - Contractor Summary'!$C$42),\"Yes\",\"No\")","v":"No"},{"$f":"VLOOKUP($D302,'C.1 - Rate Sheets'!B:I,2,FALSE)","v":56.8},{"$f":"VLOOKUP($D302,'C.1 - Rate Sheets'!B:I,3,FALSE)","v":76.7},{"$f":"VLOOKUP($D302,'C.1 - Rate Sheets'!B:I,4,FALSE)","v":90.9},{"$f":"VLOOKUP($D302,'C.1 - Rate Sheets'!B:I,5,FALSE)","v":0},null,null,null,null,0,null,null,null,null,0,null,null,null,null,0,null,null,null,null,0,24,20,16,null,60,null,null,null,null,null,24,20,16,0,60,1363.1999999999998,1534,1454.4,0,4351.6000000000004,4351.6000000000004,"Yes",0,0,0,5]
[null,232,"Omello Manzo","Tree Trimmer","Vendor No 6","Kepler",913243153,"2018-11-04","2018-11-07",{"$f":"IF(AND(H303>='A - Contractor Summary'!$C$36,I303<='A - Contractor Summary'!$C$42),\"Yes\",\"No\")","v":"No"},{"$f":"VLOOKUP($D303,'C.1 - Rate Sheets'!B:I,2,FALSE)","v":48.5},{"$f":"VLOOKUP($D303,'C.1 - Rate Sheets'!B:I,3,FALSE)","v":65.5},{"$f":"VLOOKUP($D303,'C.1 - Rate Sheets'!B:I,4,FALSE)","v":77.599999999999994},{"$f":"VLOOKUP($D303,'C.1 - Rate Sheets'!B:I,5,FALSE)","v":0},null,null,null,null,0,null,null,null,null,0,null,null,null,null,0,null,null,null,null,0,24,20,16,null,60,null,null,null,null,null,24,20,16,0,60,1164,1310,1241.5999999999999,0,3715.6,3715.6,"Yes",0,0,0,5]
[null,233,"Mike Zopf","Crew Foreman","Vendor No 6","Zopf",913243156,"2018-11-04","2018-11-07",{"$f":"IF(AND(H304>='A - Contractor Summary'!$C$36,I304<='A - Contractor Summary'!$C$42),\"Yes\",\"No\")","v":"No"},{"$f":"VLOOKUP($D304,'C.1 - Rate Sheets'!B:I,2,FALSE)","v":56.8},{"$f":"VLOOKUP($D304,'C.1 - Rate Sheets'!B:I,3,FALSE)","v":76.7},{"$f":"VLOOKUP($D304,'C.1 - Rate Sheets'!B:I,4,FALSE)","v":90.9},{"$f":"VLOOKUP($D304,'C.1 - Rate Sheets'!B:I,5,FALSE)","v":0},null,null,null,null,0,null,null,null,null,0,null,null,null,null,0,null,null,null,null,0,24,20,16,null,60,null,null,null,null,null,24,20,16,0,60,1363.1999999999998,1534,1454.4,0,4351.6000000000004,4351.6000000000004,"Yes",0,0,0,5]
[null,234,"Patrick Cambell","Ground Person","Vendor No 6","Zopf",913243156,"2018-11-04","2018-11-07",{"$f":"IF(AND(H305>='A - Contractor Summary'!$C$36,I305<='A - Contractor Summary'!$C$42),\"Yes\",\"No\")","v":"No"},{"$f":"VLOOKUP($D305,'C.1 - Rate Sheets'!B:I,2,FALSE)","v":40},{"$f":"VLOOKUP($D305,'C.1 - Rate Sheets'!B:I,3,FALSE)","v":54},{"$f":"VLOOKUP($D305,'C.1 - Rate Sheets'!B:I,4,FALSE)","v":64},{"$f":"VLOOKUP($D305,'C.1 - Rate Sheets'!B:I,5,FALSE)","v":0},null,null,null,null,0,null,null,null,null,0,null,null,null,null,0,null,null,null,null,0,24,20,16,null,60,null,null,null,null,null,24,20,16,0,60,960,1080,1024,0,3064,3064,"Yes",0,0,0,5]
[null,235,"Chris Schwletterman","Crew Foreman","Vendor No 6","Schwletterman",913243158,"2018-11-04","2018-11-07",{"$f":"IF(AND(H306>='A - Contractor Summary'!$C$36,I306<='A - Contractor Summary'!$C$42),\"Yes\",\"No\")","v":"No"},{"$f":"VLOOKUP($D306,'C.1 - Rate Sheets'!B:I,2,FALSE)","v":56.8},{"$f":"VLOOKUP($D306,'C.1 - Rate Sheets'!B:I,3,FALSE)","v":76.7},{"$f":"VLOOKUP($D306,'C.1 - Rate Sheets'!B:I,4,FALSE)","v":90.9},{"$f":"VLOOKUP($D306,'C.1 - Rate Sheets'!B:I,5,FALSE)","v":0},null,null,null,null,0,null,null,null,null,0,null,null,null,null,0,null,null,null,null,0,24,20,16,null,60,null,null,null,null,null,24,20,16,0,60,1363.1999999999998,1534,1454.4,0,4351.6000000000004,4351.6000000000004,"Yes",0,0,0,5]
[null,236,"Asthan Kennedy","Ground Person","Vendor No 6","Schwletterman",913243158,"2018-11-04","2018-11-07",{"$f":"IF(AND(H307>='A - Contractor Summary'!$C$36,I307<='A - Contractor Summary'!$C$42),\"Yes\",\"No\")","v":"No"},{"$f":"VLOOKUP($D307,'C.1 - Rate Sheets'!B:I,2,FALSE)","v":40},{"$f":"VLOOKUP($D307,'C.1 - Rate Sheets'!B:I,3,FALSE)","v":54},{"$f":"VLOOKUP($D307,'C.1 - Rate Sheets'!B:I,4,FALSE)","v":64},{"$f":"VLOOKUP($D307,'C.1 - Rate Sheets'!B:I,5,FALSE)","v":0},null,null,null,null,0,null,null,null,null,0,null,null,null,null,0,null,null,null,null,0,24,20,16,null,60,null,null,null,null,null,24,20,16,0,60,960,1080,1024,0,3064,3064,"Yes",0,0,0,5]
[null,237,"Chase Cain","Crew Foreman","Vendor No 6","Cain",913243160,"2018-11-04","2018-11-07",{"$f":"IF(AND(H308>='A - Contractor Summary'!$C$36,I308<='A - Contractor Summary'!$C$42),\"Yes\",\"No\")","v":"No"},{"$f":"VLOOKUP($D308,'C.1 - Rate Sheets'!B:I,2,FALSE)","v":56.8},{"$f":"VLOOKUP($D308,'C.1 - Rate Sheets'!B:I,3,FALSE)","v":76.7},{"$f":"VLOOKUP($D308,'C.1 - Rate Sheets'!B:I,4,FALSE)","v":90.9},{"$f":"VLOOKUP($D308,'C.1 - Rate Sheets'!B:I,5,FALSE)","v":0},null,null,null,null,0,null,null,null,null,0,null,null,null,null,0,null,null,null,null,0,24,20,16,null,60,null,null,null,null,null,24,20,16,0,60,1363.1999999999998,1534,1454.4,0,4351.6000000000004,4351.6000000000004,"Yes",0,0,0,5]
[null,238,"Michael Kohler","Tree Trimmer","Vendor No 6","Cain",913243160,"2018-11-04","2018-11-07",{"$f":"IF(AND(H309>='A - Contractor Summary'!$C$36,I309<='A - Contractor Summary'!$C$42),\"Yes\",\"No\")","v":"No"},{"$f":"VLOOKUP($D309,'C.1 - Rate Sheets'!B:I,2,FALSE)","v":48.5},{"$f":"VLOOKUP($D309,'C.1 - Rate Sheets'!B:I,3,FALSE)","v":65.5},{"$f":"VLOOKUP($D309,'C.1 - Rate Sheets'!B:I,4,FALSE)","v":77.599999999999994},{"$f":"VLOOKUP($D309,'C.1 - Rate Sheets'!B:I,5,FALSE)","v":0},null,null,null,null,0,null,null,null,null,0,null,null,null,null,0,null,null,null,null,0,24,20,16,null,60,null,null,null,null,null,24,20,16,0,60,1164,1310,1241.5999999999999,0,3715.6,3715.6,"Yes",0,0,0,5]
[null,239,"Harley, Terry","Crew Foreman","Vendor No 6","Harley",913243328,"2018-11-04","2018-11-04",{"$f":"IF(AND(H310>='A - Contractor Summary'!$C$36,I310<='A - Contractor Summary'!$C$42),\"Yes\",\"No\")","v":"No"},{"$f":"VLOOKUP($D310,'C.1 - Rate Sheets'!B:I,2,FALSE)","v":56.8},{"$f":"VLOOKUP($D310,'C.1 - Rate Sheets'!B:I,3,FALSE)","v":76.7},{"$f":"VLOOKUP($D310,'C.1 - Rate Sheets'!B:I,4,FALSE)","v":90.9},{"$f":"VLOOKUP($D310,'C.1 - Rate Sheets'!B:I,5,FALSE)","v":0},null,null,null,null,0,null,null,null,null,0,null,null,null,null,0,null,null,null,null,0,null,null,12,null,12,null,null,null,null,null,0,0,12,0,12,0,0,1090.8000000000002,0,1090.8000000000002,1090.8000000000002,"Yes",0,0,0]
[null,240,"Flores, Edgar","Tree Trimmer","Vendor No 6","Harley",913243328,"2018-11-04","2018-11-04",{"$f":"IF(AND(H311>='A - Contractor Summary'!$C$36,I311<='A - Contractor Summary'!$C$42),\"Yes\",\"No\")","v":"No"},{"$f":"VLOOKUP($D311,'C.1 - Rate Sheets'!B:I,2,FALSE)","v":48.5},{"$f":"VLOOKUP($D311,'C.1 - Rate Sheets'!B:I,3,FALSE)","v":65.5},{"$f":"VLOOKUP($D311,'C.1 - Rate Sheets'!B:I,4,FALSE)","v":77.599999999999994},{"$f":"VLOOKUP($D311,'C.1 - Rate Sheets'!B:I,5,FALSE)","v":0},null,null,null,null,0,null,null,null,null,0,null,null,null,null,0,null,null,null,null,0,null,null,12,null,12,null,null,null,null,null,0,0,12,0,12,0,0,931.19999999999993,0,931.19999999999993,931.19999999999993,"Yes",0,0,0]
[null,241,"Woodward","Crew Foreman","Vendor No 6","Woodward",913243330,"2018-11-04","2018-11-04",{"$f":"IF(AND(H312>='A - Contractor Summary'!$C$36,I312<='A - Contractor Summary'!$C$42),\"Yes\",\"No\")","v":"No"},{"$f":"VLOOKUP($D312,'C.1 - Rate Sheets'!B:I,2,FALSE)","v":56.8},{"$f":"VLOOKUP($D312,'C.1 - Rate Sheets'!B:I,3,FALSE)","v":76.7},{"$f":"VLOOKUP($D312,'C.1 - Rate Sheets'!B:I,4,FALSE)","v":90.9},{"$f":"VLOOKUP($D312,'C.1 - Rate Sheets'!B:I,5,FALSE)","v":0},null,null,null,null,0,null,null,null,null,0,null,null,null,null,0,null,null,null,null,0,null,null,12,null,12,null,null,null,null,null,0,0,12,0,12,0,0,1090.8000000000002,0,1090.8000000000002,1090.8000000000002,"Yes",0,0,0]
[null,242,"Perez","Tree Trimmer","Vendor No 6","Woodward",913243330,"2018-11-04","2018-11-04",{"$f":"IF(AND(H313>='A - Contractor Summary'!$C$36,I313<='A - Contractor Summary'!$C$42),\"Yes\",\"No\")","v":"No"},{"$f":"VLOOKUP($D313,'C.1 - Rate Sheets'!B:I,2,FALSE)","v":48.5},{"$f":"VLOOKUP($D313,'C.1 - Rate Sheets'!B:I,3,FALSE)","v":65.5},{"$f":"VLOOKUP($D313,'C.1 - Rate Sheets'!B:I,4,FALSE)","v":77.599999999999994},{"$f":"VLOOKUP($D313,'C.1 - Rate Sheets'!B:I,5,FALSE)","v":0},null,null,null,null,0,null,null,null,null,0,null,null,null,null,0,null,null,null,null,0,null,null,12,null,12,null,null,null,null,null,0,0,12,0,12,0,0,931.19999999999993,0,931.19999999999993,931.19999999999993,"Yes",0,0,0]
[null,243,"Michael Alverez (hard to read name)","Supervisor","Vendor No 6","Alverez",913243332,"2018-11-04","2018-11-04",{"$f":"IF(AND(H314>='A - Contractor Summary'!$C$36,I314<='A - Contractor Summary'!$C$42),\"Yes\",\"No\")","v":"No"},{"$f":"VLOOKUP($D314,'C.1 - Rate Sheets'!B:I,2,FALSE)","v":74},{"$f":"VLOOKUP($D314,'C.1 - Rate Sheets'!B:I,3,FALSE)","v":99.9},{"$f":"VLOOKUP($D314,'C.1 - Rate Sheets'!B:I,4,FALSE)","v":118.4},{"$f":"VLOOKUP($D314,'C.1 - Rate Sheets'!B:I,5,FALSE)","v":0},null,null,null,null,0,null,null,null,null,0,null,null,null,null,0,null,null,null,null,0,null,null,12,null,12,null,null,null,null,null,0,0,12,0,12,0,0,1420.8000000000002,0,1420.8000000000002,1420.8000000000002,"Yes",0,0,0]
[null,244,"John Weaver","Crew Foreman","Vendor No 6","Riddle",913243334,"2018-11-04","2018-11-07",{"$f":"IF(AND(H315>='A - Contractor Summary'!$C$36,I315<='A - Contractor Summary'!$C$42),\"Yes\",\"No\")","v":"No"},{"$f":"VLOOKUP($D315,'C.1 - Rate Sheets'!B:I,2,FALSE)","v":56.8},{"$f":"VLOOKUP($D315,'C.1 - Rate Sheets'!B:I,3,FALSE)","v":76.7},{"$f":"VLOOKUP($D315,'C.1 - Rate Sheets'!B:I,4,FALSE)","v":90.9},{"$f":"VLOOKUP($D315,'C.1 - Rate Sheets'!B:I,5,FALSE)","v":0},null,null,null,null,0,null,null,null,null,0,null,null,null,null,0,null,null,null,null,0,22,16,16,null,54,null,null,null,null,null,22,16,16,0,54,1249.5999999999999,1227.2,1454.4,0,3931.2000000000003,3931.2000000000003,"Yes",0,0,0]
[null,245,"Mason Johnson","Tree Trimmer","Vendor No 6","Riddle",913243334,"2018-11-04","2018-11-07",{"$f":"IF(AND(H316>='A - Contractor Summary'!$C$36,I316<='A - Contractor Summary'!$C$42),\"Yes\",\"No\")","v":"No"},{"$f":"VLOOKUP($D316,'C.1 - Rate Sheets'!B:I,2,FALSE)","v":48.5},{"$f":"VLOOKUP($D316,'C.1 - Rate Sheets'!B:I,3,FALSE)","v":65.5},{"$f":"VLOOKUP($D316,'C.1 - Rate Sheets'!B:I,4,FALSE)","v":77.599999999999994},{"$f":"VLOOKUP($D316,'C.1 - Rate Sheets'!B:I,5,FALSE)","v":0},null,null,null,null,{"$f":"SUM(O316:R316)","v":0},null,null,null,null,{"$f":"SUM(T316:W316)","v":0},null,null,null,null,{"$f":"SUM(Y316:AB316)","v":0},null,null,null,null,{"$f":"SUM(AD316:AG316)","v":0},22,16,16,null,{"$f":"SUM(AI316:AL316)","v":54},null,null,null,null,null,{"$f":"SUM(O316,T316,Y316,AD316,AI316,AN316)","v":22},{"$f":"SUM(P316,U316,Z316,AE316,AJ316,AO316)","v":16},{"$f":"SUM(Q316,V316,AA316,AF316,AK316,AP316)","v":16},{"$f":"SUM(R316,W316,AB316,AG316,AL316,AQ316)","v":0},{"$f":"SUM(AS316:AV316)","v":54},{"$f":"AS316*K316","v":1067},{"$f":"AT316*L316","v":1048},{"$f":"AU316*M316","v":1241.5999999999999},{"$f":"AV316*N316","v":0},{"$f":"SUM(AX316:BA316)","v":3356.6},{"$f":"BB316-BE316","v":3356.6},"Yes",0,0,0]
[null,245,"Austin Story","Tree Trimmer","Vendor No 6","Riddle",913243334,"2018-11-04","2018-11-07",{"$f":"IF(AND(H317>='A - Contractor Summary'!$C$36,I317<='A - Contractor Summary'!$C$42),\"Yes\",\"No\")","v":"No"},{"$f":"VLOOKUP($D317,'C.1 - Rate Sheets'!B:I,2,FALSE)","v":48.5},{"$f":"VLOOKUP($D317,'C.1 - Rate Sheets'!B:I,3,FALSE)","v":65.5},{"$f":"VLOOKUP($D317,'C.1 - Rate Sheets'!B:I,4,FALSE)","v":77.599999999999994},{"$f":"VLOOKUP($D317,'C.1 - Rate Sheets'!B:I,5,FALSE)","v":0},null,null,null,null,0,null,null,null,null,0,null,null,null,null,0,null,null,null,null,0,22,16,16,null,54,null,null,null,null,null,22,16,16,0,54,1067,1048,1241.5999999999999,0,3356.6,3356.6,"Yes",0,0,0]
[null,246,"Roy Riddle","Supervisor","Vendor No 6","Riddle",913243334,"2018-11-04","2018-11-07",{"$f":"IF(AND(H318>='A - Contractor Summary'!$C$36,I318<='A - Contractor Summary'!$C$42),\"Yes\",\"No\")","v":"No"},{"$f":"VLOOKUP($D318,'C.1 - Rate Sheets'!B:I,2,FALSE)","v":74},{"$f":"VLOOKUP($D318,'C.1 - Rate Sheets'!B:I,3,FALSE)","v":99.9},{"$f":"VLOOKUP($D318,'C.1 - Rate Sheets'!B:I,4,FALSE)","v":118.4},{"$f":"VLOOKUP($D318,'C.1 - Rate Sheets'!B:I,5,FALSE)","v":0},null,null,null,null,0,null,null,null,null,0,null,null,null,null,0,null,null,null,null,0,22,16,16,null,54,null,null,null,null,null,22,16,16,0,54,1628,1598.4,1894.4,0,5120.8,5120.8,"Yes",0,0,0]
[null,247,"Gutierrez, Jose","Crew Foreman","Vendor No 6","Guitierrez",913243339,"2018-11-04","2018-11-04",{"$f":"IF(AND(H319>='A - Contractor Summary'!$C$36,I319<='A - Contractor Summary'!$C$42),\"Yes\",\"No\")","v":"No"},{"$f":"VLOOKUP($D319,'C.1 - Rate Sheets'!B:I,2,FALSE)","v":56.8},{"$f":"VLOOKUP($D319,'C.1 - Rate Sheets'!B:I,3,FALSE)","v":76.7},{"$f":"VLOOKUP($D319,'C.1 - Rate Sheets'!B:I,4,FALSE)","v":90.9},{"$f":"VLOOKUP($D319,'C.1 - Rate Sheets'!B:I,5,FALSE)","v":0},null,null,null,null,0,null,null,null,null,0,null,null,null,null,0,null,null,null,null,0,null,null,10,null,10,null,null,null,null,null,0,0,10,0,10,0,0,909,0,909,909,"Yes",0,0,0]
[null,248,"Victor Lara","Tree Trimmer","Vendor No 6","Guitierrez",913243339,"2018-11-04","2018-11-04",{"$f":"IF(AND(H320>='A - Contractor Summary'!$C$36,I320<='A - Contractor Summary'!$C$42),\"Yes\",\"No\")","v":"No"},{"$f":"VLOOKUP($D320,'C.1 - Rate Sheets'!B:I,2,FALSE)","v":48.5},{"$f":"VLOOKUP($D320,'C.1 - Rate Sheets'!B:I,3,FALSE)","v":65.5},{"$f":"VLOOKUP($D320,'C.1 - Rate Sheets'!B:I,4,FALSE)","v":77.599999999999994},{"$f":"VLOOKUP($D320,'C.1 - Rate Sheets'!B:I,5,FALSE)","v":0},null,null,null,null,{"$f":"SUM(O320:R320)","v":0},null,null,null,null,{"$f":"SUM(T320:W320)","v":0},null,null,null,null,{"$f":"SUM(Y320:AB320)","v":0},null,null,null,null,{"$f":"SUM(AD320:AG320)","v":0},null,null,10,null,{"$f":"SUM(AI320:AL320)","v":10},null,null,null,null,null,{"$f":"SUM(O320,T320,Y320,AD320,AI320,AN320)","v":0},{"$f":"SUM(P320,U320,Z320,AE320,AJ320,AO320)","v":0},{"$f":"SUM(Q320,V320,AA320,AF320,AK320,AP320)","v":10},{"$f":"SUM(R320,W320,AB320,AG320,AL320,AQ320)","v":0},{"$f":"SUM(AS320:AV320)","v":10},{"$f":"AS320*K320","v":0},{"$f":"AT320*L320","v":0},{"$f":"AU320*M320","v":776},{"$f":"AV320*N320","v":0},{"$f":"SUM(AX320:BA320)","v":776},{"$f":"BB320-BE320","v":776},"Yes",0,0,0]
[null,248,"Jesus Jimenez","Tree Trimmer","Vendor No 6","Guitierrez",913243339,"2018-11-04","2018-11-04",{"$f":"IF(AND(H321>='A - Contractor Summary'!$C$36,I321<='A - Contractor Summary'!$C$42),\"Yes\",\"No\")","v":"No"},{"$f":"VLOOKUP($D321,'C.1 - Rate Sheets'!B:I,2,FALSE)","v":48.5},{"$f":"VLOOKUP($D321,'C.1 - Rate Sheets'!B:I,3,FALSE)","v":65.5},{"$f":"VLOOKUP($D321,'C.1 - Rate Sheets'!B:I,4,FALSE)","v":77.599999999999994},{"$f":"VLOOKUP($D321,'C.1 - Rate Sheets'!B:I,5,FALSE)","v":0},null,null,null,null,0,null,null,null,null,0,null,null,null,null,0,null,null,null,null,0,null,null,10,null,10,null,null,null,null,null,0,0,10,0,10,0,0,776,0,776,776,"Yes",0,0,0]
[null,248,"Phillip Nix","Tree Trimmer","Vendor No 6","Guitierrez",913243339,"2018-11-04","2018-11-04",{"$f":"IF(AND(H322>='A - Contractor Summary'!$C$36,I322<='A - Contractor Summary'!$C$42),\"Yes\",\"No\")","v":"No"},{"$f":"VLOOKUP($D322,'C.1 - Rate Sheets'!B:I,2,FALSE)","v":48.5},{"$f":"VLOOKUP($D322,'C.1 - Rate Sheets'!B:I,3,FALSE)","v":65.5},{"$f":"VLOOKUP($D322,'C.1 - Rate Sheets'!B:I,4,FALSE)","v":77.599999999999994},{"$f":"VLOOKUP($D322,'C.1 - Rate Sheets'!B:I,5,FALSE)","v":0},null,null,null,null,0,null,null,null,null,0,null,null,null,null,0,null,null,null,null,0,null,null,10,null,10,null,null,null,null,null,0,0,10,0,10,0,0,776,0,776,776,"Yes",0,0,0]
[null,248,"Andres Tapia","Tree Trimmer","Vendor No 6","Guitierrez",913243339,"2018-11-04","2018-11-04",{"$f":"IF(AND(H323>='A - Contractor Summary'!$C$36,I323<='A - Contractor Summary'!$C$42),\"Yes\",\"No\")","v":"No"},{"$f":"VLOOKUP($D323,'C.1 - Rate Sheets'!B:I,2,FALSE)","v":48.5},{"$f":"VLOOKUP($D323,'C.1 - Rate Sheets'!B:I,3,FALSE)","v":65.5},{"$f":"VLOOKUP($D323,'C.1 - Rate Sheets'!B:I,4,FALSE)","v":77.599999999999994},{"$f":"VLOOKUP($D323,'C.1 - Rate Sheets'!B:I,5,FALSE)","v":0},null,null,null,null,0,null,null,null,null,0,null,null,null,null,0,null,null,null,null,0,null,null,10,null,10,null,null,null,null,null,0,0,10,0,10,0,0,776,0,776,776,"Yes",0,0,0]
[null,249,"James Hardy","Crew Foreman","Vendor No 6","Hardy",913259300,"2018-11-04","2018-11-05",{"$f":"IF(AND(H324>='A - Contractor Summary'!$C$36,I324<='A - Contractor Summary'!$C$42),\"Yes\",\"No\")","v":"No"},{"$f":"VLOOKUP($D324,'C.1 - Rate Sheets'!B:I,2,FALSE)","v":56.8},{"$f":"VLOOKUP($D324,'C.1 - Rate Sheets'!B:I,3,FALSE)","v":76.7},{"$f":"VLOOKUP($D324,'C.1 - Rate Sheets'!B:I,4,FALSE)","v":90.9},{"$f":"VLOOKUP($D324,'C.1 - Rate Sheets'!B:I,5,FALSE)","v":0},null,null,null,null,0,null,null,null,null,0,null,null,null,null,0,null,null,null,null,0,8,8,16,null,32,null,null,null,null,null,8,8,16,0,32,454.4,613.6,1454.4,0,2522.4,2522.4,"Yes",0,0,0]
[null,250,"John Fiaste","Tree Trimmer","Vendor No 6","Hardy",913259300,"2018-11-04","2018-11-05",{"$f":"IF(AND(H325>='A - Contractor Summary'!$C$36,I325<='A - Contractor Summary'!$C$42),\"Yes\",\"No\")","v":"No"},{"$f":"VLOOKUP($D325,'C.1 - Rate Sheets'!B:I,2,FALSE)","v":48.5},{"$f":"VLOOKUP($D325,'C.1 - Rate Sheets'!B:I,3,FALSE)","v":65.5},{"$f":"VLOOKUP($D325,'C.1 - Rate Sheets'!B:I,4,FALSE)","v":77.599999999999994},{"$f":"VLOOKUP($D325,'C.1 - Rate Sheets'!B:I,5,FALSE)","v":0},null,null,null,null,0,null,null,null,null,0,null,null,null,null,0,null,null,null,null,0,8,8,16,null,32,null,null,null,null,null,8,8,16,0,32,388,524,1241.5999999999999,0,2153.6,2153.6,"Yes",0,0,0]
[null,251,"Rolando Hermida ","Crew Foreman","Vendor No 6","Hermida",913259306,"2018-10-26","2018-10-27",{"$f":"IF(AND(H326>='A - Contractor Summary'!$C$36,I326<='A - Contractor Summary'!$C$42),\"Yes\",\"No\")","v":"No"},{"$f":"VLOOKUP($D326,'C.1 - Rate Sheets'!B:I,2,FALSE)","v":56.8},{"$f":"VLOOKUP($D326,'C.1 - Rate Sheets'!B:I,3,FALSE)","v":76.7},{"$f":"VLOOKUP($D326,'C.1 - Rate Sheets'!B:I,4,FALSE)","v":90.9},{"$f":"VLOOKUP($D326,'C.1 - Rate Sheets'!B:I,5,FALSE)","v":0},null,null,null,null,0,null,null,null,null,0,null,null,null,null,0,null,null,null,null,0,8,8,16,null,32,null,null,null,null,null,8,8,16,0,32,454.4,613.6,1454.4,0,2522.4,2522.4,"Yes",0,0,0]
[null,252,"Adel Rodriguez","Tree Trimmer","Vendor No 6","Hermida",913259306,"2018-10-26","2018-10-27",{"$f":"IF(AND(H327>='A - Contractor Summary'!$C$36,I327<='A - Contractor Summary'!$C$42),\"Yes\",\"No\")","v":"No"},{"$f":"VLOOKUP($D327,'C.1 - Rate Sheets'!B:I,2,FALSE)","v":48.5},{"$f":"VLOOKUP($D327,'C.1 - Rate Sheets'!B:I,3,FALSE)","v":65.5},{"$f":"VLOOKUP($D327,'C.1 - Rate Sheets'!B:I,4,FALSE)","v":77.599999999999994},{"$f":"VLOOKUP($D327,'C.1 - Rate Sheets'!B:I,5,FALSE)","v":0},null,null,null,null,0,null,null,null,null,0,null,null,null,null,0,null,null,null,null,0,8,8,16,null,32,null,null,null,null,null,8,8,16,0,32,388,524,1241.5999999999999,0,2153.6,2153.6,"Yes",0,0,0]
[null,253,"Jackson","Crew Foreman","Vendor No 6","Jackson",913280569,"2018-11-04","2018-11-05",{"$f":"IF(AND(H328>='A - Contractor Summary'!$C$36,I328<='A - Contractor Summary'!$C$42),\"Yes\",\"No\")","v":"No"},{"$f":"VLOOKUP($D328,'C.1 - Rate Sheets'!B:I,2,FALSE)","v":56.8},{"$f":"VLOOKUP($D328,'C.1 - Rate Sheets'!B:I,3,FALSE)","v":76.7},{"$f":"VLOOKUP($D328,'C.1 - Rate Sheets'!B:I,4,FALSE)","v":90.9},{"$f":"VLOOKUP($D328,'C.1 - Rate Sheets'!B:I,5,FALSE)","v":0},null,null,null,null,0,null,null,null,null,0,null,null,null,null,0,null,null,null,null,0,8,8,16,null,32,null,null,null,null,null,8,8,16,0,32,454.4,613.6,1454.4,0,2522.4,2522.4,"Yes",0,0,0]
[null,254,"Pascual Pablo","Tree Trimmer","Vendor No 6","Jackson",913280569,"2018-11-04","2018-11-05",{"$f":"IF(AND(H329>='A - Contractor Summary'!$C$36,I329<='A - Contractor Summary'!$C$42),\"Yes\",\"No\")","v":"No"},{"$f":"VLOOKUP($D329,'C.1 - Rate Sheets'!B:I,2,FALSE)","v":48.5},{"$f":"VLOOKUP($D329,'C.1 - Rate Sheets'!B:I,3,FALSE)","v":65.5},{"$f":"VLOOKUP($D329,'C.1 - Rate Sheets'!B:I,4,FALSE)","v":77.599999999999994},{"$f":"VLOOKUP($D329,'C.1 - Rate Sheets'!B:I,5,FALSE)","v":0},null,null,null,null,0,null,null,null,null,0,null,null,null,null,0,null,null,null,null,0,8,8,16,null,32,null,null,null,null,null,8,8,16,0,32,388,524,1241.5999999999999,0,2153.6,2153.6,"Yes",0,0,0]
[null,255,"Robert Pasin","Supervisor","Vendor No 6","Jackson",913280569,"2018-11-04","2018-11-05",{"$f":"IF(AND(H330>='A - Contractor Summary'!$C$36,I330<='A - Contractor Summary'!$C$42),\"Yes\",\"No\")","v":"No"},{"$f":"VLOOKUP($D330,'C.1 - Rate Sheets'!B:I,2,FALSE)","v":74},{"$f":"VLOOKUP($D330,'C.1 - Rate Sheets'!B:I,3,FALSE)","v":99.9},{"$f":"VLOOKUP($D330,'C.1 - Rate Sheets'!B:I,4,FALSE)","v":118.4},{"$f":"VLOOKUP($D330,'C.1 - Rate Sheets'!B:I,5,FALSE)","v":0},null,null,null,null,0,null,null,null,null,0,null,null,null,null,0,null,null,null,null,0,8,8,16,null,32,null,null,null,null,null,8,8,16,0,32,592,799.2,1894.4,0,3285.6000000000004,3285.6000000000004,"Yes",0,0,0]
[null,256,"cant read name","Tree Trimmer","Vendor No 6","cant read",913280571,"2018-11-04","2018-11-05",{"$f":"IF(AND(H331>='A - Contractor Summary'!$C$36,I331<='A - Contractor Summary'!$C$42),\"Yes\",\"No\")","v":"No"},{"$f":"VLOOKUP($D331,'C.1 - Rate Sheets'!B:I,2,FALSE)","v":48.5},{"$f":"VLOOKUP($D331,'C.1 - Rate Sheets'!B:I,3,FALSE)","v":65.5},{"$f":"VLOOKUP($D331,'C.1 - Rate Sheets'!B:I,4,FALSE)","v":77.599999999999994},{"$f":"VLOOKUP($D331,'C.1 - Rate Sheets'!B:I,5,FALSE)","v":0},null,null,null,null,0,null,null,null,null,0,null,null,null,null,0,null,null,null,null,0,8,8,16,null,32,null,null,null,null,null,8,8,16,0,32,388,524,1241.5999999999999,0,2153.6,2153.6,"Yes",0,0,0]
[null,257,"Tim Jones","Crew Foreman","Vendor No 6","Jones",913346329,"2018-11-04","2018-11-07",{"$f":"IF(AND(H332>='A - Contractor Summary'!$C$36,I332<='A - Contractor Summary'!$C$42),\"Yes\",\"No\")","v":"No"},{"$f":"VLOOKUP($D332,'C.1 - Rate Sheets'!B:I,2,FALSE)","v":56.8},{"$f":"VLOOKUP($D332,'C.1 - Rate Sheets'!B:I,3,FALSE)","v":76.7},{"$f":"VLOOKUP($D332,'C.1 - Rate Sheets'!B:I,4,FALSE)","v":90.9},{"$f":"VLOOKUP($D332,'C.1 - Rate Sheets'!B:I,5,FALSE)","v":0},null,null,null,null,{"$f":"SUM(O332:R332)","v":0},null,null,null,null,{"$f":"SUM(T332:W332)","v":0},null,null,null,null,{"$f":"SUM(Y332:AB332)","v":0},null,null,null,null,{"$f":"SUM(AD332:AG332)","v":0},24,20,16,null,{"$f":"SUM(AI332:AL332)","v":60},null,null,null,null,null,{"$f":"SUM(O332,T332,Y332,AD332,AI332,AN332)","v":24},{"$f":"SUM(P332,U332,Z332,AE332,AJ332,AO332)","v":20},{"$f":"SUM(Q332,V332,AA332,AF332,AK332,AP332)","v":16},{"$f":"SUM(R332,W332,AB332,AG332,AL332,AQ332)","v":0},{"$f":"SUM(AS332:AV332)","v":60},{"$f":"AS332*K332","v":1363.1999999999998},{"$f":"AT332*L332","v":1534},{"$f":"AU332*M332","v":1454.4},{"$f":"AV332*N332","v":0},{"$f":"SUM(AX332:BA332)","v":4351.6000000000004},{"$f":"BB332-BE332","v":4351.6000000000004},"Yes",0,0,0,5]
[null,257,"Allan Johnson","Crew Foreman","Vendor No 6","Jones",913346329,"2018-11-04","2018-11-07",{"$f":"IF(AND(H333>='A - Contractor Summary'!$C$36,I333<='A - Contractor Summary'!$C$42),\"Yes\",\"No\")","v":"No"},{"$f":"VLOOKUP($D333,'C.1 - Rate Sheets'!B:I,2,FALSE)","v":56.8},{"$f":"VLOOKUP($D333,'C.1 - Rate Sheets'!B:I,3,FALSE)","v":76.7},{"$f":"VLOOKUP($D333,'C.1 - Rate Sheets'!B:I,4,FALSE)","v":90.9},{"$f":"VLOOKUP($D333,'C.1 - Rate Sheets'!B:I,5,FALSE)","v":0},null,null,null,null,0,null,null,null,null,0,null,null,null,null,0,null,null,null,null,0,24,20,16,null,60,null,null,null,null,null,24,20,16,0,60,1363.1999999999998,1534,1454.4,0,4351.6000000000004,4351.6000000000004,"Yes",0,0,0,5]
[null,258,"Jarad Osbourn","Tree Trimmer","Vendor No 6","Jones",913346329,"2018-11-04","2018-11-07",{"$f":"IF(AND(H334>='A - Contractor Summary'!$C$36,I334<='A - Contractor Summary'!$C$42),\"Yes\",\"No\")","v":"No"},{"$f":"VLOOKUP($D334,'C.1 - Rate Sheets'!B:I,2,FALSE)","v":48.5},{"$f":"VLOOKUP($D334,'C.1 - Rate Sheets'!B:I,3,FALSE)","v":65.5},{"$f":"VLOOKUP($D334,'C.1 - Rate Sheets'!B:I,4,FALSE)","v":77.599999999999994},{"$f":"VLOOKUP($D334,'C.1 - Rate Sheets'!B:I,5,FALSE)","v":0},null,null,null,null,{"$f":"SUM(O334:R334)","v":0},null,null,null,null,{"$f":"SUM(T334:W334)","v":0},null,null,null,null,{"$f":"SUM(Y334:AB334)","v":0},null,null,null,null,{"$f":"SUM(AD334:AG334)","v":0},24,20,16,null,{"$f":"SUM(AI334:AL334)","v":60},null,null,null,null,null,24,20,16,0,60,1164,1310,1241.5999999999999,0,3715.6,3715.6,"Yes",0,0,0,5]
[null,null,"Jefferey Phillips","Crew Foreman","Vendor No 6","Phillips","913176206","2018-10-14","2018-10-20",{"$f":"IF(AND(H335>='A - Contractor Summary'!$C$36,I335<='A - Contractor Summary'!$C$42),\"Yes\",\"No\")","v":"No"},{"$f":"VLOOKUP($D335,'C.1 - Rate Sheets'!B:I,2,FALSE)","v":56.8},{"$f":"VLOOKUP($D335,'C.1 - Rate Sheets'!B:I,3,FALSE)","v":76.7},{"$f":"VLOOKUP($D335,'C.1 - Rate Sheets'!B:I,4,FALSE)","v":90.9},{"$f":"VLOOKUP($D335,'C.1 - Rate Sheets'!B:I,5,FALSE)","v":0},null,null,null,null,0,40,60,18,null,118,null,null,null,null,0,null,null,null,null,0,null,null,null,null,0,null,null,null,null,null,40,60,18,0,118,{"$f":"+AS335*K335","v":2272},{"$f":"+AT335*L335","v":4602},1636.2,0,{"$f":"SUBTOTAL(9,AX335:BA335)","v":8510.2000000000007},8510.2000000000007,"Yes",0,0,0]
[null,null,"Theodore Jones","Tree Trimmer","Vendor No 6","Phillips","913176206","2018-10-14","2018-10-17",{"$f":"IF(AND(H336>='A - Contractor Summary'!$C$36,I336<='A - Contractor Summary'!$C$42),\"Yes\",\"No\")","v":"No"},{"$f":"VLOOKUP($D336,'C.1 - Rate Sheets'!B:I,2,FALSE)","v":48.5},{"$f":"VLOOKUP($D336,'C.1 - Rate Sheets'!B:I,3,FALSE)","v":65.5},{"$f":"VLOOKUP($D336,'C.1 - Rate Sheets'!B:I,4,FALSE)","v":77.599999999999994},{"$f":"VLOOKUP($D336,'C.1 - Rate Sheets'!B:I,5,FALSE)","v":0},null,null,null,null,0,24,28,18,null,70,null,null,null,null,0,null,null,null,null,0,null,null,null,null,0,null,null,null,null,null,24,28,18,0,70,{"$f":"+AS336*K336","v":1164},{"$f":"+AT336*L336","v":1834},{"$f":"+AU336*M336","v":1396.8},{"$f":"+AV336*N336","v":0},{"$f":"SUBTOTAL(9,AX336:BA336)","v":4394.8},4394.8,"Yes",0,0,0]
[null,null,"Vinclent Santoyo","Crew Foreman","Vendor No 6","Phillips","913176206","2018-10-18","2018-10-20",{"$f":"IF(AND(H337>='A - Contractor Summary'!$C$36,I337<='A - Contractor Summary'!$C$42),\"Yes\",\"No\")","v":"No"},{"$f":"VLOOKUP($D337,'C.1 - Rate Sheets'!B:I,2,FALSE)","v":56.8},{"$f":"VLOOKUP($D337,'C.1 - Rate Sheets'!B:I,3,FALSE)","v":76.7},{"$f":"VLOOKUP($D337,'C.1 - Rate Sheets'!B:I,4,FALSE)","v":90.9},{"$f":"VLOOKUP($D337,'C.1 - Rate Sheets'!B:I,5,FALSE)","v":0},null,null,null,null,0,16,32,null,null,48,null,null,null,null,0,null,null,null,null,0,null,null,null,null,0,null,null,null,null,null,16,32,0,0,48,908.8,2454.4,0,0,3363.2,3363.2,"Yes",0,0,0]
[null,null,"Alex Mullen","Crew Foreman","Vendor No 6","Mullen","913194965","2018-10-07","2018-10-20",{"$f":"IF(AND(H338>='A - Contractor Summary'!$C$36,I338<='A - Contractor Summary'!$C$42),\"Yes\",\"No\")","v":"No"},{"$f":"VLOOKUP($D338,'C.1 - Rate Sheets'!B:I,2,FALSE)","v":56.8},{"$f":"VLOOKUP($D338,'C.1 - Rate Sheets'!B:I,3,FALSE)","v":76.7},{"$f":"VLOOKUP($D338,'C.1 - Rate Sheets'!B:I,4,FALSE)","v":90.9},{"$f":"VLOOKUP($D338,'C.1 - Rate Sheets'!B:I,5,FALSE)","v":0},null,null,null,null,0,40,57,null,null,97,null,null,null,null,0,null,null,null,null,0,null,null,null,null,0,null,null,null,null,null,40,57,0,0,97,2272,4371.9000000000005,0,0,{"$f":"SUM(AX338:BA338)","v":6643.9000000000005},6643.9000000000005,"Yes",0,0,0]
[null,null,"Jason Young","Tree Trimmer","Vendor No 6","Mullen","913194965","2018-10-07","2018-10-20",{"$f":"IF(AND(H339>='A - Contractor Summary'!$C$36,I339<='A - Contractor Summary'!$C$42),\"Yes\",\"No\")","v":"No"},{"$f":"VLOOKUP($D339,'C.1 - Rate Sheets'!B:I,2,FALSE)","v":48.5},{"$f":"VLOOKUP($D339,'C.1 - Rate Sheets'!B:I,3,FALSE)","v":65.5},{"$f":"VLOOKUP($D339,'C.1 - Rate Sheets'!B:I,4,FALSE)","v":77.599999999999994},{"$f":"VLOOKUP($D339,'C.1 - Rate Sheets'!B:I,5,FALSE)","v":0},null,null,null,null,0,40,57,null,null,97,null,null,null,null,0,null,null,null,null,0,null,null,null,null,0,null,null,null,null,null,40,57,0,0,97,{"$f":"+AS339*K339","v":1940},{"$f":"+AT339*L339","v":3733.5},{"$f":"+AU339*M339","v":0},{"$f":"+AV339*N339","v":0},5673.5,5673.5,"Yes",0,0,0,"start date wrong on support"]
[null,null,"Oscar Lopez","Crew Foreman","Vendor No 6","Lopez","913194966","2018-10-14","2018-10-20",{"$f":"IF(AND(H340>='A - Contractor Summary'!$C$36,I340<='A - Contractor Summary'!$C$42),\"Yes\",\"No\")","v":"No"},{"$f":"VLOOKUP($D340,'C.1 - Rate Sheets'!B:I,2,FALSE)","v":56.8},{"$f":"VLOOKUP($D340,'C.1 - Rate Sheets'!B:I,3,FALSE)","v":76.7},{"$f":"VLOOKUP($D340,'C.1 - Rate Sheets'!B:I,4,FALSE)","v":90.9},{"$f":"VLOOKUP($D340,'C.1 - Rate Sheets'!B:I,5,FALSE)","v":0},null,null,null,null,0,40,57,null,null,97,null,null,null,null,0,null,null,null,null,0,null,null,null,null,0,null,null,null,null,null,40,57,0,0,97,2272,4371.9000000000005,0,0,6643.9000000000005,6643.9000000000005,"Yes",0,0,0,"start date wrong on support"]
[null,null,"Adrian Santigo","Tree Trimmer","Vendor No 6","Lopez","913194966","2018-10-14","2018-10-20",{"$f":"IF(AND(H341>='A - Contractor Summary'!$C$36,I341<='A - Contractor Summary'!$C$42),\"Yes\",\"No\")","v":"No"},{"$f":"VLOOKUP($D341,'C.1 - Rate Sheets'!B:I,2,FALSE)","v":48.5},{"$f":"VLOOKUP($D341,'C.1 - Rate Sheets'!B:I,3,FALSE)","v":65.5},{"$f":"VLOOKUP($D341,'C.1 - Rate Sheets'!B:I,4,FALSE)","v":77.599999999999994},{"$f":"VLOOKUP($D341,'C.1 - Rate Sheets'!B:I,5,FALSE)","v":0},null,null,null,null,0,40,41,null,null,81,null,null,null,null,0,null,null,null,null,0,null,null,null,null,0,null,null,null,null,null,40,41,0,0,81,1940,2685.5,0,0,4625.5,4625.5,"Yes",0,0,0]
[null,null,"Phillip Noc","Tree Trimmer","Vendor No 6","Lopez","913194966","2018-10-14","2018-10-20",{"$f":"IF(AND(H342>='A - Contractor Summary'!$C$36,I342<='A - Contractor Summary'!$C$42),\"Yes\",\"No\")","v":"No"},{"$f":"VLOOKUP($D342,'C.1 - Rate Sheets'!B:I,2,FALSE)","v":48.5},{"$f":"VLOOKUP($D342,'C.1 - Rate Sheets'!B:I,3,FALSE)","v":65.5},{"$f":"VLOOKUP($D342,'C.1 - Rate Sheets'!B:I,4,FALSE)","v":77.599999999999994},{"$f":"VLOOKUP($D342,'C.1 - Rate Sheets'!B:I,5,FALSE)","v":0},null,null,null,null,0,null,16,null,null,16,null,null,null,null,0,null,null,null,null,0,null,null,null,null,0,null,null,null,null,null,0,16,0,0,16,0,1048,0,0,1048,1048,"Yes",0,0,0]
[null,null,"Harold Tutem","Supervisor","Vendor No 6","Tuten","913194968","2018-10-14","2018-10-20",{"$f":"IF(AND(H343>='A - Contractor Summary'!$C$36,I343<='A - Contractor Summary'!$C$42),\"Yes\",\"No\")","v":"No"},{"$f":"VLOOKUP($D343,'C.1 - Rate Sheets'!B:I,2,FALSE)","v":74},{"$f":"VLOOKUP($D343,'C.1 - Rate Sheets'!B:I,3,FALSE)","v":99.9},{"$f":"VLOOKUP($D343,'C.1 - Rate Sheets'!B:I,4,FALSE)","v":118.4},{"$f":"VLOOKUP($D343,'C.1 - Rate Sheets'!B:I,5,FALSE)","v":0},null,null,null,null,0,40,41,null,null,81,null,null,null,null,0,null,null,null,null,0,null,null,null,null,0,null,null,null,null,null,40,41,0,0,81,2960,4095.9,0,0,7055.9,7055.9,"Yes",0,0,0]
[null,null,"Dustin Woodward","Crew Foreman","Vendor No 6","Woodward","913194969","2018-10-14","2018-10-20",{"$f":"IF(AND(H344>='A - Contractor Summary'!$C$36,I344<='A - Contractor Summary'!$C$42),\"Yes\",\"No\")","v":"No"},{"$f":"VLOOKUP($D344,'C.1 - Rate Sheets'!B:I,2,FALSE)","v":56.8},{"$f":"VLOOKUP($D344,'C.1 - Rate Sheets'!B:I,3,FALSE)","v":76.7},{"$f":"VLOOKUP($D344,'C.1 - Rate Sheets'!B:I,4,FALSE)","v":90.9},{"$f":"VLOOKUP($D344,'C.1 - Rate Sheets'!B:I,5,FALSE)","v":0},null,null,null,null,0,40,56,16,null,112,null,null,null,null,0,null,null,null,null,0,null,null,null,null,0,null,null,null,null,null,40,56,16,0,112,2272,4295.2,1454.4,0,8021.6,8021.6,"Yes",0,0,0]
[null,null,"Rubelayo Perez","Tree Trimmer","Vendor No 6","Woodward","913194969","2018-10-14","2018-10-20",{"$f":"IF(AND(H345>='A - Contractor Summary'!$C$36,I345<='A - Contractor Summary'!$C$42),\"Yes\",\"No\")","v":"No"},{"$f":"VLOOKUP($D345,'C.1 - Rate Sheets'!B:I,2,FALSE)","v":48.5},{"$f":"VLOOKUP($D345,'C.1 - Rate Sheets'!B:I,3,FALSE)","v":65.5},{"$f":"VLOOKUP($D345,'C.1 - Rate Sheets'!B:I,4,FALSE)","v":77.599999999999994},{"$f":"VLOOKUP($D345,'C.1 - Rate Sheets'!B:I,5,FALSE)","v":0},null,null,null,null,0,40,56,16,null,112,null,null,null,null,0,null,null,null,null,0,null,null,null,null,0,null,null,null,null,null,40,56,16,0,112,1940,3668,1241.5999999999999,0,6849.6,6849.6,"Yes",0,0,0]
[null,null,"Pedro Martinee","Crew Foreman","Vendor No 6","Martinee","913194970","2018-10-14","2018-10-20",{"$f":"IF(AND(H346>='A - Contractor Summary'!$C$36,I346<='A - Contractor Summary'!$C$42),\"Yes\",\"No\")","v":"No"},{"$f":"VLOOKUP($D346,'C.1 - Rate Sheets'!B:I,2,FALSE)","v":56.8},{"$f":"VLOOKUP($D346,'C.1 - Rate Sheets'!B:I,3,FALSE)","v":76.7},{"$f":"VLOOKUP($D346,'C.1 - Rate Sheets'!B:I,4,FALSE)","v":90.9},{"$f":"VLOOKUP($D346,'C.1 - Rate Sheets'!B:I,5,FALSE)","v":0},null,null,null,null,0,40,57,null,null,97,null,null,null,null,0,null,null,null,null,0,null,null,null,null,0,null,null,null,null,null,40,57,0,0,97,2272,4371.9000000000005,0,0,6643.9000000000005,6643.9000000000005,"Yes",0,0,0]
[null,null,"Jorge Oamota","Tree Trimmer","Vendor No 6","Martinee","913194970","2018-10-14","2018-10-20",{"$f":"IF(AND(H347>='A - Contractor Summary'!$C$36,I347<='A - Contractor Summary'!$C$42),\"Yes\",\"No\")","v":"No"},{"$f":"VLOOKUP($D347,'C.1 - Rate Sheets'!B:I,2,FALSE)","v":48.5},{"$f":"VLOOKUP($D347,'C.1 - Rate Sheets'!B:I,3,FALSE)","v":65.5},{"$f":"VLOOKUP($D347,'C.1 - Rate Sheets'!B:I,4,FALSE)","v":77.599999999999994},{"$f":"VLOOKUP($D347,'C.1 - Rate Sheets'!B:I,5,FALSE)","v":0},null,null,null,null,0,40,57,null,null,97,null,null,null,null,0,null,null,null,null,0,null,null,null,null,0,null,null,null,null,null,40,57,0,0,97,1940,3733.5,0,0,5673.5,5673.5,"Yes",0,0,0]
[null,null,"Alex Mullen","Crew Foreman","Vendor No 6","Mullen","913194971","2018-10-21","2018-10-27",{"$f":"IF(AND(H348>='A - Contractor Summary'!$C$36,I348<='A - Contractor Summary'!$C$42),\"Yes\",\"No\")","v":"No"},{"$f":"VLOOKUP($D348,'C.1 - Rate Sheets'!B:I,2,FALSE)","v":56.8},{"$f":"VLOOKUP($D348,'C.1 - Rate Sheets'!B:I,3,FALSE)","v":76.7},{"$f":"VLOOKUP($D348,'C.1 - Rate Sheets'!B:I,4,FALSE)","v":90.9},{"$f":"VLOOKUP($D348,'C.1 - Rate Sheets'!B:I,5,FALSE)","v":0},null,null,null,null,0,null,null,null,null,0,40,56,16,null,112,null,null,null,null,0,null,null,null,null,0,null,null,null,null,null,40,56,16,0,112,2272,4295.2,1454.4,0,8021.6,8021.6,"Yes",0,0,0]
[null,null,"Jason Young","Tree Trimmer","Vendor No 6","Mullen","913194971","2018-10-21","2018-10-27",{"$f":"IF(AND(H349>='A - Contractor Summary'!$C$36,I349<='A - Contractor Summary'!$C$42),\"Yes\",\"No\")","v":"No"},{"$f":"VLOOKUP($D349,'C.1 - Rate Sheets'!B:I,2,FALSE)","v":48.5},{"$f":"VLOOKUP($D349,'C.1 - Rate Sheets'!B:I,3,FALSE)","v":65.5},{"$f":"VLOOKUP($D349,'C.1 - Rate Sheets'!B:I,4,FALSE)","v":77.599999999999994},{"$f":"VLOOKUP($D349,'C.1 - Rate Sheets'!B:I,5,FALSE)","v":0},null,null,null,null,0,null,null,null,null,0,40,56,16,null,112,null,null,null,null,0,null,null,null,null,0,null,null,null,null,null,40,56,16,0,112,1940,3668,1241.5999999999999,0,6849.6,6849.6,"Yes",0,0,0]
[null,null,"Oscar Cantillo","Crew Foreman","Vendor No 6","Cantillo","913194972","2018-10-21","2018-10-27",{"$f":"IF(AND(H350>='A - Contractor Summary'!$C$36,I350<='A - Contractor Summary'!$C$42),\"Yes\",\"No\")","v":"No"},{"$f":"VLOOKUP($D350,'C.1 - Rate Sheets'!B:I,2,FALSE)","v":56.8},{"$f":"VLOOKUP($D350,'C.1 - Rate Sheets'!B:I,3,FALSE)","v":76.7},{"$f":"VLOOKUP($D350,'C.1 - Rate Sheets'!B:I,4,FALSE)","v":90.9},{"$f":"VLOOKUP($D350,'C.1 - Rate Sheets'!B:I,5,FALSE)","v":0},null,null,null,null,0,null,null,null,null,0,40,56,16,null,112,null,null,null,null,0,null,null,null,null,0,null,null,null,null,null,40,56,16,0,112,2272,4295.2,1454.4,0,8021.6,8021.6,"Yes",0,0,0]
[null,null,"Nix Phillip","Tree Trimmer","Vendor No 6","Cantillo","913194972","2018-10-21","2018-10-27",{"$f":"IF(AND(H351>='A - Contractor Summary'!$C$36,I351<='A - Contractor Summary'!$C$42),\"Yes\",\"No\")","v":"No"},{"$f":"VLOOKUP($D351,'C.1 - Rate Sheets'!B:I,2,FALSE)","v":48.5},{"$f":"VLOOKUP($D351,'C.1 - Rate Sheets'!B:I,3,FALSE)","v":65.5},{"$f":"VLOOKUP($D351,'C.1 - Rate Sheets'!B:I,4,FALSE)","v":77.599999999999994},{"$f":"VLOOKUP($D351,'C.1 - Rate Sheets'!B:I,5,FALSE)","v":0},null,null,null,null,0,null,null,null,null,0,40,56,16,null,112,null,null,null,null,0,null,null,null,null,0,null,null,null,null,null,40,56,16,0,112,1940,3668,1241.5999999999999,0,6849.6,6849.6,"Yes",0,0,0]
[null,null,"Harold Tuten","Supervisor","Vendor No 6","Tuten","913194973","2018-10-21","2018-10-27",{"$f":"IF(AND(H352>='A - Contractor Summary'!$C$36,I352<='A - Contractor Summary'!$C$42),\"Yes\",\"No\")","v":"No"},{"$f":"VLOOKUP($D352,'C.1 - Rate Sheets'!B:I,2,FALSE)","v":74},{"$f":"VLOOKUP($D352,'C.1 - Rate Sheets'!B:I,3,FALSE)","v":99.9},{"$f":"VLOOKUP($D352,'C.1 - Rate Sheets'!B:I,4,FALSE)","v":118.4},{"$f":"VLOOKUP($D352,'C.1 - Rate Sheets'!B:I,5,FALSE)","v":0},null,null,null,null,0,null,null,null,null,0,40,56,16,null,112,null,null,null,null,0,null,null,null,null,0,null,null,null,null,null,40,56,16,0,112,2960,5594.4000000000005,1894.4,0,10448.800000000001,10448.800000000001,"Yes",0,0,0]
[null,null,"Pedro Martinee","Crew Foreman","Vendor No 6","Martinee","913194975","2018-10-21","2018-10-27",{"$f":"IF(AND(H353>='A - Contractor Summary'!$C$36,I353<='A - Contractor Summary'!$C$42),\"Yes\",\"No\")","v":"No"},{"$f":"VLOOKUP($D353,'C.1 - Rate Sheets'!B:I,2,FALSE)","v":56.8},{"$f":"VLOOKUP($D353,'C.1 - Rate Sheets'!B:I,3,FALSE)","v":76.7},{"$f":"VLOOKUP($D353,'C.1 - Rate Sheets'!B:I,4,FALSE)","v":90.9},{"$f":"VLOOKUP($D353,'C.1 - Rate Sheets'!B:I,5,FALSE)","v":0},null,null,null,null,0,null,null,null,null,0,40,56,16,null,112,null,null,null,null,0,null,null,null,null,0,null,null,null,null,null,40,56,16,0,112,2272,4295.2,1454.4,0,8021.6,8021.6,"Yes",0,0,0]
[null,null,"Jorge Damota","Tree Trimmer","Vendor No 6","Martinee",913194975,"2018-10-21","2018-10-27",{"$f":"IF(AND(H354>='A - Contractor Summary'!$C$36,I354<='A - Contractor Summary'!$C$42),\"Yes\",\"No\")","v":"No"},{"$f":"VLOOKUP($D354,'C.1 - Rate Sheets'!B:I,2,FALSE)","v":48.5},{"$f":"VLOOKUP($D354,'C.1 - Rate Sheets'!B:I,3,FALSE)","v":65.5},{"$f":"VLOOKUP($D354,'C.1 - Rate Sheets'!B:I,4,FALSE)","v":77.599999999999994},{"$f":"VLOOKUP($D354,'C.1 - Rate Sheets'!B:I,5,FALSE)","v":0},null,null,null,null,0,null,null,null,null,0,40,56,16,null,112,null,null,null,null,0,null,null,null,null,0,null,null,null,null,null,40,56,16,0,112,1940,3668,1241.5999999999999,0,6849.6,6849.6,"Yes",0,0,0]
[null,null,"Derek Sandoval","Supervisor","Vendor No 6","Sandoval","913195018","2018-10-14","2018-10-20",{"$f":"IF(AND(H355>='A - Contractor Summary'!$C$36,I355<='A - Contractor Summary'!$C$42),\"Yes\",\"No\")","v":"No"},{"$f":"VLOOKUP($D355,'C.1 - Rate Sheets'!B:I,2,FALSE)","v":74},{"$f":"VLOOKUP($D355,'C.1 - Rate Sheets'!B:I,3,FALSE)","v":99.9},{"$f":"VLOOKUP($D355,'C.1 - Rate Sheets'!B:I,4,FALSE)","v":118.4},{"$f":"VLOOKUP($D355,'C.1 - Rate Sheets'!B:I,5,FALSE)","v":0},null,null,null,null,0,40,60,18,null,118,null,null,null,null,0,null,null,null,null,0,null,null,null,null,0,null,null,null,null,null,40,60,18,0,118,2960,5994,2131.2000000000003,0,11085.2,11085.2,"Yes",0,0,0]
[null,null,"Mike Kepler","Crew Foreman","Vendor No 6","Kepler","913195020","2018-10-14","2018-10-20",{"$f":"IF(AND(H356>='A - Contractor Summary'!$C$36,I356<='A - Contractor Summary'!$C$42),\"Yes\",\"No\")","v":"No"},{"$f":"VLOOKUP($D356,'C.1 - Rate Sheets'!B:I,2,FALSE)","v":56.8},{"$f":"VLOOKUP($D356,'C.1 - Rate Sheets'!B:I,3,FALSE)","v":76.7},{"$f":"VLOOKUP($D356,'C.1 - Rate Sheets'!B:I,4,FALSE)","v":90.9},{"$f":"VLOOKUP($D356,'C.1 - Rate Sheets'!B:I,5,FALSE)","v":0},null,null,null,null,0,40,56,16,null,112,null,null,null,null,0,null,null,null,null,0,null,null,null,null,0,null,null,null,null,null,40,56,16,0,112,2272,4295.2,1454.4,0,8021.6,8021.6,"Yes",0,0,0]
[null,null,"Rafael Carde","Tree Trimmer","Vendor No 6","Kepler","913195020","2018-10-14","2018-10-20",{"$f":"IF(AND(H357>='A - Contractor Summary'!$C$36,I357<='A - Contractor Summary'!$C$42),\"Yes\",\"No\")","v":"No"},{"$f":"VLOOKUP($D357,'C.1 - Rate Sheets'!B:I,2,FALSE)","v":48.5},{"$f":"VLOOKUP($D357,'C.1 - Rate Sheets'!B:I,3,FALSE)","v":65.5},{"$f":"VLOOKUP($D357,'C.1 - Rate Sheets'!B:I,4,FALSE)","v":77.599999999999994},{"$f":"VLOOKUP($D357,'C.1 - Rate Sheets'!B:I,5,FALSE)","v":0},null,null,null,null,0,40,56,16,null,112,null,null,null,null,0,null,null,null,null,0,null,null,null,null,0,null,null,null,null,null,40,56,16,0,112,1940,3668,1241.5999999999999,0,6849.6,6849.6,"Yes",0,0,0]
[null,null,"Michael Kepler","Crew Foreman","Vendor No 6","Kepler","913195022","2018-10-27","2018-10-27",{"$f":"IF(AND(H358>='A - Contractor Summary'!$C$36,I358<='A - Contractor Summary'!$C$42),\"Yes\",\"No\")","v":"No"},{"$f":"VLOOKUP($D358,'C.1 - Rate Sheets'!B:I,2,FALSE)","v":56.8},{"$f":"VLOOKUP($D358,'C.1 - Rate Sheets'!B:I,3,FALSE)","v":76.7},{"$f":"VLOOKUP($D358,'C.1 - Rate Sheets'!B:I,4,FALSE)","v":90.9},{"$f":"VLOOKUP($D358,'C.1 - Rate Sheets'!B:I,5,FALSE)","v":0},null,null,null,null,0,null,null,null,null,0,null,16,null,null,16,null,null,null,null,0,null,null,null,null,0,null,null,null,null,null,0,16,0,0,16,0,1227.2,0,0,1227.2,1227.2,"Yes",0,0,0]
[null,null,"Vinclent Santoyo","Tree Trimmer","Vendor No 6","Kepler","913195022","2018-10-27","2018-10-27",{"$f":"IF(AND(H359>='A - Contractor Summary'!$C$36,I359<='A - Contractor Summary'!$C$42),\"Yes\",\"No\")","v":"No"},{"$f":"VLOOKUP($D359,'C.1 - Rate Sheets'!B:I,2,FALSE)","v":48.5},{"$f":"VLOOKUP($D359,'C.1 - Rate Sheets'!B:I,3,FALSE)","v":65.5},{"$f":"VLOOKUP($D359,'C.1 - Rate Sheets'!B:I,4,FALSE)","v":77.599999999999994},{"$f":"VLOOKUP($D359,'C.1 - Rate Sheets'!B:I,5,FALSE)","v":0},null,null,null,null,0,null,null,null,null,0,null,16,null,null,16,null,null,null,null,0,null,null,null,null,0,null,null,null,null,null,0,16,0,0,16,0,1048,0,0,1048,1048,"Yes",0,0,0]
[null,null,"Jefferey Phillips","Crew Foreman","Vendor No 6","Phillips","913221020","2018-10-21","2018-10-27",{"$f":"IF(AND(H360>='A - Contractor Summary'!$C$36,I360<='A - Contractor Summary'!$C$42),\"Yes\",\"No\")","v":"No"},{"$f":"VLOOKUP($D360,'C.1 - Rate Sheets'!B:I,2,FALSE)","v":56.8},{"$f":"VLOOKUP($D360,'C.1 - Rate Sheets'!B:I,3,FALSE)","v":76.7},{"$f":"VLOOKUP($D360,'C.1 - Rate Sheets'!B:I,4,FALSE)","v":90.9},{"$f":"VLOOKUP($D360,'C.1 - Rate Sheets'!B:I,5,FALSE)","v":0},null,null,null,null,0,null,null,null,null,0,40,56,16,null,112,null,null,null,null,0,null,null,null,null,0,null,null,null,null,null,40,56,16,0,112,2272,4295.2,1454.4,0,8021.6,8021.6,"Yes",0,0,0]
[null,null,"Theodore Jones","Tree Trimmer","Vendor No 6","Phillips","913221020","2018-10-21","2018-10-27",{"$f":"IF(AND(H361>='A - Contractor Summary'!$C$36,I361<='A - Contractor Summary'!$C$42),\"Yes\",\"No\")","v":"No"},{"$f":"VLOOKUP($D361,'C.1 - Rate Sheets'!B:I,2,FALSE)","v":48.5},{"$f":"VLOOKUP($D361,'C.1 - Rate Sheets'!B:I,3,FALSE)","v":65.5},{"$f":"VLOOKUP($D361,'C.1 - Rate Sheets'!B:I,4,FALSE)","v":77.599999999999994},{"$f":"VLOOKUP($D361,'C.1 - Rate Sheets'!B:I,5,FALSE)","v":0},null,null,null,null,0,null,null,null,null,0,40,52,null,null,92,null,null,null,null,0,null,null,null,null,0,null,null,null,null,null,40,52,0,0,92,1940,3406,0,0,5346,5346,"Yes",0,0,0]
[null,null,"Vinclent Santoyo","Crew Foreman","Vendor No 6","Phillips","913221020","2018-10-21","2018-10-22",{"$f":"IF(AND(H362>='A - Contractor Summary'!$C$36,I362<='A - Contractor Summary'!$C$42),\"Yes\",\"No\")","v":"No"},{"$f":"VLOOKUP($D362,'C.1 - Rate Sheets'!B:I,2,FALSE)","v":56.8},{"$f":"VLOOKUP($D362,'C.1 - Rate Sheets'!B:I,3,FALSE)","v":76.7},{"$f":"VLOOKUP($D362,'C.1 - Rate Sheets'!B:I,4,FALSE)","v":90.9},{"$f":"VLOOKUP($D362,'C.1 - Rate Sheets'!B:I,5,FALSE)","v":0},null,null,null,null,0,null,null,null,null,0,8,8,16,null,32,null,null,null,null,0,null,null,null,null,0,null,null,null,null,null,8,8,16,0,32,454.4,613.6,null,0,1068,1068,"Yes",0,0,-1454.4,2]
[null,null,"Vidal Yasmani","Crew Foreman","Vendor No 6","Yasmani",9132223001,"2018-10-26","2018-10-27",{"$f":"IF(AND(H363>='A - Contractor Summary'!$C$36,I363<='A - Contractor Summary'!$C$42),\"Yes\",\"No\")","v":"No"},{"$f":"VLOOKUP($D363,'C.1 - Rate Sheets'!B:I,2,FALSE)","v":56.8},{"$f":"VLOOKUP($D363,'C.1 - Rate Sheets'!B:I,3,FALSE)","v":76.7},{"$f":"VLOOKUP($D363,'C.1 - Rate Sheets'!B:I,4,FALSE)","v":90.9},{"$f":"VLOOKUP($D363,'C.1 - Rate Sheets'!B:I,5,FALSE)","v":0},null,null,null,null,0,null,null,null,null,0,8,24,null,null,32,null,null,null,null,0,null,null,null,null,0,null,null,null,null,null,8,24,0,0,32,454.4,1840.8000000000002,0,0,2295.2000000000003,2295.2000000000003,"Yes",0,0,0]
[null,null,"Alexander La Rosa","Tree Trimmer","Vendor No 6","Yasmani",9132223001,"2018-10-26","2018-10-27",{"$f":"IF(AND(H364>='A - Contractor Summary'!$C$36,I364<='A - Contractor Summary'!$C$42),\"Yes\",\"No\")","v":"No"},{"$f":"VLOOKUP($D364,'C.1 - Rate Sheets'!B:I,2,FALSE)","v":48.5},{"$f":"VLOOKUP($D364,'C.1 - Rate Sheets'!B:I,3,FALSE)","v":65.5},{"$f":"VLOOKUP($D364,'C.1 - Rate Sheets'!B:I,4,FALSE)","v":77.599999999999994},{"$f":"VLOOKUP($D364,'C.1 - Rate Sheets'!B:I,5,FALSE)","v":0},null,null,null,null,0,null,null,null,null,0,8,24,null,null,32,null,null,null,null,0,null,null,null,null,0,null,null,null,null,null,8,24,0,0,32,388,1572,0,0,1960,1960,"Yes",0,0,0]
[null,null,"Ernesto Napoles ","Crew Foreman","Vendor No 6","Napoles","9132223003","2018-10-26","2018-10-27",{"$f":"IF(AND(H365>='A - Contractor Summary'!$C$36,I365<='A - Contractor Summary'!$C$42),\"Yes\",\"No\")","v":"No"},{"$f":"VLOOKUP($D365,'C.1 - Rate Sheets'!B:I,2,FALSE)","v":56.8},{"$f":"VLOOKUP($D365,'C.1 - Rate Sheets'!B:I,3,FALSE)","v":76.7},{"$f":"VLOOKUP($D365,'C.1 - Rate Sheets'!B:I,4,FALSE)","v":90.9},{"$f":"VLOOKUP($D365,'C.1 - Rate Sheets'!B:I,5,FALSE)","v":0},null,null,null,null,0,null,null,null,null,0,8,24,null,null,32,null,null,null,null,0,null,null,null,null,0,null,null,null,null,null,8,24,0,0,32,454.4,1840.8000000000002,0,0,2295.2000000000003,2295.2000000000003,"Yes",0,0,0]
[null,null,"Garland Wilson","Tree Trimmer","Vendor No 6","Napoles","9132223003","2018-10-26","2018-10-27",{"$f":"IF(AND(H366>='A - Contractor Summary'!$C$36,I366<='A - Contractor Summary'!$C$42),\"Yes\",\"No\")","v":"No"},{"$f":"VLOOKUP($D366,'C.1 - Rate Sheets'!B:I,2,FALSE)","v":48.5},{"$f":"VLOOKUP($D366,'C.1 - Rate Sheets'!B:I,3,FALSE)","v":65.5},{"$f":"VLOOKUP($D366,'C.1 - Rate Sheets'!B:I,4,FALSE)","v":77.599999999999994},{"$f":"VLOOKUP($D366,'C.1 - Rate Sheets'!B:I,5,FALSE)","v":0},null,null,null,null,0,null,null,null,null,0,8,24,null,null,32,null,null,null,null,0,null,null,null,null,0,null,null,null,null,null,8,24,0,0,32,388,1572,0,0,1960,1960,"Yes",0,0,0]
[null,null,"Michael Kepler","Crew Foreman","Vendor No 6","Kepler","913222888","2018-10-27","2018-10-31",{"$f":"IF(AND(H367>='A - Contractor Summary'!$C$36,I367<='A - Contractor Summary'!$C$42),\"Yes\",\"No\")","v":"No"},{"$f":"VLOOKUP($D367,'C.1 - Rate Sheets'!B:I,2,FALSE)","v":56.8},{"$f":"VLOOKUP($D367,'C.1 - Rate Sheets'!B:I,3,FALSE)","v":76.7},{"$f":"VLOOKUP($D367,'C.1 - Rate Sheets'!B:I,4,FALSE)","v":90.9},{"$f":"VLOOKUP($D367,'C.1 - Rate Sheets'!B:I,5,FALSE)","v":0},null,null,null,null,0,null,null,null,null,0,null,null,null,null,0,24,20,16,null,60,null,null,null,null,0,null,null,null,null,null,24,20,16,0,60,1363.1999999999998,1534,1454.4,0,4351.6000000000004,4351.6000000000004,"Yes",0,0,-568.80000000000098,3]
[null,null,"Vinclent Santoyo","Tree Trimmer","Vendor No 6","Kepler","913222888","2018-10-27","2018-10-31",{"$f":"IF(AND(H368>='A - Contractor Summary'!$C$36,I368<='A - Contractor Summary'!$C$42),\"Yes\",\"No\")","v":"No"},{"$f":"VLOOKUP($D368,'C.1 - Rate Sheets'!B:I,2,FALSE)","v":48.5},{"$f":"VLOOKUP($D368,'C.1 - Rate Sheets'!B:I,3,FALSE)","v":65.5},{"$f":"VLOOKUP($D368,'C.1 - Rate Sheets'!B:I,4,FALSE)","v":77.599999999999994},{"$f":"VLOOKUP($D368,'C.1 - Rate Sheets'!B:I,5,FALSE)","v":0},null,null,null,null,0,null,null,null,null,0,null,null,null,null,0,24,20,16,null,60,null,null,null,null,0,null,null,null,null,null,24,20,16,0,60,1164,1310,1241.5999999999999,0,3715.6,3715.6,"Yes",0,0,0]
[null,null,"Jefferey Phillips","Crew Foreman","Vendor No 6","Phillips","913222891","2018-10-27","2018-10-31",{"$f":"IF(AND(H369>='A - Contractor Summary'!$C$36,I369<='A - Contractor Summary'!$C$42),\"Yes\",\"No\")","v":"No"},{"$f":"VLOOKUP($D369,'C.1 - Rate Sheets'!B:I,2,FALSE)","v":56.8},{"$f":"VLOOKUP($D369,'C.1 - Rate Sheets'!B:I,3,FALSE)","v":76.7},{"$f":"VLOOKUP($D369,'C.1 - Rate Sheets'!B:I,4,FALSE)","v":90.9},{"$f":"VLOOKUP($D369,'C.1 - Rate Sheets'!B:I,5,FALSE)","v":0},null,null,null,null,0,null,null,null,null,0,null,null,null,null,0,24,20,16,null,60,null,null,null,null,0,null,null,null,null,null,24,20,16,0,60,1363.1999999999998,1534,1454.4,0,4351.6000000000004,4351.6000000000004,"Yes",0,0,-568.80000000000098,4]
[null,null,"Theodore Jones","Tree Trimmer","Vendor No 6","Phillips",913222891,"2018-10-27","2018-10-31",{"$f":"IF(AND(H370>='A - Contractor Summary'!$C$36,I370<='A - Contractor Summary'!$C$42),\"Yes\",\"No\")","v":"No"},{"$f":"VLOOKUP($D370,'C.1 - Rate Sheets'!B:I,2,FALSE)","v":48.5},{"$f":"VLOOKUP($D370,'C.1 - Rate Sheets'!B:I,3,FALSE)","v":65.5},{"$f":"VLOOKUP($D370,'C.1 - Rate Sheets'!B:I,4,FALSE)","v":77.599999999999994},{"$f":"VLOOKUP($D370,'C.1 - Rate Sheets'!B:I,5,FALSE)","v":0},null,null,null,null,0,null,null,null,null,0,null,null,null,null,0,24,20,16,null,60,null,null,null,null,0,null,null,null,null,null,24,20,16,0,60,1164,1310,1241.5999999999999,0,3715.6,3715.6,"Yes",0,0,0]
[null,null,"Jeremy McNamee","Crew Foreman","Vendor No 6","McNamee","913222996","2018-10-26","2018-10-27",{"$f":"IF(AND(H371>='A - Contractor Summary'!$C$36,I371<='A - Contractor Summary'!$C$42),\"Yes\",\"No\")","v":"No"},{"$f":"VLOOKUP($D371,'C.1 - Rate Sheets'!B:I,2,FALSE)","v":56.8},{"$f":"VLOOKUP($D371,'C.1 - Rate Sheets'!B:I,3,FALSE)","v":76.7},{"$f":"VLOOKUP($D371,'C.1 - Rate Sheets'!B:I,4,FALSE)","v":90.9},{"$f":"VLOOKUP($D371,'C.1 - Rate Sheets'!B:I,5,FALSE)","v":0},null,null,null,null,0,null,null,null,null,0,8,24,null,null,32,null,null,null,null,0,null,null,null,null,0,null,null,null,null,null,8,24,0,0,32,454.4,1840.8000000000002,0,0,2295.2000000000003,2295.2000000000003,"Yes",0,0,0]
[null,null,"Lazaro Gonzales","Tree Trimmer","Vendor No 6","McNamee",913222996,"2018-10-26","2018-10-27",{"$f":"IF(AND(H372>='A - Contractor Summary'!$C$36,I372<='A - Contractor Summary'!$C$42),\"Yes\",\"No\")","v":"No"},{"$f":"VLOOKUP($D372,'C.1 - Rate Sheets'!B:I,2,FALSE)","v":48.5},{"$f":"VLOOKUP($D372,'C.1 - Rate Sheets'!B:I,3,FALSE)","v":65.5},{"$f":"VLOOKUP($D372,'C.1 - Rate Sheets'!B:I,4,FALSE)","v":77.599999999999994},{"$f":"VLOOKUP($D372,'C.1 - Rate Sheets'!B:I,5,FALSE)","v":0},null,null,null,null,0,null,null,null,null,0,8,24,null,null,32,null,null,null,null,0,null,null,null,null,0,null,null,null,null,null,8,24,0,0,32,388,1572,0,0,1960,1960,"Yes",0,0,0]
[null,null,"Yusmani Rodriguez","Crew Foreman","Vendor No 6","Rodriguez","913222998","2018-10-26","2018-10-27",{"$f":"IF(AND(H373>='A - Contractor Summary'!$C$36,I373<='A - Contractor Summary'!$C$42),\"Yes\",\"No\")","v":"No"},{"$f":"VLOOKUP($D373,'C.1 - Rate Sheets'!B:I,2,FALSE)","v":56.8},{"$f":"VLOOKUP($D373,'C.1 - Rate Sheets'!B:I,3,FALSE)","v":76.7},{"$f":"VLOOKUP($D373,'C.1 - Rate Sheets'!B:I,4,FALSE)","v":90.9},{"$f":"VLOOKUP($D373,'C.1 - Rate Sheets'!B:I,5,FALSE)","v":0},null,null,null,null,0,null,null,null,null,0,8,24,null,null,32,null,null,null,null,0,null,null,null,null,0,null,null,null,null,null,8,24,0,0,32,454.4,1840.8000000000002,0,0,2295.2000000000003,2295.2000000000003,"Yes",0,0,0]
[null,null,"Jorge Vidal","Tree Trimmer","Vendor No 6","Rodriguez",913222998,"2018-10-26","2018-10-27",{"$f":"IF(AND(H374>='A - Contractor Summary'!$C$36,I374<='A - Contractor Summary'!$C$42),\"Yes\",\"No\")","v":"No"},{"$f":"VLOOKUP($D374,'C.1 - Rate Sheets'!B:I,2,FALSE)","v":48.5},{"$f":"VLOOKUP($D374,'C.1 - Rate Sheets'!B:I,3,FALSE)","v":65.5},{"$f":"VLOOKUP($D374,'C.1 - Rate Sheets'!B:I,4,FALSE)","v":77.599999999999994},{"$f":"VLOOKUP($D374,'C.1 - Rate Sheets'!B:I,5,FALSE)","v":0},null,null,null,null,0,null,null,null,null,0,8,24,null,null,32,null,null,null,null,0,null,null,null,null,0,null,null,null,null,null,8,24,0,0,32,388,1572,0,0,1960,1960,"Yes",0,0,0]
[null,null,"Aaron Rodriguez","Supervisor","Vendor No 6","Rodriguez","913222999","2018-10-26","2018-10-27",{"$f":"IF(AND(H375>='A - Contractor Summary'!$C$36,I375<='A - Contractor Summary'!$C$42),\"Yes\",\"No\")","v":"No"},{"$f":"VLOOKUP($D375,'C.1 - Rate Sheets'!B:I,2,FALSE)","v":74},{"$f":"VLOOKUP($D375,'C.1 - Rate Sheets'!B:I,3,FALSE)","v":99.9},{"$f":"VLOOKUP($D375,'C.1 - Rate Sheets'!B:I,4,FALSE)","v":118.4},{"$f":"VLOOKUP($D375,'C.1 - Rate Sheets'!B:I,5,FALSE)","v":0},null,null,null,null,0,null,null,null,null,0,8,24,null,null,32,null,null,null,null,0,null,null,null,null,0,null,null,null,null,null,8,24,0,0,32,592,2397.6000000000004,0,0,2989.6000000000004,2989.6000000000004,"Yes",0,0,0]
[null,null,"Derek Sandoval","Supervisor","Vendor No 6","Sandoval","913225341","2018-10-28","2018-10-31",{"$f":"IF(AND(H376>='A - Contractor Summary'!$C$36,I376<='A - Contractor Summary'!$C$42),\"Yes\",\"No\")","v":"No"},{"$f":"VLOOKUP($D376,'C.1 - Rate Sheets'!B:I,2,FALSE)","v":74},{"$f":"VLOOKUP($D376,'C.1 - Rate Sheets'!B:I,3,FALSE)","v":99.9},{"$f":"VLOOKUP($D376,'C.1 - Rate Sheets'!B:I,4,FALSE)","v":118.4},{"$f":"VLOOKUP($D376,'C.1 - Rate Sheets'!B:I,5,FALSE)","v":0},null,null,null,null,0,null,null,null,null,0,null,null,null,null,0,24,20,16,null,60,null,null,null,null,0,null,null,null,null,null,24,20,16,0,60,1776,1998,1894.4,0,5668.4,5668.4,"Yes",0,0,-399.59999999999945,5]
[null,null,"Aaron Rodriguez","Supervisor","Vendor No 6","Rodriguez","913243903","2018-10-28","2018-10-31",{"$f":"IF(AND(H377>='A - Contractor Summary'!$C$36,I377<='A - Contractor Summary'!$C$42),\"Yes\",\"No\")","v":"No"},{"$f":"VLOOKUP($D377,'C.1 - Rate Sheets'!B:I,2,FALSE)","v":74},{"$f":"VLOOKUP($D377,'C.1 - Rate Sheets'!B:I,3,FALSE)","v":99.9},{"$f":"VLOOKUP($D377,'C.1 - Rate Sheets'!B:I,4,FALSE)","v":118.4},{"$f":"VLOOKUP($D377,'C.1 - Rate Sheets'!B:I,5,FALSE)","v":0},null,null,null,null,0,null,null,null,null,0,null,null,null,null,0,24,20,16,null,60,null,null,null,null,0,null,null,null,null,null,24,20,16,0,60,1776,1998,1894.4,0,5668.4,5668.4,"Yes",0,0,-769.59999999999945,6]
[null,null,"Joe Pitts","Crew Foreman","Vendor No 6","Pitts",913259175,"2018-10-21","2018-10-27",{"$f":"IF(AND(H378>='A - Contractor Summary'!$C$36,I378<='A - Contractor Summary'!$C$42),\"Yes\",\"No\")","v":"No"},{"$f":"VLOOKUP($D378,'C.1 - Rate Sheets'!B:I,2,FALSE)","v":56.8},{"$f":"VLOOKUP($D378,'C.1 - Rate Sheets'!B:I,3,FALSE)","v":76.7},{"$f":"VLOOKUP($D378,'C.1 - Rate Sheets'!B:I,4,FALSE)","v":90.9},{"$f":"VLOOKUP($D378,'C.1 - Rate Sheets'!B:I,5,FALSE)","v":0},null,null,null,null,0,null,null,null,null,0,40,56,16,null,112,null,null,null,null,0,null,null,null,null,0,null,null,null,null,null,40,56,16,0,112,2272,4295.2,1454.4,0,8021.6,8021.6,"Yes",0,0,0]
[null,null,"Andrew Paceline","Tree Trimmer","Vendor No 6","Pitts",913259175,"2018-10-21","2018-10-27",{"$f":"IF(AND(H379>='A - Contractor Summary'!$C$36,I379<='A - Contractor Summary'!$C$42),\"Yes\",\"No\")","v":"No"},{"$f":"VLOOKUP($D379,'C.1 - Rate Sheets'!B:I,2,FALSE)","v":48.5},{"$f":"VLOOKUP($D379,'C.1 - Rate Sheets'!B:I,3,FALSE)","v":65.5},{"$f":"VLOOKUP($D379,'C.1 - Rate Sheets'!B:I,4,FALSE)","v":77.599999999999994},{"$f":"VLOOKUP($D379,'C.1 - Rate Sheets'!B:I,5,FALSE)","v":0},null,null,null,null,0,null,null,null,null,0,40,56,16,null,112,null,null,null,null,0,null,null,null,null,0,null,null,null,null,null,40,56,16,0,112,1940,3668,1241.5999999999999,0,6849.6,6849.6,"Yes",0,0,0]
[null,null,"Joe Pitts","Crew Foreman","Vendor No 6","Pitts","913259179","2018-10-14","2018-10-20",{"$f":"IF(AND(H380>='A - Contractor Summary'!$C$36,I380<='A - Contractor Summary'!$C$42),\"Yes\",\"No\")","v":"No"},{"$f":"VLOOKUP($D380,'C.1 - Rate Sheets'!B:I,2,FALSE)","v":56.8},{"$f":"VLOOKUP($D380,'C.1 - Rate Sheets'!B:I,3,FALSE)","v":76.7},{"$f":"VLOOKUP($D380,'C.1 - Rate Sheets'!B:I,4,FALSE)","v":90.9},{"$f":"VLOOKUP($D380,'C.1 - Rate Sheets'!B:I,5,FALSE)","v":0},null,null,null,null,0,40,57,null,null,97,null,null,null,null,0,null,null,null,null,0,null,null,null,null,0,null,null,null,null,null,40,57,0,0,97,2272,4371.9000000000005,0,0,6643.9000000000005,6643.9000000000005,"Yes",0,0,0]
[null,null,"Andrew Paceline","Tree Trimmer","Vendor No 6","Pitts",913259179,"2018-10-14","2018-10-20",{"$f":"IF(AND(H381>='A - Contractor Summary'!$C$36,I381<='A - Contractor Summary'!$C$42),\"Yes\",\"No\")","v":"No"},{"$f":"VLOOKUP($D381,'C.1 - Rate Sheets'!B:I,2,FALSE)","v":48.5},{"$f":"VLOOKUP($D381,'C.1 - Rate Sheets'!B:I,3,FALSE)","v":65.5},{"$f":"VLOOKUP($D381,'C.1 - Rate Sheets'!B:I,4,FALSE)","v":77.599999999999994},{"$f":"VLOOKUP($D381,'C.1 - Rate Sheets'!B:I,5,FALSE)","v":0},null,null,null,null,0,40,57,null,null,97,null,null,null,null,0,null,null,null,null,0,null,null,null,null,0,null,null,null,null,null,40,57,0,0,97,1940,3733.5,0,0,5673.5,5673.5,"Yes",0,0,0]
[null,null,"Joe Pitts","Crew Foreman","Vendor No 6","Pitts","913259181","2018-10-28","2018-10-31",{"$f":"IF(AND(H382>='A - Contractor Summary'!$C$36,I382<='A - Contractor Summary'!$C$42),\"Yes\",\"No\")","v":"No"},{"$f":"VLOOKUP($D382,'C.1 - Rate Sheets'!B:I,2,FALSE)","v":56.8},{"$f":"VLOOKUP($D382,'C.1 - Rate Sheets'!B:I,3,FALSE)","v":76.7},{"$f":"VLOOKUP($D382,'C.1 - Rate Sheets'!B:I,4,FALSE)","v":90.9},{"$f":"VLOOKUP($D382,'C.1 - Rate Sheets'!B:I,5,FALSE)","v":0},null,null,null,null,0,null,null,null,null,0,null,null,null,null,0,24,20,16,null,60,null,null,null,null,0,null,null,null,null,null,24,20,16,0,60,1363.1999999999998,1534,1454.4,0,4351.6000000000004,4351.6000000000004,"Yes",0,0,0]
[null,null,"Andrew Paceline","Tree Trimmer","Vendor No 6","Pitts","913259181","2018-10-28","2018-10-31",{"$f":"IF(AND(H383>='A - Contractor Summary'!$C$36,I383<='A - Contractor Summary'!$C$42),\"Yes\",\"No\")","v":"No"},{"$f":"VLOOKUP($D383,'C.1 - Rate Sheets'!B:I,2,FALSE)","v":48.5},{"$f":"VLOOKUP($D383,'C.1 - Rate Sheets'!B:I,3,FALSE)","v":65.5},{"$f":"VLOOKUP($D383,'C.1 - Rate Sheets'!B:I,4,FALSE)","v":77.599999999999994},{"$f":"VLOOKUP($D383,'C.1 - Rate Sheets'!B:I,5,FALSE)","v":0},null,null,null,null,0,null,null,null,null,0,null,null,null,null,0,24,20,16,null,60,null,null,null,null,0,null,null,null,null,null,24,20,16,0,60,1164,1310,1241.5999999999999,0,3715.6,3715.6,"Yes",0,0,0]
[null,null,"Long","Crew Foreman","Vendor No 6","Long","913259235","2018-10-14","2018-10-20",{"$f":"IF(AND(H384>='A - Contractor Summary'!$C$36,I384<='A - Contractor Summary'!$C$42),\"Yes\",\"No\")","v":"No"},{"$f":"VLOOKUP($D384,'C.1 - Rate Sheets'!B:I,2,FALSE)","v":56.8},{"$f":"VLOOKUP($D384,'C.1 - Rate Sheets'!B:I,3,FALSE)","v":76.7},{"$f":"VLOOKUP($D384,'C.1 - Rate Sheets'!B:I,4,FALSE)","v":90.9},{"$f":"VLOOKUP($D384,'C.1 - Rate Sheets'!B:I,5,FALSE)","v":0},null,null,null,null,0,24,36,null,null,60,null,null,null,null,0,null,null,null,null,0,null,null,null,null,0,null,null,null,null,null,24,36,0,0,60,1363.1999999999998,2761.2000000000003,0,0,4124.3999999999996,4124.3999999999996,"Yes",0,0,0]
[null,null,"cant read name","Tree Trimmer","Vendor No 6","Long",913259235,"2018-10-14","2018-10-20",{"$f":"IF(AND(H385>='A - Contractor Summary'!$C$36,I385<='A - Contractor Summary'!$C$42),\"Yes\",\"No\")","v":"No"},{"$f":"VLOOKUP($D385,'C.1 - Rate Sheets'!B:I,2,FALSE)","v":48.5},{"$f":"VLOOKUP($D385,'C.1 - Rate Sheets'!B:I,3,FALSE)","v":65.5},{"$f":"VLOOKUP($D385,'C.1 - Rate Sheets'!B:I,4,FALSE)","v":77.599999999999994},{"$f":"VLOOKUP($D385,'C.1 - Rate Sheets'!B:I,5,FALSE)","v":0},null,null,null,null,0,72,108,null,null,180,null,null,null,null,0,null,null,null,null,0,null,null,null,null,0,null,null,null,null,null,72,108,0,0,180,3492,7074,0,0,10566,10566,"Yes",0,0,0]
[null,null,"cant read name","Supervisor","Vendor No 6","cant read","913259255","2018-10-14","2018-10-20",{"$f":"IF(AND(H386>='A - Contractor Summary'!$C$36,I386<='A - Contractor Summary'!$C$42),\"Yes\",\"No\")","v":"No"},{"$f":"VLOOKUP($D386,'C.1 - Rate Sheets'!B:I,2,FALSE)","v":74},{"$f":"VLOOKUP($D386,'C.1 - Rate Sheets'!B:I,3,FALSE)","v":99.9},{"$f":"VLOOKUP($D386,'C.1 - Rate Sheets'!B:I,4,FALSE)","v":118.4},{"$f":"VLOOKUP($D386,'C.1 - Rate Sheets'!B:I,5,FALSE)","v":0},null,null,null,null,0,24,36,null,null,60,null,null,null,null,0,null,null,null,null,0,null,null,null,null,0,null,null,null,null,null,24,36,0,0,60,1776,3596.4,0,0,5372.4,5372.4,"Yes",0,0,0]
[null,null,"cant read name","Crew Foreman","Vendor No 6","cant read","913259255","2018-10-14","2018-10-20",{"$f":"IF(AND(H387>='A - Contractor Summary'!$C$36,I387<='A - Contractor Summary'!$C$42),\"Yes\",\"No\")","v":"No"},{"$f":"VLOOKUP($D387,'C.1 - Rate Sheets'!B:I,2,FALSE)","v":56.8},{"$f":"VLOOKUP($D387,'C.1 - Rate Sheets'!B:I,3,FALSE)","v":76.7},{"$f":"VLOOKUP($D387,'C.1 - Rate Sheets'!B:I,4,FALSE)","v":90.9},{"$f":"VLOOKUP($D387,'C.1 - Rate Sheets'!B:I,5,FALSE)","v":0},null,null,null,null,0,24,36,null,null,60,null,null,null,null,0,null,null,null,null,0,null,null,null,null,0,null,null,null,null,null,24,36,0,0,60,1363.1999999999998,2761.2000000000003,0,0,4124.3999999999996,4124.3999999999996,"Yes",0,0,0]
[null,null,"cant read name","Tree Trimmer","Vendor No 6","cant read","913259255","2018-10-14","2018-10-20",{"$f":"IF(AND(H388>='A - Contractor Summary'!$C$36,I388<='A - Contractor Summary'!$C$42),\"Yes\",\"No\")","v":"No"},{"$f":"VLOOKUP($D388,'C.1 - Rate Sheets'!B:I,2,FALSE)","v":48.5},{"$f":"VLOOKUP($D388,'C.1 - Rate Sheets'!B:I,3,FALSE)","v":65.5},{"$f":"VLOOKUP($D388,'C.1 - Rate Sheets'!B:I,4,FALSE)","v":77.599999999999994},{"$f":"VLOOKUP($D388,'C.1 - Rate Sheets'!B:I,5,FALSE)","v":0},null,null,null,null,0,48,72,null,null,120,null,null,null,null,0,null,null,null,null,0,null,null,null,null,0,null,null,null,null,null,48,72,0,0,120,2328,4716,0,0,7044,7044,"Yes",0,0,0]
[null,null,"Samuel Jackson","Supervisor","Vendor No 6","Jackson","913259273","2018-10-28","2018-11-03",{"$f":"IF(AND(H389>='A - Contractor Summary'!$C$36,I389<='A - Contractor Summary'!$C$42),\"Yes\",\"No\")","v":"No"},{"$f":"VLOOKUP($D389,'C.1 - Rate Sheets'!B:I,2,FALSE)","v":74},{"$f":"VLOOKUP($D389,'C.1 - Rate Sheets'!B:I,3,FALSE)","v":99.9},{"$f":"VLOOKUP($D389,'C.1 - Rate Sheets'!B:I,4,FALSE)","v":118.4},{"$f":"VLOOKUP($D389,'C.1 - Rate Sheets'!B:I,5,FALSE)","v":0},null,null,null,null,0,null,null,null,null,0,null,null,null,null,0,40,56,16,null,112,null,null,null,null,0,null,null,null,null,null,40,56,16,0,112,2960,5594.4000000000005,1894.4,0,10448.800000000001,10448.800000000001,"Yes",0,0,0]
[null,null,"Jeremy McNamee","Tree Trimmer","Vendor No 6","Jackson","913259273","2018-10-28","2018-11-03",{"$f":"IF(AND(H390>='A - Contractor Summary'!$C$36,I390<='A - Contractor Summary'!$C$42),\"Yes\",\"No\")","v":"No"},{"$f":"VLOOKUP($D390,'C.1 - Rate Sheets'!B:I,2,FALSE)","v":48.5},{"$f":"VLOOKUP($D390,'C.1 - Rate Sheets'!B:I,3,FALSE)","v":65.5},{"$f":"VLOOKUP($D390,'C.1 - Rate Sheets'!B:I,4,FALSE)","v":77.599999999999994},{"$f":"VLOOKUP($D390,'C.1 - Rate Sheets'!B:I,5,FALSE)","v":0},null,null,null,null,0,null,null,null,null,0,null,null,null,null,0,40,56,16,null,112,null,null,null,null,0,null,null,null,null,null,40,56,16,0,112,1940,3668,1241.5999999999999,0,6849.6,6849.6,"Yes",0,0,0]
[null,null,"Pascaul Publa","Crew Foreman","Vendor No 6","Jackson","913259273","2018-10-28","2018-11-03",{"$f":"IF(AND(H391>='A - Contractor Summary'!$C$36,I391<='A - Contractor Summary'!$C$42),\"Yes\",\"No\")","v":"No"},{"$f":"VLOOKUP($D391,'C.1 - Rate Sheets'!B:I,2,FALSE)","v":56.8},{"$f":"VLOOKUP($D391,'C.1 - Rate Sheets'!B:I,3,FALSE)","v":76.7},{"$f":"VLOOKUP($D391,'C.1 - Rate Sheets'!B:I,4,FALSE)","v":90.9},{"$f":"VLOOKUP($D391,'C.1 - Rate Sheets'!B:I,5,FALSE)","v":0},null,null,null,null,0,null,null,null,null,0,null,null,null,null,0,40,56,16,null,112,null,null,null,null,0,null,null,null,null,null,40,56,16,0,112,2272,4295.2,1454.4,0,8021.6,8021.6,"Yes",0,0,0]
[null,null,"Robert Pasin","Tree Trimmer","Vendor No 6","Jackson","913259273","2018-10-28","2018-11-03",{"$f":"IF(AND(H392>='A - Contractor Summary'!$C$36,I392<='A - Contractor Summary'!$C$42),\"Yes\",\"No\")","v":"No"},{"$f":"VLOOKUP($D392,'C.1 - Rate Sheets'!B:I,2,FALSE)","v":48.5},{"$f":"VLOOKUP($D392,'C.1 - Rate Sheets'!B:I,3,FALSE)","v":65.5},{"$f":"VLOOKUP($D392,'C.1 - Rate Sheets'!B:I,4,FALSE)","v":77.599999999999994},{"$f":"VLOOKUP($D392,'C.1 - Rate Sheets'!B:I,5,FALSE)","v":0},null,null,null,null,0,null,null,null,null,0,null,null,null,null,0,40,56,16,null,112,null,null,null,null,0,null,null,null,null,null,40,56,16,0,112,1940,3668,1241.5999999999999,0,6849.6,6849.6,"Yes",0,0,0]
[null,null,"Osbany Marejon-Cruz","Crew Foreman","Vendor No 6","Morejon-Cruz","913259361","2018-10-18","2018-10-20",{"$f":"IF(AND(H393>='A - Contractor Summary'!$C$36,I393<='A - Contractor Summary'!$C$42),\"Yes\",\"No\")","v":"No"},{"$f":"VLOOKUP($D393,'C.1 - Rate Sheets'!B:I,2,FALSE)","v":56.8},{"$f":"VLOOKUP($D393,'C.1 - Rate Sheets'!B:I,3,FALSE)","v":76.7},{"$f":"VLOOKUP($D393,'C.1 - Rate Sheets'!B:I,4,FALSE)","v":90.9},{"$f":"VLOOKUP($D393,'C.1 - Rate Sheets'!B:I,5,FALSE)","v":0},null,null,null,null,0,16,32,null,null,48,null,null,null,null,0,null,null,null,null,0,null,null,null,null,0,null,null,null,null,null,16,32,0,0,48,908.8,2454.4,0,0,3363.2,3363.2,"Yes",0,0,0]
[null,null,"Yobandy Cruz","Tree Trimmer","Vendor No 6","Morejon-Cruz","913259361","2018-10-18","2018-10-20",{"$f":"IF(AND(H394>='A - Contractor Summary'!$C$36,I394<='A - Contractor Summary'!$C$42),\"Yes\",\"No\")","v":"No"},{"$f":"VLOOKUP($D394,'C.1 - Rate Sheets'!B:I,2,FALSE)","v":48.5},{"$f":"VLOOKUP($D394,'C.1 - Rate Sheets'!B:I,3,FALSE)","v":65.5},{"$f":"VLOOKUP($D394,'C.1 - Rate Sheets'!B:I,4,FALSE)","v":77.599999999999994},{"$f":"VLOOKUP($D394,'C.1 - Rate Sheets'!B:I,5,FALSE)","v":0},null,null,null,null,0,16,32,null,null,48,null,null,null,null,0,null,null,null,null,0,null,null,null,null,0,null,null,null,null,null,16,32,0,0,48,776,2096,0,0,2872,2872,"Yes",0,0,0]
[null,null,"Alex Mullen","Crew Foreman","Vendor No 6","Mullen","913317486","2018-10-28","2018-10-31",{"$f":"IF(AND(H395>='A - Contractor Summary'!$C$36,I395<='A - Contractor Summary'!$C$42),\"Yes\",\"No\")","v":"No"},{"$f":"VLOOKUP($D395,'C.1 - Rate Sheets'!B:I,2,FALSE)","v":56.8},{"$f":"VLOOKUP($D395,'C.1 - Rate Sheets'!B:I,3,FALSE)","v":76.7},{"$f":"VLOOKUP($D395,'C.1 - Rate Sheets'!B:I,4,FALSE)","v":90.9},{"$f":"VLOOKUP($D395,'C.1 - Rate Sheets'!B:I,5,FALSE)","v":0},null,null,null,null,0,24,20,16,null,60,null,null,null,null,0,null,null,null,null,0,null,null,null,null,0,null,null,null,null,null,24,20,16,0,60,1363.1999999999998,1534,1454.4,0,4351.6000000000004,4351.6000000000004,"Yes",0,0,-568.79999999999995,7]
[null,null,"Jason Young","Tree Trimmer","Vendor No 6","Mullen",913317486,"2018-10-28","2018-10-31",{"$f":"IF(AND(H396>='A - Contractor Summary'!$C$36,I396<='A - Contractor Summary'!$C$42),\"Yes\",\"No\")","v":"No"},{"$f":"VLOOKUP($D396,'C.1 - Rate Sheets'!B:I,2,FALSE)","v":48.5},{"$f":"VLOOKUP($D396,'C.1 - Rate Sheets'!B:I,3,FALSE)","v":65.5},{"$f":"VLOOKUP($D396,'C.1 - Rate Sheets'!B:I,4,FALSE)","v":77.599999999999994},{"$f":"VLOOKUP($D396,'C.1 - Rate Sheets'!B:I,5,FALSE)","v":0},null,null,null,null,0,24,20,16,null,60,null,null,null,null,0,null,null,null,null,0,null,null,null,null,0,null,null,null,null,null,24,20,16,0,60,1164,1310,1241.5999999999999,0,3715.6,3715.6,"Yes",0,0,0]
[null,null,"Harold Tutem","Supervisor","Vendor No 6","Tuten","913317487","2018-10-28","2018-10-31",{"$f":"IF(AND(H397>='A - Contractor Summary'!$C$36,I397<='A - Contractor Summary'!$C$42),\"Yes\",\"No\")","v":"No"},{"$f":"VLOOKUP($D397,'C.1 - Rate Sheets'!B:I,2,FALSE)","v":74},{"$f":"VLOOKUP($D397,'C.1 - Rate Sheets'!B:I,3,FALSE)","v":99.9},{"$f":"VLOOKUP($D397,'C.1 - Rate Sheets'!B:I,4,FALSE)","v":118.4},{"$f":"VLOOKUP($D397,'C.1 - Rate Sheets'!B:I,5,FALSE)","v":0},null,null,null,null,0,null,null,null,null,0,null,null,null,null,0,24,20,16,null,60,null,null,null,null,0,null,null,null,null,null,24,20,16,0,60,1776,1998,1894.4,0,{"$f":"SUM(AX397:BA397)","v":5668.4},5668.4,"Yes",0,0,0]
[null,null,"Padro Martinee","Crew Foreman","Vendor No 6","Martinee","913317488","2018-10-28","2018-10-31",{"$f":"IF(AND(H398>='A - Contractor Summary'!$C$36,I398<='A - Contractor Summary'!$C$42),\"Yes\",\"No\")","v":"No"},{"$f":"VLOOKUP($D398,'C.1 - Rate Sheets'!B:I,2,FALSE)","v":56.8},{"$f":"VLOOKUP($D398,'C.1 - Rate Sheets'!B:I,3,FALSE)","v":76.7},{"$f":"VLOOKUP($D398,'C.1 - Rate Sheets'!B:I,4,FALSE)","v":90.9},{"$f":"VLOOKUP($D398,'C.1 - Rate Sheets'!B:I,5,FALSE)","v":0},null,null,null,null,0,null,null,null,null,0,null,null,null,null,0,24,20,16,null,60,null,null,null,null,0,null,null,null,null,null,24,20,16,0,60,{"$f":"+AS398*K398","v":1363.1999999999998},{"$f":"+AT398*L398","v":1534},{"$f":"+AU398*M398","v":1454.4},{"$f":"+AV398*N398","v":0},4351.6000000000004,4351.6000000000004,"Yes",0,0,0]
[null,null,"Jorge Damola","Tree Trimmer","Vendor No 6","Martinee",913317488,"2018-10-28","2018-10-31",{"$f":"IF(AND(H399>='A - Contractor Summary'!$C$36,I399<='A - Contractor Summary'!$C$42),\"Yes\",\"No\")","v":"No"},{"$f":"VLOOKUP($D399,'C.1 - Rate Sheets'!B:I,2,FALSE)","v":48.5},{"$f":"VLOOKUP($D399,'C.1 - Rate Sheets'!B:I,3,FALSE)","v":65.5},{"$f":"VLOOKUP($D399,'C.1 - Rate Sheets'!B:I,4,FALSE)","v":77.599999999999994},{"$f":"VLOOKUP($D399,'C.1 - Rate Sheets'!B:I,5,FALSE)","v":0},null,null,null,null,0,null,null,null,null,0,null,null,null,null,0,24,20,16,null,60,null,null,null,null,0,null,null,null,null,null,24,20,16,0,60,1164,1310,1241.5999999999999,0,3715.6,3715.6,"Yes",0,0,0]
[null,null,"Oscar Cantillo","Crew Foreman","Vendor No 6","Cantillo",913317489,"2018-10-28","2018-10-31",{"$f":"IF(AND(H400>='A - Contractor Summary'!$C$36,I400<='A - Contractor Summary'!$C$42),\"Yes\",\"No\")","v":"No"},{"$f":"VLOOKUP($D400,'C.1 - Rate Sheets'!B:I,2,FALSE)","v":56.8},{"$f":"VLOOKUP($D400,'C.1 - Rate Sheets'!B:I,3,FALSE)","v":76.7},{"$f":"VLOOKUP($D400,'C.1 - Rate Sheets'!B:I,4,FALSE)","v":90.9},{"$f":"VLOOKUP($D400,'C.1 - Rate Sheets'!B:I,5,FALSE)","v":0},null,null,null,null,0,null,null,null,null,0,null,null,null,null,0,24,20,16,null,60,null,null,null,null,0,null,null,null,null,null,24,20,16,0,60,1363.1999999999998,1534,1454.4,0,4351.6000000000004,4351.6000000000004,"Yes",0,0,0]
[null,null,"phillip Nix","Tree Trimmer","Vendor No 6","Cantillo",913317489,"2018-10-28","2018-10-31",{"$f":"IF(AND(H401>='A - Contractor Summary'!$C$36,I401<='A - Contractor Summary'!$C$42),\"Yes\",\"No\")","v":"No"},{"$f":"VLOOKUP($D401,'C.1 - Rate Sheets'!B:I,2,FALSE)","v":48.5},{"$f":"VLOOKUP($D401,'C.1 - Rate Sheets'!B:I,3,FALSE)","v":65.5},{"$f":"VLOOKUP($D401,'C.1 - Rate Sheets'!B:I,4,FALSE)","v":77.599999999999994},{"$f":"VLOOKUP($D401,'C.1 - Rate Sheets'!B:I,5,FALSE)","v":0},null,null,null,null,0,null,null,null,null,0,null,null,null,null,0,16,16,16,null,48,null,null,null,null,0,null,null,null,null,null,16,16,16,0,48,776,1048,1241.5999999999999,0,3065.6,3065.6,"Yes",0,0,0]
[null,null,"Derek Sandoval","Supervisor","Vendor No 6","Sandoval","913195027","2018-10-21","2018-10-27",{"$f":"IF(AND(H402>='A - Contractor Summary'!$C$36,I402<='A - Contractor Summary'!$C$42),\"Yes\",\"No\")","v":"No"},{"$f":"VLOOKUP($D402,'C.1 - Rate Sheets'!B:I,2,FALSE)","v":74},{"$f":"VLOOKUP($D402,'C.1 - Rate Sheets'!B:I,3,FALSE)","v":99.9},{"$f":"VLOOKUP($D402,'C.1 - Rate Sheets'!B:I,4,FALSE)","v":118.4},{"$f":"VLOOKUP($D402,'C.1 - Rate Sheets'!B:I,5,FALSE)","v":0},null,null,null,null,{"$f":"SUM(O402:R402)","v":0},null,null,null,null,{"$f":"SUM(T402:W402)","v":0},40,56,16,null,{"$f":"SUM(Y402:AB402)","v":112},null,null,null,null,{"$f":"SUM(AD402:AG402)","v":0},null,null,null,null,{"$f":"SUM(AI402:AL402)","v":0},null,null,null,null,null,{"$f":"SUM(O402,T402,Y402,AD402,AI402,AN402)","v":40},{"$f":"SUM(P402,U402,Z402,AE402,AJ402,AO402)","v":56},{"$f":"SUM(Q402,V402,AA402,AF402,AK402,AP402)","v":16},{"$f":"SUM(R402,W402,AB402,AG402,AL402,AQ402)","v":0},{"$f":"SUM(AS402:AV402)","v":112},2960,5594.4000000000005,1894.4,0,10448.800000000001,{"$f":"BB402-BE402","v":10448.800000000001},"Yes",0,0,0]
[null,null,"Mike Keplet","Crew Foreman","Vendor No 6","Kepler","913333196","2018-10-21","2018-10-27",{"$f":"IF(AND(H403>='A - Contractor Summary'!$C$36,I403<='A - Contractor Summary'!$C$42),\"Yes\",\"No\")","v":"No"},{"$f":"VLOOKUP($D403,'C.1 - Rate Sheets'!B:I,2,FALSE)","v":56.8},{"$f":"VLOOKUP($D403,'C.1 - Rate Sheets'!B:I,3,FALSE)","v":76.7},{"$f":"VLOOKUP($D403,'C.1 - Rate Sheets'!B:I,4,FALSE)","v":90.9},{"$f":"VLOOKUP($D403,'C.1 - Rate Sheets'!B:I,5,FALSE)","v":0},null,null,null,null,0,null,null,null,null,0,40,40,16,null,96,null,null,null,null,0,null,null,null,null,0,null,null,null,null,null,40,40,16,0,96,2272,3068,1454.4,0,6794.4,6794.4,"Yes",0,0,0,8]
[null,null,"Rafael Carde","Tree Trimmer","Vendor No 6","Kepler","913333196","2018-10-21","2018-10-23",{"$f":"IF(AND(H404>='A - Contractor Summary'!$C$36,I404<='A - Contractor Summary'!$C$42),\"Yes\",\"No\")","v":"No"},{"$f":"VLOOKUP($D404,'C.1 - Rate Sheets'!B:I,2,FALSE)","v":48.5},{"$f":"VLOOKUP($D404,'C.1 - Rate Sheets'!B:I,3,FALSE)","v":65.5},{"$f":"VLOOKUP($D404,'C.1 - Rate Sheets'!B:I,4,FALSE)","v":77.599999999999994},{"$f":"VLOOKUP($D404,'C.1 - Rate Sheets'!B:I,5,FALSE)","v":0},null,null,null,null,0,null,null,null,null,0,24,12,8,null,44,null,null,null,null,0,null,null,null,null,0,null,null,null,null,null,24,12,8,0,44,1164,786,620.79999999999995,0,2570.8000000000002,2570.8000000000002,"Yes",0,0,0]
[null,null,"Vinclent Santoyo","Tree Trimmer","Vendor No 6","Kepler","913333196","2018-10-21","2018-10-27",{"$f":"IF(AND(H405>='A - Contractor Summary'!$C$36,I405<='A - Contractor Summary'!$C$42),\"Yes\",\"No\")","v":"No"},{"$f":"VLOOKUP($D405,'C.1 - Rate Sheets'!B:I,2,FALSE)","v":48.5},{"$f":"VLOOKUP($D405,'C.1 - Rate Sheets'!B:I,3,FALSE)","v":65.5},{"$f":"VLOOKUP($D405,'C.1 - Rate Sheets'!B:I,4,FALSE)","v":77.599999999999994},{"$f":"VLOOKUP($D405,'C.1 - Rate Sheets'!B:I,5,FALSE)","v":0},null,null,null,null,0,null,null,null,null,0,24,32,8,null,64,null,null,null,null,0,null,null,null,null,0,null,null,null,null,null,24,32,8,0,64,1164,2096,620.79999999999995,0,3880.8,3880.8,"Yes",0,0,0]
[null,null,"Kallmayer, David","Crew Foreman","Vendor No 6","Kallmayer","913333201","2018-10-21","2018-10-27",{"$f":"IF(AND(H406>='A - Contractor Summary'!$C$36,I406<='A - Contractor Summary'!$C$42),\"Yes\",\"No\")","v":"No"},{"$f":"VLOOKUP($D406,'C.1 - Rate Sheets'!B:I,2,FALSE)","v":56.8},{"$f":"VLOOKUP($D406,'C.1 - Rate Sheets'!B:I,3,FALSE)","v":76.7},{"$f":"VLOOKUP($D406,'C.1 - Rate Sheets'!B:I,4,FALSE)","v":90.9},{"$f":"VLOOKUP($D406,'C.1 - Rate Sheets'!B:I,5,FALSE)","v":0},null,null,null,null,0,null,null,null,null,0,null,null,null,null,0,null,null,null,null,0,null,null,null,null,0,null,null,null,null,null,0,0,0,0,0,0,0,0,0,0,0,"Yes",0,0,0]
[null,null,"Sansom, James","Tree Trimmer","Vendor No 6","Kallmayer",913333201,"2018-10-21","2018-10-27",{"$f":"IF(AND(H407>='A - Contractor Summary'!$C$36,I407<='A - Contractor Summary'!$C$42),\"Yes\",\"No\")","v":"No"},{"$f":"VLOOKUP($D407,'C.1 - Rate Sheets'!B:I,2,FALSE)","v":48.5},{"$f":"VLOOKUP($D407,'C.1 - Rate Sheets'!B:I,3,FALSE)","v":65.5},{"$f":"VLOOKUP($D407,'C.1 - Rate Sheets'!B:I,4,FALSE)","v":77.599999999999994},{"$f":"VLOOKUP($D407,'C.1 - Rate Sheets'!B:I,5,FALSE)","v":0},null,null,null,null,0,null,null,null,null,0,null,null,null,null,0,null,null,null,null,0,null,null,null,null,0,null,null,null,null,null,0,0,0,0,0,0,0,0,0,0,0,"Yes",0,0,0]
[null,null,"William Dodson","Crew Foreman","Vendor No 6","Dodson","913601157","2018-10-17","2018-10-20",{"$f":"IF(AND(H408>='A - Contractor Summary'!$C$36,I408<='A - Contractor Summary'!$C$42),\"Yes\",\"No\")","v":"No"},{"$f":"VLOOKUP($D408,'C.1 - Rate Sheets'!B:I,2,FALSE)","v":56.8},{"$f":"VLOOKUP($D408,'C.1 - Rate Sheets'!B:I,3,FALSE)","v":76.7},{"$f":"VLOOKUP($D408,'C.1 - Rate Sheets'!B:I,4,FALSE)","v":90.9},{"$f":"VLOOKUP($D408,'C.1 - Rate Sheets'!B:I,5,FALSE)","v":0},null,null,null,null,0,24,40,null,null,64,null,null,null,null,0,null,null,null,null,0,null,null,null,null,0,null,null,null,null,null,24,40,0,0,64,1363.1999999999998,3068,0,0,4431.2,4431.2,"Yes",0,0,0]
[null,null,"Justin Murphy","Tree Trimmer","Vendor No 6","Dodson","913601157","2018-10-17","2018-10-20",{"$f":"IF(AND(H409>='A - Contractor Summary'!$C$36,I409<='A - Contractor Summary'!$C$42),\"Yes\",\"No\")","v":"No"},{"$f":"VLOOKUP($D409,'C.1 - Rate Sheets'!B:I,2,FALSE)","v":48.5},{"$f":"VLOOKUP($D409,'C.1 - Rate Sheets'!B:I,3,FALSE)","v":65.5},{"$f":"VLOOKUP($D409,'C.1 - Rate Sheets'!B:I,4,FALSE)","v":77.599999999999994},{"$f":"VLOOKUP($D409,'C.1 - Rate Sheets'!B:I,5,FALSE)","v":0},null,null,null,null,0,24,40,null,null,64,null,null,null,null,0,null,null,null,null,0,null,null,null,null,0,null,null,null,null,null,24,40,0,0,64,1164,2620,0,0,3784,3784,"Yes",0,0,0]
[null,null,"Nikos Hurt","Ground Person","Vendor No 6","Dodson","913601157","2018-10-17","2018-10-20",{"$f":"IF(AND(H410>='A - Contractor Summary'!$C$36,I410<='A - Contractor Summary'!$C$42),\"Yes\",\"No\")","v":"No"},{"$f":"VLOOKUP($D410,'C.1 - Rate Sheets'!B:I,2,FALSE)","v":40},{"$f":"VLOOKUP($D410,'C.1 - Rate Sheets'!B:I,3,FALSE)","v":54},{"$f":"VLOOKUP($D410,'C.1 - Rate Sheets'!B:I,4,FALSE)","v":64},{"$f":"VLOOKUP($D410,'C.1 - Rate Sheets'!B:I,5,FALSE)","v":0},null,null,null,null,0,24,40,null,null,64,null,null,null,null,0,null,null,null,null,0,null,null,null,null,0,null,null,null,null,null,24,40,0,0,64,960,2160,0,0,3120,3120,"Yes",0,0,0]
[null,null,"Abel Chirino","Crew Foreman","Vendor No 6","Chirino","913601173","2018-10-21","2018-10-27",{"$f":"IF(AND(H411>='A - Contractor Summary'!$C$36,I411<='A - Contractor Summary'!$C$42),\"Yes\",\"No\")","v":"No"},{"$f":"VLOOKUP($D411,'C.1 - Rate Sheets'!B:I,2,FALSE)","v":56.8},{"$f":"VLOOKUP($D411,'C.1 - Rate Sheets'!B:I,3,FALSE)","v":76.7},{"$f":"VLOOKUP($D411,'C.1 - Rate Sheets'!B:I,4,FALSE)","v":90.9},{"$f":"VLOOKUP($D411,'C.1 - Rate Sheets'!B:I,5,FALSE)","v":0},null,null,null,null,0,null,null,null,null,0,40,56,16,null,112,null,null,null,null,0,null,null,null,null,0,null,null,null,null,null,40,56,16,0,112,2272,4295.2,1454.4,0,8021.6,8021.6,"Yes",0,0,0]
[null,null,"Osbany Marejon-Cruz","Crew Foreman","Vendor No 6","Chirino","913601173","2018-10-21","2018-10-27",{"$f":"IF(AND(H412>='A - Contractor Summary'!$C$36,I412<='A - Contractor Summary'!$C$42),\"Yes\",\"No\")","v":"No"},{"$f":"VLOOKUP($D412,'C.1 - Rate Sheets'!B:I,2,FALSE)","v":56.8},{"$f":"VLOOKUP($D412,'C.1 - Rate Sheets'!B:I,3,FALSE)","v":76.7},{"$f":"VLOOKUP($D412,'C.1 - Rate Sheets'!B:I,4,FALSE)","v":90.9},{"$f":"VLOOKUP($D412,'C.1 - Rate Sheets'!B:I,5,FALSE)","v":0},null,null,null,null,0,null,null,null,null,0,40,56,16,null,112,null,null,null,null,0,null,null,null,null,0,null,null,null,null,null,40,56,16,0,112,2272,4295.2,1454.4,0,8021.6,8021.6,"Yes",0,0,0]
[null,null,"Rey Monteller-Artega","Tree Trimmer","Vendor No 6","Chirino","913601173","2018-10-21","2018-10-27",{"$f":"IF(AND(H413>='A - Contractor Summary'!$C$36,I413<='A - Contractor Summary'!$C$42),\"Yes\",\"No\")","v":"No"},{"$f":"VLOOKUP($D413,'C.1 - Rate Sheets'!B:I,2,FALSE)","v":48.5},{"$f":"VLOOKUP($D413,'C.1 - Rate Sheets'!B:I,3,FALSE)","v":65.5},{"$f":"VLOOKUP($D413,'C.1 - Rate Sheets'!B:I,4,FALSE)","v":77.599999999999994},{"$f":"VLOOKUP($D413,'C.1 - Rate Sheets'!B:I,5,FALSE)","v":0},null,null,null,null,0,null,null,null,null,0,40,56,16,null,112,null,null,null,null,0,null,null,null,null,0,null,null,null,null,null,40,56,16,0,112,1940,3668,1241.5999999999999,0,6849.6,6849.6,"Yes",0,0,0]
[null,null,"Andres Mena","Tree Trimmer","Vendor No 6","Chirino","913601173","2018-10-21","2018-10-27",{"$f":"IF(AND(H414>='A - Contractor Summary'!$C$36,I414<='A - Contractor Summary'!$C$42),\"Yes\",\"No\")","v":"No"},{"$f":"VLOOKUP($D414,'C.1 - Rate Sheets'!B:I,2,FALSE)","v":48.5},{"$f":"VLOOKUP($D414,'C.1 - Rate Sheets'!B:I,3,FALSE)","v":65.5},{"$f":"VLOOKUP($D414,'C.1 - Rate Sheets'!B:I,4,FALSE)","v":77.599999999999994},{"$f":"VLOOKUP($D414,'C.1 - Rate Sheets'!B:I,5,FALSE)","v":0},null,null,null,null,0,null,null,null,null,0,40,56,16,null,112,null,null,null,null,0,null,null,null,null,0,null,null,null,null,null,40,56,16,0,112,1940,3668,1241.5999999999999,0,6849.6,6849.6,"Yes",0,0,0]
[null,null,"Yohandy Cruiz","Tree Trimmer","Vendor No 6","Chirino","913601173","2018-10-21","2018-10-27",{"$f":"IF(AND(H415>='A - Contractor Summary'!$C$36,I415<='A - Contractor Summary'!$C$42),\"Yes\",\"No\")","v":"No"},{"$f":"VLOOKUP($D415,'C.1 - Rate Sheets'!B:I,2,FALSE)","v":48.5},{"$f":"VLOOKUP($D415,'C.1 - Rate Sheets'!B:I,3,FALSE)","v":65.5},{"$f":"VLOOKUP($D415,'C.1 - Rate Sheets'!B:I,4,FALSE)","v":77.599999999999994},{"$f":"VLOOKUP($D415,'C.1 - Rate Sheets'!B:I,5,FALSE)","v":0},null,null,null,null,0,null,null,null,null,0,40,56,16,null,112,null,null,null,null,0,null,null,null,null,0,null,null,null,null,null,40,56,16,0,112,1940,3668,1241.5999999999999,0,6849.6,6849.6,"Yes",0,0,0]
[null,null,"Leovan Puentes","Tree Trimmer","Vendor No 6","Chirino","913601173","2018-10-21","2018-10-27",{"$f":"IF(AND(H416>='A - Contractor Summary'!$C$36,I416<='A - Contractor Summary'!$C$42),\"Yes\",\"No\")","v":"No"},{"$f":"VLOOKUP($D416,'C.1 - Rate Sheets'!B:I,2,FALSE)","v":48.5},{"$f":"VLOOKUP($D416,'C.1 - Rate Sheets'!B:I,3,FALSE)","v":65.5},{"$f":"VLOOKUP($D416,'C.1 - Rate Sheets'!B:I,4,FALSE)","v":77.599999999999994},{"$f":"VLOOKUP($D416,'C.1 - Rate Sheets'!B:I,5,FALSE)","v":0},null,null,null,null,0,null,null,null,null,0,40,56,16,null,112,null,null,null,null,0,null,null,null,null,0,null,null,null,null,null,40,56,16,0,112,1940,3668,1241.5999999999999,0,6849.6,6849.6,"Yes",0,0,0]
[null,null,"Abel Chirino","Crew Foreman","Vendor No 6","Chirino","913601176","2018-10-15","2018-10-20",{"$f":"IF(AND(H417>='A - Contractor Summary'!$C$36,I417<='A - Contractor Summary'!$C$42),\"Yes\",\"No\")","v":"No"},{"$f":"VLOOKUP($D417,'C.1 - Rate Sheets'!B:I,2,FALSE)","v":56.8},{"$f":"VLOOKUP($D417,'C.1 - Rate Sheets'!B:I,3,FALSE)","v":76.7},{"$f":"VLOOKUP($D417,'C.1 - Rate Sheets'!B:I,4,FALSE)","v":90.9},{"$f":"VLOOKUP($D417,'C.1 - Rate Sheets'!B:I,5,FALSE)","v":0},null,null,null,null,0,40,54,null,null,94,null,null,null,null,0,null,null,null,null,0,null,null,null,null,0,null,null,null,null,null,40,54,0,0,94,2272,4141.8,0,0,6413.8,6413.8,"Yes",0,0,0]
[null,null,"albert capehart","Crew Foreman","Vendor No 6","Chirino","913601176","2018-10-15","2018-10-20",{"$f":"IF(AND(H418>='A - Contractor Summary'!$C$36,I418<='A - Contractor Summary'!$C$42),\"Yes\",\"No\")","v":"No"},{"$f":"VLOOKUP($D418,'C.1 - Rate Sheets'!B:I,2,FALSE)","v":56.8},{"$f":"VLOOKUP($D418,'C.1 - Rate Sheets'!B:I,3,FALSE)","v":76.7},{"$f":"VLOOKUP($D418,'C.1 - Rate Sheets'!B:I,4,FALSE)","v":90.9},{"$f":"VLOOKUP($D418,'C.1 - Rate Sheets'!B:I,5,FALSE)","v":0},null,null,null,null,0,32,24,null,null,56,null,null,null,null,0,null,null,null,null,0,null,null,null,null,0,null,null,null,null,null,32,24,0,0,56,1817.6,1840.8000000000002,0,0,3658.4,3658.4,"Yes",0,0,0]
[null,null,"Rey Monteller-Artega","Tree Trimmer","Vendor No 6","Chirino","913601176","2018-10-15","2018-10-20",{"$f":"IF(AND(H419>='A - Contractor Summary'!$C$36,I419<='A - Contractor Summary'!$C$42),\"Yes\",\"No\")","v":"No"},{"$f":"VLOOKUP($D419,'C.1 - Rate Sheets'!B:I,2,FALSE)","v":48.5},{"$f":"VLOOKUP($D419,'C.1 - Rate Sheets'!B:I,3,FALSE)","v":65.5},{"$f":"VLOOKUP($D419,'C.1 - Rate Sheets'!B:I,4,FALSE)","v":77.599999999999994},{"$f":"VLOOKUP($D419,'C.1 - Rate Sheets'!B:I,5,FALSE)","v":0},null,null,null,null,0,40,54,null,null,94,null,null,null,null,0,null,null,null,null,0,null,null,null,null,0,null,null,null,null,null,40,54,0,0,94,1940,3537,0,0,5477,5477,"Yes",0,0,0]
[null,null,"Andres Mena","Tree Trimmer","Vendor No 6","Chirino","913601176","2018-10-15","2018-10-20",{"$f":"IF(AND(H420>='A - Contractor Summary'!$C$36,I420<='A - Contractor Summary'!$C$42),\"Yes\",\"No\")","v":"No"},{"$f":"VLOOKUP($D420,'C.1 - Rate Sheets'!B:I,2,FALSE)","v":48.5},{"$f":"VLOOKUP($D420,'C.1 - Rate Sheets'!B:I,3,FALSE)","v":65.5},{"$f":"VLOOKUP($D420,'C.1 - Rate Sheets'!B:I,4,FALSE)","v":77.599999999999994},{"$f":"VLOOKUP($D420,'C.1 - Rate Sheets'!B:I,5,FALSE)","v":0},null,null,null,null,0,40,54,null,null,94,null,null,null,null,0,null,null,null,null,0,null,null,null,null,0,null,null,null,null,null,40,54,0,0,94,1940,3537,0,0,5477,5477,"Yes",0,0,0]
[null,null,"jose aguilar","Crew Foreman","Vendor No 6","Chirino","913601176","2018-10-15","2018-10-20",{"$f":"IF(AND(H421>='A - Contractor Summary'!$C$36,I421<='A - Contractor Summary'!$C$42),\"Yes\",\"No\")","v":"No"},{"$f":"VLOOKUP($D421,'C.1 - Rate Sheets'!B:I,2,FALSE)","v":56.8},{"$f":"VLOOKUP($D421,'C.1 - Rate Sheets'!B:I,3,FALSE)","v":76.7},{"$f":"VLOOKUP($D421,'C.1 - Rate Sheets'!B:I,4,FALSE)","v":90.9},{"$f":"VLOOKUP($D421,'C.1 - Rate Sheets'!B:I,5,FALSE)","v":0},null,null,null,null,0,32,24,null,null,56,null,null,null,null,0,null,null,null,null,0,null,null,null,null,0,null,null,null,null,null,32,24,0,0,56,1817.6,1840.8000000000002,0,0,3658.4,3658.4,"Yes",0,0,0]
[null,null,"Leovan Puentes","Crew Foreman","Vendor No 6","Chirino",913601176,"2018-10-15","2018-10-20",{"$f":"IF(AND(H422>='A - Contractor Summary'!$C$36,I422<='A - Contractor Summary'!$C$42),\"Yes\",\"No\")","v":"No"},{"$f":"VLOOKUP($D422,'C.1 - Rate Sheets'!B:I,2,FALSE)","v":56.8},{"$f":"VLOOKUP($D422,'C.1 - Rate Sheets'!B:I,3,FALSE)","v":76.7},{"$f":"VLOOKUP($D422,'C.1 - Rate Sheets'!B:I,4,FALSE)","v":90.9},{"$f":"VLOOKUP($D422,'C.1 - Rate Sheets'!B:I,5,FALSE)","v":0},null,null,null,null,0,40,54,null,null,94,null,null,null,null,0,null,null,null,null,0,null,null,null,null,0,null,null,null,null,null,40,54,0,0,94,2272,4141.8,0,0,6413.8,6413.8,"Yes",0,0,0]
[null,null,"alejandro Garcia","Crew Foreman","Vendor No 6","Garcia","913601185","2018-10-12","2018-10-13",{"$f":"IF(AND(H423>='A - Contractor Summary'!$C$36,I423<='A - Contractor Summary'!$C$42),\"Yes\",\"No\")","v":"No"},{"$f":"VLOOKUP($D423,'C.1 - Rate Sheets'!B:I,2,FALSE)","v":56.8},{"$f":"VLOOKUP($D423,'C.1 - Rate Sheets'!B:I,3,FALSE)","v":76.7},{"$f":"VLOOKUP($D423,'C.1 - Rate Sheets'!B:I,4,FALSE)","v":90.9},{"$f":"VLOOKUP($D423,'C.1 - Rate Sheets'!B:I,5,FALSE)","v":0},8,24,null,null,32,null,null,null,null,0,null,null,null,null,0,null,null,null,null,0,null,null,null,null,0,null,null,null,null,null,8,24,0,0,32,454.4,1840.8000000000002,0,0,2295.2000000000003,2295.2000000000003,"Yes",0,0,0]
[null,null,"Matthew Yuhas","Tree Trimmer","Vendor No 6","Garcia",913601185,"2018-10-12","2018-10-13",{"$f":"IF(AND(H424>='A - Contractor Summary'!$C$36,I424<='A - Contractor Summary'!$C$42),\"Yes\",\"No\")","v":"No"},{"$f":"VLOOKUP($D424,'C.1 - Rate Sheets'!B:I,2,FALSE)","v":48.5},{"$f":"VLOOKUP($D424,'C.1 - Rate Sheets'!B:I,3,FALSE)","v":65.5},{"$f":"VLOOKUP($D424,'C.1 - Rate Sheets'!B:I,4,FALSE)","v":77.599999999999994},{"$f":"VLOOKUP($D424,'C.1 - Rate Sheets'!B:I,5,FALSE)","v":0},8,24,null,null,32,null,null,null,null,0,null,null,null,null,0,null,null,null,null,0,null,null,null,null,0,null,null,null,null,null,8,24,0,0,32,388,1572,0,0,1960,1960,"Yes",0,0,0]
[null,null,null,null,"Vendor No 6",null,null,null,null,{"$f":"IF(AND(H425>='A - Contractor Summary'!$C$36,I425<='A - Contractor Summary'!$C$42),\"Yes\",\"No\")","v":"No"},{"$f":"VLOOKUP($D425,'C.1 - Rate Sheets'!B:I,2,FALSE)","v":{"$error":"#N/A"}},{"$f":"VLOOKUP($D425,'C.1 - Rate Sheets'!B:I,3,FALSE)","v":{"$error":"#N/A"}},{"$f":"VLOOKUP($D425,'C.1 - Rate Sheets'!B:I,4,FALSE)","v":{"$error":"#N/A"}},{"$f":"VLOOKUP($D425,'C.1 - Rate Sheets'!B:I,5,FALSE)","v":{"$error":"#N/A"}},null,null,null,null,0,null,null,null,null,0,null,null,null,null,0,null,null,null,null,0,null,null,null,null,0,null,null,null,null,null,0,0,0,0,0,null,null,null,null,0,0,"Yes",0,0,0]
[null,null,null,null,"Vendor No 6",null,null,null,null,{"$f":"IF(AND(H426>='A - Contractor Summary'!$C$36,I426<='A - Contractor Summary'!$C$42),\"Yes\",\"No\")","v":"No"},{"$f":"VLOOKUP($D426,'C.1 - Rate Sheets'!B:I,2,FALSE)","v":{"$error":"#N/A"}},{"$f":"VLOOKUP($D426,'C.1 - Rate Sheets'!B:I,3,FALSE)","v":{"$error":"#N/A"}},{"$f":"VLOOKUP($D426,'C.1 - Rate Sheets'!B:I,4,FALSE)","v":{"$error":"#N/A"}},{"$f":"VLOOKUP($D426,'C.1 - Rate Sheets'!B:I,5,FALSE)","v":{"$error":"#N/A"}},null,null,null,null,0,null,null,null,null,0,null,null,null,null,0,null,null,null,null,0,null,null,null,null,0,null,null,null,null,null,0,0,0,0,0,null,null,null,null,0,0,"Yes",0,0,0]
[null,null,null,null,null,null,null,null,null,null,null,null,null," ",{"$f":"SUM(O19:O426)","v":338},583,0,0,921,2726,3997,468,0,7191,3732,5611,1398,0,10741,3272,3658,1718,0,8648,584,488,590,0,1662,0,0,0,0,0,10652,14337,4174,0,29163,579553.2000000003,1039744.9999999998,356619.60000000009,0,{"$f":"IFERROR(SUM(BB19:BB426),0)","v":1975917.8000000047},{"$f":"SUM(BC19:BC426)","v":1975917.8000000047},null,null,null,null,{"$f":"BE427-BF427-BG427","v":0},"check (b)"]
[null,null,null,null,null,null,null,null,null,null,null,null,null," ","Total # of Crew",null,null,null,{"$f":"COUNTIF(S19:S426,\">0\")","v":23},"Total # of Crew",null,null,null,{"$f":"COUNTIF(X19:X426,\">0\")","v":91},"Total # of Crew",null,null,null,{"$f":"COUNTIF(AC19:AC426,\">0\")","v":139},"Total # of Crew",null,null,null,{"$f":"COUNTIF(AH19:AH426,\">0\")","v":110},"Total # of Crew",null,null,null,{"$f":"COUNTIF(AM19:AM426,\">0\")","v":40},"Total # of Crew",null,null,null,{"$f":"COUNTIF(AR19:AR426,\">0\")","v":0},"# of time charges",null,null,null,{"$f":"SUM(S428,X428,AC428,AH428,AM428)","v":403}]
[]
[null,null,null,null,null,null,null,null,null,null,null,null,null,null,null,null,null,null,null,null,null,null,null,null,null,null,null,null,null,null,null,null,null,null,null,null,null,null,null,null,null,null,null,null,null,null,null,null,null,null,null,null,null,{"$f":"SUBTOTAL(9,BB335)","v":0},{"$f":"SUBTOTAL(9,BC33:BC429)","v":3913155.200000009}]
[]
[null,null,null,null,null,null,null,null,null,null,null,null,null,null,null,null,null,null,null,null,null,null,null,null,null,null,null,null,null,null,null,null,null,null,null,null,null,null,null,null,null,null,null,null,null,null,null,null,null,null,null,null,null,null,8067.2000000000007]
[]
[null,null,null,null,null,null,null,null,null,null,null,null,null,null,null,null,null,null,null,null,null,null,null,null,null,null,null,null,null,null,null,null,null,null,null,null,null,null,null,null,null,null,null,null,null,null,null,null,null,null,null,null,null,null,{"$f":"+BC432-BC430","v":-3905088.0000000088}]
[]
[null,"Tickmark Explanation:"]
[]
[null,"1 Timesheet does not match invoice (913259373)"]
[null,"2 Timesheet shows Mke Varden with  19.5 hours ST and 16 Hours of OT, billed 24 ST and 20 OT"]
[null,"3 Timesheet does not match invoice (913243110, 913243113)"]
[null,"4 No support received Invoice 913262294, 913333205"]
[null,"5 support hours lower than billed invoice "]
[]
[null,1,"913176206 doesn't match time sheet"]
[null,2,"913221020 doesn't charge for 16 hours of Foreman DT ($1454.40)"]
[null,3,"913222888 Overcharged 4 hours of OT for both foreman and tree trimmer"]
[null,4,"913222891 Overcharged 4 hours of OT for both foreman and tree trimmer"]
[null,5,"913225341 Overcharged 4 hours of OT for both foreman"]
[null,6,"913243903 timesheet shows 55 hours, charged 60"]
[null,7,"913317486 Overcharged 4 hours of OT for both foreman"]
[null,8,"913333196 credit to 913281769"]
[null,9,"913333201 correction to 913281761"]
[]
[]
[]
[]
[null,null,913259364]

{"sheet":"C.3 - Asset by Company","index":6,"n_rows":1,"n_cols":3,"rows_kept":1,"cut":false,"hidden":false,"merged":[]}
["Asset Tag","Position","Name"]

{"sheet":"C.4 - Timesheets - Equipment","index":7,"n_rows":276,"n_cols":24,"rows_kept":276,"cut":false,"hidden":false,"merged":[[263,1,263,5],[14,16,16,16],[14,10,16,10],[14,1,16,1],[14,2,16,2],[14,4,16,4],[14,5,16,5],[14,6,16,6],[14,9,16,9],[14,7,16,7],[14,8,16,8],[14,3,16,3],[1,1,1,22],[14,20,16,20],[14,21,16,21],[14,22,16,22],[14,17,16,17],[14,19,16,19],[14,18,16,18],[3,2,8,9]]}
[]
[null,"Equipment Charges - Time Card"]
[]
[null,"Test Plan:","Obtain the time cards.  (A) Populate the equipment names and types (if provided). Find additional information regarding individual equipment charge from related invoice. (B) Enter hours worked from time card(s).   (C) Confirm that the dates per the time cards fall between dates provided per 'A - Contractor Summary' tab. (D) Identify any equipment charges to be reviewed.  (E) For charges which required further review, document review (include why it was determined to be allowed/disallowed via a tickmark)."]
[]
[]
[]
[]
[]
[null,"Rx","Recalculated."]
[null,"a","Provided from tab 'C.1 - Rate Sheets'."]
[null,"b","Check figure should equal $0.  Cell will appear yellow if discrepancies are noted."]
[]
[null,null,"A ",null,null,null,null,"Rx",null,"C","a","B",null,null,null,null,"Rx",null,null,"D","E"]
[null,"#","Equipment Name","Equipment ID","Company","Crew#","Invoice","Start Date","End Date","Dates Worked Reasonable?","Rates","Week Ending","Week Ending","Week Ending","Week Ending","Week Ending","Total Hours","Total Equipment $","Allowable Charges","To Be Reviewed","Reviewed - Allowable Charge","Reviewed - Unallowable Charge","Tickmarks"]
[null,null,null,null,null,null,null,null,null,null,null,"2018-10-13","2018-10-20","2018-10-27","2018-11-03","2018-11-10"]
[null,null,null,null,null,null,null,null,null,null,null,"Hours","Hours","Hours","Hours","Hours"]
[null,1,"Aerial Lift 60'- 4WD",3200839,"Vendor No. 6",null,913220721,"2018-10-07","2018-10-13",{"$f":"IF(AND(H18>='A - Contractor Summary'!$C$36,I18<='A - Contractor Summary'!$C$42),\"Yes\",\"No\")","v":"No"},{"$f":"VLOOKUP($C18,'C.1 - Rate Sheets'!H:I,2,FALSE)","v":23.25},74,null,null,null,null,{"$f":"SUM(L18:P18)","v":74},{"$f":"Q18*K18","v":1720.5},{"$f":"R18-T18","v":1720.5},0,0,0]
[null,2,"Aerial Lift 60'- 2WD",3001907,"Vendor No. 6",null,913220823,"2018-10-07","2018-10-13",{"$f":"IF(AND(H19>='A - Contractor Summary'!$C$36,I19<='A - Contractor Summary'!$C$42),\"Yes\",\"No\")","v":"No"},{"$f":"VLOOKUP($C19,'C.1 - Rate Sheets'!H:I,2,FALSE)","v":18},74,null,null,null,null,{"$f":"SUM(L19:P19)","v":74},1332,1332,0,0,0]
[null,3,"4X4 Pick Up",2201206,"Vendor No. 6",null,913231731,"2018-10-07","2018-10-13",{"$f":"IF(AND(H20>='A - Contractor Summary'!$C$36,I20<='A - Contractor Summary'!$C$42),\"Yes\",\"No\")","v":"No"},{"$f":"VLOOKUP($C20,'C.1 - Rate Sheets'!H:I,2,FALSE)","v":10},34,null,null,null,null,34,{"$f":"Q20*K20","v":340},{"$f":"R20-T20","v":340},0,0,0]
[null,4,"Aerial Lift 60'- 2WD",3100402,"Vendor No. 6",null,913231731,"2018-10-07","2018-10-13",{"$f":"IF(AND(H21>='A - Contractor Summary'!$C$36,I21<='A - Contractor Summary'!$C$42),\"Yes\",\"No\")","v":"No"},{"$f":"VLOOKUP($C21,'C.1 - Rate Sheets'!H:I,2,FALSE)","v":18},64,null,null,null,null,64,1152,1152,0,0,0]
[null,5,"Manual Crew Truck",3002420,"Vendor No. 6",null,913231731,"2018-10-07","2018-10-13",{"$f":"IF(AND(H22>='A - Contractor Summary'!$C$36,I22<='A - Contractor Summary'!$C$42),\"Yes\",\"No\")","v":"No"},{"$f":"VLOOKUP($C22,'C.1 - Rate Sheets'!H:I,2,FALSE)","v":14},34,null,null,null,null,34,476,476,0,0,0]
[null,6,"Aerial Lift 60'- 2WD",3001958,"Vendor No. 6",null,913281767,"2018-10-07","2018-10-13",{"$f":"IF(AND(H23>='A - Contractor Summary'!$C$36,I23<='A - Contractor Summary'!$C$42),\"Yes\",\"No\")","v":"No"},{"$f":"VLOOKUP($C23,'C.1 - Rate Sheets'!H:I,2,FALSE)","v":18},28.25,null,null,null,null,28.25,508.5,508.5,0,0,0]
[null,7,"4X4 Pick Up",2900295,"Vendor No. 6",null,913281791,"2018-10-07","2018-10-13",{"$f":"IF(AND(H24>='A - Contractor Summary'!$C$36,I24<='A - Contractor Summary'!$C$42),\"Yes\",\"No\")","v":"No"},{"$f":"VLOOKUP($C24,'C.1 - Rate Sheets'!H:I,2,FALSE)","v":10},28.25,null,null,null,null,28.25,282.5,282.5,0,0,0]
[null,8,"4X4 Pick Up",2203051,"Vendor No. 6",null,913293304,"2018-10-07","2018-10-13",{"$f":"IF(AND(H25>='A - Contractor Summary'!$C$36,I25<='A - Contractor Summary'!$C$42),\"Yes\",\"No\")","v":"No"},{"$f":"VLOOKUP($C25,'C.1 - Rate Sheets'!H:I,2,FALSE)","v":10},7,null,null,null,null,7,70,70,0,0,0]
[null,9,"4X4 Pick Up",2202033,"Vendor No. 6",null,913293305,"2018-10-07","2018-10-13",{"$f":"IF(AND(H26>='A - Contractor Summary'!$C$36,I26<='A - Contractor Summary'!$C$42),\"Yes\",\"No\")","v":"No"},{"$f":"VLOOKUP($C26,'C.1 - Rate Sheets'!H:I,2,FALSE)","v":10},7,null,null,null,null,7,70,70,0,0,0]
[null,10,"4X4 Pick Up",9818409,"Vendor No. 6",null,913293310,"2018-10-07","2018-10-13",{"$f":"IF(AND(H27>='A - Contractor Summary'!$C$36,I27<='A - Contractor Summary'!$C$42),\"Yes\",\"No\")","v":"No"},{"$f":"VLOOKUP($C27,'C.1 - Rate Sheets'!H:I,2,FALSE)","v":10},14,null,null,null,null,14,140,140,0,0,0]
[null,11,"Aerial Lift 60'- 2WD",3002782,"Vendor No. 6",null,913346317,"2018-10-07","2018-10-13",{"$f":"IF(AND(H28>='A - Contractor Summary'!$C$36,I28<='A - Contractor Summary'!$C$42),\"Yes\",\"No\")","v":"No"},{"$f":"VLOOKUP($C28,'C.1 - Rate Sheets'!H:I,2,FALSE)","v":18},28.25,null,null,null,null,28.25,508.5,508.5,0,0,0]
[null,12,"Aerial Lift 60'- 2WD",3001907,"Vendor No. 6",null,913223258,"2018-10-14","2018-10-20",{"$f":"IF(AND(H29>='A - Contractor Summary'!$C$36,I29<='A - Contractor Summary'!$C$42),\"Yes\",\"No\")","v":"No"},{"$f":"VLOOKUP($C29,'C.1 - Rate Sheets'!H:I,2,FALSE)","v":18},null,118,null,null,null,118,2124,2124,0,0,0]
[null,13,"Aerial Lift 60'- 4WD",3200839,"Vendor No. 6",null,913223259,"2018-10-14","2018-10-20",{"$f":"IF(AND(H30>='A - Contractor Summary'!$C$36,I30<='A - Contractor Summary'!$C$42),\"Yes\",\"No\")","v":"No"},{"$f":"VLOOKUP($C30,'C.1 - Rate Sheets'!H:I,2,FALSE)","v":23.25},null,118,null,null,null,118,2743.5,2743.5,0,0,0]
[null,14,"4X4 Pick Up",2900454,"Vendor No. 6",null,913223316,"2018-10-14","2018-10-20",{"$f":"IF(AND(H31>='A - Contractor Summary'!$C$36,I31<='A - Contractor Summary'!$C$42),\"Yes\",\"No\")","v":"No"},{"$f":"VLOOKUP($C31,'C.1 - Rate Sheets'!H:I,2,FALSE)","v":10},null,59,null,null,null,59,590,590,0,0,0]
[null,15,"Aerial Lift 60'- 2WD",3100448,"Vendor No. 6",null,913223316,"2018-10-14","2018-10-20",{"$f":"IF(AND(H32>='A - Contractor Summary'!$C$36,I32<='A - Contractor Summary'!$C$42),\"Yes\",\"No\")","v":"No"},{"$f":"VLOOKUP($C32,'C.1 - Rate Sheets'!H:I,2,FALSE)","v":18},null,86,null,null,null,86,1548,1548,0,0,0]
[null,16,"Aerial Lift 60'- 2WD",3002513,"Vendor No. 6",null,913231723,"2018-10-14","2018-10-20",{"$f":"IF(AND(H33>='A - Contractor Summary'!$C$36,I33<='A - Contractor Summary'!$C$42),\"Yes\",\"No\")","v":"No"},{"$f":"VLOOKUP($C33,'C.1 - Rate Sheets'!H:I,2,FALSE)","v":18},null,64,null,null,null,64,1152,1152,0,0,0]
[null,17,"Aerial Lift 60'- 2WD",3002093,"Vendor No. 6",null,913231724,"2018-10-14","2018-10-20",{"$f":"IF(AND(H34>='A - Contractor Summary'!$C$36,I34<='A - Contractor Summary'!$C$42),\"Yes\",\"No\")","v":"No"},{"$f":"VLOOKUP($C34,'C.1 - Rate Sheets'!H:I,2,FALSE)","v":18},null,64,null,null,null,64,1152,1152,0,0,0]
[null,18,"Aerial Lift 60'- 2WD",3002094,"Vendor No. 6",null,913231726,"2018-10-14","2018-10-20",{"$f":"IF(AND(H35>='A - Contractor Summary'!$C$36,I35<='A - Contractor Summary'!$C$42),\"Yes\",\"No\")","v":"No"},{"$f":"VLOOKUP($C35,'C.1 - Rate Sheets'!H:I,2,FALSE)","v":18},null,64,null,null,null,64,1152,1152,0,0,0]
[null,19,"4X4 Pick Up",2900418,"Vendor No. 6",null,913231727,"2018-10-14","2018-10-20",{"$f":"IF(AND(H36>='A - Contractor Summary'!$C$36,I36<='A - Contractor Summary'!$C$42),\"Yes\",\"No\")","v":"No"},{"$f":"VLOOKUP($C36,'C.1 - Rate Sheets'!H:I,2,FALSE)","v":10},null,64,null,null,null,64,640,640,0,0,0]
[null,20,"Manual Crew Truck",1501373,"Vendor No. 6",null,913231732,"2018-10-14","2018-10-20",{"$f":"IF(AND(H37>='A - Contractor Summary'!$C$36,I37<='A - Contractor Summary'!$C$42),\"Yes\",\"No\")","v":"No"},{"$f":"VLOOKUP($C37,'C.1 - Rate Sheets'!H:I,2,FALSE)","v":14},null,112,null,null,null,112,1568,1568,0,0,0]
[null,21,"4X4 Pick Up",2201206,"Vendor No. 6",null,913231733,"2018-10-14","2018-10-20",{"$f":"IF(AND(H38>='A - Contractor Summary'!$C$36,I38<='A - Contractor Summary'!$C$42),\"Yes\",\"No\")","v":"No"},{"$f":"VLOOKUP($C38,'C.1 - Rate Sheets'!H:I,2,FALSE)","v":10},null,112,null,null,null,112,1120,1120,0,0,0]
[null,22,"Aerial Lift 60'- 2WD",3002420,"Vendor No. 6",null,913231734,"2018-10-14","2018-10-20",{"$f":"IF(AND(H39>='A - Contractor Summary'!$C$36,I39<='A - Contractor Summary'!$C$42),\"Yes\",\"No\")","v":"No"},{"$f":"VLOOKUP($C39,'C.1 - Rate Sheets'!H:I,2,FALSE)","v":18},null,112,null,null,null,112,2016,2016,0,0,0]
[null,23,"Aerial Lift 60'- 2WD",null,"Vendor No. 6",null,913259237,"2018-10-14","2018-10-20",{"$f":"IF(AND(H40>='A - Contractor Summary'!$C$36,I40<='A - Contractor Summary'!$C$42),\"Yes\",\"No\")","v":"No"},{"$f":"VLOOKUP($C40,'C.1 - Rate Sheets'!H:I,2,FALSE)","v":18},null,50,null,null,null,50,900,900,0,0,0]
[null,24,"Aerial Lift 60'- 4WD",null,"Vendor No. 6",null,913259242,"2018-10-14","2018-10-20",{"$f":"IF(AND(H41>='A - Contractor Summary'!$C$36,I41<='A - Contractor Summary'!$C$42),\"Yes\",\"No\")","v":"No"},{"$f":"VLOOKUP($C41,'C.1 - Rate Sheets'!H:I,2,FALSE)","v":23.25},null,50,null,null,null,50,1162.5,1162.5,0,0,0]
[null,25,"4X4 Pick Up",2900429,"Vendor No. 6",null,913259373,"2018-10-14","2018-10-20",{"$f":"IF(AND(H42>='A - Contractor Summary'!$C$36,I42<='A - Contractor Summary'!$C$42),\"Yes\",\"No\")","v":"No"},{"$f":"VLOOKUP($C42,'C.1 - Rate Sheets'!H:I,2,FALSE)","v":10},null,88,null,null,null,88,880,880,0,0,0]
[null,26,"Aerial Lift < 60'",3002782,"Vendor No. 6",null,913281772,"2018-10-14","2018-10-20",{"$f":"IF(AND(H43>='A - Contractor Summary'!$C$36,I43<='A - Contractor Summary'!$C$42),\"Yes\",\"No\")","v":"No"},{"$f":"VLOOKUP($C43,'C.1 - Rate Sheets'!H:I,2,FALSE)","v":28},null,96,null,null,null,96,2688,2688,0,0,0]
[null,27,"4X4 Pick Up",9818436,"Vendor No. 6",null,913293312,"2018-10-14","2018-10-20",{"$f":"IF(AND(H44>='A - Contractor Summary'!$C$36,I44<='A - Contractor Summary'!$C$42),\"Yes\",\"No\")","v":"No"},{"$f":"VLOOKUP($C44,'C.1 - Rate Sheets'!H:I,2,FALSE)","v":10},null,64,null,null,null,64,640,640,0,0,0]
[null,28,"4X4 Pick Up",9818506,"Vendor No. 6",null,913293313,"2018-10-14","2018-10-20",{"$f":"IF(AND(H45>='A - Contractor Summary'!$C$36,I45<='A - Contractor Summary'!$C$42),\"Yes\",\"No\")","v":"No"},{"$f":"VLOOKUP($C45,'C.1 - Rate Sheets'!H:I,2,FALSE)","v":10},null,38,null,null,null,38,380,380,0,0,0]
[null,29,"4X4 Pick Up",2203051,"Vendor No. 6",null,913293314,"2018-10-14","2018-10-20",{"$f":"IF(AND(H46>='A - Contractor Summary'!$C$36,I46<='A - Contractor Summary'!$C$42),\"Yes\",\"No\")","v":"No"},{"$f":"VLOOKUP($C46,'C.1 - Rate Sheets'!H:I,2,FALSE)","v":10},null,56,null,null,null,56,560,560,0,0,0]
[null,30,"4X4 Pick Up",9818409,"Vendor No. 6",null,913293315,"2018-10-14","2018-10-20",{"$f":"IF(AND(H47>='A - Contractor Summary'!$C$36,I47<='A - Contractor Summary'!$C$42),\"Yes\",\"No\")","v":"No"},{"$f":"VLOOKUP($C47,'C.1 - Rate Sheets'!H:I,2,FALSE)","v":10},null,28,null,null,null,28,280,280,0,0,0]
[null,31,"4X4 Pick Up",2202233,"Vendor No. 6",null,913293316,"2018-10-14","2018-10-20",{"$f":"IF(AND(H48>='A - Contractor Summary'!$C$36,I48<='A - Contractor Summary'!$C$42),\"Yes\",\"No\")","v":"No"},{"$f":"VLOOKUP($C48,'C.1 - Rate Sheets'!H:I,2,FALSE)","v":10},null,14,null,null,null,14,140,140,0,0,0]
[null,32,"4X4 Pick Up",9818409,"Vendor No. 6",null,913301063,"2018-10-28","2018-11-03",{"$f":"IF(AND(H49>='A - Contractor Summary'!$C$36,I49<='A - Contractor Summary'!$C$42),\"Yes\",\"No\")","v":"No"},{"$f":"VLOOKUP($C49,'C.1 - Rate Sheets'!H:I,2,FALSE)","v":10},null,null,null,75,null,75,750,750,0,0,0]
[null,33,"4X4 Pick Up",9818464,"Vendor No. 6",null,913301071,"2018-10-14","2018-10-20",{"$f":"IF(AND(H50>='A - Contractor Summary'!$C$36,I50<='A - Contractor Summary'!$C$42),\"Yes\",\"No\")","v":"No"},{"$f":"VLOOKUP($C50,'C.1 - Rate Sheets'!H:I,2,FALSE)","v":10},null,6,null,null,null,6,60,60,0,0,0]
[null,34,"Manual Crew Truck",5801062,"Vendor No. 6",null,913346146,"2018-10-14","2018-10-20",{"$f":"IF(AND(H51>='A - Contractor Summary'!$C$36,I51<='A - Contractor Summary'!$C$42),\"Yes\",\"No\")","v":"No"},{"$f":"VLOOKUP($C51,'C.1 - Rate Sheets'!H:I,2,FALSE)","v":14},null,109,null,null,null,109,1526,1526,0,0,0]
[null,35,"4X4 Pick Up",2900296,"Vendor No. 6",null,913346146,"2018-10-14","2018-10-20",{"$f":"IF(AND(H52>='A - Contractor Summary'!$C$36,I52<='A - Contractor Summary'!$C$42),\"Yes\",\"No\")","v":"No"},{"$f":"VLOOKUP($C52,'C.1 - Rate Sheets'!H:I,2,FALSE)","v":10},null,109,null,null,null,109,1090,1090,0,0,0]
[null,36,"Aerial Lift < 60'",3002782,"Vendor No. 6",null,913346153,"2018-10-14","2018-10-20",{"$f":"IF(AND(H53>='A - Contractor Summary'!$C$36,I53<='A - Contractor Summary'!$C$42),\"Yes\",\"No\")","v":"No"},{"$f":"VLOOKUP($C53,'C.1 - Rate Sheets'!H:I,2,FALSE)","v":28},null,108.25,null,null,null,108.25,3031,3031,0,0,0]
[null,37,"Aerial Lift < 60'",3200876,"Vendor No. 6",null,913346195,"2018-10-14","2018-10-20",{"$f":"IF(AND(H54>='A - Contractor Summary'!$C$36,I54<='A - Contractor Summary'!$C$42),\"Yes\",\"No\")","v":"No"},{"$f":"VLOOKUP($C54,'C.1 - Rate Sheets'!H:I,2,FALSE)","v":28},null,108.25,null,null,null,108.25,3031,3031,0,0,0]
[null,38,"Aerial Lift 60'- 2WD",3100403,"Vendor No. 6",null,913346486,"2018-10-14","2018-10-20",{"$f":"IF(AND(H55>='A - Contractor Summary'!$C$36,I55<='A - Contractor Summary'!$C$42),\"Yes\",\"No\")","v":"No"},{"$f":"VLOOKUP($C55,'C.1 - Rate Sheets'!H:I,2,FALSE)","v":18},null,117,null,null,null,117,2106,2106,0,0,0]
[null,39,"4X4 Pick Up",2900256,"Vendor No. 6",null,913262679,"2018-10-21","2018-10-27",{"$f":"IF(AND(H56>='A - Contractor Summary'!$C$36,I56<='A - Contractor Summary'!$C$42),\"Yes\",\"No\")","v":"No"},{"$f":"VLOOKUP($C56,'C.1 - Rate Sheets'!H:I,2,FALSE)","v":10},null,null,31.25,null,null,31.25,312.5,312.5,0,0,0]
[null,40,"Aerial Lift 60'- 2WD",3100448,"Vendor No. 6",null,913220899,"2018-10-21","2018-10-27",{"$f":"IF(AND(H57>='A - Contractor Summary'!$C$36,I57<='A - Contractor Summary'!$C$42),\"Yes\",\"No\")","v":"No"},{"$f":"VLOOKUP($C57,'C.1 - Rate Sheets'!H:I,2,FALSE)","v":18},null,null,128,null,null,128,2304,2304,0,0,0]
[null,41,"4X4 Pick Up",2900454,"Vendor No. 6",null,913220899,"2018-10-21","2018-10-27",{"$f":"IF(AND(H58>='A - Contractor Summary'!$C$36,I58<='A - Contractor Summary'!$C$42),\"Yes\",\"No\")","v":"No"},{"$f":"VLOOKUP($C58,'C.1 - Rate Sheets'!H:I,2,FALSE)","v":10},null,null,112,null,null,112,1120,1120,0,0,0]
[null,42,"Aerial Lift 60'- 2WD",null,"Vendor No. 6",null,913223261,"2018-10-21","2018-10-27",{"$f":"IF(AND(H59>='A - Contractor Summary'!$C$36,I59<='A - Contractor Summary'!$C$42),\"Yes\",\"No\")","v":"No"},{"$f":"VLOOKUP($C59,'C.1 - Rate Sheets'!H:I,2,FALSE)","v":18},null,null,104,null,null,104,1872,1872,0,0,0]
[null,43,"Aerial Lift 60'- 4WD",null,"Vendor No. 6",null,913223262,"2018-10-21","2018-10-27",{"$f":"IF(AND(H60>='A - Contractor Summary'!$C$36,I60<='A - Contractor Summary'!$C$42),\"Yes\",\"No\")","v":"No"},{"$f":"VLOOKUP($C60,'C.1 - Rate Sheets'!H:I,2,FALSE)","v":23.25},null,null,104,null,null,104,2418,2418,0,0,0]
[null,44,"Aerial Lift 60'- 2WD",null,"Vendor No. 6",null,913231713,"2018-10-21","2018-10-27",{"$f":"IF(AND(H61>='A - Contractor Summary'!$C$36,I61<='A - Contractor Summary'!$C$42),\"Yes\",\"No\")","v":"No"},{"$f":"VLOOKUP($C61,'C.1 - Rate Sheets'!H:I,2,FALSE)","v":18},null,null,112,null,null,112,2016,2016,0,0,0]
[null,45,"Aerial Lift 60'- 2WD",null,"Vendor No. 6",null,913231714,"2018-10-21","2018-10-27",{"$f":"IF(AND(H62>='A - Contractor Summary'!$C$36,I62<='A - Contractor Summary'!$C$42),\"Yes\",\"No\")","v":"No"},{"$f":"VLOOKUP($C62,'C.1 - Rate Sheets'!H:I,2,FALSE)","v":18},null,null,112,null,null,112,2016,2016,0,0,0]
[null,46,"Aerial Lift 60'- 2WD",null,"Vendor No. 6",null,913231715,"2018-10-21","2018-10-27",{"$f":"IF(AND(H63>='A - Contractor Summary'!$C$36,I63<='A - Contractor Summary'!$C$42),\"Yes\",\"No\")","v":"No"},{"$f":"VLOOKUP($C63,'C.1 - Rate Sheets'!H:I,2,FALSE)","v":18},null,null,112,null,null,112,2016,2016,0,0,0]
[null,47,"Aerial Lift 60'- 2WD",null,"Vendor No. 6",null,913231720,"2018-10-21","2018-10-27",{"$f":"IF(AND(H64>='A - Contractor Summary'!$C$36,I64<='A - Contractor Summary'!$C$42),\"Yes\",\"No\")","v":"No"},{"$f":"VLOOKUP($C64,'C.1 - Rate Sheets'!H:I,2,FALSE)","v":18},null,null,112,null,null,112,2016,2016,0,0,0]
[null,48,"4X4 Pick Up",null,"Vendor No. 6",null,913231722,"2018-10-21","2018-10-27",{"$f":"IF(AND(H65>='A - Contractor Summary'!$C$36,I65<='A - Contractor Summary'!$C$42),\"Yes\",\"No\")","v":"No"},{"$f":"VLOOKUP($C65,'C.1 - Rate Sheets'!H:I,2,FALSE)","v":10},null,null,112,null,null,112,1120,1120,0,0,0]
[null,49,"4X4 Pick Up",null,"Vendor No. 6",null,913231735,"2018-10-21","2018-10-27",{"$f":"IF(AND(H66>='A - Contractor Summary'!$C$36,I66<='A - Contractor Summary'!$C$42),\"Yes\",\"No\")","v":"No"},{"$f":"VLOOKUP($C66,'C.1 - Rate Sheets'!H:I,2,FALSE)","v":10},null,null,112,null,null,112,1120,1120,0,0,0]
[null,50,"Aerial Lift 60'- 2WD",null,"Vendor No. 6",null,913231736,"2018-10-21","2018-10-27",{"$f":"IF(AND(H67>='A - Contractor Summary'!$C$36,I67<='A - Contractor Summary'!$C$42),\"Yes\",\"No\")","v":"No"},{"$f":"VLOOKUP($C67,'C.1 - Rate Sheets'!H:I,2,FALSE)","v":18},null,null,112,null,null,112,2016,2016,0,0,0]
[null,51,"Manual Crew Truck",1501373,"Vendor No. 6",null,913231737,"2018-10-21","2018-10-27",{"$f":"IF(AND(H68>='A - Contractor Summary'!$C$36,I68<='A - Contractor Summary'!$C$42),\"Yes\",\"No\")","v":"No"},{"$f":"VLOOKUP($C68,'C.1 - Rate Sheets'!H:I,2,FALSE)","v":14},null,null,112,null,null,112,1568,1568,0,0,0]
[null,52,"Aerial Lift 60'- 2WD",null,"Vendor No. 6",null,913231738,"2018-10-21","2018-10-27",{"$f":"IF(AND(H69>='A - Contractor Summary'!$C$36,I69<='A - Contractor Summary'!$C$42),\"Yes\",\"No\")","v":"No"},{"$f":"VLOOKUP($C69,'C.1 - Rate Sheets'!H:I,2,FALSE)","v":18},null,null,112,null,null,112,2016,2016,0,0,0]
[null,53,"4X4 Pick Up",2900253,"Vendor No. 6",null,913231739,"2018-10-21","2018-10-27",{"$f":"IF(AND(H70>='A - Contractor Summary'!$C$36,I70<='A - Contractor Summary'!$C$42),\"Yes\",\"No\")","v":"No"},{"$f":"VLOOKUP($C70,'C.1 - Rate Sheets'!H:I,2,FALSE)","v":10},null,null,32,null,null,32,320,320,0,0,0]
[null,54,"Aerial Lift 60'- 4WD",3200878,"Vendor No. 6",null,913231740,"2018-10-21","2018-10-27",{"$f":"IF(AND(H71>='A - Contractor Summary'!$C$36,I71<='A - Contractor Summary'!$C$42),\"Yes\",\"No\")","v":"No"},{"$f":"VLOOKUP($C71,'C.1 - Rate Sheets'!H:I,2,FALSE)","v":23.25},null,null,32,null,null,32,744,744,0,0,0]
[null,55,"Aerial Lift 60'- 4WD",3200830,"Vendor No. 6",null,913231741,"2018-10-21","2018-10-27",{"$f":"IF(AND(H72>='A - Contractor Summary'!$C$36,I72<='A - Contractor Summary'!$C$42),\"Yes\",\"No\")","v":"No"},{"$f":"VLOOKUP($C72,'C.1 - Rate Sheets'!H:I,2,FALSE)","v":23.25},null,null,32,null,null,32,744,744,0,0,0]
[null,56,"Aerial Lift < 60'",3001225,"Vendor No. 6",null,913231743,"2018-10-21","2018-10-27",{"$f":"IF(AND(H73>='A - Contractor Summary'!$C$36,I73<='A - Contractor Summary'!$C$42),\"Yes\",\"No\")","v":"No"},{"$f":"VLOOKUP($C73,'C.1 - Rate Sheets'!H:I,2,FALSE)","v":28},null,null,32,null,null,32,896,896,0,0,0]
[null,57,"Aerial Lift 60'- 2WD",3001037,"Vendor No. 6",null,913243107,"2018-10-21","2018-10-27",{"$f":"IF(AND(H74>='A - Contractor Summary'!$C$36,I74<='A - Contractor Summary'!$C$42),\"Yes\",\"No\")","v":"No"},{"$f":"VLOOKUP($C74,'C.1 - Rate Sheets'!H:I,2,FALSE)","v":18},null,null,31.25,null,null,31.25,562.5,562.5,0,0,0]
[null,58,"Aerial Lift 60'- 2WD",3002786,"Vendor No. 6",null,913243108,"2018-10-21","2018-10-27",{"$f":"IF(AND(H75>='A - Contractor Summary'!$C$36,I75<='A - Contractor Summary'!$C$42),\"Yes\",\"No\")","v":"No"},{"$f":"VLOOKUP($C75,'C.1 - Rate Sheets'!H:I,2,FALSE)","v":18},null,null,31.25,null,null,31.25,562.5,562.5,0,0,0]
[null,59,"Aerial Lift 60'- 2WD",3000759,"Vendor No. 6",null,913243110,"2018-10-21","2018-10-27",{"$f":"IF(AND(H76>='A - Contractor Summary'!$C$36,I76<='A - Contractor Summary'!$C$42),\"Yes\",\"No\")","v":"No"},{"$f":"VLOOKUP($C76,'C.1 - Rate Sheets'!H:I,2,FALSE)","v":18},null,null,31.25,null,null,31.25,562.5,562.5,0,0,0]
[null,60,"Aerial Lift 60'- 2WD",3002826,"Vendor No. 6",null,913243111,"2018-10-21","2018-10-27",{"$f":"IF(AND(H77>='A - Contractor Summary'!$C$36,I77<='A - Contractor Summary'!$C$42),\"Yes\",\"No\")","v":"No"},{"$f":"VLOOKUP($C77,'C.1 - Rate Sheets'!H:I,2,FALSE)","v":18},null,null,31.25,null,null,31.25,562.5,562.5,0,0,0]
[null,61,"Aerial Lift 60'- 2WD",3300091,"Vendor No. 6",null,913243112,"2018-10-21","2018-10-27",{"$f":"IF(AND(H78>='A - Contractor Summary'!$C$36,I78<='A - Contractor Summary'!$C$42),\"Yes\",\"No\")","v":"No"},{"$f":"VLOOKUP($C78,'C.1 - Rate Sheets'!H:I,2,FALSE)","v":18},null,null,31.25,null,null,31.25,562.5,562.5,0,0,0]
[null,62,"Aerial Lift < 60'",3200799,"Vendor No. 6",null,913243113,"2018-10-21","2018-10-27",{"$f":"IF(AND(H79>='A - Contractor Summary'!$C$36,I79<='A - Contractor Summary'!$C$42),\"Yes\",\"No\")","v":"No"},{"$f":"VLOOKUP($C79,'C.1 - Rate Sheets'!H:I,2,FALSE)","v":28},null,null,31.25,null,null,31.25,875,875,0,0,0]
[null,63,"Aerial Lift 60'- 2WD",3002784,"Vendor No. 6",null,913243114,"2018-10-21","2018-10-27",{"$f":"IF(AND(H80>='A - Contractor Summary'!$C$36,I80<='A - Contractor Summary'!$C$42),\"Yes\",\"No\")","v":"No"},{"$f":"VLOOKUP($C80,'C.1 - Rate Sheets'!H:I,2,FALSE)","v":18},null,null,31.25,null,null,31.25,562.5,562.5,0,0,0]
[null,64,"4X4 Pick Up",2900271,"Vendor No. 6",null,913243115,"2018-10-21","2018-10-27",{"$f":"IF(AND(H81>='A - Contractor Summary'!$C$36,I81<='A - Contractor Summary'!$C$42),\"Yes\",\"No\")","v":"No"},{"$f":"VLOOKUP($C81,'C.1 - Rate Sheets'!H:I,2,FALSE)","v":10},null,null,31.25,null,null,31.25,312.5,312.5,0,0,0]
[null,65,"Aerial Lift 60'- 2WD",null,"Vendor No. 6",null,913259277,"2018-10-21","2018-10-27",{"$f":"IF(AND(H82>='A - Contractor Summary'!$C$36,I82<='A - Contractor Summary'!$C$42),\"Yes\",\"No\")","v":"No"},{"$f":"VLOOKUP($C82,'C.1 - Rate Sheets'!H:I,2,FALSE)","v":18},null,null,112,null,null,112,2016,2016,0,0,0]
[null,66,"4X4 Pick Up",2900382,"Vendor No. 6",null,913259282,"2018-10-21","2018-10-27",{"$f":"IF(AND(H83>='A - Contractor Summary'!$C$36,I83<='A - Contractor Summary'!$C$42),\"Yes\",\"No\")","v":"No"},{"$f":"VLOOKUP($C83,'C.1 - Rate Sheets'!H:I,2,FALSE)","v":10},null,null,176,null,null,{"$f":"SUM(L83:P83)","v":176},1760,1760,0,0,0]
[null,67,"4X4 Pick Up",2900540,"Vendor No. 6",null,913259291,"2018-10-21","2018-10-27",{"$f":"IF(AND(H84>='A - Contractor Summary'!$C$36,I84<='A - Contractor Summary'!$C$42),\"Yes\",\"No\")","v":"No"},{"$f":"VLOOKUP($C84,'C.1 - Rate Sheets'!H:I,2,FALSE)","v":10},null,null,112,null,null,112,{"$f":"Q84*K84","v":1120},{"$f":"R84-T84","v":1120},0,0,0]
[null,68,"Aerial Lift 60'- 2WD",null,"Vendor No. 6",null,913259293,"2018-10-21","2018-10-27",{"$f":"IF(AND(H85>='A - Contractor Summary'!$C$36,I85<='A - Contractor Summary'!$C$42),\"Yes\",\"No\")","v":"No"},{"$f":"VLOOKUP($C85,'C.1 - Rate Sheets'!H:I,2,FALSE)","v":18},null,null,112,null,null,112,2016,2016,0,0,0]
[null,69,"Aerial Lift 60'- 2WD",3002797,"Vendor No. 6",null,913259355,"2018-10-21","2018-10-27",{"$f":"IF(AND(H86>='A - Contractor Summary'!$C$36,I86<='A - Contractor Summary'!$C$42),\"Yes\",\"No\")","v":"No"},{"$f":"VLOOKUP($C86,'C.1 - Rate Sheets'!H:I,2,FALSE)","v":18},null,null,112,null,null,112,{"$f":"Q86*K86","v":2016},{"$f":"R86-T86","v":2016},0,0,0]
[null,70,"Aerial Lift 60'- 4WD",3300138,"Vendor No. 6",null,913259355,"2018-10-21","2018-10-27",{"$f":"IF(AND(H87>='A - Contractor Summary'!$C$36,I87<='A - Contractor Summary'!$C$42),\"Yes\",\"No\")","v":"No"},{"$f":"VLOOKUP($C87,'C.1 - Rate Sheets'!H:I,2,FALSE)","v":23.25},null,null,112,null,null,112,2604,2604,0,0,0]
[null,71,"Aerial Lift < 60'",3300132,"Vendor No. 6",null,913259355,"2018-10-21","2018-10-27",{"$f":"IF(AND(H88>='A - Contractor Summary'!$C$36,I88<='A - Contractor Summary'!$C$42),\"Yes\",\"No\")","v":"No"},{"$f":"VLOOKUP($C88,'C.1 - Rate Sheets'!H:I,2,FALSE)","v":28},null,null,112,null,null,112,3136,3136,0,0,0]
[null,72,"4X4 Pick Up",null,"Vendor No. 6",null,913259357,"2018-10-21","2018-10-27",{"$f":"IF(AND(H89>='A - Contractor Summary'!$C$36,I89<='A - Contractor Summary'!$C$42),\"Yes\",\"No\")","v":"No"},{"$f":"VLOOKUP($C89,'C.1 - Rate Sheets'!H:I,2,FALSE)","v":10},null,null,112,null,null,112,1120,1120,0,0,0]
[null,73,"Aerial Lift 60'- 4WD",null,"Vendor No. 6",null,913262294,"2018-10-21","2018-10-27",{"$f":"IF(AND(H90>='A - Contractor Summary'!$C$36,I90<='A - Contractor Summary'!$C$42),\"Yes\",\"No\")","v":"No"},{"$f":"VLOOKUP($C90,'C.1 - Rate Sheets'!H:I,2,FALSE)","v":23.25},null,null,31.25,null,null,31.25,726.5625,726.5625,0,0,0]
[null,74,"Aerial Lift 60'- 2WD",3002396,"Vendor No. 6",null,913262502,"2018-10-21","2018-10-27",{"$f":"IF(AND(H91>='A - Contractor Summary'!$C$36,I91<='A - Contractor Summary'!$C$42),\"Yes\",\"No\")","v":"No"},{"$f":"VLOOKUP($C91,'C.1 - Rate Sheets'!H:I,2,FALSE)","v":18},null,null,31.25,null,null,31.25,562.5,562.5,0,0,0]
[null,75,"Aerial Lift 60'- 2WD",3002225,"Vendor No. 6",null,913262582,"2018-10-21","2018-10-27",{"$f":"IF(AND(H92>='A - Contractor Summary'!$C$36,I92<='A - Contractor Summary'!$C$42),\"Yes\",\"No\")","v":"No"},{"$f":"VLOOKUP($C92,'C.1 - Rate Sheets'!H:I,2,FALSE)","v":18},null,null,31.25,null,null,31.25,562.5,562.5,0,0,0]
[null,76,"Manual Crew Truck",5801062,"Vendor No. 6",null,913281758,"2018-10-21","2018-10-27",{"$f":"IF(AND(H93>='A - Contractor Summary'!$C$36,I93<='A - Contractor Summary'!$C$42),\"Yes\",\"No\")","v":"No"},{"$f":"VLOOKUP($C93,'C.1 - Rate Sheets'!H:I,2,FALSE)","v":14},null,null,85,null,null,85,1190,1190,0,0,0]
[null,77,"4X4 Pick Up",2900296,"Vendor No. 6",null,913281758,"2018-10-21","2018-10-27",{"$f":"IF(AND(H94>='A - Contractor Summary'!$C$36,I94<='A - Contractor Summary'!$C$42),\"Yes\",\"No\")","v":"No"},{"$f":"VLOOKUP($C94,'C.1 - Rate Sheets'!H:I,2,FALSE)","v":10},null,null,80,null,null,80,800,800,0,0,0]
[null,78,"Aerial Lift < 60'",3002782,"Vendor No. 6",null,913281761,"2018-10-21","2018-10-27",{"$f":"IF(AND(H95>='A - Contractor Summary'!$C$36,I95<='A - Contractor Summary'!$C$42),\"Yes\",\"No\")","v":"No"},{"$f":"VLOOKUP($C95,'C.1 - Rate Sheets'!H:I,2,FALSE)","v":28},null,null,85,null,null,85,2380,2380,0,0,0]
[null,79,"Aerial Lift < 60'",3001956,"Vendor No. 6",null,913281769,"2018-10-21","2018-10-27",{"$f":"IF(AND(H96>='A - Contractor Summary'!$C$36,I96<='A - Contractor Summary'!$C$42),\"Yes\",\"No\")","v":"No"},{"$f":"VLOOKUP($C96,'C.1 - Rate Sheets'!H:I,2,FALSE)","v":28},null,null,85,null,null,85,2380,2380,0,0,0]
[null,80,"4X4 Pick Up",2203051,"Vendor No. 6",null,913293317,"2018-10-21","2018-10-27",{"$f":"IF(AND(H97>='A - Contractor Summary'!$C$36,I97<='A - Contractor Summary'!$C$42),\"Yes\",\"No\")","v":"No"},{"$f":"VLOOKUP($C97,'C.1 - Rate Sheets'!H:I,2,FALSE)","v":10},null,null,47,null,null,47,470,470,0,0,0]
[null,81,"4X4 Pick Up",9618464,"Vendor No. 6",null,913293318,"2018-10-21","2018-10-27",{"$f":"IF(AND(H98>='A - Contractor Summary'!$C$36,I98<='A - Contractor Summary'!$C$42),\"Yes\",\"No\")","v":"No"},{"$f":"VLOOKUP($C98,'C.1 - Rate Sheets'!H:I,2,FALSE)","v":10},null,null,98,null,null,98,980,980,0,0,0]
[null,82,"4X4 Pick Up",9818409,"Vendor No. 6",null,913293319,"2018-10-21","2018-10-27",{"$f":"IF(AND(H99>='A - Contractor Summary'!$C$36,I99<='A - Contractor Summary'!$C$42),\"Yes\",\"No\")","v":"No"},{"$f":"VLOOKUP($C99,'C.1 - Rate Sheets'!H:I,2,FALSE)","v":10},null,null,35,null,null,35,350,350,0,0,0]
[null,83,"4X4 Pick Up",2202033,"Vendor No. 6",null,913293320,"2018-10-21","2018-10-27",{"$f":"IF(AND(H100>='A - Contractor Summary'!$C$36,I100<='A - Contractor Summary'!$C$42),\"Yes\",\"No\")","v":"No"},{"$f":"VLOOKUP($C100,'C.1 - Rate Sheets'!H:I,2,FALSE)","v":10},null,null,28,null,null,28,280,280,0,0,0]
[null,84,"4X4 Pick Up",9818468,"Vendor No. 6",null,913293321,"2018-10-21","2018-10-27",{"$f":"IF(AND(H101>='A - Contractor Summary'!$C$36,I101<='A - Contractor Summary'!$C$42),\"Yes\",\"No\")","v":"No"},{"$f":"VLOOKUP($C101,'C.1 - Rate Sheets'!H:I,2,FALSE)","v":10},null,null,42,null,null,42,420,420,0,0,0]
[null,85,"4X4 Pick Up",9818245,"Vendor No. 6",null,913293322,"2018-10-21","2018-10-27",{"$f":"IF(AND(H102>='A - Contractor Summary'!$C$36,I102<='A - Contractor Summary'!$C$42),\"Yes\",\"No\")","v":"No"},{"$f":"VLOOKUP($C102,'C.1 - Rate Sheets'!H:I,2,FALSE)","v":10},null,null,85,null,null,85,850,850,0,0,0]
[null,86,"Aerial Lift < 60'",3200876,"Vendor No. 6",null,913333188,"2018-10-21","2018-10-27",{"$f":"IF(AND(H103>='A - Contractor Summary'!$C$36,I103<='A - Contractor Summary'!$C$42),\"Yes\",\"No\")","v":"No"},{"$f":"VLOOKUP($C103,'C.1 - Rate Sheets'!H:I,2,FALSE)","v":28},null,null,97.25,null,null,97.25,2723,2723,0,0,0]
[null,87,"Manual Crew Truck",5801062,"Vendor No. 6",null,913333193,"2018-10-21","2018-10-27",{"$f":"IF(AND(H104>='A - Contractor Summary'!$C$36,I104<='A - Contractor Summary'!$C$42),\"Yes\",\"No\")","v":"No"},{"$f":"VLOOKUP($C104,'C.1 - Rate Sheets'!H:I,2,FALSE)","v":14},null,null,97.25,null,null,97.25,1361.5,1361.5,0,0,0]
[null,88,"4X4 Pick Up",2900286,"Vendor No. 6",null,913333193,"2018-10-21","2018-10-27",{"$f":"IF(AND(H105>='A - Contractor Summary'!$C$36,I105<='A - Contractor Summary'!$C$42),\"Yes\",\"No\")","v":"No"},{"$f":"VLOOKUP($C105,'C.1 - Rate Sheets'!H:I,2,FALSE)","v":10},null,null,92.25,null,null,92.25,922.5,922.5,0,0,0]
[null,89,"Aerial Lift 60'- 4WD",3200806,"Vendor No. 6",null,913346156,"2018-10-21","2018-10-27",{"$f":"IF(AND(H106>='A - Contractor Summary'!$C$36,I106<='A - Contractor Summary'!$C$42),\"Yes\",\"No\")","v":"No"},{"$f":"VLOOKUP($C106,'C.1 - Rate Sheets'!H:I,2,FALSE)","v":23.25},null,null,31.25,null,null,31.25,726.5625,726.5625,0,0,0]
[null,90,"Aerial Lift 60'- 4WD",3200892,"Vendor No. 6",null,913346172,"2018-10-21","2018-10-27",{"$f":"IF(AND(H107>='A - Contractor Summary'!$C$36,I107<='A - Contractor Summary'!$C$42),\"Yes\",\"No\")","v":"No"},{"$f":"VLOOKUP($C107,'C.1 - Rate Sheets'!H:I,2,FALSE)","v":23.25},null,null,31.25,null,null,31.25,726.5625,726.5625,0,0,0]
[null,91,"Aerial Lift 60'- 2WD",3100421,"Vendor No. 6",null,913346321,"2018-10-21","2018-10-27",{"$f":"IF(AND(H108>='A - Contractor Summary'!$C$36,I108<='A - Contractor Summary'!$C$42),\"Yes\",\"No\")","v":"No"},{"$f":"VLOOKUP($C108,'C.1 - Rate Sheets'!H:I,2,FALSE)","v":18},null,null,112,null,null,112,2016,2016,0,0,0]
[null,92,"Aerial Lift < 60'",3100403,"Vendor No. 6",null,913346321,"2018-10-21","2018-10-27",{"$f":"IF(AND(H109>='A - Contractor Summary'!$C$36,I109<='A - Contractor Summary'!$C$42),\"Yes\",\"No\")","v":"No"},{"$f":"VLOOKUP($C109,'C.1 - Rate Sheets'!H:I,2,FALSE)","v":28},null,null,96,null,null,96,2688,2688,0,0,0]
[null,93,"Aerial Lift 60'- 4WD",3200840,"Vendor No. 6",null,913232495,"2018-10-28","2018-11-03",{"$f":"IF(AND(H110>='A - Contractor Summary'!$C$36,I110<='A - Contractor Summary'!$C$42),\"Yes\",\"No\")","v":"No"},{"$f":"VLOOKUP($C110,'C.1 - Rate Sheets'!H:I,2,FALSE)","v":23.25},null,null,null,48,null,48,1116,1116,0,0,0]
[null,94,"Aerial Lift 60'- 2WD",3002227,"Vendor No. 6",null,913232497,"2018-10-28","2018-11-03",{"$f":"IF(AND(H111>='A - Contractor Summary'!$C$36,I111<='A - Contractor Summary'!$C$42),\"Yes\",\"No\")","v":"No"},{"$f":"VLOOKUP($C111,'C.1 - Rate Sheets'!H:I,2,FALSE)","v":18},null,null,null,48,null,48,864,864,0,0,0]
[null,95,"Aerial Lift 60'- 2WD",3001980,"Vendor No. 6",null,913232498,"2018-10-28","2018-11-03",{"$f":"IF(AND(H112>='A - Contractor Summary'!$C$36,I112<='A - Contractor Summary'!$C$42),\"Yes\",\"No\")","v":"No"},{"$f":"VLOOKUP($C112,'C.1 - Rate Sheets'!H:I,2,FALSE)","v":18},null,null,null,48,null,48,864,864,0,0,0]
[null,96,"Aerial Lift 60'- 2WD",3001832,"Vendor No. 6",null,913232500,"2018-10-28","2018-11-03",{"$f":"IF(AND(H113>='A - Contractor Summary'!$C$36,I113<='A - Contractor Summary'!$C$42),\"Yes\",\"No\")","v":"No"},{"$f":"VLOOKUP($C113,'C.1 - Rate Sheets'!H:I,2,FALSE)","v":18},null,null,null,48,null,48,864,864,0,0,0]
[null,97,"Manual Crew Truck",1501373,"Vendor No. 6",null,913241575,"2018-10-28","2018-11-03",{"$f":"IF(AND(H114>='A - Contractor Summary'!$C$36,I114<='A - Contractor Summary'!$C$42),\"Yes\",\"No\")","v":"No"},{"$f":"VLOOKUP($C114,'C.1 - Rate Sheets'!H:I,2,FALSE)","v":14},null,null,null,112,null,112,1568,1568,0,0,0]
[null,98,"Aerial Lift 60'- 2WD",null,"Vendor No. 6",null,913241576,"2018-10-28","2018-11-03",{"$f":"IF(AND(H115>='A - Contractor Summary'!$C$36,I115<='A - Contractor Summary'!$C$42),\"Yes\",\"No\")","v":"No"},{"$f":"VLOOKUP($C115,'C.1 - Rate Sheets'!H:I,2,FALSE)","v":18},null,null,null,112,null,112,2016,2016,0,0,0]
[null,99,"4X4 Pick Up",null,"Vendor No. 6",null,913241581,"2018-10-28","2018-11-03",{"$f":"IF(AND(H116>='A - Contractor Summary'!$C$36,I116<='A - Contractor Summary'!$C$42),\"Yes\",\"No\")","v":"No"},{"$f":"VLOOKUP($C116,'C.1 - Rate Sheets'!H:I,2,FALSE)","v":10},null,null,null,112,null,112,1120,1120,0,0,0]
[null,100,"Aerial Lift 60'- 2WD",null,"Vendor No. 6",null,913241583,"2018-10-28","2018-11-03",{"$f":"IF(AND(H117>='A - Contractor Summary'!$C$36,I117<='A - Contractor Summary'!$C$42),\"Yes\",\"No\")","v":"No"},{"$f":"VLOOKUP($C117,'C.1 - Rate Sheets'!H:I,2,FALSE)","v":18},null,null,null,112,null,112,2016,2016,0,0,0]
[null,101,"4X4 Pick Up",2900454,"Vendor No. 6",null,913243336,"2018-10-28","2018-11-03",{"$f":"IF(AND(H118>='A - Contractor Summary'!$C$36,I118<='A - Contractor Summary'!$C$42),\"Yes\",\"No\")","v":"No"},{"$f":"VLOOKUP($C118,'C.1 - Rate Sheets'!H:I,2,FALSE)","v":10},null,null,null,112,null,112,1120,1120,0,0,0]
[null,102,"Aerial Lift 60'- 2WD",3100448,"Vendor No. 6",null,913243336,"2018-10-28","2018-11-03",{"$f":"IF(AND(H119>='A - Contractor Summary'!$C$36,I119<='A - Contractor Summary'!$C$42),\"Yes\",\"No\")","v":"No"},{"$f":"VLOOKUP($C119,'C.1 - Rate Sheets'!H:I,2,FALSE)","v":18},null,null,null,112,null,112,2016,2016,0,0,0]
[null,103,"Aerial Lift 60'- 4WD",3200830,"Vendor No. 6",null,913243348,"2018-10-28","2018-11-03",{"$f":"IF(AND(H120>='A - Contractor Summary'!$C$36,I120<='A - Contractor Summary'!$C$42),\"Yes\",\"No\")","v":"No"},{"$f":"VLOOKUP($C120,'C.1 - Rate Sheets'!H:I,2,FALSE)","v":23.25},null,null,null,56,null,56,1302,1302,0,0,0]
[null,104,"Aerial Lift 60'- 4WD",3200878,"Vendor No. 6",null,913243350,"2018-10-28","2018-11-03",{"$f":"IF(AND(H121>='A - Contractor Summary'!$C$36,I121<='A - Contractor Summary'!$C$42),\"Yes\",\"No\")","v":"No"},{"$f":"VLOOKUP($C121,'C.1 - Rate Sheets'!H:I,2,FALSE)","v":23.25},null,null,null,56,null,56,1302,1302,0,0,0]
[null,105,"Aerial Lift 60'- 4WD",3001225,"Vendor No. 6",null,913243352,"2018-10-28","2018-11-03",{"$f":"IF(AND(H122>='A - Contractor Summary'!$C$36,I122<='A - Contractor Summary'!$C$42),\"Yes\",\"No\")","v":"No"},{"$f":"VLOOKUP($C122,'C.1 - Rate Sheets'!H:I,2,FALSE)","v":23.25},null,null,null,56,null,56,1302,1302,0,0,0]
[null,106,"4X4 Pick Up",2900253,"Vendor No. 6",null,913243353,"2018-10-28","2018-11-03",{"$f":"IF(AND(H123>='A - Contractor Summary'!$C$36,I123<='A - Contractor Summary'!$C$42),\"Yes\",\"No\")","v":"No"},{"$f":"VLOOKUP($C123,'C.1 - Rate Sheets'!H:I,2,FALSE)","v":10},null,null,null,56,null,56,560,560,0,0,0]
[null,107,"Aerial Lift 60'- 2WD",3002288,"Vendor No. 6",null,913243354,"2018-10-28","2018-11-03",{"$f":"IF(AND(H124>='A - Contractor Summary'!$C$36,I124<='A - Contractor Summary'!$C$42),\"Yes\",\"No\")","v":"No"},{"$f":"VLOOKUP($C124,'C.1 - Rate Sheets'!H:I,2,FALSE)","v":18},null,null,null,62,null,62,1116,1116,0,0,0]
[null,108,"Aerial Lift 60'- 2WD",2900418,"Vendor No. 6",null,913243356,"2018-10-28","2018-11-03",{"$f":"IF(AND(H125>='A - Contractor Summary'!$C$36,I125<='A - Contractor Summary'!$C$42),\"Yes\",\"No\")","v":"No"},{"$f":"VLOOKUP($C125,'C.1 - Rate Sheets'!H:I,2,FALSE)","v":18},null,null,null,62,null,62,1116,1116,0,0,0]
[null,109,"Aerial Lift 60'- 2WD",3002513,"Vendor No. 6",null,913243358,"2018-10-28","2018-11-03",{"$f":"IF(AND(H126>='A - Contractor Summary'!$C$36,I126<='A - Contractor Summary'!$C$42),\"Yes\",\"No\")","v":"No"},{"$f":"VLOOKUP($C126,'C.1 - Rate Sheets'!H:I,2,FALSE)","v":18},null,null,null,62,null,62,1116,1116,0,0,0]
[null,110,"Aerial Lift 60'- 2WD",3002093,"Vendor No. 6",null,913243359,"2018-10-28","2018-11-03",{"$f":"IF(AND(H127>='A - Contractor Summary'!$C$36,I127<='A - Contractor Summary'!$C$42),\"Yes\",\"No\")","v":"No"},{"$f":"VLOOKUP($C127,'C.1 - Rate Sheets'!H:I,2,FALSE)","v":18},null,null,null,62,null,62,1116,1116,0,0,0]
[null,111,"Aerial Lift 60'- 2WD",3002094,"Vendor No. 6",null,913243361,"2018-10-28","2018-11-03",{"$f":"IF(AND(H128>='A - Contractor Summary'!$C$36,I128<='A - Contractor Summary'!$C$42),\"Yes\",\"No\")","v":"No"},{"$f":"VLOOKUP($C128,'C.1 - Rate Sheets'!H:I,2,FALSE)","v":18},null,null,null,62,null,62,1116,1116,0,0,0]
[null,112,"Aerial Lift 60'- 2WD",null,"Vendor No. 6",null,913242904,"2018-10-28","2018-11-03",{"$f":"IF(AND(H129>='A - Contractor Summary'!$C$36,I129<='A - Contractor Summary'!$C$42),\"Yes\",\"No\")","v":"No"},{"$f":"VLOOKUP($C129,'C.1 - Rate Sheets'!H:I,2,FALSE)","v":18},null,null,null,112,null,112,2016,2016,0,0,0]
[null,113,"Aerial Lift 60'- 2WD",null,"Vendor No. 6",null,913242906,"2018-10-28","2018-11-03",{"$f":"IF(AND(H130>='A - Contractor Summary'!$C$36,I130<='A - Contractor Summary'!$C$42),\"Yes\",\"No\")","v":"No"},{"$f":"VLOOKUP($C130,'C.1 - Rate Sheets'!H:I,2,FALSE)","v":18},null,null,null,112,null,112,2016,2016,0,0,0]
[null,114,"Aerial Lift 60'- 2WD",null,"Vendor No. 6",null,913242907,"2018-10-28","2018-11-03",{"$f":"IF(AND(H131>='A - Contractor Summary'!$C$36,I131<='A - Contractor Summary'!$C$42),\"Yes\",\"No\")","v":"No"},{"$f":"VLOOKUP($C131,'C.1 - Rate Sheets'!H:I,2,FALSE)","v":18},null,null,null,112,null,112,2016,2016,0,0,0]
[null,115,"Aerial Lift 60'- 2WD",null,"Vendor No. 6",null,913242909,"2018-10-28","2018-11-03",{"$f":"IF(AND(H132>='A - Contractor Summary'!$C$36,I132<='A - Contractor Summary'!$C$42),\"Yes\",\"No\")","v":"No"},{"$f":"VLOOKUP($C132,'C.1 - Rate Sheets'!H:I,2,FALSE)","v":18},null,null,null,112,null,112,2016,2016,0,0,0]
[null,116,"Aerial Lift 60'- 2WD",null,"Vendor No. 6",null,913242910,"2018-10-28","2018-11-03",{"$f":"IF(AND(H133>='A - Contractor Summary'!$C$36,I133<='A - Contractor Summary'!$C$42),\"Yes\",\"No\")","v":"No"},{"$f":"VLOOKUP($C133,'C.1 - Rate Sheets'!H:I,2,FALSE)","v":18},null,null,null,112,null,112,2016,2016,0,0,0]
[null,117,"Aerial Lift < 60'",null,"Vendor No. 6",null,913242911,"2018-10-28","2018-11-03",{"$f":"IF(AND(H134>='A - Contractor Summary'!$C$36,I134<='A - Contractor Summary'!$C$42),\"Yes\",\"No\")","v":"No"},{"$f":"VLOOKUP($C134,'C.1 - Rate Sheets'!H:I,2,FALSE)","v":28},null,null,null,112,null,112,3136,3136,0,0,0]
[null,118,"4X4 Pick Up",null,"Vendor No. 6",null,913259268,"2018-10-28","2018-11-03",{"$f":"IF(AND(H135>='A - Contractor Summary'!$C$36,I135<='A - Contractor Summary'!$C$42),\"Yes\",\"No\")","v":"No"},{"$f":"VLOOKUP($C135,'C.1 - Rate Sheets'!H:I,2,FALSE)","v":10},null,null,null,112,null,112,1120,1120,0,0,0]
[null,119,"Aerial Lift 60'- 2WD",null,"Vendor No. 6",null,913259270,"2018-10-28","2018-11-03",{"$f":"IF(AND(H136>='A - Contractor Summary'!$C$36,I136<='A - Contractor Summary'!$C$42),\"Yes\",\"No\")","v":"No"},{"$f":"VLOOKUP($C136,'C.1 - Rate Sheets'!H:I,2,FALSE)","v":18},null,null,null,112,null,112,2016,2016,0,0,0]
[null,120,"Aerial Lift 60'- 4WD",null,"Vendor No. 6",null,913259274,"2018-10-28","2018-11-03",{"$f":"IF(AND(H137>='A - Contractor Summary'!$C$36,I137<='A - Contractor Summary'!$C$42),\"Yes\",\"No\")","v":"No"},{"$f":"VLOOKUP($C137,'C.1 - Rate Sheets'!H:I,2,FALSE)","v":23.25},null,null,null,112,null,112,2604,2604,0,0,0]
[null,121,"Aerial Lift 60'- 2WD",2002797,"Vendor No. 6",null,913259364,"2018-10-28","2018-11-03",{"$f":"IF(AND(H138>='A - Contractor Summary'!$C$36,I138<='A - Contractor Summary'!$C$42),\"Yes\",\"No\")","v":"No"},{"$f":"VLOOKUP($C138,'C.1 - Rate Sheets'!H:I,2,FALSE)","v":18},null,null,null,52,null,52,936,936,0,0,0]
[null,122,"Aerial Lift 60'- 4WD",3300188,"Vendor No. 6",null,913259364,"2018-10-28","2018-11-03",{"$f":"IF(AND(H139>='A - Contractor Summary'!$C$36,I139<='A - Contractor Summary'!$C$42),\"Yes\",\"No\")","v":"No"},{"$f":"VLOOKUP($C139,'C.1 - Rate Sheets'!H:I,2,FALSE)","v":23.25},null,null,null,52,null,52,1209,1209,0,0,0]
[null,123,"Aerial Lift < 60'",3300132,"Vendor No. 6",null,913259364,"2018-10-28","2018-11-03",{"$f":"IF(AND(H140>='A - Contractor Summary'!$C$36,I140<='A - Contractor Summary'!$C$42),\"Yes\",\"No\")","v":"No"},{"$f":"VLOOKUP($C140,'C.1 - Rate Sheets'!H:I,2,FALSE)","v":28},null,null,null,52,null,52,1456,1456,0,0,0]
[null,124,"Aerial Lift 60'- 2WD",3002807,"Vendor No. 6",null,913259367,"2018-10-28","2018-11-03",{"$f":"IF(AND(H141>='A - Contractor Summary'!$C$36,I141<='A - Contractor Summary'!$C$42),\"Yes\",\"No\")","v":"No"},{"$f":"VLOOKUP($C141,'C.1 - Rate Sheets'!H:I,2,FALSE)","v":18},null,null,null,104,null,104,1872,1872,0,0,0]
[null,125,"Aerial Lift < 60'",3002799,"Vendor No. 6",null,913259367,"2018-10-28","2018-11-03",{"$f":"IF(AND(H142>='A - Contractor Summary'!$C$36,I142<='A - Contractor Summary'!$C$42),\"Yes\",\"No\")","v":"No"},{"$f":"VLOOKUP($C142,'C.1 - Rate Sheets'!H:I,2,FALSE)","v":28},null,null,null,52,null,52,1456,1456,0,0,0]
[null,126,"4X4 Pick Up",2900429,"Vendor No. 6",null,913259368,"2018-10-28","2018-11-03",{"$f":"IF(AND(H143>='A - Contractor Summary'!$C$36,I143<='A - Contractor Summary'!$C$42),\"Yes\",\"No\")","v":"No"},{"$f":"VLOOKUP($C143,'C.1 - Rate Sheets'!H:I,2,FALSE)","v":10},null,null,null,52,null,52,520,520,0,0,0]
[null,127,"4X4 Pick Up",2203051,"Vendor No. 6",null,913293323,"2018-10-28","2018-11-03",{"$f":"IF(AND(H144>='A - Contractor Summary'!$C$36,I144<='A - Contractor Summary'!$C$42),\"Yes\",\"No\")","v":"No"},{"$f":"VLOOKUP($C144,'C.1 - Rate Sheets'!H:I,2,FALSE)","v":10},null,null,null,77,null,77,770,770,0,0,0]
[null,128,"4X4 Pick Up",2202033,"Vendor No. 6",null,913293325,"2018-10-28","2018-11-03",{"$f":"IF(AND(H145>='A - Contractor Summary'!$C$36,I145<='A - Contractor Summary'!$C$42),\"Yes\",\"No\")","v":"No"},{"$f":"VLOOKUP($C145,'C.1 - Rate Sheets'!H:I,2,FALSE)","v":10},null,null,null,28,null,28,280,280,0,0,0]
[null,129,"4X4 Pick Up",9818468,"Vendor No. 6",null,913301066,"2018-10-28","2018-11-03",{"$f":"IF(AND(H146>='A - Contractor Summary'!$C$36,I146<='A - Contractor Summary'!$C$42),\"Yes\",\"No\")","v":"No"},{"$f":"VLOOKUP($C146,'C.1 - Rate Sheets'!H:I,2,FALSE)","v":10},null,null,null,74,null,74,740,740,0,0,0]
[null,130,"4X4 Pick Up",9818245,"Vendor No. 6",null,913301068,"2018-10-28","2018-11-03",{"$f":"IF(AND(H147>='A - Contractor Summary'!$C$36,I147<='A - Contractor Summary'!$C$42),\"Yes\",\"No\")","v":"No"},{"$f":"VLOOKUP($C147,'C.1 - Rate Sheets'!H:I,2,FALSE)","v":10},null,null,null,28,null,28,280,280,0,0,0]
[null,131,"4X4 Pick Up",9818464,"Vendor No. 6",null,913301069,"2018-10-28","2018-11-03",{"$f":"IF(AND(H148>='A - Contractor Summary'!$C$36,I148<='A - Contractor Summary'!$C$42),\"Yes\",\"No\")","v":"No"},{"$f":"VLOOKUP($C148,'C.1 - Rate Sheets'!H:I,2,FALSE)","v":10},null,null,null,28,null,{"$f":"SUM(L148:P148)","v":28},280,280,0,0,0]
[null,132,"Aerial Lift 60'- 2WD",null,"Vendor No. 6",null,913332915,"2018-10-28","2018-11-03",{"$f":"IF(AND(H149>='A - Contractor Summary'!$C$36,I149<='A - Contractor Summary'!$C$42),\"Yes\",\"No\")","v":"No"},{"$f":"VLOOKUP($C149,'C.1 - Rate Sheets'!H:I,2,FALSE)","v":18},null,null,null,128,null,128,2304,2304,0,0,0]
[null,133,"Aerial Lift 60'- 4WD",null,"Vendor No. 6",null,913333177,"2018-10-28","2018-11-03",{"$f":"IF(AND(H150>='A - Contractor Summary'!$C$36,I150<='A - Contractor Summary'!$C$42),\"Yes\",\"No\")","v":"No"},{"$f":"VLOOKUP($C150,'C.1 - Rate Sheets'!H:I,2,FALSE)","v":23.25},null,null,null,128,null,128,2976,2976,0,0,0]
[null,134,"Aerial Lift 60'- 4WD",null,"Vendor No. 6",null,913333182,"2018-10-28","2018-11-03",{"$f":"IF(AND(H151>='A - Contractor Summary'!$C$36,I151<='A - Contractor Summary'!$C$42),\"Yes\",\"No\")","v":"No"},{"$f":"VLOOKUP($C151,'C.1 - Rate Sheets'!H:I,2,FALSE)","v":23.25},null,null,null,64,null,64,1488,1488,0,0,0]
[null,135,"Aerial Lift 60'- 4WD",null,"Vendor No. 6",null,913333184,"2018-10-28","2018-11-03",{"$f":"IF(AND(H152>='A - Contractor Summary'!$C$36,I152<='A - Contractor Summary'!$C$42),\"Yes\",\"No\")","v":"No"},{"$f":"VLOOKUP($C152,'C.1 - Rate Sheets'!H:I,2,FALSE)","v":23.25},null,null,null,128,null,128,2976,2976,0,0,0]
[null,136,"Aerial Lift 60'- 2WD",null,"Vendor No. 6",null,913333205,"2018-10-28","2018-11-03",{"$f":"IF(AND(H153>='A - Contractor Summary'!$C$36,I153<='A - Contractor Summary'!$C$42),\"Yes\",\"No\")","v":"No"},{"$f":"VLOOKUP($C153,'C.1 - Rate Sheets'!H:I,2,FALSE)","v":18},null,null,null,128,null,128,2304,2304,0,0,0]
[null,137,"Aerial Lift 60'- 4WD",null,"Vendor No. 6",null,913333211,"2018-10-28","2018-11-03",{"$f":"IF(AND(H154>='A - Contractor Summary'!$C$36,I154<='A - Contractor Summary'!$C$42),\"Yes\",\"No\")","v":"No"},{"$f":"VLOOKUP($C154,'C.1 - Rate Sheets'!H:I,2,FALSE)","v":23.25},null,null,null,192,null,192,4464,4464,0,0,0]
[null,138,"4X4 Pick Up",null,"Vendor No. 6",null,913242897,"2018-10-28","2018-11-03",{"$f":"IF(AND(H155>='A - Contractor Summary'!$C$36,I155<='A - Contractor Summary'!$C$42),\"Yes\",\"No\")","v":"No"},{"$f":"VLOOKUP($C155,'C.1 - Rate Sheets'!H:I,2,FALSE)","v":10},null,null,null,112,null,112,1120,1120,0,0,0]
[null,139,"Aerial Lift 60'- 2WD",null,"Vendor No. 6",null,913242903,"2018-10-28","2018-11-03",{"$f":"IF(AND(H156>='A - Contractor Summary'!$C$36,I156<='A - Contractor Summary'!$C$42),\"Yes\",\"No\")","v":"No"},{"$f":"VLOOKUP($C156,'C.1 - Rate Sheets'!H:I,2,FALSE)","v":18},null,null,null,112,null,112,2016,2016,0,0,0]
[null,140,"Aerial Lift 60'- 2WD",3000759,"Vendor No. 6",null,913243149,"2018-11-04","2018-11-10",{"$f":"IF(AND(H157>='A - Contractor Summary'!$C$36,I157<='A - Contractor Summary'!$C$42),\"Yes\",\"No\")","v":"No"},{"$f":"VLOOKUP($C157,'C.1 - Rate Sheets'!H:I,2,FALSE)","v":18},null,null,null,null,48,48,864,864,0,0,0]
[null,141,"Aerial Lift 60'- 2WD",3002784,"Vendor No. 6",null,913243150,"2018-11-04","2018-11-10",{"$f":"IF(AND(H158>='A - Contractor Summary'!$C$36,I158<='A - Contractor Summary'!$C$42),\"Yes\",\"No\")","v":"No"},{"$f":"VLOOKUP($C158,'C.1 - Rate Sheets'!H:I,2,FALSE)","v":18},null,null,null,null,48,48,864,864,0,0,0]
[null,142,"4X4 Pick Up",2900271,"Vendor No. 6",null,913243151,"2018-11-04","2018-11-10",{"$f":"IF(AND(H159>='A - Contractor Summary'!$C$36,I159<='A - Contractor Summary'!$C$42),\"Yes\",\"No\")","v":"No"},{"$f":"VLOOKUP($C159,'C.1 - Rate Sheets'!H:I,2,FALSE)","v":10},null,null,null,null,48,48,480,480,0,0,0]
[null,143,"Aerial Lift 60'- 2WD",null,"Vendor No. 6",null,913243152,"2018-11-04","2018-11-10",{"$f":"IF(AND(H160>='A - Contractor Summary'!$C$36,I160<='A - Contractor Summary'!$C$42),\"Yes\",\"No\")","v":"No"},{"$f":"VLOOKUP($C160,'C.1 - Rate Sheets'!H:I,2,FALSE)","v":18},null,null,null,null,48,48,864,864,0,0,0]
[null,144,"Aerial Lift 60'- 2WD",3002786,"Vendor No. 6",null,913243153,"2018-11-04","2018-11-10",{"$f":"IF(AND(H161>='A - Contractor Summary'!$C$36,I161<='A - Contractor Summary'!$C$42),\"Yes\",\"No\")","v":"No"},{"$f":"VLOOKUP($C161,'C.1 - Rate Sheets'!H:I,2,FALSE)","v":18},null,null,null,null,48,48,864,864,0,0,0]
[null,145,"Aerial Lift 60'- 2WD",3300091,"Vendor No. 6",null,913243156,"2018-11-04","2018-11-10",{"$f":"IF(AND(H162>='A - Contractor Summary'!$C$36,I162<='A - Contractor Summary'!$C$42),\"Yes\",\"No\")","v":"No"},{"$f":"VLOOKUP($C162,'C.1 - Rate Sheets'!H:I,2,FALSE)","v":18},null,null,null,null,48,48,864,864,0,0,0]
[null,146,"Aerial Lift < 60'",3200798,"Vendor No. 6",null,913243158,"2018-11-04","2018-11-10",{"$f":"IF(AND(H163>='A - Contractor Summary'!$C$36,I163<='A - Contractor Summary'!$C$42),\"Yes\",\"No\")","v":"No"},{"$f":"VLOOKUP($C163,'C.1 - Rate Sheets'!H:I,2,FALSE)","v":28},null,null,null,null,48,48,1344,1344,0,0,0]
[null,147,"Aerial Lift 60'- 2WD",3001037,"Vendor No. 6",null,913243160,"2018-11-04","2018-11-10",{"$f":"IF(AND(H164>='A - Contractor Summary'!$C$36,I164<='A - Contractor Summary'!$C$42),\"Yes\",\"No\")","v":"No"},{"$f":"VLOOKUP($C164,'C.1 - Rate Sheets'!H:I,2,FALSE)","v":18},null,null,null,null,48,48,864,864,0,0,0]
[null,148,"Aerial Lift 60'- 2WD",3002420,"Vendor No. 6",null,913243328,"2018-11-04","2018-11-10",{"$f":"IF(AND(H165>='A - Contractor Summary'!$C$36,I165<='A - Contractor Summary'!$C$42),\"Yes\",\"No\")","v":"No"},{"$f":"VLOOKUP($C165,'C.1 - Rate Sheets'!H:I,2,FALSE)","v":18},null,null,null,null,12,12,216,216,0,0,0]
[null,149,"Aerial Lift < 60'","-------","Vendor No. 6",null,913243330,"2018-11-04","2018-11-10",{"$f":"IF(AND(H166>='A - Contractor Summary'!$C$36,I166<='A - Contractor Summary'!$C$42),\"Yes\",\"No\")","v":"No"},{"$f":"VLOOKUP($C166,'C.1 - Rate Sheets'!H:I,2,FALSE)","v":28},null,null,null,null,12,12,336,336,0,0,0]
[null,150,"4X4 Pick Up","-------","Vendor No. 6",null,913243332,"2018-11-04","2018-11-10",{"$f":"IF(AND(H167>='A - Contractor Summary'!$C$36,I167<='A - Contractor Summary'!$C$42),\"Yes\",\"No\")","v":"No"},{"$f":"VLOOKUP($C167,'C.1 - Rate Sheets'!H:I,2,FALSE)","v":10},null,null,null,null,12,12,120,120,0,0,0]
[null,151,"4X4 Pick Up",2900454,"Vendor No. 6",null,913243334,"2018-11-04","2018-11-10",{"$f":"IF(AND(H168>='A - Contractor Summary'!$C$36,I168<='A - Contractor Summary'!$C$42),\"Yes\",\"No\")","v":"No"},{"$f":"VLOOKUP($C168,'C.1 - Rate Sheets'!H:I,2,FALSE)","v":10},null,null,null,null,48,48,480,480,0,0,0]
[null,152,"Aerial Lift 60'- 2WD",3100448,"Vendor No. 6",null,913243334,"2018-11-04","2018-11-10",{"$f":"IF(AND(H169>='A - Contractor Summary'!$C$36,I169<='A - Contractor Summary'!$C$42),\"Yes\",\"No\")","v":"No"},{"$f":"VLOOKUP($C169,'C.1 - Rate Sheets'!H:I,2,FALSE)","v":18},null,null,null,null,48,48,864,864,0,0,0]
[null,153,"Manual Crew Truck",15011373,"Vendor No. 6",null,913243339,"2018-11-04","2018-11-10",{"$f":"IF(AND(H170>='A - Contractor Summary'!$C$36,I170<='A - Contractor Summary'!$C$42),\"Yes\",\"No\")","v":"No"},{"$f":"VLOOKUP($C170,'C.1 - Rate Sheets'!H:I,2,FALSE)","v":14},null,null,null,null,10,10,140,140,0,0,0]
[null,154,"Aerial Lift 60'- 4WD","-------","Vendor No. 6",null,913259300,"2018-11-04","2018-11-10",{"$f":"IF(AND(H171>='A - Contractor Summary'!$C$36,I171<='A - Contractor Summary'!$C$42),\"Yes\",\"No\")","v":"No"},{"$f":"VLOOKUP($C171,'C.1 - Rate Sheets'!H:I,2,FALSE)","v":23.25},null,null,null,null,16,16,372,372,0,0,0]
[null,155,"Aerial Lift 60'- 4WD",3200891,"Vendor No. 6",null,913259306,"2018-11-04","2018-11-10",{"$f":"IF(AND(H172>='A - Contractor Summary'!$C$36,I172<='A - Contractor Summary'!$C$42),\"Yes\",\"No\")","v":"No"},{"$f":"VLOOKUP($C172,'C.1 - Rate Sheets'!H:I,2,FALSE)","v":23.25},null,null,null,null,16,16,372,372,0,0,0]
[null,156,"4X4 Pick Up",2900382,"Vendor No. 6",null,913280569,"2018-11-04","2018-11-10",{"$f":"IF(AND(H173>='A - Contractor Summary'!$C$36,I173<='A - Contractor Summary'!$C$42),\"Yes\",\"No\")","v":"No"},{"$f":"VLOOKUP($C173,'C.1 - Rate Sheets'!H:I,2,FALSE)","v":10},null,null,null,null,16,16,160,160,0,0,0]
[null,157,"Aerial Lift 60'- 2WD","-------","Vendor No. 6",null,913280571,"2018-11-04","2018-11-10",{"$f":"IF(AND(H174>='A - Contractor Summary'!$C$36,I174<='A - Contractor Summary'!$C$42),\"Yes\",\"No\")","v":"No"},{"$f":"VLOOKUP($C174,'C.1 - Rate Sheets'!H:I,2,FALSE)","v":18},null,null,null,null,16,16,288,288,0,0,0]
[null,158,"Aerial Lift 60'- 2WD",3100421,"Vendor No. 6","Phillips",913346329,"2018-11-04","2018-11-10",{"$f":"IF(AND(H175>='A - Contractor Summary'!$C$36,I175<='A - Contractor Summary'!$C$42),\"Yes\",\"No\")","v":"No"},{"$f":"VLOOKUP($C175,'C.1 - Rate Sheets'!H:I,2,FALSE)","v":18},null,null,null,null,45,45,810,810,0,0,0]
[null,159,"Aerial Lift < 60'",3100403,"Vendor No. 6","Phillips",913346329,"2018-11-04","2018-11-10",{"$f":"IF(AND(H176>='A - Contractor Summary'!$C$36,I176<='A - Contractor Summary'!$C$42),\"Yes\",\"No\")","v":"No"},{"$f":"VLOOKUP($C176,'C.1 - Rate Sheets'!H:I,2,FALSE)","v":28},null,null,null,null,45,45,1260,1260,0,0,0]
[null,null,"Aerial Lift 60'- 2WD",3002417,"Vendor No. 6","Phillips",913176206,"2018-10-14","2018-10-20",{"$f":"IF(AND(H177>='A - Contractor Summary'!$C$36,I177<='A - Contractor Summary'!$C$42),\"Yes\",\"No\")","v":"No"},{"$f":"VLOOKUP($C177,'C.1 - Rate Sheets'!H:I,2,FALSE)","v":18},null,118,null,null,null,118,{"$f":"Q177*K177","v":2124},{"$f":"R177-T177","v":2124},0,0,0]
[null,null,"Aerial Lift 60'- 2WD","AL80 ","Vendor No. 6","Mullen",913194965,"2018-10-07","2018-10-20",{"$f":"IF(AND(H178>='A - Contractor Summary'!$C$36,I178<='A - Contractor Summary'!$C$42),\"Yes\",\"No\")","v":"No"},{"$f":"VLOOKUP($C178,'C.1 - Rate Sheets'!H:I,2,FALSE)","v":18},null,97,null,null,null,97,1746,1746,0,0,0]
[null,null,"Saws","Saws","Vendor No. 6","Mullen",913194965,"2018-10-07","2018-10-20",{"$f":"IF(AND(H179>='A - Contractor Summary'!$C$36,I179<='A - Contractor Summary'!$C$42),\"Yes\",\"No\")","v":"No"},{"$f":"VLOOKUP($C179,'C.1 - Rate Sheets'!H:I,2,FALSE)","v":0},null,97,null,null,null,97,0,0,0,0,0]
[null,null,"Aerial Lift 60'- 2WD","AL80 ","Vendor No. 6","Lopez",913194966,"2018-10-07","2018-10-20",{"$f":"IF(AND(H180>='A - Contractor Summary'!$C$36,I180<='A - Contractor Summary'!$C$42),\"Yes\",\"No\")","v":"No"},{"$f":"VLOOKUP($C180,'C.1 - Rate Sheets'!H:I,2,FALSE)","v":18},null,97,null,null,null,97,1746,1746,0,0,0]
[null,null,"Saws","Saws","Vendor No. 6","Lopez",913194966,"2018-10-07","2018-10-20",{"$f":"IF(AND(H181>='A - Contractor Summary'!$C$36,I181<='A - Contractor Summary'!$C$42),\"Yes\",\"No\")","v":"No"},{"$f":"VLOOKUP($C181,'C.1 - Rate Sheets'!H:I,2,FALSE)","v":0},null,97,null,null,null,97,0,0,0,0,0]
[null,null,"4X4 Pick Up",2202232,"Vendor No. 6","Tuten",913194968,"2018-10-14","2018-10-20",{"$f":"IF(AND(H182>='A - Contractor Summary'!$C$36,I182<='A - Contractor Summary'!$C$42),\"Yes\",\"No\")","v":"No"},{"$f":"VLOOKUP($C182,'C.1 - Rate Sheets'!H:I,2,FALSE)","v":10},null,81,null,null,null,81,810,810,0,0,0]
[null,null,"Aerial Lift 60'- 2WD",3100402,"Vendor No. 6","Woodward",913194969,"2018-10-14","2018-10-20",{"$f":"IF(AND(H183>='A - Contractor Summary'!$C$36,I183<='A - Contractor Summary'!$C$42),\"Yes\",\"No\")","v":"No"},{"$f":"VLOOKUP($C183,'C.1 - Rate Sheets'!H:I,2,FALSE)","v":18},null,112,null,null,null,112,2016,2016,0,0,0]
[null,null,"Saws","Saws","Vendor No. 6","Woodward",913194969,"2018-10-14","2018-10-20",{"$f":"IF(AND(H184>='A - Contractor Summary'!$C$36,I184<='A - Contractor Summary'!$C$42),\"Yes\",\"No\")","v":"No"},{"$f":"VLOOKUP($C184,'C.1 - Rate Sheets'!H:I,2,FALSE)","v":0},null,112,null,null,null,112,0,0,0,0,0]
[null,null,"Aerial Lift 60'- 2WD",3007424,"Vendor No. 6","Nutlnee",913194970,"2018-10-14","2018-10-20",{"$f":"IF(AND(H185>='A - Contractor Summary'!$C$36,I185<='A - Contractor Summary'!$C$42),\"Yes\",\"No\")","v":"No"},{"$f":"VLOOKUP($C185,'C.1 - Rate Sheets'!H:I,2,FALSE)","v":18},null,97,null,null,null,97,1746,1746,0,0,0]
[null,null,"Saws","Saws","Vendor No. 6","Nutlnee",913194970,"2018-10-14","2018-10-20",{"$f":"IF(AND(H186>='A - Contractor Summary'!$C$36,I186<='A - Contractor Summary'!$C$42),\"Yes\",\"No\")","v":"No"},{"$f":"VLOOKUP($C186,'C.1 - Rate Sheets'!H:I,2,FALSE)","v":0},null,97,null,null,null,97,0,0,0,0,0]
[null,null,"Aerial Lift 60'- 2WD",3100411,"Vendor No. 6","Mullen",913194971,"2018-10-21","2018-10-27",{"$f":"IF(AND(H187>='A - Contractor Summary'!$C$36,I187<='A - Contractor Summary'!$C$42),\"Yes\",\"No\")","v":"No"},{"$f":"VLOOKUP($C187,'C.1 - Rate Sheets'!H:I,2,FALSE)","v":18},null,null,112,null,null,112,2016,2016,0,0,0]
[null,null,"Saws","Saws","Vendor No. 6","Mullen",913194971,"2018-10-21","2018-10-27",{"$f":"IF(AND(H188>='A - Contractor Summary'!$C$36,I188<='A - Contractor Summary'!$C$42),\"Yes\",\"No\")","v":"No"},{"$f":"VLOOKUP($C188,'C.1 - Rate Sheets'!H:I,2,FALSE)","v":0},null,null,112,null,null,112,0,0,0,0,0]
[null,null,"Aerial Lift 60'- 2WD",3100439,"Vendor No. 6","Cantillo",913194972,"2018-10-21","2018-10-27",{"$f":"IF(AND(H189>='A - Contractor Summary'!$C$36,I189<='A - Contractor Summary'!$C$42),\"Yes\",\"No\")","v":"No"},{"$f":"VLOOKUP($C189,'C.1 - Rate Sheets'!H:I,2,FALSE)","v":18},null,null,112,null,null,112,2016,2016,0,0,0]
[null,null,"Saws","Saws","Vendor No. 6","Cantillo",913194972,"2018-10-21","2018-10-27",{"$f":"IF(AND(H190>='A - Contractor Summary'!$C$36,I190<='A - Contractor Summary'!$C$42),\"Yes\",\"No\")","v":"No"},{"$f":"VLOOKUP($C190,'C.1 - Rate Sheets'!H:I,2,FALSE)","v":0},null,null,112,null,null,112,0,0,0,0,0]
[null,null,"4X4 Pick Up",2202232,"Vendor No. 6","Tuten",913194973,"2018-10-21","2018-10-27",{"$f":"IF(AND(H191>='A - Contractor Summary'!$C$36,I191<='A - Contractor Summary'!$C$42),\"Yes\",\"No\")","v":"No"},{"$f":"VLOOKUP($C191,'C.1 - Rate Sheets'!H:I,2,FALSE)","v":10},null,null,112,null,null,112,1120,1120,0,0,0,1]
[null,null,"Aerial Lift 60'- 2WD",3002424,"Vendor No. 6","Martinee",913194975,"2018-10-21","2018-10-27",{"$f":"IF(AND(H192>='A - Contractor Summary'!$C$36,I192<='A - Contractor Summary'!$C$42),\"Yes\",\"No\")","v":"No"},{"$f":"VLOOKUP($C192,'C.1 - Rate Sheets'!H:I,2,FALSE)","v":18},null,null,112,null,null,112,2016,2016,0,0,0]
[null,null,"Saws","Saws","Vendor No. 6","Martinee",913194975,"2018-10-21","2018-10-27",{"$f":"IF(AND(H193>='A - Contractor Summary'!$C$36,I193<='A - Contractor Summary'!$C$42),\"Yes\",\"No\")","v":"No"},{"$f":"VLOOKUP($C193,'C.1 - Rate Sheets'!H:I,2,FALSE)","v":0},null,null,112,null,null,112,0,0,0,0,0]
[null,null,"4X4 Pick Up",1900015,"Vendor No. 6","Sandoval",913195018,"2018-10-14","2018-10-20",{"$f":"IF(AND(H194>='A - Contractor Summary'!$C$36,I194<='A - Contractor Summary'!$C$42),\"Yes\",\"No\")","v":"No"},{"$f":"VLOOKUP($C194,'C.1 - Rate Sheets'!H:I,2,FALSE)","v":10},null,118,null,null,null,118,1180,1180,0,0,0]
[null,null,"Aerial Lift 60'- 2WD",3001858,"Vendor No. 6","Keplet",913195020,"2018-10-14","2018-10-20",{"$f":"IF(AND(H195>='A - Contractor Summary'!$C$36,I195<='A - Contractor Summary'!$C$42),\"Yes\",\"No\")","v":"No"},{"$f":"VLOOKUP($C195,'C.1 - Rate Sheets'!H:I,2,FALSE)","v":18},null,112,null,null,null,112,2016,2016,0,0,0]
[null,null,"Saws",1,"Vendor No. 6","Keplet",913195020,"2018-10-14","2018-10-20",{"$f":"IF(AND(H196>='A - Contractor Summary'!$C$36,I196<='A - Contractor Summary'!$C$42),\"Yes\",\"No\")","v":"No"},{"$f":"VLOOKUP($C196,'C.1 - Rate Sheets'!H:I,2,FALSE)","v":0},null,336,null,null,null,336,0,0,0,0,0]
[null,null,"Aerial Lift 60'- 2WD",3001955,"Vendor No. 6","Kepler",913195022,"2018-10-21","2018-10-27",{"$f":"IF(AND(H197>='A - Contractor Summary'!$C$36,I197<='A - Contractor Summary'!$C$42),\"Yes\",\"No\")","v":"No"},{"$f":"VLOOKUP($C197,'C.1 - Rate Sheets'!H:I,2,FALSE)","v":18},null,null,16,null,null,16,288,288,0,0,0]
[null,null,"4X4 Pick Up",1900015,"Vendor No. 6","Sandoval",913195027,"2018-10-21","2018-10-27",{"$f":"IF(AND(H198>='A - Contractor Summary'!$C$36,I198<='A - Contractor Summary'!$C$42),\"Yes\",\"No\")","v":"No"},{"$f":"VLOOKUP($C198,'C.1 - Rate Sheets'!H:I,2,FALSE)","v":10},null,null,112,null,null,112,1120,1120,0,0,0]
[null,null,"Aerial Lift 60'- 2WD",3002417,"Vendor No. 6","Phillips",913221020,"2018-10-21","2018-10-27",{"$f":"IF(AND(H199>='A - Contractor Summary'!$C$36,I199<='A - Contractor Summary'!$C$42),\"Yes\",\"No\")","v":"No"},{"$f":"VLOOKUP($C199,'C.1 - Rate Sheets'!H:I,2,FALSE)","v":18},null,null,112,null,null,112,2016,2016,0,0,0]
[null,null,"Aerial Lift 60'- 2WD",3001980,"Vendor No. 6","Yasmani",9132223001,"2018-10-21","2018-10-27",{"$f":"IF(AND(H200>='A - Contractor Summary'!$C$36,I200<='A - Contractor Summary'!$C$42),\"Yes\",\"No\")","v":"No"},{"$f":"VLOOKUP($C200,'C.1 - Rate Sheets'!H:I,2,FALSE)","v":18},null,null,32,null,null,32,576,576,0,0,0]
[null,null,"Saws",3554,"Vendor No. 6","Yasmani",9132223001,"2018-10-21","2018-10-27",{"$f":"IF(AND(H201>='A - Contractor Summary'!$C$36,I201<='A - Contractor Summary'!$C$42),\"Yes\",\"No\")","v":"No"},{"$f":"VLOOKUP($C201,'C.1 - Rate Sheets'!H:I,2,FALSE)","v":0},null,null,32,null,null,32,0,0,0,0,0]
[null,null,"Saws",2663,"Vendor No. 6","Yasmani",9132223001,"2018-10-21","2018-10-27",{"$f":"IF(AND(H202>='A - Contractor Summary'!$C$36,I202<='A - Contractor Summary'!$C$42),\"Yes\",\"No\")","v":"No"},{"$f":"VLOOKUP($C202,'C.1 - Rate Sheets'!H:I,2,FALSE)","v":0},null,null,32,null,null,32,0,0,0,0,0]
[null,null,"Saws",3363,"Vendor No. 6","Yasmani",9132223001,"2018-10-21","2018-10-27",{"$f":"IF(AND(H203>='A - Contractor Summary'!$C$36,I203<='A - Contractor Summary'!$C$42),\"Yes\",\"No\")","v":"No"},{"$f":"VLOOKUP($C203,'C.1 - Rate Sheets'!H:I,2,FALSE)","v":0},null,null,32,null,null,32,0,0,0,0,0]
[null,null,"Blower",3497,"Vendor No. 6","Yasmani",9132223001,"2018-10-21","2018-10-27",{"$f":"IF(AND(H204>='A - Contractor Summary'!$C$36,I204<='A - Contractor Summary'!$C$42),\"Yes\",\"No\")","v":"No"},{"$f":"VLOOKUP($C204,'C.1 - Rate Sheets'!H:I,2,FALSE)","v":0},null,null,32,null,null,32,0,0,0,0,0]
[null,null,"Aerial Lift 60'- 2WD",3002227,"Vendor No. 6","Napoles",9132223003,"2018-10-21","2018-10-27",{"$f":"IF(AND(H205>='A - Contractor Summary'!$C$36,I205<='A - Contractor Summary'!$C$42),\"Yes\",\"No\")","v":"No"},{"$f":"VLOOKUP($C205,'C.1 - Rate Sheets'!H:I,2,FALSE)","v":18},null,null,32,null,null,32,576,576,0,0,0]
[null,null,"Saws",2623,"Vendor No. 6","Napoles",9132223003,"2018-10-21","2018-10-27",{"$f":"IF(AND(H206>='A - Contractor Summary'!$C$36,I206<='A - Contractor Summary'!$C$42),\"Yes\",\"No\")","v":"No"},{"$f":"VLOOKUP($C206,'C.1 - Rate Sheets'!H:I,2,FALSE)","v":0},null,null,32,null,null,32,0,0,0,0,0]
[null,null,"Saws",2601,"Vendor No. 6","Napoles",9132223003,"2018-10-21","2018-10-27",{"$f":"IF(AND(H207>='A - Contractor Summary'!$C$36,I207<='A - Contractor Summary'!$C$42),\"Yes\",\"No\")","v":"No"},{"$f":"VLOOKUP($C207,'C.1 - Rate Sheets'!H:I,2,FALSE)","v":0},null,null,32,null,null,32,0,0,0,0,0]
[null,null,"Saws",3618,"Vendor No. 6","Napoles",9132223003,"2018-10-21","2018-10-27",{"$f":"IF(AND(H208>='A - Contractor Summary'!$C$36,I208<='A - Contractor Summary'!$C$42),\"Yes\",\"No\")","v":"No"},{"$f":"VLOOKUP($C208,'C.1 - Rate Sheets'!H:I,2,FALSE)","v":0},null,null,32,null,null,32,0,0,0,0,0]
[null,null,"Blower",3617,"Vendor No. 6","Napoles",9132223003,"2018-10-21","2018-10-27",{"$f":"IF(AND(H209>='A - Contractor Summary'!$C$36,I209<='A - Contractor Summary'!$C$42),\"Yes\",\"No\")","v":"No"},{"$f":"VLOOKUP($C209,'C.1 - Rate Sheets'!H:I,2,FALSE)","v":0},null,null,32,null,null,32,0,0,0,0,0]
[null,null,"Aerial Lift 60'- 2WD",30019655,"Vendor No. 6","Kepler",913222888,"2018-10-28","2018-11-03",{"$f":"IF(AND(H210>='A - Contractor Summary'!$C$36,I210<='A - Contractor Summary'!$C$42),\"Yes\",\"No\")","v":"No"},{"$f":"VLOOKUP($C210,'C.1 - Rate Sheets'!H:I,2,FALSE)","v":18},null,null,null,64,null,64,1152,1152,0,0]
[null,null,"Aerial Lift 60'- 2WD",3002417,"Vendor No. 6","Phillips",913222891,"2018-10-28","2018-11-03",{"$f":"IF(AND(H211>='A - Contractor Summary'!$C$36,I211<='A - Contractor Summary'!$C$42),\"Yes\",\"No\")","v":"No"},{"$f":"VLOOKUP($C211,'C.1 - Rate Sheets'!H:I,2,FALSE)","v":18},null,null,null,48,null,{"$f":"SUM(L211:P211)","v":48},{"$f":"Q211*K211","v":864},{"$f":"R211-T211","v":864},0,0,288,2]
[null,null,"Aerial Lift 60'- 4WD",3200840,"Vendor No. 6","McNamee",913222996,"2018-10-21","2018-10-27",{"$f":"IF(AND(H212>='A - Contractor Summary'!$C$36,I212<='A - Contractor Summary'!$C$42),\"Yes\",\"No\")","v":"No"},{"$f":"VLOOKUP($C212,'C.1 - Rate Sheets'!H:I,2,FALSE)","v":23.25},null,null,32,null,null,32,744,744,0,0,0]
[null,null,"Saws",3233,"Vendor No. 6","McNamee",913222996,"2018-10-21","2018-10-27",{"$f":"IF(AND(H213>='A - Contractor Summary'!$C$36,I213<='A - Contractor Summary'!$C$42),\"Yes\",\"No\")","v":"No"},{"$f":"VLOOKUP($C213,'C.1 - Rate Sheets'!H:I,2,FALSE)","v":0},null,null,32,null,null,32,0,0,0,0,0]
[null,null,"Saws",3011,"Vendor No. 6","McNamee",913222996,"2018-10-21","2018-10-27",{"$f":"IF(AND(H214>='A - Contractor Summary'!$C$36,I214<='A - Contractor Summary'!$C$42),\"Yes\",\"No\")","v":"No"},{"$f":"VLOOKUP($C214,'C.1 - Rate Sheets'!H:I,2,FALSE)","v":0},null,null,32,null,null,32,0,0,0,0,0]
[null,null,"Saws",2920,"Vendor No. 6","McNamee",913222996,"2018-10-21","2018-10-27",{"$f":"IF(AND(H215>='A - Contractor Summary'!$C$36,I215<='A - Contractor Summary'!$C$42),\"Yes\",\"No\")","v":"No"},{"$f":"VLOOKUP($C215,'C.1 - Rate Sheets'!H:I,2,FALSE)","v":0},null,null,32,null,null,32,0,0,0,0,0]
[null,null,"blower",3641,"Vendor No. 6","McNamee",913222996,"2018-10-21","2018-10-27",{"$f":"IF(AND(H216>='A - Contractor Summary'!$C$36,I216<='A - Contractor Summary'!$C$42),\"Yes\",\"No\")","v":"No"},{"$f":"VLOOKUP($C216,'C.1 - Rate Sheets'!H:I,2,FALSE)","v":0},null,null,32,null,null,32,0,0,0,0,0]
[null,null,"Aerial Lift 60'- 2WD",3001832,"Vendor No. 6","Rodriguez",913222998,"2018-10-21","2018-10-27",{"$f":"IF(AND(H217>='A - Contractor Summary'!$C$36,I217<='A - Contractor Summary'!$C$42),\"Yes\",\"No\")","v":"No"},{"$f":"VLOOKUP($C217,'C.1 - Rate Sheets'!H:I,2,FALSE)","v":18},null,null,32,null,null,32,576,576,0,0,0]
[null,null,"Saws",3235,"Vendor No. 6","Rodriguez",913222998,"2018-10-21","2018-10-27",{"$f":"IF(AND(H218>='A - Contractor Summary'!$C$36,I218<='A - Contractor Summary'!$C$42),\"Yes\",\"No\")","v":"No"},{"$f":"VLOOKUP($C218,'C.1 - Rate Sheets'!H:I,2,FALSE)","v":0},null,null,32,null,null,32,0,0,0,0,0]
[null,null,"Saws",3011,"Vendor No. 6","Rodriguez",913222998,"2018-10-21","2018-10-27",{"$f":"IF(AND(H219>='A - Contractor Summary'!$C$36,I219<='A - Contractor Summary'!$C$42),\"Yes\",\"No\")","v":"No"},{"$f":"VLOOKUP($C219,'C.1 - Rate Sheets'!H:I,2,FALSE)","v":0},null,null,32,null,null,32,0,0,0,0,0]
[null,null,"Saws",2991,"Vendor No. 6","Rodriguez",913222998,"2018-10-21","2018-10-27",{"$f":"IF(AND(H220>='A - Contractor Summary'!$C$36,I220<='A - Contractor Summary'!$C$42),\"Yes\",\"No\")","v":"No"},{"$f":"VLOOKUP($C220,'C.1 - Rate Sheets'!H:I,2,FALSE)","v":0},null,null,32,null,null,32,0,0,0,0,0]
[null,null,"blower",3324,"Vendor No. 6","Rodriguez",913222998,"2018-10-21","2018-10-27",{"$f":"IF(AND(H221>='A - Contractor Summary'!$C$36,I221<='A - Contractor Summary'!$C$42),\"Yes\",\"No\")","v":"No"},{"$f":"VLOOKUP($C221,'C.1 - Rate Sheets'!H:I,2,FALSE)","v":0},null,null,32,null,null,32,0,0,0,0,0]
[null,null,"4X4 Pick Up",2900147,"Vendor No. 6","Rodriguez",913222999,"2018-10-21","2018-10-27",{"$f":"IF(AND(H222>='A - Contractor Summary'!$C$36,I222<='A - Contractor Summary'!$C$42),\"Yes\",\"No\")","v":"No"},{"$f":"VLOOKUP($C222,'C.1 - Rate Sheets'!H:I,2,FALSE)","v":10},null,null,32,null,null,32,320,320,0,0,0]
[null,null,"Saws",2816,"Vendor No. 6","Rodriguez",913222999,"2018-10-21","2018-10-27",{"$f":"IF(AND(H223>='A - Contractor Summary'!$C$36,I223<='A - Contractor Summary'!$C$42),\"Yes\",\"No\")","v":"No"},{"$f":"VLOOKUP($C223,'C.1 - Rate Sheets'!H:I,2,FALSE)","v":0},null,null,32,null,null,32,0,0,0,0,0]
[null,null,"Computer",1,"Vendor No. 6","Rodriguez",913222999,"2018-10-21","2018-10-27",{"$f":"IF(AND(H224>='A - Contractor Summary'!$C$36,I224<='A - Contractor Summary'!$C$42),\"Yes\",\"No\")","v":"No"},{"$f":"VLOOKUP($C224,'C.1 - Rate Sheets'!H:I,2,FALSE)","v":0},null,null,32,null,null,32,0,0,0,0,0]
[null,null,"4X4 Pick Up",1900015,"Vendor No. 6","Sandoval",913225341,"2018-10-28","2018-11-03",{"$f":"IF(AND(H225>='A - Contractor Summary'!$C$36,I225<='A - Contractor Summary'!$C$42),\"Yes\",\"No\")","v":"No"},{"$f":"VLOOKUP($C225,'C.1 - Rate Sheets'!H:I,2,FALSE)","v":10},null,null,null,64,null,64,640,640,0,0,0]
[null,null,"4X4 Pick Up",2900147,"Vendor No. 6","Rodriguez",913243903,"2018-10-28","2018-11-03",{"$f":"IF(AND(H226>='A - Contractor Summary'!$C$36,I226<='A - Contractor Summary'!$C$42),\"Yes\",\"No\")","v":"No"},{"$f":"VLOOKUP($C226,'C.1 - Rate Sheets'!H:I,2,FALSE)","v":10},null,null,null,null,48,48,480,480,0,0,70,3]
[null,null,"Saws",2816,"Vendor No. 6","Rodriguez",913243903,"2018-10-28","2018-11-03",{"$f":"IF(AND(H227>='A - Contractor Summary'!$C$36,I227<='A - Contractor Summary'!$C$42),\"Yes\",\"No\")","v":"No"},{"$f":"VLOOKUP($C227,'C.1 - Rate Sheets'!H:I,2,FALSE)","v":0},null,null,null,null,55,55,0,0,0,0,0]
[null,null,"computer",1,"Vendor No. 6","Rodriguez",913243903,"2018-10-28","2018-11-03",{"$f":"IF(AND(H228>='A - Contractor Summary'!$C$36,I228<='A - Contractor Summary'!$C$42),\"Yes\",\"No\")","v":"No"},{"$f":"VLOOKUP($C228,'C.1 - Rate Sheets'!H:I,2,FALSE)","v":0},null,null,null,null,55,55,0,0,0,0,0]
[null,null,"Aerial Lift 60'- 2WD",3002369,"Vendor No. 6","Pitts",913259175,"2018-10-21","2018-10-27",{"$f":"IF(AND(H229>='A - Contractor Summary'!$C$36,I229<='A - Contractor Summary'!$C$42),\"Yes\",\"No\")","v":"No"},{"$f":"VLOOKUP($C229,'C.1 - Rate Sheets'!H:I,2,FALSE)","v":18},null,null,112,null,null,112,2016,2016,0,0,0]
[null,null,"Saws",2,"Vendor No. 6","Pitts",913259175,"2018-10-21","2018-10-27",{"$f":"IF(AND(H230>='A - Contractor Summary'!$C$36,I230<='A - Contractor Summary'!$C$42),\"Yes\",\"No\")","v":"No"},{"$f":"VLOOKUP($C230,'C.1 - Rate Sheets'!H:I,2,FALSE)","v":0},null,null,224,null,null,224,0,0,0,0,0]
[null,null,"Aerial Lift < 60'",3002369,"Vendor No. 6","Pitts",913259179,"2018-10-14","2018-10-20",{"$f":"IF(AND(H231>='A - Contractor Summary'!$C$36,I231<='A - Contractor Summary'!$C$42),\"Yes\",\"No\")","v":"No"},{"$f":"VLOOKUP($C231,'C.1 - Rate Sheets'!H:I,2,FALSE)","v":28},null,97,null,null,null,97,2716,2716,0,0,0]
[null,null,"Saws",2,"Vendor No. 6","Pitts",913259179,"2018-10-14","2018-10-20",{"$f":"IF(AND(H232>='A - Contractor Summary'!$C$36,I232<='A - Contractor Summary'!$C$42),\"Yes\",\"No\")","v":"No"},{"$f":"VLOOKUP($C232,'C.1 - Rate Sheets'!H:I,2,FALSE)","v":0},null,97,null,null,null,97,0,0,0,0,0]
[null,null,"Aerial Lift 60'- 2WD",3002369,"Vendor No. 6","Pitts",913259181,"2018-10-28","2018-11-03",{"$f":"IF(AND(H233>='A - Contractor Summary'!$C$36,I233<='A - Contractor Summary'!$C$42),\"Yes\",\"No\")","v":"No"},{"$f":"VLOOKUP($C233,'C.1 - Rate Sheets'!H:I,2,FALSE)","v":18},null,null,null,48,null,48,864,864,0,0,144,4]
[null,null,"Saws",2,"Vendor No. 6","Pitts",913259181,"2018-10-28","2018-11-03",{"$f":"IF(AND(H234>='A - Contractor Summary'!$C$36,I234<='A - Contractor Summary'!$C$42),\"Yes\",\"No\")","v":"No"},{"$f":"VLOOKUP($C234,'C.1 - Rate Sheets'!H:I,2,FALSE)","v":0},null,null,null,48,null,48,0,0,0,0,0]
[null,null,"4X4 Pick Up","cant read","Vendor No. 6","Long",913259235,"2018-10-14","2018-10-20",{"$f":"IF(AND(H235>='A - Contractor Summary'!$C$36,I235<='A - Contractor Summary'!$C$42),\"Yes\",\"No\")","v":"No"},{"$f":"VLOOKUP($C235,'C.1 - Rate Sheets'!H:I,2,FALSE)","v":10},null,48,null,null,null,48,480,480,0,0,0]
[null,null,"Manual Crew Truck","cant read","Vendor No. 6","cant read",913259255,"2018-10-14","2018-10-20",{"$f":"IF(AND(H236>='A - Contractor Summary'!$C$36,I236<='A - Contractor Summary'!$C$42),\"Yes\",\"No\")","v":"No"},{"$f":"VLOOKUP($C236,'C.1 - Rate Sheets'!H:I,2,FALSE)","v":14},null,48,null,null,null,48,672,672,0,0,0]
[null,null,"4X4 Pick Up","cant read","Vendor No. 6","cant read",913259255,"2018-10-14","2018-10-20",{"$f":"IF(AND(H237>='A - Contractor Summary'!$C$36,I237<='A - Contractor Summary'!$C$42),\"Yes\",\"No\")","v":"No"},{"$f":"VLOOKUP($C237,'C.1 - Rate Sheets'!H:I,2,FALSE)","v":10},null,48,null,null,null,48,480,480,0,0,0]
[null,null,"4X4 Pick Up",2900386,"Vendor No. 6","Jackson",913259273,"2018-10-28","2018-11-03",{"$f":"IF(AND(H238>='A - Contractor Summary'!$C$36,I238<='A - Contractor Summary'!$C$42),\"Yes\",\"No\")","v":"No"},{"$f":"VLOOKUP($C238,'C.1 - Rate Sheets'!H:I,2,FALSE)","v":10},null,null,null,112,null,112,1120,1120,0,0,0]
[null,null,"none",null,"Vendor No. 6","Morejon-Cruz",913259361,"2018-10-14","2018-10-20",{"$f":"IF(AND(H239>='A - Contractor Summary'!$C$36,I239<='A - Contractor Summary'!$C$42),\"Yes\",\"No\")","v":"No"},{"$f":"VLOOKUP($C239,'C.1 - Rate Sheets'!H:I,2,FALSE)","v":0},null,null,null,null,null,0,0,0,0,0,0]
[null,null,"4X4 Pick Up",9818245,"Vendor No. 6","Gonzales",913301070,"2018-10-14","2018-10-20",{"$f":"IF(AND(H240>='A - Contractor Summary'!$C$36,I240<='A - Contractor Summary'!$C$42),\"Yes\",\"No\")","v":"No"},{"$f":"VLOOKUP($C240,'C.1 - Rate Sheets'!H:I,2,FALSE)","v":10},null,0,null,null,null,0,{"$f":"Q240*K240","v":0},{"$f":"R240-T240","v":0},0,0,0,5]
[null,null,"Aerial Lift 60'- 2WD",100411,"Vendor No. 6","Mullen",913317486,"2018-10-28","2018-11-03",{"$f":"IF(AND(H241>='A - Contractor Summary'!$C$36,I241<='A - Contractor Summary'!$C$42),\"Yes\",\"No\")","v":"No"},{"$f":"VLOOKUP($C241,'C.1 - Rate Sheets'!H:I,2,FALSE)","v":18},null,null,null,60,null,60,1080,1080,0,0,0]
[null,null,"Saws",null,"Vendor No. 6","Mullen",913317486,"2018-10-28","2018-11-03",{"$f":"IF(AND(H242>='A - Contractor Summary'!$C$36,I242<='A - Contractor Summary'!$C$42),\"Yes\",\"No\")","v":"No"},{"$f":"VLOOKUP($C242,'C.1 - Rate Sheets'!H:I,2,FALSE)","v":0},null,null,null,48,null,48,0,0,0,0,0]
[null,null,"4X4 Pick Up",2202232,"Vendor No. 6","Tuten",913317487,"2018-10-28","2018-11-03",{"$f":"IF(AND(H243>='A - Contractor Summary'!$C$36,I243<='A - Contractor Summary'!$C$42),\"Yes\",\"No\")","v":"No"},{"$f":"VLOOKUP($C243,'C.1 - Rate Sheets'!H:I,2,FALSE)","v":10},null,null,null,60,null,60,600,600,0,0,0]
[null,null,"Aerial Lift 60'- 2WD",3002424,"Vendor No. 6","Martinee",913317488,"2018-10-28","2018-11-03",{"$f":"IF(AND(H244>='A - Contractor Summary'!$C$36,I244<='A - Contractor Summary'!$C$42),\"Yes\",\"No\")","v":"No"},{"$f":"VLOOKUP($C244,'C.1 - Rate Sheets'!H:I,2,FALSE)","v":18},null,null,null,60,null,60,1080,1080,0,0,0]
[null,null,"Aerial Lift 60'- 2WD",3100439,"Vendor No. 6","Cantillo",913317489,"2018-10-28","2018-11-03",{"$f":"IF(AND(H245>='A - Contractor Summary'!$C$36,I245<='A - Contractor Summary'!$C$42),\"Yes\",\"No\")","v":"No"},{"$f":"VLOOKUP($C245,'C.1 - Rate Sheets'!H:I,2,FALSE)","v":18},null,null,null,60,null,60,1080,1080,0,0,0]
[null,null,"Saws",null,"Vendor No. 6","Cantillo",913317489,"2018-10-28","2018-11-03",{"$f":"IF(AND(H246>='A - Contractor Summary'!$C$36,I246<='A - Contractor Summary'!$C$42),\"Yes\",\"No\")","v":"No"},{"$f":"VLOOKUP($C246,'C.1 - Rate Sheets'!H:I,2,FALSE)","v":0},null,null,null,48,null,48,0,0,0,0,0]
[null,null,"Aerial Lift < 60'",3005968,"Vendor No. 6","Kepler",913333196,"2018-10-21","2018-10-27",{"$f":"IF(AND(H247>='A - Contractor Summary'!$C$36,I247<='A - Contractor Summary'!$C$42),\"Yes\",\"No\")","v":"No"},{"$f":"VLOOKUP($C247,'C.1 - Rate Sheets'!H:I,2,FALSE)","v":28},null,null,0,null,null,0,0,0,0,0,0,6]
[null,null,"Saws",null,"Vendor No. 6","Kepler",913333196,"2018-10-21","2018-10-27",{"$f":"IF(AND(H248>='A - Contractor Summary'!$C$36,I248<='A - Contractor Summary'!$C$42),\"Yes\",\"No\")","v":"No"},{"$f":"VLOOKUP($C248,'C.1 - Rate Sheets'!H:I,2,FALSE)","v":0},null,null,288,null,null,288,0,0,0,0,0,6]
[null,null,"Aerial Lift < 60'",3802782,"Vendor No. 6","Kaimeyer",913333201,"2018-10-21","2018-10-27",{"$f":"IF(AND(H249>='A - Contractor Summary'!$C$36,I249<='A - Contractor Summary'!$C$42),\"Yes\",\"No\")","v":"No"},{"$f":"VLOOKUP($C249,'C.1 - Rate Sheets'!H:I,2,FALSE)","v":28},null,null,0,null,null,0,0,0,0,0,0,7]
[null,null,"Saws",null,"Vendor No. 6","Kaimeyer",913333201,"2018-10-21","2018-10-27",{"$f":"IF(AND(H250>='A - Contractor Summary'!$C$36,I250<='A - Contractor Summary'!$C$42),\"Yes\",\"No\")","v":"No"},{"$f":"VLOOKUP($C250,'C.1 - Rate Sheets'!H:I,2,FALSE)","v":0},null,null,0,null,null,0,0,0,0,0,0,7]
[null,null,"Aerial Lift 60'- 2WD",300228,"Vendor No. 6","Dodson",913601157,"2018-10-14","2018-10-20",{"$f":"IF(AND(H251>='A - Contractor Summary'!$C$36,I251<='A - Contractor Summary'!$C$42),\"Yes\",\"No\")","v":"No"},{"$f":"VLOOKUP($C251,'C.1 - Rate Sheets'!H:I,2,FALSE)","v":18},null,64,null,null,null,64,1152,1152,0,0,0]
[null,null,"cell phone",null,"Vendor No. 6","Dodson",913601157,"2018-10-14","2018-10-20",{"$f":"IF(AND(H252>='A - Contractor Summary'!$C$36,I252<='A - Contractor Summary'!$C$42),\"Yes\",\"No\")","v":"No"},{"$f":"VLOOKUP($C252,'C.1 - Rate Sheets'!H:I,2,FALSE)","v":0},null,64,null,null,null,64,0,0,0,0,0]
[null,null,"Saws",null,"Vendor No. 6","Dodson",913601157,"2018-10-14","2018-10-20",{"$f":"IF(AND(H253>='A - Contractor Summary'!$C$36,I253<='A - Contractor Summary'!$C$42),\"Yes\",\"No\")","v":"No"},{"$f":"VLOOKUP($C253,'C.1 - Rate Sheets'!H:I,2,FALSE)","v":0},null,64,null,null,null,64,0,0,0,0,0]
[null,null,"Saws",null,"Vendor No. 6","Dodson",913601157,"2018-10-14","2018-10-20",{"$f":"IF(AND(H254>='A - Contractor Summary'!$C$36,I254<='A - Contractor Summary'!$C$42),\"Yes\",\"No\")","v":"No"},{"$f":"VLOOKUP($C254,'C.1 - Rate Sheets'!H:I,2,FALSE)","v":0},null,64,null,null,null,64,0,0,0,0,0]
[null,null,"Saws",null,"Vendor No. 6","Dodson",913601157,"2018-10-14","2018-10-20",{"$f":"IF(AND(H255>='A - Contractor Summary'!$C$36,I255<='A - Contractor Summary'!$C$42),\"Yes\",\"No\")","v":"No"},{"$f":"VLOOKUP($C255,'C.1 - Rate Sheets'!H:I,2,FALSE)","v":0},null,64,null,null,null,64,0,0,0,0,0]
[null,null,"Aerial Lift < 60'",3002807,"Vendor No. 6","Chirino",913601173,"2018-10-21","2018-10-27",{"$f":"IF(AND(H256>='A - Contractor Summary'!$C$36,I256<='A - Contractor Summary'!$C$42),\"Yes\",\"No\")","v":"No"},{"$f":"VLOOKUP($C256,'C.1 - Rate Sheets'!H:I,2,FALSE)","v":28},null,null,112,null,null,{"$f":"SUM(L256:P256)","v":112},3136,3136,0,0,0]
[null,null,"Aerial Lift 60'- 2WD",3002799,"Vendor No. 6","Chirino",913601173,"2018-10-21","2018-10-27",{"$f":"IF(AND(H257>='A - Contractor Summary'!$C$36,I257<='A - Contractor Summary'!$C$42),\"Yes\",\"No\")","v":"No"},{"$f":"VLOOKUP($C257,'C.1 - Rate Sheets'!H:I,2,FALSE)","v":18},null,null,112,null,null,112,2016,2016,0,0,0]
[null,null,"Aerial Lift 60'- 2WD",3100426,"Vendor No. 6","Chirino",913601173,"2018-10-21","2018-10-27",{"$f":"IF(AND(H258>='A - Contractor Summary'!$C$36,I258<='A - Contractor Summary'!$C$42),\"Yes\",\"No\")","v":"No"},{"$f":"VLOOKUP($C258,'C.1 - Rate Sheets'!H:I,2,FALSE)","v":18},null,null,112,null,null,112,2016,2016,0,0,0]
[null,null,"Aerial Lift < 60'",3002807,"Vendor No. 6","Chirino",913601176,"2018-10-14","2018-10-20",{"$f":"IF(AND(H259>='A - Contractor Summary'!$C$36,I259<='A - Contractor Summary'!$C$42),\"Yes\",\"No\")","v":"No"},{"$f":"VLOOKUP($C259,'C.1 - Rate Sheets'!H:I,2,FALSE)","v":28},null,94,null,null,null,94,2632,2632,0,0,0]
[null,null,"Aerial Lift 60'- 2WD",3002799,"Vendor No. 6","Chirino",913601176,"2018-10-14","2018-10-20",{"$f":"IF(AND(H260>='A - Contractor Summary'!$C$36,I260<='A - Contractor Summary'!$C$42),\"Yes\",\"No\")","v":"No"},{"$f":"VLOOKUP($C260,'C.1 - Rate Sheets'!H:I,2,FALSE)","v":18},null,94,null,null,null,94,1692,1692,0,0,0]
[null,null,"Aerial Lift 60'- 2WD",3100426,"Vendor No. 6","Chirino",913601176,"2018-10-14","2018-10-20",{"$f":"IF(AND(H261>='A - Contractor Summary'!$C$36,I261<='A - Contractor Summary'!$C$42),\"Yes\",\"No\")","v":"No"},{"$f":"VLOOKUP($C261,'C.1 - Rate Sheets'!H:I,2,FALSE)","v":18},null,94,null,null,null,94,1692,1692,0,0,0]
[null,null,"Aerial Lift < 60'",3200876,"Vendor No. 6","Garcia",913601185,"2018-10-07","2018-10-13",{"$f":"IF(AND(H262>='A - Contractor Summary'!$C$36,I262<='A - Contractor Summary'!$C$42),\"Yes\",\"No\")","v":"No"},{"$f":"VLOOKUP($C262,'C.1 - Rate Sheets'!H:I,2,FALSE)","v":28},28.25,null,null,null,null,28.25,791,791,0,0,0]
[null,null,"Saws",null,"Vendor No. 6","Garcia",913601185,"2018-10-07","2018-10-13",{"$f":"IF(AND(H263>='A - Contractor Summary'!$C$36,I263<='A - Contractor Summary'!$C$42),\"Yes\",\"No\")","v":"No"},{"$f":"VLOOKUP($C263,'C.1 - Rate Sheets'!H:I,2,FALSE)","v":0},96,null,null,null,null,96,0,0,0,0,0]
[null,null,null,null,null,null,null,null,null,null,null,{"$f":"SUM(L18:L263)","v":517},4525.5,6866.25,4792,838,17538.75,{"$f":"IFERROR(SUM(R18:R263),0)","v":253388.6875},{"$f":"IFERROR(SUM(S18:S263),0)","v":253388.6875},{"$f":"SUM(T18:T263)","v":0},{"$f":"SUM(U18:U263)","v":0},{"$f":"SUM(V18:V263)","v":502},{"$f":"T264-U264-V264","v":-502},"check (b)"]
[]
[null,null,null,null,null,null,null,null,null,null,null,null,null,null,null,null,null,{"$f":"SUBTOTAL(9,R18:R264)","v":506777.375}]
[null,null,null,null,null,null,null,null,null,null,null,null,null,null,null,null," "]
[null,"Tickmark Explanation:"]
[null,"1 913194973 invoice lower by 1 hour than timesheet",null,null,null,null,null,null,null,null,null,null,null,null,null,null,null,null,null,1008]
[null,"2 913222891 invoice has 48 hours, timesheet has 64"]
[null,"3 913222891 invoice has 48 hours, timesheet has 55",null,null,null,null,null,null,null,null,null,null,null,null,null,null,null,null,null,{"$f":"+R266-T269","v":505769.375}]
[null,"4 913259181 invoice has 48 hours, timesheet has 55"]
[null,"5 913301070 invoice has mileage only  no hourly charge"]
[null,"6 913333196 credit to 913281769",null,null,null,null,null,null,null,null,null,null,null,null,null,"labor",null,{"$f":"+'C.2 - Timesheets - Labor'!BC430","v":3913155.200000009},{"$f":"+R274+R266","v":4419932.5750000086}]
[null,"6 913333201 addtion to 913281761",null,null,null,null,null,null,null,null,null,null,null,null,null,"fuel",null,{"$f":"+'H - Mileage'!R125","v":36581.504000000015},{"$f":"+R275+S274","v":4456514.0790000083}]
[null,null,null,null,null,null,null,null,null,null,null,null,null,null,null,"meals",null,{"$f":"+'G - Per Diem'!P123","v":41382},{"$f":"+R276+S275","v":4497896.0790000083}]

{"sheet":"D - Lodging","index":8,"n_rows":100,"n_cols":25,"rows_kept":100,"cut":false,"hidden":false,"merged":[[1,1,1,23],[11,15,11,23],[11,1,11,14],[3,1,6,14]]}
[]
[null,"Lodging Charges"]
[]
[null,"Test Plan:  (A) Obtain support of individual charges. (B) Enter Yes/No if receipt is itemized (C) Enter Yes/No if proof of payment has been provided. (D) Ensure charges fall between the dates the vendor was mobilized and the date they arrived.  (E) Ensure charges are prior to the date the vendor arrived home or was released to another utility.  (F) Ensure the location of stay was reasonable (G) Determine the amount(s) to be reviewed, allowed and/or disallowed.  (H) For charges which required further review, document review (include why it was determined to be allowed/disallowed via a tickmark)."]
[]
[]
[]
[null,"Rx","Recalculated."]
[null,"a","Check figure should equal $0.  Cell will appear yellow if discrepancies are noted."]
[]
[null,null,"A",null,null,null,null,null,null,null,null,null,"Rx","B","C","D","E","F","G",null,null,"H"]
[null,"Support Reviewed",null,null,null,null,null,null,null,null,null,null,null,null,null,"Conclusion"]
[null,"#","Type of Support","Support Identifier","Crew","Company","Check In Date","Person","Hotel Name","Location","# of Nights","Total Invoice","$ / Night","Itemized Receipt","Proof of Payment","Reasonable based on Mobilization date(s)","Reasonable based on Demobilization date(s)","Location Reasonable","Conclusion","$ Allowable Charge","$ To Be Reviewed","Reviewed - Allowable $","Reviewed - Unallowable $","Tickmark"]
[null,1,null,null,null,null,null,null,null,null,null,null,{"$f":"L14/K14","v":{"$error":"#DIV/0!"}},null,null,{"$f":"IF(AND(G14>='A - Contractor Summary'!$C$36,G14<='A - Contractor Summary'!$C$38),\"Yes\",IF(G14<'A - Contractor Summary'!$C$36,\"No\",IF(G14>'A - Contractor Summary'!$C$39,\"\",\"\")))","v":"No"},{"$f":"IF(OR(P14=\"Yes\",P14=\"No\")*AND(G14<'A - Contractor Summary'!$C$39),\"\",IF(AND(G14>'A - Contractor Summary'!$C$39,G14<'A - Contractor Summary'!$C$42),\"Yes\",IF(G14>'A - Contractor Summary'!$C$42,\"No\",\"Needs Review\")))","v":""},null,{"$f":"IF(AND(R14=\"YES\",O14=\"Yes\",N14=\"Yes\")*OR(P14=\"Yes\",Q14=\"Yes\"),\"Yes\",IF(OR(N14=\"No\",O14=\"No\",P14=\"No\",Q14=\"No\",R14=\"No\"),\"No\",\"Needs Review\"))","v":"No"},{"$f":"IF(S14=\"Yes\",L14,0)","v":0},{"$f":"IF(S14=\"Needs Review\",L14,0)","v":0}]
[null,2,null,null,null,null,null,null,null,null,null,null,{"$error":"#DIV/0!"},null,null,{"$f":"IF(AND(G15>='A - Contractor Summary'!$C$36,G15<='A - Contractor Summary'!$C$38),\"Yes\",IF(G15<'A - Contractor Summary'!$C$36,\"No\",IF(G15>'A - Contractor Summary'!$C$39,\"\",\"\")))","v":"No"},{"$f":"IF(OR(P15=\"Yes\",P15=\"No\")*AND(G15<'A - Contractor Summary'!$C$39),\"\",IF(AND(G15>'A - Contractor Summary'!$C$39,G15<'A - Contractor Summary'!$C$42),\"Yes\",IF(G15>'A - Contractor Summary'!$C$42,\"No\",\"Needs Review\")))","v":""},null,"No",0,0]
[null,3,null,null,null,null,null,null,null,null,null,null,{"$error":"#DIV/0!"},null,null,{"$f":"IF(AND(G16>='A - Contractor Summary'!$C$36,G16<='A - Contractor Summary'!$C$38),\"Yes\",IF(G16<'A - Contractor Summary'!$C$36,\"No\",IF(G16>'A - Contractor Summary'!$C$39,\"\",\"\")))","v":"No"},{"$f":"IF(OR(P16=\"Yes\",P16=\"No\")*AND(G16<'A - Contractor Summary'!$C$39),\"\",IF(AND(G16>'A - Contractor Summary'!$C$39,G16<'A - Contractor Summary'!$C$42),\"Yes\",IF(G16>'A - Contractor Summary'!$C$42,\"No\",\"Needs Review\")))","v":""},null,"No",0,0]
[null,4,null,null,null,null,null,null,null,null,null,null,{"$error":"#DIV/0!"},null,null,{"$f":"IF(AND(G17>='A - Contractor Summary'!$C$36,G17<='A - Contractor Summary'!$C$38),\"Yes\",IF(G17<'A - Contractor Summary'!$C$36,\"No\",IF(G17>'A - Contractor Summary'!$C$39,\"\",\"\")))","v":"No"},{"$f":"IF(OR(P17=\"Yes\",P17=\"No\")*AND(G17<'A - Contractor Summary'!$C$39),\"\",IF(AND(G17>'A - Contractor Summary'!$C$39,G17<'A - Contractor Summary'!$C$42),\"Yes\",IF(G17>'A - Contractor Summary'!$C$42,\"No\",\"Needs Review\")))","v":""},null,"No",0,0]
[null,5,null,null,null,null,null,null,null,null,null,null,{"$error":"#DIV/0!"},null,null,{"$f":"IF(AND(G18>='A - Contractor Summary'!$C$36,G18<='A - Contractor Summary'!$C$38),\"Yes\",IF(G18<'A - Contractor Summary'!$C$36,\"No\",IF(G18>'A - Contractor Summary'!$C$39,\"\",\"\")))","v":"No"},{"$f":"IF(OR(P18=\"Yes\",P18=\"No\")*AND(G18<'A - Contractor Summary'!$C$39),\"\",IF(AND(G18>'A - Contractor Summary'!$C$39,G18<'A - Contractor Summary'!$C$42),\"Yes\",IF(G18>'A - Contractor Summary'!$C$42,\"No\",\"Needs Review\")))","v":""},null,"No",0,0]
[null,6,null,null,null,null,null,null,null,null,null,null,{"$error":"#DIV/0!"},null,null,{"$f":"IF(AND(G19>='A - Contractor Summary'!$C$36,G19<='A - Contractor Summary'!$C$38),\"Yes\",IF(G19<'A - Contractor Summary'!$C$36,\"No\",IF(G19>'A - Contractor Summary'!$C$39,\"\",\"\")))","v":"No"},{"$f":"IF(OR(P19=\"Yes\",P19=\"No\")*AND(G19<'A - Contractor Summary'!$C$39),\"\",IF(AND(G19>'A - Contractor Summary'!$C$39,G19<'A - Contractor Summary'!$C$42),\"Yes\",IF(G19>'A - Contractor Summary'!$C$42,\"No\",\"Needs Review\")))","v":""},null,"No",0,0]
[null,7,null,null,null,null,null,null,null,null,null,null,{"$error":"#DIV/0!"},null,null,{"$f":"IF(AND(G20>='A - Contractor Summary'!$C$36,G20<='A - Contractor Summary'!$C$38),\"Yes\",IF(G20<'A - Contractor Summary'!$C$36,\"No\",IF(G20>'A - Contractor Summary'!$C$39,\"\",\"\")))","v":"No"},{"$f":"IF(OR(P20=\"Yes\",P20=\"No\")*AND(G20<'A - Contractor Summary'!$C$39),\"\",IF(AND(G20>'A - Contractor Summary'!$C$39,G20<'A - Contractor Summary'!$C$42),\"Yes\",IF(G20>'A - Contractor Summary'!$C$42,\"No\",\"Needs Review\")))","v":""},null,"No",0,0]
[null,8,null,null,null,null,null,null,null,null,null,null,{"$error":"#DIV/0!"},null,null,{"$f":"IF(AND(G21>='A - Contractor Summary'!$C$36,G21<='A - Contractor Summary'!$C$38),\"Yes\",IF(G21<'A - Contractor Summary'!$C$36,\"No\",IF(G21>'A - Contractor Summary'!$C$39,\"\",\"\")))","v":"No"},{"$f":"IF(OR(P21=\"Yes\",P21=\"No\")*AND(G21<'A - Contractor Summary'!$C$39),\"\",IF(AND(G21>'A - Contractor Summary'!$C$39,G21<'A - Contractor Summary'!$C$42),\"Yes\",IF(G21>'A - Contractor Summary'!$C$42,\"No\",\"Needs Review\")))","v":""},null,"No",0,0]
[null,9,null,null,null,null,null,null,null,null,null,null,{"$error":"#DIV/0!"},null,null,{"$f":"IF(AND(G22>='A - Contractor Summary'!$C$36,G22<='A - Contractor Summary'!$C$38),\"Yes\",IF(G22<'A - Contractor Summary'!$C$36,\"No\",IF(G22>'A - Contractor Summary'!$C$39,\"\",\"\")))","v":"No"},{"$f":"IF(OR(P22=\"Yes\",P22=\"No\")*AND(G22<'A - Contractor Summary'!$C$39),\"\",IF(AND(G22>'A - Contractor Summary'!$C$39,G22<'A - Contractor Summary'!$C$42),\"Yes\",IF(G22>'A - Contractor Summary'!$C$42,\"No\",\"Needs Review\")))","v":""},null,"No",0,0]
[null,10,null,null,null,null,null,null,null,null,null,null,{"$error":"#DIV/0!"},null,null,{"$f":"IF(AND(G23>='A - Contractor Summary'!$C$36,G23<='A - Contractor Summary'!$C$38),\"Yes\",IF(G23<'A - Contractor Summary'!$C$36,\"No\",IF(G23>'A - Contractor Summary'!$C$39,\"\",\"\")))","v":"No"},{"$f":"IF(OR(P23=\"Yes\",P23=\"No\")*AND(G23<'A - Contractor Summary'!$C$39),\"\",IF(AND(G23>'A - Contractor Summary'!$C$39,G23<'A - Contractor Summary'!$C$42),\"Yes\",IF(G23>'A - Contractor Summary'!$C$42,\"No\",\"Needs Review\")))","v":""},null,"No",0,0]
[null,11,null,null,null,null,null,null,null,null,null,null,{"$error":"#DIV/0!"},null,null,{"$f":"IF(AND(G24>='A - Contractor Summary'!$C$36,G24<='A - Contractor Summary'!$C$38),\"Yes\",IF(G24<'A - Contractor Summary'!$C$36,\"No\",IF(G24>'A - Contractor Summary'!$C$39,\"\",\"\")))","v":"No"},{"$f":"IF(OR(P24=\"Yes\",P24=\"No\")*AND(G24<'A - Contractor Summary'!$C$39),\"\",IF(AND(G24>'A - Contractor Summary'!$C$39,G24<'A - Contractor Summary'!$C$42),\"Yes\",IF(G24>'A - Contractor Summary'!$C$42,\"No\",\"Needs Review\")))","v":""},null,"No",0,0]
[null,12,null,null,null,null,null,null,null,null,null,null,{"$error":"#DIV/0!"},null,null,{"$f":"IF(AND(G25>='A - Contractor Summary'!$C$36,G25<='A - Contractor Summary'!$C$38),\"Yes\",IF(G25<'A - Contractor Summary'!$C$36,\"No\",IF(G25>'A - Contractor Summary'!$C$39,\"\",\"\")))","v":"No"},{"$f":"IF(OR(P25=\"Yes\",P25=\"No\")*AND(G25<'A - Contractor Summary'!$C$39),\"\",IF(AND(G25>'A - Contractor Summary'!$C$39,G25<'A - Contractor Summary'!$C$42),\"Yes\",IF(G25>'A - Contractor Summary'!$C$42,\"No\",\"Needs Review\")))","v":""},null,"No",0,0]
[null,13,null,null,null,null,null,null,null,null,null,null,{"$error":"#DIV/0!"},null,null,{"$f":"IF(AND(G26>='A - Contractor Summary'!$C$36,G26<='A - Contractor Summary'!$C$38),\"Yes\",IF(G26<'A - Contractor Summary'!$C$36,\"No\",IF(G26>'A - Contractor Summary'!$C$39,\"\",\"\")))","v":"No"},{"$f":"IF(OR(P26=\"Yes\",P26=\"No\")*AND(G26<'A - Contractor Summary'!$C$39),\"\",IF(AND(G26>'A - Contractor Summary'!$C$39,G26<'A - Contractor Summary'!$C$42),\"Yes\",IF(G26>'A - Contractor Summary'!$C$42,\"No\",\"Needs Review\")))","v":""},null,"No",0,0]
[null,14,null,null,null,null,null,null,null,null,null,null,{"$error":"#DIV/0!"},null,null,{"$f":"IF(AND(G27>='A - Contractor Summary'!$C$36,G27<='A - Contractor Summary'!$C$38),\"Yes\",IF(G27<'A - Contractor Summary'!$C$36,\"No\",IF(G27>'A - Contractor Summary'!$C$39,\"\",\"\")))","v":"No"},{"$f":"IF(OR(P27=\"Yes\",P27=\"No\")*AND(G27<'A - Contractor Summary'!$C$39),\"\",IF(AND(G27>'A - Contractor Summary'!$C$39,G27<'A - Contractor Summary'!$C$42),\"Yes\",IF(G27>'A - Contractor Summary'!$C$42,\"No\",\"Needs Review\")))","v":""},null,"No",0,0]
[null,15,null,null,null,null,null,null,null,null,null,null,{"$error":"#DIV/0!"},null,null,{"$f":"IF(AND(G28>='A - Contractor Summary'!$C$36,G28<='A - Contractor Summary'!$C$38),\"Yes\",IF(G28<'A - Contractor Summary'!$C$36,\"No\",IF(G28>'A - Contractor Summary'!$C$39,\"\",\"\")))","v":"No"},{"$f":"IF(OR(P28=\"Yes\",P28=\"No\")*AND(G28<'A - Contractor Summary'!$C$39),\"\",IF(AND(G28>'A - Contractor Summary'!$C$39,G28<'A - Contractor Summary'!$C$42),\"Yes\",IF(G28>'A - Contractor Summary'!$C$42,\"No\",\"Needs Review\")))","v":""},null,"No",0,0]
[null,16,null,null,null,null,null,null,null,null,null,null,{"$error":"#DIV/0!"},null,null,{"$f":"IF(AND(G29>='A - Contractor Summary'!$C$36,G29<='A - Contractor Summary'!$C$38),\"Yes\",IF(G29<'A - Contractor Summary'!$C$36,\"No\",IF(G29>'A - Contractor Summary'!$C$39,\"\",\"\")))","v":"No"},{"$f":"IF(OR(P29=\"Yes\",P29=\"No\")*AND(G29<'A - Contractor Summary'!$C$39),\"\",IF(AND(G29>'A - Contractor Summary'!$C$39,G29<'A - Contractor Summary'!$C$42),\"Yes\",IF(G29>'A - Contractor Summary'!$C$42,\"No\",\"Needs Review\")))","v":""},null,"No",0,0]
[null,17,null,null,null,null,null,null,null,null,null,null,{"$error":"#DIV/0!"},null,null,{"$f":"IF(AND(G30>='A - Contractor Summary'!$C$36,G30<='A - Contractor Summary'!$C$38),\"Yes\",IF(G30<'A - Contractor Summary'!$C$36,\"No\",IF(G30>'A - Contractor Summary'!$C$39,\"\",\"\")))","v":"No"},{"$f":"IF(OR(P30=\"Yes\",P30=\"No\")*AND(G30<'A - Contractor Summary'!$C$39),\"\",IF(AND(G30>'A - Contractor Summary'!$C$39,G30<'A - Contractor Summary'!$C$42),\"Yes\",IF(G30>'A - Contractor Summary'!$C$42,\"No\",\"Needs Review\")))","v":""},null,"No",0,0]
[null,18,null,null,null,null,null,null,null,null,null,null,{"$error":"#DIV/0!"},null,null,{"$f":"IF(AND(G31>='A - Contractor Summary'!$C$36,G31<='A - Contractor Summary'!$C$38),\"Yes\",IF(G31<'A - Contractor Summary'!$C$36,\"No\",IF(G31>'A - Contractor Summary'!$C$39,\"\",\"\")))","v":"No"},{"$f":"IF(OR(P31=\"Yes\",P31=\"No\")*AND(G31<'A - Contractor Summary'!$C$39),\"\",IF(AND(G31>'A - Contractor Summary'!$C$39,G31<'A - Contractor Summary'!$C$42),\"Yes\",IF(G31>'A - Contractor Summary'!$C$42,\"No\",\"Needs Review\")))","v":""},null,"No",0,0]
[null,19,null,null,null,null,null,null,null,null,null,null,{"$error":"#DIV/0!"},null,null,{"$f":"IF(AND(G32>='A - Contractor Summary'!$C$36,G32<='A - Contractor Summary'!$C$38),\"Yes\",IF(G32<'A - Contractor Summary'!$C$36,\"No\",IF(G32>'A - Contractor Summary'!$C$39,\"\",\"\")))","v":"No"},{"$f":"IF(OR(P32=\"Yes\",P32=\"No\")*AND(G32<'A - Contractor Summary'!$C$39),\"\",IF(AND(G32>'A - Contractor Summary'!$C$39,G32<'A - Contractor Summary'!$C$42),\"Yes\",IF(G32>'A - Contractor Summary'!$C$42,\"No\",\"Needs Review\")))","v":""},null,"No",0,0]
[null,20,null,null,null,null,null,null,null,null,null,null,{"$error":"#DIV/0!"},null,null,{"$f":"IF(AND(G33>='A - Contractor Summary'!$C$36,G33<='A - Contractor Summary'!$C$38),\"Yes\",IF(G33<'A - Contractor Summary'!$C$36,\"No\",IF(G33>'A - Contractor Summary'!$C$39,\"\",\"\")))","v":"No"},{"$f":"IF(OR(P33=\"Yes\",P33=\"No\")*AND(G33<'A - Contractor Summary'!$C$39),\"\",IF(AND(G33>'A - Contractor Summary'!$C$39,G33<'A - Contractor Summary'!$C$42),\"Yes\",IF(G33>'A - Contractor Summary'!$C$42,\"No\",\"Needs Review\")))","v":""},null,"No",0,0]
[null,21,null,null,null,null,null,null,null,null,null,null,{"$error":"#DIV/0!"},null,null,{"$f":"IF(AND(G34>='A - Contractor Summary'!$C$36,G34<='A - Contractor Summary'!$C$38),\"Yes\",IF(G34<'A - Contractor Summary'!$C$36,\"No\",IF(G34>'A - Contractor Summary'!$C$39,\"\",\"\")))","v":"No"},{"$f":"IF(OR(P34=\"Yes\",P34=\"No\")*AND(G34<'A - Contractor Summary'!$C$39),\"\",IF(AND(G34>'A - Contractor Summary'!$C$39,G34<'A - Contractor Summary'!$C$42),\"Yes\",IF(G34>'A - Contractor Summary'!$C$42,\"No\",\"Needs Review\")))","v":""},null,"No",0,0]
[null,22,null,null,null,null,null,null,null,null,null,null,{"$error":"#DIV/0!"},null,null,{"$f":"IF(AND(G35>='A - Contractor Summary'!$C$36,G35<='A - Contractor Summary'!$C$38),\"Yes\",IF(G35<'A - Contractor Summary'!$C$36,\"No\",IF(G35>'A - Contractor Summary'!$C$39,\"\",\"\")))","v":"No"},{"$f":"IF(OR(P35=\"Yes\",P35=\"No\")*AND(G35<'A - Contractor Summary'!$C$39),\"\",IF(AND(G35>'A - Contractor Summary'!$C$39,G35<'A - Contractor Summary'!$C$42),\"Yes\",IF(G35>'A - Contractor Summary'!$C$42,\"No\",\"Needs Review\")))","v":""},null,"No",0,0]
[null,23,null,null,null,null,null,null,null,null,null,null,{"$error":"#DIV/0!"},null,null,{"$f":"IF(AND(G36>='A - Contractor Summary'!$C$36,G36<='A - Contractor Summary'!$C$38),\"Yes\",IF(G36<'A - Contractor Summary'!$C$36,\"No\",IF(G36>'A - Contractor Summary'!$C$39,\"\",\"\")))","v":"No"},{"$f":"IF(OR(P36=\"Yes\",P36=\"No\")*AND(G36<'A - Contractor Summary'!$C$39),\"\",IF(AND(G36>'A - Contractor Summary'!$C$39,G36<'A - Contractor Summary'!$C$42),\"Yes\",IF(G36>'A - Contractor Summary'!$C$42,\"No\",\"Needs Review\")))","v":""},null,"No",0,0]
[null,24,null,null,null,null,null,null,null,null,null,null,{"$error":"#DIV/0!"},null,null,{"$f":"IF(AND(G37>='A - Contractor Summary'!$C$36,G37<='A - Contractor Summary'!$C$38),\"Yes\",IF(G37<'A - Contractor Summary'!$C$36,\"No\",IF(G37>'A - Contractor Summary'!$C$39,\"\",\"\")))","v":"No"},{"$f":"IF(OR(P37=\"Yes\",P37=\"No\")*AND(G37<'A - Contractor Summary'!$C$39),\"\",IF(AND(G37>'A - Contractor Summary'!$C$39,G37<'A - Contractor Summary'!$C$42),\"Yes\",IF(G37>'A - Contractor Summary'!$C$42,\"No\",\"Needs Review\")))","v":""},null,"No",0,0]
[null,25,null,null,null,null,null,null,null,null,null,null,{"$error":"#DIV/0!"},null,null,{"$f":"IF(AND(G38>='A - Contractor Summary'!$C$36,G38<='A - Contractor Summary'!$C$38),\"Yes\",IF(G38<'A - Contractor Summary'!$C$36,\"No\",IF(G38>'A - Contractor Summary'!$C$39,\"\",\"\")))","v":"No"},{"$f":"IF(OR(P38=\"Yes\",P38=\"No\")*AND(G38<'A - Contractor Summary'!$C$39),\"\",IF(AND(G38>'A - Contractor Summary'!$C$39,G38<'A - Contractor Summary'!$C$42),\"Yes\",IF(G38>'A - Contractor Summary'!$C$42,\"No\",\"Needs Review\")))","v":""},null,"No",0,0]
[null,26,null,null,null,null,null,null,null,null,null,null,{"$error":"#DIV/0!"},null,null,{"$f":"IF(AND(G39>='A - Contractor Summary'!$C$36,G39<='A - Contractor Summary'!$C$38),\"Yes\",IF(G39<'A - Contractor Summary'!$C$36,\"No\",IF(G39>'A - Contractor Summary'!$C$39,\"\",\"\")))","v":"No"},{"$f":"IF(OR(P39=\"Yes\",P39=\"No\")*AND(G39<'A - Contractor Summary'!$C$39),\"\",IF(AND(G39>'A - Contractor Summary'!$C$39,G39<'A - Contractor Summary'!$C$42),\"Yes\",IF(G39>'A - Contractor Summary'!$C$42,\"No\",\"Needs Review\")))","v":""},null,"No",0,0]
[null,27,null,null,null,null,null,null,null,null,null,null,{"$error":"#DIV/0!"},null,null,{"$f":"IF(AND(G40>='A - Contractor Summary'!$C$36,G40<='A - Contractor Summary'!$C$38),\"Yes\",IF(G40<'A - Contractor Summary'!$C$36,\"No\",IF(G40>'A - Contractor Summary'!$C$39,\"\",\"\")))","v":"No"},{"$f":"IF(OR(P40=\"Yes\",P40=\"No\")*AND(G40<'A - Contractor Summary'!$C$39),\"\",IF(AND(G40>'A - Contractor Summary'!$C$39,G40<'A - Contractor Summary'!$C$42),\"Yes\",IF(G40>'A - Contractor Summary'!$C$42,\"No\",\"Needs Review\")))","v":""},null,"No",0,0]
[null,28,null,null,null,null,null,null,null,null,null,null,{"$error":"#DIV/0!"},null,null,{"$f":"IF(AND(G41>='A - Contractor Summary'!$C$36,G41<='A - Contractor Summary'!$C$38),\"Yes\",IF(G41<'A - Contractor Summary'!$C$36,\"No\",IF(G41>'A - Contractor Summary'!$C$39,\"\",\"\")))","v":"No"},{"$f":"IF(OR(P41=\"Yes\",P41=\"No\")*AND(G41<'A - Contractor Summary'!$C$39),\"\",IF(AND(G41>'A - Contractor Summary'!$C$39,G41<'A - Contractor Summary'!$C$42),\"Yes\",IF(G41>'A - Contractor Summary'!$C$42,\"No\",\"Needs Review\")))","v":""},null,"No",0,0]
[null,29,null,null,null,null,null,null,null,null,null,null,{"$error":"#DIV/0!"},null,null,{"$f":"IF(AND(G42>='A - Contractor Summary'!$C$36,G42<='A - Contractor Summary'!$C$38),\"Yes\",IF(G42<'A - Contractor Summary'!$C$36,\"No\",IF(G42>'A - Contractor Summary'!$C$39,\"\",\"\")))","v":"No"},{"$f":"IF(OR(P42=\"Yes\",P42=\"No\")*AND(G42<'A - Contractor Summary'!$C$39),\"\",IF(AND(G42>'A - Contractor Summary'!$C$39,G42<'A - Contractor Summary'!$C$42),\"Yes\",IF(G42>'A - Contractor Summary'!$C$42,\"No\",\"Needs Review\")))","v":""},null,"No",0,0]
[null,30,null,null,null,null,null,null,null,null,null,null,{"$error":"#DIV/0!"},null,null,{"$f":"IF(AND(G43>='A - Contractor Summary'!$C$36,G43<='A - Contractor Summary'!$C$38),\"Yes\",IF(G43<'A - Contractor Summary'!$C$36,\"No\",IF(G43>'A - Contractor Summary'!$C$39,\"\",\"\")))","v":"No"},{"$f":"IF(OR(P43=\"Yes\",P43=\"No\")*AND(G43<'A - Contractor Summary'!$C$39),\"\",IF(AND(G43>'A - Contractor Summary'!$C$39,G43<'A - Contractor Summary'!$C$42),\"Yes\",IF(G43>'A - Contractor Summary'!$C$42,\"No\",\"Needs Review\")))","v":""},null,"No",0,0]
[null,31,null,null,null,null,null,null,null,null,null,null,{"$error":"#DIV/0!"},null,null,{"$f":"IF(AND(G44>='A - Contractor Summary'!$C$36,G44<='A - Contractor Summary'!$C$38),\"Yes\",IF(G44<'A - Contractor Summary'!$C$36,\"No\",IF(G44>'A - Contractor Summary'!$C$39,\"\",\"\")))","v":"No"},{"$f":"IF(OR(P44=\"Yes\",P44=\"No\")*AND(G44<'A - Contractor Summary'!$C$39),\"\",IF(AND(G44>'A - Contractor Summary'!$C$39,G44<'A - Contractor Summary'!$C$42),\"Yes\",IF(G44>'A - Contractor Summary'!$C$42,\"No\",\"Needs Review\")))","v":""},null,"No",0,0]
[null,32,null,null,null,null,null,null,null,null,null,null,{"$error":"#DIV/0!"},null,null,{"$f":"IF(AND(G45>='A - Contractor Summary'!$C$36,G45<='A - Contractor Summary'!$C$38),\"Yes\",IF(G45<'A - Contractor Summary'!$C$36,\"No\",IF(G45>'A - Contractor Summary'!$C$39,\"\",\"\")))","v":"No"},{"$f":"IF(OR(P45=\"Yes\",P45=\"No\")*AND(G45<'A - Contractor Summary'!$C$39),\"\",IF(AND(G45>'A - Contractor Summary'!$C$39,G45<'A - Contractor Summary'!$C$42),\"Yes\",IF(G45>'A - Contractor Summary'!$C$42,\"No\",\"Needs Review\")))","v":""},null,"No",0,0]
[null,33,null,null,null,null,null,null,null,null,null,null,{"$f":"L46/K46","v":{"$error":"#DIV/0!"}},null,null,{"$f":"IF(AND(G46>='A - Contractor Summary'!$C$36,G46<='A - Contractor Summary'!$C$38),\"Yes\",IF(G46<'A - Contractor Summary'!$C$36,\"No\",IF(G46>'A - Contractor Summary'!$C$39,\"\",\"\")))","v":"No"},{"$f":"IF(OR(P46=\"Yes\",P46=\"No\")*AND(G46<'A - Contractor Summary'!$C$39),\"\",IF(AND(G46>'A - Contractor Summary'!$C$39,G46<'A - Contractor Summary'!$C$42),\"Yes\",IF(G46>'A - Contractor Summary'!$C$42,\"No\",\"Needs Review\")))","v":""},null,{"$f":"IF(AND(R46=\"YES\",O46=\"Yes\",N46=\"Yes\")*OR(P46=\"Yes\",Q46=\"Yes\"),\"Yes\",IF(OR(N46=\"No\",O46=\"No\",P46=\"No\",Q46=\"No\",R46=\"No\"),\"No\",\"Needs Review\"))","v":"No"},{"$f":"IF(S46=\"Yes\",L46,0)","v":0},{"$f":"IF(S46=\"Needs Review\",L46,0)","v":0}]
[null,34,null,null,null,null,null,null,null,null,null,null,{"$error":"#DIV/0!"},null,null,{"$f":"IF(AND(G47>='A - Contractor Summary'!$C$36,G47<='A - Contractor Summary'!$C$38),\"Yes\",IF(G47<'A - Contractor Summary'!$C$36,\"No\",IF(G47>'A - Contractor Summary'!$C$39,\"\",\"\")))","v":"No"},{"$f":"IF(OR(P47=\"Yes\",P47=\"No\")*AND(G47<'A - Contractor Summary'!$C$39),\"\",IF(AND(G47>'A - Contractor Summary'!$C$39,G47<'A - Contractor Summary'!$C$42),\"Yes\",IF(G47>'A - Contractor Summary'!$C$42,\"No\",\"Needs Review\")))","v":""},null,"No",0,0]
[null,35,null,null,null,null,null,null,null,null,null,null,{"$error":"#DIV/0!"},null,null,{"$f":"IF(AND(G48>='A - Contractor Summary'!$C$36,G48<='A - Contractor Summary'!$C$38),\"Yes\",IF(G48<'A - Contractor Summary'!$C$36,\"No\",IF(G48>'A - Contractor Summary'!$C$39,\"\",\"\")))","v":"No"},{"$f":"IF(OR(P48=\"Yes\",P48=\"No\")*AND(G48<'A - Contractor Summary'!$C$39),\"\",IF(AND(G48>'A - Contractor Summary'!$C$39,G48<'A - Contractor Summary'!$C$42),\"Yes\",IF(G48>'A - Contractor Summary'!$C$42,\"No\",\"Needs Review\")))","v":""},null,"No",0,0]
[null,36,null,null,null,null,null,null,null,null,null,null,{"$error":"#DIV/0!"},null,null,{"$f":"IF(AND(G49>='A - Contractor Summary'!$C$36,G49<='A - Contractor Summary'!$C$38),\"Yes\",IF(G49<'A - Contractor Summary'!$C$36,\"No\",IF(G49>'A - Contractor Summary'!$C$39,\"\",\"\")))","v":"No"},{"$f":"IF(OR(P49=\"Yes\",P49=\"No\")*AND(G49<'A - Contractor Summary'!$C$39),\"\",IF(AND(G49>'A - Contractor Summary'!$C$39,G49<'A - Contractor Summary'!$C$42),\"Yes\",IF(G49>'A - Contractor Summary'!$C$42,\"No\",\"Needs Review\")))","v":""},null,"No",0,0]
[null,37,null,null,null,null,null,null,null,null,null,null,{"$error":"#DIV/0!"},null,null,{"$f":"IF(AND(G50>='A - Contractor Summary'!$C$36,G50<='A - Contractor Summary'!$C$38),\"Yes\",IF(G50<'A - Contractor Summary'!$C$36,\"No\",IF(G50>'A - Contractor Summary'!$C$39,\"\",\"\")))","v":"No"},{"$f":"IF(OR(P50=\"Yes\",P50=\"No\")*AND(G50<'A - Contractor Summary'!$C$39),\"\",IF(AND(G50>'A - Contractor Summary'!$C$39,G50<'A - Contractor Summary'!$C$42),\"Yes\",IF(G50>'A - Contractor Summary'!$C$42,\"No\",\"Needs Review\")))","v":""},null,"No",0,0]
[null,38,null,null,null,null,null,null,null,null,null,null,{"$error":"#DIV/0!"},null,null,{"$f":"IF(AND(G51>='A - Contractor Summary'!$C$36,G51<='A - Contractor Summary'!$C$38),\"Yes\",IF(G51<'A - Contractor Summary'!$C$36,\"No\",IF(G51>'A - Contractor Summary'!$C$39,\"\",\"\")))","v":"No"},{"$f":"IF(OR(P51=\"Yes\",P51=\"No\")*AND(G51<'A - Contractor Summary'!$C$39),\"\",IF(AND(G51>'A - Contractor Summary'!$C$39,G51<'A - Contractor Summary'!$C$42),\"Yes\",IF(G51>'A - Contractor Summary'!$C$42,\"No\",\"Needs Review\")))","v":""},null,"No",0,0]
[null,39,null,null,null,null,null,null,null,null,null,null,{"$error":"#DIV/0!"},null,null,{"$f":"IF(AND(G52>='A - Contractor Summary'!$C$36,G52<='A - Contractor Summary'!$C$38),\"Yes\",IF(G52<'A - Contractor Summary'!$C$36,\"No\",IF(G52>'A - Contractor Summary'!$C$39,\"\",\"\")))","v":"No"},{"$f":"IF(OR(P52=\"Yes\",P52=\"No\")*AND(G52<'A - Contractor Summary'!$C$39),\"\",IF(AND(G52>'A - Contractor Summary'!$C$39,G52<'A - Contractor Summary'!$C$42),\"Yes\",IF(G52>'A - Contractor Summary'!$C$42,\"No\",\"Needs Review\")))","v":""},null,"No",0,0]
[null,40,null,null,null,null,null,null,null,null,null,null,{"$error":"#DIV/0!"},null,null,{"$f":"IF(AND(G53>='A - Contractor Summary'!$C$36,G53<='A - Contractor Summary'!$C$38),\"Yes\",IF(G53<'A - Contractor Summary'!$C$36,\"No\",IF(G53>'A - Contractor Summary'!$C$39,\"\",\"\")))","v":"No"},{"$f":"IF(OR(P53=\"Yes\",P53=\"No\")*AND(G53<'A - Contractor Summary'!$C$39),\"\",IF(AND(G53>'A - Contractor Summary'!$C$39,G53<'A - Contractor Summary'!$C$42),\"Yes\",IF(G53>'A - Contractor Summary'!$C$42,\"No\",\"Needs Review\")))","v":""},null,"No",0,0]
[null,41,null,null,null,null,null,null,null,null,null,null,{"$error":"#DIV/0!"},null,null,{"$f":"IF(AND(G54>='A - Contractor Summary'!$C$36,G54<='A - Contractor Summary'!$C$38),\"Yes\",IF(G54<'A - Contractor Summary'!$C$36,\"No\",IF(G54>'A - Contractor Summary'!$C$39,\"\",\"\")))","v":"No"},{"$f":"IF(OR(P54=\"Yes\",P54=\"No\")*AND(G54<'A - Contractor Summary'!$C$39),\"\",IF(AND(G54>'A - Contractor Summary'!$C$39,G54<'A - Contractor Summary'!$C$42),\"Yes\",IF(G54>'A - Contractor Summary'!$C$42,\"No\",\"Needs Review\")))","v":""},null,"No",0,0]
[null,42,null,null,null,null,null,null,null,null,null,null,{"$error":"#DIV/0!"},null,null,{"$f":"IF(AND(G55>='A - Contractor Summary'!$C$36,G55<='A - Contractor Summary'!$C$38),\"Yes\",IF(G55<'A - Contractor Summary'!$C$36,\"No\",IF(G55>'A - Contractor Summary'!$C$39,\"\",\"\")))","v":"No"},{"$f":"IF(OR(P55=\"Yes\",P55=\"No\")*AND(G55<'A - Contractor Summary'!$C$39),\"\",IF(AND(G55>'A - Contractor Summary'!$C$39,G55<'A - Contractor Summary'!$C$42),\"Yes\",IF(G55>'A - Contractor Summary'!$C$42,\"No\",\"Needs Review\")))","v":""},null,"No",0,0]
[null,43,null,null,null,null,null,null,null,null,null,null,{"$error":"#DIV/0!"},null,null,{"$f":"IF(AND(G56>='A - Contractor Summary'!$C$36,G56<='A - Contractor Summary'!$C$38),\"Yes\",IF(G56<'A - Contractor Summary'!$C$36,\"No\",IF(G56>'A - Contractor Summary'!$C$39,\"\",\"\")))","v":"No"},{"$f":"IF(OR(P56=\"Yes\",P56=\"No\")*AND(G56<'A - Contractor Summary'!$C$39),\"\",IF(AND(G56>'A - Contractor Summary'!$C$39,G56<'A - Contractor Summary'!$C$42),\"Yes\",IF(G56>'A - Contractor Summary'!$C$42,\"No\",\"Needs Review\")))","v":""},null,"No",0,0]
[null,44,null,null,null,null,null,null,null,null,null,null,{"$error":"#DIV/0!"},null,null,{"$f":"IF(AND(G57>='A - Contractor Summary'!$C$36,G57<='A - Contractor Summary'!$C$38),\"Yes\",IF(G57<'A - Contractor Summary'!$C$36,\"No\",IF(G57>'A - Contractor Summary'!$C$39,\"\",\"\")))","v":"No"},{"$f":"IF(OR(P57=\"Yes\",P57=\"No\")*AND(G57<'A - Contractor Summary'!$C$39),\"\",IF(AND(G57>'A - Contractor Summary'!$C$39,G57<'A - Contractor Summary'!$C$42),\"Yes\",IF(G57>'A - Contractor Summary'!$C$42,\"No\",\"Needs Review\")))","v":""},null,"No",0,0]
[null,45,null,null,null,null,null,null,null,null,null,null,{"$error":"#DIV/0!"},null,null,{"$f":"IF(AND(G58>='A - Contractor Summary'!$C$36,G58<='A - Contractor Summary'!$C$38),\"Yes\",IF(G58<'A - Contractor Summary'!$C$36,\"No\",IF(G58>'A - Contractor Summary'!$C$39,\"\",\"\")))","v":"No"},{"$f":"IF(OR(P58=\"Yes\",P58=\"No\")*AND(G58<'A - Contractor Summary'!$C$39),\"\",IF(AND(G58>'A - Contractor Summary'!$C$39,G58<'A - Contractor Summary'!$C$42),\"Yes\",IF(G58>'A - Contractor Summary'!$C$42,\"No\",\"Needs Review\")))","v":""},null,"No",0,0]
[null,46,null,null,null,null,null,null,null,null,null,null,{"$error":"#DIV/0!"},null,null,{"$f":"IF(AND(G59>='A - Contractor Summary'!$C$36,G59<='A - Contractor Summary'!$C$38),\"Yes\",IF(G59<'A - Contractor Summary'!$C$36,\"No\",IF(G59>'A - Contractor Summary'!$C$39,\"\",\"\")))","v":"No"},{"$f":"IF(OR(P59=\"Yes\",P59=\"No\")*AND(G59<'A - Contractor Summary'!$C$39),\"\",IF(AND(G59>'A - Contractor Summary'!$C$39,G59<'A - Contractor Summary'!$C$42),\"Yes\",IF(G59>'A - Contractor Summary'!$C$42,\"No\",\"Needs Review\")))","v":""},null,"No",0,0]
[null,47,null,null,null,null,null,null,null,null,null,null,{"$error":"#DIV/0!"},null,null,{"$f":"IF(AND(G60>='A - Contractor Summary'!$C$36,G60<='A - Contractor Summary'!$C$38),\"Yes\",IF(G60<'A - Contractor Summary'!$C$36,\"No\",IF(G60>'A - Contractor Summary'!$C$39,\"\",\"\")))","v":"No"},{"$f":"IF(OR(P60=\"Yes\",P60=\"No\")*AND(G60<'A - Contractor Summary'!$C$39),\"\",IF(AND(G60>'A - Contractor Summary'!$C$39,G60<'A - Contractor Summary'!$C$42),\"Yes\",IF(G60>'A - Contractor Summary'!$C$42,\"No\",\"Needs Review\")))","v":""},null,"No",0,0]
[null,48,null,null,null,null,null,null,null,null,null,null,{"$error":"#DIV/0!"},null,null,{"$f":"IF(AND(G61>='A - Contractor Summary'!$C$36,G61<='A - Contractor Summary'!$C$38),\"Yes\",IF(G61<'A - Contractor Summary'!$C$36,\"No\",IF(G61>'A - Contractor Summary'!$C$39,\"\",\"\")))","v":"No"},{"$f":"IF(OR(P61=\"Yes\",P61=\"No\")*AND(G61<'A - Contractor Summary'!$C$39),\"\",IF(AND(G61>'A - Contractor Summary'!$C$39,G61<'A - Contractor Summary'!$C$42),\"Yes\",IF(G61>'A - Contractor Summary'!$C$42,\"No\",\"Needs Review\")))","v":""},null,"No",0,0]
[null,49,null,null,null,null,null,null,null,null,null,null,{"$error":"#DIV/0!"},null,null,{"$f":"IF(AND(G62>='A - Contractor Summary'!$C$36,G62<='A - Contractor Summary'!$C$38),\"Yes\",IF(G62<'A - Contractor Summary'!$C$36,\"No\",IF(G62>'A - Contractor Summary'!$C$39,\"\",\"\")))","v":"No"},{"$f":"IF(OR(P62=\"Yes\",P62=\"No\")*AND(G62<'A - Contractor Summary'!$C$39),\"\",IF(AND(G62>'A - Contractor Summary'!$C$39,G62<'A - Contractor Summary'!$C$42),\"Yes\",IF(G62>'A - Contractor Summary'!$C$42,\"No\",\"Needs Review\")))","v":""},null,"No",0,0]
[null,50,null,null,null,null,null,null,null,null,null,null,{"$error":"#DIV/0!"},null,null,{"$f":"IF(AND(G63>='A - Contractor Summary'!$C$36,G63<='A - Contractor Summary'!$C$38),\"Yes\",IF(G63<'A - Contractor Summary'!$C$36,\"No\",IF(G63>'A - Contractor Summary'!$C$39,\"\",\"\")))","v":"No"},{"$f":"IF(OR(P63=\"Yes\",P63=\"No\")*AND(G63<'A - Contractor Summary'!$C$39),\"\",IF(AND(G63>'A - Contractor Summary'!$C$39,G63<'A - Contractor Summary'!$C$42),\"Yes\",IF(G63>'A - Contractor Summary'!$C$42,\"No\",\"Needs Review\")))","v":""},null,"No",0,0]
[null,51,null,null,null,null,null,null,null,null,null,null,{"$error":"#DIV/0!"},null,null,{"$f":"IF(AND(G64>='A - Contractor Summary'!$C$36,G64<='A - Contractor Summary'!$C$38),\"Yes\",IF(G64<'A - Contractor Summary'!$C$36,\"No\",IF(G64>'A - Contractor Summary'!$C$39,\"\",\"\")))","v":"No"},{"$f":"IF(OR(P64=\"Yes\",P64=\"No\")*AND(G64<'A - Contractor Summary'!$C$39),\"\",IF(AND(G64>'A - Contractor Summary'!$C$39,G64<'A - Contractor Summary'!$C$42),\"Yes\",IF(G64>'A - Contractor Summary'!$C$42,\"No\",\"Needs Review\")))","v":""},null,"No",0,0]
[null,52,null,null,null,null,null,null,null,null,null,null,{"$error":"#DIV/0!"},null,null,{"$f":"IF(AND(G65>='A - Contractor Summary'!$C$36,G65<='A - Contractor Summary'!$C$38),\"Yes\",IF(G65<'A - Contractor Summary'!$C$36,\"No\",IF(G65>'A - Contractor Summary'!$C$39,\"\",\"\")))","v":"No"},{"$f":"IF(OR(P65=\"Yes\",P65=\"No\")*AND(G65<'A - Contractor Summary'!$C$39),\"\",IF(AND(G65>'A - Contractor Summary'!$C$39,G65<'A - Contractor Summary'!$C$42),\"Yes\",IF(G65>'A - Contractor Summary'!$C$42,\"No\",\"Needs Review\")))","v":""},null,"No",0,0]
[null,53,null,null,null,null,null,null,null,null,null,null,{"$error":"#DIV/0!"},null,null,{"$f":"IF(AND(G66>='A - Contractor Summary'!$C$36,G66<='A - Contractor Summary'!$C$38),\"Yes\",IF(G66<'A - Contractor Summary'!$C$36,\"No\",IF(G66>'A - Contractor Summary'!$C$39,\"\",\"\")))","v":"No"},{"$f":"IF(OR(P66=\"Yes\",P66=\"No\")*AND(G66<'A - Contractor Summary'!$C$39),\"\",IF(AND(G66>'A - Contractor Summary'!$C$39,G66<'A - Contractor Summary'!$C$42),\"Yes\",IF(G66>'A - Contractor Summary'!$C$42,\"No\",\"Needs Review\")))","v":""},null,"No",0,0]
[null,54,null,null,null,null,null,null,null,null,null,null,{"$error":"#DIV/0!"},null,null,{"$f":"IF(AND(G67>='A - Contractor Summary'!$C$36,G67<='A - Contractor Summary'!$C$38),\"Yes\",IF(G67<'A - Contractor Summary'!$C$36,\"No\",IF(G67>'A - Contractor Summary'!$C$39,\"\",\"\")))","v":"No"},{"$f":"IF(OR(P67=\"Yes\",P67=\"No\")*AND(G67<'A - Contractor Summary'!$C$39),\"\",IF(AND(G67>'A - Contractor Summary'!$C$39,G67<'A - Contractor Summary'!$C$42),\"Yes\",IF(G67>'A - Contractor Summary'!$C$42,\"No\",\"Needs Review\")))","v":""},null,"No",0,0]
[null,55,null,null,null,null,null,null,null,null,null,null,{"$error":"#DIV/0!"},null,null,{"$f":"IF(AND(G68>='A - Contractor Summary'!$C$36,G68<='A - Contractor Summary'!$C$38),\"Yes\",IF(G68<'A - Contractor Summary'!$C$36,\"No\",IF(G68>'A - Contractor Summary'!$C$39,\"\",\"\")))","v":"No"},{"$f":"IF(OR(P68=\"Yes\",P68=\"No\")*AND(G68<'A - Contractor Summary'!$C$39),\"\",IF(AND(G68>'A - Contractor Summary'!$C$39,G68<'A - Contractor Summary'!$C$42),\"Yes\",IF(G68>'A - Contractor Summary'!$C$42,\"No\",\"Needs Review\")))","v":""},null,"No",0,0]
[null,56,null,null,null,null,null,null,null,null,null,null,{"$error":"#DIV/0!"},null,null,{"$f":"IF(AND(G69>='A - Contractor Summary'!$C$36,G69<='A - Contractor Summary'!$C$38),\"Yes\",IF(G69<'A - Contractor Summary'!$C$36,\"No\",IF(G69>'A - Contractor Summary'!$C$39,\"\",\"\")))","v":"No"},{"$f":"IF(OR(P69=\"Yes\",P69=\"No\")*AND(G69<'A - Contractor Summary'!$C$39),\"\",IF(AND(G69>'A - Contractor Summary'!$C$39,G69<'A - Contractor Summary'!$C$42),\"Yes\",IF(G69>'A - Contractor Summary'!$C$42,\"No\",\"Needs Review\")))","v":""},null,"No",0,0]
[null,57,null,null,null,null,null,null,null,null,null,null,{"$error":"#DIV/0!"},null,null,{"$f":"IF(AND(G70>='A - Contractor Summary'!$C$36,G70<='A - Contractor Summary'!$C$38),\"Yes\",IF(G70<'A - Contractor Summary'!$C$36,\"No\",IF(G70>'A - Contractor Summary'!$C$39,\"\",\"\")))","v":"No"},{"$f":"IF(OR(P70=\"Yes\",P70=\"No\")*AND(G70<'A - Contractor Summary'!$C$39),\"\",IF(AND(G70>'A - Contractor Summary'!$C$39,G70<'A - Contractor Summary'!$C$42),\"Yes\",IF(G70>'A - Contractor Summary'!$C$42,\"No\",\"Needs Review\")))","v":""},null,"No",0,0]
[null,58,null,null,null,null,null,null,null,null,null,null,{"$error":"#DIV/0!"},null,null,{"$f":"IF(AND(G71>='A - Contractor Summary'!$C$36,G71<='A - Contractor Summary'!$C$38),\"Yes\",IF(G71<'A - Contractor Summary'!$C$36,\"No\",IF(G71>'A - Contractor Summary'!$C$39,\"\",\"\")))","v":"No"},{"$f":"IF(OR(P71=\"Yes\",P71=\"No\")*AND(G71<'A - Contractor Summary'!$C$39),\"\",IF(AND(G71>'A - Contractor Summary'!$C$39,G71<'A - Contractor Summary'!$C$42),\"Yes\",IF(G71>'A - Contractor Summary'!$C$42,\"No\",\"Needs Review\")))","v":""},null,"No",0,0]
[null,59,null,null,null,null,null,null,null,null,null,null,{"$error":"#DIV/0!"},null,null,{"$f":"IF(AND(G72>='A - Contractor Summary'!$C$36,G72<='A - Contractor Summary'!$C$38),\"Yes\",IF(G72<'A - Contractor Summary'!$C$36,\"No\",IF(G72>'A - Contractor Summary'!$C$39,\"\",\"\")))","v":"No"},{"$f":"IF(OR(P72=\"Yes\",P72=\"No\")*AND(G72<'A - Contractor Summary'!$C$39),\"\",IF(AND(G72>'A - Contractor Summary'!$C$39,G72<'A - Contractor Summary'!$C$42),\"Yes\",IF(G72>'A - Contractor Summary'!$C$42,\"No\",\"Needs Review\")))","v":""},null,"No",0,0]
[null,60,null,null,null,null,null,null,null,null,null,null,{"$error":"#DIV/0!"},null,null,{"$f":"IF(AND(G73>='A - Contractor Summary'!$C$36,G73<='A - Contractor Summary'!$C$38),\"Yes\",IF(G73<'A - Contractor Summary'!$C$36,\"No\",IF(G73>'A - Contractor Summary'!$C$39,\"\",\"\")))","v":"No"},{"$f":"IF(OR(P73=\"Yes\",P73=\"No\")*AND(G73<'A - Contractor Summary'!$C$39),\"\",IF(AND(G73>'A - Contractor Summary'!$C$39,G73<'A - Contractor Summary'!$C$42),\"Yes\",IF(G73>'A - Contractor Summary'!$C$42,\"No\",\"Needs Review\")))","v":""},null,"No",0,0]
[null,61,null,null,null,null,null,null,null,null,null,null,{"$error":"#DIV/0!"},null,null,{"$f":"IF(AND(G74>='A - Contractor Summary'!$C$36,G74<='A - Contractor Summary'!$C$38),\"Yes\",IF(G74<'A - Contractor Summary'!$C$36,\"No\",IF(G74>'A - Contractor Summary'!$C$39,\"\",\"\")))","v":"No"},{"$f":"IF(OR(P74=\"Yes\",P74=\"No\")*AND(G74<'A - Contractor Summary'!$C$39),\"\",IF(AND(G74>'A - Contractor Summary'!$C$39,G74<'A - Contractor Summary'!$C$42),\"Yes\",IF(G74>'A - Contractor Summary'!$C$42,\"No\",\"Needs Review\")))","v":""},null,"No",0,0]
[null,62,null,null,null,null,null,null,null,null,null,null,{"$error":"#DIV/0!"},null,null,{"$f":"IF(AND(G75>='A - Contractor Summary'!$C$36,G75<='A - Contractor Summary'!$C$38),\"Yes\",IF(G75<'A - Contractor Summary'!$C$36,\"No\",IF(G75>'A - Contractor Summary'!$C$39,\"\",\"\")))","v":"No"},{"$f":"IF(OR(P75=\"Yes\",P75=\"No\")*AND(G75<'A - Contractor Summary'!$C$39),\"\",IF(AND(G75>'A - Contractor Summary'!$C$39,G75<'A - Contractor Summary'!$C$42),\"Yes\",IF(G75>'A - Contractor Summary'!$C$42,\"No\",\"Needs Review\")))","v":""},null,"No",0,0]
[null,63,null,null,null,null,null,null,null,null,null,null,{"$error":"#DIV/0!"},null,null,{"$f":"IF(AND(G76>='A - Contractor Summary'!$C$36,G76<='A - Contractor Summary'!$C$38),\"Yes\",IF(G76<'A - Contractor Summary'!$C$36,\"No\",IF(G76>'A - Contractor Summary'!$C$39,\"\",\"\")))","v":"No"},{"$f":"IF(OR(P76=\"Yes\",P76=\"No\")*AND(G76<'A - Contractor Summary'!$C$39),\"\",IF(AND(G76>'A - Contractor Summary'!$C$39,G76<'A - Contractor Summary'!$C$42),\"Yes\",IF(G76>'A - Contractor Summary'!$C$42,\"No\",\"Needs Review\")))","v":""},null,"No",0,0,null,null,3]
[null,64,null,null,null,null,null,null,null,null,null,null,{"$error":"#DIV/0!"},null,null,{"$f":"IF(AND(G77>='A - Contractor Summary'!$C$36,G77<='A - Contractor Summary'!$C$38),\"Yes\",IF(G77<'A - Contractor Summary'!$C$36,\"No\",IF(G77>'A - Contractor Summary'!$C$39,\"\",\"\")))","v":"No"},{"$f":"IF(OR(P77=\"Yes\",P77=\"No\")*AND(G77<'A - Contractor Summary'!$C$39),\"\",IF(AND(G77>'A - Contractor Summary'!$C$39,G77<'A - Contractor Summary'!$C$42),\"Yes\",IF(G77>'A - Contractor Summary'!$C$42,\"No\",\"Needs Review\")))","v":""},null,"No",0,0,null,null,3]
[null,65,null,null,null,null,null,null,null,null,null,null,{"$f":"L78/K78","v":{"$error":"#DIV/0!"}},null,null,{"$f":"IF(AND(G78>='A - Contractor Summary'!$C$36,G78<='A - Contractor Summary'!$C$38),\"Yes\",IF(G78<'A - Contractor Summary'!$C$36,\"No\",IF(G78>'A - Contractor Summary'!$C$39,\"\",\"\")))","v":"No"},{"$f":"IF(OR(P78=\"Yes\",P78=\"No\")*AND(G78<'A - Contractor Summary'!$C$39),\"\",IF(AND(G78>'A - Contractor Summary'!$C$39,G78<'A - Contractor Summary'!$C$42),\"Yes\",IF(G78>'A - Contractor Summary'!$C$42,\"No\",\"Needs Review\")))","v":""},null,{"$f":"IF(AND(R78=\"YES\",O78=\"Yes\",N78=\"Yes\")*OR(P78=\"Yes\",Q78=\"Yes\"),\"Yes\",IF(OR(N78=\"No\",O78=\"No\",P78=\"No\",Q78=\"No\",R78=\"No\"),\"No\",\"Needs Review\"))","v":"No"},{"$f":"IF(S78=\"Yes\",L78,0)","v":0},{"$f":"IF(S78=\"Needs Review\",L78,0)","v":0}]
[null,66,null,null,null,null,null,null,null,null,null,null,{"$error":"#DIV/0!"},null,null,{"$f":"IF(AND(G79>='A - Contractor Summary'!$C$36,G79<='A - Contractor Summary'!$C$38),\"Yes\",IF(G79<'A - Contractor Summary'!$C$36,\"No\",IF(G79>'A - Contractor Summary'!$C$39,\"\",\"\")))","v":"No"},{"$f":"IF(OR(P79=\"Yes\",P79=\"No\")*AND(G79<'A - Contractor Summary'!$C$39),\"\",IF(AND(G79>'A - Contractor Summary'!$C$39,G79<'A - Contractor Summary'!$C$42),\"Yes\",IF(G79>'A - Contractor Summary'!$C$42,\"No\",\"Needs Review\")))","v":""},null,"No",0,0]
[null,67,null,null,null,null,null,null,null,null,null,null,{"$error":"#DIV/0!"},null,null,{"$f":"IF(AND(G80>='A - Contractor Summary'!$C$36,G80<='A - Contractor Summary'!$C$38),\"Yes\",IF(G80<'A - Contractor Summary'!$C$36,\"No\",IF(G80>'A - Contractor Summary'!$C$39,\"\",\"\")))","v":"No"},{"$f":"IF(OR(P80=\"Yes\",P80=\"No\")*AND(G80<'A - Contractor Summary'!$C$39),\"\",IF(AND(G80>'A - Contractor Summary'!$C$39,G80<'A - Contractor Summary'!$C$42),\"Yes\",IF(G80>'A - Contractor Summary'!$C$42,\"No\",\"Needs Review\")))","v":""},null,"No",0,0]
[null,68,null,null,null,null,null,null,null,null,null,null,{"$error":"#DIV/0!"},null,null,{"$f":"IF(AND(G81>='A - Contractor Summary'!$C$36,G81<='A - Contractor Summary'!$C$38),\"Yes\",IF(G81<'A - Contractor Summary'!$C$36,\"No\",IF(G81>'A - Contractor Summary'!$C$39,\"\",\"\")))","v":"No"},{"$f":"IF(OR(P81=\"Yes\",P81=\"No\")*AND(G81<'A - Contractor Summary'!$C$39),\"\",IF(AND(G81>'A - Contractor Summary'!$C$39,G81<'A - Contractor Summary'!$C$42),\"Yes\",IF(G81>'A - Contractor Summary'!$C$42,\"No\",\"Needs Review\")))","v":""},null,"No",0,0,null,null,3]
[null,69,null,null,null,null,null,null,null,null,null,null,{"$error":"#DIV/0!"},null,null,{"$f":"IF(AND(G82>='A - Contractor Summary'!$C$36,G82<='A - Contractor Summary'!$C$38),\"Yes\",IF(G82<'A - Contractor Summary'!$C$36,\"No\",IF(G82>'A - Contractor Summary'!$C$39,\"\",\"\")))","v":"No"},{"$f":"IF(OR(P82=\"Yes\",P82=\"No\")*AND(G82<'A - Contractor Summary'!$C$39),\"\",IF(AND(G82>'A - Contractor Summary'!$C$39,G82<'A - Contractor Summary'!$C$42),\"Yes\",IF(G82>'A - Contractor Summary'!$C$42,\"No\",\"Needs Review\")))","v":""},null,"No",0,0,null,null,3]
[null,70,null,null,null,null,null,null,null,null,null,null,{"$error":"#DIV/0!"},null,null,{"$f":"IF(AND(G83>='A - Contractor Summary'!$C$36,G83<='A - Contractor Summary'!$C$38),\"Yes\",IF(G83<'A - Contractor Summary'!$C$36,\"No\",IF(G83>'A - Contractor Summary'!$C$39,\"\",\"\")))","v":"No"},{"$f":"IF(OR(P83=\"Yes\",P83=\"No\")*AND(G83<'A - Contractor Summary'!$C$39),\"\",IF(AND(G83>'A - Contractor Summary'!$C$39,G83<'A - Contractor Summary'!$C$42),\"Yes\",IF(G83>'A - Contractor Summary'!$C$42,\"No\",\"Needs Review\")))","v":""},null,"No",0,0]
[null,71,null,null,null,null,null,null,null,null,null,null,{"$error":"#DIV/0!"},null,null,{"$f":"IF(AND(G84>='A - Contractor Summary'!$C$36,G84<='A - Contractor Summary'!$C$38),\"Yes\",IF(G84<'A - Contractor Summary'!$C$36,\"No\",IF(G84>'A - Contractor Summary'!$C$39,\"\",\"\")))","v":"No"},{"$f":"IF(OR(P84=\"Yes\",P84=\"No\")*AND(G84<'A - Contractor Summary'!$C$39),\"\",IF(AND(G84>'A - Contractor Summary'!$C$39,G84<'A - Contractor Summary'!$C$42),\"Yes\",IF(G84>'A - Contractor Summary'!$C$42,\"No\",\"Needs Review\")))","v":""},null,"No",0,0]
[null,72,null,null,null,null,null,null,null,null,null,null,{"$error":"#DIV/0!"},null,null,{"$f":"IF(AND(G85>='A - Contractor Summary'!$C$36,G85<='A - Contractor Summary'!$C$38),\"Yes\",IF(G85<'A - Contractor Summary'!$C$36,\"No\",IF(G85>'A - Contractor Summary'!$C$39,\"\",\"\")))","v":"No"},{"$f":"IF(OR(P85=\"Yes\",P85=\"No\")*AND(G85<'A - Contractor Summary'!$C$39),\"\",IF(AND(G85>'A - Contractor Summary'!$C$39,G85<'A - Contractor Summary'!$C$42),\"Yes\",IF(G85>'A - Contractor Summary'!$C$42,\"No\",\"Needs Review\")))","v":""},null,"No",0,0]
[null,73,null,null,null,null,null,null,null,null,null,null,{"$error":"#DIV/0!"},null,null,{"$f":"IF(AND(G86>='A - Contractor Summary'!$C$36,G86<='A - Contractor Summary'!$C$38),\"Yes\",IF(G86<'A - Contractor Summary'!$C$36,\"No\",IF(G86>'A - Contractor Summary'!$C$39,\"\",\"\")))","v":"No"},{"$f":"IF(OR(P86=\"Yes\",P86=\"No\")*AND(G86<'A - Contractor Summary'!$C$39),\"\",IF(AND(G86>'A - Contractor Summary'!$C$39,G86<'A - Contractor Summary'!$C$42),\"Yes\",IF(G86>'A - Contractor Summary'!$C$42,\"No\",\"Needs Review\")))","v":""},null,"No",0,0]
[null,74,null,null,null,null,null,null,null,null,null,null,{"$error":"#DIV/0!"},null,null,{"$f":"IF(AND(G87>='A - Contractor Summary'!$C$36,G87<='A - Contractor Summary'!$C$38),\"Yes\",IF(G87<'A - Contractor Summary'!$C$36,\"No\",IF(G87>'A - Contractor Summary'!$C$39,\"\",\"\")))","v":"No"},{"$f":"IF(OR(P87=\"Yes\",P87=\"No\")*AND(G87<'A - Contractor Summary'!$C$39),\"\",IF(AND(G87>'A - Contractor Summary'!$C$39,G87<'A - Contractor Summary'!$C$42),\"Yes\",IF(G87>'A - Contractor Summary'!$C$42,\"No\",\"Needs Review\")))","v":""},null,"No",0,0]
[null,75,null,null,null,null,null,null,null,null,null,null,{"$error":"#DIV/0!"},null,null,{"$f":"IF(AND(G88>='A - Contractor Summary'!$C$36,G88<='A - Contractor Summary'!$C$38),\"Yes\",IF(G88<'A - Contractor Summary'!$C$36,\"No\",IF(G88>'A - Contractor Summary'!$C$39,\"\",\"\")))","v":"No"},{"$f":"IF(OR(P88=\"Yes\",P88=\"No\")*AND(G88<'A - Contractor Summary'!$C$39),\"\",IF(AND(G88>'A - Contractor Summary'!$C$39,G88<'A - Contractor Summary'!$C$42),\"Yes\",IF(G88>'A - Contractor Summary'!$C$42,\"No\",\"Needs Review\")))","v":""},null,"No",0,71.680000000000007,{"$f":"+M88","v":{"$error":"#DIV/0!"}},null,4]
[null,76,null,null,null,null,null,null,null,null,null,null,{"$error":"#DIV/0!"},null,null,{"$f":"IF(AND(G89>='A - Contractor Summary'!$C$36,G89<='A - Contractor Summary'!$C$38),\"Yes\",IF(G89<'A - Contractor Summary'!$C$36,\"No\",IF(G89>'A - Contractor Summary'!$C$39,\"\",\"\")))","v":"No"},{"$f":"IF(OR(P89=\"Yes\",P89=\"No\")*AND(G89<'A - Contractor Summary'!$C$39),\"\",IF(AND(G89>'A - Contractor Summary'!$C$39,G89<'A - Contractor Summary'!$C$42),\"Yes\",IF(G89>'A - Contractor Summary'!$C$42,\"No\",\"Needs Review\")))","v":""},null,"No",0,71.680000000000007,{"$f":"+M89","v":{"$error":"#DIV/0!"}},null,4]
[null,77,null,null,null,null,null,null,null,null,null,null,{"$error":"#DIV/0!"},null,null,{"$f":"IF(AND(G90>='A - Contractor Summary'!$C$36,G90<='A - Contractor Summary'!$C$38),\"Yes\",IF(G90<'A - Contractor Summary'!$C$36,\"No\",IF(G90>'A - Contractor Summary'!$C$39,\"\",\"\")))","v":"No"},{"$f":"IF(OR(P90=\"Yes\",P90=\"No\")*AND(G90<'A - Contractor Summary'!$C$39),\"\",IF(AND(G90>'A - Contractor Summary'!$C$39,G90<'A - Contractor Summary'!$C$42),\"Yes\",IF(G90>'A - Contractor Summary'!$C$42,\"No\",\"Needs Review\")))","v":""},null,"No",0,0,null,null,"2,3"]
[null,78,null,null,null,null,null,null,null,null,null,null,{"$error":"#DIV/0!"},null,null,{"$f":"IF(AND(G91>='A - Contractor Summary'!$C$36,G91<='A - Contractor Summary'!$C$38),\"Yes\",IF(G91<'A - Contractor Summary'!$C$36,\"No\",IF(G91>'A - Contractor Summary'!$C$39,\"\",\"\")))","v":"No"},{"$f":"IF(OR(P91=\"Yes\",P91=\"No\")*AND(G91<'A - Contractor Summary'!$C$39),\"\",IF(AND(G91>'A - Contractor Summary'!$C$39,G91<'A - Contractor Summary'!$C$42),\"Yes\",IF(G91>'A - Contractor Summary'!$C$42,\"No\",\"Needs Review\")))","v":""},null,"No",0,0,null,null,1]
[null,79,null,null,null,null,null,null,null,null,null,null,{"$error":"#DIV/0!"},null,null,{"$f":"IF(AND(G92>='A - Contractor Summary'!$C$36,G92<='A - Contractor Summary'!$C$38),\"Yes\",IF(G92<'A - Contractor Summary'!$C$36,\"No\",IF(G92>'A - Contractor Summary'!$C$39,\"\",\"\")))","v":"No"},{"$f":"IF(OR(P92=\"Yes\",P92=\"No\")*AND(G92<'A - Contractor Summary'!$C$39),\"\",IF(AND(G92>'A - Contractor Summary'!$C$39,G92<'A - Contractor Summary'!$C$42),\"Yes\",IF(G92>'A - Contractor Summary'!$C$42,\"No\",\"Needs Review\")))","v":""},null,"No",0,0,null,null,1]
[null,null,null,null,null,null,null,null,null,null,null,{"$f":"SUM(L14:L92)","v":0},null,null,null,null,null,null,null,{"$f":"IFERROR(SUM(T14:T92),0)","v":0},{"$f":"IFERROR(SUM(U14:U92),0)","v":143.36000000000001},0,{"$f":"IFERROR(SUM(W14:W92),0)","v":0},{"$f":"U93-V93-W93","v":143.36000000000001},"check (a)"]
[]
[]
[null,"Tickmark Explanation:"]
[null,1]
[null,2]
[null,3]
[null,4]

{"sheet":"E - Fuel","index":9,"n_rows":40,"n_cols":22,"rows_kept":40,"cut":false,"hidden":false,"merged":[[1,1,1,20],[3,1,6,11],[11,12,11,20],[11,1,11,11],[4,15,6,20]]}
[]
[null,"Fuel Charges"]
[]
[null,"Test Plan: (A) Obtain support of individual charges. (B) Enter Yes/No if receipt is itemized (C) Enter Yes/No if proof of payment has been provided. (D) Ensure charges fall between the dates the vendor was mobilized and the date they arrived.  (E) Ensure charges are prior to the date the vendor arrived home or was released to another utility.  (F) Ensure the location of charge was reasonable (G) Determine the amount(s) to be reviewed, allowed  and/or disallowed.  (H)  For charges which required further review, document review (include why it was determined to be allowed/disallowed via a tickmark)."]
[null,null,null,null,null,null,null,null,null,null,null,null,null,null,null,"No Fuel Charges"]
[]
[]
[]
[null,"a","Check figure should equal $0.  Cell will appear yellow if discrepancies are noted."]
[]
[null,null,"A",null,null,null,null,null,null,null,"B","C","D","E","F","G",null,null,"H"]
[null,"Support Reviewed",null,null,null,null,null,null,null,null,null,null,"Conclusions"]
[null,"#","Type of Support","Support Identifier","Company","Date","Person","Name","Location","Total Charge","Itemized Receipt","Proof of Payment","Reasonable based on Mobilization date(s)","Reasonable based on Demobilization date(s)","Locations Reasonable","Conclusion","$ Allowable Charge","$ To Be Reviewed","Reviewed - Allowable Charge","Reviewed - Unallowable Charge","Tickmarks"]
[null,1,null,null,null,null,null,null,null,null,null,null,{"$f":"IF(AND(F14>='A - Contractor Summary'!$C$36,F14<='A - Contractor Summary'!$C$38),\"Yes\",IF(F14<'A - Contractor Summary'!$C$36,\"No\",IF(F14>'A - Contractor Summary'!$C$39,\"\",\"\")))","v":"No"},{"$f":"IF(OR(M14=\"Yes\",M14=\"No\")*AND(F14<'A - Contractor Summary'!$C$39),\"\",IF(AND(F14>'A - Contractor Summary'!$C$39,F14<'A - Contractor Summary'!$C$42),\"Yes\",IF(F14>'A - Contractor Summary'!$C$42,\"No\",\"Needs Review\")))","v":""},null,{"$f":"IF(AND(O14=\"Yes\",K14=\"Yes\",L14=\"Yes\")*OR(N14=\"Yes\",M14=\"Yes\"),\"Yes\",IF(OR(K14=\"No\",M14=\"No\",N14=\"No\",O14=\"No\",L14=\"No\"),\"No\",\"Needs Review\"))","v":"No"},{"$f":"IF(P14=\"Yes\",J14,0)","v":0},{"$f":"IF(P14=\"Needs Review\",J14,0)","v":0}]
[null,2,null,null,null,null,null,null,null,null,null,null,{"$f":"IF(AND(F15>='A - Contractor Summary'!$C$36,F15<='A - Contractor Summary'!$C$38),\"Yes\",IF(F15<'A - Contractor Summary'!$C$36,\"No\",IF(F15>'A - Contractor Summary'!$C$39,\"\",\"\")))","v":"No"},{"$f":"IF(OR(M15=\"Yes\",M15=\"No\")*AND(F15<'A - Contractor Summary'!$C$39),\"\",IF(AND(F15>'A - Contractor Summary'!$C$39,F15<'A - Contractor Summary'!$C$42),\"Yes\",IF(F15>'A - Contractor Summary'!$C$42,\"No\",\"Needs Review\")))","v":""},null,{"$f":"IF(AND(O15=\"Yes\",K15=\"Yes\",L15=\"Yes\")*OR(N15=\"Yes\",M15=\"Yes\"),\"Yes\",IF(OR(K15=\"No\",M15=\"No\",N15=\"No\",O15=\"No\",L15=\"No\"),\"No\",\"Needs Review\"))","v":"No"},0,0]
[null,3,null,null,null,null,null,null,null,null,null,null,{"$f":"IF(AND(F16>='A - Contractor Summary'!$C$36,F16<='A - Contractor Summary'!$C$38),\"Yes\",IF(F16<'A - Contractor Summary'!$C$36,\"No\",IF(F16>'A - Contractor Summary'!$C$39,\"\",\"\")))","v":"No"},{"$f":"IF(OR(M16=\"Yes\",M16=\"No\")*AND(F16<'A - Contractor Summary'!$C$39),\"\",IF(AND(F16>'A - Contractor Summary'!$C$39,F16<'A - Contractor Summary'!$C$42),\"Yes\",IF(F16>'A - Contractor Summary'!$C$42,\"No\",\"Needs Review\")))","v":""},null,"No",0,0]
[null,4,null,null,null,null,null,null,null,null,null,null,{"$f":"IF(AND(F17>='A - Contractor Summary'!$C$36,F17<='A - Contractor Summary'!$C$38),\"Yes\",IF(F17<'A - Contractor Summary'!$C$36,\"No\",IF(F17>'A - Contractor Summary'!$C$39,\"\",\"\")))","v":"No"},{"$f":"IF(OR(M17=\"Yes\",M17=\"No\")*AND(F17<'A - Contractor Summary'!$C$39),\"\",IF(AND(F17>'A - Contractor Summary'!$C$39,F17<'A - Contractor Summary'!$C$42),\"Yes\",IF(F17>'A - Contractor Summary'!$C$42,\"No\",\"Needs Review\")))","v":""},null,"No",0,0]
[null,5,null,null,null,null,null,null,null,null,null,null,{"$f":"IF(AND(F18>='A - Contractor Summary'!$C$36,F18<='A - Contractor Summary'!$C$38),\"Yes\",IF(F18<'A - Contractor Summary'!$C$36,\"No\",IF(F18>'A - Contractor Summary'!$C$39,\"\",\"\")))","v":"No"},{"$f":"IF(OR(M18=\"Yes\",M18=\"No\")*AND(F18<'A - Contractor Summary'!$C$39),\"\",IF(AND(F18>'A - Contractor Summary'!$C$39,F18<'A - Contractor Summary'!$C$42),\"Yes\",IF(F18>'A - Contractor Summary'!$C$42,\"No\",\"Needs Review\")))","v":""},null,"No",0,0]
[null,6,null,null,null,null,null,null,null,null,null,null,{"$f":"IF(AND(F19>='A - Contractor Summary'!$C$36,F19<='A - Contractor Summary'!$C$38),\"Yes\",IF(F19<'A - Contractor Summary'!$C$36,\"No\",IF(F19>'A - Contractor Summary'!$C$39,\"\",\"\")))","v":"No"},{"$f":"IF(OR(M19=\"Yes\",M19=\"No\")*AND(F19<'A - Contractor Summary'!$C$39),\"\",IF(AND(F19>'A - Contractor Summary'!$C$39,F19<'A - Contractor Summary'!$C$42),\"Yes\",IF(F19>'A - Contractor Summary'!$C$42,\"No\",\"Needs Review\")))","v":""},null,"No",0,0]
[null,7,null,null,null,null,null,null,null,null,null,null,{"$f":"IF(AND(F20>='A - Contractor Summary'!$C$36,F20<='A - Contractor Summary'!$C$38),\"Yes\",IF(F20<'A - Contractor Summary'!$C$36,\"No\",IF(F20>'A - Contractor Summary'!$C$39,\"\",\"\")))","v":"No"},{"$f":"IF(OR(M20=\"Yes\",M20=\"No\")*AND(F20<'A - Contractor Summary'!$C$39),\"\",IF(AND(F20>'A - Contractor Summary'!$C$39,F20<'A - Contractor Summary'!$C$42),\"Yes\",IF(F20>'A - Contractor Summary'!$C$42,\"No\",\"Needs Review\")))","v":""},null,"No",0,0]
[null,8,null,null,null,null,null,null,null,null,null,null,{"$f":"IF(AND(F21>='A - Contractor Summary'!$C$36,F21<='A - Contractor Summary'!$C$38),\"Yes\",IF(F21<'A - Contractor Summary'!$C$36,\"No\",IF(F21>'A - Contractor Summary'!$C$39,\"\",\"\")))","v":"No"},{"$f":"IF(OR(M21=\"Yes\",M21=\"No\")*AND(F21<'A - Contractor Summary'!$C$39),\"\",IF(AND(F21>'A - Contractor Summary'!$C$39,F21<'A - Contractor Summary'!$C$42),\"Yes\",IF(F21>'A - Contractor Summary'!$C$42,\"No\",\"Needs Review\")))","v":""},null,"No",0,0]
[null,9,null,null,null,null,null,null,null,null,null,null,{"$f":"IF(AND(F22>='A - Contractor Summary'!$C$36,F22<='A - Contractor Summary'!$C$38),\"Yes\",IF(F22<'A - Contractor Summary'!$C$36,\"No\",IF(F22>'A - Contractor Summary'!$C$39,\"\",\"\")))","v":"No"},{"$f":"IF(OR(M22=\"Yes\",M22=\"No\")*AND(F22<'A - Contractor Summary'!$C$39),\"\",IF(AND(F22>'A - Contractor Summary'!$C$39,F22<'A - Contractor Summary'!$C$42),\"Yes\",IF(F22>'A - Contractor Summary'!$C$42,\"No\",\"Needs Review\")))","v":""},null,"No",0,0]
[null,10,null,null,null,null,null,null,null,null,null,null,{"$f":"IF(AND(F23>='A - Contractor Summary'!$C$36,F23<='A - Contractor Summary'!$C$38),\"Yes\",IF(F23<'A - Contractor Summary'!$C$36,\"No\",IF(F23>'A - Contractor Summary'!$C$39,\"\",\"\")))","v":"No"},{"$f":"IF(OR(M23=\"Yes\",M23=\"No\")*AND(F23<'A - Contractor Summary'!$C$39),\"\",IF(AND(F23>'A - Contractor Summary'!$C$39,F23<'A - Contractor Summary'!$C$42),\"Yes\",IF(F23>'A - Contractor Summary'!$C$42,\"No\",\"Needs Review\")))","v":""},null,"No",0,0]
[null,11,null,null,null,null,null,null,null,null,null,null,{"$f":"IF(AND(F24>='A - Contractor Summary'!$C$36,F24<='A - Contractor Summary'!$C$38),\"Yes\",IF(F24<'A - Contractor Summary'!$C$36,\"No\",IF(F24>'A - Contractor Summary'!$C$39,\"\",\"\")))","v":"No"},{"$f":"IF(OR(M24=\"Yes\",M24=\"No\")*AND(F24<'A - Contractor Summary'!$C$39),\"\",IF(AND(F24>'A - Contractor Summary'!$C$39,F24<'A - Contractor Summary'!$C$42),\"Yes\",IF(F24>'A - Contractor Summary'!$C$42,\"No\",\"Needs Review\")))","v":""},null,"No",0,0]
[null,12,null,null,null,null,null,null,null,null,null,null,{"$f":"IF(AND(F25>='A - Contractor Summary'!$C$36,F25<='A - Contractor Summary'!$C$38),\"Yes\",IF(F25<'A - Contractor Summary'!$C$36,\"No\",IF(F25>'A - Contractor Summary'!$C$39,\"\",\"\")))","v":"No"},{"$f":"IF(OR(M25=\"Yes\",M25=\"No\")*AND(F25<'A - Contractor Summary'!$C$39),\"\",IF(AND(F25>'A - Contractor Summary'!$C$39,F25<'A - Contractor Summary'!$C$42),\"Yes\",IF(F25>'A - Contractor Summary'!$C$42,\"No\",\"Needs Review\")))","v":""},null,"No",0,0]
[null,13,null,null,null,null,null,null,null,null,null,null,{"$f":"IF(AND(F26>='A - Contractor Summary'!$C$36,F26<='A - Contractor Summary'!$C$38),\"Yes\",IF(F26<'A - Contractor Summary'!$C$36,\"No\",IF(F26>'A - Contractor Summary'!$C$39,\"\",\"\")))","v":"No"},{"$f":"IF(OR(M26=\"Yes\",M26=\"No\")*AND(F26<'A - Contractor Summary'!$C$39),\"\",IF(AND(F26>'A - Contractor Summary'!$C$39,F26<'A - Contractor Summary'!$C$42),\"Yes\",IF(F26>'A - Contractor Summary'!$C$42,\"No\",\"Needs Review\")))","v":""},null,"No",0,0]
[null,14,null,null,null,null,null,null,null,null,null,null,{"$f":"IF(AND(F27>='A - Contractor Summary'!$C$36,F27<='A - Contractor Summary'!$C$38),\"Yes\",IF(F27<'A - Contractor Summary'!$C$36,\"No\",IF(F27>'A - Contractor Summary'!$C$39,\"\",\"\")))","v":"No"},{"$f":"IF(OR(M27=\"Yes\",M27=\"No\")*AND(F27<'A - Contractor Summary'!$C$39),\"\",IF(AND(F27>'A - Contractor Summary'!$C$39,F27<'A - Contractor Summary'!$C$42),\"Yes\",IF(F27>'A - Contractor Summary'!$C$42,\"No\",\"Needs Review\")))","v":""},null,"No",0,0]
[null,15,null,null,null,null,null,null,null,null,null,null,{"$f":"IF(AND(F28>='A - Contractor Summary'!$C$36,F28<='A - Contractor Summary'!$C$38),\"Yes\",IF(F28<'A - Contractor Summary'!$C$36,\"No\",IF(F28>'A - Contractor Summary'!$C$39,\"\",\"\")))","v":"No"},{"$f":"IF(OR(M28=\"Yes\",M28=\"No\")*AND(F28<'A - Contractor Summary'!$C$39),\"\",IF(AND(F28>'A - Contractor Summary'!$C$39,F28<'A - Contractor Summary'!$C$42),\"Yes\",IF(F28>'A - Contractor Summary'!$C$42,\"No\",\"Needs Review\")))","v":""},null,"No",0,0]
[null,16,null,null,null,null,null,null,null,null,null,null,{"$f":"IF(AND(F29>='A - Contractor Summary'!$C$36,F29<='A - Contractor Summary'!$C$38),\"Yes\",IF(F29<'A - Contractor Summary'!$C$36,\"No\",IF(F29>'A - Contractor Summary'!$C$39,\"\",\"\")))","v":"No"},{"$f":"IF(OR(M29=\"Yes\",M29=\"No\")*AND(F29<'A - Contractor Summary'!$C$39),\"\",IF(AND(F29>'A - Contractor Summary'!$C$39,F29<'A - Contractor Summary'!$C$42),\"Yes\",IF(F29>'A - Contractor Summary'!$C$42,\"No\",\"Needs Review\")))","v":""},null,"No",0,0]
[null,17,null,null,null,null,null,null,null,null,null,null,{"$f":"IF(AND(F30>='A - Contractor Summary'!$C$36,F30<='A - Contractor Summary'!$C$38),\"Yes\",IF(F30<'A - Contractor Summary'!$C$36,\"No\",IF(F30>'A - Contractor Summary'!$C$39,\"\",\"\")))","v":"No"},{"$f":"IF(OR(M30=\"Yes\",M30=\"No\")*AND(F30<'A - Contractor Summary'!$C$39),\"\",IF(AND(F30>'A - Contractor Summary'!$C$39,F30<'A - Contractor Summary'!$C$42),\"Yes\",IF(F30>'A - Contractor Summary'!$C$42,\"No\",\"Needs Review\")))","v":""},null,"No",0,0]
[null,18,null,null,null,null,null,null,null,null,null,null,{"$f":"IF(AND(F31>='A - Contractor Summary'!$C$36,F31<='A - Contractor Summary'!$C$38),\"Yes\",IF(F31<'A - Contractor Summary'!$C$36,\"No\",IF(F31>'A - Contractor Summary'!$C$39,\"\",\"\")))","v":"No"},{"$f":"IF(OR(M31=\"Yes\",M31=\"No\")*AND(F31<'A - Contractor Summary'!$C$39),\"\",IF(AND(F31>'A - Contractor Summary'!$C$39,F31<'A - Contractor Summary'!$C$42),\"Yes\",IF(F31>'A - Contractor Summary'!$C$42,\"No\",\"Needs Review\")))","v":""},null,"No",{"$f":"IF(P31=\"Yes\",#REF!,0)","v":0},{"$f":"IF(P31=\"ED Review\",#REF!,0)","v":0}]
[null,19,null,null,null,null,null,null,null,null,null,null,{"$f":"IF(AND(F32>='A - Contractor Summary'!$C$36,F32<='A - Contractor Summary'!$C$38),\"Yes\",IF(F32<'A - Contractor Summary'!$C$36,\"No\",IF(F32>'A - Contractor Summary'!$C$39,\"\",\"\")))","v":"No"},{"$f":"IF(OR(M32=\"Yes\",M32=\"No\")*AND(F32<'A - Contractor Summary'!$C$39),\"\",IF(AND(F32>'A - Contractor Summary'!$C$39,F32<'A - Contractor Summary'!$C$42),\"Yes\",IF(F32>'A - Contractor Summary'!$C$42,\"No\",\"Needs Review\")))","v":""},null,"No",{"$f":"IF(P32=\"Yes\",#REF!,0)","v":0},{"$f":"IF(P32=\"ED Review\",#REF!,0)","v":0}]
[null,20,null,null,null,null,null,null,null,null,null,null,{"$f":"IF(AND(F33>='A - Contractor Summary'!$C$36,F33<='A - Contractor Summary'!$C$38),\"Yes\",IF(F33<'A - Contractor Summary'!$C$36,\"No\",IF(F33>'A - Contractor Summary'!$C$39,\"\",\"\")))","v":"No"},{"$f":"IF(OR(M33=\"Yes\",M33=\"No\")*AND(F33<'A - Contractor Summary'!$C$39),\"\",IF(AND(F33>'A - Contractor Summary'!$C$39,F33<'A - Contractor Summary'!$C$42),\"Yes\",IF(F33>'A - Contractor Summary'!$C$42,\"No\",\"Needs Review\")))","v":""},null,"No",{"$f":"IF(P33=\"Yes\",#REF!,0)","v":0},{"$f":"IF(P33=\"ED Review\",#REF!,0)","v":0}]
[null,null,null,null,null,null,null,null,null,{"$f":"SUM(J14:J33)","v":0},null,null,null,null,null,null,{"$f":"IFERROR(SUM(Q14:Q33),0)","v":0},{"$f":"IFERROR(SUM(R14:R33),0)","v":0},{"$f":"SUM(S14:S33)","v":0},{"$f":"SUM(T14:T33)","v":0},{"$f":"R34-S34-T34","v":0},"check (a)"]
[]
[]
[]
[]
[]
[null,"Tickmark Explanation:"]

{"sheet":"F - Meals","index":10,"n_rows":152,"n_cols":23,"rows_kept":152,"cut":false,"hidden":false,"merged":[[11,13,11,21],[3,1,6,12],[1,1,1,21],[11,1,11,12]]}
[]
[null,"Meal Charges"]
[]
[null,"Test Plan: (A) Obtain support of individual charges.  (B) Enter Yes/No if receipt is itemized.  (C) Enter Yes/No if proof of payment has been provided.  (D) Ensure charges fall between the dates the vendor was mobilized and the date they arrived.  (E) Ensure charges are prior to the date the vendor arrived home or was released to another utility.  (F) Ensure the location of charge was reasonable (G) Determine the amount(s) to be reviewed, allowed and/or disallowed.  (H) For charges which required further review, document review and include why it was determined to be allowed/disallowed via a tickmark. "]
[]
[]
[]
[]
[null,"a","Check figure should equal $0.  Cell will appear yellow if discrepancies are noted."]
[]
[null,null,"A",null,null,null,null,null,null,null,null,"B","C","D","E","F","G",null,null,"H"]
[null,"Support Reviewed",null,null,null,null,null,null,null,null,null,null,null,"Conclusions"]
[null,"#","Type of Support","Support Identifier","Company","Crew","Date","Person"," Restaurant Name","Location","$ Total","Itemized Receipt","Proof of Payment","Reasonable based on Mobilization date(s)","Reasonable based on Demobilization date(s)","Locations Reasonable","Conclusion","$ Allowable Charge","$ To Be Reviewed","Reviewed - Allowable Charge","Reviewed - Unallowable Charge","Tickmarks"]
[null,1,null,null,null,null,null,null,null,null,null,null,null,{"$f":"IF(AND(G14>='A - Contractor Summary'!$C$36,G14<='A - Contractor Summary'!$C$38),\"Yes\",IF(G14<'A - Contractor Summary'!$C$36,\"No\",IF(G14>'A - Contractor Summary'!$C$39,\"\",\"\")))","v":"No"},{"$f":"IF(OR(N14=\"Yes\",N14=\"No\")*AND(G14<'A - Contractor Summary'!$C$39),\"\",IF(AND(G14>'A - Contractor Summary'!$C$39,G14<'A - Contractor Summary'!$C$42),\"Yes\",IF(G14>'A - Contractor Summary'!$C$42,\"No\",\"Needs Review\")))","v":""},"Yes",{"$f":"IF(AND(P14=\"Yes\",L14=\"Yes\",M14=\"Yes\")*OR(O14=\"Yes\",N14=\"Yes\"),\"Yes\",IF(OR(L14=\"No\",N14=\"No\",O14=\"No\",P14=\"No\",M14=\"No\"),\"No\",\"Needs Review\"))","v":"No"},{"$f":"IF(Q14=\"Yes\",K14,0)","v":0},{"$f":"IF(Q14=\"Needs Review\",K14,0)","v":0}]
[null,2,null,null,null,null,null,null,null,null,null,null,null,{"$f":"IF(AND(G15>='A - Contractor Summary'!$C$36,G15<='A - Contractor Summary'!$C$38),\"Yes\",IF(G15<'A - Contractor Summary'!$C$36,\"No\",IF(G15>'A - Contractor Summary'!$C$39,\"\",\"\")))","v":"No"},{"$f":"IF(OR(N15=\"Yes\",N15=\"No\")*AND(G15<'A - Contractor Summary'!$C$39),\"\",IF(AND(G15>'A - Contractor Summary'!$C$39,G15<'A - Contractor Summary'!$C$42),\"Yes\",IF(G15>'A - Contractor Summary'!$C$42,\"No\",\"Needs Review\")))","v":""},"Yes","No",0,0]
[null,3,null,null,null,null,null,null,null,null,null,null,null,{"$f":"IF(AND(G16>='A - Contractor Summary'!$C$36,G16<='A - Contractor Summary'!$C$38),\"Yes\",IF(G16<'A - Contractor Summary'!$C$36,\"No\",IF(G16>'A - Contractor Summary'!$C$39,\"\",\"\")))","v":"No"},{"$f":"IF(OR(N16=\"Yes\",N16=\"No\")*AND(G16<'A - Contractor Summary'!$C$39),\"\",IF(AND(G16>'A - Contractor Summary'!$C$39,G16<'A - Contractor Summary'!$C$42),\"Yes\",IF(G16>'A - Contractor Summary'!$C$42,\"No\",\"Needs Review\")))","v":""},"Yes","No",0,0]
[null,4,null,null,null,null,null,null,null,null,null,null,null,{"$f":"IF(AND(G17>='A - Contractor Summary'!$C$36,G17<='A - Contractor Summary'!$C$38),\"Yes\",IF(G17<'A - Contractor Summary'!$C$36,\"No\",IF(G17>'A - Contractor Summary'!$C$39,\"\",\"\")))","v":"No"},{"$f":"IF(OR(N17=\"Yes\",N17=\"No\")*AND(G17<'A - Contractor Summary'!$C$39),\"\",IF(AND(G17>'A - Contractor Summary'!$C$39,G17<'A - Contractor Summary'!$C$42),\"Yes\",IF(G17>'A - Contractor Summary'!$C$42,\"No\",\"Needs Review\")))","v":""},"Yes","No",0,0]
[null,5,null,null,null,null,null,null,null,null,null,null,null,{"$f":"IF(AND(G18>='A - Contractor Summary'!$C$36,G18<='A - Contractor Summary'!$C$38),\"Yes\",IF(G18<'A - Contractor Summary'!$C$36,\"No\",IF(G18>'A - Contractor Summary'!$C$39,\"\",\"\")))","v":"No"},{"$f":"IF(OR(N18=\"Yes\",N18=\"No\")*AND(G18<'A - Contractor Summary'!$C$39),\"\",IF(AND(G18>'A - Contractor Summary'!$C$39,G18<'A - Contractor Summary'!$C$42),\"Yes\",IF(G18>'A - Contractor Summary'!$C$42,\"No\",\"Needs Review\")))","v":""},"No","No",0,0]
[null,6,null,null,null,null,null,null,null,null,null,null,null,{"$f":"IF(AND(G19>='A - Contractor Summary'!$C$36,G19<='A - Contractor Summary'!$C$38),\"Yes\",IF(G19<'A - Contractor Summary'!$C$36,\"No\",IF(G19>'A - Contractor Summary'!$C$39,\"\",\"\")))","v":"No"},{"$f":"IF(OR(N19=\"Yes\",N19=\"No\")*AND(G19<'A - Contractor Summary'!$C$39),\"\",IF(AND(G19>'A - Contractor Summary'!$C$39,G19<'A - Contractor Summary'!$C$42),\"Yes\",IF(G19>'A - Contractor Summary'!$C$42,\"No\",\"Needs Review\")))","v":""},"Yes","No",0,0]
[null,7,null,null,null,null,null,null,null,null,null,null,null,{"$f":"IF(AND(G20>='A - Contractor Summary'!$C$36,G20<='A - Contractor Summary'!$C$38),\"Yes\",IF(G20<'A - Contractor Summary'!$C$36,\"No\",IF(G20>'A - Contractor Summary'!$C$39,\"\",\"\")))","v":"No"},{"$f":"IF(OR(N20=\"Yes\",N20=\"No\")*AND(G20<'A - Contractor Summary'!$C$39),\"\",IF(AND(G20>'A - Contractor Summary'!$C$39,G20<'A - Contractor Summary'!$C$42),\"Yes\",IF(G20>'A - Contractor Summary'!$C$42,\"No\",\"Needs Review\")))","v":""},"Yes","No",0,0]
[null,8,null,null,null,null,null,null,null,null,null,null,null,{"$f":"IF(AND(G21>='A - Contractor Summary'!$C$36,G21<='A - Contractor Summary'!$C$38),\"Yes\",IF(G21<'A - Contractor Summary'!$C$36,\"No\",IF(G21>'A - Contractor Summary'!$C$39,\"\",\"\")))","v":"No"},{"$f":"IF(OR(N21=\"Yes\",N21=\"No\")*AND(G21<'A - Contractor Summary'!$C$39),\"\",IF(AND(G21>'A - Contractor Summary'!$C$39,G21<'A - Contractor Summary'!$C$42),\"Yes\",IF(G21>'A - Contractor Summary'!$C$42,\"No\",\"Needs Review\")))","v":""},"Yes","No",0,0]
[null,9,null,null,null,null,null,null,null,null,null,null,null,{"$f":"IF(AND(G22>='A - Contractor Summary'!$C$36,G22<='A - Contractor Summary'!$C$38),\"Yes\",IF(G22<'A - Contractor Summary'!$C$36,\"No\",IF(G22>'A - Contractor Summary'!$C$39,\"\",\"\")))","v":"No"},{"$f":"IF(OR(N22=\"Yes\",N22=\"No\")*AND(G22<'A - Contractor Summary'!$C$39),\"\",IF(AND(G22>'A - Contractor Summary'!$C$39,G22<'A - Contractor Summary'!$C$42),\"Yes\",IF(G22>'A - Contractor Summary'!$C$42,\"No\",\"Needs Review\")))","v":""},"Yes","No",0,0]
[null,10,null,null,null,null,null,null,null,null,null,null,null,{"$f":"IF(AND(G23>='A - Contractor Summary'!$C$36,G23<='A - Contractor Summary'!$C$38),\"Yes\",IF(G23<'A - Contractor Summary'!$C$36,\"No\",IF(G23>'A - Contractor Summary'!$C$39,\"\",\"\")))","v":"No"},{"$f":"IF(OR(N23=\"Yes\",N23=\"No\")*AND(G23<'A - Contractor Summary'!$C$39),\"\",IF(AND(G23>'A - Contractor Summary'!$C$39,G23<'A - Contractor Summary'!$C$42),\"Yes\",IF(G23>'A - Contractor Summary'!$C$42,\"No\",\"Needs Review\")))","v":""},"Yes","No",0,0]
[null,11,null,null,null,null,null,null,null,null,null,null,null,{"$f":"IF(AND(G24>='A - Contractor Summary'!$C$36,G24<='A - Contractor Summary'!$C$38),\"Yes\",IF(G24<'A - Contractor Summary'!$C$36,\"No\",IF(G24>'A - Contractor Summary'!$C$39,\"\",\"\")))","v":"No"},{"$f":"IF(OR(N24=\"Yes\",N24=\"No\")*AND(G24<'A - Contractor Summary'!$C$39),\"\",IF(AND(G24>'A - Contractor Summary'!$C$39,G24<'A - Contractor Summary'!$C$42),\"Yes\",IF(G24>'A - Contractor Summary'!$C$42,\"No\",\"Needs Review\")))","v":""},"Yes","No",0,0]
[null,12,null,null,null,null,null,null,null,null,null,null,null,{"$f":"IF(AND(G25>='A - Contractor Summary'!$C$36,G25<='A - Contractor Summary'!$C$38),\"Yes\",IF(G25<'A - Contractor Summary'!$C$36,\"No\",IF(G25>'A - Contractor Summary'!$C$39,\"\",\"\")))","v":"No"},{"$f":"IF(OR(N25=\"Yes\",N25=\"No\")*AND(G25<'A - Contractor Summary'!$C$39),\"\",IF(AND(G25>'A - Contractor Summary'!$C$39,G25<'A - Contractor Summary'!$C$42),\"Yes\",IF(G25>'A - Contractor Summary'!$C$42,\"No\",\"Needs Review\")))","v":""},"Yes","No",0,0]
[null,13,null,null,null,null,null,null,null,null,null,null,null,{"$f":"IF(AND(G26>='A - Contractor Summary'!$C$36,G26<='A - Contractor Summary'!$C$38),\"Yes\",IF(G26<'A - Contractor Summary'!$C$36,\"No\",IF(G26>'A - Contractor Summary'!$C$39,\"\",\"\")))","v":"No"},{"$f":"IF(OR(N26=\"Yes\",N26=\"No\")*AND(G26<'A - Contractor Summary'!$C$39),\"\",IF(AND(G26>'A - Contractor Summary'!$C$39,G26<'A - Contractor Summary'!$C$42),\"Yes\",IF(G26>'A - Contractor Summary'!$C$42,\"No\",\"Needs Review\")))","v":""},"Yes","No",0,0]
[null,14,null,null,null,null,null,null,null,null,null,null,null,{"$f":"IF(AND(G27>='A - Contractor Summary'!$C$36,G27<='A - Contractor Summary'!$C$38),\"Yes\",IF(G27<'A - Contractor Summary'!$C$36,\"No\",IF(G27>'A - Contractor Summary'!$C$39,\"\",\"\")))","v":"No"},{"$f":"IF(OR(N27=\"Yes\",N27=\"No\")*AND(G27<'A - Contractor Summary'!$C$39),\"\",IF(AND(G27>'A - Contractor Summary'!$C$39,G27<'A - Contractor Summary'!$C$42),\"Yes\",IF(G27>'A - Contractor Summary'!$C$42,\"No\",\"Needs Review\")))","v":""},"Yes","No",0,0]
[null,15,null,null,null,null,null,null,null,null,null,null,null,{"$f":"IF(AND(G28>='A - Contractor Summary'!$C$36,G28<='A - Contractor Summary'!$C$38),\"Yes\",IF(G28<'A - Contractor Summary'!$C$36,\"No\",IF(G28>'A - Contractor Summary'!$C$39,\"\",\"\")))","v":"No"},{"$f":"IF(OR(N28=\"Yes\",N28=\"No\")*AND(G28<'A - Contractor Summary'!$C$39),\"\",IF(AND(G28>'A - Contractor Summary'!$C$39,G28<'A - Contractor Summary'!$C$42),\"Yes\",IF(G28>'A - Contractor Summary'!$C$42,\"No\",\"Needs Review\")))","v":""},"Yes","No",0,0]
[null,16,null,null,null,null,null,null,null,null,null,null,null,{"$f":"IF(AND(G29>='A - Contractor Summary'!$C$36,G29<='A - Contractor Summary'!$C$38),\"Yes\",IF(G29<'A - Contractor Summary'!$C$36,\"No\",IF(G29>'A - Contractor Summary'!$C$39,\"\",\"\")))","v":"No"},{"$f":"IF(OR(N29=\"Yes\",N29=\"No\")*AND(G29<'A - Contractor Summary'!$C$39),\"\",IF(AND(G29>'A - Contractor Summary'!$C$39,G29<'A - Contractor Summary'!$C$42),\"Yes\",IF(G29>'A - Contractor Summary'!$C$42,\"No\",\"Needs Review\")))","v":""},"No","No",0,0]
[null,17,null,null,null,null,null,null,null,null,null,null,null,{"$f":"IF(AND(G30>='A - Contractor Summary'!$C$36,G30<='A - Contractor Summary'!$C$38),\"Yes\",IF(G30<'A - Contractor Summary'!$C$36,\"No\",IF(G30>'A - Contractor Summary'!$C$39,\"\",\"\")))","v":"No"},{"$f":"IF(OR(N30=\"Yes\",N30=\"No\")*AND(G30<'A - Contractor Summary'!$C$39),\"\",IF(AND(G30>'A - Contractor Summary'!$C$39,G30<'A - Contractor Summary'!$C$42),\"Yes\",IF(G30>'A - Contractor Summary'!$C$42,\"No\",\"Needs Review\")))","v":""},"Yes","No",0,0]
[null,18,null,null,null,null,null,null,null,null,null,null,null,{"$f":"IF(AND(G31>='A - Contractor Summary'!$C$36,G31<='A - Contractor Summary'!$C$38),\"Yes\",IF(G31<'A - Contractor Summary'!$C$36,\"No\",IF(G31>'A - Contractor Summary'!$C$39,\"\",\"\")))","v":"No"},{"$f":"IF(OR(N31=\"Yes\",N31=\"No\")*AND(G31<'A - Contractor Summary'!$C$39),\"\",IF(AND(G31>'A - Contractor Summary'!$C$39,G31<'A - Contractor Summary'!$C$42),\"Yes\",IF(G31>'A - Contractor Summary'!$C$42,\"No\",\"Needs Review\")))","v":""},"Yes","No",0,0]
[null,19,null,null,null,null,null,null,null,null,null,null,null,{"$f":"IF(AND(G32>='A - Contractor Summary'!$C$36,G32<='A - Contractor Summary'!$C$38),\"Yes\",IF(G32<'A - Contractor Summary'!$C$36,\"No\",IF(G32>'A - Contractor Summary'!$C$39,\"\",\"\")))","v":"No"},{"$f":"IF(OR(N32=\"Yes\",N32=\"No\")*AND(G32<'A - Contractor Summary'!$C$39),\"\",IF(AND(G32>'A - Contractor Summary'!$C$39,G32<'A - Contractor Summary'!$C$42),\"Yes\",IF(G32>'A - Contractor Summary'!$C$42,\"No\",\"Needs Review\")))","v":""},"Yes","No",0,0]
[null,20,null,null,null,null,null,null,null,null,null,null,null,{"$f":"IF(AND(G33>='A - Contractor Summary'!$C$36,G33<='A - Contractor Summary'!$C$38),\"Yes\",IF(G33<'A - Contractor Summary'!$C$36,\"No\",IF(G33>'A - Contractor Summary'!$C$39,\"\",\"\")))","v":"No"},{"$f":"IF(OR(N33=\"Yes\",N33=\"No\")*AND(G33<'A - Contractor Summary'!$C$39),\"\",IF(AND(G33>'A - Contractor Summary'!$C$39,G33<'A - Contractor Summary'!$C$42),\"Yes\",IF(G33>'A - Contractor Summary'!$C$42,\"No\",\"Needs Review\")))","v":""},"Yes","No",0,0]
[null,21,null,null,null,null,null,null,null,null,null,null,null,{"$f":"IF(AND(G34>='A - Contractor Summary'!$C$36,G34<='A - Contractor Summary'!$C$38),\"Yes\",IF(G34<'A - Contractor Summary'!$C$36,\"No\",IF(G34>'A - Contractor Summary'!$C$39,\"\",\"\")))","v":"No"},{"$f":"IF(OR(N34=\"Yes\",N34=\"No\")*AND(G34<'A - Contractor Summary'!$C$39),\"\",IF(AND(G34>'A - Contractor Summary'!$C$39,G34<'A - Contractor Summary'!$C$42),\"Yes\",IF(G34>'A - Contractor Summary'!$C$42,\"No\",\"Needs Review\")))","v":""},"Yes","No",0,0]
[null,22,null,null,null,null,null,null,null,null,null,null,null,{"$f":"IF(AND(G35>='A - Contractor Summary'!$C$36,G35<='A - Contractor Summary'!$C$38),\"Yes\",IF(G35<'A - Contractor Summary'!$C$36,\"No\",IF(G35>'A - Contractor Summary'!$C$39,\"\",\"\")))","v":"No"},{"$f":"IF(OR(N35=\"Yes\",N35=\"No\")*AND(G35<'A - Contractor Summary'!$C$39),\"\",IF(AND(G35>'A - Contractor Summary'!$C$39,G35<'A - Contractor Summary'!$C$42),\"Yes\",IF(G35>'A - Contractor Summary'!$C$42,\"No\",\"Needs Review\")))","v":""},"Yes","No",0,0]
[null,23,null,null,null,null,null,null,null,null,null,null,null,{"$f":"IF(AND(G36>='A - Contractor Summary'!$C$36,G36<='A - Contractor Summary'!$C$38),\"Yes\",IF(G36<'A - Contractor Summary'!$C$36,\"No\",IF(G36>'A - Contractor Summary'!$C$39,\"\",\"\")))","v":"No"},{"$f":"IF(OR(N36=\"Yes\",N36=\"No\")*AND(G36<'A - Contractor Summary'!$C$39),\"\",IF(AND(G36>'A - Contractor Summary'!$C$39,G36<'A - Contractor Summary'!$C$42),\"Yes\",IF(G36>'A - Contractor Summary'!$C$42,\"No\",\"Needs Review\")))","v":""},"Yes","No",0,0]
[null,24,null,null,null,null,null,null,null,null,null,null,null,{"$f":"IF(AND(G37>='A - Contractor Summary'!$C$36,G37<='A - Contractor Summary'!$C$38),\"Yes\",IF(G37<'A - Contractor Summary'!$C$36,\"No\",IF(G37>'A - Contractor Summary'!$C$39,\"\",\"\")))","v":"No"},{"$f":"IF(OR(N37=\"Yes\",N37=\"No\")*AND(G37<'A - Contractor Summary'!$C$39),\"\",IF(AND(G37>'A - Contractor Summary'!$C$39,G37<'A - Contractor Summary'!$C$42),\"Yes\",IF(G37>'A - Contractor Summary'!$C$42,\"No\",\"Needs Review\")))","v":""},"Yes","No",0,0]
[null,25,null,null,null,null,null,null,null,null,null,null,null,{"$f":"IF(AND(G38>='A - Contractor Summary'!$C$36,G38<='A - Contractor Summary'!$C$38),\"Yes\",IF(G38<'A - Contractor Summary'!$C$36,\"No\",IF(G38>'A - Contractor Summary'!$C$39,\"\",\"\")))","v":"No"},{"$f":"IF(OR(N38=\"Yes\",N38=\"No\")*AND(G38<'A - Contractor Summary'!$C$39),\"\",IF(AND(G38>'A - Contractor Summary'!$C$39,G38<'A - Contractor Summary'!$C$42),\"Yes\",IF(G38>'A - Contractor Summary'!$C$42,\"No\",\"Needs Review\")))","v":""},"Yes","No",0,0]
[null,26,null,null,null,null,null,null,null,null,null,null,null,{"$f":"IF(AND(G39>='A - Contractor Summary'!$C$36,G39<='A - Contractor Summary'!$C$38),\"Yes\",IF(G39<'A - Contractor Summary'!$C$36,\"No\",IF(G39>'A - Contractor Summary'!$C$39,\"\",\"\")))","v":"No"},{"$f":"IF(OR(N39=\"Yes\",N39=\"No\")*AND(G39<'A - Contractor Summary'!$C$39),\"\",IF(AND(G39>'A - Contractor Summary'!$C$39,G39<'A - Contractor Summary'!$C$42),\"Yes\",IF(G39>'A - Contractor Summary'!$C$42,\"No\",\"Needs Review\")))","v":""},"Yes","No",0,0]
[null,27,null,null,null,null,null,null,null,null,null,null,null,{"$f":"IF(AND(G40>='A - Contractor Summary'!$C$36,G40<='A - Contractor Summary'!$C$38),\"Yes\",IF(G40<'A - Contractor Summary'!$C$36,\"No\",IF(G40>'A - Contractor Summary'!$C$39,\"\",\"\")))","v":"No"},{"$f":"IF(OR(N40=\"Yes\",N40=\"No\")*AND(G40<'A - Contractor Summary'!$C$39),\"\",IF(AND(G40>'A - Contractor Summary'!$C$39,G40<'A - Contractor Summary'!$C$42),\"Yes\",IF(G40>'A - Contractor Summary'!$C$42,\"No\",\"Needs Review\")))","v":""},"Yes","No",0,0]
[null,28,null,null,null,null,null,null,null,null,null,null,null,{"$f":"IF(AND(G41>='A - Contractor Summary'!$C$36,G41<='A - Contractor Summary'!$C$38),\"Yes\",IF(G41<'A - Contractor Summary'!$C$36,\"No\",IF(G41>'A - Contractor Summary'!$C$39,\"\",\"\")))","v":"No"},{"$f":"IF(OR(N41=\"Yes\",N41=\"No\")*AND(G41<'A - Contractor Summary'!$C$39),\"\",IF(AND(G41>'A - Contractor Summary'!$C$39,G41<'A - Contractor Summary'!$C$42),\"Yes\",IF(G41>'A - Contractor Summary'!$C$42,\"No\",\"Needs Review\")))","v":""},"Yes","No",0,0]
[null,29,null,null,null,null,null,null,null,null,null,null,null,{"$f":"IF(AND(G42>='A - Contractor Summary'!$C$36,G42<='A - Contractor Summary'!$C$38),\"Yes\",IF(G42<'A - Contractor Summary'!$C$36,\"No\",IF(G42>'A - Contractor Summary'!$C$39,\"\",\"\")))","v":"No"},{"$f":"IF(OR(N42=\"Yes\",N42=\"No\")*AND(G42<'A - Contractor Summary'!$C$39),\"\",IF(AND(G42>'A - Contractor Summary'!$C$39,G42<'A - Contractor Summary'!$C$42),\"Yes\",IF(G42>'A - Contractor Summary'!$C$42,\"No\",\"Needs Review\")))","v":""},"Yes","No",0,0]
[null,30,null,null,null,null,null,null,null,null,null,null,null,{"$f":"IF(AND(G43>='A - Contractor Summary'!$C$36,G43<='A - Contractor Summary'!$C$38),\"Yes\",IF(G43<'A - Contractor Summary'!$C$36,\"No\",IF(G43>'A - Contractor Summary'!$C$39,\"\",\"\")))","v":"No"},{"$f":"IF(OR(N43=\"Yes\",N43=\"No\")*AND(G43<'A - Contractor Summary'!$C$39),\"\",IF(AND(G43>'A - Contractor Summary'!$C$39,G43<'A - Contractor Summary'!$C$42),\"Yes\",IF(G43>'A - Contractor Summary'!$C$42,\"No\",\"Needs Review\")))","v":""},"Yes","No",0,0]
[null,31,null,null,null,null,null,null,null,null,null,null,null,{"$f":"IF(AND(G44>='A - Contractor Summary'!$C$36,G44<='A - Contractor Summary'!$C$38),\"Yes\",IF(G44<'A - Contractor Summary'!$C$36,\"No\",IF(G44>'A - Contractor Summary'!$C$39,\"\",\"\")))","v":"No"},{"$f":"IF(OR(N44=\"Yes\",N44=\"No\")*AND(G44<'A - Contractor Summary'!$C$39),\"\",IF(AND(G44>'A - Contractor Summary'!$C$39,G44<'A - Contractor Summary'!$C$42),\"Yes\",IF(G44>'A - Contractor Summary'!$C$42,\"No\",\"Needs Review\")))","v":""},"Yes","No",0,0]
[null,32,null,null,null,null,null,null,null,null,null,null,null,{"$f":"IF(AND(G45>='A - Contractor Summary'!$C$36,G45<='A - Contractor Summary'!$C$38),\"Yes\",IF(G45<'A - Contractor Summary'!$C$36,\"No\",IF(G45>'A - Contractor Summary'!$C$39,\"\",\"\")))","v":"No"},{"$f":"IF(OR(N45=\"Yes\",N45=\"No\")*AND(G45<'A - Contractor Summary'!$C$39),\"\",IF(AND(G45>'A - Contractor Summary'!$C$39,G45<'A - Contractor Summary'!$C$42),\"Yes\",IF(G45>'A - Contractor Summary'!$C$42,\"No\",\"Needs Review\")))","v":""},"Yes","No",0,0]
[null,33,null,null,null,null,null,null,null,null,null,null,null,{"$f":"IF(AND(G46>='A - Contractor Summary'!$C$36,G46<='A - Contractor Summary'!$C$38),\"Yes\",IF(G46<'A - Contractor Summary'!$C$36,\"No\",IF(G46>'A - Contractor Summary'!$C$39,\"\",\"\")))","v":"No"},{"$f":"IF(OR(N46=\"Yes\",N46=\"No\")*AND(G46<'A - Contractor Summary'!$C$39),\"\",IF(AND(G46>'A - Contractor Summary'!$C$39,G46<'A - Contractor Summary'!$C$42),\"Yes\",IF(G46>'A - Contractor Summary'!$C$42,\"No\",\"Needs Review\")))","v":""},"Yes",{"$f":"IF(AND(P46=\"Yes\",L46=\"Yes\",M46=\"Yes\")*OR(O46=\"Yes\",N46=\"Yes\"),\"Yes\",IF(OR(L46=\"No\",N46=\"No\",O46=\"No\",P46=\"No\",M46=\"No\"),\"No\",\"Needs Review\"))","v":"No"},{"$f":"IF(Q46=\"Yes\",K46,0)","v":0},{"$f":"IF(Q46=\"Needs Review\",K46,0)","v":0}]
[null,34,null,null,null,null,null,null,null,null,null,null,null,{"$f":"IF(AND(G47>='A - Contractor Summary'!$C$36,G47<='A - Contractor Summary'!$C$38),\"Yes\",IF(G47<'A - Contractor Summary'!$C$36,\"No\",IF(G47>'A - Contractor Summary'!$C$39,\"\",\"\")))","v":"No"},{"$f":"IF(OR(N47=\"Yes\",N47=\"No\")*AND(G47<'A - Contractor Summary'!$C$39),\"\",IF(AND(G47>'A - Contractor Summary'!$C$39,G47<'A - Contractor Summary'!$C$42),\"Yes\",IF(G47>'A - Contractor Summary'!$C$42,\"No\",\"Needs Review\")))","v":""},"Yes","No",0,0]
[null,35,null,null,null,null,null,null,null,null,null,null,null,{"$f":"IF(AND(G48>='A - Contractor Summary'!$C$36,G48<='A - Contractor Summary'!$C$38),\"Yes\",IF(G48<'A - Contractor Summary'!$C$36,\"No\",IF(G48>'A - Contractor Summary'!$C$39,\"\",\"\")))","v":"No"},{"$f":"IF(OR(N48=\"Yes\",N48=\"No\")*AND(G48<'A - Contractor Summary'!$C$39),\"\",IF(AND(G48>'A - Contractor Summary'!$C$39,G48<'A - Contractor Summary'!$C$42),\"Yes\",IF(G48>'A - Contractor Summary'!$C$42,\"No\",\"Needs Review\")))","v":""},"Yes","No",0,0]
[null,36,null,null,null,null,null,null,null,null,null,null,null,{"$f":"IF(AND(G49>='A - Contractor Summary'!$C$36,G49<='A - Contractor Summary'!$C$38),\"Yes\",IF(G49<'A - Contractor Summary'!$C$36,\"No\",IF(G49>'A - Contractor Summary'!$C$39,\"\",\"\")))","v":"No"},{"$f":"IF(OR(N49=\"Yes\",N49=\"No\")*AND(G49<'A - Contractor Summary'!$C$39),\"\",IF(AND(G49>'A - Contractor Summary'!$C$39,G49<'A - Contractor Summary'!$C$42),\"Yes\",IF(G49>'A - Contractor Summary'!$C$42,\"No\",\"Needs Review\")))","v":""},"Yes","No",0,0]
[null,37,null,null,null,null,null,null,null,null,null,null,null,{"$f":"IF(AND(G50>='A - Contractor Summary'!$C$36,G50<='A - Contractor Summary'!$C$38),\"Yes\",IF(G50<'A - Contractor Summary'!$C$36,\"No\",IF(G50>'A - Contractor Summary'!$C$39,\"\",\"\")))","v":"No"},{"$f":"IF(OR(N50=\"Yes\",N50=\"No\")*AND(G50<'A - Contractor Summary'!$C$39),\"\",IF(AND(G50>'A - Contractor Summary'!$C$39,G50<'A - Contractor Summary'!$C$42),\"Yes\",IF(G50>'A - Contractor Summary'!$C$42,\"No\",\"Needs Review\")))","v":""},"Yes","No",0,0]
[null,38,null,null,null,null,null,null,null,null,null,null,null,{"$f":"IF(AND(G51>='A - Contractor Summary'!$C$36,G51<='A - Contractor Summary'!$C$38),\"Yes\",IF(G51<'A - Contractor Summary'!$C$36,\"No\",IF(G51>'A - Contractor Summary'!$C$39,\"\",\"\")))","v":"No"},{"$f":"IF(OR(N51=\"Yes\",N51=\"No\")*AND(G51<'A - Contractor Summary'!$C$39),\"\",IF(AND(G51>'A - Contractor Summary'!$C$39,G51<'A - Contractor Summary'!$C$42),\"Yes\",IF(G51>'A - Contractor Summary'!$C$42,\"No\",\"Needs Review\")))","v":""},"Yes","No",0,0]
[null,39,null,null,null,null,null,null,null,null,null,null,null,{"$f":"IF(AND(G52>='A - Contractor Summary'!$C$36,G52<='A - Contractor Summary'!$C$38),\"Yes\",IF(G52<'A - Contractor Summary'!$C$36,\"No\",IF(G52>'A - Contractor Summary'!$C$39,\"\",\"\")))","v":"No"},{"$f":"IF(OR(N52=\"Yes\",N52=\"No\")*AND(G52<'A - Contractor Summary'!$C$39),\"\",IF(AND(G52>'A - Contractor Summary'!$C$39,G52<'A - Contractor Summary'!$C$42),\"Yes\",IF(G52>'A - Contractor Summary'!$C$42,\"No\",\"Needs Review\")))","v":""},"Yes","No",0,0]
[null,40,null,null,null,null,null,null,null,null,null,null,null,{"$f":"IF(AND(G53>='A - Contractor Summary'!$C$36,G53<='A - Contractor Summary'!$C$38),\"Yes\",IF(G53<'A - Contractor Summary'!$C$36,\"No\",IF(G53>'A - Contractor Summary'!$C$39,\"\",\"\")))","v":"No"},{"$f":"IF(OR(N53=\"Yes\",N53=\"No\")*AND(G53<'A - Contractor Summary'!$C$39),\"\",IF(AND(G53>'A - Contractor Summary'!$C$39,G53<'A - Contractor Summary'!$C$42),\"Yes\",IF(G53>'A - Contractor Summary'!$C$42,\"No\",\"Needs Review\")))","v":""},"Yes","No",0,0]
[null,41,null,null,null,null,null,null,null,null,null,null,null,{"$f":"IF(AND(G54>='A - Contractor Summary'!$C$36,G54<='A - Contractor Summary'!$C$38),\"Yes\",IF(G54<'A - Contractor Summary'!$C$36,\"No\",IF(G54>'A - Contractor Summary'!$C$39,\"\",\"\")))","v":"No"},{"$f":"IF(OR(N54=\"Yes\",N54=\"No\")*AND(G54<'A - Contractor Summary'!$C$39),\"\",IF(AND(G54>'A - Contractor Summary'!$C$39,G54<'A - Contractor Summary'!$C$42),\"Yes\",IF(G54>'A - Contractor Summary'!$C$42,\"No\",\"Needs Review\")))","v":""},"Yes","No",0,0]
[null,42,null,null,null,null,null,null,null,null,null,null,null,{"$f":"IF(AND(G55>='A - Contractor Summary'!$C$36,G55<='A - Contractor Summary'!$C$38),\"Yes\",IF(G55<'A - Contractor Summary'!$C$36,\"No\",IF(G55>'A - Contractor Summary'!$C$39,\"\",\"\")))","v":"No"},{"$f":"IF(OR(N55=\"Yes\",N55=\"No\")*AND(G55<'A - Contractor Summary'!$C$39),\"\",IF(AND(G55>'A - Contractor Summary'!$C$39,G55<'A - Contractor Summary'!$C$42),\"Yes\",IF(G55>'A - Contractor Summary'!$C$42,\"No\",\"Needs Review\")))","v":""},"No","No",0,0]
[null,43,null,null,null,null,null,null,null,null,null,null,null,{"$f":"IF(AND(G56>='A - Contractor Summary'!$C$36,G56<='A - Contractor Summary'!$C$38),\"Yes\",IF(G56<'A - Contractor Summary'!$C$36,\"No\",IF(G56>'A - Contractor Summary'!$C$39,\"\",\"\")))","v":"No"},{"$f":"IF(OR(N56=\"Yes\",N56=\"No\")*AND(G56<'A - Contractor Summary'!$C$39),\"\",IF(AND(G56>'A - Contractor Summary'!$C$39,G56<'A - Contractor Summary'!$C$42),\"Yes\",IF(G56>'A - Contractor Summary'!$C$42,\"No\",\"Needs Review\")))","v":""},"Yes","No",0,0]
[null,44,null,null,null,null,null,null,null,null,null,null,null,{"$f":"IF(AND(G57>='A - Contractor Summary'!$C$36,G57<='A - Contractor Summary'!$C$38),\"Yes\",IF(G57<'A - Contractor Summary'!$C$36,\"No\",IF(G57>'A - Contractor Summary'!$C$39,\"\",\"\")))","v":"No"},{"$f":"IF(OR(N57=\"Yes\",N57=\"No\")*AND(G57<'A - Contractor Summary'!$C$39),\"\",IF(AND(G57>'A - Contractor Summary'!$C$39,G57<'A - Contractor Summary'!$C$42),\"Yes\",IF(G57>'A - Contractor Summary'!$C$42,\"No\",\"Needs Review\")))","v":""},"Yes","No",0,0]
[null,46,null,null,null,null,null,null,null,null,null,null,null,{"$f":"IF(AND(G58>='A - Contractor Summary'!$C$36,G58<='A - Contractor Summary'!$C$38),\"Yes\",IF(G58<'A - Contractor Summary'!$C$36,\"No\",IF(G58>'A - Contractor Summary'!$C$39,\"\",\"\")))","v":"No"},{"$f":"IF(OR(N58=\"Yes\",N58=\"No\")*AND(G58<'A - Contractor Summary'!$C$39),\"\",IF(AND(G58>'A - Contractor Summary'!$C$39,G58<'A - Contractor Summary'!$C$42),\"Yes\",IF(G58>'A - Contractor Summary'!$C$42,\"No\",\"Needs Review\")))","v":""},"Yes","No",0,0]
[null,47,null,null,null,null,null,null,null,null,null,null,null,{"$f":"IF(AND(G59>='A - Contractor Summary'!$C$36,G59<='A - Contractor Summary'!$C$38),\"Yes\",IF(G59<'A - Contractor Summary'!$C$36,\"No\",IF(G59>'A - Contractor Summary'!$C$39,\"\",\"\")))","v":"No"},{"$f":"IF(OR(N59=\"Yes\",N59=\"No\")*AND(G59<'A - Contractor Summary'!$C$39),\"\",IF(AND(G59>'A - Contractor Summary'!$C$39,G59<'A - Contractor Summary'!$C$42),\"Yes\",IF(G59>'A - Contractor Summary'!$C$42,\"No\",\"Needs Review\")))","v":""},"Yes","No",0,0]
[null,48,null,null,null,null,null,null,null,null,null,null,null,{"$f":"IF(AND(G60>='A - Contractor Summary'!$C$36,G60<='A - Contractor Summary'!$C$38),\"Yes\",IF(G60<'A - Contractor Summary'!$C$36,\"No\",IF(G60>'A - Contractor Summary'!$C$39,\"\",\"\")))","v":"No"},{"$f":"IF(OR(N60=\"Yes\",N60=\"No\")*AND(G60<'A - Contractor Summary'!$C$39),\"\",IF(AND(G60>'A - Contractor Summary'!$C$39,G60<'A - Contractor Summary'!$C$42),\"Yes\",IF(G60>'A - Contractor Summary'!$C$42,\"No\",\"Needs Review\")))","v":""},"Yes","No",0,0]
[null,49,null,null,null,null,null,null,null,null,null,null,null,{"$f":"IF(AND(G61>='A - Contractor Summary'!$C$36,G61<='A - Contractor Summary'!$C$38),\"Yes\",IF(G61<'A - Contractor Summary'!$C$36,\"No\",IF(G61>'A - Contractor Summary'!$C$39,\"\",\"\")))","v":"No"},{"$f":"IF(OR(N61=\"Yes\",N61=\"No\")*AND(G61<'A - Contractor Summary'!$C$39),\"\",IF(AND(G61>'A - Contractor Summary'!$C$39,G61<'A - Contractor Summary'!$C$42),\"Yes\",IF(G61>'A - Contractor Summary'!$C$42,\"No\",\"Needs Review\")))","v":""},"Yes","No",0,0]
[null,50,null,null,null,null,null,null,null,null,null,null,null,{"$f":"IF(AND(G62>='A - Contractor Summary'!$C$36,G62<='A - Contractor Summary'!$C$38),\"Yes\",IF(G62<'A - Contractor Summary'!$C$36,\"No\",IF(G62>'A - Contractor Summary'!$C$39,\"\",\"\")))","v":"No"},{"$f":"IF(OR(N62=\"Yes\",N62=\"No\")*AND(G62<'A - Contractor Summary'!$C$39),\"\",IF(AND(G62>'A - Contractor Summary'!$C$39,G62<'A - Contractor Summary'!$C$42),\"Yes\",IF(G62>'A - Contractor Summary'!$C$42,\"No\",\"Needs Review\")))","v":""},"Yes","No",0,0]
[null,51,null,null,null,null,null,null,null,null,null,null,null,{"$f":"IF(AND(G63>='A - Contractor Summary'!$C$36,G63<='A - Contractor Summary'!$C$38),\"Yes\",IF(G63<'A - Contractor Summary'!$C$36,\"No\",IF(G63>'A - Contractor Summary'!$C$39,\"\",\"\")))","v":"No"},{"$f":"IF(OR(N63=\"Yes\",N63=\"No\")*AND(G63<'A - Contractor Summary'!$C$39),\"\",IF(AND(G63>'A - Contractor Summary'!$C$39,G63<'A - Contractor Summary'!$C$42),\"Yes\",IF(G63>'A - Contractor Summary'!$C$42,\"No\",\"Needs Review\")))","v":""},"Yes","No",0,0]
[null,52,null,null,null,null,null,null,null,null,null,null,null,{"$f":"IF(AND(G64>='A - Contractor Summary'!$C$36,G64<='A - Contractor Summary'!$C$38),\"Yes\",IF(G64<'A - Contractor Summary'!$C$36,\"No\",IF(G64>'A - Contractor Summary'!$C$39,\"\",\"\")))","v":"No"},{"$f":"IF(OR(N64=\"Yes\",N64=\"No\")*AND(G64<'A - Contractor Summary'!$C$39),\"\",IF(AND(G64>'A - Contractor Summary'!$C$39,G64<'A - Contractor Summary'!$C$42),\"Yes\",IF(G64>'A - Contractor Summary'!$C$42,\"No\",\"Needs Review\")))","v":""},"Yes","No",0,0]
[null,53,null,null,null,null,null,null,null,null,null,null,null,{"$f":"IF(AND(G65>='A - Contractor Summary'!$C$36,G65<='A - Contractor Summary'!$C$38),\"Yes\",IF(G65<'A - Contractor Summary'!$C$36,\"No\",IF(G65>'A - Contractor Summary'!$C$39,\"\",\"\")))","v":"No"},{"$f":"IF(OR(N65=\"Yes\",N65=\"No\")*AND(G65<'A - Contractor Summary'!$C$39),\"\",IF(AND(G65>'A - Contractor Summary'!$C$39,G65<'A - Contractor Summary'!$C$42),\"Yes\",IF(G65>'A - Contractor Summary'!$C$42,\"No\",\"Needs Review\")))","v":""},"Yes","No",0,0]
[null,54,null,null,null,null,null,null,null,null,null,null,null,{"$f":"IF(AND(G66>='A - Contractor Summary'!$C$36,G66<='A - Contractor Summary'!$C$38),\"Yes\",IF(G66<'A - Contractor Summary'!$C$36,\"No\",IF(G66>'A - Contractor Summary'!$C$39,\"\",\"\")))","v":"No"},{"$f":"IF(OR(N66=\"Yes\",N66=\"No\")*AND(G66<'A - Contractor Summary'!$C$39),\"\",IF(AND(G66>'A - Contractor Summary'!$C$39,G66<'A - Contractor Summary'!$C$42),\"Yes\",IF(G66>'A - Contractor Summary'!$C$42,\"No\",\"Needs Review\")))","v":""},"Yes","No",0,0]
[null,55,null,null,null,null,null,null,null,null,null,null,null,{"$f":"IF(AND(G67>='A - Contractor Summary'!$C$36,G67<='A - Contractor Summary'!$C$38),\"Yes\",IF(G67<'A - Contractor Summary'!$C$36,\"No\",IF(G67>'A - Contractor Summary'!$C$39,\"\",\"\")))","v":"No"},{"$f":"IF(OR(N67=\"Yes\",N67=\"No\")*AND(G67<'A - Contractor Summary'!$C$39),\"\",IF(AND(G67>'A - Contractor Summary'!$C$39,G67<'A - Contractor Summary'!$C$42),\"Yes\",IF(G67>'A - Contractor Summary'!$C$42,\"No\",\"Needs Review\")))","v":""},"Yes","No",0,0]
[null,56,null,null,null,null,null,null,null,null,null,null,null,{"$f":"IF(AND(G68>='A - Contractor Summary'!$C$36,G68<='A - Contractor Summary'!$C$38),\"Yes\",IF(G68<'A - Contractor Summary'!$C$36,\"No\",IF(G68>'A - Contractor Summary'!$C$39,\"\",\"\")))","v":"No"},{"$f":"IF(OR(N68=\"Yes\",N68=\"No\")*AND(G68<'A - Contractor Summary'!$C$39),\"\",IF(AND(G68>'A - Contractor Summary'!$C$39,G68<'A - Contractor Summary'!$C$42),\"Yes\",IF(G68>'A - Contractor Summary'!$C$42,\"No\",\"Needs Review\")))","v":""},"Yes","No",0,0]
[null,57,null,null,null,null,null,null,null,null,null,null,null,{"$f":"IF(AND(G69>='A - Contractor Summary'!$C$36,G69<='A - Contractor Summary'!$C$38),\"Yes\",IF(G69<'A - Contractor Summary'!$C$36,\"No\",IF(G69>'A - Contractor Summary'!$C$39,\"\",\"\")))","v":"No"},{"$f":"IF(OR(N69=\"Yes\",N69=\"No\")*AND(G69<'A - Contractor Summary'!$C$39),\"\",IF(AND(G69>'A - Contractor Summary'!$C$39,G69<'A - Contractor Summary'!$C$42),\"Yes\",IF(G69>'A - Contractor Summary'!$C$42,\"No\",\"Needs Review\")))","v":""},"Yes","No",0,0]
[null,58,null,null,null,null,null,null,null,null,null,null,null,{"$f":"IF(AND(G70>='A - Contractor Summary'!$C$36,G70<='A - Contractor Summary'!$C$38),\"Yes\",IF(G70<'A - Contractor Summary'!$C$36,\"No\",IF(G70>'A - Contractor Summary'!$C$39,\"\",\"\")))","v":"No"},{"$f":"IF(OR(N70=\"Yes\",N70=\"No\")*AND(G70<'A - Contractor Summary'!$C$39),\"\",IF(AND(G70>'A - Contractor Summary'!$C$39,G70<'A - Contractor Summary'!$C$42),\"Yes\",IF(G70>'A - Contractor Summary'!$C$42,\"No\",\"Needs Review\")))","v":""},"No","Needs Review",0,0]
[null,59,null,null,null,null,null,null,null,null,null,null,null,{"$f":"IF(AND(G71>='A - Contractor Summary'!$C$36,G71<='A - Contractor Summary'!$C$38),\"Yes\",IF(G71<'A - Contractor Summary'!$C$36,\"No\",IF(G71>'A - Contractor Summary'!$C$39,\"\",\"\")))","v":"No"},{"$f":"IF(OR(N71=\"Yes\",N71=\"No\")*AND(G71<'A - Contractor Summary'!$C$39),\"\",IF(AND(G71>'A - Contractor Summary'!$C$39,G71<'A - Contractor Summary'!$C$42),\"Yes\",IF(G71>'A - Contractor Summary'!$C$42,\"No\",\"Needs Review\")))","v":""},"Yes","No",0,0]
[null,61,null,null,null,null,null,null,null,null,null,null,null,{"$f":"IF(AND(G72>='A - Contractor Summary'!$C$36,G72<='A - Contractor Summary'!$C$38),\"Yes\",IF(G72<'A - Contractor Summary'!$C$36,\"No\",IF(G72>'A - Contractor Summary'!$C$39,\"\",\"\")))","v":"No"},{"$f":"IF(OR(N72=\"Yes\",N72=\"No\")*AND(G72<'A - Contractor Summary'!$C$39),\"\",IF(AND(G72>'A - Contractor Summary'!$C$39,G72<'A - Contractor Summary'!$C$42),\"Yes\",IF(G72>'A - Contractor Summary'!$C$42,\"No\",\"Needs Review\")))","v":""},"Yes","No",0,0]
[null,62,null,null,null,null,null,null,null,null,null,null,null,{"$f":"IF(AND(G73>='A - Contractor Summary'!$C$36,G73<='A - Contractor Summary'!$C$38),\"Yes\",IF(G73<'A - Contractor Summary'!$C$36,\"No\",IF(G73>'A - Contractor Summary'!$C$39,\"\",\"\")))","v":"No"},{"$f":"IF(OR(N73=\"Yes\",N73=\"No\")*AND(G73<'A - Contractor Summary'!$C$39),\"\",IF(AND(G73>'A - Contractor Summary'!$C$39,G73<'A - Contractor Summary'!$C$42),\"Yes\",IF(G73>'A - Contractor Summary'!$C$42,\"No\",\"Needs Review\")))","v":""},"Yes","No",0,0]
[null,63,null,null,null,null,null,null,null,null,null,null,null,{"$f":"IF(AND(G74>='A - Contractor Summary'!$C$36,G74<='A - Contractor Summary'!$C$38),\"Yes\",IF(G74<'A - Contractor Summary'!$C$36,\"No\",IF(G74>'A - Contractor Summary'!$C$39,\"\",\"\")))","v":"No"},{"$f":"IF(OR(N74=\"Yes\",N74=\"No\")*AND(G74<'A - Contractor Summary'!$C$39),\"\",IF(AND(G74>'A - Contractor Summary'!$C$39,G74<'A - Contractor Summary'!$C$42),\"Yes\",IF(G74>'A - Contractor Summary'!$C$42,\"No\",\"Needs Review\")))","v":""},"Yes","No",0,0]
[null,64,null,null,null,null,null,null,null,null,null,null,null,{"$f":"IF(AND(G75>='A - Contractor Summary'!$C$36,G75<='A - Contractor Summary'!$C$38),\"Yes\",IF(G75<'A - Contractor Summary'!$C$36,\"No\",IF(G75>'A - Contractor Summary'!$C$39,\"\",\"\")))","v":"No"},{"$f":"IF(OR(N75=\"Yes\",N75=\"No\")*AND(G75<'A - Contractor Summary'!$C$39),\"\",IF(AND(G75>'A - Contractor Summary'!$C$39,G75<'A - Contractor Summary'!$C$42),\"Yes\",IF(G75>'A - Contractor Summary'!$C$42,\"No\",\"Needs Review\")))","v":""},"Yes","No",0,0]
[null,65,null,null,null,null,null,null,null,null,null,null,null,{"$f":"IF(AND(G76>='A - Contractor Summary'!$C$36,G76<='A - Contractor Summary'!$C$38),\"Yes\",IF(G76<'A - Contractor Summary'!$C$36,\"No\",IF(G76>'A - Contractor Summary'!$C$39,\"\",\"\")))","v":"No"},{"$f":"IF(OR(N76=\"Yes\",N76=\"No\")*AND(G76<'A - Contractor Summary'!$C$39),\"\",IF(AND(G76>'A - Contractor Summary'!$C$39,G76<'A - Contractor Summary'!$C$42),\"Yes\",IF(G76>'A - Contractor Summary'!$C$42,\"No\",\"Needs Review\")))","v":""},"No","No",0,0]
[null,66,null,null,null,null,null,null,null,null,null,null,null,{"$f":"IF(AND(G77>='A - Contractor Summary'!$C$36,G77<='A - Contractor Summary'!$C$38),\"Yes\",IF(G77<'A - Contractor Summary'!$C$36,\"No\",IF(G77>'A - Contractor Summary'!$C$39,\"\",\"\")))","v":"No"},{"$f":"IF(OR(N77=\"Yes\",N77=\"No\")*AND(G77<'A - Contractor Summary'!$C$39),\"\",IF(AND(G77>'A - Contractor Summary'!$C$39,G77<'A - Contractor Summary'!$C$42),\"Yes\",IF(G77>'A - Contractor Summary'!$C$42,\"No\",\"Needs Review\")))","v":""},"Yes","No",0,0]
[null,67,null,null,null,null,null,null,null,null,null,null,null,{"$f":"IF(AND(G78>='A - Contractor Summary'!$C$36,G78<='A - Contractor Summary'!$C$38),\"Yes\",IF(G78<'A - Contractor Summary'!$C$36,\"No\",IF(G78>'A - Contractor Summary'!$C$39,\"\",\"\")))","v":"No"},{"$f":"IF(OR(N78=\"Yes\",N78=\"No\")*AND(G78<'A - Contractor Summary'!$C$39),\"\",IF(AND(G78>'A - Contractor Summary'!$C$39,G78<'A - Contractor Summary'!$C$42),\"Yes\",IF(G78>'A - Contractor Summary'!$C$42,\"No\",\"Needs Review\")))","v":""},"No","Needs Review",{"$f":"IF(Q78=\"Yes\",K78,0)","v":0},{"$f":"IF(Q78=\"Needs Review\",K78,0)","v":0}]
[null,68,null,null,null,null,null,null,null,null,null,null,null,{"$f":"IF(AND(G79>='A - Contractor Summary'!$C$36,G79<='A - Contractor Summary'!$C$38),\"Yes\",IF(G79<'A - Contractor Summary'!$C$36,\"No\",IF(G79>'A - Contractor Summary'!$C$39,\"\",\"\")))","v":"No"},{"$f":"IF(OR(N79=\"Yes\",N79=\"No\")*AND(G79<'A - Contractor Summary'!$C$39),\"\",IF(AND(G79>'A - Contractor Summary'!$C$39,G79<'A - Contractor Summary'!$C$42),\"Yes\",IF(G79>'A - Contractor Summary'!$C$42,\"No\",\"Needs Review\")))","v":""},"Yes",{"$f":"IF(AND(P79=\"Yes\",L79=\"Yes\",M79=\"Yes\")*OR(O79=\"Yes\",N79=\"Yes\"),\"Yes\",IF(OR(L79=\"No\",N79=\"No\",O79=\"No\",P79=\"No\",M79=\"No\"),\"No\",\"Needs Review\"))","v":"No"},0,0]
[null,69,null,null,null,null,null,null,null,null,null,null,null,{"$f":"IF(AND(G80>='A - Contractor Summary'!$C$36,G80<='A - Contractor Summary'!$C$38),\"Yes\",IF(G80<'A - Contractor Summary'!$C$36,\"No\",IF(G80>'A - Contractor Summary'!$C$39,\"\",\"\")))","v":"No"},{"$f":"IF(OR(N80=\"Yes\",N80=\"No\")*AND(G80<'A - Contractor Summary'!$C$39),\"\",IF(AND(G80>'A - Contractor Summary'!$C$39,G80<'A - Contractor Summary'!$C$42),\"Yes\",IF(G80>'A - Contractor Summary'!$C$42,\"No\",\"Needs Review\")))","v":""},"Yes","No",0,0]
[null,70,null,null,null,null,null,null,null,null,null,null,null,{"$f":"IF(AND(G81>='A - Contractor Summary'!$C$36,G81<='A - Contractor Summary'!$C$38),\"Yes\",IF(G81<'A - Contractor Summary'!$C$36,\"No\",IF(G81>'A - Contractor Summary'!$C$39,\"\",\"\")))","v":"No"},{"$f":"IF(OR(N81=\"Yes\",N81=\"No\")*AND(G81<'A - Contractor Summary'!$C$39),\"\",IF(AND(G81>'A - Contractor Summary'!$C$39,G81<'A - Contractor Summary'!$C$42),\"Yes\",IF(G81>'A - Contractor Summary'!$C$42,\"No\",\"Needs Review\")))","v":""},"Yes","No",0,0]
[null,71,null,null,null,null,null,null,null,null,null,null,null,{"$f":"IF(AND(G82>='A - Contractor Summary'!$C$36,G82<='A - Contractor Summary'!$C$38),\"Yes\",IF(G82<'A - Contractor Summary'!$C$36,\"No\",IF(G82>'A - Contractor Summary'!$C$39,\"\",\"\")))","v":"No"},{"$f":"IF(OR(N82=\"Yes\",N82=\"No\")*AND(G82<'A - Contractor Summary'!$C$39),\"\",IF(AND(G82>'A - Contractor Summary'!$C$39,G82<'A - Contractor Summary'!$C$42),\"Yes\",IF(G82>'A - Contractor Summary'!$C$42,\"No\",\"Needs Review\")))","v":""},"Yes","No",0,0]
[null,72,null,null,null,null,null,null,null,null,null,null,null,{"$f":"IF(AND(G83>='A - Contractor Summary'!$C$36,G83<='A - Contractor Summary'!$C$38),\"Yes\",IF(G83<'A - Contractor Summary'!$C$36,\"No\",IF(G83>'A - Contractor Summary'!$C$39,\"\",\"\")))","v":"No"},{"$f":"IF(OR(N83=\"Yes\",N83=\"No\")*AND(G83<'A - Contractor Summary'!$C$39),\"\",IF(AND(G83>'A - Contractor Summary'!$C$39,G83<'A - Contractor Summary'!$C$42),\"Yes\",IF(G83>'A - Contractor Summary'!$C$42,\"No\",\"Needs Review\")))","v":""},"Yes","No",0,0]
[null,73,null,null,null,null,null,null,null,null,null,null,null,{"$f":"IF(AND(G84>='A - Contractor Summary'!$C$36,G84<='A - Contractor Summary'!$C$38),\"Yes\",IF(G84<'A - Contractor Summary'!$C$36,\"No\",IF(G84>'A - Contractor Summary'!$C$39,\"\",\"\")))","v":"No"},{"$f":"IF(OR(N84=\"Yes\",N84=\"No\")*AND(G84<'A - Contractor Summary'!$C$39),\"\",IF(AND(G84>'A - Contractor Summary'!$C$39,G84<'A - Contractor Summary'!$C$42),\"Yes\",IF(G84>'A - Contractor Summary'!$C$42,\"No\",\"Needs Review\")))","v":""},"No","Needs Review",0,0]
[null,74,null,null,null,null,null,null,null,null,null,null,null,{"$f":"IF(AND(G85>='A - Contractor Summary'!$C$36,G85<='A - Contractor Summary'!$C$38),\"Yes\",IF(G85<'A - Contractor Summary'!$C$36,\"No\",IF(G85>'A - Contractor Summary'!$C$39,\"\",\"\")))","v":"No"},{"$f":"IF(OR(N85=\"Yes\",N85=\"No\")*AND(G85<'A - Contractor Summary'!$C$39),\"\",IF(AND(G85>'A - Contractor Summary'!$C$39,G85<'A - Contractor Summary'!$C$42),\"Yes\",IF(G85>'A - Contractor Summary'!$C$42,\"No\",\"Needs Review\")))","v":""},"No","No",0,0]
[null,75,null,null,null,null,null,null,null,null,null,null,null,{"$f":"IF(AND(G86>='A - Contractor Summary'!$C$36,G86<='A - Contractor Summary'!$C$38),\"Yes\",IF(G86<'A - Contractor Summary'!$C$36,\"No\",IF(G86>'A - Contractor Summary'!$C$39,\"\",\"\")))","v":"No"},{"$f":"IF(OR(N86=\"Yes\",N86=\"No\")*AND(G86<'A - Contractor Summary'!$C$39),\"\",IF(AND(G86>'A - Contractor Summary'!$C$39,G86<'A - Contractor Summary'!$C$42),\"Yes\",IF(G86>'A - Contractor Summary'!$C$42,\"No\",\"Needs Review\")))","v":""},"Yes","No",0,0]
[null,76,null,null,null,null,null,null,null,null,null,null,null,{"$f":"IF(AND(G87>='A - Contractor Summary'!$C$36,G87<='A - Contractor Summary'!$C$38),\"Yes\",IF(G87<'A - Contractor Summary'!$C$36,\"No\",IF(G87>'A - Contractor Summary'!$C$39,\"\",\"\")))","v":"No"},{"$f":"IF(OR(N87=\"Yes\",N87=\"No\")*AND(G87<'A - Contractor Summary'!$C$39),\"\",IF(AND(G87>'A - Contractor Summary'!$C$39,G87<'A - Contractor Summary'!$C$42),\"Yes\",IF(G87>'A - Contractor Summary'!$C$42,\"No\",\"Needs Review\")))","v":""},"Yes","No",0,0]
[null,77,null,null,null,null,null,null,null,null,null,null,null,{"$f":"IF(AND(G88>='A - Contractor Summary'!$C$36,G88<='A - Contractor Summary'!$C$38),\"Yes\",IF(G88<'A - Contractor Summary'!$C$36,\"No\",IF(G88>'A - Contractor Summary'!$C$39,\"\",\"\")))","v":"No"},{"$f":"IF(OR(N88=\"Yes\",N88=\"No\")*AND(G88<'A - Contractor Summary'!$C$39),\"\",IF(AND(G88>'A - Contractor Summary'!$C$39,G88<'A - Contractor Summary'!$C$42),\"Yes\",IF(G88>'A - Contractor Summary'!$C$42,\"No\",\"Needs Review\")))","v":""},"Yes","No",0,0]
[null,78,null,null,null,null,null,null,null,null,null,null,null,{"$f":"IF(AND(G89>='A - Contractor Summary'!$C$36,G89<='A - Contractor Summary'!$C$38),\"Yes\",IF(G89<'A - Contractor Summary'!$C$36,\"No\",IF(G89>'A - Contractor Summary'!$C$39,\"\",\"\")))","v":"No"},{"$f":"IF(OR(N89=\"Yes\",N89=\"No\")*AND(G89<'A - Contractor Summary'!$C$39),\"\",IF(AND(G89>'A - Contractor Summary'!$C$39,G89<'A - Contractor Summary'!$C$42),\"Yes\",IF(G89>'A - Contractor Summary'!$C$42,\"No\",\"Needs Review\")))","v":""},"Yes","No",0,0]
[null,79,null,null,null,null,null,null,null,null,null,null,null,{"$f":"IF(AND(G90>='A - Contractor Summary'!$C$36,G90<='A - Contractor Summary'!$C$38),\"Yes\",IF(G90<'A - Contractor Summary'!$C$36,\"No\",IF(G90>'A - Contractor Summary'!$C$39,\"\",\"\")))","v":"No"},{"$f":"IF(OR(N90=\"Yes\",N90=\"No\")*AND(G90<'A - Contractor Summary'!$C$39),\"\",IF(AND(G90>'A - Contractor Summary'!$C$39,G90<'A - Contractor Summary'!$C$42),\"Yes\",IF(G90>'A - Contractor Summary'!$C$42,\"No\",\"Needs Review\")))","v":""},"Yes","No",0,0]
[null,80,null,null,null,null,null,null,null,null,null,null,null,{"$f":"IF(AND(G91>='A - Contractor Summary'!$C$36,G91<='A - Contractor Summary'!$C$38),\"Yes\",IF(G91<'A - Contractor Summary'!$C$36,\"No\",IF(G91>'A - Contractor Summary'!$C$39,\"\",\"\")))","v":"No"},{"$f":"IF(OR(N91=\"Yes\",N91=\"No\")*AND(G91<'A - Contractor Summary'!$C$39),\"\",IF(AND(G91>'A - Contractor Summary'!$C$39,G91<'A - Contractor Summary'!$C$42),\"Yes\",IF(G91>'A - Contractor Summary'!$C$42,\"No\",\"Needs Review\")))","v":""},"No","No",0,0]
[null,81,null,null,null,null,null,null,null,null,null,null,null,{"$f":"IF(AND(G92>='A - Contractor Summary'!$C$36,G92<='A - Contractor Summary'!$C$38),\"Yes\",IF(G92<'A - Contractor Summary'!$C$36,\"No\",IF(G92>'A - Contractor Summary'!$C$39,\"\",\"\")))","v":"No"},{"$f":"IF(OR(N92=\"Yes\",N92=\"No\")*AND(G92<'A - Contractor Summary'!$C$39),\"\",IF(AND(G92>'A - Contractor Summary'!$C$39,G92<'A - Contractor Summary'!$C$42),\"Yes\",IF(G92>'A - Contractor Summary'!$C$42,\"No\",\"Needs Review\")))","v":""},"No","No",0,0]
[null,82,null,null,null,null,null,null,null,null,null,null,null,{"$f":"IF(AND(G93>='A - Contractor Summary'!$C$36,G93<='A - Contractor Summary'!$C$38),\"Yes\",IF(G93<'A - Contractor Summary'!$C$36,\"No\",IF(G93>'A - Contractor Summary'!$C$39,\"\",\"\")))","v":"No"},{"$f":"IF(OR(N93=\"Yes\",N93=\"No\")*AND(G93<'A - Contractor Summary'!$C$39),\"\",IF(AND(G93>'A - Contractor Summary'!$C$39,G93<'A - Contractor Summary'!$C$42),\"Yes\",IF(G93>'A - Contractor Summary'!$C$42,\"No\",\"Needs Review\")))","v":""},"No","No",0,0]
[null,83,null,null,null,null,null,null,null,null,null,null,null,{"$f":"IF(AND(G94>='A - Contractor Summary'!$C$36,G94<='A - Contractor Summary'!$C$38),\"Yes\",IF(G94<'A - Contractor Summary'!$C$36,\"No\",IF(G94>'A - Contractor Summary'!$C$39,\"\",\"\")))","v":"No"},{"$f":"IF(OR(N94=\"Yes\",N94=\"No\")*AND(G94<'A - Contractor Summary'!$C$39),\"\",IF(AND(G94>'A - Contractor Summary'!$C$39,G94<'A - Contractor Summary'!$C$42),\"Yes\",IF(G94>'A - Contractor Summary'!$C$42,\"No\",\"Needs Review\")))","v":""},"No",{"$f":"IF(AND(P94=\"Yes\",L94=\"Yes\",M94=\"Yes\")*OR(O94=\"Yes\",N94=\"Yes\"),\"Yes\",IF(OR(L94=\"No\",N94=\"No\",O94=\"No\",P94=\"No\",M94=\"No\"),\"No\",\"Needs Review\"))","v":"No"},{"$f":"IF(Q94=\"Yes\",K94,0)","v":0},{"$f":"IF(Q94=\"Needs Review\",K94,0)","v":0}]
[null,84,null,null,null,null,null,null,null,null,null,null,null,{"$f":"IF(AND(G95>='A - Contractor Summary'!$C$36,G95<='A - Contractor Summary'!$C$38),\"Yes\",IF(G95<'A - Contractor Summary'!$C$36,\"No\",IF(G95>'A - Contractor Summary'!$C$39,\"\",\"\")))","v":"No"},{"$f":"IF(OR(N95=\"Yes\",N95=\"No\")*AND(G95<'A - Contractor Summary'!$C$39),\"\",IF(AND(G95>'A - Contractor Summary'!$C$39,G95<'A - Contractor Summary'!$C$42),\"Yes\",IF(G95>'A - Contractor Summary'!$C$42,\"No\",\"Needs Review\")))","v":""},"No","No",0,0]
[null,85,null,null,null,null,null,null,null,null,null,null,null,{"$f":"IF(AND(G96>='A - Contractor Summary'!$C$36,G96<='A - Contractor Summary'!$C$38),\"Yes\",IF(G96<'A - Contractor Summary'!$C$36,\"No\",IF(G96>'A - Contractor Summary'!$C$39,\"\",\"\")))","v":"No"},{"$f":"IF(OR(N96=\"Yes\",N96=\"No\")*AND(G96<'A - Contractor Summary'!$C$39),\"\",IF(AND(G96>'A - Contractor Summary'!$C$39,G96<'A - Contractor Summary'!$C$42),\"Yes\",IF(G96>'A - Contractor Summary'!$C$42,\"No\",\"Needs Review\")))","v":""},"No","No",0,0]
[null,86,null,null,null,null,null,null,null,null,null,null,null,{"$f":"IF(AND(G97>='A - Contractor Summary'!$C$36,G97<='A - Contractor Summary'!$C$38),\"Yes\",IF(G97<'A - Contractor Summary'!$C$36,\"No\",IF(G97>'A - Contractor Summary'!$C$39,\"\",\"\")))","v":"No"},{"$f":"IF(OR(N97=\"Yes\",N97=\"No\")*AND(G97<'A - Contractor Summary'!$C$39),\"\",IF(AND(G97>'A - Contractor Summary'!$C$39,G97<'A - Contractor Summary'!$C$42),\"Yes\",IF(G97>'A - Contractor Summary'!$C$42,\"No\",\"Needs Review\")))","v":""},"Yes","No",0,0]
[null,87,null,null,null,null,null,null,null,null,null,null,null,{"$f":"IF(AND(G98>='A - Contractor Summary'!$C$36,G98<='A - Contractor Summary'!$C$38),\"Yes\",IF(G98<'A - Contractor Summary'!$C$36,\"No\",IF(G98>'A - Contractor Summary'!$C$39,\"\",\"\")))","v":"No"},{"$f":"IF(OR(N98=\"Yes\",N98=\"No\")*AND(G98<'A - Contractor Summary'!$C$39),\"\",IF(AND(G98>'A - Contractor Summary'!$C$39,G98<'A - Contractor Summary'!$C$42),\"Yes\",IF(G98>'A - Contractor Summary'!$C$42,\"No\",\"Needs Review\")))","v":""},"Yes","No",0,0]
[null,88,null,null,null,null,null,null,null,null,null,null,null,{"$f":"IF(AND(G99>='A - Contractor Summary'!$C$36,G99<='A - Contractor Summary'!$C$38),\"Yes\",IF(G99<'A - Contractor Summary'!$C$36,\"No\",IF(G99>'A - Contractor Summary'!$C$39,\"\",\"\")))","v":"No"},{"$f":"IF(OR(N99=\"Yes\",N99=\"No\")*AND(G99<'A - Contractor Summary'!$C$39),\"\",IF(AND(G99>'A - Contractor Summary'!$C$39,G99<'A - Contractor Summary'!$C$42),\"Yes\",IF(G99>'A - Contractor Summary'!$C$42,\"No\",\"Needs Review\")))","v":""},"Yes","No",0,0]
[null,89,null,null,null,null,null,null,null,null,null,null,null,{"$f":"IF(AND(G100>='A - Contractor Summary'!$C$36,G100<='A - Contractor Summary'!$C$38),\"Yes\",IF(G100<'A - Contractor Summary'!$C$36,\"No\",IF(G100>'A - Contractor Summary'!$C$39,\"\",\"\")))","v":"No"},{"$f":"IF(OR(N100=\"Yes\",N100=\"No\")*AND(G100<'A - Contractor Summary'!$C$39),\"\",IF(AND(G100>'A - Contractor Summary'!$C$39,G100<'A - Contractor Summary'!$C$42),\"Yes\",IF(G100>'A - Contractor Summary'!$C$42,\"No\",\"Needs Review\")))","v":""},"Yes","No",0,0]
[null,90,null,null,null,null,null,null,null,null,null,null,null,{"$f":"IF(AND(G101>='A - Contractor Summary'!$C$36,G101<='A - Contractor Summary'!$C$38),\"Yes\",IF(G101<'A - Contractor Summary'!$C$36,\"No\",IF(G101>'A - Contractor Summary'!$C$39,\"\",\"\")))","v":"No"},{"$f":"IF(OR(N101=\"Yes\",N101=\"No\")*AND(G101<'A - Contractor Summary'!$C$39),\"\",IF(AND(G101>'A - Contractor Summary'!$C$39,G101<'A - Contractor Summary'!$C$42),\"Yes\",IF(G101>'A - Contractor Summary'!$C$42,\"No\",\"Needs Review\")))","v":""},"Yes","No",0,0]
[null,91,null,null,null,null,null,null,null,null,null,null,null,{"$f":"IF(AND(G102>='A - Contractor Summary'!$C$36,G102<='A - Contractor Summary'!$C$38),\"Yes\",IF(G102<'A - Contractor Summary'!$C$36,\"No\",IF(G102>'A - Contractor Summary'!$C$39,\"\",\"\")))","v":"No"},{"$f":"IF(OR(N102=\"Yes\",N102=\"No\")*AND(G102<'A - Contractor Summary'!$C$39),\"\",IF(AND(G102>'A - Contractor Summary'!$C$39,G102<'A - Contractor Summary'!$C$42),\"Yes\",IF(G102>'A - Contractor Summary'!$C$42,\"No\",\"Needs Review\")))","v":""},"Yes","No",0,0]
[null,92,null,null,null,null,null,null,null,null,null,null,null,{"$f":"IF(AND(G103>='A - Contractor Summary'!$C$36,G103<='A - Contractor Summary'!$C$38),\"Yes\",IF(G103<'A - Contractor Summary'!$C$36,\"No\",IF(G103>'A - Contractor Summary'!$C$39,\"\",\"\")))","v":"No"},{"$f":"IF(OR(N103=\"Yes\",N103=\"No\")*AND(G103<'A - Contractor Summary'!$C$39),\"\",IF(AND(G103>'A - Contractor Summary'!$C$39,G103<'A - Contractor Summary'!$C$42),\"Yes\",IF(G103>'A - Contractor Summary'!$C$42,\"No\",\"Needs Review\")))","v":""},"Yes","No",0,0]
[null,93,null,null,null,null,null,null,null,null,null,null,null,{"$f":"IF(AND(G104>='A - Contractor Summary'!$C$36,G104<='A - Contractor Summary'!$C$38),\"Yes\",IF(G104<'A - Contractor Summary'!$C$36,\"No\",IF(G104>'A - Contractor Summary'!$C$39,\"\",\"\")))","v":"No"},{"$f":"IF(OR(N104=\"Yes\",N104=\"No\")*AND(G104<'A - Contractor Summary'!$C$39),\"\",IF(AND(G104>'A - Contractor Summary'!$C$39,G104<'A - Contractor Summary'!$C$42),\"Yes\",IF(G104>'A - Contractor Summary'!$C$42,\"No\",\"Needs Review\")))","v":""},"Yes","No",0,0]
[null,94,null,null,null,null,null,null,null,null,null,null,null,{"$f":"IF(AND(G105>='A - Contractor Summary'!$C$36,G105<='A - Contractor Summary'!$C$38),\"Yes\",IF(G105<'A - Contractor Summary'!$C$36,\"No\",IF(G105>'A - Contractor Summary'!$C$39,\"\",\"\")))","v":"No"},{"$f":"IF(OR(N105=\"Yes\",N105=\"No\")*AND(G105<'A - Contractor Summary'!$C$39),\"\",IF(AND(G105>'A - Contractor Summary'!$C$39,G105<'A - Contractor Summary'!$C$42),\"Yes\",IF(G105>'A - Contractor Summary'!$C$42,\"No\",\"Needs Review\")))","v":""},"Yes","No",0,0]
[null,95,null,null,null,null,null,null,null,null,null,null,null,{"$f":"IF(AND(G106>='A - Contractor Summary'!$C$36,G106<='A - Contractor Summary'!$C$38),\"Yes\",IF(G106<'A - Contractor Summary'!$C$36,\"No\",IF(G106>'A - Contractor Summary'!$C$39,\"\",\"\")))","v":"No"},{"$f":"IF(OR(N106=\"Yes\",N106=\"No\")*AND(G106<'A - Contractor Summary'!$C$39),\"\",IF(AND(G106>'A - Contractor Summary'!$C$39,G106<'A - Contractor Summary'!$C$42),\"Yes\",IF(G106>'A - Contractor Summary'!$C$42,\"No\",\"Needs Review\")))","v":""},"Yes","No",0,0]
[null,96,null,null,null,null,null,null,null,null,null,null,null,{"$f":"IF(AND(G107>='A - Contractor Summary'!$C$36,G107<='A - Contractor Summary'!$C$38),\"Yes\",IF(G107<'A - Contractor Summary'!$C$36,\"No\",IF(G107>'A - Contractor Summary'!$C$39,\"\",\"\")))","v":"No"},{"$f":"IF(OR(N107=\"Yes\",N107=\"No\")*AND(G107<'A - Contractor Summary'!$C$39),\"\",IF(AND(G107>'A - Contractor Summary'!$C$39,G107<'A - Contractor Summary'!$C$42),\"Yes\",IF(G107>'A - Contractor Summary'!$C$42,\"No\",\"Needs Review\")))","v":""},"Yes","No",0,0]
[null,97,null,null,null,null,null,null,null,null,null,null,null,{"$f":"IF(AND(G108>='A - Contractor Summary'!$C$36,G108<='A - Contractor Summary'!$C$38),\"Yes\",IF(G108<'A - Contractor Summary'!$C$36,\"No\",IF(G108>'A - Contractor Summary'!$C$39,\"\",\"\")))","v":"No"},{"$f":"IF(OR(N108=\"Yes\",N108=\"No\")*AND(G108<'A - Contractor Summary'!$C$39),\"\",IF(AND(G108>'A - Contractor Summary'!$C$39,G108<'A - Contractor Summary'!$C$42),\"Yes\",IF(G108>'A - Contractor Summary'!$C$42,\"No\",\"Needs Review\")))","v":""},"Yes","No",0,0]
[null,98,null,null,null,null,null,null,null,null,null,null,null,{"$f":"IF(AND(G109>='A - Contractor Summary'!$C$36,G109<='A - Contractor Summary'!$C$38),\"Yes\",IF(G109<'A - Contractor Summary'!$C$36,\"No\",IF(G109>'A - Contractor Summary'!$C$39,\"\",\"\")))","v":"No"},{"$f":"IF(OR(N109=\"Yes\",N109=\"No\")*AND(G109<'A - Contractor Summary'!$C$39),\"\",IF(AND(G109>'A - Contractor Summary'!$C$39,G109<'A - Contractor Summary'!$C$42),\"Yes\",IF(G109>'A - Contractor Summary'!$C$42,\"No\",\"Needs Review\")))","v":""},"Yes","No",0,0]
[null,99,null,null,null,null,null,null,null,null,null,null,null,{"$f":"IF(AND(G110>='A - Contractor Summary'!$C$36,G110<='A - Contractor Summary'!$C$38),\"Yes\",IF(G110<'A - Contractor Summary'!$C$36,\"No\",IF(G110>'A - Contractor Summary'!$C$39,\"\",\"\")))","v":"No"},{"$f":"IF(OR(N110=\"Yes\",N110=\"No\")*AND(G110<'A - Contractor Summary'!$C$39),\"\",IF(AND(G110>'A - Contractor Summary'!$C$39,G110<'A - Contractor Summary'!$C$42),\"Yes\",IF(G110>'A - Contractor Summary'!$C$42,\"No\",\"Needs Review\")))","v":""},"Yes","No",0,0]
[null,100,null,null,null,null,null,null,null,null,null,null,null,{"$f":"IF(AND(G111>='A - Contractor Summary'!$C$36,G111<='A - Contractor Summary'!$C$38),\"Yes\",IF(G111<'A - Contractor Summary'!$C$36,\"No\",IF(G111>'A - Contractor Summary'!$C$39,\"\",\"\")))","v":"No"},{"$f":"IF(OR(N111=\"Yes\",N111=\"No\")*AND(G111<'A - Contractor Summary'!$C$39),\"\",IF(AND(G111>'A - Contractor Summary'!$C$39,G111<'A - Contractor Summary'!$C$42),\"Yes\",IF(G111>'A - Contractor Summary'!$C$42,\"No\",\"Needs Review\")))","v":""},"Yes","No",0,0]
[null,101,null,null,null,null,null,null,null,null,null,null,null,{"$f":"IF(AND(G112>='A - Contractor Summary'!$C$36,G112<='A - Contractor Summary'!$C$38),\"Yes\",IF(G112<'A - Contractor Summary'!$C$36,\"No\",IF(G112>'A - Contractor Summary'!$C$39,\"\",\"\")))","v":"No"},{"$f":"IF(OR(N112=\"Yes\",N112=\"No\")*AND(G112<'A - Contractor Summary'!$C$39),\"\",IF(AND(G112>'A - Contractor Summary'!$C$39,G112<'A - Contractor Summary'!$C$42),\"Yes\",IF(G112>'A - Contractor Summary'!$C$42,\"No\",\"Needs Review\")))","v":""},"Yes","No",0,0]
[null,102,null,null,null,null,null,null,null,null,null,null,null,{"$f":"IF(AND(G113>='A - Contractor Summary'!$C$36,G113<='A - Contractor Summary'!$C$38),\"Yes\",IF(G113<'A - Contractor Summary'!$C$36,\"No\",IF(G113>'A - Contractor Summary'!$C$39,\"\",\"\")))","v":"No"},{"$f":"IF(OR(N113=\"Yes\",N113=\"No\")*AND(G113<'A - Contractor Summary'!$C$39),\"\",IF(AND(G113>'A - Contractor Summary'!$C$39,G113<'A - Contractor Summary'!$C$42),\"Yes\",IF(G113>'A - Contractor Summary'!$C$42,\"No\",\"Needs Review\")))","v":""},"Yes","No",0,0]
[null,103,null,null,null,null,null,null,null,null,null,null,null,{"$f":"IF(AND(G114>='A - Contractor Summary'!$C$36,G114<='A - Contractor Summary'!$C$38),\"Yes\",IF(G114<'A - Contractor Summary'!$C$36,\"No\",IF(G114>'A - Contractor Summary'!$C$39,\"\",\"\")))","v":"No"},{"$f":"IF(OR(N114=\"Yes\",N114=\"No\")*AND(G114<'A - Contractor Summary'!$C$39),\"\",IF(AND(G114>'A - Contractor Summary'!$C$39,G114<'A - Contractor Summary'!$C$42),\"Yes\",IF(G114>'A - Contractor Summary'!$C$42,\"No\",\"Needs Review\")))","v":""},"Yes","No",0,0]
[null,104,null,null,null,null,null,null,null,null,null,null,null,{"$f":"IF(AND(G115>='A - Contractor Summary'!$C$36,G115<='A - Contractor Summary'!$C$38),\"Yes\",IF(G115<'A - Contractor Summary'!$C$36,\"No\",IF(G115>'A - Contractor Summary'!$C$39,\"\",\"\")))","v":"No"},{"$f":"IF(OR(N115=\"Yes\",N115=\"No\")*AND(G115<'A - Contractor Summary'!$C$39),\"\",IF(AND(G115>'A - Contractor Summary'!$C$39,G115<'A - Contractor Summary'!$C$42),\"Yes\",IF(G115>'A - Contractor Summary'!$C$42,\"No\",\"Needs Review\")))","v":""},"Yes","No",0,0]
[null,105,null,null,null,null,null,null,null,null,null,null,null,{"$f":"IF(AND(G116>='A - Contractor Summary'!$C$36,G116<='A - Contractor Summary'!$C$38),\"Yes\",IF(G116<'A - Contractor Summary'!$C$36,\"No\",IF(G116>'A - Contractor Summary'!$C$39,\"\",\"\")))","v":"No"},{"$f":"IF(OR(N116=\"Yes\",N116=\"No\")*AND(G116<'A - Contractor Summary'!$C$39),\"\",IF(AND(G116>'A - Contractor Summary'!$C$39,G116<'A - Contractor Summary'!$C$42),\"Yes\",IF(G116>'A - Contractor Summary'!$C$42,\"No\",\"Needs Review\")))","v":""},"Yes","No",0,0]
[null,106,null,null,null,null,null,null,null,null,null,null,null,{"$f":"IF(AND(G117>='A - Contractor Summary'!$C$36,G117<='A - Contractor Summary'!$C$38),\"Yes\",IF(G117<'A - Contractor Summary'!$C$36,\"No\",IF(G117>'A - Contractor Summary'!$C$39,\"\",\"\")))","v":"No"},{"$f":"IF(OR(N117=\"Yes\",N117=\"No\")*AND(G117<'A - Contractor Summary'!$C$39),\"\",IF(AND(G117>'A - Contractor Summary'!$C$39,G117<'A - Contractor Summary'!$C$42),\"Yes\",IF(G117>'A - Contractor Summary'!$C$42,\"No\",\"Needs Review\")))","v":""},"Yes","No",0,0]
[null,107,null,null,null,null,null,null,null,null,null,null,null,{"$f":"IF(AND(G118>='A - Contractor Summary'!$C$36,G118<='A - Contractor Summary'!$C$38),\"Yes\",IF(G118<'A - Contractor Summary'!$C$36,\"No\",IF(G118>'A - Contractor Summary'!$C$39,\"\",\"\")))","v":"No"},{"$f":"IF(OR(N118=\"Yes\",N118=\"No\")*AND(G118<'A - Contractor Summary'!$C$39),\"\",IF(AND(G118>'A - Contractor Summary'!$C$39,G118<'A - Contractor Summary'!$C$42),\"Yes\",IF(G118>'A - Contractor Summary'!$C$42,\"No\",\"Needs Review\")))","v":""},"Yes","No",0,0]
[null,108,null,null,null,null,null,null,null,null,null,null,null,{"$f":"IF(AND(G119>='A - Contractor Summary'!$C$36,G119<='A - Contractor Summary'!$C$38),\"Yes\",IF(G119<'A - Contractor Summary'!$C$36,\"No\",IF(G119>'A - Contractor Summary'!$C$39,\"\",\"\")))","v":"No"},{"$f":"IF(OR(N119=\"Yes\",N119=\"No\")*AND(G119<'A - Contractor Summary'!$C$39),\"\",IF(AND(G119>'A - Contractor Summary'!$C$39,G119<'A - Contractor Summary'!$C$42),\"Yes\",IF(G119>'A - Contractor Summary'!$C$42,\"No\",\"Needs Review\")))","v":""},"Yes","No",0,0]
[null,109,null,null,null,null,null,null,null,null,null,null,null,{"$f":"IF(AND(G120>='A - Contractor Summary'!$C$36,G120<='A - Contractor Summary'!$C$38),\"Yes\",IF(G120<'A - Contractor Summary'!$C$36,\"No\",IF(G120>'A - Contractor Summary'!$C$39,\"\",\"\")))","v":"No"},{"$f":"IF(OR(N120=\"Yes\",N120=\"No\")*AND(G120<'A - Contractor Summary'!$C$39),\"\",IF(AND(G120>'A - Contractor Summary'!$C$39,G120<'A - Contractor Summary'!$C$42),\"Yes\",IF(G120>'A - Contractor Summary'!$C$42,\"No\",\"Needs Review\")))","v":""},"Yes","No",0,0]
[null,110,null,null,null,null,null,null,null,null,null,null,null,{"$f":"IF(AND(G121>='A - Contractor Summary'!$C$36,G121<='A - Contractor Summary'!$C$38),\"Yes\",IF(G121<'A - Contractor Summary'!$C$36,\"No\",IF(G121>'A - Contractor Summary'!$C$39,\"\",\"\")))","v":"No"},{"$f":"IF(OR(N121=\"Yes\",N121=\"No\")*AND(G121<'A - Contractor Summary'!$C$39),\"\",IF(AND(G121>'A - Contractor Summary'!$C$39,G121<'A - Contractor Summary'!$C$42),\"Yes\",IF(G121>'A - Contractor Summary'!$C$42,\"No\",\"Needs Review\")))","v":""},"Yes","No",0,0]
[null,111,null,null,null,null,null,null,null,null,null,null,null,{"$f":"IF(AND(G122>='A - Contractor Summary'!$C$36,G122<='A - Contractor Summary'!$C$38),\"Yes\",IF(G122<'A - Contractor Summary'!$C$36,\"No\",IF(G122>'A - Contractor Summary'!$C$39,\"\",\"\")))","v":"No"},{"$f":"IF(OR(N122=\"Yes\",N122=\"No\")*AND(G122<'A - Contractor Summary'!$C$39),\"\",IF(AND(G122>'A - Contractor Summary'!$C$39,G122<'A - Contractor Summary'!$C$42),\"Yes\",IF(G122>'A - Contractor Summary'!$C$42,\"No\",\"Needs Review\")))","v":""},"Yes","No",0,0]
[null,112,null,null,null,null,null,null,null,null,null,null,null,{"$f":"IF(AND(G123>='A - Contractor Summary'!$C$36,G123<='A - Contractor Summary'!$C$38),\"Yes\",IF(G123<'A - Contractor Summary'!$C$36,\"No\",IF(G123>'A - Contractor Summary'!$C$39,\"\",\"\")))","v":"No"},{"$f":"IF(OR(N123=\"Yes\",N123=\"No\")*AND(G123<'A - Contractor Summary'!$C$39),\"\",IF(AND(G123>'A - Contractor Summary'!$C$39,G123<'A - Contractor Summary'!$C$42),\"Yes\",IF(G123>'A - Contractor Summary'!$C$42,\"No\",\"Needs Review\")))","v":""},"Yes","No",0,0]
[null,113,null,null,null,null,null,null,null,null,null,null,null,{"$f":"IF(AND(G124>='A - Contractor Summary'!$C$36,G124<='A - Contractor Summary'!$C$38),\"Yes\",IF(G124<'A - Contractor Summary'!$C$36,\"No\",IF(G124>'A - Contractor Summary'!$C$39,\"\",\"\")))","v":"No"},{"$f":"IF(OR(N124=\"Yes\",N124=\"No\")*AND(G124<'A - Contractor Summary'!$C$39),\"\",IF(AND(G124>'A - Contractor Summary'!$C$39,G124<'A - Contractor Summary'!$C$42),\"Yes\",IF(G124>'A - Contractor Summary'!$C$42,\"No\",\"Needs Review\")))","v":""},"Yes","No",0,0]
[null,114,null,null,null,null,null,null,null,null,null,null,null,{"$f":"IF(AND(G125>='A - Contractor Summary'!$C$36,G125<='A - Contractor Summary'!$C$38),\"Yes\",IF(G125<'A - Contractor Summary'!$C$36,\"No\",IF(G125>'A - Contractor Summary'!$C$39,\"\",\"\")))","v":"No"},{"$f":"IF(OR(N125=\"Yes\",N125=\"No\")*AND(G125<'A - Contractor Summary'!$C$39),\"\",IF(AND(G125>'A - Contractor Summary'!$C$39,G125<'A - Contractor Summary'!$C$42),\"Yes\",IF(G125>'A - Contractor Summary'!$C$42,\"No\",\"Needs Review\")))","v":""},"Yes","No",0,0]
[null,115,null,null,null,null,null,null,null,null,null,null,null,{"$f":"IF(AND(G126>='A - Contractor Summary'!$C$36,G126<='A - Contractor Summary'!$C$38),\"Yes\",IF(G126<'A - Contractor Summary'!$C$36,\"No\",IF(G126>'A - Contractor Summary'!$C$39,\"\",\"\")))","v":"No"},{"$f":"IF(OR(N126=\"Yes\",N126=\"No\")*AND(G126<'A - Contractor Summary'!$C$39),\"\",IF(AND(G126>'A - Contractor Summary'!$C$39,G126<'A - Contractor Summary'!$C$42),\"Yes\",IF(G126>'A - Contractor Summary'!$C$42,\"No\",\"Needs Review\")))","v":""},"Yes","No",0,0]
[null,116,null,null,null,null,null,null,null,null,null,null,null,{"$f":"IF(AND(G127>='A - Contractor Summary'!$C$36,G127<='A - Contractor Summary'!$C$38),\"Yes\",IF(G127<'A - Contractor Summary'!$C$36,\"No\",IF(G127>'A - Contractor Summary'!$C$39,\"\",\"\")))","v":"No"},{"$f":"IF(OR(N127=\"Yes\",N127=\"No\")*AND(G127<'A - Contractor Summary'!$C$39),\"\",IF(AND(G127>'A - Contractor Summary'!$C$39,G127<'A - Contractor Summary'!$C$42),\"Yes\",IF(G127>'A - Contractor Summary'!$C$42,\"No\",\"Needs Review\")))","v":""},"Yes","No",0,0]
[null,117,null,null,null,null,null,null,null,null,null,null,null,{"$f":"IF(AND(G128>='A - Contractor Summary'!$C$36,G128<='A - Contractor Summary'!$C$38),\"Yes\",IF(G128<'A - Contractor Summary'!$C$36,\"No\",IF(G128>'A - Contractor Summary'!$C$39,\"\",\"\")))","v":"No"},{"$f":"IF(OR(N128=\"Yes\",N128=\"No\")*AND(G128<'A - Contractor Summary'!$C$39),\"\",IF(AND(G128>'A - Contractor Summary'!$C$39,G128<'A - Contractor Summary'!$C$42),\"Yes\",IF(G128>'A - Contractor Summary'!$C$42,\"No\",\"Needs Review\")))","v":""},"Yes","No",0,0]
[null,118,null,null,null,null,null,null,null,null,null,null,null,{"$f":"IF(AND(G129>='A - Contractor Summary'!$C$36,G129<='A - Contractor Summary'!$C$38),\"Yes\",IF(G129<'A - Contractor Summary'!$C$36,\"No\",IF(G129>'A - Contractor Summary'!$C$39,\"\",\"\")))","v":"No"},{"$f":"IF(OR(N129=\"Yes\",N129=\"No\")*AND(G129<'A - Contractor Summary'!$C$39),\"\",IF(AND(G129>'A - Contractor Summary'!$C$39,G129<'A - Contractor Summary'!$C$42),\"Yes\",IF(G129>'A - Contractor Summary'!$C$42,\"No\",\"Needs Review\")))","v":""},"Yes","No",0,0]
[null,119,null,null,null,null,null,null,null,null,null,null,null,{"$f":"IF(AND(G130>='A - Contractor Summary'!$C$36,G130<='A - Contractor Summary'!$C$38),\"Yes\",IF(G130<'A - Contractor Summary'!$C$36,\"No\",IF(G130>'A - Contractor Summary'!$C$39,\"\",\"\")))","v":"No"},{"$f":"IF(OR(N130=\"Yes\",N130=\"No\")*AND(G130<'A - Contractor Summary'!$C$39),\"\",IF(AND(G130>'A - Contractor Summary'!$C$39,G130<'A - Contractor Summary'!$C$42),\"Yes\",IF(G130>'A - Contractor Summary'!$C$42,\"No\",\"Needs Review\")))","v":""},"Yes","No",0,0]
[null,120,null,null,null,null,null,null,null,null,null,null,null,{"$f":"IF(AND(G131>='A - Contractor Summary'!$C$36,G131<='A - Contractor Summary'!$C$38),\"Yes\",IF(G131<'A - Contractor Summary'!$C$36,\"No\",IF(G131>'A - Contractor Summary'!$C$39,\"\",\"\")))","v":"No"},{"$f":"IF(OR(N131=\"Yes\",N131=\"No\")*AND(G131<'A - Contractor Summary'!$C$39),\"\",IF(AND(G131>'A - Contractor Summary'!$C$39,G131<'A - Contractor Summary'!$C$42),\"Yes\",IF(G131>'A - Contractor Summary'!$C$42,\"No\",\"Needs Review\")))","v":""},"Yes","No",0,0]
[null,121,null,null,null,null,null,null,null,null,null,null,null,{"$f":"IF(AND(G132>='A - Contractor Summary'!$C$36,G132<='A - Contractor Summary'!$C$38),\"Yes\",IF(G132<'A - Contractor Summary'!$C$36,\"No\",IF(G132>'A - Contractor Summary'!$C$39,\"\",\"\")))","v":"No"},{"$f":"IF(OR(N132=\"Yes\",N132=\"No\")*AND(G132<'A - Contractor Summary'!$C$39),\"\",IF(AND(G132>'A - Contractor Summary'!$C$39,G132<'A - Contractor Summary'!$C$42),\"Yes\",IF(G132>'A - Contractor Summary'!$C$42,\"No\",\"Needs Review\")))","v":""},"Yes","No",0,0]
[null,122,null,null,null,null,null,null,null,null,null,null,null,{"$f":"IF(AND(G133>='A - Contractor Summary'!$C$36,G133<='A - Contractor Summary'!$C$38),\"Yes\",IF(G133<'A - Contractor Summary'!$C$36,\"No\",IF(G133>'A - Contractor Summary'!$C$39,\"\",\"\")))","v":"No"},{"$f":"IF(OR(N133=\"Yes\",N133=\"No\")*AND(G133<'A - Contractor Summary'!$C$39),\"\",IF(AND(G133>'A - Contractor Summary'!$C$39,G133<'A - Contractor Summary'!$C$42),\"Yes\",IF(G133>'A - Contractor Summary'!$C$42,\"No\",\"Needs Review\")))","v":""},"Yes","No",0,0]
[null,123,null,null,null,null,null,null,null,null,null,null,null,{"$f":"IF(AND(G134>='A - Contractor Summary'!$C$36,G134<='A - Contractor Summary'!$C$38),\"Yes\",IF(G134<'A - Contractor Summary'!$C$36,\"No\",IF(G134>'A - Contractor Summary'!$C$39,\"\",\"\")))","v":"No"},{"$f":"IF(OR(N134=\"Yes\",N134=\"No\")*AND(G134<'A - Contractor Summary'!$C$39),\"\",IF(AND(G134>'A - Contractor Summary'!$C$39,G134<'A - Contractor Summary'!$C$42),\"Yes\",IF(G134>'A - Contractor Summary'!$C$42,\"No\",\"Needs Review\")))","v":""},"Yes","No",0,0]
[null,124,null,null,null,null,null,null,null,null,null,null,null,{"$f":"IF(AND(G135>='A - Contractor Summary'!$C$36,G135<='A - Contractor Summary'!$C$38),\"Yes\",IF(G135<'A - Contractor Summary'!$C$36,\"No\",IF(G135>'A - Contractor Summary'!$C$39,\"\",\"\")))","v":"No"},{"$f":"IF(OR(N135=\"Yes\",N135=\"No\")*AND(G135<'A - Contractor Summary'!$C$39),\"\",IF(AND(G135>'A - Contractor Summary'!$C$39,G135<'A - Contractor Summary'!$C$42),\"Yes\",IF(G135>'A - Contractor Summary'!$C$42,\"No\",\"Needs Review\")))","v":""},"Yes","No",0,0]
[null,125,null,null,null,null,null,null,null,null,null,null,null,{"$f":"IF(AND(G136>='A - Contractor Summary'!$C$36,G136<='A - Contractor Summary'!$C$38),\"Yes\",IF(G136<'A - Contractor Summary'!$C$36,\"No\",IF(G136>'A - Contractor Summary'!$C$39,\"\",\"\")))","v":"No"},{"$f":"IF(OR(N136=\"Yes\",N136=\"No\")*AND(G136<'A - Contractor Summary'!$C$39),\"\",IF(AND(G136>'A - Contractor Summary'!$C$39,G136<'A - Contractor Summary'!$C$42),\"Yes\",IF(G136>'A - Contractor Summary'!$C$42,\"No\",\"Needs Review\")))","v":""},"Yes","No",0,0]
[null,126,null,null,null,null,null,null,null,null,null,null,null,{"$f":"IF(AND(G137>='A - Contractor Summary'!$C$36,G137<='A - Contractor Summary'!$C$38),\"Yes\",IF(G137<'A - Contractor Summary'!$C$36,\"No\",IF(G137>'A - Contractor Summary'!$C$39,\"\",\"\")))","v":"No"},{"$f":"IF(OR(N137=\"Yes\",N137=\"No\")*AND(G137<'A - Contractor Summary'!$C$39),\"\",IF(AND(G137>'A - Contractor Summary'!$C$39,G137<'A - Contractor Summary'!$C$42),\"Yes\",IF(G137>'A - Contractor Summary'!$C$42,\"No\",\"Needs Review\")))","v":""},"Yes","No",0,0]
[null,127,null,null,null,null,null,null,null,null,null,null,null,{"$f":"IF(AND(G138>='A - Contractor Summary'!$C$36,G138<='A - Contractor Summary'!$C$38),\"Yes\",IF(G138<'A - Contractor Summary'!$C$36,\"No\",IF(G138>'A - Contractor Summary'!$C$39,\"\",\"\")))","v":"No"},{"$f":"IF(OR(N138=\"Yes\",N138=\"No\")*AND(G138<'A - Contractor Summary'!$C$39),\"\",IF(AND(G138>'A - Contractor Summary'!$C$39,G138<'A - Contractor Summary'!$C$42),\"Yes\",IF(G138>'A - Contractor Summary'!$C$42,\"No\",\"Needs Review\")))","v":""},"Yes","No",0,0]
[null,128,null,null,null,null,null,null,null,null,null,null,null,{"$f":"IF(AND(G139>='A - Contractor Summary'!$C$36,G139<='A - Contractor Summary'!$C$38),\"Yes\",IF(G139<'A - Contractor Summary'!$C$36,\"No\",IF(G139>'A - Contractor Summary'!$C$39,\"\",\"\")))","v":"No"},{"$f":"IF(OR(N139=\"Yes\",N139=\"No\")*AND(G139<'A - Contractor Summary'!$C$39),\"\",IF(AND(G139>'A - Contractor Summary'!$C$39,G139<'A - Contractor Summary'!$C$42),\"Yes\",IF(G139>'A - Contractor Summary'!$C$42,\"No\",\"Needs Review\")))","v":""},"Yes","No",0,0]
[null,129,null,null,null,null,null,null,null,null,null,null,null,{"$f":"IF(AND(G140>='A - Contractor Summary'!$C$36,G140<='A - Contractor Summary'!$C$38),\"Yes\",IF(G140<'A - Contractor Summary'!$C$36,\"No\",IF(G140>'A - Contractor Summary'!$C$39,\"\",\"\")))","v":"No"},{"$f":"IF(OR(N140=\"Yes\",N140=\"No\")*AND(G140<'A - Contractor Summary'!$C$39),\"\",IF(AND(G140>'A - Contractor Summary'!$C$39,G140<'A - Contractor Summary'!$C$42),\"Yes\",IF(G140>'A - Contractor Summary'!$C$42,\"No\",\"Needs Review\")))","v":""},"Yes",{"$f":"IF(AND(P140=\"Yes\",L140=\"Yes\",M140=\"Yes\")*OR(O140=\"Yes\",N140=\"Yes\"),\"Yes\",IF(OR(L140=\"No\",N140=\"No\",O140=\"No\",P140=\"No\",M140=\"No\"),\"No\",\"Needs Review\"))","v":"No"},{"$f":"IF(Q140=\"Yes\",K140,0)","v":0},{"$f":"IF(Q140=\"Needs Review\",K140,0)","v":0}]
[null,null,null,null,null,null,null,null,null,null,{"$f":"SUM(K14:K140)","v":0},null,null,null,null,null,null,{"$f":"IFERROR(SUM(R14:R140),0)","v":0},{"$f":"IFERROR(SUM(S14:S140),0)","v":0},{"$f":"SUM(T14:T140)","v":0},{"$f":"SUM(U14:U140)","v":0},{"$f":"S141-T141-U141","v":0},"check (a)"]
[]
[]
[]
[null,"Tickmark Explanation:"]
[null,null,1]
[null,null,2]
[null,null,3]
[null,null,4]
[null,null,5]
[null,null,6]
[null,null,7]

{"sheet":"I - Other","index":11,"n_rows":24,"n_cols":23,"rows_kept":24,"cut":false,"hidden":false,"merged":[[12,13,12,21],[12,1,12,12],[3,1,7,12],[24,3,24,21]]}
[]
[null,"Other Charges"]
[]
[null,"Test Plan: (A) Obtain support of individual charges.   (B) Enter Yes/No if receipt is itemized.  (C) Enter Yes/No if proof of payment has been provided.  (D) Ensure charges fall between the dates the vendor was mobilized and the date they arrived.  (E) Ensure charges are prior to the date the vendor arrived home or was released to another utility.  (F) Ensure the expense type is reasonable (G) Determine the amount(s) to be reviewed, allowed and/or disallowed.   (H)  For charges which required further review, document review and include why it was determined to be allowed/disallowed via a tickmark."]
[]
[]
[]
[]
[null,"a","Check figure should equal $0.  Cell will appear yellow if discrepancies are noted."]
[]
[]
[null,null,"A",null,null,null,null,null,null,null,null,"B","C","D","E","F","G",null,null,"H"]
[null,"Support Reviewed",null,null,null,null,null,null,null,null,null,null,null,"Conclusions"]
[null,"#","Type of Support","Support Identifier","Company","Crew","Date","Person","Vendor Name","Location","$ Total","Itemized Receipt","Proof of Payment","Reasonable based on Mobilization date(s)","Reasonable based on Demobilization date(s)","Expense Type Appropriate","Conclusion","$ Allowable Charge","$ To Be Reviewed","Reviewed - Allowable Charge","Reviewed - Unallowable Charge","Tickmarks"]
[null,1,null,913333196,null,"Kepler",null,null,"credit to invoice 913281769",null,-279,null,null,{"$f":"IF(AND(G15>='A - Contractor Summary'!$C$36,G15<='A - Contractor Summary'!$C$38),\"Yes\",IF(G15<'A - Contractor Summary'!$C$36,\"No\",IF(G15>'A - Contractor Summary'!$C$39,\"\",\"\")))","v":"No"},{"$f":"IF(OR(N15=\"Yes\",N15=\"No\")*AND(G15<'A - Contractor Summary'!$C$39),\"\",IF(AND(G15>'A - Contractor Summary'!$C$39,G15<'A - Contractor Summary'!$C$42),\"Yes\",IF(G15>'A - Contractor Summary'!$C$42,\"No\",\"Needs Review\")))","v":""},"Needs Reviewed",{"$f":"IF(AND(P15=\"YES\",L15=\"Yes\",M15=\"yes\")*OR(N15=\"Yes\",O15=\"Yes\"),\"Yes\",IF(OR(O15=\"No\",P15=\"No\",N15=\"No\",M15=\"No\"),\"No\",\"Needs Review\"))","v":"No"},{"$f":"+K15","v":-279},{"$f":"IF(Q15=\"Needs Review\",K15,0)","v":0}]
[null,1,null,913333201,null,null,null,null,"addition to invoice 913281761",null,1052.2,null,null,{"$f":"IF(AND(G16>='A - Contractor Summary'!$C$36,G16<='A - Contractor Summary'!$C$38),\"Yes\",IF(G16<'A - Contractor Summary'!$C$36,\"No\",IF(G16>'A - Contractor Summary'!$C$39,\"\",\"\")))","v":"No"},{"$f":"IF(OR(N16=\"Yes\",N16=\"No\")*AND(G16<'A - Contractor Summary'!$C$39),\"\",IF(AND(G16>'A - Contractor Summary'!$C$39,G16<'A - Contractor Summary'!$C$42),\"Yes\",IF(G16>'A - Contractor Summary'!$C$42,\"No\",\"Needs Review\")))","v":""},"Needs Reviewed",{"$f":"IF(AND(P16=\"YES\",L16=\"Yes\",M16=\"yes\")*OR(N16=\"Yes\",O16=\"Yes\"),\"Yes\",IF(OR(O16=\"No\",P16=\"No\",N16=\"No\",M16=\"No\"),\"No\",\"Needs Review\"))","v":"No"},{"$f":"+K16","v":1052.2},{"$f":"IF(Q16=\"Needs Review\",K16,0)","v":0}]
[null,null,null,"913259306CR",null,null,null,null,"credit",null,-498]
[null,1,null,null,null,null,null,null,"rounding in invoices",null,0.02,null,null,{"$f":"IF(AND(G18>='A - Contractor Summary'!$C$36,G18<='A - Contractor Summary'!$C$38),\"Yes\",IF(G18<'A - Contractor Summary'!$C$36,\"No\",IF(G18>'A - Contractor Summary'!$C$39,\"\",\"\")))","v":"No"},{"$f":"IF(OR(N18=\"Yes\",N18=\"No\")*AND(G18<'A - Contractor Summary'!$C$39),\"\",IF(AND(G18>'A - Contractor Summary'!$C$39,G18<'A - Contractor Summary'!$C$42),\"Yes\",IF(G18>'A - Contractor Summary'!$C$42,\"No\",\"Needs Review\")))","v":""},"Needs Reviewed",{"$f":"IF(AND(P18=\"YES\",L18=\"Yes\",M18=\"yes\")*OR(N18=\"Yes\",O18=\"Yes\"),\"Yes\",IF(OR(O18=\"No\",P18=\"No\",N18=\"No\",M18=\"No\"),\"No\",\"Needs Review\"))","v":"No"},{"$f":"+K18","v":0.02},{"$f":"IF(Q18=\"Needs Review\",K18,0)","v":0}]
[null,null,null,null,null,null,null,null,null,null,{"$f":"SUM(K15:K18)","v":275.22000000000003},null,null,null,null,null,null,{"$f":"SUM(R15:R18)","v":773.22},{"$f":"IFERROR(SUM(S15:S15),0)","v":0},{"$f":"SUM(T15:T15)","v":0},{"$f":"SUM(U15:U15)","v":0},{"$f":"S19-T19-U19","v":0},"check (a)"]
[]
[]
[]
[null,"Tickmark Explanation:"]
[null,null,1]

{"sheet":"G - Per Diem","index":12,"n_rows":126,"n_cols":19,"rows_kept":126,"cut":false,"hidden":false,"merged":[[3,1,8,9],[1,1,1,17],[14,9,14,17],[14,1,14,8],[4,11,6,16]]}
[null,null,null,null,null,null,null," "]
[null,"Per Diem Charges"]
[]
[null,"Test Plan: (A) Enter per diem charges per invoice. (B) Enter number of crew worked per timecard.  (C) Enter the Per Diem Rate charged per person per meal (D) Ensure the number of crew members being charged is appropriate (This is comparing the submitted timecards and the per diem charges invoiced).  (E) Ensure charges fall between the dates the vendor was mobilized and the date they arrived.  (F) Ensure charges are prior to the date the vendor arrived home or was released to another utility.  (G)  Determine the amount(s) to be reviewed, allowed and/or disallowed.   (H) For charges which required further review, document review and include why it was determined to be allowed/disallowed via a tickmark."]
[]
[]
[]
[]
[]
[null,"Rx","Recalculated."]
[null,"a","Check figure should equal $0.  Cell will appear yellow if discrepancies are noted."]
[]
[]
[null,"A",null,null,null,"B","Rx","C","Rx","D","E","F","G",null,null,"H"]
[null,"Support Reviewed",null,null,null,null,null,null,null,"Conclusion"]
[null,"Dates","Company","Per Diem Type","# Crew Worked (per invoice)","# Crew Worked (per timecards)","Difference","Per Diem Rate","Total Per Diem  ","# Crew Reasonable","Reasonable based on Mobilization date(s)","Reasonable based on Demobilization date(s)","Conclusion","$ Allowable Charge","$ To Be Reviewed","Reviewed - Allowable Charge","Reviewed - Unallowable Charge","Tickmarks"]
[null,"2018-10-13","Vendor No. 6","Lunch",9,913231731,{"$f":"E17-F17","v":-913231722},11,{"$f":"+E17*H17","v":99},{"$f":"IF(G17>0,\"No\",IF(F17=0,\"N/A\",\"Yes\"))","v":"Yes"},{"$f":"IF(AND(B17>='A - Contractor Summary'!$C$36,B17<='A - Contractor Summary'!$C$38),\"Yes\",IF(B17<'A - Contractor Summary'!$C$36,\"No\",IF(B17>'A - Contractor Summary'!$C$39,\"\",\"\")))","v":"No"},{"$f":"IF(OR(K17=\"Yes\",K17=\"No\")*AND(B17<'A - Contractor Summary'!$C$39),\"\",IF(AND(B17>'A - Contractor Summary'!$C$39,B17<'A - Contractor Summary'!$C$42),\"Yes\",IF(B17>'A - Contractor Summary'!$C$42,\"No\",\"Needs Review\")))","v":""},{"$f":"IF(AND(J17=\"Yes\")*OR(K17=\"Yes\",L17=\"Yes\"),\"Yes\",IF(OR(K17=\"No\",J17=\"No\",L17=\"No\"),\"No\",\"Needs Review\"))","v":"No"},{"$f":"IF(M17=\"Yes\",I17,0)","v":0},{"$f":"IF(M17=\"Needs Review\",I17,0)","v":0},{"$f":"+I17","v":99},null,1]
[null,"2018-10-20","Vendor No. 6","Lunch",13,913231727,-913231714,11,{"$f":"+E18*H18","v":143},{"$f":"IF(G18>0,\"No\",IF(F18=0,\"N/A\",\"Yes\"))","v":"Yes"},{"$f":"IF(AND(B18>='A - Contractor Summary'!$C$36,B18<='A - Contractor Summary'!$C$38),\"Yes\",IF(B18<'A - Contractor Summary'!$C$36,\"No\",IF(B18>'A - Contractor Summary'!$C$39,\"\",\"\")))","v":"No"},{"$f":"IF(OR(K18=\"Yes\",K18=\"No\")*AND(B18<'A - Contractor Summary'!$C$39),\"\",IF(AND(B18>'A - Contractor Summary'!$C$39,B18<'A - Contractor Summary'!$C$42),\"Yes\",IF(B18>'A - Contractor Summary'!$C$42,\"No\",\"Needs Review\")))","v":""},{"$f":"IF(AND(J18=\"Yes\")*OR(K18=\"Yes\",L18=\"Yes\"),\"Yes\",IF(OR(K18=\"No\",J18=\"No\",L18=\"No\"),\"No\",\"Needs Review\"))","v":"No"},{"$f":"IF(M18=\"Yes\",I18,0)","v":0},{"$f":"IF(M18=\"Needs Review\",I18,0)","v":0},{"$f":"+I18","v":143},null,1]
[null,"2018-10-20","Vendor No. 6","Lunch",3,913259237,-913259234,11,{"$f":"+E19*H19","v":33},{"$f":"IF(G19>0,\"No\",IF(F19=0,\"N/A\",\"Yes\"))","v":"Yes"},{"$f":"IF(AND(B19>='A - Contractor Summary'!$C$36,B19<='A - Contractor Summary'!$C$38),\"Yes\",IF(B19<'A - Contractor Summary'!$C$36,\"No\",IF(B19>'A - Contractor Summary'!$C$39,\"\",\"\")))","v":"No"},{"$f":"IF(OR(K19=\"Yes\",K19=\"No\")*AND(B19<'A - Contractor Summary'!$C$39),\"\",IF(AND(B19>'A - Contractor Summary'!$C$39,B19<'A - Contractor Summary'!$C$42),\"Yes\",IF(B19>'A - Contractor Summary'!$C$42,\"No\",\"Needs Review\")))","v":""},"No",0,0,33,null,1]
[null,"2018-10-20","Vendor No. 6","Dinner",3,913259237,-913259234,18.5,55.5,"Yes",{"$f":"IF(AND(B20>='A - Contractor Summary'!$C$36,B20<='A - Contractor Summary'!$C$38),\"Yes\",IF(B20<'A - Contractor Summary'!$C$36,\"No\",IF(B20>'A - Contractor Summary'!$C$39,\"\",\"\")))","v":"No"},{"$f":"IF(OR(K20=\"Yes\",K20=\"No\")*AND(B20<'A - Contractor Summary'!$C$39),\"\",IF(AND(B20>'A - Contractor Summary'!$C$39,B20<'A - Contractor Summary'!$C$42),\"Yes\",IF(B20>'A - Contractor Summary'!$C$42,\"No\",\"Needs Review\")))","v":""},"No",0,0,55.5,null,1]
[null,"2018-10-20","Vendor No. 6","Lunch",3,913259242,-913259239,11,{"$f":"+E21*H21","v":33},"Yes",{"$f":"IF(AND(B21>='A - Contractor Summary'!$C$36,B21<='A - Contractor Summary'!$C$38),\"Yes\",IF(B21<'A - Contractor Summary'!$C$36,\"No\",IF(B21>'A - Contractor Summary'!$C$39,\"\",\"\")))","v":"No"},{"$f":"IF(OR(K21=\"Yes\",K21=\"No\")*AND(B21<'A - Contractor Summary'!$C$39),\"\",IF(AND(B21>'A - Contractor Summary'!$C$39,B21<'A - Contractor Summary'!$C$42),\"Yes\",IF(B21>'A - Contractor Summary'!$C$42,\"No\",\"Needs Review\")))","v":""},"No",0,0,33,null,1]
[null,"2018-10-20","Vendor No. 6","Dinner",3,913259242,-913259239,18.5,55.5,"Yes",{"$f":"IF(AND(B22>='A - Contractor Summary'!$C$36,B22<='A - Contractor Summary'!$C$38),\"Yes\",IF(B22<'A - Contractor Summary'!$C$36,\"No\",IF(B22>'A - Contractor Summary'!$C$39,\"\",\"\")))","v":"No"},{"$f":"IF(OR(K22=\"Yes\",K22=\"No\")*AND(B22<'A - Contractor Summary'!$C$39),\"\",IF(AND(B22>'A - Contractor Summary'!$C$39,B22<'A - Contractor Summary'!$C$42),\"Yes\",IF(B22>'A - Contractor Summary'!$C$42,\"No\",\"Needs Review\")))","v":""},"No",0,0,55.5,null,1]
[null,"2018-11-03","Vendor No. 6","Lunch",12,913243336,-913243324,11,132,"Yes",{"$f":"IF(AND(B23>='A - Contractor Summary'!$C$36,B23<='A - Contractor Summary'!$C$38),\"Yes\",IF(B23<'A - Contractor Summary'!$C$36,\"No\",IF(B23>'A - Contractor Summary'!$C$39,\"\",\"\")))","v":"No"},{"$f":"IF(OR(K23=\"Yes\",K23=\"No\")*AND(B23<'A - Contractor Summary'!$C$39),\"\",IF(AND(B23>'A - Contractor Summary'!$C$39,B23<'A - Contractor Summary'!$C$42),\"Yes\",IF(B23>'A - Contractor Summary'!$C$42,\"No\",\"Needs Review\")))","v":""},"No",0,0,132,null,1]
[null,"2018-11-03","Vendor No. 6","Breakfast",14,913242904,-913242890,8,112,"Yes",{"$f":"IF(AND(B24>='A - Contractor Summary'!$C$36,B24<='A - Contractor Summary'!$C$38),\"Yes\",IF(B24<'A - Contractor Summary'!$C$36,\"No\",IF(B24>'A - Contractor Summary'!$C$39,\"\",\"\")))","v":"No"},{"$f":"IF(OR(K24=\"Yes\",K24=\"No\")*AND(B24<'A - Contractor Summary'!$C$39),\"\",IF(AND(B24>'A - Contractor Summary'!$C$39,B24<'A - Contractor Summary'!$C$42),\"Yes\",IF(B24>'A - Contractor Summary'!$C$42,\"No\",\"Needs Review\")))","v":""},"No",0,0,112,null,1]
[null,"2018-11-03","Vendor No. 6","Lunch",14,913242904,-913242890,11,154,"Yes",{"$f":"IF(AND(B25>='A - Contractor Summary'!$C$36,B25<='A - Contractor Summary'!$C$38),\"Yes\",IF(B25<'A - Contractor Summary'!$C$36,\"No\",IF(B25>'A - Contractor Summary'!$C$39,\"\",\"\")))","v":"No"},{"$f":"IF(OR(K25=\"Yes\",K25=\"No\")*AND(B25<'A - Contractor Summary'!$C$39),\"\",IF(AND(B25>'A - Contractor Summary'!$C$39,B25<'A - Contractor Summary'!$C$42),\"Yes\",IF(B25>'A - Contractor Summary'!$C$42,\"No\",\"Needs Review\")))","v":""},"No",0,0,154,null,1]
[null,"2018-11-03","Vendor No. 6","Dinner",14,913242904,-913242890,18.5,{"$f":"+E26*H26","v":259},"Yes",{"$f":"IF(AND(B26>='A - Contractor Summary'!$C$36,B26<='A - Contractor Summary'!$C$38),\"Yes\",IF(B26<'A - Contractor Summary'!$C$36,\"No\",IF(B26>'A - Contractor Summary'!$C$39,\"\",\"\")))","v":"No"},{"$f":"IF(OR(K26=\"Yes\",K26=\"No\")*AND(B26<'A - Contractor Summary'!$C$39),\"\",IF(AND(B26>'A - Contractor Summary'!$C$39,B26<'A - Contractor Summary'!$C$42),\"Yes\",IF(B26>'A - Contractor Summary'!$C$42,\"No\",\"Needs Review\")))","v":""},"No",0,0,259,null,1]
[null,"2018-11-03","Vendor No. 6","Hotel",14,913242904,-913242890,77,1078,"Yes",{"$f":"IF(AND(B27>='A - Contractor Summary'!$C$36,B27<='A - Contractor Summary'!$C$38),\"Yes\",IF(B27<'A - Contractor Summary'!$C$36,\"No\",IF(B27>'A - Contractor Summary'!$C$39,\"\",\"\")))","v":"No"},{"$f":"IF(OR(K27=\"Yes\",K27=\"No\")*AND(B27<'A - Contractor Summary'!$C$39),\"\",IF(AND(B27>'A - Contractor Summary'!$C$39,B27<'A - Contractor Summary'!$C$42),\"Yes\",IF(B27>'A - Contractor Summary'!$C$42,\"No\",\"Needs Review\")))","v":""},"No",0,0,1078,null,1]
[null,"2018-11-03","Vendor No. 6","Breakfast",14,913242906,-913242892,8,112,"Yes",{"$f":"IF(AND(B28>='A - Contractor Summary'!$C$36,B28<='A - Contractor Summary'!$C$38),\"Yes\",IF(B28<'A - Contractor Summary'!$C$36,\"No\",IF(B28>'A - Contractor Summary'!$C$39,\"\",\"\")))","v":"No"},{"$f":"IF(OR(K28=\"Yes\",K28=\"No\")*AND(B28<'A - Contractor Summary'!$C$39),\"\",IF(AND(B28>'A - Contractor Summary'!$C$39,B28<'A - Contractor Summary'!$C$42),\"Yes\",IF(B28>'A - Contractor Summary'!$C$42,\"No\",\"Needs Review\")))","v":""},"No",0,0,112,null,1]
[null,"2018-11-03","Vendor No. 6","Lunch",14,913242906,-913242892,11,154,"Yes",{"$f":"IF(AND(B29>='A - Contractor Summary'!$C$36,B29<='A - Contractor Summary'!$C$38),\"Yes\",IF(B29<'A - Contractor Summary'!$C$36,\"No\",IF(B29>'A - Contractor Summary'!$C$39,\"\",\"\")))","v":"No"},{"$f":"IF(OR(K29=\"Yes\",K29=\"No\")*AND(B29<'A - Contractor Summary'!$C$39),\"\",IF(AND(B29>'A - Contractor Summary'!$C$39,B29<'A - Contractor Summary'!$C$42),\"Yes\",IF(B29>'A - Contractor Summary'!$C$42,\"No\",\"Needs Review\")))","v":""},"No",0,0,154,null,1]
[null,"2018-11-03","Vendor No. 6","Dinner",14,913242906,-913242892,18.5,259,"Yes",{"$f":"IF(AND(B30>='A - Contractor Summary'!$C$36,B30<='A - Contractor Summary'!$C$38),\"Yes\",IF(B30<'A - Contractor Summary'!$C$36,\"No\",IF(B30>'A - Contractor Summary'!$C$39,\"\",\"\")))","v":"No"},{"$f":"IF(OR(K30=\"Yes\",K30=\"No\")*AND(B30<'A - Contractor Summary'!$C$39),\"\",IF(AND(B30>'A - Contractor Summary'!$C$39,B30<'A - Contractor Summary'!$C$42),\"Yes\",IF(B30>'A - Contractor Summary'!$C$42,\"No\",\"Needs Review\")))","v":""},"No",0,0,259,null,1]
[null,"2018-11-03","Vendor No. 6","Hotel",14,913242906,-913242892,77,1078,"Yes",{"$f":"IF(AND(B31>='A - Contractor Summary'!$C$36,B31<='A - Contractor Summary'!$C$38),\"Yes\",IF(B31<'A - Contractor Summary'!$C$36,\"No\",IF(B31>'A - Contractor Summary'!$C$39,\"\",\"\")))","v":"No"},{"$f":"IF(OR(K31=\"Yes\",K31=\"No\")*AND(B31<'A - Contractor Summary'!$C$39),\"\",IF(AND(B31>'A - Contractor Summary'!$C$39,B31<'A - Contractor Summary'!$C$42),\"Yes\",IF(B31>'A - Contractor Summary'!$C$42,\"No\",\"Needs Review\")))","v":""},"No",0,0,1078,null,1]
[null,"2018-11-03","Vendor No. 6","Breakfast",14,913242909,-913242895,8,112,"Yes",{"$f":"IF(AND(B32>='A - Contractor Summary'!$C$36,B32<='A - Contractor Summary'!$C$38),\"Yes\",IF(B32<'A - Contractor Summary'!$C$36,\"No\",IF(B32>'A - Contractor Summary'!$C$39,\"\",\"\")))","v":"No"},null,{"$f":"IF(AND(J32=\"Yes\")*OR(K32=\"Yes\",L32=\"Yes\"),\"Yes\",IF(OR(K32=\"No\",J32=\"No\",L32=\"No\"),\"No\",\"Needs Review\"))","v":"No"},{"$f":"IF(M32=\"Yes\",I32,0)","v":0},{"$f":"IF(M32=\"Needs Review\",I32,0)","v":0},112,null,1]
[null,"2018-11-03","Vendor No. 6","Lunch",14,913242909,-913242895,11,154,"Yes",{"$f":"IF(AND(B33>='A - Contractor Summary'!$C$36,B33<='A - Contractor Summary'!$C$38),\"Yes\",IF(B33<'A - Contractor Summary'!$C$36,\"No\",IF(B33>'A - Contractor Summary'!$C$39,\"\",\"\")))","v":"No"},null,"No",0,0,154,null,1]
[null,"2018-11-03","Vendor No. 6","Dinner",14,913242909,-913242895,18.5,259,"Yes",{"$f":"IF(AND(B34>='A - Contractor Summary'!$C$36,B34<='A - Contractor Summary'!$C$38),\"Yes\",IF(B34<'A - Contractor Summary'!$C$36,\"No\",IF(B34>'A - Contractor Summary'!$C$39,\"\",\"\")))","v":"No"},null,"No",0,0,259,null,1]
[null,"2018-11-03","Vendor No. 6","Hotel",14,913242909,-913242895,77,1078,"Yes",{"$f":"IF(AND(B35>='A - Contractor Summary'!$C$36,B35<='A - Contractor Summary'!$C$38),\"Yes\",IF(B35<'A - Contractor Summary'!$C$36,\"No\",IF(B35>'A - Contractor Summary'!$C$39,\"\",\"\")))","v":"No"},null,"No",0,0,1078,null,1]
[null,"2018-11-03","Vendor No. 6","Breakfast",14,913242910,-913242896,8,112,"Yes",{"$f":"IF(AND(B36>='A - Contractor Summary'!$C$36,B36<='A - Contractor Summary'!$C$38),\"Yes\",IF(B36<'A - Contractor Summary'!$C$36,\"No\",IF(B36>'A - Contractor Summary'!$C$39,\"\",\"\")))","v":"No"},null,"No",0,0,112,null,1]
[null,"2018-11-03","Vendor No. 6","Lunch",14,913242910,-913242896,11,154,"Yes",{"$f":"IF(AND(B37>='A - Contractor Summary'!$C$36,B37<='A - Contractor Summary'!$C$38),\"Yes\",IF(B37<'A - Contractor Summary'!$C$36,\"No\",IF(B37>'A - Contractor Summary'!$C$39,\"\",\"\")))","v":"No"},null,"No",0,0,154,null,1]
[null,"2018-11-03","Vendor No. 6","Dinner",14,913242910,-913242896,18.5,259,"Yes",{"$f":"IF(AND(B38>='A - Contractor Summary'!$C$36,B38<='A - Contractor Summary'!$C$38),\"Yes\",IF(B38<'A - Contractor Summary'!$C$36,\"No\",IF(B38>'A - Contractor Summary'!$C$39,\"\",\"\")))","v":"No"},null,"No",0,0,259,null,1]
[null,"2018-11-03","Vendor No. 6","Hotel",14,913242910,-913242896,77,1078,"Yes",{"$f":"IF(AND(B39>='A - Contractor Summary'!$C$36,B39<='A - Contractor Summary'!$C$38),\"Yes\",IF(B39<'A - Contractor Summary'!$C$36,\"No\",IF(B39>'A - Contractor Summary'!$C$39,\"\",\"\")))","v":"No"},null,"No",0,0,1078,null,1]
[null,"2018-11-03","Vendor No. 6","Breakfast",14,913242907,-913242893,8,112,"Yes",{"$f":"IF(AND(B40>='A - Contractor Summary'!$C$36,B40<='A - Contractor Summary'!$C$38),\"Yes\",IF(B40<'A - Contractor Summary'!$C$36,\"No\",IF(B40>'A - Contractor Summary'!$C$39,\"\",\"\")))","v":"No"},null,"No",0,0,112,null,1]
[null,"2018-11-03","Vendor No. 6","Lunch",14,913242907,-913242893,11,154,"Yes",{"$f":"IF(AND(B41>='A - Contractor Summary'!$C$36,B41<='A - Contractor Summary'!$C$38),\"Yes\",IF(B41<'A - Contractor Summary'!$C$36,\"No\",IF(B41>'A - Contractor Summary'!$C$39,\"\",\"\")))","v":"No"},null,"No",0,0,154,null,1]
[null,"2018-11-03","Vendor No. 6","Dinner",14,913242907,-913242893,18.5,259,"Yes",{"$f":"IF(AND(B42>='A - Contractor Summary'!$C$36,B42<='A - Contractor Summary'!$C$38),\"Yes\",IF(B42<'A - Contractor Summary'!$C$36,\"No\",IF(B42>'A - Contractor Summary'!$C$39,\"\",\"\")))","v":"No"},null,"No",0,0,259,null,1]
[null,"2018-11-03","Vendor No. 6","Hotel",14,913242907,-913242893,77,1078,"Yes",{"$f":"IF(AND(B43>='A - Contractor Summary'!$C$36,B43<='A - Contractor Summary'!$C$38),\"Yes\",IF(B43<'A - Contractor Summary'!$C$36,\"No\",IF(B43>'A - Contractor Summary'!$C$39,\"\",\"\")))","v":"No"},null,"No",0,0,1078,null,1]
[null,"2018-11-03","Vendor No. 6","Breakfast",19,913242911,-913242892,8,152,"Yes",{"$f":"IF(AND(B44>='A - Contractor Summary'!$C$36,B44<='A - Contractor Summary'!$C$38),\"Yes\",IF(B44<'A - Contractor Summary'!$C$36,\"No\",IF(B44>'A - Contractor Summary'!$C$39,\"\",\"\")))","v":"No"},null,"No",0,0,152,null,1]
[null,"2018-11-03","Vendor No. 6","Lunch",19,913242911,-913242892,11,209,"Yes",{"$f":"IF(AND(B45>='A - Contractor Summary'!$C$36,B45<='A - Contractor Summary'!$C$38),\"Yes\",IF(B45<'A - Contractor Summary'!$C$36,\"No\",IF(B45>'A - Contractor Summary'!$C$39,\"\",\"\")))","v":"No"},null,"No",0,0,209,null,1]
[null,"2018-11-03","Vendor No. 6","Dinner",19,913242911,-913242892,18.5,351.5,"Yes",{"$f":"IF(AND(B46>='A - Contractor Summary'!$C$36,B46<='A - Contractor Summary'!$C$38),\"Yes\",IF(B46<'A - Contractor Summary'!$C$36,\"No\",IF(B46>'A - Contractor Summary'!$C$39,\"\",\"\")))","v":"No"},null,"No",0,0,351.5,null,1]
[null,"2018-11-03","Vendor No. 6","Hotel",19,913242911,-913242892,77,1463,"Yes",{"$f":"IF(AND(B47>='A - Contractor Summary'!$C$36,B47<='A - Contractor Summary'!$C$38),\"Yes\",IF(B47<'A - Contractor Summary'!$C$36,\"No\",IF(B47>'A - Contractor Summary'!$C$39,\"\",\"\")))","v":"No"},null,"No",0,0,1463,null,1]
[null,"2018-11-03","Vendor No. 6","Breakfast",7,913242897,-913242890,8,56,"Yes",{"$f":"IF(AND(B48>='A - Contractor Summary'!$C$36,B48<='A - Contractor Summary'!$C$38),\"Yes\",IF(B48<'A - Contractor Summary'!$C$36,\"No\",IF(B48>'A - Contractor Summary'!$C$39,\"\",\"\")))","v":"No"},null,"No",0,0,56,null,1]
[null,"2018-11-03","Vendor No. 6","Lunch",7,913242897,-913242890,11,77,"Yes",{"$f":"IF(AND(B49>='A - Contractor Summary'!$C$36,B49<='A - Contractor Summary'!$C$38),\"Yes\",IF(B49<'A - Contractor Summary'!$C$36,\"No\",IF(B49>'A - Contractor Summary'!$C$39,\"\",\"\")))","v":"No"},null,"No",0,0,77,null,1]
[null,"2018-11-03","Vendor No. 6","Dinner",7,913242897,-913242890,18.5,129.5,"Yes",{"$f":"IF(AND(B50>='A - Contractor Summary'!$C$36,B50<='A - Contractor Summary'!$C$38),\"Yes\",IF(B50<'A - Contractor Summary'!$C$36,\"No\",IF(B50>'A - Contractor Summary'!$C$39,\"\",\"\")))","v":"No"},null,"No",0,0,129.5,null,1]
[null,"2018-11-03","Vendor No. 6","Hotel",7,913242897,-913242890,77,539,"Yes",{"$f":"IF(AND(B51>='A - Contractor Summary'!$C$36,B51<='A - Contractor Summary'!$C$38),\"Yes\",IF(B51<'A - Contractor Summary'!$C$36,\"No\",IF(B51>'A - Contractor Summary'!$C$39,\"\",\"\")))","v":"No"},null,"No",0,0,539,null,1]
[null,"2018-11-03","Vendor No. 6","Breakfast",14,913242903,-913242889,8,112,"Yes",{"$f":"IF(AND(B52>='A - Contractor Summary'!$C$36,B52<='A - Contractor Summary'!$C$38),\"Yes\",IF(B52<'A - Contractor Summary'!$C$36,\"No\",IF(B52>'A - Contractor Summary'!$C$39,\"\",\"\")))","v":"No"},null,"No",0,0,112,null,1]
[null,"2018-11-03","Vendor No. 6","Lunch",14,913242903,-913242889,11,154,"Yes",{"$f":"IF(AND(B53>='A - Contractor Summary'!$C$36,B53<='A - Contractor Summary'!$C$38),\"Yes\",IF(B53<'A - Contractor Summary'!$C$36,\"No\",IF(B53>'A - Contractor Summary'!$C$39,\"\",\"\")))","v":"No"},null,"No",0,0,154,null,1]
[null,"2018-11-03","Vendor No. 6","Dinner",14,913242903,-913242889,18.5,259,"Yes",{"$f":"IF(AND(B54>='A - Contractor Summary'!$C$36,B54<='A - Contractor Summary'!$C$38),\"Yes\",IF(B54<'A - Contractor Summary'!$C$36,\"No\",IF(B54>'A - Contractor Summary'!$C$39,\"\",\"\")))","v":"No"},null,"No",0,0,259,null,1]
[null,"2018-11-03","Vendor No. 6","Hotel",14,913242903,-913242889,77,1078,"Yes",{"$f":"IF(AND(B55>='A - Contractor Summary'!$C$36,B55<='A - Contractor Summary'!$C$38),\"Yes\",IF(B55<'A - Contractor Summary'!$C$36,\"No\",IF(B55>'A - Contractor Summary'!$C$39,\"\",\"\")))","v":"No"},null,"No",0,0,1078,null,1]
[null,"2018-11-10","Vendor No. 6","Breakfast",8,913243149,-913243141,8,64,"Yes",{"$f":"IF(AND(B56>='A - Contractor Summary'!$C$36,B56<='A - Contractor Summary'!$C$38),\"Yes\",IF(B56<'A - Contractor Summary'!$C$36,\"No\",IF(B56>'A - Contractor Summary'!$C$39,\"\",\"\")))","v":"No"},null,"No",0,0,64,null,1]
[null,"2018-11-10","Vendor No. 6","Lunch",8,913243149,-913243141,11,88,"Yes",{"$f":"IF(AND(B57>='A - Contractor Summary'!$C$36,B57<='A - Contractor Summary'!$C$38),\"Yes\",IF(B57<'A - Contractor Summary'!$C$36,\"No\",IF(B57>'A - Contractor Summary'!$C$39,\"\",\"\")))","v":"No"},null,"No",0,0,88,null,1]
[null,"2018-11-10","Vendor No. 6","Dinner",8,913243149,-913243141,18.5,148,"Yes",{"$f":"IF(AND(B58>='A - Contractor Summary'!$C$36,B58<='A - Contractor Summary'!$C$38),\"Yes\",IF(B58<'A - Contractor Summary'!$C$36,\"No\",IF(B58>'A - Contractor Summary'!$C$39,\"\",\"\")))","v":"No"},null,"No",0,0,148,null,1]
[null,"2018-11-10","Vendor No. 6","Hotel",8,913243149,-913243141,77,616,"Yes",{"$f":"IF(AND(B59>='A - Contractor Summary'!$C$36,B59<='A - Contractor Summary'!$C$38),\"Yes\",IF(B59<'A - Contractor Summary'!$C$36,\"No\",IF(B59>'A - Contractor Summary'!$C$39,\"\",\"\")))","v":"No"},null,"No",0,0,616,null,1]
[null,"2018-11-10","Vendor No. 6","Breakfast",8,913243150,-913243142,8,64,"Yes",{"$f":"IF(AND(B60>='A - Contractor Summary'!$C$36,B60<='A - Contractor Summary'!$C$38),\"Yes\",IF(B60<'A - Contractor Summary'!$C$36,\"No\",IF(B60>'A - Contractor Summary'!$C$39,\"\",\"\")))","v":"No"},null,"No",0,0,64,null,1]
[null,"2018-11-10","Vendor No. 6","Lunch",8,913243150,-913243142,11,88,"Yes",{"$f":"IF(AND(B61>='A - Contractor Summary'!$C$36,B61<='A - Contractor Summary'!$C$38),\"Yes\",IF(B61<'A - Contractor Summary'!$C$36,\"No\",IF(B61>'A - Contractor Summary'!$C$39,\"\",\"\")))","v":"No"},null,"No",0,0,88,null,1]
[null,"2018-11-10","Vendor No. 6","Dinner",8,913243150,-913243142,18.5,148,"Yes",{"$f":"IF(AND(B62>='A - Contractor Summary'!$C$36,B62<='A - Contractor Summary'!$C$38),\"Yes\",IF(B62<'A - Contractor Summary'!$C$36,\"No\",IF(B62>'A - Contractor Summary'!$C$39,\"\",\"\")))","v":"No"},null,"No",0,0,148,null,1]
[null,"2018-11-10","Vendor No. 6","Hotel",8,913243150,-913243142,77,616,"Yes",{"$f":"IF(AND(B63>='A - Contractor Summary'!$C$36,B63<='A - Contractor Summary'!$C$38),\"Yes\",IF(B63<'A - Contractor Summary'!$C$36,\"No\",IF(B63>'A - Contractor Summary'!$C$39,\"\",\"\")))","v":"No"},null,"No",0,0,616,null,1]
[null,"2018-11-10","Vendor No. 6","Breakfast",4,913243151,-913243147,8,32,"Yes",{"$f":"IF(AND(B64>='A - Contractor Summary'!$C$36,B64<='A - Contractor Summary'!$C$38),\"Yes\",IF(B64<'A - Contractor Summary'!$C$36,\"No\",IF(B64>'A - Contractor Summary'!$C$39,\"\",\"\")))","v":"No"},null,"No",0,0,32,null,1]
[null,"2018-11-10","Vendor No. 6","Lunch",4,913243151,-913243147,11,44,"Yes",{"$f":"IF(AND(B65>='A - Contractor Summary'!$C$36,B65<='A - Contractor Summary'!$C$38),\"Yes\",IF(B65<'A - Contractor Summary'!$C$36,\"No\",IF(B65>'A - Contractor Summary'!$C$39,\"\",\"\")))","v":"No"},null,"No",0,0,44,null,1]
[null,"2018-11-10","Vendor No. 6","Dinner",4,913243151,-913243147,18.5,74,"Yes",{"$f":"IF(AND(B66>='A - Contractor Summary'!$C$36,B66<='A - Contractor Summary'!$C$38),\"Yes\",IF(B66<'A - Contractor Summary'!$C$36,\"No\",IF(B66>'A - Contractor Summary'!$C$39,\"\",\"\")))","v":"No"},null,"No",0,0,74,null,1]
[null,"2018-11-10","Vendor No. 6","Hotel",4,913243151,-913243147,77,308,"Yes",{"$f":"IF(AND(B67>='A - Contractor Summary'!$C$36,B67<='A - Contractor Summary'!$C$38),\"Yes\",IF(B67<'A - Contractor Summary'!$C$36,\"No\",IF(B67>'A - Contractor Summary'!$C$39,\"\",\"\")))","v":"No"},null,"No",0,0,308,null,1]
[null,"2018-11-10","Vendor No. 6","Breakfast",8,913243152,-913243144,8,64,"Yes",{"$f":"IF(AND(B68>='A - Contractor Summary'!$C$36,B68<='A - Contractor Summary'!$C$38),\"Yes\",IF(B68<'A - Contractor Summary'!$C$36,\"No\",IF(B68>'A - Contractor Summary'!$C$39,\"\",\"\")))","v":"No"},null,"No",0,0,64,null,1]
[null,"2018-11-10","Vendor No. 6","Lunch",8,913243152,-913243144,11,88,"Yes",{"$f":"IF(AND(B69>='A - Contractor Summary'!$C$36,B69<='A - Contractor Summary'!$C$38),\"Yes\",IF(B69<'A - Contractor Summary'!$C$36,\"No\",IF(B69>'A - Contractor Summary'!$C$39,\"\",\"\")))","v":"No"},null,"No",0,0,88,null,1]
[null,"2018-11-10","Vendor No. 6","Dinner",8,913243152,-913243144,18.5,148,"Yes",{"$f":"IF(AND(B70>='A - Contractor Summary'!$C$36,B70<='A - Contractor Summary'!$C$38),\"Yes\",IF(B70<'A - Contractor Summary'!$C$36,\"No\",IF(B70>'A - Contractor Summary'!$C$39,\"\",\"\")))","v":"No"},null,"No",0,0,148,null,1]
[null,"2018-11-10","Vendor No. 6","Hotel",8,913243152,-913243144,77,616,"Yes",{"$f":"IF(AND(B71>='A - Contractor Summary'!$C$36,B71<='A - Contractor Summary'!$C$38),\"Yes\",IF(B71<'A - Contractor Summary'!$C$36,\"No\",IF(B71>'A - Contractor Summary'!$C$39,\"\",\"\")))","v":"No"},null,"No",0,0,616,null,1]
[null,"2018-11-10","Vendor No. 6","Breakfast",8,913243153,-913243145,8,64,"Yes",{"$f":"IF(AND(B72>='A - Contractor Summary'!$C$36,B72<='A - Contractor Summary'!$C$38),\"Yes\",IF(B72<'A - Contractor Summary'!$C$36,\"No\",IF(B72>'A - Contractor Summary'!$C$39,\"\",\"\")))","v":"No"},null,"No",0,0,64,null,1]
[null,"2018-11-10","Vendor No. 6","Lunch",8,913243153,-913243145,11,88,"Yes",{"$f":"IF(AND(B73>='A - Contractor Summary'!$C$36,B73<='A - Contractor Summary'!$C$38),\"Yes\",IF(B73<'A - Contractor Summary'!$C$36,\"No\",IF(B73>'A - Contractor Summary'!$C$39,\"\",\"\")))","v":"No"},null,"No",0,0,88,null,1]
[null,"2018-11-10","Vendor No. 6","Dinner",8,913243153,-913243145,18.5,148,"Yes",{"$f":"IF(AND(B74>='A - Contractor Summary'!$C$36,B74<='A - Contractor Summary'!$C$38),\"Yes\",IF(B74<'A - Contractor Summary'!$C$36,\"No\",IF(B74>'A - Contractor Summary'!$C$39,\"\",\"\")))","v":"No"},null,"No",0,0,148,null,1]
[null,"2018-11-10","Vendor No. 6","Hotel",8,913243153,-913243145,77,616,"Yes",{"$f":"IF(AND(B75>='A - Contractor Summary'!$C$36,B75<='A - Contractor Summary'!$C$38),\"Yes\",IF(B75<'A - Contractor Summary'!$C$36,\"No\",IF(B75>'A - Contractor Summary'!$C$39,\"\",\"\")))","v":"No"},null,"No",0,0,616,null,1]
[null,"2018-11-10","Vendor No. 6","Breakfast",8,913243156,-913243148,8,64,"Yes",{"$f":"IF(AND(B76>='A - Contractor Summary'!$C$36,B76<='A - Contractor Summary'!$C$38),\"Yes\",IF(B76<'A - Contractor Summary'!$C$36,\"No\",IF(B76>'A - Contractor Summary'!$C$39,\"\",\"\")))","v":"No"},null,"No",0,0,64,null,1]
[null,"2018-11-10","Vendor No. 6","Lunch",8,913243156,-913243148,11,88,"Yes",{"$f":"IF(AND(B77>='A - Contractor Summary'!$C$36,B77<='A - Contractor Summary'!$C$38),\"Yes\",IF(B77<'A - Contractor Summary'!$C$36,\"No\",IF(B77>'A - Contractor Summary'!$C$39,\"\",\"\")))","v":"No"},null,"No",0,0,88,null,1]
[null,"2018-11-10","Vendor No. 6","Dinner",8,913243156,-913243148,18.5,148,"Yes",{"$f":"IF(AND(B78>='A - Contractor Summary'!$C$36,B78<='A - Contractor Summary'!$C$38),\"Yes\",IF(B78<'A - Contractor Summary'!$C$36,\"No\",IF(B78>'A - Contractor Summary'!$C$39,\"\",\"\")))","v":"No"},null,"No",0,0,148,null,1]
[null,"2018-11-10","Vendor No. 6","Hotel",8,913243156,-913243148,77,616,"Yes",{"$f":"IF(AND(B79>='A - Contractor Summary'!$C$36,B79<='A - Contractor Summary'!$C$38),\"Yes\",IF(B79<'A - Contractor Summary'!$C$36,\"No\",IF(B79>'A - Contractor Summary'!$C$39,\"\",\"\")))","v":"No"},null,"No",0,0,616,null,1]
[null,"2018-11-10","Vendor No. 6","Breakfast",8,913243158,-913243150,8,64,"Yes",{"$f":"IF(AND(B80>='A - Contractor Summary'!$C$36,B80<='A - Contractor Summary'!$C$38),\"Yes\",IF(B80<'A - Contractor Summary'!$C$36,\"No\",IF(B80>'A - Contractor Summary'!$C$39,\"\",\"\")))","v":"No"},null,"No",0,0,64,null,1]
[null,"2018-11-10","Vendor No. 6","Lunch",8,913243158,-913243150,11,88,"Yes",{"$f":"IF(AND(B81>='A - Contractor Summary'!$C$36,B81<='A - Contractor Summary'!$C$38),\"Yes\",IF(B81<'A - Contractor Summary'!$C$36,\"No\",IF(B81>'A - Contractor Summary'!$C$39,\"\",\"\")))","v":"No"},null,"No",0,0,88,null,1]
[null,"2018-11-10","Vendor No. 6","Dinner",8,913243158,-913243150,18.5,148,"Yes",{"$f":"IF(AND(B82>='A - Contractor Summary'!$C$36,B82<='A - Contractor Summary'!$C$38),\"Yes\",IF(B82<'A - Contractor Summary'!$C$36,\"No\",IF(B82>'A - Contractor Summary'!$C$39,\"\",\"\")))","v":"No"},null,"No",0,0,{"$f":"+I82","v":148},null,1]
[null,"2018-11-10","Vendor No. 6","Hotel",8,913243158,-913243150,77,616,"Yes",{"$f":"IF(AND(B83>='A - Contractor Summary'!$C$36,B83<='A - Contractor Summary'!$C$38),\"Yes\",IF(B83<'A - Contractor Summary'!$C$36,\"No\",IF(B83>'A - Contractor Summary'!$C$39,\"\",\"\")))","v":"No"},null,"No",0,0,616,null,1]
[null,"2018-11-10","Vendor No. 6","Breakfast",8,913243160,-913243152,8,64,"Yes",{"$f":"IF(AND(B84>='A - Contractor Summary'!$C$36,B84<='A - Contractor Summary'!$C$38),\"Yes\",IF(B84<'A - Contractor Summary'!$C$36,\"No\",IF(B84>'A - Contractor Summary'!$C$39,\"\",\"\")))","v":"No"},null,"No",0,0,64,null,1]
[null,"2018-11-10","Vendor No. 6","Lunch",8,913243160,-913243152,11,88,"Yes",{"$f":"IF(AND(B85>='A - Contractor Summary'!$C$36,B85<='A - Contractor Summary'!$C$38),\"Yes\",IF(B85<'A - Contractor Summary'!$C$36,\"No\",IF(B85>'A - Contractor Summary'!$C$39,\"\",\"\")))","v":"No"},null,"No",0,0,88,null,1]
[null,"2018-11-10","Vendor No. 6","Dinner",8,913243160,-913243152,18.5,148,"Yes",{"$f":"IF(AND(B86>='A - Contractor Summary'!$C$36,B86<='A - Contractor Summary'!$C$38),\"Yes\",IF(B86<'A - Contractor Summary'!$C$36,\"No\",IF(B86>'A - Contractor Summary'!$C$39,\"\",\"\")))","v":"No"},null,"No",0,0,148,null,1]
[null,"2018-11-10","Vendor No. 6","Hotel",8,913243160,-913243152,77,616,"Yes",{"$f":"IF(AND(B87>='A - Contractor Summary'!$C$36,B87<='A - Contractor Summary'!$C$38),\"Yes\",IF(B87<'A - Contractor Summary'!$C$36,\"No\",IF(B87>'A - Contractor Summary'!$C$39,\"\",\"\")))","v":"No"},null,"No",0,0,616,null,1]
[null,"2018-11-10","Vendor No. 6","Breakfast",4,913243334,-913243330,8,32,"Yes",{"$f":"IF(AND(B88>='A - Contractor Summary'!$C$36,B88<='A - Contractor Summary'!$C$38),\"Yes\",IF(B88<'A - Contractor Summary'!$C$36,\"No\",IF(B88>'A - Contractor Summary'!$C$39,\"\",\"\")))","v":"No"},null,"No",0,0,32,null,1]
[null,"2018-11-10","Vendor No. 6","Lunch",12,913243334,-913243322,11,132,"Yes",{"$f":"IF(AND(B89>='A - Contractor Summary'!$C$36,B89<='A - Contractor Summary'!$C$38),\"Yes\",IF(B89<'A - Contractor Summary'!$C$36,\"No\",IF(B89>'A - Contractor Summary'!$C$39,\"\",\"\")))","v":"No"},null,"No",0,0,132,null,1]
[null,"2018-11-10","Vendor No. 6","Breakfast",2,913259300,-913259298,8,16,"Yes",{"$f":"IF(AND(B90>='A - Contractor Summary'!$C$36,B90<='A - Contractor Summary'!$C$38),\"Yes\",IF(B90<'A - Contractor Summary'!$C$36,\"No\",IF(B90>'A - Contractor Summary'!$C$39,\"\",\"\")))","v":"No"},null,"No",0,0,16,null,1]
[null,"2018-11-10","Vendor No. 6","Lunch",2,913259300,-913259298,11,22,"Yes",{"$f":"IF(AND(B91>='A - Contractor Summary'!$C$36,B91<='A - Contractor Summary'!$C$38),\"Yes\",IF(B91<'A - Contractor Summary'!$C$36,\"No\",IF(B91>'A - Contractor Summary'!$C$39,\"\",\"\")))","v":"No"},null,"No",0,0,22,null,1]
[null,"2018-11-10","Vendor No. 6","Breakfast",2,913259306,-913259304,8,16,"Yes",{"$f":"IF(AND(B92>='A - Contractor Summary'!$C$36,B92<='A - Contractor Summary'!$C$38),\"Yes\",IF(B92<'A - Contractor Summary'!$C$36,\"No\",IF(B92>'A - Contractor Summary'!$C$39,\"\",\"\")))","v":"No"},null,"No",0,0,16,null,1]
[null,"2018-11-10","Vendor No. 6","Lunch",2,913259306,-913259304,11,22,"Yes",{"$f":"IF(AND(B93>='A - Contractor Summary'!$C$36,B93<='A - Contractor Summary'!$C$38),\"Yes\",IF(B93<'A - Contractor Summary'!$C$36,\"No\",IF(B93>'A - Contractor Summary'!$C$39,\"\",\"\")))","v":"No"},null,"No",0,0,22,null,1]
[null,"2018-11-10","Vendor No. 6","Breakfast",3,913280569,-913280566,8,24,"Yes",{"$f":"IF(AND(B94>='A - Contractor Summary'!$C$36,B94<='A - Contractor Summary'!$C$38),\"Yes\",IF(B94<'A - Contractor Summary'!$C$36,\"No\",IF(B94>'A - Contractor Summary'!$C$39,\"\",\"\")))","v":"No"},null,"No",0,0,24,null,1]
[null,"2018-11-10","Vendor No. 6","Lunch",3,913280569,-913280566,11,33,"Yes",{"$f":"IF(AND(B95>='A - Contractor Summary'!$C$36,B95<='A - Contractor Summary'!$C$38),\"Yes\",IF(B95<'A - Contractor Summary'!$C$36,\"No\",IF(B95>'A - Contractor Summary'!$C$39,\"\",\"\")))","v":"No"},null,"No",0,0,33,null,1]
[null,"2018-11-10","Vendor No. 6","Breakfast",1,913280571,-913280570,8,8,"Yes",{"$f":"IF(AND(B96>='A - Contractor Summary'!$C$36,B96<='A - Contractor Summary'!$C$38),\"Yes\",IF(B96<'A - Contractor Summary'!$C$36,\"No\",IF(B96>'A - Contractor Summary'!$C$39,\"\",\"\")))","v":"No"},null,{"$f":"IF(AND(J96=\"Yes\")*OR(K96=\"Yes\",L96=\"Yes\"),\"Yes\",IF(OR(K96=\"No\",J96=\"No\",L96=\"No\"),\"No\",\"Needs Review\"))","v":"No"},{"$f":"IF(M96=\"Yes\",I96,0)","v":0},{"$f":"IF(M96=\"Needs Review\",I96,0)","v":0},8,null,1]
[null,"2018-11-10","Vendor No. 6","Lunch",1,913280571,-913280570,11,11,"Yes",{"$f":"IF(AND(B97>='A - Contractor Summary'!$C$36,B97<='A - Contractor Summary'!$C$38),\"Yes\",IF(B97<'A - Contractor Summary'!$C$36,\"No\",IF(B97>'A - Contractor Summary'!$C$39,\"\",\"\")))","v":"No"},null,"No",0,0,11,null,1]
[null,"2018-11-10","Vendor No. 6","Breakfast",3,913346329,-913346326,8,24,"Yes",{"$f":"IF(AND(B98>='A - Contractor Summary'!$C$36,B98<='A - Contractor Summary'!$C$38),\"Yes\",IF(B98<'A - Contractor Summary'!$C$36,\"No\",IF(B98>'A - Contractor Summary'!$C$39,\"\",\"\")))","v":"No"},null,"No",0,0,24,null,1]
[null,"2018-11-10","Vendor No. 6","Lunch",9,913346329,-913346320,11,99,"Yes",{"$f":"IF(AND(B99>='A - Contractor Summary'!$C$36,B99<='A - Contractor Summary'!$C$38),\"Yes\",IF(B99<'A - Contractor Summary'!$C$36,\"No\",IF(B99>'A - Contractor Summary'!$C$39,\"\",\"\")))","v":"No"},null,"No",0,0,99,null,1]
[null,"2018-12-04","Vendor No. 6","Lunch",4,913259235,{"$f":"E100-F100","v":-913259231},11,{"$f":"+E100*H100","v":44},{"$f":"IF(G100>0,\"No\",IF(F100=0,\"N/A\",\"Yes\"))","v":"Yes"},{"$f":"IF(AND(B100>='A - Contractor Summary'!$C$36,B100<='A - Contractor Summary'!$C$38),\"Yes\",IF(B100<'A - Contractor Summary'!$C$36,\"No\",IF(B100>'A - Contractor Summary'!$C$39,\"\",\"\")))","v":"No"},null,{"$f":"IF(AND(J100=\"Yes\")*OR(K100=\"Yes\",L100=\"Yes\"),\"Yes\",IF(OR(K100=\"No\",J100=\"No\",L100=\"No\"),\"No\",\"Needs Review\"))","v":"No"},{"$f":"IF(M100=\"Yes\",I100,0)","v":0},{"$f":"IF(M100=\"Needs Review\",I100,0)","v":0},{"$f":"+I100","v":44}]
[null,"2018-12-04","Vendor No. 6","Dinner",4,913259235,-913259231,18.5,74,"Yes",{"$f":"IF(AND(B101>='A - Contractor Summary'!$C$36,B101<='A - Contractor Summary'!$C$38),\"Yes\",IF(B101<'A - Contractor Summary'!$C$36,\"No\",IF(B101>'A - Contractor Summary'!$C$39,\"\",\"\")))","v":"No"},null,"No",0,0,74]
[null,"2018-12-04","Vendor No. 6","Lunch",4,913259255,-913259251,11,44,"Yes",{"$f":"IF(AND(B102>='A - Contractor Summary'!$C$36,B102<='A - Contractor Summary'!$C$38),\"Yes\",IF(B102<'A - Contractor Summary'!$C$36,\"No\",IF(B102>'A - Contractor Summary'!$C$39,\"\",\"\")))","v":"No"},null,"No",0,0,44]
[null,"2018-12-04","Vendor No. 6","Dinner",4,913259255,-913259251,18.5,74,"Yes",{"$f":"IF(AND(B103>='A - Contractor Summary'!$C$36,B103<='A - Contractor Summary'!$C$38),\"Yes\",IF(B103<'A - Contractor Summary'!$C$36,\"No\",IF(B103>'A - Contractor Summary'!$C$39,\"\",\"\")))","v":"No"},{"$f":"IF(OR(K103=\"Yes\",K103=\"No\")*AND(B103<'A - Contractor Summary'!$C$39),\"\",IF(AND(B103>'A - Contractor Summary'!$C$39,B103<'A - Contractor Summary'!$C$42),\"Yes\",IF(B103>'A - Contractor Summary'!$C$42,\"No\",\"Needs Review\")))","v":"No"},"No",0,0,74]
[null,null,"Vendor No. 6",null,null,null,0,null,0,"N/A",{"$f":"IF(AND(B104>='A - Contractor Summary'!$C$36,B104<='A - Contractor Summary'!$C$38),\"Yes\",IF(B104<'A - Contractor Summary'!$C$36,\"No\",IF(B104>'A - Contractor Summary'!$C$39,\"\",\"\")))","v":"No"},null,"No",0,0,0]
[null,null,"Vendor No. 6",null,null,null,0,null,0,"N/A",{"$f":"IF(AND(B105>='A - Contractor Summary'!$C$36,B105<='A - Contractor Summary'!$C$38),\"Yes\",IF(B105<'A - Contractor Summary'!$C$36,\"No\",IF(B105>'A - Contractor Summary'!$C$39,\"\",\"\")))","v":"No"},null,"No",0,0,0]
[null,null,null,null,null,null,0,null,0,"N/A",{"$f":"IF(AND(B106>='A - Contractor Summary'!$C$36,B106<='A - Contractor Summary'!$C$38),\"Yes\",IF(B106<'A - Contractor Summary'!$C$36,\"No\",IF(B106>'A - Contractor Summary'!$C$39,\"\",\"\")))","v":"No"},{"$f":"IF(OR(K106=\"Yes\",K106=\"No\")*AND(B106<'A - Contractor Summary'!$C$39),\"\",IF(AND(B106>'A - Contractor Summary'!$C$39,B106<'A - Contractor Summary'!$C$42),\"Yes\",IF(B106>'A - Contractor Summary'!$C$42,\"No\",\"Needs Review\")))","v":""},"No",0,0,0]
[null,null,"Vendor No. 6",null,null,null,0,null,0,"N/A",{"$f":"IF(AND(B107>='A - Contractor Summary'!$C$36,B107<='A - Contractor Summary'!$C$38),\"Yes\",IF(B107<'A - Contractor Summary'!$C$36,\"No\",IF(B107>'A - Contractor Summary'!$C$39,\"\",\"\")))","v":"No"},null,"No",0,0,0]
[null,null,"Vendor No. 6",null,null,null,0,null,0,"N/A",{"$f":"IF(AND(B108>='A - Contractor Summary'!$C$36,B108<='A - Contractor Summary'!$C$38),\"Yes\",IF(B108<'A - Contractor Summary'!$C$36,\"No\",IF(B108>'A - Contractor Summary'!$C$39,\"\",\"\")))","v":"No"},null,"No",0,0,0]
[null,null,"Vendor No. 6",null,null,null,0,null,0,"N/A",{"$f":"IF(AND(B109>='A - Contractor Summary'!$C$36,B109<='A - Contractor Summary'!$C$38),\"Yes\",IF(B109<'A - Contractor Summary'!$C$36,\"No\",IF(B109>'A - Contractor Summary'!$C$39,\"\",\"\")))","v":"No"},null,"No",0,0,0]
[null,null,"Vendor No. 6",null,null,null,0,null,0,"N/A",{"$f":"IF(AND(B110>='A - Contractor Summary'!$C$36,B110<='A - Contractor Summary'!$C$38),\"Yes\",IF(B110<'A - Contractor Summary'!$C$36,\"No\",IF(B110>'A - Contractor Summary'!$C$39,\"\",\"\")))","v":"No"},null,"No",0,0,0]
[null,null,null,null,null,null,0,null,0,"N/A",{"$f":"IF(AND(B111>='A - Contractor Summary'!$C$36,B111<='A - Contractor Summary'!$C$38),\"Yes\",IF(B111<'A - Contractor Summary'!$C$36,\"No\",IF(B111>'A - Contractor Summary'!$C$39,\"\",\"\")))","v":"No"},{"$f":"IF(OR(K111=\"Yes\",K111=\"No\")*AND(B111<'A - Contractor Summary'!$C$39),\"\",IF(AND(B111>'A - Contractor Summary'!$C$39,B111<'A - Contractor Summary'!$C$42),\"Yes\",IF(B111>'A - Contractor Summary'!$C$42,\"No\",\"Needs Review\")))","v":""},"No",0,0,0]
[null,null,"Vendor No. 6",null,null,null,{"$f":"E112-F112","v":0},null,{"$f":"+E112*H112","v":0},{"$f":"IF(G112>0,\"No\",IF(F112=0,\"N/A\",\"Yes\"))","v":"N/A"},{"$f":"IF(AND(B112>='A - Contractor Summary'!$C$36,B112<='A - Contractor Summary'!$C$38),\"Yes\",IF(B112<'A - Contractor Summary'!$C$36,\"No\",IF(B112>'A - Contractor Summary'!$C$39,\"\",\"\")))","v":"No"},null,{"$f":"IF(AND(J112=\"Yes\")*OR(K112=\"Yes\",L112=\"Yes\"),\"Yes\",IF(OR(K112=\"No\",J112=\"No\",L112=\"No\"),\"No\",\"Needs Review\"))","v":"No"},{"$f":"IF(M112=\"Yes\",I112,0)","v":0},{"$f":"IF(M112=\"Needs Review\",I112,0)","v":0},{"$f":"+I112","v":0}]
[null,null,"Vendor No. 6",null,null,null,0,null,0,"N/A",{"$f":"IF(AND(B113>='A - Contractor Summary'!$C$36,B113<='A - Contractor Summary'!$C$38),\"Yes\",IF(B113<'A - Contractor Summary'!$C$36,\"No\",IF(B113>'A - Contractor Summary'!$C$39,\"\",\"\")))","v":"No"},null,"No",0,0,0]
[null,null,null,null,null,null,0,null,0,"N/A",{"$f":"IF(AND(B114>='A - Contractor Summary'!$C$36,B114<='A - Contractor Summary'!$C$38),\"Yes\",IF(B114<'A - Contractor Summary'!$C$36,\"No\",IF(B114>'A - Contractor Summary'!$C$39,\"\",\"\")))","v":"No"},{"$f":"IF(OR(K114=\"Yes\",K114=\"No\")*AND(B114<'A - Contractor Summary'!$C$39),\"\",IF(AND(B114>'A - Contractor Summary'!$C$39,B114<'A - Contractor Summary'!$C$42),\"Yes\",IF(B114>'A - Contractor Summary'!$C$42,\"No\",\"Needs Review\")))","v":""},"No",0,0,0]
[null,null,"Vendor No. 6",null,null,null,{"$f":"E115-F115","v":0},null,{"$f":"+E115*H115","v":0},{"$f":"IF(G115>0,\"No\",IF(F115=0,\"N/A\",\"Yes\"))","v":"N/A"},{"$f":"IF(AND(B115>='A - Contractor Summary'!$C$36,B115<='A - Contractor Summary'!$C$38),\"Yes\",IF(B115<'A - Contractor Summary'!$C$36,\"No\",IF(B115>'A - Contractor Summary'!$C$39,\"\",\"\")))","v":"No"},null,{"$f":"IF(AND(J115=\"Yes\")*OR(K115=\"Yes\",L115=\"Yes\"),\"Yes\",IF(OR(K115=\"No\",J115=\"No\",L115=\"No\"),\"No\",\"Needs Review\"))","v":"No"},{"$f":"IF(M115=\"Yes\",I115,0)","v":0},{"$f":"IF(M115=\"Needs Review\",I115,0)","v":0},{"$f":"+I115","v":0}]
[null,null,"Vendor No. 6",null,null,null,0,null,0,"N/A",{"$f":"IF(AND(B116>='A - Contractor Summary'!$C$36,B116<='A - Contractor Summary'!$C$38),\"Yes\",IF(B116<'A - Contractor Summary'!$C$36,\"No\",IF(B116>'A - Contractor Summary'!$C$39,\"\",\"\")))","v":"No"},null,"No",0,0,0]
[null,null,null,null,null,null,0,null,0,"N/A",{"$f":"IF(AND(B117>='A - Contractor Summary'!$C$36,B117<='A - Contractor Summary'!$C$38),\"Yes\",IF(B117<'A - Contractor Summary'!$C$36,\"No\",IF(B117>'A - Contractor Summary'!$C$39,\"\",\"\")))","v":"No"},{"$f":"IF(OR(K117=\"Yes\",K117=\"No\")*AND(B117<'A - Contractor Summary'!$C$39),\"\",IF(AND(B117>'A - Contractor Summary'!$C$39,B117<'A - Contractor Summary'!$C$42),\"Yes\",IF(B117>'A - Contractor Summary'!$C$42,\"No\",\"Needs Review\")))","v":""},"No",0,0,0]
[null,null,"Vendor No. 6",null,null,null,0,null,0,"N/A",{"$f":"IF(AND(B118>='A - Contractor Summary'!$C$36,B118<='A - Contractor Summary'!$C$38),\"Yes\",IF(B118<'A - Contractor Summary'!$C$36,\"No\",IF(B118>'A - Contractor Summary'!$C$39,\"\",\"\")))","v":"No"},null,"No",0,0,0]
[null,null,"Vendor No. 6",null,null,null,0,null,0,"N/A",{"$f":"IF(AND(B119>='A - Contractor Summary'!$C$36,B119<='A - Contractor Summary'!$C$38),\"Yes\",IF(B119<'A - Contractor Summary'!$C$36,\"No\",IF(B119>'A - Contractor Summary'!$C$39,\"\",\"\")))","v":"No"},null,"No",0,0,0]
[null,null,null,null,null,null,0,null,0,"N/A",{"$f":"IF(AND(B120>='A - Contractor Summary'!$C$36,B120<='A - Contractor Summary'!$C$38),\"Yes\",IF(B120<'A - Contractor Summary'!$C$36,\"No\",IF(B120>'A - Contractor Summary'!$C$39,\"\",\"\")))","v":"No"},{"$f":"IF(OR(K120=\"Yes\",K120=\"No\")*AND(B120<'A - Contractor Summary'!$C$39),\"\",IF(AND(B120>'A - Contractor Summary'!$C$39,B120<'A - Contractor Summary'!$C$42),\"Yes\",IF(B120>'A - Contractor Summary'!$C$42,\"No\",\"Needs Review\")))","v":""},"No",0,0,0]
[null,null,null,null,null,null,{"$f":"SUM(G17:G120)","v":-79452672668},null,{"$f":"SUM(I17:I120)","v":20691},null,null,null,null,{"$f":"IFERROR(SUM(N17:N120),0)","v":0},{"$f":"IFERROR(SUM(O17:O120),0)","v":0},{"$f":"SUM(P17:P120)","v":20691},{"$f":"SUM(Q17:Q120)","v":0},{"$f":"O121-P121-Q121","v":-20691},"check (a)"]
[]
[null,null,null,null,null,null,null,null,null,null,null,null,null,null,null,{"$f":"SUBTOTAL(9,P10:P122)","v":41382}]
[null,"Tickmark Explanation:"]
[]
[null,"1 Support provided"]

{"sheet":"H - Mileage","index":13,"n_rows":131,"n_cols":24,"rows_kept":131,"cut":false,"hidden":false,"merged":[[1,1,1,21],[13,1,13,11],[13,12,13,21],[3,1,7,11],[5,14,7,19]]}
[]
[null,"Mileage Charges"]
[]
[null,"Test Plan: (A) Obtain support of individual mileage charged (Typically a rate and mileage included on invoice).  (B) Ensure charges fall between the dates the vendor was mobilized and the date they arrived.  (C) Ensure charges are prior to the date the vendor arrived home or was released to another utility.  (D)  Ensure number of miles charged deemed reasonable based on vendor location (recalculated per 'A - Contractor Summary' tab).  (E) Ensure the location of charge was reasonable (If mobilizing, charges should be related to travelling to TECO Service area, and home, if demobilizing).  (F) Determine the amount(s) to be reviewed, allowed and/or disallowed.  (G) For charges which required further review, document review and include why it was determined to be allowed/disallowed via a tickmark."]
[]
[]
[]
[]
[]
[null,"Rx","Recalculated."]
[null,"a","Check figure should equal $0.  Cell will appear yellow if discrepancies are noted."]
[]
[null,null,"A",null,null,null,null,null,null,null,null,"Rx","B","C","D","E","F",null,null,"G"]
[null,"Support Reviewed",null,null,null,null,null,null,null,null,null,null,"Conclusions"]
[null,"#","Type of Support","Company","Equipment Name","Equipment ID","Inv#","Date","Location","Miles Charged","$ / Mile (Rate)","Total Charge","Reasonable based on Mobilization date(s)","Reasonable based on Demobilization date(s)","Number of Miles Charged Reasonable","Locations Reasonable","Conclusion","$ Allowable Charge","$ To Be Reviewed","Reviewed - Allowable Charge","Reviewed - Unallowable Charge","Tickmarks"]
[null,1,"Spreadsheet","Vendor No. 6","Mileage for Aerial under 60'",3200839,913220721,"2018-10-13","Marrianna FL",332,{"$f":"VLOOKUP(E16,'C.1 - Rate Sheets'!H:I,2,FALSE)","v":1.24},{"$f":"J16*K16","v":411.68},{"$f":"IF(AND(H16>='A - Contractor Summary'!$C$36,H16<='A - Contractor Summary'!$C$38),\"Yes\",IF(H16<'A - Contractor Summary'!$C$36,\"No\",IF(H16>'A - Contractor Summary'!$C$39,\"\",\"\")))","v":"No"},{"$f":"IF(OR(M16=\"Yes\",M16=\"No\")*AND(H16<'A - Contractor Summary'!$C$39),\"\",IF(AND(H16>'A - Contractor Summary'!$C$39,H16<'A - Contractor Summary'!$C$42),\"Yes\",IF(H16>'A - Contractor Summary'!$C$42,\"No\",\"Needs Review\")))","v":""},{"$f":"IF(AND(J16>PRODUCT('A - Contractor Summary'!$C$29,0.85),J16<PRODUCT('A - Contractor Summary'!$C$29,1.15)),\"Yes\",\"No\")","v":"No"},null,{"$f":"IF(AND(P16=\"Yes\",O16=\"Yes\")*OR(N16=\"Yes\",M16=\"Yes\"),\"Yes\",IF(OR(M16=\"No\",N16=\"No\",P16=\"No\",O16=\"No\"),\"No\",\"Needs Review\"))","v":"No"},{"$f":"+L16","v":411.68},{"$f":"IF(Q16=\"Needs Review\",L16,0)","v":0},null,null,1]
[null,2,"Spreadsheet","Vendor No. 6","Mileage for Aerial under 60'",3001907,913220823,"2018-10-13","Marrianna FL",332,{"$f":"VLOOKUP(E17,'C.1 - Rate Sheets'!H:I,2,FALSE)","v":1.24},411.68,{"$f":"IF(AND(H17>='A - Contractor Summary'!$C$36,H17<='A - Contractor Summary'!$C$38),\"Yes\",IF(H17<'A - Contractor Summary'!$C$36,\"No\",IF(H17>'A - Contractor Summary'!$C$39,\"\",\"\")))","v":"No"},{"$f":"IF(OR(M17=\"Yes\",M17=\"No\")*AND(H17<'A - Contractor Summary'!$C$39),\"\",IF(AND(H17>'A - Contractor Summary'!$C$39,H17<'A - Contractor Summary'!$C$42),\"Yes\",IF(H17>'A - Contractor Summary'!$C$42,\"No\",\"Needs Review\")))","v":""},{"$f":"IF(AND(J17>PRODUCT('A - Contractor Summary'!$C$29,0.85),J17<PRODUCT('A - Contractor Summary'!$C$29,1.15)),\"Yes\",\"No\")","v":"No"},null,"No",{"$f":"+L17","v":411.68},0,null,null,1]
[null,3,"Spreadsheet","Vendor No. 6","Mileage to Marianna","Various",913231731,"2018-10-13","Marrianna FL",453,{"$f":"VLOOKUP(E18,'C.1 - Rate Sheets'!H:I,2,FALSE)","v":1.29},584.37,{"$f":"IF(AND(H18>='A - Contractor Summary'!$C$36,H18<='A - Contractor Summary'!$C$38),\"Yes\",IF(H18<'A - Contractor Summary'!$C$36,\"No\",IF(H18>'A - Contractor Summary'!$C$39,\"\",\"\")))","v":"No"},{"$f":"IF(OR(M18=\"Yes\",M18=\"No\")*AND(H18<'A - Contractor Summary'!$C$39),\"\",IF(AND(H18>'A - Contractor Summary'!$C$39,H18<'A - Contractor Summary'!$C$42),\"Yes\",IF(H18>'A - Contractor Summary'!$C$42,\"No\",\"Needs Review\")))","v":""},{"$f":"IF(AND(J18>PRODUCT('A - Contractor Summary'!$C$29,0.85),J18<PRODUCT('A - Contractor Summary'!$C$29,1.15)),\"Yes\",\"No\")","v":"No"},null,"No",584.37,0,null,null,1]
[null,4,"Spreadsheet","Vendor No. 6","Mileage Manual Crew Truck",2001958,913281767,"2018-10-13","Marrianna FL",191,{"$f":"VLOOKUP(E19,'C.1 - Rate Sheets'!H:I,2,FALSE)","v":0.96},183.35999999999999,{"$f":"IF(AND(H19>='A - Contractor Summary'!$C$36,H19<='A - Contractor Summary'!$C$38),\"Yes\",IF(H19<'A - Contractor Summary'!$C$36,\"No\",IF(H19>'A - Contractor Summary'!$C$39,\"\",\"\")))","v":"No"},{"$f":"IF(OR(M19=\"Yes\",M19=\"No\")*AND(H19<'A - Contractor Summary'!$C$39),\"\",IF(AND(H19>'A - Contractor Summary'!$C$39,H19<'A - Contractor Summary'!$C$42),\"Yes\",IF(H19>'A - Contractor Summary'!$C$42,\"No\",\"Needs Review\")))","v":""},{"$f":"IF(AND(J19>PRODUCT('A - Contractor Summary'!$C$29,0.85),J19<PRODUCT('A - Contractor Summary'!$C$29,1.15)),\"Yes\",\"No\")","v":"No"},null,"No",183.35999999999999,0,null,null,1]
[null,5,"Spreadsheet","Vendor No. 6","Mileage Pick Up Truck",2900295,913281791,"2018-10-13","Marrianna FL",191,{"$f":"VLOOKUP(E20,'C.1 - Rate Sheets'!H:I,2,FALSE)","v":0.77},147.07,{"$f":"IF(AND(H20>='A - Contractor Summary'!$C$36,H20<='A - Contractor Summary'!$C$38),\"Yes\",IF(H20<'A - Contractor Summary'!$C$36,\"No\",IF(H20>'A - Contractor Summary'!$C$39,\"\",\"\")))","v":"No"},{"$f":"IF(OR(M20=\"Yes\",M20=\"No\")*AND(H20<'A - Contractor Summary'!$C$39),\"\",IF(AND(H20>'A - Contractor Summary'!$C$39,H20<'A - Contractor Summary'!$C$42),\"Yes\",IF(H20>'A - Contractor Summary'!$C$42,\"No\",\"Needs Review\")))","v":""},{"$f":"IF(AND(J20>PRODUCT('A - Contractor Summary'!$C$29,0.85),J20<PRODUCT('A - Contractor Summary'!$C$29,1.15)),\"Yes\",\"No\")","v":"No"},null,"No",147.07,0,null,null,1]
[null,6,"Spreadsheet","Vendor No. 6","Mileage Pick Up Truck",2203051,913293304,"2018-10-13","Marrianna FL",124,{"$f":"VLOOKUP(E21,'C.1 - Rate Sheets'!H:I,2,FALSE)","v":0.77},95.48,{"$f":"IF(AND(H21>='A - Contractor Summary'!$C$36,H21<='A - Contractor Summary'!$C$38),\"Yes\",IF(H21<'A - Contractor Summary'!$C$36,\"No\",IF(H21>'A - Contractor Summary'!$C$39,\"\",\"\")))","v":"No"},{"$f":"IF(OR(M21=\"Yes\",M21=\"No\")*AND(H21<'A - Contractor Summary'!$C$39),\"\",IF(AND(H21>'A - Contractor Summary'!$C$39,H21<'A - Contractor Summary'!$C$42),\"Yes\",IF(H21>'A - Contractor Summary'!$C$42,\"No\",\"Needs Review\")))","v":""},{"$f":"IF(AND(J21>PRODUCT('A - Contractor Summary'!$C$29,0.85),J21<PRODUCT('A - Contractor Summary'!$C$29,1.15)),\"Yes\",\"No\")","v":"No"},null,"No",95.48,0,null,null,1]
[null,7,"Spreadsheet","Vendor No. 6","Mileage Pick Up Truck",2202033,913293305,"2018-10-13","Marrianna FL",241,{"$f":"VLOOKUP(E22,'C.1 - Rate Sheets'!H:I,2,FALSE)","v":0.77},185.57,{"$f":"IF(AND(H22>='A - Contractor Summary'!$C$36,H22<='A - Contractor Summary'!$C$38),\"Yes\",IF(H22<'A - Contractor Summary'!$C$36,\"No\",IF(H22>'A - Contractor Summary'!$C$39,\"\",\"\")))","v":"No"},{"$f":"IF(OR(M22=\"Yes\",M22=\"No\")*AND(H22<'A - Contractor Summary'!$C$39),\"\",IF(AND(H22>'A - Contractor Summary'!$C$39,H22<'A - Contractor Summary'!$C$42),\"Yes\",IF(H22>'A - Contractor Summary'!$C$42,\"No\",\"Needs Review\")))","v":""},{"$f":"IF(AND(J22>PRODUCT('A - Contractor Summary'!$C$29,0.85),J22<PRODUCT('A - Contractor Summary'!$C$29,1.15)),\"Yes\",\"No\")","v":"No"},null,"No",185.57,0,null,null,1]
[null,8,"Spreadsheet","Vendor No. 6","Mileage Pick Up Truck",9818409,913293310,"2018-10-13","Batesburg-Leesville SC",346,{"$f":"VLOOKUP(E23,'C.1 - Rate Sheets'!H:I,2,FALSE)","v":0.77},266.42,{"$f":"IF(AND(H23>='A - Contractor Summary'!$C$36,H23<='A - Contractor Summary'!$C$38),\"Yes\",IF(H23<'A - Contractor Summary'!$C$36,\"No\",IF(H23>'A - Contractor Summary'!$C$39,\"\",\"\")))","v":"No"},{"$f":"IF(OR(M23=\"Yes\",M23=\"No\")*AND(H23<'A - Contractor Summary'!$C$39),\"\",IF(AND(H23>'A - Contractor Summary'!$C$39,H23<'A - Contractor Summary'!$C$42),\"Yes\",IF(H23>'A - Contractor Summary'!$C$42,\"No\",\"Needs Review\")))","v":""},{"$f":"IF(AND(J23>PRODUCT('A - Contractor Summary'!$C$29,0.85),J23<PRODUCT('A - Contractor Summary'!$C$29,1.15)),\"Yes\",\"No\")","v":"No"},null,"No",266.42,0,null,null,1]
[null,9,"Spreadsheet","Vendor No. 6","Mileage Manual Crew Truck",3002782,913346317,"2018-10-13","Marrianna FL",191,{"$f":"VLOOKUP(E24,'C.1 - Rate Sheets'!H:I,2,FALSE)","v":0.96},183.35999999999999,{"$f":"IF(AND(H24>='A - Contractor Summary'!$C$36,H24<='A - Contractor Summary'!$C$38),\"Yes\",IF(H24<'A - Contractor Summary'!$C$36,\"No\",IF(H24>'A - Contractor Summary'!$C$39,\"\",\"\")))","v":"No"},{"$f":"IF(OR(M24=\"Yes\",M24=\"No\")*AND(H24<'A - Contractor Summary'!$C$39),\"\",IF(AND(H24>'A - Contractor Summary'!$C$39,H24<'A - Contractor Summary'!$C$42),\"Yes\",IF(H24>'A - Contractor Summary'!$C$42,\"No\",\"Needs Review\")))","v":""},{"$f":"IF(AND(J24>PRODUCT('A - Contractor Summary'!$C$29,0.85),J24<PRODUCT('A - Contractor Summary'!$C$29,1.15)),\"Yes\",\"No\")","v":"No"},null,"No",183.35999999999999,0,null,null,1]
[null,10,"Spreadsheet","Vendor No. 6","Mileage Pick Up Truck",2900454,913223316,"2018-10-20","Marrianna FL",65.5,{"$f":"VLOOKUP(E25,'C.1 - Rate Sheets'!H:I,2,FALSE)","v":0.77},50.435000000000002,{"$f":"IF(AND(H25>='A - Contractor Summary'!$C$36,H25<='A - Contractor Summary'!$C$38),\"Yes\",IF(H25<'A - Contractor Summary'!$C$36,\"No\",IF(H25>'A - Contractor Summary'!$C$39,\"\",\"\")))","v":"No"},null,{"$f":"IF(AND(J25>PRODUCT('A - Contractor Summary'!$C$29,0.85),J25<PRODUCT('A - Contractor Summary'!$C$29,1.15)),\"Yes\",\"No\")","v":"No"},null,"No",50.435000000000002,null,null,null,1]
[null,11,"Spreadsheet","Vendor No. 6","Mileage for Aerial under 60'",3100445,913223316,"2018-10-20","Marrianna FL",65.5,{"$f":"VLOOKUP(E26,'C.1 - Rate Sheets'!H:I,2,FALSE)","v":1.24},81.22,{"$f":"IF(AND(H26>='A - Contractor Summary'!$C$36,H26<='A - Contractor Summary'!$C$38),\"Yes\",IF(H26<'A - Contractor Summary'!$C$36,\"No\",IF(H26>'A - Contractor Summary'!$C$39,\"\",\"\")))","v":"No"},{"$f":"IF(OR(M26=\"Yes\",M26=\"No\")*AND(H26<'A - Contractor Summary'!$C$39),\"\",IF(AND(H26>'A - Contractor Summary'!$C$39,H26<'A - Contractor Summary'!$C$42),\"Yes\",IF(H26>'A - Contractor Summary'!$C$42,\"No\",\"Needs Review\")))","v":""},{"$f":"IF(AND(J26>PRODUCT('A - Contractor Summary'!$C$29,0.85),J26<PRODUCT('A - Contractor Summary'!$C$29,1.15)),\"Yes\",\"No\")","v":"No"},null,"No",81.22,0,null,null,1]
[null,12,"Spreadsheet","Vendor No. 6","Mileage for Aerial under 60'",3100448,913223316,"2018-10-20","Marrianna FL",65.5,{"$f":"VLOOKUP(E27,'C.1 - Rate Sheets'!H:I,2,FALSE)","v":1.24},81.22,{"$f":"IF(AND(H27>='A - Contractor Summary'!$C$36,H27<='A - Contractor Summary'!$C$38),\"Yes\",IF(H27<'A - Contractor Summary'!$C$36,\"No\",IF(H27>'A - Contractor Summary'!$C$39,\"\",\"\")))","v":"No"},{"$f":"IF(OR(M27=\"Yes\",M27=\"No\")*AND(H27<'A - Contractor Summary'!$C$39),\"\",IF(AND(H27>'A - Contractor Summary'!$C$39,H27<'A - Contractor Summary'!$C$42),\"Yes\",IF(H27>'A - Contractor Summary'!$C$42,\"No\",\"Needs Review\")))","v":""},{"$f":"IF(AND(J27>PRODUCT('A - Contractor Summary'!$C$29,0.85),J27<PRODUCT('A - Contractor Summary'!$C$29,1.15)),\"Yes\",\"No\")","v":"No"},null,"No",81.22,0,null,null,1]
[null,13,"Spreadsheet","Vendor No. 6","Mileage for Aerial under 60'",3002513,913231723,"2018-10-20","Marrianna FL",633,{"$f":"VLOOKUP(E28,'C.1 - Rate Sheets'!H:I,2,FALSE)","v":1.24},784.92,{"$f":"IF(AND(H28>='A - Contractor Summary'!$C$36,H28<='A - Contractor Summary'!$C$38),\"Yes\",IF(H28<'A - Contractor Summary'!$C$36,\"No\",IF(H28>'A - Contractor Summary'!$C$39,\"\",\"\")))","v":"No"},{"$f":"IF(OR(M28=\"Yes\",M28=\"No\")*AND(H28<'A - Contractor Summary'!$C$39),\"\",IF(AND(H28>'A - Contractor Summary'!$C$39,H28<'A - Contractor Summary'!$C$42),\"Yes\",IF(H28>'A - Contractor Summary'!$C$42,\"No\",\"Needs Review\")))","v":""},{"$f":"IF(AND(J28>PRODUCT('A - Contractor Summary'!$C$29,0.85),J28<PRODUCT('A - Contractor Summary'!$C$29,1.15)),\"Yes\",\"No\")","v":"No"},null,"No",784.92,0,null,null,1]
[null,14,"Spreadsheet","Vendor No. 6","Mileage for Aerial under 60'",3002093,913231724,"2018-10-20","Marrianna FL",633,{"$f":"VLOOKUP(E29,'C.1 - Rate Sheets'!H:I,2,FALSE)","v":1.24},784.92,{"$f":"IF(AND(H29>='A - Contractor Summary'!$C$36,H29<='A - Contractor Summary'!$C$38),\"Yes\",IF(H29<'A - Contractor Summary'!$C$36,\"No\",IF(H29>'A - Contractor Summary'!$C$39,\"\",\"\")))","v":"No"},{"$f":"IF(OR(M29=\"Yes\",M29=\"No\")*AND(H29<'A - Contractor Summary'!$C$39),\"\",IF(AND(H29>'A - Contractor Summary'!$C$39,H29<'A - Contractor Summary'!$C$42),\"Yes\",IF(H29>'A - Contractor Summary'!$C$42,\"No\",\"Needs Review\")))","v":""},{"$f":"IF(AND(J29>PRODUCT('A - Contractor Summary'!$C$29,0.85),J29<PRODUCT('A - Contractor Summary'!$C$29,1.15)),\"Yes\",\"No\")","v":"No"},null,"No",784.92,0,null,null,1]
[null,15,"Spreadsheet","Vendor No. 6","Mileage for Aerial under 60'",3002094,913231726,"2018-10-20","Marrianna FL",633,{"$f":"VLOOKUP(E30,'C.1 - Rate Sheets'!H:I,2,FALSE)","v":1.24},784.92,{"$f":"IF(AND(H30>='A - Contractor Summary'!$C$36,H30<='A - Contractor Summary'!$C$38),\"Yes\",IF(H30<'A - Contractor Summary'!$C$36,\"No\",IF(H30>'A - Contractor Summary'!$C$39,\"\",\"\")))","v":"No"},{"$f":"IF(OR(M30=\"Yes\",M30=\"No\")*AND(H30<'A - Contractor Summary'!$C$39),\"\",IF(AND(H30>'A - Contractor Summary'!$C$39,H30<'A - Contractor Summary'!$C$42),\"Yes\",IF(H30>'A - Contractor Summary'!$C$42,\"No\",\"Needs Review\")))","v":""},{"$f":"IF(AND(J30>PRODUCT('A - Contractor Summary'!$C$29,0.85),J30<PRODUCT('A - Contractor Summary'!$C$29,1.15)),\"Yes\",\"No\")","v":"No"},null,"No",784.92,0,null,null,1]
[null,16,"Spreadsheet","Vendor No. 6","Mileage Pick Up Truck",2900418,913231727,"2018-10-20","Marrianna FL",633,{"$f":"VLOOKUP(E31,'C.1 - Rate Sheets'!H:I,2,FALSE)","v":0.77},487.41,{"$f":"IF(AND(H31>='A - Contractor Summary'!$C$36,H31<='A - Contractor Summary'!$C$38),\"Yes\",IF(H31<'A - Contractor Summary'!$C$36,\"No\",IF(H31>'A - Contractor Summary'!$C$39,\"\",\"\")))","v":"No"},{"$f":"IF(OR(M31=\"Yes\",M31=\"No\")*AND(H31<'A - Contractor Summary'!$C$39),\"\",IF(AND(H31>'A - Contractor Summary'!$C$39,H31<'A - Contractor Summary'!$C$42),\"Yes\",IF(H31>'A - Contractor Summary'!$C$42,\"No\",\"Needs Review\")))","v":""},{"$f":"IF(AND(J31>PRODUCT('A - Contractor Summary'!$C$29,0.85),J31<PRODUCT('A - Contractor Summary'!$C$29,1.15)),\"Yes\",\"No\")","v":"No"},null,"No",487.41,0,null,null,1]
[null,17,"Spreadsheet","Vendor No. 6","Mileage for Aerial under 60'",null,913259237,"2018-10-20","Marrianna FL",607,{"$f":"VLOOKUP(E32,'C.1 - Rate Sheets'!H:I,2,FALSE)","v":1.24},752.68,{"$f":"IF(AND(H32>='A - Contractor Summary'!$C$36,H32<='A - Contractor Summary'!$C$38),\"Yes\",IF(H32<'A - Contractor Summary'!$C$36,\"No\",IF(H32>'A - Contractor Summary'!$C$39,\"\",\"\")))","v":"No"},{"$f":"IF(OR(M32=\"Yes\",M32=\"No\")*AND(H32<'A - Contractor Summary'!$C$39),\"\",IF(AND(H32>'A - Contractor Summary'!$C$39,H32<'A - Contractor Summary'!$C$42),\"Yes\",IF(H32>'A - Contractor Summary'!$C$42,\"No\",\"Needs Review\")))","v":""},{"$f":"IF(AND(J32>PRODUCT('A - Contractor Summary'!$C$29,0.85),J32<PRODUCT('A - Contractor Summary'!$C$29,1.15)),\"Yes\",\"No\")","v":"No"},null,"No",752.68,0,null,null,1]
[null,18,"Spreadsheet","Vendor No. 6","Mileage for Aerial under 60'",null,913259242,"2018-10-20","Marrianna FL",607,{"$f":"VLOOKUP(E33,'C.1 - Rate Sheets'!H:I,2,FALSE)","v":1.24},752.68,{"$f":"IF(AND(H33>='A - Contractor Summary'!$C$36,H33<='A - Contractor Summary'!$C$38),\"Yes\",IF(H33<'A - Contractor Summary'!$C$36,\"No\",IF(H33>'A - Contractor Summary'!$C$39,\"\",\"\")))","v":"No"},{"$f":"IF(OR(M33=\"Yes\",M33=\"No\")*AND(H33<'A - Contractor Summary'!$C$39),\"\",IF(AND(H33>'A - Contractor Summary'!$C$39,H33<'A - Contractor Summary'!$C$42),\"Yes\",IF(H33>'A - Contractor Summary'!$C$42,\"No\",\"Needs Review\")))","v":""},{"$f":"IF(AND(J33>PRODUCT('A - Contractor Summary'!$C$29,0.85),J33<PRODUCT('A - Contractor Summary'!$C$29,1.15)),\"Yes\",\"No\")","v":"No"},null,"No",752.68,0,null,null,1]
[null,19,"Spreadsheet","Vendor No. 6","Mileage Pick Up Truck",null,913259373,"2018-10-20","Marrianna FL",286,{"$f":"VLOOKUP(E34,'C.1 - Rate Sheets'!H:I,2,FALSE)","v":0.77},220.22,{"$f":"IF(AND(H34>='A - Contractor Summary'!$C$36,H34<='A - Contractor Summary'!$C$38),\"Yes\",IF(H34<'A - Contractor Summary'!$C$36,\"No\",IF(H34>'A - Contractor Summary'!$C$39,\"\",\"\")))","v":"No"},null,{"$f":"IF(AND(J34>PRODUCT('A - Contractor Summary'!$C$29,0.85),J34<PRODUCT('A - Contractor Summary'!$C$29,1.15)),\"Yes\",\"No\")","v":"No"},null,{"$f":"IF(AND(P34=\"Yes\",O34=\"Yes\")*OR(N34=\"Yes\",M34=\"Yes\"),\"Yes\",IF(OR(M34=\"No\",N34=\"No\",P34=\"No\",O34=\"No\"),\"No\",\"Needs Review\"))","v":"No"},220.22,{"$f":"IF(Q34=\"Needs Review\",L34,0)","v":0},null,null,1]
[null,20,"Spreadsheet","Vendor No. 6","Mileage Manual Crew Truck",3002782,913281772,"2018-10-20","Marrianna FL",191,{"$f":"VLOOKUP(E35,'C.1 - Rate Sheets'!H:I,2,FALSE)","v":0.96},183.35999999999999,{"$f":"IF(AND(H35>='A - Contractor Summary'!$C$36,H35<='A - Contractor Summary'!$C$38),\"Yes\",IF(H35<'A - Contractor Summary'!$C$36,\"No\",IF(H35>'A - Contractor Summary'!$C$39,\"\",\"\")))","v":"No"},null,{"$f":"IF(AND(J35>PRODUCT('A - Contractor Summary'!$C$29,0.85),J35<PRODUCT('A - Contractor Summary'!$C$29,1.15)),\"Yes\",\"No\")","v":"No"},null,"No",183.35999999999999,0,null,null,1]
[null,21,"Spreadsheet","Vendor No. 6","Mileage Pick Up Truck",9818506,913293313,"2018-10-20","Atlanta, GA",249,{"$f":"VLOOKUP(E36,'C.1 - Rate Sheets'!H:I,2,FALSE)","v":0.77},191.73000000000002,{"$f":"IF(AND(H36>='A - Contractor Summary'!$C$36,H36<='A - Contractor Summary'!$C$38),\"Yes\",IF(H36<'A - Contractor Summary'!$C$36,\"No\",IF(H36>'A - Contractor Summary'!$C$39,\"\",\"\")))","v":"No"},null,{"$f":"IF(AND(J36>PRODUCT('A - Contractor Summary'!$C$29,0.85),J36<PRODUCT('A - Contractor Summary'!$C$29,1.15)),\"Yes\",\"No\")","v":"No"},null,"No",191.73000000000002,0,null,null,1]
[null,22,"Spreadsheet","Vendor No. 6","Mileage Pick Up Truck",9818409,913301063,"2018-11-03","Various",547.5,{"$f":"VLOOKUP(E37,'C.1 - Rate Sheets'!H:I,2,FALSE)","v":0.77},421.57499999999999,{"$f":"IF(AND(H37>='A - Contractor Summary'!$C$36,H37<='A - Contractor Summary'!$C$38),\"Yes\",IF(H37<'A - Contractor Summary'!$C$36,\"No\",IF(H37>'A - Contractor Summary'!$C$39,\"\",\"\")))","v":"No"},null,{"$f":"IF(AND(J37>PRODUCT('A - Contractor Summary'!$C$29,0.85),J37<PRODUCT('A - Contractor Summary'!$C$29,1.15)),\"Yes\",\"No\")","v":"No"},null,"No",421.57499999999999,0,null,null,1]
[null,23,"Spreadsheet","Vendor No. 6","Mileage Pick Up Truck",9818245,913301070,"2018-10-20","Pensacola FL",532,{"$f":"VLOOKUP(E38,'C.1 - Rate Sheets'!H:I,2,FALSE)","v":0.77},409.64,{"$f":"IF(AND(H38>='A - Contractor Summary'!$C$36,H38<='A - Contractor Summary'!$C$38),\"Yes\",IF(H38<'A - Contractor Summary'!$C$36,\"No\",IF(H38>'A - Contractor Summary'!$C$39,\"\",\"\")))","v":"No"},null,{"$f":"IF(AND(J38>PRODUCT('A - Contractor Summary'!$C$29,0.85),J38<PRODUCT('A - Contractor Summary'!$C$29,1.15)),\"Yes\",\"No\")","v":"No"},null,"No",409.64,0,null,null,1]
[null,24,"Spreadsheet","Vendor No. 6","Mileage Pick Up Truck",9818464,913301071,"2018-10-20","Marrianna FL",973,{"$f":"VLOOKUP(E39,'C.1 - Rate Sheets'!H:I,2,FALSE)","v":0.77},749.21,{"$f":"IF(AND(H39>='A - Contractor Summary'!$C$36,H39<='A - Contractor Summary'!$C$38),\"Yes\",IF(H39<'A - Contractor Summary'!$C$36,\"No\",IF(H39>'A - Contractor Summary'!$C$39,\"\",\"\")))","v":"No"},null,{"$f":"IF(AND(J39>PRODUCT('A - Contractor Summary'!$C$29,0.85),J39<PRODUCT('A - Contractor Summary'!$C$29,1.15)),\"Yes\",\"No\")","v":"No"},null,"No",749.21,0,null,null,1]
[null,25,"Spreadsheet","Vendor No. 6","Mileage Manual Crew Truck",5801062,913346146,"2018-10-20","Marrianna FL",191,{"$f":"VLOOKUP(E40,'C.1 - Rate Sheets'!H:I,2,FALSE)","v":0.96},183.35999999999999,{"$f":"IF(AND(H40>='A - Contractor Summary'!$C$36,H40<='A - Contractor Summary'!$C$38),\"Yes\",IF(H40<'A - Contractor Summary'!$C$36,\"No\",IF(H40>'A - Contractor Summary'!$C$39,\"\",\"\")))","v":"No"},null,{"$f":"IF(AND(J40>PRODUCT('A - Contractor Summary'!$C$29,0.85),J40<PRODUCT('A - Contractor Summary'!$C$29,1.15)),\"Yes\",\"No\")","v":"No"},null,"No",183.35999999999999,0,null,null,1]
[null,26,"Spreadsheet","Vendor No. 6","Mileage Manual Crew Truck",3002782,913346153,"2018-10-20","Marrianna FL",191,{"$f":"VLOOKUP(E41,'C.1 - Rate Sheets'!H:I,2,FALSE)","v":0.96},183.35999999999999,{"$f":"IF(AND(H41>='A - Contractor Summary'!$C$36,H41<='A - Contractor Summary'!$C$38),\"Yes\",IF(H41<'A - Contractor Summary'!$C$36,\"No\",IF(H41>'A - Contractor Summary'!$C$39,\"\",\"\")))","v":"No"},null,{"$f":"IF(AND(J41>PRODUCT('A - Contractor Summary'!$C$29,0.85),J41<PRODUCT('A - Contractor Summary'!$C$29,1.15)),\"Yes\",\"No\")","v":"No"},null,"No",183.35999999999999,0,null,null,1]
[null,27,"Spreadsheet","Vendor No. 6","Mileage Aerial Lift > 60'",3100421,913346486,"2018-10-20","Marrianna FL",65.8,{"$f":"VLOOKUP(E42,'C.1 - Rate Sheets'!H:I,2,FALSE)","v":1.29},84.882000000000005,{"$f":"IF(AND(H42>='A - Contractor Summary'!$C$36,H42<='A - Contractor Summary'!$C$38),\"Yes\",IF(H42<'A - Contractor Summary'!$C$36,\"No\",IF(H42>'A - Contractor Summary'!$C$39,\"\",\"\")))","v":"No"},null,{"$f":"IF(AND(J42>PRODUCT('A - Contractor Summary'!$C$29,0.85),J42<PRODUCT('A - Contractor Summary'!$C$29,1.15)),\"Yes\",\"No\")","v":"No"},null,"No",84.882000000000005,0,null,null,1]
[null,28,"Spreadsheet","Vendor No. 6","Mileage Aerial Lift < 60'",3100403,913346486,"2018-10-20","Marrianna FL",65.8,{"$f":"VLOOKUP(E43,'C.1 - Rate Sheets'!H:I,2,FALSE)","v":1.24},81.591999999999999,{"$f":"IF(AND(H43>='A - Contractor Summary'!$C$36,H43<='A - Contractor Summary'!$C$38),\"Yes\",IF(H43<'A - Contractor Summary'!$C$36,\"No\",IF(H43>'A - Contractor Summary'!$C$39,\"\",\"\")))","v":"No"},null,{"$f":"IF(AND(J43>PRODUCT('A - Contractor Summary'!$C$29,0.85),J43<PRODUCT('A - Contractor Summary'!$C$29,1.15)),\"Yes\",\"No\")","v":"No"},null,"No",81.591999999999999,0,null,null,1]
[null,29,"Spreadsheet","Vendor No. 6","Mileage Pick Up Truck",2900256,913262679,"2018-10-27","Marrianna FL",34.6,{"$f":"VLOOKUP(E44,'C.1 - Rate Sheets'!H:I,2,FALSE)","v":0.77},26.642000000000003,{"$f":"IF(AND(H44>='A - Contractor Summary'!$C$36,H44<='A - Contractor Summary'!$C$38),\"Yes\",IF(H44<'A - Contractor Summary'!$C$36,\"No\",IF(H44>'A - Contractor Summary'!$C$39,\"\",\"\")))","v":"No"},null,{"$f":"IF(AND(J44>PRODUCT('A - Contractor Summary'!$C$29,0.85),J44<PRODUCT('A - Contractor Summary'!$C$29,1.15)),\"Yes\",\"No\")","v":"No"},null,"No",26.642000000000003,0,null,null,1]
[null,30,"Spreadsheet","Vendor No. 6","Mileage Pick Up Truck",2900253,913231739,"2018-10-27",null,29.2,{"$f":"VLOOKUP(E45,'C.1 - Rate Sheets'!H:I,2,FALSE)","v":0.77},22.483999999999998,{"$f":"IF(AND(H45>='A - Contractor Summary'!$C$36,H45<='A - Contractor Summary'!$C$38),\"Yes\",IF(H45<'A - Contractor Summary'!$C$36,\"No\",IF(H45>'A - Contractor Summary'!$C$39,\"\",\"\")))","v":"No"},null,{"$f":"IF(AND(J45>PRODUCT('A - Contractor Summary'!$C$29,0.85),J45<PRODUCT('A - Contractor Summary'!$C$29,1.15)),\"Yes\",\"No\")","v":"No"},null,"No",22.483999999999998,0,null,null,1]
[null,31,"Spreadsheet","Vendor No. 6","Mileage Aerial Lift < 60'",3200878,913231740,"2018-10-27",null,29.2,{"$f":"VLOOKUP(E46,'C.1 - Rate Sheets'!H:I,2,FALSE)","v":1.24},36.207999999999998,{"$f":"IF(AND(H46>='A - Contractor Summary'!$C$36,H46<='A - Contractor Summary'!$C$38),\"Yes\",IF(H46<'A - Contractor Summary'!$C$36,\"No\",IF(H46>'A - Contractor Summary'!$C$39,\"\",\"\")))","v":"No"},null,{"$f":"IF(AND(J46>PRODUCT('A - Contractor Summary'!$C$29,0.85),J46<PRODUCT('A - Contractor Summary'!$C$29,1.15)),\"Yes\",\"No\")","v":"No"},null,"No",36.207999999999998,0,null,null,1]
[null,32,"Spreadsheet","Vendor No. 6","Mileage Aerial Lift < 60'",3200830,913231741,"2018-10-27",null,29.2,{"$f":"VLOOKUP(E47,'C.1 - Rate Sheets'!H:I,2,FALSE)","v":1.24},36.207999999999998,{"$f":"IF(AND(H47>='A - Contractor Summary'!$C$36,H47<='A - Contractor Summary'!$C$38),\"Yes\",IF(H47<'A - Contractor Summary'!$C$36,\"No\",IF(H47>'A - Contractor Summary'!$C$39,\"\",\"\")))","v":"No"},null,{"$f":"IF(AND(J47>PRODUCT('A - Contractor Summary'!$C$29,0.85),J47<PRODUCT('A - Contractor Summary'!$C$29,1.15)),\"Yes\",\"No\")","v":"No"},null,"No",36.207999999999998,0,null,null,1]
[null,33,"Spreadsheet","Vendor No. 6","Mileage Aerial Lift < 60'",3001225,913231743,"2018-10-27",null,29.2,{"$f":"VLOOKUP(E48,'C.1 - Rate Sheets'!H:I,2,FALSE)","v":1.24},36.207999999999998,{"$f":"IF(AND(H48>='A - Contractor Summary'!$C$36,H48<='A - Contractor Summary'!$C$38),\"Yes\",IF(H48<'A - Contractor Summary'!$C$36,\"No\",IF(H48>'A - Contractor Summary'!$C$39,\"\",\"\")))","v":"No"},null,{"$f":"IF(AND(J48>PRODUCT('A - Contractor Summary'!$C$29,0.85),J48<PRODUCT('A - Contractor Summary'!$C$29,1.15)),\"Yes\",\"No\")","v":"No"},null,"No",36.207999999999998,0,null,null,1]
[null,34,"Spreadsheet","Vendor No. 6","Mileage Aerial Lift < 60'",3001037,913243107,"2018-10-27","Marrianna FL",34.700000000000003,{"$f":"VLOOKUP(E49,'C.1 - Rate Sheets'!H:I,2,FALSE)","v":1.24},43.028000000000006,{"$f":"IF(AND(H49>='A - Contractor Summary'!$C$36,H49<='A - Contractor Summary'!$C$38),\"Yes\",IF(H49<'A - Contractor Summary'!$C$36,\"No\",IF(H49>'A - Contractor Summary'!$C$39,\"\",\"\")))","v":"No"},null,{"$f":"IF(AND(J49>PRODUCT('A - Contractor Summary'!$C$29,0.85),J49<PRODUCT('A - Contractor Summary'!$C$29,1.15)),\"Yes\",\"No\")","v":"No"},null,"No",43.028000000000006,0,null,null,1]
[null,35,"Spreadsheet","Vendor No. 6","Mileage Aerial Lift < 60'",3002786,913243108,"2018-10-27","Marrianna FL",34.700000000000003,{"$f":"VLOOKUP(E50,'C.1 - Rate Sheets'!H:I,2,FALSE)","v":1.24},43.028000000000006,{"$f":"IF(AND(H50>='A - Contractor Summary'!$C$36,H50<='A - Contractor Summary'!$C$38),\"Yes\",IF(H50<'A - Contractor Summary'!$C$36,\"No\",IF(H50>'A - Contractor Summary'!$C$39,\"\",\"\")))","v":"No"},null,{"$f":"IF(AND(J50>PRODUCT('A - Contractor Summary'!$C$29,0.85),J50<PRODUCT('A - Contractor Summary'!$C$29,1.15)),\"Yes\",\"No\")","v":"No"},null,"No",43.028000000000006,0,null,null,1]
[null,36,"Spreadsheet","Vendor No. 6","Mileage Aerial Lift < 60'",3000759,913243110,"2018-10-27","Marrianna FL",34.700000000000003,{"$f":"VLOOKUP(E51,'C.1 - Rate Sheets'!H:I,2,FALSE)","v":1.24},43.028000000000006,{"$f":"IF(AND(H51>='A - Contractor Summary'!$C$36,H51<='A - Contractor Summary'!$C$38),\"Yes\",IF(H51<'A - Contractor Summary'!$C$36,\"No\",IF(H51>'A - Contractor Summary'!$C$39,\"\",\"\")))","v":"No"},null,{"$f":"IF(AND(J51>PRODUCT('A - Contractor Summary'!$C$29,0.85),J51<PRODUCT('A - Contractor Summary'!$C$29,1.15)),\"Yes\",\"No\")","v":"No"},null,"No",43.028000000000006,0,null,null,1]
[null,37,"Spreadsheet","Vendor No. 6","Mileage Aerial Lift < 60'",3002826,913243111,"2018-10-27","Marrianna FL",34.700000000000003,{"$f":"VLOOKUP(E52,'C.1 - Rate Sheets'!H:I,2,FALSE)","v":1.24},43.028000000000006,{"$f":"IF(AND(H52>='A - Contractor Summary'!$C$36,H52<='A - Contractor Summary'!$C$38),\"Yes\",IF(H52<'A - Contractor Summary'!$C$36,\"No\",IF(H52>'A - Contractor Summary'!$C$39,\"\",\"\")))","v":"No"},null,{"$f":"IF(AND(J52>PRODUCT('A - Contractor Summary'!$C$29,0.85),J52<PRODUCT('A - Contractor Summary'!$C$29,1.15)),\"Yes\",\"No\")","v":"No"},null,"No",43.028000000000006,0,null,null,1]
[null,38,"Spreadsheet","Vendor No. 6","Mileage Aerial Lift < 60'",3300091,913243112,"2018-10-27","Marrianna FL",34.700000000000003,{"$f":"VLOOKUP(E53,'C.1 - Rate Sheets'!H:I,2,FALSE)","v":1.24},43.028000000000006,{"$f":"IF(AND(H53>='A - Contractor Summary'!$C$36,H53<='A - Contractor Summary'!$C$38),\"Yes\",IF(H53<'A - Contractor Summary'!$C$36,\"No\",IF(H53>'A - Contractor Summary'!$C$39,\"\",\"\")))","v":"No"},null,{"$f":"IF(AND(J53>PRODUCT('A - Contractor Summary'!$C$29,0.85),J53<PRODUCT('A - Contractor Summary'!$C$29,1.15)),\"Yes\",\"No\")","v":"No"},null,"No",43.028000000000006,0,null,null,1]
[null,39,"Spreadsheet","Vendor No. 6","Mileage Aerial Lift > 60'",3200799,913243113,"2018-10-27","Marrianna FL",34.700000000000003,{"$f":"VLOOKUP(E54,'C.1 - Rate Sheets'!H:I,2,FALSE)","v":1.29},44.763000000000005,{"$f":"IF(AND(H54>='A - Contractor Summary'!$C$36,H54<='A - Contractor Summary'!$C$38),\"Yes\",IF(H54<'A - Contractor Summary'!$C$36,\"No\",IF(H54>'A - Contractor Summary'!$C$39,\"\",\"\")))","v":"No"},null,{"$f":"IF(AND(J54>PRODUCT('A - Contractor Summary'!$C$29,0.85),J54<PRODUCT('A - Contractor Summary'!$C$29,1.15)),\"Yes\",\"No\")","v":"No"},null,"No",44.763000000000005,0,null,null,1]
[null,40,"Spreadsheet","Vendor No. 6","Mileage Aerial Lift < 60'",3002784,913243114,"2018-10-27","Marrianna FL",34.700000000000003,{"$f":"VLOOKUP(E55,'C.1 - Rate Sheets'!H:I,2,FALSE)","v":1.24},43.028000000000006,{"$f":"IF(AND(H55>='A - Contractor Summary'!$C$36,H55<='A - Contractor Summary'!$C$38),\"Yes\",IF(H55<'A - Contractor Summary'!$C$36,\"No\",IF(H55>'A - Contractor Summary'!$C$39,\"\",\"\")))","v":"No"},null,{"$f":"IF(AND(J55>PRODUCT('A - Contractor Summary'!$C$29,0.85),J55<PRODUCT('A - Contractor Summary'!$C$29,1.15)),\"Yes\",\"No\")","v":"No"},null,"No",43.028000000000006,0,null,null,1]
[null,41,"Spreadsheet","Vendor No. 6","Mileage Pick Up Truck",2900271,913243115,"2018-10-27","Marrianna FL",34.700000000000003,{"$f":"VLOOKUP(E56,'C.1 - Rate Sheets'!H:I,2,FALSE)","v":0.77},26.719000000000001,{"$f":"IF(AND(H56>='A - Contractor Summary'!$C$36,H56<='A - Contractor Summary'!$C$38),\"Yes\",IF(H56<'A - Contractor Summary'!$C$36,\"No\",IF(H56>'A - Contractor Summary'!$C$39,\"\",\"\")))","v":"No"},null,{"$f":"IF(AND(J56>PRODUCT('A - Contractor Summary'!$C$29,0.85),J56<PRODUCT('A - Contractor Summary'!$C$29,1.15)),\"Yes\",\"No\")","v":"No"},null,"No",26.719000000000001,0,null,null,1]
[null,42,"Spreadsheet","Vendor No. 6","Mileage Aerial Lift < 60'",null,913262294,"2018-10-27",null,34.6,{"$f":"VLOOKUP(E57,'C.1 - Rate Sheets'!H:I,2,FALSE)","v":1.24},42.904000000000003,{"$f":"IF(AND(H57>='A - Contractor Summary'!$C$36,H57<='A - Contractor Summary'!$C$38),\"Yes\",IF(H57<'A - Contractor Summary'!$C$36,\"No\",IF(H57>'A - Contractor Summary'!$C$39,\"\",\"\")))","v":"No"},null,{"$f":"IF(AND(J57>PRODUCT('A - Contractor Summary'!$C$29,0.85),J57<PRODUCT('A - Contractor Summary'!$C$29,1.15)),\"Yes\",\"No\")","v":"No"},null,"No",42.904000000000003,0,null,null,1]
[null,43,"Spreadsheet","Vendor No. 6","Mileage Aerial Lift < 60'",3002396,913262502,"2018-10-27","Marrianna FL",34.6,{"$f":"VLOOKUP(E58,'C.1 - Rate Sheets'!H:I,2,FALSE)","v":1.24},42.904000000000003,{"$f":"IF(AND(H58>='A - Contractor Summary'!$C$36,H58<='A - Contractor Summary'!$C$38),\"Yes\",IF(H58<'A - Contractor Summary'!$C$36,\"No\",IF(H58>'A - Contractor Summary'!$C$39,\"\",\"\")))","v":"No"},null,{"$f":"IF(AND(J58>PRODUCT('A - Contractor Summary'!$C$29,0.85),J58<PRODUCT('A - Contractor Summary'!$C$29,1.15)),\"Yes\",\"No\")","v":"No"},null,"No",42.904000000000003,0,null,null,1]
[null,44,"Spreadsheet","Vendor No. 6","Mileage Aerial Lift < 60'",3002225,913262582,"2018-10-27","Marrianna FL",34.6,{"$f":"VLOOKUP(E59,'C.1 - Rate Sheets'!H:I,2,FALSE)","v":1.24},42.904000000000003,{"$f":"IF(AND(H59>='A - Contractor Summary'!$C$36,H59<='A - Contractor Summary'!$C$38),\"Yes\",IF(H59<'A - Contractor Summary'!$C$36,\"No\",IF(H59>'A - Contractor Summary'!$C$39,\"\",\"\")))","v":"No"},null,{"$f":"IF(AND(J59>PRODUCT('A - Contractor Summary'!$C$29,0.85),J59<PRODUCT('A - Contractor Summary'!$C$29,1.15)),\"Yes\",\"No\")","v":"No"},null,"No",42.904000000000003,0,null,null,1]
[null,45,"Spreadsheet","Vendor No. 6","Mileage Manual Crew Truck",5801062,913281758,"2018-10-27","Marrianna FL",191,{"$f":"VLOOKUP(E60,'C.1 - Rate Sheets'!H:I,2,FALSE)","v":0.96},183.35999999999999,{"$f":"IF(AND(H60>='A - Contractor Summary'!$C$36,H60<='A - Contractor Summary'!$C$38),\"Yes\",IF(H60<'A - Contractor Summary'!$C$36,\"No\",IF(H60>'A - Contractor Summary'!$C$39,\"\",\"\")))","v":"No"},null,{"$f":"IF(AND(J60>PRODUCT('A - Contractor Summary'!$C$29,0.85),J60<PRODUCT('A - Contractor Summary'!$C$29,1.15)),\"Yes\",\"No\")","v":"No"},null,"No",183.35999999999999,0,null,null,1]
[null,46,"Spreadsheet","Vendor No. 6","Mileage Manual Crew Truck",3002782,913281761,"2018-10-27","Marrianna FL",191,{"$f":"VLOOKUP(E61,'C.1 - Rate Sheets'!H:I,2,FALSE)","v":0.96},183.35999999999999,{"$f":"IF(AND(H61>='A - Contractor Summary'!$C$36,H61<='A - Contractor Summary'!$C$38),\"Yes\",IF(H61<'A - Contractor Summary'!$C$36,\"No\",IF(H61>'A - Contractor Summary'!$C$39,\"\",\"\")))","v":"No"},null,{"$f":"IF(AND(J61>PRODUCT('A - Contractor Summary'!$C$29,0.85),J61<PRODUCT('A - Contractor Summary'!$C$29,1.15)),\"Yes\",\"No\")","v":"No"},null,"No",183.35999999999999,0,null,null,1]
[null,47,"Spreadsheet","Vendor No. 6","Mileage Manual Crew Truck",3001956,913281769,"2018-10-27","Marrianna FL",191,{"$f":"VLOOKUP(E62,'C.1 - Rate Sheets'!H:I,2,FALSE)","v":0.96},183.35999999999999,{"$f":"IF(AND(H62>='A - Contractor Summary'!$C$36,H62<='A - Contractor Summary'!$C$38),\"Yes\",IF(H62<'A - Contractor Summary'!$C$36,\"No\",IF(H62>'A - Contractor Summary'!$C$39,\"\",\"\")))","v":"No"},null,{"$f":"IF(AND(J62>PRODUCT('A - Contractor Summary'!$C$29,0.85),J62<PRODUCT('A - Contractor Summary'!$C$29,1.15)),\"Yes\",\"No\")","v":"No"},null,"No",183.35999999999999,0,null,null,1]
[null,48,"Spreadsheet","Vendor No. 6","Mileage Pick Up Truck",9818245,913293322,"2018-10-27","Marrianna FL",133,{"$f":"VLOOKUP(E63,'C.1 - Rate Sheets'!H:I,2,FALSE)","v":0.77},102.41,{"$f":"IF(AND(H63>='A - Contractor Summary'!$C$36,H63<='A - Contractor Summary'!$C$38),\"Yes\",IF(H63<'A - Contractor Summary'!$C$36,\"No\",IF(H63>'A - Contractor Summary'!$C$39,\"\",\"\")))","v":"No"},null,{"$f":"IF(AND(J63>PRODUCT('A - Contractor Summary'!$C$29,0.85),J63<PRODUCT('A - Contractor Summary'!$C$29,1.15)),\"Yes\",\"No\")","v":"No"},null,"No",102.41,0,null,null,1]
[null,49,"Spreadsheet","Vendor No. 6","Mileage Manual Crew Truck",3200876,913333188,"2018-10-27","Marrianna FL",191,{"$f":"VLOOKUP(E64,'C.1 - Rate Sheets'!H:I,2,FALSE)","v":0.96},183.35999999999999,{"$f":"IF(AND(H64>='A - Contractor Summary'!$C$36,H64<='A - Contractor Summary'!$C$38),\"Yes\",IF(H64<'A - Contractor Summary'!$C$36,\"No\",IF(H64>'A - Contractor Summary'!$C$39,\"\",\"\")))","v":"No"},null,{"$f":"IF(AND(J64>PRODUCT('A - Contractor Summary'!$C$29,0.85),J64<PRODUCT('A - Contractor Summary'!$C$29,1.15)),\"Yes\",\"No\")","v":"No"},null,"No",183.35999999999999,0,null,null,1]
[null,50,"Spreadsheet","Vendor No. 6","Mileage Manual Crew Truck",5801062,913333193,"2018-10-27","Marrianna FL",191,{"$f":"VLOOKUP(E65,'C.1 - Rate Sheets'!H:I,2,FALSE)","v":0.96},183.35999999999999,{"$f":"IF(AND(H65>='A - Contractor Summary'!$C$36,H65<='A - Contractor Summary'!$C$38),\"Yes\",IF(H65<'A - Contractor Summary'!$C$36,\"No\",IF(H65>'A - Contractor Summary'!$C$39,\"\",\"\")))","v":"No"},null,{"$f":"IF(AND(J65>PRODUCT('A - Contractor Summary'!$C$29,0.85),J65<PRODUCT('A - Contractor Summary'!$C$29,1.15)),\"Yes\",\"No\")","v":"No"},null,"No",183.35999999999999,0,null,null,1]
[null,51,"Spreadsheet","Vendor No. 6","Mileage Aerial Lift < 60'",3200806,913346156,"2018-10-27","Marrianna FL",34.6,{"$f":"VLOOKUP(E66,'C.1 - Rate Sheets'!H:I,2,FALSE)","v":1.24},42.904000000000003,{"$f":"IF(AND(H66>='A - Contractor Summary'!$C$36,H66<='A - Contractor Summary'!$C$38),\"Yes\",IF(H66<'A - Contractor Summary'!$C$36,\"No\",IF(H66>'A - Contractor Summary'!$C$39,\"\",\"\")))","v":"No"},null,{"$f":"IF(AND(J66>PRODUCT('A - Contractor Summary'!$C$29,0.85),J66<PRODUCT('A - Contractor Summary'!$C$29,1.15)),\"Yes\",\"No\")","v":"No"},null,"No",42.904000000000003,0,null,null,1]
[null,52,"Spreadsheet","Vendor No. 6","Mileage Aerial Lift < 60'",3200892,913346172,"2018-10-27","Marrianna FL",34.6,{"$f":"VLOOKUP(E67,'C.1 - Rate Sheets'!H:I,2,FALSE)","v":1.24},42.904000000000003,{"$f":"IF(AND(H67>='A - Contractor Summary'!$C$36,H67<='A - Contractor Summary'!$C$38),\"Yes\",IF(H67<'A - Contractor Summary'!$C$36,\"No\",IF(H67>'A - Contractor Summary'!$C$39,\"\",\"\")))","v":"No"},null,{"$f":"IF(AND(J67>PRODUCT('A - Contractor Summary'!$C$29,0.85),J67<PRODUCT('A - Contractor Summary'!$C$29,1.15)),\"Yes\",\"No\")","v":"No"},null,"No",42.904000000000003,0,null,null,1]
[null,53,"Spreadsheet","Vendor No. 6","Mileage Aerial Lift < 60'",3200840,913232495,"2018-11-03",null,346,{"$f":"VLOOKUP(E68,'C.1 - Rate Sheets'!H:I,2,FALSE)","v":1.24},429.04,{"$f":"IF(AND(H68>='A - Contractor Summary'!$C$36,H68<='A - Contractor Summary'!$C$38),\"Yes\",IF(H68<'A - Contractor Summary'!$C$36,\"No\",IF(H68>'A - Contractor Summary'!$C$39,\"\",\"\")))","v":"No"},null,{"$f":"IF(AND(J68>PRODUCT('A - Contractor Summary'!$C$29,0.85),J68<PRODUCT('A - Contractor Summary'!$C$29,1.15)),\"Yes\",\"No\")","v":"No"},null,"No",429.04,0,null,null,1]
[null,54,"Spreadsheet","Vendor No. 6","Mileage Aerial Lift < 60'",3002227,913232497,"2018-11-03",null,346,{"$f":"VLOOKUP(E69,'C.1 - Rate Sheets'!H:I,2,FALSE)","v":1.24},429.04,{"$f":"IF(AND(H69>='A - Contractor Summary'!$C$36,H69<='A - Contractor Summary'!$C$38),\"Yes\",IF(H69<'A - Contractor Summary'!$C$36,\"No\",IF(H69>'A - Contractor Summary'!$C$39,\"\",\"\")))","v":"No"},null,{"$f":"IF(AND(J69>PRODUCT('A - Contractor Summary'!$C$29,0.85),J69<PRODUCT('A - Contractor Summary'!$C$29,1.15)),\"Yes\",\"No\")","v":"No"},null,"No",429.04,0,null,null,1]
[null,55,"Spreadsheet","Vendor No. 6","Mileage Aerial Lift < 60'",3001980,913232498,"2018-11-03",null,346,{"$f":"VLOOKUP(E70,'C.1 - Rate Sheets'!H:I,2,FALSE)","v":1.24},429.04,{"$f":"IF(AND(H70>='A - Contractor Summary'!$C$36,H70<='A - Contractor Summary'!$C$38),\"Yes\",IF(H70<'A - Contractor Summary'!$C$36,\"No\",IF(H70>'A - Contractor Summary'!$C$39,\"\",\"\")))","v":"No"},null,{"$f":"IF(AND(J70>PRODUCT('A - Contractor Summary'!$C$29,0.85),J70<PRODUCT('A - Contractor Summary'!$C$29,1.15)),\"Yes\",\"No\")","v":"No"},null,"No",429.04,0,null,null,1]
[null,56,"Spreadsheet","Vendor No. 6","Mileage Aerial Lift < 60'",3001832,913232500,"2018-11-03",null,346,{"$f":"VLOOKUP(E71,'C.1 - Rate Sheets'!H:I,2,FALSE)","v":1.24},429.04,{"$f":"IF(AND(H71>='A - Contractor Summary'!$C$36,H71<='A - Contractor Summary'!$C$38),\"Yes\",IF(H71<'A - Contractor Summary'!$C$36,\"No\",IF(H71>'A - Contractor Summary'!$C$39,\"\",\"\")))","v":"No"},null,{"$f":"IF(AND(J71>PRODUCT('A - Contractor Summary'!$C$29,0.85),J71<PRODUCT('A - Contractor Summary'!$C$29,1.15)),\"Yes\",\"No\")","v":"No"},null,"No",429.04,0,null,null,1]
[null,57,"Spreadsheet","Vendor No. 6","Mileage Aerial Lift < 60'",3200830,913243348,"2018-11-03","Newberry SC",383,{"$f":"VLOOKUP(E72,'C.1 - Rate Sheets'!H:I,2,FALSE)","v":1.24},474.92,{"$f":"IF(AND(H72>='A - Contractor Summary'!$C$36,H72<='A - Contractor Summary'!$C$38),\"Yes\",IF(H72<'A - Contractor Summary'!$C$36,\"No\",IF(H72>'A - Contractor Summary'!$C$39,\"\",\"\")))","v":"No"},null,{"$f":"IF(AND(J72>PRODUCT('A - Contractor Summary'!$C$29,0.85),J72<PRODUCT('A - Contractor Summary'!$C$29,1.15)),\"Yes\",\"No\")","v":"No"},null,"No",474.92,0,null,null,1]
[null,58,"Spreadsheet","Vendor No. 6","Mileage Aerial Lift < 60'",3200878,913243350,"2018-11-03","Newberry SC",383,{"$f":"VLOOKUP(E73,'C.1 - Rate Sheets'!H:I,2,FALSE)","v":1.24},474.92,{"$f":"IF(AND(H73>='A - Contractor Summary'!$C$36,H73<='A - Contractor Summary'!$C$38),\"Yes\",IF(H73<'A - Contractor Summary'!$C$36,\"No\",IF(H73>'A - Contractor Summary'!$C$39,\"\",\"\")))","v":"No"},null,{"$f":"IF(AND(J73>PRODUCT('A - Contractor Summary'!$C$29,0.85),J73<PRODUCT('A - Contractor Summary'!$C$29,1.15)),\"Yes\",\"No\")","v":"No"},null,"No",474.92,0,null,null,1]
[null,59,"Spreadsheet","Vendor No. 6","Mileage Aerial Lift < 60'",3001225,913243352,"2018-11-03","Newberry SC",383,{"$f":"VLOOKUP(E74,'C.1 - Rate Sheets'!H:I,2,FALSE)","v":1.24},474.92,{"$f":"IF(AND(H74>='A - Contractor Summary'!$C$36,H74<='A - Contractor Summary'!$C$38),\"Yes\",IF(H74<'A - Contractor Summary'!$C$36,\"No\",IF(H74>'A - Contractor Summary'!$C$39,\"\",\"\")))","v":"No"},null,{"$f":"IF(AND(J74>PRODUCT('A - Contractor Summary'!$C$29,0.85),J74<PRODUCT('A - Contractor Summary'!$C$29,1.15)),\"Yes\",\"No\")","v":"No"},null,"No",474.92,0,null,null,1]
[null,60,"Spreadsheet","Vendor No. 6","Mileage Aerial Lift < 60'",2900253,913243353,"2018-11-03","Newberry SC",383,{"$f":"VLOOKUP(E75,'C.1 - Rate Sheets'!H:I,2,FALSE)","v":1.24},474.92,{"$f":"IF(AND(H75>='A - Contractor Summary'!$C$36,H75<='A - Contractor Summary'!$C$38),\"Yes\",IF(H75<'A - Contractor Summary'!$C$36,\"No\",IF(H75>'A - Contractor Summary'!$C$39,\"\",\"\")))","v":"No"},null,{"$f":"IF(AND(J75>PRODUCT('A - Contractor Summary'!$C$29,0.85),J75<PRODUCT('A - Contractor Summary'!$C$29,1.15)),\"Yes\",\"No\")","v":"No"},null,"No",474.92,0,null,null,1]
[null,61,"Spreadsheet","Vendor No. 6","Mileage Aerial Lift < 60'",3002288,913243354,"2018-11-03","Richlands NC",634,{"$f":"VLOOKUP(E76,'C.1 - Rate Sheets'!H:I,2,FALSE)","v":1.24},786.16,{"$f":"IF(AND(H76>='A - Contractor Summary'!$C$36,H76<='A - Contractor Summary'!$C$38),\"Yes\",IF(H76<'A - Contractor Summary'!$C$36,\"No\",IF(H76>'A - Contractor Summary'!$C$39,\"\",\"\")))","v":"No"},null,{"$f":"IF(AND(J76>PRODUCT('A - Contractor Summary'!$C$29,0.85),J76<PRODUCT('A - Contractor Summary'!$C$29,1.15)),\"Yes\",\"No\")","v":"No"},null,"No",786.16,0,null,null,1]
[null,62,"Spreadsheet","Vendor No. 6","Mileage Pick Up Truck",2900418,913243356,"2018-11-03","Richlands NC",634,{"$f":"VLOOKUP(E77,'C.1 - Rate Sheets'!H:I,2,FALSE)","v":0.77},488.18,{"$f":"IF(AND(H77>='A - Contractor Summary'!$C$36,H77<='A - Contractor Summary'!$C$38),\"Yes\",IF(H77<'A - Contractor Summary'!$C$36,\"No\",IF(H77>'A - Contractor Summary'!$C$39,\"\",\"\")))","v":"No"},null,{"$f":"IF(AND(J77>PRODUCT('A - Contractor Summary'!$C$29,0.85),J77<PRODUCT('A - Contractor Summary'!$C$29,1.15)),\"Yes\",\"No\")","v":"No"},null,"No",488.18,0,null,null,1]
[null,63,"Spreadsheet","Vendor No. 6","Mileage Aerial Lift < 60'",3002513,913243358,"2018-11-03","Richlands NC",634,{"$f":"VLOOKUP(E78,'C.1 - Rate Sheets'!H:I,2,FALSE)","v":1.24},786.16,{"$f":"IF(AND(H78>='A - Contractor Summary'!$C$36,H78<='A - Contractor Summary'!$C$38),\"Yes\",IF(H78<'A - Contractor Summary'!$C$36,\"No\",IF(H78>'A - Contractor Summary'!$C$39,\"\",\"\")))","v":"No"},null,{"$f":"IF(AND(J78>PRODUCT('A - Contractor Summary'!$C$29,0.85),J78<PRODUCT('A - Contractor Summary'!$C$29,1.15)),\"Yes\",\"No\")","v":"No"},null,"No",786.16,0,null,null,1]
[null,64,"Spreadsheet","Vendor No. 6","Mileage Aerial Lift < 60'",3002093,913243359,"2018-11-03","Richlands NC",634,{"$f":"VLOOKUP(E79,'C.1 - Rate Sheets'!H:I,2,FALSE)","v":1.24},786.16,{"$f":"IF(AND(H79>='A - Contractor Summary'!$C$36,H79<='A - Contractor Summary'!$C$38),\"Yes\",IF(H79<'A - Contractor Summary'!$C$36,\"No\",IF(H79>'A - Contractor Summary'!$C$39,\"\",\"\")))","v":"No"},null,{"$f":"IF(AND(J79>PRODUCT('A - Contractor Summary'!$C$29,0.85),J79<PRODUCT('A - Contractor Summary'!$C$29,1.15)),\"Yes\",\"No\")","v":"No"},null,"No",786.16,0,null,null,1]
[null,65,"Spreadsheet","Vendor No. 6","Mileage Aerial Lift < 60'",3002094,913243361,"2018-11-03","Richlands NC",634,{"$f":"VLOOKUP(E80,'C.1 - Rate Sheets'!H:I,2,FALSE)","v":1.24},786.16,{"$f":"IF(AND(H80>='A - Contractor Summary'!$C$36,H80<='A - Contractor Summary'!$C$38),\"Yes\",IF(H80<'A - Contractor Summary'!$C$36,\"No\",IF(H80>'A - Contractor Summary'!$C$39,\"\",\"\")))","v":"No"},null,{"$f":"IF(AND(J80>PRODUCT('A - Contractor Summary'!$C$29,0.85),J80<PRODUCT('A - Contractor Summary'!$C$29,1.15)),\"Yes\",\"No\")","v":"No"},null,"No",786.16,0,null,null,1]
[null,66,"Spreadsheet","Vendor No. 6","Mileage Aerial Lift < 60'",2002797,913259364,"2018-11-03","Marrianna FL",286,{"$f":"VLOOKUP(E81,'C.1 - Rate Sheets'!H:I,2,FALSE)","v":1.24},354.64,{"$f":"IF(AND(H81>='A - Contractor Summary'!$C$36,H81<='A - Contractor Summary'!$C$38),\"Yes\",IF(H81<'A - Contractor Summary'!$C$36,\"No\",IF(H81>'A - Contractor Summary'!$C$39,\"\",\"\")))","v":"No"},null,{"$f":"IF(AND(J81>PRODUCT('A - Contractor Summary'!$C$29,0.85),J81<PRODUCT('A - Contractor Summary'!$C$29,1.15)),\"Yes\",\"No\")","v":"No"},null,"No",{"$f":"+L81","v":354.64},0,null,null,1]
[null,67,"Spreadsheet","Vendor No. 6","Mileage Aerial Lift > 60'",3300188,913259364,"2018-11-03","Marrianna FL",572,{"$f":"VLOOKUP(E82,'C.1 - Rate Sheets'!H:I,2,FALSE)","v":1.29},737.88,{"$f":"IF(AND(H82>='A - Contractor Summary'!$C$36,H82<='A - Contractor Summary'!$C$38),\"Yes\",IF(H82<'A - Contractor Summary'!$C$36,\"No\",IF(H82>'A - Contractor Summary'!$C$39,\"\",\"\")))","v":"No"},null,{"$f":"IF(AND(J82>PRODUCT('A - Contractor Summary'!$C$29,0.85),J82<PRODUCT('A - Contractor Summary'!$C$29,1.15)),\"Yes\",\"No\")","v":"No"},null,"No",737.88,0,null,null,1]
[null,68,"Spreadsheet","Vendor No. 6","Mileage Aerial Lift < 60'",3002807,913259367,"2018-11-03","Marrianna FL",572,{"$f":"VLOOKUP(E83,'C.1 - Rate Sheets'!H:I,2,FALSE)","v":1.24},709.28,{"$f":"IF(AND(H83>='A - Contractor Summary'!$C$36,H83<='A - Contractor Summary'!$C$38),\"Yes\",IF(H83<'A - Contractor Summary'!$C$36,\"No\",IF(H83>'A - Contractor Summary'!$C$39,\"\",\"\")))","v":"No"},null,{"$f":"IF(AND(J83>PRODUCT('A - Contractor Summary'!$C$29,0.85),J83<PRODUCT('A - Contractor Summary'!$C$29,1.15)),\"Yes\",\"No\")","v":"No"},null,"No",709.28,0,null,null,1]
[null,69,"Spreadsheet","Vendor No. 6","Mileage Aerial Lift > 60'",3002799,913259367,"2018-11-03","Marrianna FL",286,{"$f":"VLOOKUP(E84,'C.1 - Rate Sheets'!H:I,2,FALSE)","v":1.29},368.94,{"$f":"IF(AND(H84>='A - Contractor Summary'!$C$36,H84<='A - Contractor Summary'!$C$38),\"Yes\",IF(H84<'A - Contractor Summary'!$C$36,\"No\",IF(H84>'A - Contractor Summary'!$C$39,\"\",\"\")))","v":"No"},null,{"$f":"IF(AND(J84>PRODUCT('A - Contractor Summary'!$C$29,0.85),J84<PRODUCT('A - Contractor Summary'!$C$29,1.15)),\"Yes\",\"No\")","v":"No"},null,"No",368.94,0,null,null,1]
[null,70,"Spreadsheet","Vendor No. 6","Mileage Pick Up Truck",2900429,913259368,"2018-11-03","Marrianna FL",286,{"$f":"VLOOKUP(E85,'C.1 - Rate Sheets'!H:I,2,FALSE)","v":0.77},220.22,{"$f":"IF(AND(H85>='A - Contractor Summary'!$C$36,H85<='A - Contractor Summary'!$C$38),\"Yes\",IF(H85<'A - Contractor Summary'!$C$36,\"No\",IF(H85>'A - Contractor Summary'!$C$39,\"\",\"\")))","v":"No"},null,{"$f":"IF(AND(J85>PRODUCT('A - Contractor Summary'!$C$29,0.85),J85<PRODUCT('A - Contractor Summary'!$C$29,1.15)),\"Yes\",\"No\")","v":"No"},null,"No",220.22,0,null,null,1]
[null,71,"Spreadsheet","Vendor No. 6","Mileage Pick Up Truck",2202033,913293325,"2018-11-03","Easley SC",346,{"$f":"VLOOKUP(E86,'C.1 - Rate Sheets'!H:I,2,FALSE)","v":0.77},266.42,{"$f":"IF(AND(H86>='A - Contractor Summary'!$C$36,H86<='A - Contractor Summary'!$C$38),\"Yes\",IF(H86<'A - Contractor Summary'!$C$36,\"No\",IF(H86>'A - Contractor Summary'!$C$39,\"\",\"\")))","v":"No"},null,{"$f":"IF(AND(J86>PRODUCT('A - Contractor Summary'!$C$29,0.85),J86<PRODUCT('A - Contractor Summary'!$C$29,1.15)),\"Yes\",\"No\")","v":"No"},null,"No",266.42,0,null,null,1]
[null,72,"Spreadsheet","Vendor No. 6","Mileage Pick Up Truck",9818468,913301066,"2018-11-03","Sylva NC",397,{"$f":"VLOOKUP(E87,'C.1 - Rate Sheets'!H:I,2,FALSE)","v":0.77},305.69,{"$f":"IF(AND(H87>='A - Contractor Summary'!$C$36,H87<='A - Contractor Summary'!$C$38),\"Yes\",IF(H87<'A - Contractor Summary'!$C$36,\"No\",IF(H87>'A - Contractor Summary'!$C$39,\"\",\"\")))","v":"No"},null,{"$f":"IF(AND(J87>PRODUCT('A - Contractor Summary'!$C$29,0.85),J87<PRODUCT('A - Contractor Summary'!$C$29,1.15)),\"Yes\",\"No\")","v":"No"},null,"No",305.69,0,null,null,1]
[null,73,"Spreadsheet","Vendor No. 6","Mileage Pick Up Truck",9818245,913301068,"2018-11-03","Willis TX",654,{"$f":"VLOOKUP(E88,'C.1 - Rate Sheets'!H:I,2,FALSE)","v":0.77},503.58,{"$f":"IF(AND(H88>='A - Contractor Summary'!$C$36,H88<='A - Contractor Summary'!$C$38),\"Yes\",IF(H88<'A - Contractor Summary'!$C$36,\"No\",IF(H88>'A - Contractor Summary'!$C$39,\"\",\"\")))","v":"No"},null,{"$f":"IF(AND(J88>PRODUCT('A - Contractor Summary'!$C$29,0.85),J88<PRODUCT('A - Contractor Summary'!$C$29,1.15)),\"Yes\",\"No\")","v":"No"},null,"No",503.58,0,null,null,1]
[null,74,"Spreadsheet","Vendor No. 6","Mileage Pick Up Truck",9818464,913301069,"2018-11-03","Rimersburg PA",1014,{"$f":"VLOOKUP(E89,'C.1 - Rate Sheets'!H:I,2,FALSE)","v":0.77},780.78,{"$f":"IF(AND(H89>='A - Contractor Summary'!$C$36,H89<='A - Contractor Summary'!$C$38),\"Yes\",IF(H89<'A - Contractor Summary'!$C$36,\"No\",IF(H89>'A - Contractor Summary'!$C$39,\"\",\"\")))","v":"No"},null,{"$f":"IF(AND(J89>PRODUCT('A - Contractor Summary'!$C$29,0.85),J89<PRODUCT('A - Contractor Summary'!$C$29,1.15)),\"Yes\",\"No\")","v":"No"},null,"No",780.78,0,null,null,1]
[null,75,"Spreadsheet","Vendor No. 6","Mileage Aerial Lift < 60'",3000759,913243149,"2018-11-10","Ocala FL",248,{"$f":"VLOOKUP(E90,'C.1 - Rate Sheets'!H:I,2,FALSE)","v":1.24},307.52,{"$f":"IF(AND(H90>='A - Contractor Summary'!$C$36,H90<='A - Contractor Summary'!$C$38),\"Yes\",IF(H90<'A - Contractor Summary'!$C$36,\"No\",IF(H90>'A - Contractor Summary'!$C$39,\"\",\"\")))","v":"No"},null,{"$f":"IF(AND(J90>PRODUCT('A - Contractor Summary'!$C$29,0.85),J90<PRODUCT('A - Contractor Summary'!$C$29,1.15)),\"Yes\",\"No\")","v":"No"},null,"No",307.52,0,null,null,1]
[null,76,"Spreadsheet","Vendor No. 6","Mileage Aerial Lift < 60'",3002784,913243150,"2018-11-10","Ocala FL",248,{"$f":"VLOOKUP(E91,'C.1 - Rate Sheets'!H:I,2,FALSE)","v":1.24},307.52,{"$f":"IF(AND(H91>='A - Contractor Summary'!$C$36,H91<='A - Contractor Summary'!$C$38),\"Yes\",IF(H91<'A - Contractor Summary'!$C$36,\"No\",IF(H91>'A - Contractor Summary'!$C$39,\"\",\"\")))","v":"No"},null,{"$f":"IF(AND(J91>PRODUCT('A - Contractor Summary'!$C$29,0.85),J91<PRODUCT('A - Contractor Summary'!$C$29,1.15)),\"Yes\",\"No\")","v":"No"},null,"No",307.52,0,null,null,1]
[null,77,"Spreadsheet","Vendor No. 6","Mileage Pick Up Truck",2900271,913243151,"2018-11-10","Ocala FL",248,{"$f":"VLOOKUP(E92,'C.1 - Rate Sheets'!H:I,2,FALSE)","v":0.77},190.96,{"$f":"IF(AND(H92>='A - Contractor Summary'!$C$36,H92<='A - Contractor Summary'!$C$38),\"Yes\",IF(H92<'A - Contractor Summary'!$C$36,\"No\",IF(H92>'A - Contractor Summary'!$C$39,\"\",\"\")))","v":"No"},null,{"$f":"IF(AND(J92>PRODUCT('A - Contractor Summary'!$C$29,0.85),J92<PRODUCT('A - Contractor Summary'!$C$29,1.15)),\"Yes\",\"No\")","v":"No"},null,"No",190.96,0,null,null,1]
[null,78,"Spreadsheet","Vendor No. 6","Mileage Aerial Lift < 60'",null,913243152,"2018-11-10",null,248,{"$f":"VLOOKUP(E93,'C.1 - Rate Sheets'!H:I,2,FALSE)","v":1.24},307.52,{"$f":"IF(AND(H93>='A - Contractor Summary'!$C$36,H93<='A - Contractor Summary'!$C$38),\"Yes\",IF(H93<'A - Contractor Summary'!$C$36,\"No\",IF(H93>'A - Contractor Summary'!$C$39,\"\",\"\")))","v":"No"},null,{"$f":"IF(AND(J93>PRODUCT('A - Contractor Summary'!$C$29,0.85),J93<PRODUCT('A - Contractor Summary'!$C$29,1.15)),\"Yes\",\"No\")","v":"No"},null,"No",307.52,0,null,null,1]
[null,79,"Spreadsheet","Vendor No. 6","Mileage Aerial Lift < 60'",3002786,913243153,"2018-11-10","Ocala FL",248,{"$f":"VLOOKUP(E94,'C.1 - Rate Sheets'!H:I,2,FALSE)","v":1.24},307.52,{"$f":"IF(AND(H94>='A - Contractor Summary'!$C$36,H94<='A - Contractor Summary'!$C$38),\"Yes\",IF(H94<'A - Contractor Summary'!$C$36,\"No\",IF(H94>'A - Contractor Summary'!$C$39,\"\",\"\")))","v":"No"},null,{"$f":"IF(AND(J94>PRODUCT('A - Contractor Summary'!$C$29,0.85),J94<PRODUCT('A - Contractor Summary'!$C$29,1.15)),\"Yes\",\"No\")","v":"No"},null,"No",307.52,0,null,null,1]
[null,80,"Spreadsheet","Vendor No. 6","Mileage Aerial Lift < 60'",3300091,913243156,"2018-11-10","Ocala FL",248,{"$f":"VLOOKUP(E95,'C.1 - Rate Sheets'!H:I,2,FALSE)","v":1.24},307.52,{"$f":"IF(AND(H95>='A - Contractor Summary'!$C$36,H95<='A - Contractor Summary'!$C$38),\"Yes\",IF(H95<'A - Contractor Summary'!$C$36,\"No\",IF(H95>'A - Contractor Summary'!$C$39,\"\",\"\")))","v":"No"},null,{"$f":"IF(AND(J95>PRODUCT('A - Contractor Summary'!$C$29,0.85),J95<PRODUCT('A - Contractor Summary'!$C$29,1.15)),\"Yes\",\"No\")","v":"No"},null,"No",307.52,0,null,null,1]
[null,81,"Spreadsheet","Vendor No. 6","Mileage Aerial Lift > 60'",3200798,913243158,"2018-11-10","Ocala FL",248,{"$f":"VLOOKUP(E96,'C.1 - Rate Sheets'!H:I,2,FALSE)","v":1.29},319.92,{"$f":"IF(AND(H96>='A - Contractor Summary'!$C$36,H96<='A - Contractor Summary'!$C$38),\"Yes\",IF(H96<'A - Contractor Summary'!$C$36,\"No\",IF(H96>'A - Contractor Summary'!$C$39,\"\",\"\")))","v":"No"},null,{"$f":"IF(AND(J96>PRODUCT('A - Contractor Summary'!$C$29,0.85),J96<PRODUCT('A - Contractor Summary'!$C$29,1.15)),\"Yes\",\"No\")","v":"No"},null,"No",319.92,0,null,null,1]
[null,82,"Spreadsheet","Vendor No. 6","Mileage Aerial Lift < 60'",3001037,913243160,"2018-11-10","Ocala FL",248,{"$f":"VLOOKUP(E97,'C.1 - Rate Sheets'!H:I,2,FALSE)","v":1.24},307.52,{"$f":"IF(AND(H97>='A - Contractor Summary'!$C$36,H97<='A - Contractor Summary'!$C$38),\"Yes\",IF(H97<'A - Contractor Summary'!$C$36,\"No\",IF(H97>'A - Contractor Summary'!$C$39,\"\",\"\")))","v":"No"},null,{"$f":"IF(AND(J97>PRODUCT('A - Contractor Summary'!$C$29,0.85),J97<PRODUCT('A - Contractor Summary'!$C$29,1.15)),\"Yes\",\"No\")","v":"No"},null,"No",307.52,0,null,null,1]
[null,83,"Spreadsheet","Vendor No. 6","Mileage Aerial Lift > 60'",3002420,913243328,"2018-11-10","Irmo SC",398,{"$f":"VLOOKUP(E98,'C.1 - Rate Sheets'!H:I,2,FALSE)","v":1.29},513.41999999999996,{"$f":"IF(AND(H98>='A - Contractor Summary'!$C$36,H98<='A - Contractor Summary'!$C$38),\"Yes\",IF(H98<'A - Contractor Summary'!$C$36,\"No\",IF(H98>'A - Contractor Summary'!$C$39,\"\",\"\")))","v":"No"},null,{"$f":"IF(AND(J98>PRODUCT('A - Contractor Summary'!$C$29,0.85),J98<PRODUCT('A - Contractor Summary'!$C$29,1.15)),\"Yes\",\"No\")","v":"No"},null,{"$f":"IF(AND(P98=\"Yes\",O98=\"Yes\")*OR(N98=\"Yes\",M98=\"Yes\"),\"Yes\",IF(OR(M98=\"No\",N98=\"No\",P98=\"No\",O98=\"No\"),\"No\",\"Needs Review\"))","v":"No"},513.41999999999996,{"$f":"IF(Q98=\"Needs Review\",L98,0)","v":0},null,null,1]
[null,84,"Spreadsheet","Vendor No. 6","Mileage Aerial Lift > 60'",null,913243330,"2018-11-10","Irmo SC",398,{"$f":"VLOOKUP(E99,'C.1 - Rate Sheets'!H:I,2,FALSE)","v":1.29},513.41999999999996,{"$f":"IF(AND(H99>='A - Contractor Summary'!$C$36,H99<='A - Contractor Summary'!$C$38),\"Yes\",IF(H99<'A - Contractor Summary'!$C$36,\"No\",IF(H99>'A - Contractor Summary'!$C$39,\"\",\"\")))","v":"No"},null,{"$f":"IF(AND(J99>PRODUCT('A - Contractor Summary'!$C$29,0.85),J99<PRODUCT('A - Contractor Summary'!$C$29,1.15)),\"Yes\",\"No\")","v":"No"},null,"No",513.41999999999996,0,null,null,1]
[null,85,"Spreadsheet","Vendor No. 6","Mileage Aerial Lift > 60'",null,913243332,"2018-11-10","Irmo SC",398,{"$f":"VLOOKUP(E100,'C.1 - Rate Sheets'!H:I,2,FALSE)","v":1.29},513.41999999999996,{"$f":"IF(AND(H100>='A - Contractor Summary'!$C$36,H100<='A - Contractor Summary'!$C$38),\"Yes\",IF(H100<'A - Contractor Summary'!$C$36,\"No\",IF(H100>'A - Contractor Summary'!$C$39,\"\",\"\")))","v":"No"},null,{"$f":"IF(AND(J100>PRODUCT('A - Contractor Summary'!$C$29,0.85),J100<PRODUCT('A - Contractor Summary'!$C$29,1.15)),\"Yes\",\"No\")","v":"No"},null,"No",513.41999999999996,0,null,null,1]
[null,86,"Spreadsheet","Vendor No. 6","Mileage Pick Up Truck",2900454,913243334,"2018-11-10","Hacenville AL",273,{"$f":"VLOOKUP(E101,'C.1 - Rate Sheets'!H:I,2,FALSE)","v":0.77},210.21,{"$f":"IF(AND(H101>='A - Contractor Summary'!$C$36,H101<='A - Contractor Summary'!$C$38),\"Yes\",IF(H101<'A - Contractor Summary'!$C$36,\"No\",IF(H101>'A - Contractor Summary'!$C$39,\"\",\"\")))","v":"No"},null,{"$f":"IF(AND(J101>PRODUCT('A - Contractor Summary'!$C$29,0.85),J101<PRODUCT('A - Contractor Summary'!$C$29,1.15)),\"Yes\",\"No\")","v":"No"},null,"No",210.21,0,null,null,1]
[null,87,"Spreadsheet","Vendor No. 6","Mileage Aerial Lift < 60'",3100448,913243334,"2018-11-10","Hacenville AL",273,{"$f":"VLOOKUP(E102,'C.1 - Rate Sheets'!H:I,2,FALSE)","v":1.24},338.52,{"$f":"IF(AND(H102>='A - Contractor Summary'!$C$36,H102<='A - Contractor Summary'!$C$38),\"Yes\",IF(H102<'A - Contractor Summary'!$C$36,\"No\",IF(H102>'A - Contractor Summary'!$C$39,\"\",\"\")))","v":"No"},null,{"$f":"IF(AND(J102>PRODUCT('A - Contractor Summary'!$C$29,0.85),J102<PRODUCT('A - Contractor Summary'!$C$29,1.15)),\"Yes\",\"No\")","v":"No"},null,"No",338.52,0,null,null,1]
[null,88,"Spreadsheet","Vendor No. 6","Mileage Aerial Lift < 60'",3100445,913243334,"2018-11-10","Hacenville AL",273,{"$f":"VLOOKUP(E103,'C.1 - Rate Sheets'!H:I,2,FALSE)","v":1.24},338.52,{"$f":"IF(AND(H103>='A - Contractor Summary'!$C$36,H103<='A - Contractor Summary'!$C$38),\"Yes\",IF(H103<'A - Contractor Summary'!$C$36,\"No\",IF(H103>'A - Contractor Summary'!$C$39,\"\",\"\")))","v":"No"},null,{"$f":"IF(AND(J103>PRODUCT('A - Contractor Summary'!$C$29,0.85),J103<PRODUCT('A - Contractor Summary'!$C$29,1.15)),\"Yes\",\"No\")","v":"No"},null,"No",338.52,0,null,null,1]
[null,89,"Spreadsheet","Vendor No. 6","Mileage Aerial Lift > 60'",15011373,913243339,"2018-11-10","Irmo SC",398,{"$f":"VLOOKUP(E104,'C.1 - Rate Sheets'!H:I,2,FALSE)","v":1.29},513.41999999999996,{"$f":"IF(AND(H104>='A - Contractor Summary'!$C$36,H104<='A - Contractor Summary'!$C$38),\"Yes\",IF(H104<'A - Contractor Summary'!$C$36,\"No\",IF(H104>'A - Contractor Summary'!$C$39,\"\",\"\")))","v":"No"},null,{"$f":"IF(AND(J104>PRODUCT('A - Contractor Summary'!$C$29,0.85),J104<PRODUCT('A - Contractor Summary'!$C$29,1.15)),\"Yes\",\"No\")","v":"No"},null,"No",513.41999999999996,0,null,null,1]
[null,90,"Spreadsheet","Vendor No. 6","Mileage Aerial Lift < 60'",null,913259300,"2018-11-10","Marrianna FL",610,{"$f":"VLOOKUP(E105,'C.1 - Rate Sheets'!H:I,2,FALSE)","v":1.24},756.4,{"$f":"IF(AND(H105>='A - Contractor Summary'!$C$36,H105<='A - Contractor Summary'!$C$38),\"Yes\",IF(H105<'A - Contractor Summary'!$C$36,\"No\",IF(H105>'A - Contractor Summary'!$C$39,\"\",\"\")))","v":"No"},null,{"$f":"IF(AND(J105>PRODUCT('A - Contractor Summary'!$C$29,0.85),J105<PRODUCT('A - Contractor Summary'!$C$29,1.15)),\"Yes\",\"No\")","v":"No"},null,"No",756.4,0,null,null,1]
[null,91,"Spreadsheet","Vendor No. 6","Mileage Aerial Lift < 60'",3200891,913259306,"2018-11-10","Marrianna FL",610,{"$f":"VLOOKUP(E106,'C.1 - Rate Sheets'!H:I,2,FALSE)","v":1.24},756.4,{"$f":"IF(AND(H106>='A - Contractor Summary'!$C$36,H106<='A - Contractor Summary'!$C$38),\"Yes\",IF(H106<'A - Contractor Summary'!$C$36,\"No\",IF(H106>'A - Contractor Summary'!$C$39,\"\",\"\")))","v":"No"},null,{"$f":"IF(AND(J106>PRODUCT('A - Contractor Summary'!$C$29,0.85),J106<PRODUCT('A - Contractor Summary'!$C$29,1.15)),\"Yes\",\"No\")","v":"No"},null,"No",756.4,0,null,null,1]
[null,92,"Spreadsheet","Vendor No. 6","Mileage Pick Up Truck",2900382,913280569,"2018-11-10","Marion VA",610,{"$f":"VLOOKUP(E107,'C.1 - Rate Sheets'!H:I,2,FALSE)","v":0.77},469.7,{"$f":"IF(AND(H107>='A - Contractor Summary'!$C$36,H107<='A - Contractor Summary'!$C$38),\"Yes\",IF(H107<'A - Contractor Summary'!$C$36,\"No\",IF(H107>'A - Contractor Summary'!$C$39,\"\",\"\")))","v":"No"},null,{"$f":"IF(AND(J107>PRODUCT('A - Contractor Summary'!$C$29,0.85),J107<PRODUCT('A - Contractor Summary'!$C$29,1.15)),\"Yes\",\"No\")","v":"No"},null,"No",469.7,0,null,null,1]
[null,93,"Spreadsheet","Vendor No. 6","Mileage Aerial Lift < 60'",null,913280571,"2018-11-10",null,610,{"$f":"VLOOKUP(E108,'C.1 - Rate Sheets'!H:I,2,FALSE)","v":1.24},756.4,{"$f":"IF(AND(H108>='A - Contractor Summary'!$C$36,H108<='A - Contractor Summary'!$C$38),\"Yes\",IF(H108<'A - Contractor Summary'!$C$36,\"No\",IF(H108>'A - Contractor Summary'!$C$39,\"\",\"\")))","v":"No"},null,{"$f":"IF(AND(J108>PRODUCT('A - Contractor Summary'!$C$29,0.85),J108<PRODUCT('A - Contractor Summary'!$C$29,1.15)),\"Yes\",\"No\")","v":"No"},null,"No",756.4,0,null,null,1]
[null,94,"Spreadsheet","Vendor No. 6","Mileage Aerial Lift < 60'",3100421,913346329,"2018-11-10","Wetumpka AL",154,{"$f":"VLOOKUP(E109,'C.1 - Rate Sheets'!H:I,2,FALSE)","v":1.24},190.96,{"$f":"IF(AND(H109>='A - Contractor Summary'!$C$36,H109<='A - Contractor Summary'!$C$38),\"Yes\",IF(H109<'A - Contractor Summary'!$C$36,\"No\",IF(H109>'A - Contractor Summary'!$C$39,\"\",\"\")))","v":"No"},null,{"$f":"IF(AND(J109>PRODUCT('A - Contractor Summary'!$C$29,0.85),J109<PRODUCT('A - Contractor Summary'!$C$29,1.15)),\"Yes\",\"No\")","v":"No"},null,"No",190.96,0,null,null,1]
[null,95,"Spreadsheet","Vendor No. 6","Mileage Aerial Lift > 60'",3100403,913346329,"2018-11-10","Wetumpka AL",154,{"$f":"VLOOKUP(E110,'C.1 - Rate Sheets'!H:I,2,FALSE)","v":1.29},198.66,{"$f":"IF(AND(H110>='A - Contractor Summary'!$C$36,H110<='A - Contractor Summary'!$C$38),\"Yes\",IF(H110<'A - Contractor Summary'!$C$36,\"No\",IF(H110>'A - Contractor Summary'!$C$39,\"\",\"\")))","v":"No"},null,{"$f":"IF(AND(J110>PRODUCT('A - Contractor Summary'!$C$29,0.85),J110<PRODUCT('A - Contractor Summary'!$C$29,1.15)),\"Yes\",\"No\")","v":"No"},null,"No",198.66,0,null,null,1]
[null,null,"Spreadsheet","Vendor No. 6","Mileage Aerial Lift < 60'",30019616,913222888,"2018-11-03",null,320,{"$f":"VLOOKUP(E111,'C.1 - Rate Sheets'!H:I,2,FALSE)","v":1.24},396.8,{"$f":"IF(AND(H111>='A - Contractor Summary'!$C$36,H111<='A - Contractor Summary'!$C$38),\"Yes\",IF(H111<'A - Contractor Summary'!$C$36,\"No\",IF(H111>'A - Contractor Summary'!$C$39,\"\",\"\")))","v":"No"},null,{"$f":"IF(AND(J111>PRODUCT('A - Contractor Summary'!$C$29,0.85),J111<PRODUCT('A - Contractor Summary'!$C$29,1.15)),\"Yes\",\"No\")","v":"No"},null,{"$f":"IF(AND(P111=\"Yes\",O111=\"Yes\")*OR(N111=\"Yes\",M111=\"Yes\"),\"Yes\",IF(OR(M111=\"No\",N111=\"No\",P111=\"No\",O111=\"No\"),\"No\",\"Needs Review\"))","v":"No"},{"$f":"+L111","v":396.8},{"$f":"IF(Q111=\"Needs Review\",L111,0)","v":0}]
[null,null,"Spreadsheet","Vendor No. 6","Mileage Aerial Lift < 60'",3002417,913222891,"2018-11-03",null,320,{"$f":"VLOOKUP(E112,'C.1 - Rate Sheets'!H:I,2,FALSE)","v":1.24},{"$f":"J112*K112","v":396.8},{"$f":"IF(AND(H112>='A - Contractor Summary'!$C$36,H112<='A - Contractor Summary'!$C$38),\"Yes\",IF(H112<'A - Contractor Summary'!$C$36,\"No\",IF(H112>'A - Contractor Summary'!$C$39,\"\",\"\")))","v":"No"},{"$f":"IF(OR(M112=\"Yes\",M112=\"No\")*AND(H112<'A - Contractor Summary'!$C$39),\"\",IF(AND(H112>'A - Contractor Summary'!$C$39,H112<'A - Contractor Summary'!$C$42),\"Yes\",IF(H112>'A - Contractor Summary'!$C$42,\"No\",\"Needs Review\")))","v":""},{"$f":"IF(AND(J112>PRODUCT('A - Contractor Summary'!$C$29,0.85),J112<PRODUCT('A - Contractor Summary'!$C$29,1.15)),\"Yes\",\"No\")","v":"No"},null,"No",396.8,{"$f":"IF(Q112=\"ED Review\",#REF!,0)","v":0}]
[null,null,"Spreadsheet","Vendor No. 6","Mileage Pick Up Truck",1900015,913225341,"2019-11-03",null,320,{"$f":"VLOOKUP(E113,'C.1 - Rate Sheets'!H:I,2,FALSE)","v":0.77},246.4,{"$f":"IF(AND(H113>='A - Contractor Summary'!$C$36,H113<='A - Contractor Summary'!$C$38),\"Yes\",IF(H113<'A - Contractor Summary'!$C$36,\"No\",IF(H113>'A - Contractor Summary'!$C$39,\"\",\"\")))","v":"No"},null,{"$f":"IF(AND(J113>PRODUCT('A - Contractor Summary'!$C$29,0.85),J113<PRODUCT('A - Contractor Summary'!$C$29,1.15)),\"Yes\",\"No\")","v":"No"},null,"No",246.4,{"$f":"IF(Q113=\"Needs Review\",L113,0)","v":0}]
[null,null,"Spreadsheet","Vendor No. 6","Mileage Pick Up Truck",2900147,913243903,"2019-11-03",null,346,{"$f":"VLOOKUP(E114,'C.1 - Rate Sheets'!H:I,2,FALSE)","v":0.77},266.42,{"$f":"IF(AND(H114>='A - Contractor Summary'!$C$36,H114<='A - Contractor Summary'!$C$38),\"Yes\",IF(H114<'A - Contractor Summary'!$C$36,\"No\",IF(H114>'A - Contractor Summary'!$C$39,\"\",\"\")))","v":"No"},{"$f":"IF(OR(M114=\"Yes\",M114=\"No\")*AND(H114<'A - Contractor Summary'!$C$39),\"\",IF(AND(H114>'A - Contractor Summary'!$C$39,H114<'A - Contractor Summary'!$C$42),\"Yes\",IF(H114>'A - Contractor Summary'!$C$42,\"No\",\"Needs Review\")))","v":"No"},{"$f":"IF(AND(J114>PRODUCT('A - Contractor Summary'!$C$29,0.85),J114<PRODUCT('A - Contractor Summary'!$C$29,1.15)),\"Yes\",\"No\")","v":"No"},null,"No",266.42,{"$f":"IF(Q114=\"ED Review\",#REF!,0)","v":0}]
[null,null,"Spreadsheet","Vendor No. 6","Mileage Aerial Lift < 60'",3002369,913259181,"2019-11-03",null,443,{"$f":"VLOOKUP(E115,'C.1 - Rate Sheets'!H:I,2,FALSE)","v":1.24},549.32000000000005,{"$f":"IF(AND(H115>='A - Contractor Summary'!$C$36,H115<='A - Contractor Summary'!$C$38),\"Yes\",IF(H115<'A - Contractor Summary'!$C$36,\"No\",IF(H115>'A - Contractor Summary'!$C$39,\"\",\"\")))","v":"No"},null,{"$f":"IF(AND(J115>PRODUCT('A - Contractor Summary'!$C$29,0.85),J115<PRODUCT('A - Contractor Summary'!$C$29,1.15)),\"Yes\",\"No\")","v":"No"},null,"No",549.32000000000005,{"$f":"IF(Q115=\"Needs Review\",L115,0)","v":0},null,{"$f":"571.47-549.32","v":22.149999999999977},"rate charged 1.24 vs 1.29",null,571.47]
[null,null,"Spreadsheet","Vendor No. 6","Mileage Pick Up Truck",null,913259235,"2018-12-04",null,640,{"$f":"VLOOKUP(E116,'C.1 - Rate Sheets'!H:I,2,FALSE)","v":0.77},492.8,{"$f":"IF(AND(H116>='A - Contractor Summary'!$C$36,H116<='A - Contractor Summary'!$C$38),\"Yes\",IF(H116<'A - Contractor Summary'!$C$36,\"No\",IF(H116>'A - Contractor Summary'!$C$39,\"\",\"\")))","v":"No"},{"$f":"IF(OR(M116=\"Yes\",M116=\"No\")*AND(H116<'A - Contractor Summary'!$C$39),\"\",IF(AND(H116>'A - Contractor Summary'!$C$39,H116<'A - Contractor Summary'!$C$42),\"Yes\",IF(H116>'A - Contractor Summary'!$C$42,\"No\",\"Needs Review\")))","v":"No"},{"$f":"IF(AND(J116>PRODUCT('A - Contractor Summary'!$C$29,0.85),J116<PRODUCT('A - Contractor Summary'!$C$29,1.15)),\"Yes\",\"No\")","v":"No"},null,"No",492.8,{"$f":"IF(Q116=\"ED Review\",#REF!,0)","v":0}]
[null,null,"Spreadsheet","Vendor No. 6","Mileage Manual Crew Truck",null,913259255,"2018-12-04",null,640,{"$f":"VLOOKUP(E117,'C.1 - Rate Sheets'!H:I,2,FALSE)","v":0.96},614.4,{"$f":"IF(AND(H117>='A - Contractor Summary'!$C$36,H117<='A - Contractor Summary'!$C$38),\"Yes\",IF(H117<'A - Contractor Summary'!$C$36,\"No\",IF(H117>'A - Contractor Summary'!$C$39,\"\",\"\")))","v":"No"},null,{"$f":"IF(AND(J117>PRODUCT('A - Contractor Summary'!$C$29,0.85),J117<PRODUCT('A - Contractor Summary'!$C$29,1.15)),\"Yes\",\"No\")","v":"No"},null,"No",614.4,{"$f":"IF(Q117=\"Needs Review\",L117,0)","v":0}]
[null,null,"Spreadsheet","Vendor No. 6","Mileage Pick Up Truck",null,913259255,"2018-12-04",null,640,{"$f":"VLOOKUP(E118,'C.1 - Rate Sheets'!H:I,2,FALSE)","v":0.77},492.8,{"$f":"IF(AND(H118>='A - Contractor Summary'!$C$36,H118<='A - Contractor Summary'!$C$38),\"Yes\",IF(H118<'A - Contractor Summary'!$C$36,\"No\",IF(H118>'A - Contractor Summary'!$C$39,\"\",\"\")))","v":"No"},{"$f":"IF(OR(M118=\"Yes\",M118=\"No\")*AND(H118<'A - Contractor Summary'!$C$39),\"\",IF(AND(H118>'A - Contractor Summary'!$C$39,H118<'A - Contractor Summary'!$C$42),\"Yes\",IF(H118>'A - Contractor Summary'!$C$42,\"No\",\"Needs Review\")))","v":"No"},{"$f":"IF(AND(J118>PRODUCT('A - Contractor Summary'!$C$29,0.85),J118<PRODUCT('A - Contractor Summary'!$C$29,1.15)),\"Yes\",\"No\")","v":"No"},null,"No",492.8,{"$f":"IF(Q118=\"ED Review\",#REF!,0)","v":0}]
[null,null,"Spreadsheet","Vendor No. 6","Mileage Aerial Lift < 60'",null,913601157,"2018-10-20",null,633,{"$f":"VLOOKUP(E119,'C.1 - Rate Sheets'!H:I,2,FALSE)","v":1.24},{"$f":"J119*K119","v":784.92},{"$f":"IF(AND(H119>='A - Contractor Summary'!$C$36,H119<='A - Contractor Summary'!$C$38),\"Yes\",IF(H119<'A - Contractor Summary'!$C$36,\"No\",IF(H119>'A - Contractor Summary'!$C$39,\"\",\"\")))","v":"No"},{"$f":"IF(OR(M119=\"Yes\",M119=\"No\")*AND(H119<'A - Contractor Summary'!$C$39),\"\",IF(AND(H119>'A - Contractor Summary'!$C$39,H119<'A - Contractor Summary'!$C$42),\"Yes\",IF(H119>'A - Contractor Summary'!$C$42,\"No\",\"Needs Review\")))","v":""},{"$f":"IF(AND(J119>PRODUCT('A - Contractor Summary'!$C$29,0.85),J119<PRODUCT('A - Contractor Summary'!$C$29,1.15)),\"Yes\",\"No\")","v":"No"},null,{"$f":"IF(AND(P119=\"Yes\",O119=\"Yes\")*OR(N119=\"Yes\",M119=\"Yes\"),\"Yes\",IF(OR(M119=\"No\",N119=\"No\",P119=\"No\",O119=\"No\"),\"No\",\"Needs Review\"))","v":"No"},{"$f":"+L119","v":784.92},{"$f":"IF(Q119=\"ED Review\",#REF!,0)","v":0},null,{"$f":"816.57-784.92","v":31.650000000000091},"rate charged 1.24 vs 1.29"]
[null,null,"Spreadsheet","Vendor No. 6","Mileage Aerial Lift < 60'",null,913601176,"2018-10-20",null,282,{"$f":"VLOOKUP(E120,'C.1 - Rate Sheets'!H:I,2,FALSE)","v":1.24},349.68,{"$f":"IF(AND(H120>='A - Contractor Summary'!$C$36,H120<='A - Contractor Summary'!$C$38),\"Yes\",IF(H120<'A - Contractor Summary'!$C$36,\"No\",IF(H120>'A - Contractor Summary'!$C$39,\"\",\"\")))","v":"No"},{"$f":"IF(OR(M120=\"Yes\",M120=\"No\")*AND(H120<'A - Contractor Summary'!$C$39),\"\",IF(AND(H120>'A - Contractor Summary'!$C$39,H120<'A - Contractor Summary'!$C$42),\"Yes\",IF(H120>'A - Contractor Summary'!$C$42,\"No\",\"Needs Review\")))","v":""},{"$f":"IF(AND(J120>PRODUCT('A - Contractor Summary'!$C$29,0.85),J120<PRODUCT('A - Contractor Summary'!$C$29,1.15)),\"Yes\",\"No\")","v":"No"},null,"No",349.68,{"$f":"IF(Q120=\"ED Review\",#REF!,0)","v":0}]
[null,null,"Spreadsheet","Vendor No. 6","Mileage Aerial Lift > 60'",null,913601176,"2018-10-20",null,282,{"$f":"VLOOKUP(E121,'C.1 - Rate Sheets'!H:I,2,FALSE)","v":1.29},363.78000000000003,{"$f":"IF(AND(H121>='A - Contractor Summary'!$C$36,H121<='A - Contractor Summary'!$C$38),\"Yes\",IF(H121<'A - Contractor Summary'!$C$36,\"No\",IF(H121>'A - Contractor Summary'!$C$39,\"\",\"\")))","v":"No"},{"$f":"IF(OR(M121=\"Yes\",M121=\"No\")*AND(H121<'A - Contractor Summary'!$C$39),\"\",IF(AND(H121>'A - Contractor Summary'!$C$39,H121<'A - Contractor Summary'!$C$42),\"Yes\",IF(H121>'A - Contractor Summary'!$C$42,\"No\",\"Needs Review\")))","v":""},{"$f":"IF(AND(J121>PRODUCT('A - Contractor Summary'!$C$29,0.85),J121<PRODUCT('A - Contractor Summary'!$C$29,1.15)),\"Yes\",\"No\")","v":"No"},null,"No",363.78000000000003,{"$f":"IF(Q121=\"ED Review\",#REF!,0)","v":0}]
[null,null,"Spreadsheet","Vendor No. 6","Mileage Aerial Lift > 60'",3200876,913601185,"2018-10-13",null,191,{"$f":"VLOOKUP(E122,'C.1 - Rate Sheets'!H:I,2,FALSE)","v":1.29},246.39000000000001,{"$f":"IF(AND(H122>='A - Contractor Summary'!$C$36,H122<='A - Contractor Summary'!$C$38),\"Yes\",IF(H122<'A - Contractor Summary'!$C$36,\"No\",IF(H122>'A - Contractor Summary'!$C$39,\"\",\"\")))","v":"No"},{"$f":"IF(OR(M122=\"Yes\",M122=\"No\")*AND(H122<'A - Contractor Summary'!$C$39),\"\",IF(AND(H122>'A - Contractor Summary'!$C$39,H122<'A - Contractor Summary'!$C$42),\"Yes\",IF(H122>'A - Contractor Summary'!$C$42,\"No\",\"Needs Review\")))","v":""},{"$f":"IF(AND(J122>PRODUCT('A - Contractor Summary'!$C$29,0.85),J122<PRODUCT('A - Contractor Summary'!$C$29,1.15)),\"Yes\",\"No\")","v":"No"},null,"No",246.39000000000001,{"$f":"IF(Q122=\"ED Review\",#REF!,0)","v":0}]
[null,null,null,null,null,null,null,null,null,null,null,{"$f":"SUM(L16:L122)","v":36581.504000000015},null,null,null,null,null,{"$f":"IFERROR(SUM(R16:R122),0)","v":36581.504000000015},{"$f":"IFERROR(SUM(S16:S122),0)","v":0},{"$f":"SUM(T16:T122)","v":0},{"$f":"SUM(U16:U122)","v":53.800000000000068},{"$f":"S123-T123-U123","v":-53.800000000000068},"check (a)"]
[]
[null,null,null,null,null,null,null,null,null,null,null,null,null,null,null,null,null,{"$f":"SUBTOTAL(9,R16:R122)","v":36581.504000000015}]
[]
[]
[]
[null,"Tickmark Explanation:"]
[null,null,"1 Support provided"]
[null,null,"2 Rounding in calculations on invoices"]