{"text_format":"1","workbook":"xlsx","n_sheets":14,"sheets":["Sign Off","A - Contractor Summary","A.1 SEE Members","B - Summary Expenses ","C.1 - Rate Sheets","C.2 - Timesheets - Labor","C.3 - Asset by Company","C.4 - Timesheets - Equipment","D - Lodging","E - Fuel","F - Meals","I - Other","G - Per Diem","H - Mileage"],"not_rendered":{"charts":0,"images":0,"macros":1,"external_links":3,"defined_names":9,"comments":0,"pivot_tables":0},"unopened":[],"bounds":{"document_bytes":16777216,"sheet_cells":100000,"rows_first":2000,"rows_last":500,"rows_between":2000,"halvings":0,"cell_chars":16384,"cell_head_chars":4096},"cells_cut":0,"cells_raw":0,"read":"whole","date_system":"1900"}

{"sheet":"Sign Off","index":0,"n_rows":19,"n_cols":5,"rows_kept":19,"cut":false,"hidden":false,"merged":[[1,1,1,4],[3,1,3,4],[10,1,10,4],[15,1,15,4]]}
[]
[null,"Sign Off's"]
[]
[null,"Accounting"]
[]
[null,null,"Name","Title","Date"]
[null,"Preparer","Mike Salassa","Sr. Business Planning Analyst","2019-11-25"]
[null,"Reviewer","William Adams","Financial Planning Manager","2020-01-13"]
[null,"Approver","N/A","N/A","N/A"]
[]
[null,"Audit Services"]
[]
[null,null,"Name","Title","Date"]
[null,"Preparer"]
[]
[null,"Energy Delivery"]
[]
[null,null,"Name","Title","Date"]
[null,"Final Reviewer"]

{"sheet":"A - Contractor Summary","index":1,"n_rows":121,"n_cols":13,"rows_kept":121,"cut":false,"hidden":false,"merged":[[1,1,1,3],[3,1,12,3],[22,6,26,6],[22,9,26,9]]}
[]
[null,"Contractor Summary"]
[]
[null,"Test Plan: (A) Using the drop down list, select the vendor.  (B) Ensure address agrees to invoice(s). (C) Enter the distance between vendor address to Plant City, FL.  (D) Determine if vendor is part of the SEE (see tab A.1 for listing). (E) Determine if other agreements exist.  (F) Using the drop down list, select the Incident Base that the vendor was initially assigned.  (G) If the contractor includes multiple crews with different timelines, utilize the '+' symbol at the top of columns 'H' and 'K' (if necessary) to unhide the vendor summary.  (H) Click the button to populate the second (and third, if necessary) set of tabs for documentation of those expenses.  (I) Complete steps (A) through (F)."]
[]
[]
[]
[]
[]
[]
[]
[]
[]
[null,null,null,null,null,"G",null,null,"G"]
[null,null,"Vendor #13",null,null,"Vendor #2",null,null,"Vendor #3"]
[]
[null,null,null,null,null,null,"H",null,null,"H"]
[]
[null,"Contractor/Company","Wolf Tree","A",null,null,"A",null,null,"A"]
[null,"SAP Vendor#",null,null,null,10044004,null,null,{"$f":"VLOOKUP(I19,#REF!,2,FALSE)","v":{"$error":"#REF!"}}]
[null,"Service Type","Distribution",null,null,"Transmission",null,null,{"$f":"VLOOKUP($I$19,#REF!,4,FALSE)","v":{"$error":"#REF!"}}]
[]
[null,"Address","3310 Greenway Drive","B",null,null,"B",null,{"$f":"VLOOKUP($I$19,#REF!,13,FALSE)","v":{"$error":"#REF!"}},"B"]
[null,"City","Knoxville",null,null,null,null,null,{"$f":"VLOOKUP($I$19,#REF!,14,FALSE)","v":{"$error":"#REF!"}}]
[null,"State/Providence","TN",null,null,null,null,null,{"$f":"VLOOKUP($I$19,#REF!,15,FALSE)","v":{"$error":"#REF!"}}]
[null,"Zip",37918,null,null,null,null,null,{"$f":"VLOOKUP($I$19,#REF!,16,FALSE)","v":{"$error":"#REF!"}}]
[null,"Country","US",null,null,"US",null,null,{"$f":"VLOOKUP($I$19,#REF!,17,FALSE)","v":{"$error":"#REF!"}}]
[]
[null,"Distance from FL (in miles)",null,"C",null,815,"C",null,800,"C"]
[null,"Travel Days (500 m/per day)",null,null,null,{"$f":"ROUNDUP(F29/500,0)","v":2},null,null,{"$f":"ROUNDUP(I29/500,0)","v":2}]
[]
[null,"Member of the SEE",null,"D",null,"NO","D",null,"NO","D"]
[null,"Other Agreement/Contract (Y/N)",null,"E",null,"NO","E",null,"NO","E"]
[null,"Incident Base",null,"F",null,"Winter Haven ","F",null,"Winter Haven ","F"]
[]
[null,"Date Secured",null,null,null,"2017-09-04",null,null,{"$f":"VLOOKUP($I$19,#REF!,6,FALSE)","v":{"$error":"#REF!"}}]
[null,"Start Travel",null,null,null,"N/A",null,null,{"$f":"VLOOKUP($I$19,#REF!,7,FALSE)","v":{"$error":"#REF!"}}]
[null,"Date Arrived",null,null,null,"2017-09-12",null,null,{"$f":"VLOOKUP($I$19,#REF!,8,FALSE)","v":{"$error":"#REF!"}}]
[null,"Date Released",null,null,null,"2017-09-13",null,null,{"$f":"VLOOKUP($I$19,#REF!,9,FALSE)","v":{"$error":"#REF!"}}]
[null,"Time Released",null,null,null,"16:27",null,null,{"$f":"VLOOKUP($I$19,#REF!,10,FALSE)","v":{"$error":"#REF!"}}]
[null,"Released To",null,null,null,"Home",null,null,{"$f":"VLOOKUP($I$19,#REF!,11,FALSE)","v":{"$error":"#REF!"}}]
[null,"Arrived Home/Utility*",null,null,null,"2017-09-15",null,null,{"$f":"IF(I41=\"home\",SUM(IF(I29>500,I39+I30,I39)),I39)","v":{"$error":"#REF!"}}]
[]
[]
[]
[]
[null,null,null,null,null,"C.1 - Rate Sheets (2)",null,null,"C.1 - Rate Sheets (3)"]
[null,null,null,null,null,"C.2 - Timesheets - Labor (2)",null,null,"C.2 - Timesheets - Labor (3)"]
[null,null,null,null,null,"C.4 - Timesheets - Equipmen (2)",null,null,"C.4 - Timesheets - Equipmen (3)"]
[null,null,null,null,null,"D - Lodging (2)",null,null,"D - Lodging (3)"]
[null,null,null,null,null,"E - Fuel (2)",null,null,"E - Fuel (3)"]
[null,null,null,null,null,"F - Meals (2)",null,null,"F - Meals (3)"]
[null,null,null,null,null,"G - Per Diem (2)",null,null,"G - Per Diem (3)"]
[null,null,null,null,null,"H - Mileage (2)",null,null,"H - Mileage (3)"]
[null,null,null,null,null,"I - Other (2)",null,null,"I - Other (3)"]
[]
[]
[]
[null,"*Estimates reasonable arrival time"]
[]
[null,"Tickmark Explanation: "]
[]
[]
[]
[]
[]
[]
[]
[null,"Invoice","Crew","Date Secured/Start Travel","Date Arrived in Service Area","Location","Mileage",null,null,"Number of Travel Days"]
[null,"SW008052","Maynard","2018-10-12","2018-10-12","unknown",387,null,null,1,null,null,"start location not annoted on invoice/time sheet"]
[null,"SW008054","Suggs","2018-10-12","2018-10-12","Mountain Electric, TN",582,null,null,1]
[null,"SW008053","Williams","2018-10-12","2018-10-12","unknown",582,null,null,1,null,null,"start location not annoted on invoice/time sheet"]
[null,"SW008055","Taylor","2018-10-12","2018-10-12","unknown",444,null,null,1,null,null,"start location not annoted on invoice/time sheet"]
[null,"SW008056","Anthony","2018-10-12","2018-10-12","unknown",444,null,null,1,null,null,"start location not annoted on invoice/time sheet"]
[null,"SW008062","Allison","2018-10-12","2018-10-12","unknown",387,null,null,1,null,null,"start location not annoted on invoice/time sheet"]
[null,"SW007752","Mullins","2018-10-12","2018-10-12","Tallahassee FL",71,null,null,1]
[null,"SW007709","Singleton","2018-10-12","2018-10-12","Tallahassee FL",71,null,null,1]
[null,"SW007716","Childress","2018-10-12","2018-10-12","Tallahassee FL",71,null,null,1]
[null,"SW007718","Patterson","2018-10-12","2018-10-12","Tallahassee FL",71,null,null,1]
[null,"SW007720","Houswrite","2018-10-12","2018-10-12","Tallahassee FL",71,null,null,1]
[null,"SW007754","Franklin","2018-10-17","2018-10-17","Tallahassee FL",71,null,null,1]
[null,"SW007757","Norten","2018-10-17","2018-10-17","Tallahassee FL",71,null,null,1]
[null,"SW007760","Collins","2018-10-17","2018-10-17","Tallahassee FL",71,null,null,1]
[null,"SW007766","Melan","2018-10-17","2018-10-17","Tallahassee FL",71,null,null,1]
[null,"SW007707","Brooks","2018-10-17","2018-10-17","Tallahassee FL",71,null,null,1]
[null,"SW007768","Carvel","2018-10-17","2018-10-17","Tallahassee FL",71,null,null,1]
[null,"SW007770","Dycard","2018-10-17","2018-10-17","Greenville TN",496,null,null,1]
[null,"SW007772","White","2018-10-17","2018-10-17","Dunn NC",567,null,null,1]
[null,"SW007775","Puckett","2018-10-17","2018-10-17","Dunn NC",567,null,null,1]
[null,5356275,"Hudson","2018-10-22","2018-10-22","unknown (Home)",80,null,null,1,null,null,"start location not annoted on invoice/time sheet"]
[null,5356276,"Wisham","2018-10-22","2018-10-22","unknown (Home)",80,null,null,1,null,null,"start location not annoted on invoice/time sheet"]
[null,5356277,"Hale","2018-10-22","2018-10-22","unknown (Home)",80,null,null,1,null,null,"start location not annoted on invoice/time sheet"]
[null,5356278,"Robison","2018-10-22","2018-10-22","unknown (Home)",80,null,null,1,null,null,"start location not annoted on invoice/time sheet"]
[null,5356279,"Hudson","2018-10-22","2018-10-22","unknown (Home)",80,null,null,1,null,null,"start location not annoted on invoice/time sheet"]
[null,5356280,"Hales","2018-10-22","2018-10-23","unknown (Home)",80,null,null,1,null,null,"start location not annoted on invoice/time sheet"]
[]
[null,null,null,"Date Released","Date arrived at home","Location","Mileage",null,null,"Number of Travel Days"]
[null,"SW007827","Brooks","2018-10-27","2018-10-27","Jefferson City, TN",462,"Return",null,1]
[null,"SW007829","Patterson","2018-10-27","2018-10-27","Jefferson City, TN",462,"Return",null,1]
[null,"SW007832","Singleton","2018-10-27","2018-10-27","Jefferson City, TN",462,"Return",null,1]
[null,"SW007834","Childress","2018-10-27","2018-10-27","Jefferson City, TN",462,"Return",null,1]
[null,"SW007906","Collins","2018-10-27","2018-10-27","Greeneville, TN",492,"Return",null,1]
[null,"SW008076","Allison","2018-10-27","2018-10-27","unknown (Home)",386,"Return",null,1,null,null,"stop location not annoted on invoice/time sheet"]
[null,"SW008077","Maynard","2018-10-27","2018-10-27","unknown (Home)",386,"Return",null,1,null,null,"stop location not annoted on invoice/time sheet"]
[null,"SW008078","Williams","2018-10-27","2018-10-27","unknown (Home)",532,"Return",null,1,null,null,"stop location not annoted on invoice/time sheet"]
[null,"SW008079","Suggs","2018-10-26","2018-10-26","unknown (Home)",532,"Return",null,1,null,null,"stop location not annoted on invoice/time sheet"]
[null,"SW008080","Anthony","2018-10-26","2018-10-26","unknown (Home)",486,"Return",null,1,null,null,"stop location not annoted on invoice/time sheet"]
[null,"SW008081","Taylor","2018-10-26","2018-10-26","unknown (Home)",486,"Return",null,1,null,null,"stop location not annoted on invoice/time sheet"]
[null,"SW007911","Mullins","2018-11-03","2018-11-03","Greenville, TN",492,"Return",null,1]
[null,"SW007913","Nuccio","2018-11-03","2018-11-03","Greenville, TN",492,"Return",null,1]
[null,"SW007915","Franklin","2018-11-03","2018-11-03","Greenville, TN",492,"Return",null,1]
[null,"SW007917","Carvel","2018-11-03","2018-11-03","Greenville, TN",492,"Return",null,1]
[null,"SW007919","Melan","2018-11-03","2018-11-03","Greenville, TN",492,"Return",null,1]
[null,"SW007921","Puckett","2018-11-03","2018-11-03","Dunn NC",567,"Return",null,1]
[null,"SW007923","White","2018-11-03","2018-11-03","Dunn NC",567,"Return",null,1]
[null,5356333,"Hudson","2018-11-03","2018-11-03","unknown (Home)",80,"Return",null,1,null,null,"stop location not annoted on invoice/time sheet"]
[null,5356334,"Hudson","2018-11-03","2018-11-03","unknown (Home)",80,"Return",null,1,null,null,"stop location not annoted on invoice/time sheet"]
[null,5356335,"Robison","2018-11-03","2018-11-03","unknown (Home)",80,"Return",null,1,null,null,"stop location not annoted on invoice/time sheet"]
[null,5356336,"Hale","2018-11-03","2018-11-03","unknown (Home)",80,"Return",null,1,null,null,"stop location not annoted on invoice/time sheet"]
[null,5356337,"Conley","2018-11-03","2018-11-03","unknown (Home)",80,"Return",null,1,null,null,"stop location not annoted on invoice/time sheet"]
[null,5356338,"Hale","2018-11-03","2018-11-03","unknown (Home)",80,"Return",null,1,null,null,"stop location not annoted on invoice/time sheet"]

{"sheet":"A.1 SEE Members","index":2,"n_rows":65,"n_cols":3,"rows_kept":65,"cut":false,"hidden":false,"merged":[]}
["RMAG","RESPONDING COMPANY","COMPANY NAME"]
["SEE"]
["SEE"]
["SEE"]
["SEE"]
["SEE"]
["SEE"]
["SEE"]
["SEE"]
["SEE"]
["SEE"]
["SEE"]
["SEE"]
["SEE"]
["SEE"]
["SEE"]
["SEE"]
["SEE"]
["SEE"]
[]
[]
[]
[]
["SEE"]
["SEE"]
["SEE"]
["SEE"]
["SEE"]
["SEE"]
[]
["SEE"]
["SEE"]
["SEE"]
["SEE"]
["SEE"]
[]
[]
[]
[]
["SEE"]
["SEE"]
["SEE"]
["SEE"]
[]
[]
[]
["SEE"]
[]
[]
[]
[]
[]
[]
[]
["SEE"]
["SEE"]
["SEE"]
[]
[]
[]
["SEE"]
[]
[]
["SEE"]
["SEE"]

{"sheet":"B - Summary Expenses ","index":3,"n_rows":150,"n_cols":8,"rows_kept":150,"cut":false,"hidden":false,"merged":[[1,1,1,7],[3,1,6,7],[30,1,30,4],[31,1,31,4]]}
[]
[null,"Summary of Expenses"]
[]
[null,"Test Plan: (A) Calculate Total Amount Invoiced for each expense category. (B) Using SAP t-code FBL1N, list Vendor Invoices Paid.  (C) Ensure there are no differences between the Total Expense Amount and the Total Paid Amount. (D) Ensure there are no difference between Total Invoiced Amount and Total Expense Amount.  (E) If applicable, identify difference due to Foreign currency exchange rates.  "]
[]
[]
[]
[]
[null,null,"A"]
[null,null,"Total Invoiced","Total Calculated","Allowable","Reviewed - Allowed","Reviewed - Not Allowable","Not Allowable"]
[null,"Labor Expense Total",706582.60000000033,{"$f":"'C.2 - Timesheets - Labor'!FC233","v":705557.89999999991},{"$f":"'C.2 - Timesheets - Labor'!FD233","v":705557.89999999991},{"$f":"'C.2 - Timesheets - Labor'!FG233","v":0},{"$f":"'C.2 - Timesheets - Labor'!FH233","v":1024.3000000000002},{"$f":"D11-(E11+F11+G11)","v":-1024.3000000000466}]
[null,"Equipment Expense Total",104100.96,{"$f":"'C.4 - Timesheets - Equipment'!AM81","v":104000.96000000001},{"$f":"'C.4 - Timesheets - Equipment'!AN81","v":104000.96000000001},{"$f":"'C.4 - Timesheets - Equipment'!AP81","v":0},{"$f":"'C.4 - Timesheets - Equipment'!AQ81","v":0},{"$f":"D12-(E12+F12+G12)","v":0}]
[null,"Lodging Expense Total",null,{"$f":"'D - Lodging'!L93","v":0},{"$f":"'D - Lodging'!T93","v":0},{"$f":"'D - Lodging'!V93","v":0},{"$f":"'D - Lodging'!W93","v":0},{"$f":"D13-(E13+F13+G13)","v":0}]
[null,"Fuel/Transport Expense Total",null,{"$f":"'E - Fuel'!J34","v":0},{"$f":"'E - Fuel'!Q34","v":0},{"$f":"'E - Fuel'!S34","v":0},{"$f":"'E - Fuel'!T34","v":0},0]
[null,"Meal Expense Total",null,{"$f":"'F - Meals'!K57","v":0},{"$f":"'F - Meals'!R57","v":0},{"$f":"'F - Meals'!T57","v":0},{"$f":"'F - Meals'!U57","v":0},0]
[null,"Per Diem Expense Total",1139.5,{"$f":"'G - Per Diem'!I60","v":1139.5},{"$f":"'G - Per Diem'!N60","v":1139.5},{"$f":"'G - Per Diem'!P60","v":0},{"$f":"'G - Per Diem'!Q60","v":0},0]
[null,"Mileage Expense Total",17955.87,{"$f":"+'H - Mileage'!L66","v":17955.870000000003},{"$f":"'H - Mileage'!R66","v":0},{"$f":"'H - Mileage'!T66","v":17955.870000000003},{"$f":"'H - Mileage'!U66","v":0},0]
[null,"Other Expense",null,{"$f":"'I - Other'!K24","v":0},{"$f":"+'I - Other'!R24","v":0},{"$f":"+'I - Other'!T24","v":0},{"$f":"+'I - Other'!U24","v":0},{"$f":"+'I - Other'!V24","v":0}]
[]
[null,"Total Expense per tabs",{"$f":"SUM(C11:C18)","v":829778.93000000028},{"$f":"SUM(D11:D18)","v":828654.22999999986},{"$f":"SUM(E11:E18)","v":810698.35999999987},{"$f":"SUM(F11:F18)","v":17955.870000000003},{"$f":"SUM(G11:G18)","v":1024.3000000000002},-1024.3000000000466]
[null,"Difference",{"$f":"IF(D21=0,\"\",\"1\")","v":"1"},{"$f":"C20-D20","v":1124.7000000004191},"D"]
[]
[null,"Total Expense ",null,{"$f":"+D20","v":828654.22999999986}," (from Total SAP Summary)"]
[null,"Total Paid",null,{"$f":"-D147","v":-829778.92999999993},"(from FBL1N in SAP)"]
[null,"Difference",{"$f":"IF(D25=0,\"\",SUM(C21,1))","v":1},{"$f":"+D23+D24","v":-1124.7000000000698},"C"," "]
[]
[null,"Exchange Rate"]
[null,"Fx Adjusted to USD",null,null," "]
[null,"Difference",{"$f":"IF(D29=0,\"\",\"3\")","v":""},null,"E"]
[]
[null,"B"]
[]
[null,"Document No ","Doc Date ","Amount","Reference"]
[null,"SW008052","2018-10-13",2263.23,673692,null,null," "]
[null,"SW008053","2018-10-13",3025.9799999999996,673693]
[null,"SW008054","2018-10-13",2143.6799999999998,673694]
[null,"SW008055","2018-10-13",2256.96,673695]
[null,"SW008056","2018-10-13",2256.96,673696]
[null,"SW008057","2018-10-13",2723.2,673697]
[null,"SW008058","2018-10-13",2723.2,673698]
[null,"SW008059","2018-10-13",3524.4,673699]
[null,"SW008060","2018-10-13",3204,673700]
[null,"SW008061","2018-10-13",3204,673701]
[null,"SW008062","2018-10-13",1537.49,673702]
[null,"SW008063","2018-10-13",1758.4,673703]
[null,"SW007707","2018-10-20",216.16,676298]
[null,"SW007708","2018-10-20",6244,676299]
[null,"SW007709","2018-10-20",298.64,676300]
[null,"SW007712","2018-10-20",9373.4000000000015,676301,1]
[null,"SW007716","2018-10-20",298.64,676303]
[null,"SW007717","2018-10-20",9712.6,676304,1]
[null,"SW007718","2018-10-20",298.64,676305]
[null,"SW007719","2018-10-20",9712.6,676306,1]
[null,"SW007720","2018-10-20",298.64,676307]
[null,"SW007721","2018-10-20",4851.8,676309,1]
[null,"SW007752","2018-10-20",216.16,676311]
[null,"SW007753","2018-10-20",6244,676312]
[null,"SW007754","2018-10-20",298.64,676313]
[null,"SW007755","2018-10-20",9120.6,676315]
[null,"SW007757","2018-10-20",282.04000000000002,676316]
[null,"SW007759","2018-10-20",6584.6,676317]
[null,"SW007760","2018-10-20",298.64,676318]
[null,"SW007761","2018-10-20",9120.6,676319]
[null,"SW007764","2018-10-20",9120.6,676320]
[null,"SW007766","2018-10-20",298.64,676322,null,null," "]
[null,"SW007768","2018-10-20",302.19,676323]
[null,"SW007769","2018-10-20",9740.6,676324]
[null,"SW007770","2018-10-20",1674.6399999999999,676325]
[null,"SW007771","2018-10-20",8109.9000000000005,676326,1]
[null,"SW007772","2018-10-20",2758.08,676327]
[null,"SW007773","2018-10-20",7099.2,676328,1]
[null,"SW007774","2018-10-20",7246.8,676329]
[null,"SW007775","2018-10-20",2758.08,676330]
[null,"SW008064","2018-10-20",18007.2,679165]
[null,"SW008065","2018-10-20",11568.800000000001,679166]
[null,"SW008066","2018-10-20",18007.2,676331]
[null,"SW008067","2018-10-20",16887.2,676332]
[null,"SW008068","2018-10-20",16887.2,676333]
[null,"SW008069","2018-10-20",16887.2,676335]
[null,5356275,"2018-10-27",224.8,673713]
[null,5356276,"2018-10-27",410.8,673714]
[null,5356277,"2018-10-27",313.8,673715]
[null,5356278,"2018-10-27",313.8,673716]
[null,5356279,"2018-10-27",309.8,673717]
[null,5356280,"2018-10-27",309.8,673718]
[null,5356281,"2018-10-27",9346.4000000000015,673719]
[null,5356282,"2018-10-27",20107.599999999999,673720]
[null,5356283,"2018-10-27",14596.6,673721]
[null,5356284,"2018-10-27",14596.6,673722]
[null,5356285,"2018-10-27",13656.6,673723]
[null,5356286,"2018-10-27",12793.92,673724]
[null,"SW007826","2018-10-27",9810.4,673725]
[null,"SW007827","2018-10-27",1771.72,673726]
[null,"SW007829","2018-10-27",2259.48,673728,1]
[null,"SW007830","2018-10-27",14324,673729]
[null,"SW007831","2018-10-27",14324,673730]
[null,"SW007832","2018-10-27",2480.48,673731]
[null,"SW007833","2018-10-27",14324,673732]
[null,"SW007834","2018-10-27",2480.48,673733]
[null,"SW007901","2018-10-27",11568.800000000001,673704]
[null,"SW007902","2018-10-27",16887.2,673705]
[null,"SW007903","2018-10-27",16887.2,673706]
[null,"SW007904","2018-10-27",18007.2,673707]
[null,"SW007905","2018-10-27",20125.599999999999,673708]
[null,"SW007906","2018-10-27",2375.48,673709,1]
[null,"SW007907","2018-10-27",16887.2,673710]
[null,"SW007908","2018-10-27",18971.2,673711,1]
[null,"SW007909","2018-10-27",16887.2,673712]
[null,"SW008070","2018-10-27",9810.4,673734]
[null,"SW008071","2018-10-27",15284,673736,null,null," "]
[null,"SW008072","2018-10-27",15284,673738]
[null,"SW008073","2018-10-27",12056,673740]
[null,"SW008074","2018-10-27",12056,673741]
[null,"SW008075","2018-10-27",12056,673742]
[null,"SW008076","2018-10-27",1925.1200000000001,673743]
[null,"SW008077","2018-10-27",2405.54,673744]
[null,"SW008078","2018-10-27",3020.4799999999996,673745]
[null,"SW008079","2018-10-27",2213.08,673746]
[null,"SW008080","2018-10-27",2215.04,673747]
[null,"SW008081","2018-10-27",2215.04,673750]
[null,"SW007910","2018-11-03",9810.4,676340]
[null,"SW007911","2018-11-03",1800.52,676341]
[null,"SW007912","2018-11-03",14324,676342]
[null,"SW007913","2018-11-03",2517.6799999999998,676343]
[null,"SW007914","2018-11-03",14324,676344]
[null,"SW007915","2018-11-03",2517.6799999999998,676345]
[null,"SW007916","2018-11-23",15284,676346,"error in invoice date- should be 11/3/18"]
[null,"SW007917","2018-11-03",2542.2799999999997,676347]
[null,"SW007918","2018-11-03",14324,676348]
[null,"SW007919","2018-11-03",2517.6799999999998,676349]
[null,"SW007920","2018-11-03",7520,676350]
[null,"SW007921","2018-11-03",3683.58,676351]
[null,"SW007922","2018-11-03",10724,676352]
[null,"SW007923","2018-11-03",1959.7800000000002,676353]
[null,5856327,"2018-11-03",9810.4,676354]
[null,5356328,"2018-11-03",21085.599999999999,676355]
[null,5356329,"2018-11-03",15284,676356]
[null,5356330,"2018-11-03",15284,676357]
[null,5356331,"2018-11-03",14324,676358]
[null,5356332,"2018-11-03",18465.440000000002,676359]
[null,5356333,"2018-11-03",276.60000000000002,676360]
[null,5356334,"2018-11-03",383.59999999999997,676361]
[null,5356335,"2018-11-03",387.59999999999997,676362]
[null,5356336,"2018-11-03",387.59999999999997,676363]
[null,5356337,"2018-11-03",518.6,676364]
[null,5356338,"2018-11-03",383.59999999999997,676365]
[null,null,null,{"$f":"SUM(D34:D146)","v":829778.92999999993}]
[]
[null,"Tickmark Explanation:"]
[null,"1 see Timesheet for invoice variences"]

{"sheet":"C.1 - Rate Sheets","index":4,"n_rows":55,"n_cols":19,"rows_kept":55,"cut":false,"hidden":false,"merged":[[12,1,12,5],[12,7,12,8],[3,1,3,8],[54,6,54,8],[1,1,1,8]]}
[]
[null,"Labor Charges - Rate Sheet"]
[]
[null,"Test Plan: (A) Using the vendor rate sheet, ensure that a rate was provided for all Positions and Equipment types.  "]
[]
[null,"Labor Types:"]
[null,"ST","Straight Time"]
[null,"OT","Over Time"]
[null,"DT","Double Time"]
[null,"MOB/DMOB","Mobilization/Demobilization Time"]
[]
[]
[null,"Labor per Man Hour",null,null,null,null," ","Labor per Equipment Hour"]
[null,"A",null,null,null,null,null,"A"]
[null,"POSITION","ST","OT","DT","MOB/DMOB",null,"Type","$/HOUR"]
[null,"Crew Foreman",56.8,76.7,90.9,null,null,"4x4 Pickup",10,1]
[null,"Grounds Person",40,54,64,null,null,"Ariel Lift 60-2WD",18]
[null,"Supervisor",74,99.9,118.4,null,null,"Ariel Lift 60-4WD",23.25]
[null,"Tree Trimmer",48.5,65.5,77.599999999999994,null,null,"Ariel Lift Over 60",28]
[null,null,null,null,null,null,null,"4x4 Bigfoot",30.03]
[null,null,null,null,null,null,null,"Manual Crew Truck",14]
[null,null,null,null,null,null,null,"Loader",61.14]
[null,null,null,null,null,null,null,"Disc Chipper",6.75]
[null,null,null,null,null,null,null,null,null,null,null,null,null,null,null,null,null,null," "]
[]
[]
[]
[]
[]
[]
[]
[]
[]
[]
[]
[]
[]
[]
[]
[]
[]
[]
[]
[]
[]
[]
[]
[]
[]
[]
[]
[]
[]
[null,"Tickmark Explanation:"]
[null,1]

{"sheet":"C.2 - Timesheets - Labor","index":5,"n_rows":1048561,"n_cols":166,"rows_kept":4500,"cut":true,"hidden":false,"merged":[[3,2,7,13],[14,7,17,7],[14,10,16,13],[14,9,17,9],[1,1,1,164],[14,162,17,162],[14,163,17,163],[14,164,17,164],[15,153,17,153],[15,152,17,152],[15,151,17,151],[15,150,17,150],[15,149,17,149],[14,159,17,159],[14,161,17,161],[14,154,14,158],[15,158,17,158],[15,157,17,157],[15,156,17,156],[15,155,17,155],[15,154,17,154],[16,59,16,63],[13,14,13,18],[14,6,17,6],[14,39,14,43],[16,39,16,43],[14,44,14,48],[14,8,17,8],[233,149,233,152],[233,84,233,87],[233,69,233,72],[233,74,233,77],[233,104,233,107],[16,109,16,113],[16,114,16,118],[16,119,16,123],[233,89,233,92],[233,99,233,102],[233,94,233,97],[16,89,16,93],[16,94,16,98],[16,99,16,103],[16,124,16,128],[16,129,16,133],[16,79,16,83],[16,139,16,143],[16,134,16,138],[16,144,16,148],[233,59,233,62],[233,64,233,67],[233,14,233,17],[233,19,233,22],[233,24,233,27],[233,34,233,37],[233,39,233,42],[233,29,233,32],[16,44,16,48],[16,14,16,18],[233,44,233,47],[233,49,233,52],[233,54,233,57],[232,1,232,5],[14,1,17,1],[14,2,17,2],[14,4,17,4],[14,5,17,5],[14,3,17,3],[14,69,14,73],[16,69,16,73],[14,14,14,18],[14,64,14,68],[16,64,16,68],[16,34,16,38],[14,49,14,53],[16,49,16,53],[14,54,14,58],[16,54,16,58],[14,59,14,63],[14,29,14,33],[16,29,16,33],[14,19,14,23],[16,19,16,23],[14,24,14,28],[16,24,16,28],[14,34,14,38],[14,160,17,160],[14,149,14,153],[14,74,14,78],[16,74,16,78],[14,84,14,88],[16,84,16,88],[14,104,14,108],[16,104,16,108],[14,109,14,113],[14,114,14,118],[14,119,14,123],[14,89,14,93],[14,99,14,103],[14,94,14,98],[14,124,14,128],[14,129,14,133],[14,79,14,83],[14,134,14,138],[14,139,14,143],[14,144,14,148]],"bounds":{"rows_first":2000,"rows_last":500,"rows_between":2000,"halvings":0}}
[]
[null,"Labor Charges - Time Card"]
[]
[null,"Test Plan:","Obtain the time cards.  (A) Using the Asset by Company tab (C.3), populate the crew members names and positions (if provided).  Find additional information regarding individual crew member from related invoice.  (B) Enter hours worked from time card(s). (C) Confirm that the dates per the time cards fall between dates provided per 'A - Contractor Summary' tab. (D) Confirm the labor type charged agrees to the rate sheet. (E) Identify any labor charges to be reviewed (manually enter amounts based on reasonability of time period labor was charged, discrepancies between timecards and invoice, etc.  (F) For charges which required further review, document review (include why it was determined to be allowed/disallowed via a tickmark)."]
[]
[]
[]
[]
[]
[null,"Rx","Recalculated."]
[null,"a","Provided from tab 'C.1 - Rate Sheets'."]
[null,"b","Check figure should equal $0.  Cell will appear yellow if discrepancies are noted."]
[]
[null,null,"A ",null,null,null,null,"Rx",null,"C","a",null,null,null,"B",null,null,null,null,null,null,null,null,null,null,null,null,null,null,null,null,null,null,null,null,null,null,null,null,null,null,null,null,null,null,null,null,null,null,null,null,null,null,null,null,null,null,null,null,null,null,null,null,null,null,null,null,null,null,null,null,null,null,null,null,null,null,null,null,null,null,null,null,null,null,null,null,null,null,null,null,null,null,null,null,null,null,null,null,null,null,null,null,null,null,null,null,null,null,null,null,null,null,null,null,null,null,null,null,null,null,null,null,null,null,null,null,null,null,null,null,null,null,null,null,null,null,null,null,null,null,null,null,null,null,null,null,null,null,"Rx",null,null,null,null,"Rx",null,null,null,null,"Rx",null,"E","F"]
[null,"#","Name","Position","Company","Crew#","Invoice#","Start Date","End Date","Dates Worked Reasonable?","Rates",null,null,null,"2018-10-08",null,null,null,null,"2018-10-09",null,null,null,null,"2018-10-10",null,null,null,null,"2018-10-11",null,null,null,null,"2018-10-12",null,null,null,null,"2018-10-13",null,null,null,null,"2018-10-14",null,null,null,null,"2018-10-15",null,null,null,null,"2018-10-16",null,null,null,null,"2018-10-17",null,null,null,null,"2018-10-18",null,null,null,null,"2018-10-19",null,null,null,null,"2018-10-20",null,null,null,null,"2018-10-21",null,null,null,null,"2018-10-22",null,null,null,null,"2018-10-23",null,null,null,null,"2018-10-24",null,null,null,null,"2018-10-25",null,null,null,null,"2018-10-26",null,null,null,null,"2018-10-27",null,null,null,null,"2018-10-28",null,null,null,null,"2018-10-29",null,null,null,null,"2018-10-30",null,null,null,null,"2018-10-31",null,null,null,null,"2018-11-01",null,null,null,null,"2018-11-02",null,null,null,null,"2018-11-03",null,null,null,null,"Total Labor Hours",null,null,null,null,"Total Labor $",null,null,null,null,"Allowable Charges","Labor Type Appropriate?","To Be Reviewed","Reviewed - Allowable Charge","Reviewed - Unallowable Charge","Tickmarks"]
[null,null,null,null,null,null,null,null,null,null,null,null,null,null,"2018-10-08","2018-10-08","2018-10-08","2018-10-08","2018-10-08","2018-10-09","2018-10-09","2018-10-09","2018-10-09","2018-10-09","2018-10-10","2018-10-10","2018-10-10","2018-10-10","2018-10-10","2018-10-11","2018-10-11","2018-10-11","2018-10-11","2018-10-11","2018-10-12","2018-10-12","2018-10-12","2018-10-12","2018-10-12","2018-10-13","2018-10-13","2018-10-13","2018-10-13","2018-10-13","2018-10-14","2018-10-14","2018-10-14","2018-10-14","2018-10-14","2018-10-15","2018-10-15","2018-10-15","2018-10-15","2018-10-15","2018-10-16","2018-10-16","2018-10-16","2018-10-16","2018-10-16","2018-10-17","2018-10-17","2018-10-17","2018-10-17","2018-10-17","2018-10-18","2018-10-18","2018-10-18","2018-10-18","2018-10-18","2018-10-19","2018-10-19","2018-10-19","2018-10-19","2018-10-19","2018-10-20","2018-10-20","2018-10-20","2018-10-20","2018-10-20","2018-10-21","2018-10-21","2018-10-21","2018-10-21","2018-10-21","2018-10-22","2018-10-22","2018-10-22","2018-10-22","2018-10-22","2018-10-23","2018-10-23","2018-10-23","2018-10-23","2018-10-22","2018-10-24","2018-10-24","2018-10-24","2018-10-24","2018-10-24","2018-10-25","2018-10-25","2018-10-25","2018-10-25","2018-10-25","2018-10-26","2018-10-26","2018-10-26","2018-10-26","2018-10-26","2018-10-27","2018-10-27","2018-10-27","2018-10-27","2018-10-27","2018-10-28","2018-10-28","2018-10-28","2018-10-28","2018-10-28","2018-10-29","2018-10-29","2018-10-29","2018-10-29","2018-10-29","2018-10-30","2018-10-30","2018-10-30","2018-10-30","2018-10-30","2018-10-31","2018-10-31","2018-10-31","2018-10-31","2018-10-31","2018-11-01","2018-11-01","2018-11-01","2018-11-01","2018-11-01","2018-11-02","2018-11-02","2018-11-02","2018-11-02","2018-11-02","2018-11-03","2018-11-03","2018-11-03","2018-11-03","2018-11-03","Total ST","OT","DT","MOB/DMOB","Total Hours","Total ST $","Total OT $","Total DT $","Total MOB/DMOB $","Total Labor $"]
[null,null,null,null,null,null,null,null,null,null,null,null,null,null,"Monday",null,null,null,null,"Tuesday",null,null,null,null,"Wednesday",null,null,null,null,"Thursday",null,null,null,null,"Friday",null,null,null,null,"Saturday",null,null,null,null,"Sunday",null,null,null,null,"Monday",null,null,null,null,"Tuesday",null,null,null,null,"Wednesday",null,null,null,null,"Thursday",null,null,null,null,"Friday",null,null,null,null,"Saturday",null,null,null,null,"Sunday",null,null,null,null,"Monday",null,null,null,null,"Tuesday",null,null,null,null,"Wednesday",null,null,null,null,"Thursday",null,null,null,null,"Friday",null,null,null,null,"Saturdauy",null,null,null,null,"Sunday",null,null,null,null,"Monday",null,null,null,null,"Tuesday",null,null,null,null,"Wednesday",null,null,null,null,"Thursday",null,null,null,null,"Friday",null,null,null,null,"Saturday"]
[null,null,null,null,null,null,null,null,null,null,"ST","OT","DT","MOB/DMOB","ST","OT","DT","MOB/DMOB","Total","ST","OT","DT","MOB/DMOB","Total","ST","OT","DT","MOB/DMOB","Total","ST","OT","DT","MOB/DMOB","Total","ST","OT","DT","MOB/DMOB","Total","ST","OT","DT","MOB/DMOB","Total","ST","OT","DT","MOB/DMOB","Total","ST","OT","DT","MOB/DMOB","Total","ST","OT","DT","MOB/DMOB","Total","ST","OT","DT","MOB/DMOB","Total","ST","OT","DT","MOB/DMOB","Total","ST","OT","DT","MOB/DMOB","Total","ST","OT","DT","MOB/DMOB","Total","ST","OT","DT","MOB/DMOB","Total","ST","OT","DT","MOB/DMOB","Total","ST","OT","DT","MOB/DMOB","Total","ST","OT","DT","MOB/DMOB","Total","ST","OT","DT","MOB/DMOB","Total","ST","OT","DT","MOB/DMOB","Total","ST","OT","DT","MOB/DMOB","Total","ST","OT","DT","MOB/DMOB","Total","ST","OT","DT","MOB/DMOB","Total","ST","OT","DT","MOB/DMOB","Total","ST","OT","DT","MOB/DMOB","Total","ST","OT","DT","MOB/DMOB","Total","ST","OT","DT","MOB/DMOB","Total","ST","OT","DT","MOB/DMOB","Total"]
[null,1,null,"Crew Foreman","Vendor #13",null,"SW008052","2018-10-12","2018-10-13","Yes",{"$f":"VLOOKUP($D19,'C.1 - Rate Sheets'!$B$16:$E$35,2)","v":56.8},{"$f":"VLOOKUP($D19,'C.1 - Rate Sheets'!$B$16:$E$35,3)","v":76.7},{"$f":"VLOOKUP($D19,'C.1 - Rate Sheets'!$B$16:$E$35,4)","v":90.9},{"$f":"VLOOKUP($D19,'C.1 - Rate Sheets'!B:F,5,FALSE)","v":0},0,0,0,0,0,0,0,0,0,{"$f":"SUM(T19:W19)","v":0},0,0,0,0,{"$f":"SUM(Y19:AB19)","v":0},0,0,0,0,{"$f":"SUM(AD19:AG19)","v":0},10,5,null,null,{"$f":"SUM(AI19:AL19)","v":15},null,null,null,null,{"$f":"SUM(AN19:AQ19)","v":0},null,null,null,null,{"$f":"SUM(AS19:AV19)","v":0},null,null,null,null,{"$f":"SUM(AX19:BA19)","v":0},null,null,null,null,{"$f":"SUM(BC19:BF19)","v":0},0,null,null,null,{"$f":"SUM(BH19:BK19)","v":0},null,null,null,null,{"$f":"SUM(BM19:BP19)","v":0},null,null,null,null,{"$f":"SUM(BR19:BU19)","v":0},null,null,null,null,{"$f":"SUM(BW19:BZ19)","v":0},null,null,null,null,{"$f":"+SUM(CB19:CE19)","v":0},null,null,null,null,{"$f":"SUM(CG19:CJ19)","v":0},0,0,0,0,{"$f":"+SUM(CL19:CO19)","v":0},0,0,0,0,{"$f":"+SUM(CQ19:CT19)","v":0},0,0,0,0,{"$f":"+SUM(CV19:CY19)","v":0},0,0,0,0,{"$f":"+SUM(DA19:DD19)","v":0},0,0,0,0,{"$f":"+SUM(DF19:DI19)","v":0},0,0,0,0,{"$f":"SUM(DK19:DN19)","v":0},0,0,0,0,{"$f":"SUM(DP19:DS19)","v":0},0,0,0,0,{"$f":"SUM(DU19:DX19)","v":0},0,0,0,0,{"$f":"SUM(DZ19:EC19)","v":0},0,0,0,0,{"$f":"SUM(EE19:EH19)","v":0},0,0,0,0,{"$f":"SUM(EJ19:EM19)","v":0},0,0,0,0,{"$f":"SUM(EO19:ER19)","v":0},{"$f":"SUM(O19,T19,Y19,AI19,AN19,AS19,AX19,BC19,BH19,BM19,BR19,BW19,CB19,CL19, CG19,CQ19,CV19,DA19,DF19,DK19, DP19,DU19,DZ19,EE19,EJ19,EO19)","v":10},{"$f":"SUM(P19,U19,Z19,AJ19,AO19,AT19,AY19,BD19,BI19,BN19,BS19,BX19,CC19,CM19, CH19,CR19,CW19,DB19,DG19,DL19, DQ19,DV19,EA19,EF19,EK19,EP19)","v":5},{"$f":"SUM(Q19,V19,AA19,AK19,AP19,AU19,AZ19,BE19,BJ19,BO19,BT19,BY19,CD19,CN19, CI19,CS19,CX19,DC19,DH19,DM19, DR19,DW19,EB19,EG19,EL19,EQ19)","v":0},{"$f":"SUM(R19,W19,AB19,AL19,AQ19,AV19,BA19,BF19,BK19,BP19,BU19,BZ19,CO19, CJ19,CT19,CY19,DD19,DI19,DN19, DS19,DX19,EC19,EH19,EM19,ER19)","v":0},{"$f":"SUM(S19,X19,AC19,AM19,AR19,AW19,BB19,BG19,BL19,BQ19,BV19,CA19,CP19, CK19,CU19,CZ19,DE19,DJ19,DO19, DT19,DY19,ED19,EI19,EN19,ES19)","v":15},{"$f":"ET19*K19","v":568},{"$f":"EU19*L19","v":383.5},{"$f":"EV19*M19","v":0},{"$f":"EW19*N19","v":0},{"$f":"SUM(EY19:FB19)","v":951.5},{"$f":"FC19-FF19","v":951.5},"Yes",0,0,0]
[null,2,null,"Tree Trimmer","Vendor #13",null,"SW008052","2018-10-12","2018-10-13","Yes",{"$f":"VLOOKUP($D20,'C.1 - Rate Sheets'!$B$16:$E$35,2)","v":48.5},{"$f":"VLOOKUP($D20,'C.1 - Rate Sheets'!$B$16:$E$35,3)","v":65.5},{"$f":"VLOOKUP($D20,'C.1 - Rate Sheets'!$B$16:$E$35,4)","v":77.599999999999994},{"$f":"VLOOKUP($D20,'C.1 - Rate Sheets'!B:F,5,FALSE)","v":0},0,0,0,0,0,0,0,0,0,{"$f":"SUM(T20:W20)","v":0},0,0,0,0,{"$f":"SUM(Y20:AB20)","v":0},0,0,0,0,{"$f":"SUM(AD20:AG20)","v":0},10,5,null,null,{"$f":"SUM(AI20:AL20)","v":15},null,null,null,null,{"$f":"SUM(AN20:AQ20)","v":0},null,null,null,null,{"$f":"SUM(AS20:AV20)","v":0},null,null,null,null,{"$f":"SUM(AX20:BA20)","v":0},null,null,null,null,{"$f":"SUM(BC20:BF20)","v":0},null,null,null,null,{"$f":"SUM(BH20:BK20)","v":0},null,null,null,null,{"$f":"SUM(BM20:BP20)","v":0},null,null,null,null,{"$f":"SUM(BR20:BU20)","v":0},null,null,null,null,{"$f":"SUM(BW20:BZ20)","v":0},null,null,null,null,{"$f":"+SUM(CB20:CE20)","v":0},null,null,null,null,{"$f":"SUM(CG20:CJ20)","v":0},0,0,0,0,{"$f":"+SUM(CL20:CO20)","v":0},0,0,0,0,{"$f":"+SUM(CQ20:CT20)","v":0},0,0,0,0,{"$f":"+SUM(CV20:CY20)","v":0},0,0,0,0,{"$f":"+SUM(DA20:DD20)","v":0},0,0,0,0,{"$f":"+SUM(DF20:DI20)","v":0},0,0,0,0,{"$f":"SUM(DK20:DN20)","v":0},0,0,0,0,{"$f":"SUM(DP20:DS20)","v":0},0,0,0,0,{"$f":"SUM(DU20:DX20)","v":0},0,0,0,0,{"$f":"SUM(DZ20:EC20)","v":0},0,0,0,0,{"$f":"SUM(EE20:EH20)","v":0},0,0,0,0,{"$f":"SUM(EJ20:EM20)","v":0},0,0,0,0,{"$f":"SUM(EO20:ER20)","v":0},10,5,0,0,15,485,327.5,0,0,{"$f":"SUM(EY20:FB20)","v":812.5},812.5,"Yes",0,0,0]
[null,3,null,"Crew Foreman","Vendor #13",null,"SW008053","2018-10-12","2018-10-13","Yes",{"$f":"VLOOKUP($D21,'C.1 - Rate Sheets'!$B$16:$E$35,2)","v":56.8},{"$f":"VLOOKUP($D21,'C.1 - Rate Sheets'!$B$16:$E$35,3)","v":76.7},{"$f":"VLOOKUP($D21,'C.1 - Rate Sheets'!$B$16:$E$35,4)","v":90.9},{"$f":"VLOOKUP($D21,'C.1 - Rate Sheets'!B:F,5,FALSE)","v":0},0,0,0,0,{"$f":"SUM(O21:R21)","v":0},0,0,0,0,0,0,0,0,0,0,0,0,0,0,0,0,16,null,null,16,0,null,null,null,0,0,null,null,null,0,0,null,null,null,0,null,null,null,null,0,null,null,null,null,0,null,null,null,null,0,null,null,null,null,0,null,null,null,null,0,null,null,null,null,0,null,null,null,null,0,0,0,0,0,0,0,0,0,0,0,0,0,0,0,0,0,0,0,0,0,0,0,0,0,0,0,0,0,0,0,0,0,0,0,0,0,0,0,0,0,0,0,0,0,0,0,0,0,0,0,0,0,0,0,0,0,0,0,0,0,0,16,0,0,16,0,1227.2,0,0,1227.2,1227.2,"Yes",0,0,0]
[null,4,null,"Tree Trimmer","Vendor #13",null,"SW008053","2018-10-12","2018-10-13","Yes",{"$f":"VLOOKUP($D22,'C.1 - Rate Sheets'!$B$16:$E$35,2)","v":48.5},{"$f":"VLOOKUP($D22,'C.1 - Rate Sheets'!$B$16:$E$35,3)","v":65.5},{"$f":"VLOOKUP($D22,'C.1 - Rate Sheets'!$B$16:$E$35,4)","v":77.599999999999994},{"$f":"VLOOKUP($D22,'C.1 - Rate Sheets'!B:F,5,FALSE)","v":0},0,0,0,0,0,0,0,0,0,0,0,0,0,0,0,0,0,0,0,0,0,16,null,null,16,0,null,null,null,0,0,null,null,null,0,0,null,null,null,0,null,null,null,null,0,null,null,null,null,0,null,null,null,null,0,null,null,null,null,0,null,null,null,null,0,null,null,null,null,0,null,null,null,null,0,0,0,0,0,0,0,0,0,0,0,0,0,0,0,0,0,0,0,0,0,0,0,0,0,0,0,0,0,0,0,0,0,0,0,0,0,0,0,0,0,0,0,0,0,0,0,0,0,0,0,0,0,0,0,0,0,0,0,0,0,0,16,0,0,16,0,1048,0,0,1048,1048,"Yes",0,0,0]
[null,3,null,"Crew Foreman","Vendor #13",null,"SW008054","2018-10-12","2018-10-13","Yes",{"$f":"VLOOKUP($D23,'C.1 - Rate Sheets'!$B$16:$E$35,2)","v":56.8},{"$f":"VLOOKUP($D23,'C.1 - Rate Sheets'!$B$16:$E$35,3)","v":76.7},{"$f":"VLOOKUP($D23,'C.1 - Rate Sheets'!$B$16:$E$35,4)","v":90.9},{"$f":"VLOOKUP($D23,'C.1 - Rate Sheets'!B:F,5,FALSE)","v":0},0,0,0,0,{"$f":"SUM(O23:R23)","v":0},0,0,0,0,{"$f":"SUM(T23:W23)","v":0},0,0,0,0,{"$f":"SUM(Y23:AB23)","v":0},0,0,0,0,{"$f":"SUM(AD23:AG23)","v":0},0,10,null,null,{"$f":"SUM(AI23:AL23)","v":10},0,null,null,null,{"$f":"SUM(AN23:AQ23)","v":0},0,null,null,null,{"$f":"SUM(AS23:AV23)","v":0},0,null,null,null,{"$f":"SUM(AX23:BA23)","v":0},null,null,null,null,{"$f":"SUM(BC23:BF23)","v":0},null,null,null,null,{"$f":"SUM(BH23:BK23)","v":0},null,null,null,null,{"$f":"SUM(BM23:BP23)","v":0},null,null,null,null,{"$f":"SUM(BR23:BU23)","v":0},null,null,null,null,{"$f":"SUM(BW23:BZ23)","v":0},null,null,null,null,{"$f":"+SUM(CB23:CE23)","v":0},null,null,null,null,{"$f":"SUM(CG23:CJ23)","v":0},0,0,0,0,{"$f":"+SUM(CL23:CO23)","v":0},0,0,0,0,{"$f":"+SUM(CQ23:CT23)","v":0},0,0,0,0,{"$f":"+SUM(CV23:CY23)","v":0},0,0,0,0,{"$f":"+SUM(DA23:DD23)","v":0},0,0,0,0,{"$f":"+SUM(DF23:DI23)","v":0},0,0,0,0,{"$f":"SUM(DK23:DN23)","v":0},0,0,0,0,{"$f":"SUM(DP23:DS23)","v":0},0,0,0,0,{"$f":"SUM(DU23:DX23)","v":0},0,0,0,0,{"$f":"SUM(DZ23:EC23)","v":0},0,0,0,0,{"$f":"SUM(EE23:EH23)","v":0},0,0,0,0,{"$f":"SUM(EJ23:EM23)","v":0},0,0,0,0,{"$f":"SUM(EO23:ER23)","v":0},{"$f":"SUM(O23,T23,Y23,AI23,AN23,AS23,AX23,BC23,BH23,BM23,BR23,BW23,CB23,CL23, CG23,CQ23,CV23,DA23,DF23,DK23, DP23,DU23,DZ23,EE23,EJ23,EO23)","v":0},{"$f":"SUM(P23,U23,Z23,AJ23,AO23,AT23,AY23,BD23,BI23,BN23,BS23,BX23,CC23,CM23, CH23,CR23,CW23,DB23,DG23,DL23, DQ23,DV23,EA23,EF23,EK23,EP23)","v":10},{"$f":"SUM(Q23,V23,AA23,AK23,AP23,AU23,AZ23,BE23,BJ23,BO23,BT23,BY23,CD23,CN23, CI23,CS23,CX23,DC23,DH23,DM23, DR23,DW23,EB23,EG23,EL23,EQ23)","v":0},{"$f":"SUM(R23,W23,AB23,AL23,AQ23,AV23,BA23,BF23,BK23,BP23,BU23,BZ23,CO23, CJ23,CT23,CY23,DD23,DI23,DN23, DS23,DX23,EC23,EH23,EM23,ER23)","v":0},{"$f":"SUM(S23,X23,AC23,AM23,AR23,AW23,BB23,BG23,BL23,BQ23,BV23,CA23,CP23, CK23,CU23,CZ23,DE23,DJ23,DO23, DT23,DY23,ED23,EI23,EN23,ES23)","v":10},0,767,0,0,{"$f":"SUM(EY23:FB23)","v":767},{"$f":"FC23-FF23","v":767},"Yes",0,0,0]
[null,4,null,"Tree Trimmer","Vendor #13",null,"SW008054","2018-10-12","2018-10-13","Yes",{"$f":"VLOOKUP($D24,'C.1 - Rate Sheets'!$B$16:$E$35,2)","v":48.5},{"$f":"VLOOKUP($D24,'C.1 - Rate Sheets'!$B$16:$E$35,3)","v":65.5},{"$f":"VLOOKUP($D24,'C.1 - Rate Sheets'!$B$16:$E$35,4)","v":77.599999999999994},{"$f":"VLOOKUP($D24,'C.1 - Rate Sheets'!B:F,5,FALSE)","v":0},0,0,0,0,0,0,0,0,0,0,0,0,0,0,0,0,0,0,0,0,0,10,null,null,10,0,null,null,null,0,0,null,null,null,0,0,null,null,null,0,null,null,null,null,0,null,null,null,null,0,null,null,null,null,0,null,null,null,null,0,null,null,null,null,0,null,null,null,null,0,null,null,null,null,0,0,0,0,0,0,0,0,0,0,0,0,0,0,0,0,0,0,0,0,0,0,0,0,0,0,0,0,0,0,0,0,0,0,0,0,0,0,0,0,0,0,0,0,0,0,0,0,0,0,0,0,0,0,0,0,0,0,0,0,0,0,10,0,0,10,0,655,0,0,655,655,"Yes",0,0,0]
[null,5,null,"Crew Foreman","Vendor #13",null,"SW008055","2018-10-12","2018-10-13","Yes",{"$f":"VLOOKUP($D25,'C.1 - Rate Sheets'!$B$16:$E$35,2)","v":56.8},{"$f":"VLOOKUP($D25,'C.1 - Rate Sheets'!$B$16:$E$35,3)","v":76.7},{"$f":"VLOOKUP($D25,'C.1 - Rate Sheets'!$B$16:$E$35,4)","v":90.9},{"$f":"VLOOKUP($D25,'C.1 - Rate Sheets'!B:F,5,FALSE)","v":0},0,0,0,0,0,0,0,0,0,0,0,0,0,0,0,0,0,0,0,0,0,12,null,null,12,0,null,null,null,0,0,null,null,null,0,0,null,null,null,0,null,null,null,null,0,null,null,null,null,0,null,null,null,null,0,null,null,null,null,0,null,null,null,null,0,null,null,null,null,0,null,null,null,null,0,0,0,0,0,0,0,0,0,0,0,0,0,0,0,0,0,0,0,0,0,0,0,0,0,0,0,0,0,0,0,0,0,0,0,0,0,0,0,0,0,0,0,0,0,0,0,0,0,0,0,0,0,0,0,0,0,0,0,0,0,0,12,0,0,12,0,920.40000000000009,0,0,920.40000000000009,920.40000000000009,"Yes",0,0,0]
[null,6,null,"Tree Trimmer","Vendor #13",null,"SW008055","2018-10-12","2018-10-13","Yes",{"$f":"VLOOKUP($D26,'C.1 - Rate Sheets'!$B$16:$E$35,2)","v":48.5},{"$f":"VLOOKUP($D26,'C.1 - Rate Sheets'!$B$16:$E$35,3)","v":65.5},{"$f":"VLOOKUP($D26,'C.1 - Rate Sheets'!$B$16:$E$35,4)","v":77.599999999999994},{"$f":"VLOOKUP($D26,'C.1 - Rate Sheets'!B:F,5,FALSE)","v":0},0,0,0,0,0,0,0,0,0,0,0,0,0,0,0,0,0,0,0,0,0,12,null,null,12,0,null,null,null,0,0,null,null,null,0,0,null,null,null,0,null,null,null,null,0,null,null,null,null,0,null,null,null,null,0,null,null,null,null,0,null,null,null,null,0,null,null,null,null,0,null,null,null,null,0,0,0,0,0,0,0,0,0,0,0,0,0,0,0,0,0,0,0,0,0,0,0,0,0,0,0,0,0,0,0,0,0,0,0,0,0,0,0,0,0,0,0,0,0,0,0,0,0,0,0,0,0,0,0,0,0,0,0,0,0,0,12,0,0,12,0,786,0,0,786,786,"Yes",0,0,0]
[null,7,null,"Crew Foreman","Vendor #13",null,"SW008056","2018-10-12","2018-10-13","Yes",{"$f":"VLOOKUP($D27,'C.1 - Rate Sheets'!$B$16:$E$35,2)","v":56.8},{"$f":"VLOOKUP($D27,'C.1 - Rate Sheets'!$B$16:$E$35,3)","v":76.7},{"$f":"VLOOKUP($D27,'C.1 - Rate Sheets'!$B$16:$E$35,4)","v":90.9},{"$f":"VLOOKUP($D27,'C.1 - Rate Sheets'!B:F,5,FALSE)","v":0},0,0,0,0,0,0,0,0,0,0,0,0,0,0,0,0,0,0,0,0,null,12,null,null,12,null,null,null,null,0,null,null,null,null,0,null,null,null,null,0,0,null,null,null,0,0,null,null,null,0,null,null,null,null,0,null,null,null,null,0,null,null,null,null,0,null,null,null,null,0,null,null,null,null,0,0,0,0,0,0,0,0,0,0,0,0,0,0,0,0,0,0,0,0,0,0,0,0,0,0,0,0,0,0,0,0,0,0,0,0,0,0,0,0,0,0,0,0,0,0,0,0,0,0,0,0,0,0,0,0,0,0,0,0,0,0,12,0,0,12,0,920.40000000000009,0,0,920.40000000000009,920.40000000000009,"Yes",0,0,0]
[null,8,null,"Tree Trimmer","Vendor #13",null,"SW008056","2018-10-12","2018-10-13","Yes",{"$f":"VLOOKUP($D28,'C.1 - Rate Sheets'!$B$16:$E$35,2)","v":48.5},{"$f":"VLOOKUP($D28,'C.1 - Rate Sheets'!$B$16:$E$35,3)","v":65.5},{"$f":"VLOOKUP($D28,'C.1 - Rate Sheets'!$B$16:$E$35,4)","v":77.599999999999994},{"$f":"VLOOKUP($D28,'C.1 - Rate Sheets'!B:F,5,FALSE)","v":0},0,0,0,0,0,0,0,0,0,0,0,0,0,0,0,0,0,0,0,0,null,12,null,null,12,null,null,null,null,0,null,null,null,null,0,null,null,null,null,0,0,null,null,null,0,0,null,null,null,0,null,null,null,null,0,null,null,null,null,0,null,null,null,null,0,null,null,null,null,0,null,null,null,null,0,0,0,0,0,0,0,0,0,0,0,0,0,0,0,0,0,0,0,0,0,0,0,0,0,0,0,0,0,0,0,0,0,0,0,0,0,0,0,0,0,0,0,0,0,0,0,0,0,0,0,0,0,0,0,0,0,0,0,0,0,0,12,0,0,12,0,786,0,0,786,786,"Yes",0,0,0]
[null,9,null,"Crew Foreman","Vendor #13",null,"SW008057","2018-10-13","2018-10-13","Yes",{"$f":"VLOOKUP($D29,'C.1 - Rate Sheets'!$B$16:$E$35,2)","v":56.8},{"$f":"VLOOKUP($D29,'C.1 - Rate Sheets'!$B$16:$E$35,3)","v":76.7},{"$f":"VLOOKUP($D29,'C.1 - Rate Sheets'!$B$16:$E$35,4)","v":90.9},{"$f":"VLOOKUP($D29,'C.1 - Rate Sheets'!B:F,5,FALSE)","v":0},0,0,0,0,0,0,0,0,0,0,0,0,0,0,0,0,0,0,0,0,null,null,null,null,0,null,16,null,null,16,null,null,null,null,0,null,null,null,null,0,0,null,null,null,0,0,null,null,null,0,null,null,null,null,0,null,null,null,null,0,null,null,null,null,0,null,null,null,null,0,null,null,null,null,0,0,0,0,0,0,0,0,0,0,0,0,0,0,0,0,0,0,0,0,0,0,0,0,0,0,0,0,0,0,0,0,0,0,0,0,0,0,0,0,0,0,0,0,0,0,0,0,0,0,0,0,0,0,0,0,0,0,0,0,0,0,16,0,0,16,0,1227.2,0,0,1227.2,1227.2,"Yes",0,0,0]
[null,10,null,"Tree Trimmer","Vendor #13",null,"SW008057","2018-10-13","2018-10-13","Yes",{"$f":"VLOOKUP($D30,'C.1 - Rate Sheets'!$B$16:$E$35,2)","v":48.5},{"$f":"VLOOKUP($D30,'C.1 - Rate Sheets'!$B$16:$E$35,3)","v":65.5},{"$f":"VLOOKUP($D30,'C.1 - Rate Sheets'!$B$16:$E$35,4)","v":77.599999999999994},{"$f":"VLOOKUP($D30,'C.1 - Rate Sheets'!B:F,5,FALSE)","v":0},0,0,0,0,0,0,0,0,0,0,0,0,0,0,0,0,0,0,0,0,null,null,null,null,0,null,16,null,null,16,null,null,null,null,0,null,null,null,null,0,0,null,null,null,0,0,null,null,null,0,null,null,null,null,0,null,null,null,null,0,null,null,null,null,0,null,null,null,null,0,null,null,null,null,0,null,0,0,0,0,0,0,0,0,0,0,0,0,0,0,0,0,0,0,0,0,0,0,0,0,0,0,0,0,0,0,0,0,0,0,0,0,0,0,0,0,0,0,0,0,0,0,0,0,0,0,0,0,0,0,0,0,0,0,0,0,16,0,0,16,0,1048,0,0,1048,1048,"Yes",0,0,0]
[null,11,null,"Crew Foreman","Vendor #13",null,"SW008058","2018-10-13","2018-10-13","Yes",{"$f":"VLOOKUP($D31,'C.1 - Rate Sheets'!$B$16:$E$35,2)","v":56.8},{"$f":"VLOOKUP($D31,'C.1 - Rate Sheets'!$B$16:$E$35,3)","v":76.7},{"$f":"VLOOKUP($D31,'C.1 - Rate Sheets'!$B$16:$E$35,4)","v":90.9},{"$f":"VLOOKUP($D31,'C.1 - Rate Sheets'!B:F,5,FALSE)","v":0},0,0,0,0,0,0,0,0,0,0,0,0,0,0,0,0,0,0,0,0,null,null,null,null,0,null,16,null,null,16,null,null,null,null,0,null,null,null,null,0,null,null,null,null,0,null,null,null,null,0,null,null,null,null,0,null,null,null,null,0,null,null,null,null,0,null,null,null,null,0,null,null,null,null,0,null,0,0,0,0,null,0,0,0,0,null,0,0,0,0,null,0,0,0,0,0,0,0,0,0,0,0,0,0,0,0,0,0,0,0,0,0,0,0,0,0,0,0,0,0,0,0,0,0,0,0,0,0,0,0,0,0,0,0,0,0,16,0,0,16,0,1227.2,0,0,1227.2,1227.2,"Yes",0,0,0]
[null,12,null,"Tree Trimmer","Vendor #13",null,"SW008058","2018-10-13","2018-10-13","Yes",{"$f":"VLOOKUP($D32,'C.1 - Rate Sheets'!$B$16:$E$35,2)","v":48.5},{"$f":"VLOOKUP($D32,'C.1 - Rate Sheets'!$B$16:$E$35,3)","v":65.5},{"$f":"VLOOKUP($D32,'C.1 - Rate Sheets'!$B$16:$E$35,4)","v":77.599999999999994},{"$f":"VLOOKUP($D32,'C.1 - Rate Sheets'!B:F,5,FALSE)","v":0},0,0,0,0,0,0,0,0,0,0,0,0,0,0,0,0,0,0,0,0,null,null,null,null,0,null,16,null,null,16,null,null,null,null,0,null,null,null,null,0,null,null,null,null,0,null,null,null,null,0,null,null,null,null,0,null,null,null,null,0,null,null,null,null,0,null,null,null,null,0,null,null,null,null,0,null,0,0,0,0,null,0,0,0,0,null,0,0,0,0,null,0,0,0,0,0,0,0,0,0,0,0,0,0,0,0,0,0,0,0,0,0,0,0,0,0,0,0,0,0,0,0,0,0,0,0,0,0,0,0,0,0,0,0,0,0,16,0,0,16,0,1048,0,0,1048,1048,"Yes",0,0,0]
[null,13,null,"Crew Foreman","Vendor #13",null,"SW008059","2018-10-12","2018-10-13","Yes",{"$f":"VLOOKUP($D33,'C.1 - Rate Sheets'!$B$16:$E$35,2)","v":56.8},{"$f":"VLOOKUP($D33,'C.1 - Rate Sheets'!$B$16:$E$35,3)","v":76.7},{"$f":"VLOOKUP($D33,'C.1 - Rate Sheets'!$B$16:$E$35,4)","v":90.9},{"$f":"VLOOKUP($D33,'C.1 - Rate Sheets'!B:F,5,FALSE)","v":0},0,0,0,0,0,0,0,0,0,0,0,0,0,0,0,0,0,0,0,0,null,6,null,null,6,null,16,null,null,16,null,null,null,null,0,null,null,null,null,0,null,null,null,null,0,null,null,null,null,0,null,null,null,null,0,null,null,null,null,0,null,null,null,null,0,null,null,null,null,0,null,null,null,null,0,null,0,0,0,0,null,0,0,0,0,null,0,0,0,0,null,0,0,0,0,0,0,0,0,0,0,0,0,0,0,0,0,0,0,0,0,0,0,0,0,0,0,0,0,0,0,0,0,0,0,0,0,0,0,0,0,0,0,0,0,0,22,0,0,22,0,1687.4,0,0,1687.4,1687.4,"Yes",0,0,0]
[null,14,null,"Tree Trimmer","Vendor #13",null,"SW008059","2018-10-12","2018-10-13","Yes",{"$f":"VLOOKUP($D34,'C.1 - Rate Sheets'!$B$16:$E$35,2)","v":48.5},{"$f":"VLOOKUP($D34,'C.1 - Rate Sheets'!$B$16:$E$35,3)","v":65.5},{"$f":"VLOOKUP($D34,'C.1 - Rate Sheets'!$B$16:$E$35,4)","v":77.599999999999994},{"$f":"VLOOKUP($D34,'C.1 - Rate Sheets'!B:F,5,FALSE)","v":0},0,0,0,0,0,0,0,0,0,0,0,0,0,0,0,0,0,0,0,0,null,6,null,null,6,null,16,null,null,16,null,null,null,null,0,null,null,null,null,0,null,null,null,null,0,null,null,null,null,0,null,null,null,null,0,null,null,null,null,0,null,null,null,null,0,null,null,null,null,0,null,null,null,null,0,null,0,0,0,0,null,0,0,0,0,null,0,0,0,0,null,0,0,0,0,0,0,0,0,0,0,0,0,0,0,0,0,0,0,0,0,0,0,0,0,0,0,0,0,0,0,0,0,0,0,0,0,0,0,0,0,0,0,0,0,0,22,0,0,22,0,1441,0,0,1441,1441,"Yes",0,0,0]
[null,15,null,"Crew Foreman","Vendor #13",null,"SW008060","2018-10-12","2018-10-13","Yes",{"$f":"VLOOKUP($D35,'C.1 - Rate Sheets'!$B$16:$E$35,2)","v":56.8},{"$f":"VLOOKUP($D35,'C.1 - Rate Sheets'!$B$16:$E$35,3)","v":76.7},{"$f":"VLOOKUP($D35,'C.1 - Rate Sheets'!$B$16:$E$35,4)","v":90.9},{"$f":"VLOOKUP($D35,'C.1 - Rate Sheets'!B:F,5,FALSE)","v":0},0,0,0,0,0,0,0,0,0,0,0,0,0,0,0,0,0,0,0,0,null,4,null,null,4,null,16,null,null,16,null,null,null,null,0,null,null,null,null,0,null,null,null,null,0,null,null,null,null,0,null,null,null,null,0,null,null,null,null,0,null,null,null,null,0,null,null,null,null,0,null,null,null,null,0,null,0,0,0,0,null,0,0,0,0,null,0,0,0,0,0,0,0,0,0,null,0,0,0,0,null,0,0,0,0,null,0,0,0,0,null,0,0,0,0,null,0,0,0,0,0,0,0,0,0,0,0,0,0,0,0,0,0,0,0,0,20,0,0,20,0,1534,0,0,1534,1534,"Yes",0,0,0]
[null,16,null,"Tree Trimmer","Vendor #13",null,"SW008060","2018-10-12","2018-10-13","Yes",{"$f":"VLOOKUP($D36,'C.1 - Rate Sheets'!$B$16:$E$35,2)","v":48.5},{"$f":"VLOOKUP($D36,'C.1 - Rate Sheets'!$B$16:$E$35,3)","v":65.5},{"$f":"VLOOKUP($D36,'C.1 - Rate Sheets'!$B$16:$E$35,4)","v":77.599999999999994},{"$f":"VLOOKUP($D36,'C.1 - Rate Sheets'!B:F,5,FALSE)","v":0},0,0,0,0,0,0,0,0,0,0,0,0,0,0,0,0,0,0,0,0,null,4,null,null,4,null,16,null,null,16,null,null,null,null,0,null,null,null,null,0,null,null,null,null,0,null,null,null,null,0,null,null,null,null,0,null,null,null,null,0,null,null,null,null,0,null,null,null,null,0,null,null,null,null,0,null,0,0,0,0,null,0,0,0,0,0,0,0,0,0,0,0,0,0,0,null,0,0,0,0,null,0,0,0,0,null,0,0,0,0,null,0,0,0,0,null,0,0,0,0,0,0,0,0,0,0,0,0,0,0,0,0,0,0,0,0,20,0,0,20,0,1310,0,0,1310,1310,"Yes",0,0,0]
[null,17,null,"Crew Foreman","Vendor #13",null,"SW008061","2018-10-12","2018-10-13","Yes",{"$f":"VLOOKUP($D37,'C.1 - Rate Sheets'!$B$16:$E$35,2)","v":56.8},{"$f":"VLOOKUP($D37,'C.1 - Rate Sheets'!$B$16:$E$35,3)","v":76.7},{"$f":"VLOOKUP($D37,'C.1 - Rate Sheets'!$B$16:$E$35,4)","v":90.9},{"$f":"VLOOKUP($D37,'C.1 - Rate Sheets'!B:F,5,FALSE)","v":0},0,0,0,0,0,0,0,0,0,0,0,0,0,0,0,0,0,0,0,0,null,4,null,null,4,null,16,null,null,16,null,null,null,null,0,null,null,null,null,0,null,null,null,null,0,null,null,null,null,0,null,null,null,null,0,null,null,null,null,0,null,null,null,null,0,null,null,null,null,0,null,null,null,null,0,null,0,0,0,0,0,0,0,0,0,0,0,0,0,0,0,0,0,0,0,null,0,0,0,0,null,0,0,0,0,null,0,0,0,0,null,0,0,0,0,null,0,0,0,0,0,0,0,0,0,0,0,0,0,0,0,0,0,0,0,0,20,0,0,20,0,1534,0,0,1534,1534,"Yes",0,0,0]
[null,18,null,"Tree Trimmer","Vendor #13",null,"SW008061","2018-10-12","2018-10-13","Yes",{"$f":"VLOOKUP($D38,'C.1 - Rate Sheets'!$B$16:$E$35,2)","v":48.5},{"$f":"VLOOKUP($D38,'C.1 - Rate Sheets'!$B$16:$E$35,3)","v":65.5},{"$f":"VLOOKUP($D38,'C.1 - Rate Sheets'!$B$16:$E$35,4)","v":77.599999999999994},{"$f":"VLOOKUP($D38,'C.1 - Rate Sheets'!B:F,5,FALSE)","v":0},0,0,0,0,0,0,0,0,0,0,0,0,0,0,0,0,0,0,0,0,null,4,null,null,4,null,16,null,null,16,null,null,null,null,0,null,null,null,null,0,null,null,null,null,0,null,null,null,null,0,null,null,null,null,0,null,null,null,null,0,null,null,null,null,0,null,null,null,null,0,null,null,null,null,0,0,0,0,0,0,0,0,0,0,0,0,0,0,0,0,0,0,0,0,0,null,0,0,0,0,null,0,0,0,0,null,0,0,0,0,null,0,0,0,0,null,0,0,0,0,0,0,0,0,0,0,0,0,0,0,0,0,0,0,0,0,20,0,0,20,0,1310,0,0,1310,1310,"Yes",0,0,0]
[null,19,null,"Supervisor","Vendor #13",null,"SW008062","2018-10-10","2018-10-13","Yes",{"$f":"VLOOKUP($D39,'C.1 - Rate Sheets'!$B$16:$E$35,2)","v":74},{"$f":"VLOOKUP($D39,'C.1 - Rate Sheets'!$B$16:$E$35,3)","v":99.9},{"$f":"VLOOKUP($D39,'C.1 - Rate Sheets'!$B$16:$E$35,4)","v":118.4},{"$f":"VLOOKUP($D39,'C.1 - Rate Sheets'!B:F,5,FALSE)","v":0},0,0,0,0,0,0,0,0,0,0,10,5,0,0,15,0,0,0,0,0,null,null,null,null,0,null,null,null,null,0,null,null,null,null,0,null,null,null,null,0,null,null,null,null,0,null,null,null,null,0,null,null,null,null,0,null,null,null,null,0,null,null,null,null,0,null,null,null,null,0,null,null,null,null,0,0,0,0,0,0,0,0,0,0,0,0,0,0,0,0,0,0,0,0,0,0,0,0,0,0,0,0,0,0,0,0,0,0,0,0,0,0,0,0,0,0,0,0,0,0,null,0,0,0,0,null,0,0,0,0,null,0,0,0,0,10,5,0,0,15,740,499.5,0,0,{"$f":"SUM(EY39:FB39)","v":1239.5},1239.5,"Yes",0,0,0]
[null,20,null,"Supervisor","Vendor #13",null,"SW008063","2018-10-13","2018-10-13","Yes",{"$f":"VLOOKUP($D40,'C.1 - Rate Sheets'!$B$16:$E$35,2)","v":74},{"$f":"VLOOKUP($D40,'C.1 - Rate Sheets'!$B$16:$E$35,3)","v":99.9},{"$f":"VLOOKUP($D40,'C.1 - Rate Sheets'!$B$16:$E$35,4)","v":118.4},{"$f":"VLOOKUP($D40,'C.1 - Rate Sheets'!B:F,5,FALSE)","v":0},0,0,0,0,0,0,0,0,0,0,0,0,0,0,0,0,0,0,0,0,null,null,null,null,0,null,16,null,null,16,null,null,null,null,0,null,null,null,null,0,null,null,null,null,0,null,null,null,null,0,null,null,null,null,0,null,null,null,null,0,null,null,null,null,0,null,null,null,null,0,null,null,null,null,0,0,0,0,0,0,0,0,0,0,0,0,0,0,0,0,0,0,0,0,0,0,0,0,0,0,0,0,0,0,0,0,0,0,0,0,0,0,0,0,0,0,0,0,0,0,null,0,0,0,0,null,0,0,0,0,null,0,0,0,0,0,16,0,0,16,0,1598.4,0,0,1598.4,1598.4,"Yes",0,0,0]
[null,21,null,"Supervisor","Vendor #13",null,"SW007707","2018-10-17","2018-10-20","Yes",{"$f":"VLOOKUP($D41,'C.1 - Rate Sheets'!$B$16:$E$35,2)","v":74},{"$f":"VLOOKUP($D41,'C.1 - Rate Sheets'!$B$16:$E$35,3)","v":99.9},{"$f":"VLOOKUP($D41,'C.1 - Rate Sheets'!$B$16:$E$35,4)","v":118.4},{"$f":"VLOOKUP($D41,'C.1 - Rate Sheets'!B:F,5,FALSE)","v":0},0,0,0,0,0,0,0,0,0,0,0,0,0,0,{"$f":"SUM(Y41:AB41)","v":0},0,0,0,0,{"$f":"SUM(AD41:AG41)","v":0},null,null,null,null,{"$f":"SUM(AI41:AL41)","v":0},null,null,null,null,{"$f":"SUM(AN41:AQ41)","v":0},null,null,null,null,0,null,null,null,null,0,null,null,null,null,0,2,null,null,null,{"$f":"SUM(BH41:BK41)","v":2},null,null,null,null,{"$f":"SUM(BM41:BP41)","v":0},null,null,null,null,{"$f":"SUM(BR41:BU41)","v":0},null,null,null,null,{"$f":"SUM(BW41:BZ41)","v":0},null,null,null,null,0,null,null,null,null,0,0,0,0,0,0,0,0,0,0,0,0,0,0,0,0,0,0,0,0,0,0,0,0,0,0,0,0,0,0,0,0,0,0,0,0,0,0,0,0,0,0,0,0,0,0,null,0,0,0,0,null,0,0,0,0,null,0,0,0,0,2,0,0,0,2,148,0,0,0,{"$f":"SUM(EY41:FB41)","v":148},148,"Yes",0,0,0]
[null,22,null,"Supervisor","Vendor #13",null,"SW007708","2018-10-17","2018-10-20","Yes",{"$f":"VLOOKUP($D42,'C.1 - Rate Sheets'!$B$16:$E$35,2)","v":74},{"$f":"VLOOKUP($D42,'C.1 - Rate Sheets'!$B$16:$E$35,3)","v":99.9},{"$f":"VLOOKUP($D42,'C.1 - Rate Sheets'!$B$16:$E$35,4)","v":118.4},{"$f":"VLOOKUP($D42,'C.1 - Rate Sheets'!B:F,5,FALSE)","v":0},0,0,0,0,0,0,0,0,0,0,0,0,0,0,0,0,0,0,0,0,null,null,null,null,0,null,null,null,null,0,null,null,null,null,0,null,null,null,null,0,null,null,null,null,0,6,8,null,null,14,8,8,null,null,16,8,8,null,null,16,null,16,null,null,16,null,null,null,null,0,null,null,null,null,0,0,0,0,0,0,0,0,0,0,0,0,0,0,0,0,0,0,0,0,0,0,0,0,0,0,0,0,0,0,0,0,0,0,0,0,0,0,0,0,0,0,0,0,0,0,null,0,0,0,0,null,0,0,0,0,null,0,0,0,0,22,40,0,0,62,1628,3996,0,0,5624,5624,"Yes",0,0,0]
[null,23,null,"Crew Foreman","Vendor #13",null,"SW007709","2018-10-17","2018-10-20","Yes",{"$f":"VLOOKUP($D43,'C.1 - Rate Sheets'!$B$16:$E$35,2)","v":56.8},{"$f":"VLOOKUP($D43,'C.1 - Rate Sheets'!$B$16:$E$35,3)","v":76.7},{"$f":"VLOOKUP($D43,'C.1 - Rate Sheets'!$B$16:$E$35,4)","v":90.9},{"$f":"VLOOKUP($D43,'C.1 - Rate Sheets'!B:F,5,FALSE)","v":0},0,0,0,0,0,0,0,0,0,0,0,0,0,0,0,0,0,0,0,0,null,null,null,null,0,null,null,null,null,0,null,null,null,null,0,null,null,null,null,0,null,null,null,null,0,2,null,null,null,2,null,null,null,null,0,null,null,null,null,0,null,null,null,null,0,null,null,null,null,0,null,null,null,null,0,0,0,0,0,0,0,0,0,0,0,0,0,0,0,0,0,0,0,0,0,0,0,0,0,0,0,0,0,0,0,0,0,0,0,0,0,0,0,0,0,0,0,0,0,0,0,0,0,0,0,0,0,0,0,0,0,0,0,0,0,2,0,0,0,2,113.6,0,0,0,113.6,113.6,"Yes",0,0,0]
[null,24,null,"Tree Trimmer","Vendor #13",null,"SW007709","2018-10-17","2018-10-20","Yes",{"$f":"VLOOKUP($D44,'C.1 - Rate Sheets'!$B$16:$E$35,2)","v":48.5},{"$f":"VLOOKUP($D44,'C.1 - Rate Sheets'!$B$16:$E$35,3)","v":65.5},{"$f":"VLOOKUP($D44,'C.1 - Rate Sheets'!$B$16:$E$35,4)","v":77.599999999999994},{"$f":"VLOOKUP($D44,'C.1 - Rate Sheets'!B:F,5,FALSE)","v":0},0,0,0,0,0,0,0,0,0,0,0,0,0,0,0,0,0,0,0,0,null,null,null,null,0,null,null,null,null,0,null,null,null,null,0,null,null,null,null,0,null,null,null,null,0,2,null,null,null,2,null,null,null,null,0,null,null,null,null,0,null,null,null,null,0,null,null,null,null,0,null,null,null,null,0,0,0,0,0,0,0,0,0,0,0,0,0,0,0,0,0,0,0,0,0,0,0,0,0,0,0,0,0,0,0,0,0,0,0,0,0,0,0,0,0,0,0,0,0,0,0,0,0,0,0,0,0,0,0,0,0,0,0,0,0,2,0,0,0,2,97,0,0,0,97,97,"Yes",0,0,0]
[null,25,null,"Crew Foreman","Vendor #13",null,"SW007712","2018-10-17","2018-10-20","Yes",{"$f":"VLOOKUP($D45,'C.1 - Rate Sheets'!$B$16:$E$35,2)","v":56.8},{"$f":"VLOOKUP($D45,'C.1 - Rate Sheets'!$B$16:$E$35,3)","v":76.7},{"$f":"VLOOKUP($D45,'C.1 - Rate Sheets'!$B$16:$E$35,4)","v":90.9},{"$f":"VLOOKUP($D45,'C.1 - Rate Sheets'!B:F,5,FALSE)","v":0},0,0,0,0,0,0,0,0,0,0,0,0,0,0,0,0,0,0,0,0,null,null,null,null,0,null,null,null,null,0,null,null,null,null,0,null,null,null,null,0,null,null,null,null,0,6,8,null,null,14,8,8,null,null,16,8,8,null,null,16,null,16,null,null,16,null,null,null,null,0,null,null,null,null,0,0,0,0,0,0,0,0,0,0,0,0,0,0,0,0,0,0,0,0,0,0,0,0,0,0,0,0,0,0,0,0,0,0,0,0,0,0,0,0,0,0,0,0,0,0,0,0,0,0,0,0,0,0,0,0,0,0,0,0,0,22,40,0,0,62,1249.5999999999999,3068,0,0,4317.6000000000004,4317.6000000000004,"Yes",0,0,0]
[null,26,null,"Tree Trimmer","Vendor #13",null,"SW007712","2018-10-17","2018-10-20","Yes",{"$f":"VLOOKUP($D46,'C.1 - Rate Sheets'!$B$16:$E$35,2)","v":48.5},{"$f":"VLOOKUP($D46,'C.1 - Rate Sheets'!$B$16:$E$35,3)","v":65.5},{"$f":"VLOOKUP($D46,'C.1 - Rate Sheets'!$B$16:$E$35,4)","v":77.599999999999994},{"$f":"VLOOKUP($D46,'C.1 - Rate Sheets'!B:F,5,FALSE)","v":0},0,0,0,0,0,0,0,0,0,0,0,0,0,0,0,0,0,0,0,0,null,null,null,null,0,null,null,null,null,0,null,null,null,null,0,null,null,null,null,0,null,null,null,null,0,6,8,null,null,14,8,8,null,null,16,8,8,null,null,16,null,16,null,null,16,null,null,null,null,0,null,null,null,null,0,0,0,0,0,0,0,0,0,0,0,0,0,0,0,0,0,0,0,0,0,0,0,0,0,0,0,0,0,0,0,0,0,0,0,0,0,0,0,0,0,0,0,0,0,0,0,0,0,0,0,0,0,0,0,0,0,0,0,0,0,22,40,0,0,62,1067,2620,0,0,3687,3687,"Yes",0,0,252.8,1]
[null,27,null,"Crew Foreman","Vendor #13",null,"SW007716","2018-10-17","2018-10-20","Yes",{"$f":"VLOOKUP($D47,'C.1 - Rate Sheets'!$B$16:$E$35,2)","v":56.8},{"$f":"VLOOKUP($D47,'C.1 - Rate Sheets'!$B$16:$E$35,3)","v":76.7},{"$f":"VLOOKUP($D47,'C.1 - Rate Sheets'!$B$16:$E$35,4)","v":90.9},{"$f":"VLOOKUP($D47,'C.1 - Rate Sheets'!B:F,5,FALSE)","v":0},0,0,0,0,0,0,0,0,0,0,0,0,0,0,0,0,0,0,0,0,null,null,null,null,0,null,null,null,null,0,null,null,null,null,0,null,null,null,null,0,null,null,null,null,0,2,null,null,null,2,null,null,null,null,0,null,null,null,null,0,null,null,null,null,0,null,null,null,null,0,null,null,null,null,0,0,0,0,0,0,0,0,0,0,0,0,0,0,0,0,0,0,0,0,0,0,0,0,0,0,0,0,0,0,0,0,0,0,0,0,0,0,0,0,0,0,0,0,0,0,0,0,0,0,0,0,0,0,0,0,0,0,0,0,0,2,0,0,0,2,113.6,0,0,0,113.6,113.6,"Yes",0,0,0]
[null,28,null,"Tree Trimmer","Vendor #13",null,"SW007716","2018-10-17","2018-10-20","Yes",{"$f":"VLOOKUP($D48,'C.1 - Rate Sheets'!$B$16:$E$35,2)","v":48.5},{"$f":"VLOOKUP($D48,'C.1 - Rate Sheets'!$B$16:$E$35,3)","v":65.5},{"$f":"VLOOKUP($D48,'C.1 - Rate Sheets'!$B$16:$E$35,4)","v":77.599999999999994},{"$f":"VLOOKUP($D48,'C.1 - Rate Sheets'!B:F,5,FALSE)","v":0},0,0,0,0,0,0,0,0,0,0,0,0,0,0,0,0,0,0,0,0,null,null,null,null,0,null,null,null,null,0,null,null,null,null,0,null,null,null,null,0,null,null,null,null,0,2,null,null,null,2,null,null,null,null,0,null,null,null,null,0,null,null,null,null,0,null,null,null,null,0,null,null,null,null,0,0,0,0,0,0,0,0,0,0,0,0,0,0,0,0,0,0,0,0,0,0,0,0,0,0,0,0,0,0,0,0,0,0,0,0,0,0,0,0,0,0,0,0,0,0,0,0,0,0,0,0,0,0,0,0,0,0,0,0,0,2,0,0,0,2,97,0,0,0,97,97,"Yes",0,0,0]
[null,29,null,"Crew Foreman","Vendor #13",null,"SW007717","2018-10-17","2018-10-20","Yes",{"$f":"VLOOKUP($D49,'C.1 - Rate Sheets'!$B$16:$E$35,2)","v":56.8},{"$f":"VLOOKUP($D49,'C.1 - Rate Sheets'!$B$16:$E$35,3)","v":76.7},{"$f":"VLOOKUP($D49,'C.1 - Rate Sheets'!$B$16:$E$35,4)","v":90.9},{"$f":"VLOOKUP($D49,'C.1 - Rate Sheets'!B:F,5,FALSE)","v":0},0,0,0,0,0,0,0,0,0,0,0,0,0,0,0,0,0,0,0,0,null,null,null,null,0,null,null,null,null,0,null,null,null,null,0,null,null,null,null,0,null,null,null,null,0,6,8,null,null,14,8,8,null,null,16,8,8,null,null,16,null,16,null,null,16,null,null,null,null,0,null,null,null,null,0,0,0,0,0,0,0,0,0,0,0,0,0,0,0,0,0,0,0,0,0,0,0,0,0,0,0,0,0,0,0,0,0,0,0,0,0,0,0,0,0,0,0,0,0,0,0,0,0,0,0,0,0,0,0,0,0,0,0,0,0,22,40,0,0,62,1249.5999999999999,3068,0,0,4317.6000000000004,4317.6000000000004,"Yes",0,0,0]
[null,30,null,"Tree Trimmer","Vendor #13",null,"SW007717","2018-10-17","2018-10-20","Yes",{"$f":"VLOOKUP($D50,'C.1 - Rate Sheets'!$B$16:$E$35,2)","v":48.5},{"$f":"VLOOKUP($D50,'C.1 - Rate Sheets'!$B$16:$E$35,3)","v":65.5},{"$f":"VLOOKUP($D50,'C.1 - Rate Sheets'!$B$16:$E$35,4)","v":77.599999999999994},{"$f":"VLOOKUP($D50,'C.1 - Rate Sheets'!B:F,5,FALSE)","v":0},0,0,0,0,0,0,0,0,0,0,0,0,0,0,0,0,0,0,0,0,null,null,null,null,0,null,null,null,null,0,null,null,null,null,0,null,null,null,null,0,null,null,null,null,0,14,null,null,null,14,8,8,null,null,16,8,8,null,null,16,null,16,null,null,16,null,null,null,null,0,null,null,null,null,0,0,0,0,0,0,0,0,0,0,0,0,0,0,0,0,0,0,0,0,0,0,0,0,0,0,0,0,0,0,0,0,0,0,0,0,0,0,0,0,0,0,0,0,0,0,0,0,0,0,0,0,0,0,0,0,0,0,0,0,0,30,32,0,0,62,1455,2096,0,0,3551,3551,"Yes",0,0,728,2]
[null,31,null,"Crew Foreman","Vendor #13",null,"SW007718","2018-10-17","2018-10-20","Yes",{"$f":"VLOOKUP($D51,'C.1 - Rate Sheets'!$B$16:$E$35,2)","v":56.8},{"$f":"VLOOKUP($D51,'C.1 - Rate Sheets'!$B$16:$E$35,3)","v":76.7},{"$f":"VLOOKUP($D51,'C.1 - Rate Sheets'!$B$16:$E$35,4)","v":90.9},{"$f":"VLOOKUP($D51,'C.1 - Rate Sheets'!B:F,5,FALSE)","v":0},0,0,0,0,0,0,0,0,0,0,0,0,0,0,0,0,0,0,0,0,null,null,null,null,0,null,null,null,null,0,null,null,null,null,0,null,null,null,null,0,null,null,null,null,0,2,null,null,null,2,null,null,null,null,0,null,null,null,null,0,null,null,null,null,0,null,null,null,null,0,null,null,null,null,0,0,0,0,0,0,0,0,0,0,0,0,0,0,0,0,0,0,0,0,0,0,0,0,0,0,0,0,0,0,0,0,0,0,0,0,0,0,0,0,0,0,0,0,0,0,0,0,0,0,0,0,0,0,0,0,0,0,0,0,0,2,0,0,0,2,113.6,0,0,0,113.6,113.6,"Yes",0,0,0]
[null,32,null,"Tree Trimmer","Vendor #13",null,"SW007718","2018-10-17","2018-10-20","Yes",{"$f":"VLOOKUP($D52,'C.1 - Rate Sheets'!$B$16:$E$35,2)","v":48.5},{"$f":"VLOOKUP($D52,'C.1 - Rate Sheets'!$B$16:$E$35,3)","v":65.5},{"$f":"VLOOKUP($D52,'C.1 - Rate Sheets'!$B$16:$E$35,4)","v":77.599999999999994},{"$f":"VLOOKUP($D52,'C.1 - Rate Sheets'!B:F,5,FALSE)","v":0},0,0,0,0,0,0,0,0,0,0,0,0,0,0,0,0,0,0,0,0,null,null,null,null,0,null,null,null,null,0,null,null,null,null,0,null,null,null,null,0,null,null,null,null,0,2,null,null,null,2,null,null,null,null,0,null,null,null,null,0,null,null,null,null,0,null,null,null,null,0,null,null,null,null,0,0,0,0,0,0,0,0,0,0,0,0,0,0,0,0,0,0,0,0,0,0,0,0,0,0,0,0,0,0,0,0,0,0,0,0,0,0,0,0,0,0,0,0,0,0,0,0,0,0,0,0,0,0,0,0,0,0,0,0,0,2,0,0,0,2,97,0,0,0,97,97,"Yes",0,0,0]
[null,33,null,"Crew Foreman","Vendor #13",null,"SW007719","2018-10-17","2018-10-20","Yes",{"$f":"VLOOKUP($D53,'C.1 - Rate Sheets'!$B$16:$E$35,2)","v":56.8},{"$f":"VLOOKUP($D53,'C.1 - Rate Sheets'!$B$16:$E$35,3)","v":76.7},{"$f":"VLOOKUP($D53,'C.1 - Rate Sheets'!$B$16:$E$35,4)","v":90.9},{"$f":"VLOOKUP($D53,'C.1 - Rate Sheets'!B:F,5,FALSE)","v":0},0,0,0,0,{"$f":"SUM(O53:R53)","v":0},0,0,0,0,0,0,0,0,0,0,0,0,0,0,0,null,null,null,null,0,null,null,null,null,0,null,null,null,null,0,null,null,null,null,0,null,null,null,null,0,6,8,null,null,14,8,8,null,null,16,8,8,null,null,16,null,16,null,null,16,null,null,null,null,0,null,null,null,null,0,0,0,0,0,0,0,0,0,0,0,0,0,0,0,0,0,0,0,0,0,0,0,0,0,0,0,0,0,0,0,0,0,0,0,0,0,0,0,0,0,0,0,0,0,0,0,0,0,0,0,0,0,0,0,0,0,0,0,0,0,22,40,0,0,62,1249.5999999999999,3068,0,0,4317.6000000000004,4317.6000000000004,"Yes",0,0,0]
[null,34,null,"Tree Trimmer","Vendor #13",null,"SW007719","2018-10-17","2018-10-20","Yes",{"$f":"VLOOKUP($D54,'C.1 - Rate Sheets'!$B$16:$E$35,2)","v":48.5},{"$f":"VLOOKUP($D54,'C.1 - Rate Sheets'!$B$16:$E$35,3)","v":65.5},{"$f":"VLOOKUP($D54,'C.1 - Rate Sheets'!$B$16:$E$35,4)","v":77.599999999999994},{"$f":"VLOOKUP($D54,'C.1 - Rate Sheets'!B:F,5,FALSE)","v":0},0,0,0,0,0,0,0,0,0,0,0,0,0,0,0,0,0,0,0,0,null,null,null,null,0,null,null,null,null,0,null,null,null,null,0,null,null,null,null,0,null,null,null,null,0,14,null,null,null,14,8,8,null,null,16,8,8,null,null,16,null,16,null,null,16,null,null,null,null,0,null,null,null,null,0,0,0,0,0,0,0,0,0,0,0,0,0,0,0,0,0,0,0,0,0,0,0,0,0,0,0,0,0,0,0,0,0,0,0,0,0,0,0,0,0,0,0,0,0,0,0,0,0,0,0,0,0,0,0,0,0,0,0,0,0,30,32,0,0,62,1455,2096,0,0,3551,3551,"Yes",0,0,728,3]
[null,35,null,"Crew Foreman","Vendor #13",null,"SW007720","2018-10-17","2018-10-20","Yes",{"$f":"VLOOKUP($D55,'C.1 - Rate Sheets'!$B$16:$E$35,2)","v":56.8},{"$f":"VLOOKUP($D55,'C.1 - Rate Sheets'!$B$16:$E$35,3)","v":76.7},{"$f":"VLOOKUP($D55,'C.1 - Rate Sheets'!$B$16:$E$35,4)","v":90.9},{"$f":"VLOOKUP($D55,'C.1 - Rate Sheets'!B:F,5,FALSE)","v":0},0,0,0,0,0,0,0,0,0,0,0,0,0,0,0,0,0,0,0,0,null,null,null,null,0,null,null,null,null,0,null,null,null,null,0,null,null,null,null,0,null,null,null,null,0,2,null,null,null,2,null,null,null,null,0,null,null,null,null,0,null,null,null,null,0,null,null,null,null,0,null,null,null,null,0,0,0,0,0,0,0,0,0,0,0,0,0,0,0,0,0,0,0,0,0,0,0,0,0,0,0,0,0,0,0,0,0,0,0,0,0,0,0,0,0,0,0,0,0,0,0,0,0,0,0,0,0,0,0,0,0,0,0,0,0,2,0,0,0,2,113.6,0,0,0,113.6,113.6,"Yes",0,0,0]
[null,36,null,"Tree Trimmer","Vendor #13",null,"SW007720","2018-10-17","2018-10-20","Yes",{"$f":"VLOOKUP($D56,'C.1 - Rate Sheets'!$B$16:$E$35,2)","v":48.5},{"$f":"VLOOKUP($D56,'C.1 - Rate Sheets'!$B$16:$E$35,3)","v":65.5},{"$f":"VLOOKUP($D56,'C.1 - Rate Sheets'!$B$16:$E$35,4)","v":77.599999999999994},{"$f":"VLOOKUP($D56,'C.1 - Rate Sheets'!B:F,5,FALSE)","v":0},0,0,0,0,0,0,0,0,0,0,0,0,0,0,0,0,0,0,0,0,null,null,null,null,0,null,null,null,null,0,null,null,null,null,0,null,null,null,null,0,null,null,null,null,0,2,null,null,null,2,null,null,null,null,0,null,null,null,null,0,null,null,null,null,0,null,null,null,null,0,null,null,null,null,0,0,0,0,0,0,0,0,0,0,0,0,0,0,0,0,0,0,0,0,0,0,0,0,0,0,0,0,0,0,0,0,0,0,0,0,0,0,0,0,0,0,0,0,0,0,0,0,0,0,0,0,0,0,0,0,0,0,0,0,0,2,0,0,0,2,97,0,0,0,97,97,"Yes",0,0,0]
[null,37,null,"Crew Foreman","Vendor #13",null,"SW007721","2018-10-17","2018-10-20","Yes",{"$f":"VLOOKUP($D57,'C.1 - Rate Sheets'!$B$16:$E$35,2)","v":56.8},{"$f":"VLOOKUP($D57,'C.1 - Rate Sheets'!$B$16:$E$35,3)","v":76.7},{"$f":"VLOOKUP($D57,'C.1 - Rate Sheets'!$B$16:$E$35,4)","v":90.9},{"$f":"VLOOKUP($D57,'C.1 - Rate Sheets'!B:F,5,FALSE)","v":0},0,0,0,0,0,0,0,0,0,0,0,0,0,0,0,0,0,0,0,0,null,null,null,null,0,null,null,null,null,0,null,null,null,null,0,null,null,null,null,0,null,null,null,null,0,6,8,null,null,14,8,8,null,null,16,8,8,null,null,16,null,null,null,null,0,null,null,null,null,0,null,null,null,null,0,0,0,0,0,0,0,0,0,0,0,0,0,0,0,0,0,0,0,0,0,0,0,0,0,0,0,0,0,0,0,0,0,0,0,0,0,0,0,0,0,0,0,0,0,0,0,0,0,0,0,0,0,0,0,0,0,0,0,0,0,22,24,0,0,46,1249.5999999999999,1840.8000000000002,0,0,3090.4,3090.4,"Yes",0,0,0]
[null,38,null,"Tree Trimmer","Vendor #13",null,"SW007721","2018-10-17","2018-10-20","Yes",{"$f":"VLOOKUP($D58,'C.1 - Rate Sheets'!$B$16:$E$35,2)","v":48.5},{"$f":"VLOOKUP($D58,'C.1 - Rate Sheets'!$B$16:$E$35,3)","v":65.5},{"$f":"VLOOKUP($D58,'C.1 - Rate Sheets'!$B$16:$E$35,4)","v":77.599999999999994},{"$f":"VLOOKUP($D58,'C.1 - Rate Sheets'!B:F,5,FALSE)","v":0},0,0,0,0,0,0,0,0,0,0,0,0,0,0,0,0,0,0,0,0,null,null,null,null,0,null,null,null,null,0,null,null,null,null,0,null,null,null,null,0,null,null,null,null,0,6,8,null,null,14,null,null,null,null,0,null,null,null,null,0,null,null,null,null,0,null,null,null,null,0,null,null,null,null,0,0,0,0,0,0,0,0,0,0,0,0,0,0,0,0,0,0,0,0,0,0,0,0,0,0,0,0,0,0,0,0,0,0,0,0,0,0,0,0,0,0,0,0,0,0,0,0,0,0,0,0,0,0,0,0,0,0,0,0,0,6,8,0,0,14,291,524,0,0,815,815,"Yes",0,0,118,4]
[null,39,null,"Supervisor","Vendor #13",null,"SW007752","2018-10-17","2018-10-20","Yes",{"$f":"VLOOKUP($D59,'C.1 - Rate Sheets'!$B$16:$E$35,2)","v":74},{"$f":"VLOOKUP($D59,'C.1 - Rate Sheets'!$B$16:$E$35,3)","v":99.9},{"$f":"VLOOKUP($D59,'C.1 - Rate Sheets'!$B$16:$E$35,4)","v":118.4},{"$f":"VLOOKUP($D59,'C.1 - Rate Sheets'!B:F,5,FALSE)","v":0},0,0,0,0,0,0,0,0,0,0,0,0,0,0,0,0,0,0,0,0,null,null,null,null,0,null,null,null,null,0,null,null,null,null,0,null,null,null,null,0,null,null,null,null,0,2,null,null,null,2,null,null,null,null,0,null,null,null,null,0,null,null,null,null,0,null,null,null,null,0,null,null,null,null,0,0,0,0,0,0,0,0,0,0,0,0,0,0,0,0,0,0,0,0,0,0,0,0,0,0,0,0,0,0,0,0,0,0,0,0,0,0,0,0,0,0,0,0,0,0,0,0,0,0,0,0,0,0,0,0,0,0,0,0,0,2,0,0,0,2,148,0,0,0,148,148,"Yes",0,0,0]
[null,40,null,"Supervisor","Vendor #13",null,"SW007753","2018-10-17","2018-10-20","Yes",{"$f":"VLOOKUP($D60,'C.1 - Rate Sheets'!$B$16:$E$35,2)","v":74},{"$f":"VLOOKUP($D60,'C.1 - Rate Sheets'!$B$16:$E$35,3)","v":99.9},{"$f":"VLOOKUP($D60,'C.1 - Rate Sheets'!$B$16:$E$35,4)","v":118.4},{"$f":"VLOOKUP($D60,'C.1 - Rate Sheets'!B:F,5,FALSE)","v":0},0,0,0,0,0,0,0,0,0,0,0,0,0,0,0,0,0,0,0,0,null,null,null,null,0,null,null,null,null,0,null,null,null,null,0,null,null,null,null,0,null,null,null,null,0,6,8,null,null,14,8,8,null,null,16,8,8,null,null,16,null,16,null,null,16,null,null,null,null,0,null,null,null,null,0,0,0,0,0,0,0,0,0,0,0,0,0,0,0,0,0,0,0,0,0,0,0,0,0,0,0,0,0,0,0,0,0,0,0,0,0,0,0,0,0,0,0,0,0,0,0,0,0,0,0,0,0,0,0,0,0,0,0,0,0,22,40,0,0,62,1628,3996,0,0,5624,5624,"Yes",0,0,0]
[null,41,null,"Crew Foreman","Vendor #13",null,"SW007754","2018-10-17","2018-10-20","Yes",{"$f":"VLOOKUP($D61,'C.1 - Rate Sheets'!$B$16:$E$35,2)","v":56.8},{"$f":"VLOOKUP($D61,'C.1 - Rate Sheets'!$B$16:$E$35,3)","v":76.7},{"$f":"VLOOKUP($D61,'C.1 - Rate Sheets'!$B$16:$E$35,4)","v":90.9},{"$f":"VLOOKUP($D61,'C.1 - Rate Sheets'!B:F,5,FALSE)","v":0},0,0,0,0,0,0,0,0,0,0,0,0,0,0,0,0,0,0,0,0,null,null,null,null,0,null,null,null,null,0,null,null,null,null,0,null,null,null,null,0,null,null,null,null,0,2,null,null,null,2,null,null,null,null,0,null,null,null,null,0,null,null,null,null,0,null,null,null,null,0,null,null,null,null,0,0,0,0,0,0,0,0,0,0,0,0,0,0,0,0,0,0,0,0,0,0,0,0,0,0,0,0,0,0,0,0,0,0,0,0,0,0,0,0,0,0,0,0,0,0,0,0,0,0,0,0,0,0,0,0,0,0,0,0,0,2,0,0,0,2,113.6,0,0,0,113.6,113.6,"Yes",0,0,0]
[null,42,null,"Tree Trimmer","Vendor #13",null,"SW007754","2018-10-17","2018-10-20","Yes",{"$f":"VLOOKUP($D62,'C.1 - Rate Sheets'!$B$16:$E$35,2)","v":48.5},{"$f":"VLOOKUP($D62,'C.1 - Rate Sheets'!$B$16:$E$35,3)","v":65.5},{"$f":"VLOOKUP($D62,'C.1 - Rate Sheets'!$B$16:$E$35,4)","v":77.599999999999994},{"$f":"VLOOKUP($D62,'C.1 - Rate Sheets'!B:F,5,FALSE)","v":0},0,0,0,0,0,0,0,0,0,0,0,0,0,0,0,0,0,0,0,0,null,null,null,null,0,null,null,null,null,0,null,null,null,null,0,null,null,null,null,0,null,null,null,null,0,2,null,null,null,2,null,null,null,null,0,null,null,null,null,0,null,null,null,null,0,null,null,null,null,0,null,null,null,null,0,0,0,0,0,0,0,0,0,0,0,0,0,0,0,0,0,0,0,0,0,0,0,0,0,0,0,0,0,0,0,0,0,0,0,0,0,0,0,0,0,0,0,0,0,0,0,0,0,0,0,0,0,0,0,0,0,0,0,0,0,2,0,0,0,2,97,0,0,0,97,97,"Yes",0,0,0]
[null,43,null,"Crew Foreman","Vendor #13",null,"SW007755","2018-10-17","2018-10-20","Yes",{"$f":"VLOOKUP($D63,'C.1 - Rate Sheets'!$B$16:$E$35,2)","v":56.8},{"$f":"VLOOKUP($D63,'C.1 - Rate Sheets'!$B$16:$E$35,3)","v":76.7},{"$f":"VLOOKUP($D63,'C.1 - Rate Sheets'!$B$16:$E$35,4)","v":90.9},{"$f":"VLOOKUP($D63,'C.1 - Rate Sheets'!B:F,5,FALSE)","v":0},0,0,0,0,0,0,0,0,0,0,0,0,0,0,0,0,0,0,0,0,null,null,null,null,0,null,null,null,null,0,null,null,null,null,0,null,null,null,null,0,null,null,null,null,0,6,8,null,null,14,8,8,null,null,16,8,8,null,null,16,null,16,null,null,16,null,null,null,null,0,null,null,null,null,0,0,0,0,0,0,0,0,0,0,0,0,0,0,0,0,0,0,0,0,0,0,0,0,0,0,0,0,0,0,0,0,0,0,0,0,0,0,0,0,0,0,0,0,0,0,0,0,0,0,0,0,0,0,0,0,0,0,0,0,0,22,40,0,0,62,1249.5999999999999,3068,0,0,4317.6000000000004,4317.6000000000004,"Yes",0,0,0]
[null,44,null,"Tree Trimmer","Vendor #13",null,"SW007755","2018-10-17","2018-10-20","Yes",{"$f":"VLOOKUP($D64,'C.1 - Rate Sheets'!$B$16:$E$35,2)","v":48.5},{"$f":"VLOOKUP($D64,'C.1 - Rate Sheets'!$B$16:$E$35,3)","v":65.5},{"$f":"VLOOKUP($D64,'C.1 - Rate Sheets'!$B$16:$E$35,4)","v":77.599999999999994},{"$f":"VLOOKUP($D64,'C.1 - Rate Sheets'!B:F,5,FALSE)","v":0},0,0,0,0,0,0,0,0,0,0,0,0,0,0,0,0,0,0,0,0,null,null,null,null,0,null,null,null,null,0,null,null,null,null,0,null,null,null,null,0,null,null,null,null,0,6,8,null,null,14,8,8,null,null,16,8,8,null,null,16,null,16,null,null,16,null,null,null,null,0,null,null,null,null,0,0,0,0,0,0,0,0,0,0,0,0,0,0,0,0,0,0,0,0,0,0,0,0,0,0,0,0,0,0,0,0,0,0,0,0,0,0,0,0,0,0,0,0,0,0,0,0,0,0,0,0,0,0,0,0,0,0,0,0,0,22,40,0,0,62,1067,2620,0,0,3687,3687,"Yes",0,0,0]
[null,45,null,"Tree Trimmer","Vendor #13",null,"SW007757","2018-10-17","2018-10-20","Yes",{"$f":"VLOOKUP($D65,'C.1 - Rate Sheets'!$B$16:$E$35,2)","v":48.5},{"$f":"VLOOKUP($D65,'C.1 - Rate Sheets'!$B$16:$E$35,3)","v":65.5},{"$f":"VLOOKUP($D65,'C.1 - Rate Sheets'!$B$16:$E$35,4)","v":77.599999999999994},{"$f":"VLOOKUP($D65,'C.1 - Rate Sheets'!B:F,5,FALSE)","v":0},0,0,0,0,0,0,0,0,0,0,0,0,0,0,0,0,0,0,0,0,null,null,null,null,0,null,null,null,null,0,null,null,null,null,0,null,null,null,null,0,null,null,null,null,0,2,null,null,null,2,null,null,null,null,0,null,null,null,null,0,null,null,null,null,0,null,null,null,null,0,null,null,null,null,0,0,0,0,0,0,0,0,0,0,0,0,0,0,0,0,0,0,0,0,0,0,0,0,0,0,0,0,0,0,0,0,0,0,0,0,0,0,0,0,0,0,0,0,0,0,0,0,0,0,0,0,0,0,0,0,0,0,0,0,0,2,0,0,0,2,97,0,0,0,97,97,"Yes",0,0,0]
[null,46,null,"Tree Trimmer","Vendor #13",null,"SW007757","2018-10-17","2018-10-20","Yes",{"$f":"VLOOKUP($D66,'C.1 - Rate Sheets'!$B$16:$E$35,2)","v":48.5},{"$f":"VLOOKUP($D66,'C.1 - Rate Sheets'!$B$16:$E$35,3)","v":65.5},{"$f":"VLOOKUP($D66,'C.1 - Rate Sheets'!$B$16:$E$35,4)","v":77.599999999999994},{"$f":"VLOOKUP($D66,'C.1 - Rate Sheets'!B:F,5,FALSE)","v":0},0,0,0,0,0,0,0,0,0,0,0,0,0,0,0,0,0,0,0,0,null,null,null,null,0,null,null,null,null,0,null,null,null,null,0,null,null,null,null,0,null,null,null,null,0,2,null,null,null,2,null,null,null,null,0,null,null,null,null,0,null,null,null,null,0,null,null,null,null,0,null,null,null,null,0,0,0,0,0,0,0,0,0,0,0,0,0,0,0,0,0,0,0,0,0,0,0,0,0,0,0,0,0,0,0,0,0,0,0,0,0,0,0,0,0,0,0,0,0,0,0,0,0,0,0,0,0,0,0,0,0,0,0,0,0,2,0,0,0,2,97,0,0,0,97,97,"Yes",0,0,0]
[null,47,null,"Crew Foreman","Vendor #13",null,"SW007759","2018-10-17","2018-10-20","Yes",{"$f":"VLOOKUP($D67,'C.1 - Rate Sheets'!$B$16:$E$35,2)","v":56.8},{"$f":"VLOOKUP($D67,'C.1 - Rate Sheets'!$B$16:$E$35,3)","v":76.7},{"$f":"VLOOKUP($D67,'C.1 - Rate Sheets'!$B$16:$E$35,4)","v":90.9},{"$f":"VLOOKUP($D67,'C.1 - Rate Sheets'!B:F,5,FALSE)","v":0},0,0,0,0,0,0,0,0,0,0,0,0,0,0,0,0,0,0,0,0,null,null,null,null,0,null,null,null,null,0,null,null,null,null,0,null,null,null,null,0,null,null,null,null,0,6,8,null,null,14,8,8,null,null,16,8,8,null,null,16,null,16,null,null,16,null,null,null,null,0,null,null,null,null,0,0,0,0,0,0,0,0,0,0,0,0,0,0,0,0,0,0,0,0,0,0,0,0,0,0,0,0,0,0,0,0,0,0,0,0,0,0,0,0,0,0,0,0,0,0,0,0,0,0,0,0,0,0,0,0,0,0,0,0,0,22,40,0,0,62,1249.5999999999999,3068,0,0,4317.6000000000004,4317.6000000000004,"Yes",0,0,0]
[null,48,null,"Tree Trimmer","Vendor #13",null,"SW007759","2018-10-17","2018-10-20","Yes",{"$f":"VLOOKUP($D68,'C.1 - Rate Sheets'!$B$16:$E$35,2)","v":48.5},{"$f":"VLOOKUP($D68,'C.1 - Rate Sheets'!$B$16:$E$35,3)","v":65.5},{"$f":"VLOOKUP($D68,'C.1 - Rate Sheets'!$B$16:$E$35,4)","v":77.599999999999994},{"$f":"VLOOKUP($D68,'C.1 - Rate Sheets'!B:F,5,FALSE)","v":0},0,0,0,0,0,0,0,0,0,0,0,0,0,0,0,0,0,0,0,0,null,null,null,null,0,null,null,null,null,0,null,null,null,null,0,null,null,null,null,0,null,null,null,null,0,6,8,null,null,14,8,8,null,null,16,null,null,null,null,0,null,null,null,null,0,null,null,null,null,0,null,null,null,null,0,0,0,0,0,0,0,0,0,0,0,0,0,0,0,0,0,0,0,0,0,0,0,0,0,0,0,0,0,0,0,0,0,0,0,0,0,0,0,0,0,0,0,0,0,0,0,0,0,0,0,0,0,0,0,0,0,0,0,0,0,14,16,0,0,30,679,1048,0,0,1727,1727,"Yes",0,0,0]
[null,49,null,"Crew Foreman","Vendor #13",null,"SW007760","2018-10-17","2018-10-20","Yes",{"$f":"VLOOKUP($D69,'C.1 - Rate Sheets'!$B$16:$E$35,2)","v":56.8},{"$f":"VLOOKUP($D69,'C.1 - Rate Sheets'!$B$16:$E$35,3)","v":76.7},{"$f":"VLOOKUP($D69,'C.1 - Rate Sheets'!$B$16:$E$35,4)","v":90.9},{"$f":"VLOOKUP($D69,'C.1 - Rate Sheets'!B:F,5,FALSE)","v":0},0,0,0,0,0,0,0,0,0,0,0,0,0,0,0,0,0,0,0,0,null,null,null,null,0,null,null,null,null,0,null,null,null,null,0,null,null,null,null,0,null,null,null,null,0,2,null,null,null,2,null,null,null,null,0,null,null,null,null,0,null,null,null,null,0,null,null,null,null,0,null,null,null,null,0,0,0,0,0,0,0,0,0,0,0,0,0,0,0,0,0,0,0,0,0,0,0,0,0,0,0,0,0,0,0,0,0,0,0,0,0,0,0,0,0,0,0,0,0,0,0,0,0,0,0,0,0,0,0,0,0,0,0,0,0,2,0,0,0,2,113.6,0,0,0,113.6,113.6,"Yes",0,0,0]
[null,50,null,"Tree Trimmer","Vendor #13",null,"SW007760","2018-10-17","2018-10-20","Yes",{"$f":"VLOOKUP($D70,'C.1 - Rate Sheets'!$B$16:$E$35,2)","v":48.5},{"$f":"VLOOKUP($D70,'C.1 - Rate Sheets'!$B$16:$E$35,3)","v":65.5},{"$f":"VLOOKUP($D70,'C.1 - Rate Sheets'!$B$16:$E$35,4)","v":77.599999999999994},{"$f":"VLOOKUP($D70,'C.1 - Rate Sheets'!B:F,5,FALSE)","v":0},0,0,0,0,0,0,0,0,0,0,0,0,0,0,0,0,0,0,0,0,null,null,null,null,0,null,null,null,null,0,null,null,null,null,0,null,null,null,null,0,null,null,null,null,0,2,null,null,null,2,null,null,null,null,0,null,null,null,null,0,null,null,null,null,0,null,null,null,null,0,null,null,null,null,0,0,0,0,0,0,0,0,0,0,0,0,0,0,0,0,0,0,0,0,0,0,0,0,0,0,0,0,0,0,0,0,0,0,0,0,0,0,0,0,0,0,0,0,0,0,0,0,0,0,0,0,0,0,0,0,0,0,0,0,0,2,0,0,0,2,97,0,0,0,97,97,"Yes",0,0,0]
[null,51,null,"Crew Foreman","Vendor #13",null,"SW007761","2018-10-17","2018-10-20","Yes",{"$f":"VLOOKUP($D71,'C.1 - Rate Sheets'!$B$16:$E$35,2)","v":56.8},{"$f":"VLOOKUP($D71,'C.1 - Rate Sheets'!$B$16:$E$35,3)","v":76.7},{"$f":"VLOOKUP($D71,'C.1 - Rate Sheets'!$B$16:$E$35,4)","v":90.9},{"$f":"VLOOKUP($D71,'C.1 - Rate Sheets'!B:F,5,FALSE)","v":0},0,0,0,0,0,0,0,0,0,0,0,0,0,0,0,0,0,0,0,0,null,null,null,null,0,null,null,null,null,0,null,null,null,null,0,null,null,null,null,0,null,null,null,null,0,6,8,null,null,14,8,8,null,null,16,8,8,null,null,16,null,16,null,null,16,null,null,null,null,0,null,null,null,null,0,0,0,0,0,0,0,0,0,0,0,0,0,0,0,0,0,0,0,0,0,0,0,0,0,0,0,0,0,0,0,0,0,0,0,0,0,0,0,0,0,0,0,0,0,0,0,0,0,0,0,0,0,0,0,0,0,0,0,0,0,22,40,0,0,62,1249.5999999999999,3068,0,0,4317.6000000000004,4317.6000000000004,"Yes",0,0,0]
[null,52,null,"Tree Trimmer","Vendor #13",null,"SW007761","2018-10-17","2018-10-20","Yes",{"$f":"VLOOKUP($D72,'C.1 - Rate Sheets'!$B$16:$E$35,2)","v":48.5},{"$f":"VLOOKUP($D72,'C.1 - Rate Sheets'!$B$16:$E$35,3)","v":65.5},{"$f":"VLOOKUP($D72,'C.1 - Rate Sheets'!$B$16:$E$35,4)","v":77.599999999999994},{"$f":"VLOOKUP($D72,'C.1 - Rate Sheets'!B:F,5,FALSE)","v":0},0,0,0,0,0,0,0,0,0,0,0,0,0,0,0,0,0,0,0,0,null,null,null,null,0,null,null,null,null,0,null,null,null,null,0,null,null,null,null,0,null,null,null,null,0,6,8,null,null,14,8,8,null,null,16,8,8,null,null,16,null,16,null,null,16,null,null,null,null,0,null,null,null,null,0,0,0,0,0,0,0,0,0,0,0,0,0,0,0,0,0,0,0,0,0,0,0,0,0,0,0,0,0,0,0,0,0,0,0,0,0,0,0,0,0,0,0,0,0,0,0,0,0,0,0,0,0,0,0,0,0,0,0,0,0,22,40,0,0,62,1067,2620,0,0,3687,3687,"Yes",0,0,0]
[null,53,null,"Crew Foreman","Vendor #13",null,"SW007764","2018-10-17","2018-10-20","Yes",{"$f":"VLOOKUP($D73,'C.1 - Rate Sheets'!$B$16:$E$35,2)","v":56.8},{"$f":"VLOOKUP($D73,'C.1 - Rate Sheets'!$B$16:$E$35,3)","v":76.7},{"$f":"VLOOKUP($D73,'C.1 - Rate Sheets'!$B$16:$E$35,4)","v":90.9},{"$f":"VLOOKUP($D73,'C.1 - Rate Sheets'!B:F,5,FALSE)","v":0},0,0,0,0,0,0,0,0,0,0,0,0,0,0,0,0,0,0,0,0,null,null,null,null,0,null,null,null,null,0,null,null,null,null,0,null,null,null,null,0,null,null,null,null,0,6,8,null,null,14,8,8,null,null,16,8,8,null,null,16,null,16,null,null,16,null,null,null,null,0,null,null,null,null,0,0,0,0,0,0,0,0,0,0,0,0,0,0,0,0,0,0,0,0,0,0,0,0,0,0,0,0,0,0,0,0,0,0,0,0,0,0,0,0,0,0,0,0,0,0,0,0,0,0,0,0,0,0,0,0,0,0,0,0,0,22,40,0,0,62,1249.5999999999999,3068,0,0,4317.6000000000004,4317.6000000000004,"Yes",0,0,0]
[null,54,null,"Tree Trimmer","Vendor #13",null,"SW007764","2018-10-17","2018-10-20","Yes",{"$f":"VLOOKUP($D74,'C.1 - Rate Sheets'!$B$16:$E$35,2)","v":48.5},{"$f":"VLOOKUP($D74,'C.1 - Rate Sheets'!$B$16:$E$35,3)","v":65.5},{"$f":"VLOOKUP($D74,'C.1 - Rate Sheets'!$B$16:$E$35,4)","v":77.599999999999994},{"$f":"VLOOKUP($D74,'C.1 - Rate Sheets'!B:F,5,FALSE)","v":0},0,0,0,0,0,0,0,0,0,0,0,0,0,0,0,0,0,0,0,0,null,null,null,null,0,null,null,null,null,0,null,null,null,null,0,null,null,null,null,0,null,null,null,null,0,6,8,null,null,14,8,8,null,null,16,8,8,null,null,16,null,16,null,null,16,null,null,null,null,0,null,null,null,null,0,0,0,0,0,0,0,0,0,0,0,0,0,0,0,0,0,0,0,0,0,0,0,0,0,0,0,0,0,0,0,0,0,0,0,0,0,0,0,0,0,0,0,0,0,0,0,0,0,0,0,0,0,0,0,0,0,0,0,0,0,22,40,0,0,62,1067,2620,0,0,3687,3687,"Yes",0,0,0]
[null,55,null,"Crew Foreman","Vendor #13",null,"SW007766","2018-10-17","2018-10-20","Yes",{"$f":"VLOOKUP($D75,'C.1 - Rate Sheets'!$B$16:$E$35,2)","v":56.8},{"$f":"VLOOKUP($D75,'C.1 - Rate Sheets'!$B$16:$E$35,3)","v":76.7},{"$f":"VLOOKUP($D75,'C.1 - Rate Sheets'!$B$16:$E$35,4)","v":90.9},{"$f":"VLOOKUP($D75,'C.1 - Rate Sheets'!B:F,5,FALSE)","v":0},0,0,0,0,0,0,0,0,0,0,0,0,0,0,0,0,0,0,0,0,null,null,null,null,0,null,null,null,null,0,null,null,null,null,0,null,null,null,null,0,null,null,null,null,0,2,null,null,null,2,null,null,null,null,0,null,null,null,null,0,null,null,null,null,0,null,null,null,null,0,null,null,null,null,0,0,0,0,0,0,0,0,0,0,0,0,0,0,0,0,0,0,0,0,0,0,0,0,0,0,0,0,0,0,0,0,0,0,0,0,0,0,0,0,0,0,0,0,0,0,0,0,0,0,0,0,0,0,0,0,0,0,0,0,0,2,0,0,0,2,113.6,0,0,0,113.6,113.6,"Yes",0,0,0]
[null,56,null,"Tree Trimmer","Vendor #13",null,"SW007766","2018-10-17","2018-10-20","Yes",{"$f":"VLOOKUP($D76,'C.1 - Rate Sheets'!$B$16:$E$35,2)","v":48.5},{"$f":"VLOOKUP($D76,'C.1 - Rate Sheets'!$B$16:$E$35,3)","v":65.5},{"$f":"VLOOKUP($D76,'C.1 - Rate Sheets'!$B$16:$E$35,4)","v":77.599999999999994},{"$f":"VLOOKUP($D76,'C.1 - Rate Sheets'!B:F,5,FALSE)","v":0},0,0,0,0,0,0,0,0,0,0,0,0,0,0,0,0,0,0,0,0,null,null,null,null,0,null,null,null,null,0,null,null,null,null,0,null,null,null,null,0,null,null,null,null,0,2,null,null,null,2,null,null,null,null,0,null,null,null,null,0,null,null,null,null,0,null,null,null,null,0,null,null,null,null,0,0,0,0,0,0,0,0,0,0,0,0,0,0,0,0,0,0,0,0,0,0,0,0,0,0,0,0,0,0,0,0,0,0,0,0,0,0,0,0,0,0,0,0,0,0,0,0,0,0,0,0,0,0,0,0,0,0,0,0,0,2,0,0,0,2,97,0,0,0,97,97,"Yes",0,0,0]
[null,57,null,"Crew Foreman","Vendor #13",null,"SW007768","2018-10-17","2018-10-20","Yes",{"$f":"VLOOKUP($D77,'C.1 - Rate Sheets'!$B$16:$E$35,2)","v":56.8},{"$f":"VLOOKUP($D77,'C.1 - Rate Sheets'!$B$16:$E$35,3)","v":76.7},{"$f":"VLOOKUP($D77,'C.1 - Rate Sheets'!$B$16:$E$35,4)","v":90.9},{"$f":"VLOOKUP($D77,'C.1 - Rate Sheets'!B:F,5,FALSE)","v":0},0,0,0,0,0,0,0,0,0,0,0,0,0,0,0,0,0,0,0,0,null,null,null,null,0,null,null,null,null,0,null,null,null,null,0,null,null,null,null,0,null,null,null,null,0,2,null,null,null,2,null,null,null,null,0,null,null,null,null,0,null,null,null,null,0,null,null,null,null,0,null,null,null,null,0,0,0,0,0,0,0,0,0,0,0,0,0,0,0,0,0,0,0,0,0,0,0,0,0,0,0,0,0,0,0,0,0,0,0,0,0,0,0,0,0,0,0,0,0,0,0,0,0,0,0,0,0,0,0,0,0,0,0,0,0,2,0,0,0,2,113.6,0,0,0,113.6,113.6,"Yes",0,0,0]
[null,58,null,"Tree Trimmer","Vendor #13",null,"SW007768","2018-10-17","2018-10-20","Yes",{"$f":"VLOOKUP($D78,'C.1 - Rate Sheets'!$B$16:$E$35,2)","v":48.5},{"$f":"VLOOKUP($D78,'C.1 - Rate Sheets'!$B$16:$E$35,3)","v":65.5},{"$f":"VLOOKUP($D78,'C.1 - Rate Sheets'!$B$16:$E$35,4)","v":77.599999999999994},{"$f":"VLOOKUP($D78,'C.1 - Rate Sheets'!B:F,5,FALSE)","v":0},0,0,0,0,0,0,0,0,0,0,0,0,0,0,0,0,0,0,0,0,null,null,null,null,0,null,null,null,null,0,null,null,null,null,0,null,null,null,null,0,null,null,null,null,0,2,null,null,null,2,null,null,null,null,0,null,null,null,null,0,null,null,null,null,0,null,null,null,null,0,null,null,null,null,0,0,0,0,0,0,0,0,0,0,0,0,0,0,0,0,0,0,0,0,0,0,0,0,0,0,0,0,0,0,0,0,0,0,0,0,0,0,0,0,0,0,0,0,0,0,0,0,0,0,0,0,0,0,0,0,0,0,0,0,0,2,0,0,0,2,97,0,0,0,97,97,"Yes",0,0,0]
[null,59,null,"Crew Foreman","Vendor #13",null,"SW007769","2018-10-17","2018-10-20","Yes",{"$f":"VLOOKUP($D79,'C.1 - Rate Sheets'!$B$16:$E$35,2)","v":56.8},{"$f":"VLOOKUP($D79,'C.1 - Rate Sheets'!$B$16:$E$35,3)","v":76.7},{"$f":"VLOOKUP($D79,'C.1 - Rate Sheets'!$B$16:$E$35,4)","v":90.9},{"$f":"VLOOKUP($D79,'C.1 - Rate Sheets'!B:F,5,FALSE)","v":0},null,null,null,null,null,null,null,null,null,null,null,null,null,null,null,null,null,null,null,null,null,null,null,null,null,null,null,null,null,null,null,null,null,null,0,null,null,null,null,0,null,null,null,null,0,6,8,null,null,14,8,8,null,null,16,8,8,null,null,16,null,16,null,null,16,null,null,null,null,0,null,null,null,null,0,null,null,null,null,0,null,null,null,null,0,null,null,null,null,0,null,null,null,null,{"$f":"+SUM(DA79:DD79)","v":0},null,null,null,null,{"$f":"+SUM(DF79:DI79)","v":0},null,null,null,null,null,null,null,null,null,null,null,null,null,null,null,null,null,null,null,null,null,null,null,null,null,null,null,null,null,null,null,null,null,null,null,22,40,0,0,62,1249.5999999999999,3068,0,0,4317.6000000000004,4317.6000000000004,"Yes",0,0,0]
[null,60,null,"Tree Trimmer","Vendor #13",null,"SW007769","2018-10-17","2018-10-20","Yes",{"$f":"VLOOKUP($D80,'C.1 - Rate Sheets'!$B$16:$E$35,2)","v":48.5},{"$f":"VLOOKUP($D80,'C.1 - Rate Sheets'!$B$16:$E$35,3)","v":65.5},{"$f":"VLOOKUP($D80,'C.1 - Rate Sheets'!$B$16:$E$35,4)","v":77.599999999999994},{"$f":"VLOOKUP($D80,'C.1 - Rate Sheets'!B:F,5,FALSE)","v":0},null,null,null,null,null,null,null,null,null,null,null,null,null,null,null,null,null,null,null,null,null,null,null,null,null,null,null,null,null,null,null,null,null,null,0,null,null,null,null,0,null,null,null,null,0,6,8,null,null,14,8,8,null,null,16,8,8,null,null,16,null,16,null,null,16,null,null,null,null,0,null,null,null,null,0,null,null,null,null,0,null,null,null,null,0,null,null,null,null,0,null,null,null,null,0,null,null,null,null,0,null,null,null,null,null,null,null,null,null,null,null,null,null,null,null,null,null,null,null,null,null,null,null,null,null,null,null,null,null,null,null,null,null,null,null,22,40,0,0,62,1067,2620,0,0,3687,3687,"Yes",0,0,0]
[null,61,null,"Crew Foreman","Vendor #13",null,"SW007770","2018-10-17","2018-10-20","Yes",{"$f":"VLOOKUP($D81,'C.1 - Rate Sheets'!$B$16:$E$35,2)","v":56.8},{"$f":"VLOOKUP($D81,'C.1 - Rate Sheets'!$B$16:$E$35,3)","v":76.7},{"$f":"VLOOKUP($D81,'C.1 - Rate Sheets'!$B$16:$E$35,4)","v":90.9},{"$f":"VLOOKUP($D81,'C.1 - Rate Sheets'!B:F,5,FALSE)","v":0},null,null,null,null,null,null,null,null,null,null,null,null,null,null,null,null,null,null,null,null,null,null,null,null,null,null,null,null,null,null,null,null,null,null,0,null,null,null,null,0,null,null,null,null,0,8,1,null,null,9,null,null,null,null,0,null,null,null,null,0,null,null,null,null,0,null,null,null,null,0,null,null,null,null,0,null,null,null,null,0,null,null,null,null,0,null,null,null,null,0,null,null,null,null,0,null,null,null,null,0,null,null,null,null,null,null,null,null,null,null,null,null,null,null,null,null,null,null,null,null,null,null,null,null,null,null,null,null,null,null,null,null,null,null,null,8,1,0,0,9,454.4,76.7,0,0,531.1,531.1,"Yes",0,0,0]
[null,62,null,"Tree Trimmer","Vendor #13",null,"SW007770","2018-10-17","2018-10-20","Yes",{"$f":"VLOOKUP($D82,'C.1 - Rate Sheets'!$B$16:$E$35,2)","v":48.5},{"$f":"VLOOKUP($D82,'C.1 - Rate Sheets'!$B$16:$E$35,3)","v":65.5},{"$f":"VLOOKUP($D82,'C.1 - Rate Sheets'!$B$16:$E$35,4)","v":77.599999999999994},{"$f":"VLOOKUP($D82,'C.1 - Rate Sheets'!B:F,5,FALSE)","v":0},null,null,null,null,null,null,null,null,null,null,null,null,null,null,null,null,null,null,null,null,null,null,null,null,null,null,null,null,null,null,null,null,null,null,0,null,null,null,null,0,null,null,null,null,0,8,1,null,null,9,null,null,null,null,0,null,null,null,null,0,null,null,null,null,0,null,null,null,null,0,null,null,null,null,0,null,null,null,null,0,null,null,null,null,0,null,null,null,null,0,null,null,null,null,0,null,null,null,null,0,null,null,null,null,null,null,null,null,null,null,null,null,null,null,null,null,null,null,null,null,null,null,null,null,null,null,null,null,null,null,null,null,null,null,null,8,1,0,0,9,388,65.5,0,0,453.5,453.5,"Yes",0,0,0]
[null,63,null,"Crew Foreman","Vendor #13",null,"SW007771","2018-10-17","2018-10-20","Yes",{"$f":"VLOOKUP($D83,'C.1 - Rate Sheets'!$B$16:$E$35,2)","v":56.8},{"$f":"VLOOKUP($D83,'C.1 - Rate Sheets'!$B$16:$E$35,3)","v":76.7},{"$f":"VLOOKUP($D83,'C.1 - Rate Sheets'!$B$16:$E$35,4)","v":90.9},{"$f":"VLOOKUP($D83,'C.1 - Rate Sheets'!B:F,5,FALSE)","v":0},null,null,null,null,null,null,null,null,null,null,null,null,null,null,null,null,null,null,null,null,null,null,null,null,null,null,null,null,null,null,null,null,null,null,0,null,null,null,null,0,null,null,null,null,0,null,7,null,null,7,8,8,null,null,16,4,12,null,null,16,null,16,null,null,16,null,null,null,null,0,null,null,null,null,0,null,null,null,null,0,null,null,null,null,0,null,null,null,null,0,null,null,null,null,0,null,null,null,null,0,null,null,null,null,null,null,null,null,null,null,null,null,null,null,null,null,null,null,null,null,null,null,null,null,null,null,null,null,null,null,null,null,null,null,null,12,43,0,0,55,{"$f":"ET83*K83","v":681.59999999999991},{"$f":"EU83*L83","v":3298.1},{"$f":"EV83*M83","v":0},{"$f":"EW83*N83","v":0},3979.7,3979.7,"Yes",0,0,0]
[null,64,null,"Tree Trimmer","Vendor #13",null,"SW007771","2018-10-17","2018-10-20","Yes",{"$f":"VLOOKUP($D84,'C.1 - Rate Sheets'!$B$16:$E$35,2)","v":48.5},{"$f":"VLOOKUP($D84,'C.1 - Rate Sheets'!$B$16:$E$35,3)","v":65.5},{"$f":"VLOOKUP($D84,'C.1 - Rate Sheets'!$B$16:$E$35,4)","v":77.599999999999994},{"$f":"VLOOKUP($D84,'C.1 - Rate Sheets'!B:F,5,FALSE)","v":0},null,null,null,null,null,null,null,null,null,null,null,null,null,null,null,null,null,null,null,null,null,null,null,null,null,null,null,null,null,null,null,null,null,null,0,null,null,null,null,0,null,null,null,null,0,null,7,null,null,7,8,8,null,null,16,4,12,null,null,16,null,16,null,null,16,null,null,null,null,0,null,null,null,null,0,null,null,null,null,0,null,null,null,null,0,null,null,null,null,0,null,null,null,null,0,null,null,null,null,0,null,null,null,null,null,null,null,null,null,null,null,null,null,null,null,null,null,null,null,null,null,null,null,null,null,null,null,null,null,null,null,null,null,null,null,12,43,0,0,55,582,2816.5,0,0,3398.5,3398.5,"Yes",0,0,-258.3,5]
[null,65,null,"Crew Foreman","Vendor #13",null,"SW007772","2018-10-17","2018-10-20","Yes",{"$f":"VLOOKUP($D85,'C.1 - Rate Sheets'!$B$16:$E$35,2)","v":56.8},{"$f":"VLOOKUP($D85,'C.1 - Rate Sheets'!$B$16:$E$35,3)","v":76.7},{"$f":"VLOOKUP($D85,'C.1 - Rate Sheets'!$B$16:$E$35,4)","v":90.9},{"$f":"VLOOKUP($D85,'C.1 - Rate Sheets'!B:F,5,FALSE)","v":0},null,null,null,null,null,null,null,null,null,null,null,null,null,null,null,null,null,null,null,null,null,null,null,null,null,null,null,null,null,null,null,null,null,null,0,null,null,null,null,0,null,null,null,null,0,8,8,null,null,16,null,null,null,null,0,null,null,null,null,0,null,null,null,null,0,null,null,null,null,0,null,null,null,null,0,null,null,null,null,0,null,null,null,null,0,null,null,null,null,0,null,null,null,null,0,null,null,null,null,0,null,null,null,null,null,null,null,null,null,null,null,null,null,null,null,null,null,null,null,null,null,null,null,null,null,null,null,null,null,null,null,null,null,null,null,{"$f":"SUM(O85,T85,Y85,AI85,AN85,AS85,AX85,BC85,BH85,BM85,BR85,BW85,CB85,CL85, CG85,CQ85,CV85,DA85,DF85,DK85, DP85,DU85,DZ85,EE85,EJ85,EO85)","v":8},{"$f":"SUM(P85,U85,Z85,AJ85,AO85,AT85,AY85,BD85,BI85,BN85,BS85,BX85,CC85,CM85, CH85,CR85,CW85,DB85,DG85,DL85, DQ85,DV85,EA85,EF85,EK85,EP85)","v":8},{"$f":"SUM(Q85,V85,AA85,AK85,AP85,AU85,AZ85,BE85,BJ85,BO85,BT85,BY85,CD85,CN85, CI85,CS85,CX85,DC85,DH85,DM85, DR85,DW85,EB85,EG85,EL85,EQ85)","v":0},{"$f":"SUM(R85,W85,AB85,AL85,AQ85,AV85,BA85,BF85,BK85,BP85,BU85,BZ85,CO85, CJ85,CT85,CY85,DD85,DI85,DN85, DS85,DX85,EC85,EH85,EM85,ER85)","v":0},{"$f":"SUM(S85,X85,AC85,AM85,AR85,AW85,BB85,BG85,BL85,BQ85,BV85,CA85,CP85, CK85,CU85,CZ85,DE85,DJ85,DO85, DT85,DY85,ED85,EI85,EN85,ES85)","v":16},454.4,613.6,0,0,1068,{"$f":"FC85-FF85","v":1068},"Yes",0,0,0]
[null,66,null,"Tree Trimmer","Vendor #13",null,"SW007772","2018-10-17","2018-10-20","Yes",{"$f":"VLOOKUP($D86,'C.1 - Rate Sheets'!$B$16:$E$35,2)","v":48.5},{"$f":"VLOOKUP($D86,'C.1 - Rate Sheets'!$B$16:$E$35,3)","v":65.5},{"$f":"VLOOKUP($D86,'C.1 - Rate Sheets'!$B$16:$E$35,4)","v":77.599999999999994},{"$f":"VLOOKUP($D86,'C.1 - Rate Sheets'!B:F,5,FALSE)","v":0},null,null,null,null,null,null,null,null,null,null,null,null,null,null,null,null,null,null,null,null,null,null,null,null,null,null,null,null,null,null,null,null,null,null,{"$f":"SUM(AS86:AV86)","v":0},null,null,null,null,{"$f":"SUM(AX86:BA86)","v":0},null,null,null,null,{"$f":"SUM(BC86:BF86)","v":0},8,8,null,null,16,null,null,null,null,0,null,null,null,null,0,null,null,null,null,0,null,null,null,null,{"$f":"+SUM(CB86:CE86)","v":0},null,null,null,null,{"$f":"SUM(CG86:CJ86)","v":0},null,null,null,null,{"$f":"+SUM(CL86:CO86)","v":0},null,null,null,null,{"$f":"+SUM(CQ86:CT86)","v":0},null,null,null,null,{"$f":"+SUM(CV86:CY86)","v":0},null,null,null,null,{"$f":"+SUM(DA86:DD86)","v":0},null,null,null,null,{"$f":"+SUM(DF86:DI86)","v":0},null,null,null,null,null,null,null,null,null,null,null,null,null,null,null,null,null,null,null,null,null,null,null,null,null,null,null,null,null,null,null,null,null,null,null,8,8,0,0,16,388,524,0,0,912,912,"Yes",0,0,0]
[null,67,null,"Crew Foreman","Vendor #13",null,"SW007773","2018-10-18","2018-10-20","Yes",{"$f":"VLOOKUP($D87,'C.1 - Rate Sheets'!$B$16:$E$35,2)","v":56.8},{"$f":"VLOOKUP($D87,'C.1 - Rate Sheets'!$B$16:$E$35,3)","v":76.7},{"$f":"VLOOKUP($D87,'C.1 - Rate Sheets'!$B$16:$E$35,4)","v":90.9},{"$f":"VLOOKUP($D87,'C.1 - Rate Sheets'!B:F,5,FALSE)","v":0},null,null,null,null,null,null,null,null,null,null,null,null,null,null,null,null,null,null,null,null,null,null,null,null,null,null,null,null,null,null,null,null,null,null,0,null,null,null,null,0,null,null,null,null,0,null,null,null,null,0,8,8,null,null,16,4,12,null,null,16,null,16,null,null,16,null,null,null,null,0,null,null,null,null,0,null,null,null,null,0,null,null,null,null,0,null,null,null,null,0,null,null,null,null,0,null,null,null,null,0,null,null,null,null,null,null,null,null,null,null,null,null,null,null,null,null,null,null,null,null,null,null,null,null,null,null,null,null,null,null,null,null,null,null,null,12,36,0,0,48,681.59999999999991,2761.2000000000003,0,0,3442.8,3442.8,"Yes",0,0,0]
[null,68,null,"Tree Trimmer","Vendor #13",null,"SW007773","2018-10-18","2018-10-20","Yes",{"$f":"VLOOKUP($D88,'C.1 - Rate Sheets'!$B$16:$E$35,2)","v":48.5},{"$f":"VLOOKUP($D88,'C.1 - Rate Sheets'!$B$16:$E$35,3)","v":65.5},{"$f":"VLOOKUP($D88,'C.1 - Rate Sheets'!$B$16:$E$35,4)","v":77.599999999999994},{"$f":"VLOOKUP($D88,'C.1 - Rate Sheets'!B:F,5,FALSE)","v":0},null,null,null,null,null,null,null,null,null,null,null,null,null,null,null,null,null,null,null,null,null,null,null,null,null,null,null,null,null,null,null,null,null,null,0,null,null,null,null,0,null,null,null,null,0,null,null,null,null,0,8,8,null,null,16,4,12,null,null,16,null,16,null,null,16,null,null,null,null,0,null,null,null,null,0,null,null,null,null,0,null,null,null,null,0,null,null,null,null,0,null,null,null,null,0,null,null,null,null,0,null,null,null,null,null,null,null,null,null,null,null,null,null,null,null,null,null,null,null,null,null,null,null,null,null,null,null,null,null,null,null,null,null,null,null,12,36,0,0,48,582,2358,0,0,2940,2940,"Yes",0,0,-147.6,6]
[null,69,null,"Crew Foreman","Vendor #13",null,"SW007774","2018-10-18","2018-10-20","Yes",{"$f":"VLOOKUP($D89,'C.1 - Rate Sheets'!$B$16:$E$35,2)","v":56.8},{"$f":"VLOOKUP($D89,'C.1 - Rate Sheets'!$B$16:$E$35,3)","v":76.7},{"$f":"VLOOKUP($D89,'C.1 - Rate Sheets'!$B$16:$E$35,4)","v":90.9},{"$f":"VLOOKUP($D89,'C.1 - Rate Sheets'!B:F,5,FALSE)","v":0},null,null,null,null,null,null,null,null,null,null,null,null,null,null,null,null,null,null,null,null,null,null,null,null,null,null,null,null,null,null,null,null,null,null,0,null,null,null,null,0,null,null,null,null,0,null,null,null,null,0,8,8,null,null,16,4,12,null,null,16,null,16,null,null,16,null,null,null,null,0,null,null,null,null,0,null,null,null,null,0,null,null,null,null,0,null,null,null,null,0,null,null,null,null,0,null,null,null,null,0,null,null,null,null,null,null,null,null,null,null,null,null,null,null,null,null,null,null,null,null,null,null,null,null,null,null,null,null,null,null,null,null,null,null,null,12,36,0,0,48,681.59999999999991,2761.2000000000003,0,0,3442.8,3442.8,"Yes",0,0,0]
[null,70,null,"Tree Trimmer","Vendor #13",null,"SW007774","2018-10-18","2018-10-20","Yes",{"$f":"VLOOKUP($D90,'C.1 - Rate Sheets'!$B$16:$E$35,2)","v":48.5},{"$f":"VLOOKUP($D90,'C.1 - Rate Sheets'!$B$16:$E$35,3)","v":65.5},{"$f":"VLOOKUP($D90,'C.1 - Rate Sheets'!$B$16:$E$35,4)","v":77.599999999999994},{"$f":"VLOOKUP($D90,'C.1 - Rate Sheets'!B:F,5,FALSE)","v":0},null,null,null,null,null,null,null,null,null,null,null,null,null,null,null,null,null,null,null,null,null,null,null,null,null,null,null,null,null,null,null,null,null,null,0,null,null,null,null,0,null,null,null,null,0,null,null,null,null,0,8,8,null,null,16,4,12,null,null,16,null,16,null,null,16,null,null,null,null,0,null,null,null,null,0,null,null,null,null,0,null,null,null,null,0,null,null,null,null,0,null,null,null,null,0,null,null,null,null,0,null,null,null,null,null,null,null,null,null,null,null,null,null,null,null,null,null,null,null,null,null,null,null,null,null,null,null,null,null,null,null,null,null,null,null,12,36,0,0,48,582,2358,0,0,2940,2940,"Yes",0,0,0]
[null,71,null,"Crew Foreman","Vendor #13",null,"SW007775","2018-10-17","2018-10-20","Yes",{"$f":"VLOOKUP($D91,'C.1 - Rate Sheets'!$B$16:$E$35,2)","v":56.8},{"$f":"VLOOKUP($D91,'C.1 - Rate Sheets'!$B$16:$E$35,3)","v":76.7},{"$f":"VLOOKUP($D91,'C.1 - Rate Sheets'!$B$16:$E$35,4)","v":90.9},{"$f":"VLOOKUP($D91,'C.1 - Rate Sheets'!B:F,5,FALSE)","v":0},null,null,null,null,null,null,null,null,null,null,null,null,null,null,null,null,null,null,null,null,null,null,null,null,null,null,null,null,null,null,null,null,null,null,0,null,null,null,null,0,null,null,null,null,0,8,8,null,null,16,0,0,null,null,0,null,null,null,null,0,null,null,null,null,0,null,null,null,null,0,null,null,null,null,0,null,null,null,null,0,null,null,null,null,0,null,null,null,null,0,null,null,null,null,0,null,null,null,null,0,null,null,null,null,null,null,null,null,null,null,null,null,null,null,null,null,null,null,null,null,null,null,null,null,null,null,null,null,null,null,null,null,null,null,null,8,8,0,0,16,454.4,613.6,0,0,1068,1068,"Yes",0,0,0]
[null,72,null,"Tree Trimmer","Vendor #13",null,"SW007775","2018-10-14","2018-10-20","Yes",{"$f":"VLOOKUP($D92,'C.1 - Rate Sheets'!$B$16:$E$35,2)","v":48.5},{"$f":"VLOOKUP($D92,'C.1 - Rate Sheets'!$B$16:$E$35,3)","v":65.5},{"$f":"VLOOKUP($D92,'C.1 - Rate Sheets'!$B$16:$E$35,4)","v":77.599999999999994},{"$f":"VLOOKUP($D92,'C.1 - Rate Sheets'!B:F,5,FALSE)","v":0},null,null,null,null,null,null,null,null,null,null,null,null,null,null,null,null,null,null,null,null,null,null,null,null,null,null,null,null,null,null,null,null,null,null,0,null,null,null,null,0,null,null,null,null,0,8,8,null,null,16,0,0,null,null,0,null,null,null,null,0,null,null,null,null,0,null,null,null,null,0,null,null,null,null,0,null,null,null,null,0,null,null,null,null,0,null,null,null,null,0,null,null,null,null,0,null,null,null,null,0,null,null,null,null,null,null,null,null,null,null,null,null,null,null,null,null,null,null,null,null,null,null,null,null,null,null,null,null,null,null,null,null,null,null,null,8,8,0,0,16,388,524,0,0,912,912,"Yes",0,0,0]
[null,73,null,"Crew Foreman","Vendor #13",null,"SW008066","2018-10-14","2018-10-20","Yes",{"$f":"VLOOKUP($D93,'C.1 - Rate Sheets'!$B$16:$E$35,2)","v":56.8},{"$f":"VLOOKUP($D93,'C.1 - Rate Sheets'!$B$16:$E$35,3)","v":76.7},{"$f":"VLOOKUP($D93,'C.1 - Rate Sheets'!$B$16:$E$35,4)","v":90.9},{"$f":"VLOOKUP($D93,'C.1 - Rate Sheets'!B:F,5,FALSE)","v":0},null,null,null,null,null,null,null,null,null,null,null,null,null,null,null,null,null,null,null,null,null,null,null,null,null,null,null,null,null,null,null,null,16,null,16,8,8,null,null,16,8,8,null,null,16,8,8,null,null,16,8,8,null,null,16,8,8,null,null,16,null,16,null,null,16,null,null,null,null,0,null,null,null,null,0,null,null,null,null,0,null,null,null,null,0,null,null,null,null,0,null,null,null,null,0,null,null,null,null,0,null,null,null,null,null,null,null,null,null,null,null,null,null,null,null,null,null,null,null,null,null,null,null,null,null,null,null,null,null,null,null,null,null,null,null,40,56,16,0,112,2272,4295.2,1454.4,0,8021.6,8021.6,"Yes",0,0,0]
[null,74,null,"Tree Trimmer","Vendor #13",null,"SW008066","2018-10-14","2018-10-20","Yes",{"$f":"VLOOKUP($D94,'C.1 - Rate Sheets'!$B$16:$E$35,2)","v":48.5},{"$f":"VLOOKUP($D94,'C.1 - Rate Sheets'!$B$16:$E$35,3)","v":65.5},{"$f":"VLOOKUP($D94,'C.1 - Rate Sheets'!$B$16:$E$35,4)","v":77.599999999999994},{"$f":"VLOOKUP($D94,'C.1 - Rate Sheets'!B:F,5,FALSE)","v":0},null,null,null,null,null,null,null,null,null,null,null,null,null,null,null,null,null,null,null,null,null,null,null,null,null,null,null,null,null,null,null,null,16,null,16,8,8,null,null,16,8,8,null,null,16,8,8,null,null,16,8,8,null,null,16,8,8,null,null,16,null,16,null,null,16,null,null,null,null,0,null,null,null,null,0,null,null,null,null,0,null,null,null,null,0,null,null,null,null,0,null,null,null,null,0,null,null,null,null,0,null,null,null,null,null,null,null,null,null,null,null,null,null,null,null,null,null,null,null,null,null,null,null,null,null,null,null,null,null,null,null,null,null,null,null,40,56,16,0,112,1940,3668,1241.5999999999999,0,6849.6,6849.6,"Yes",0,0,0]
[null,73,null,"Crew Foreman","Vendor #13",null,"SW008067","2018-10-14","2018-10-20","Yes",{"$f":"VLOOKUP($D95,'C.1 - Rate Sheets'!$B$16:$E$35,2)","v":56.8},{"$f":"VLOOKUP($D95,'C.1 - Rate Sheets'!$B$16:$E$35,3)","v":76.7},{"$f":"VLOOKUP($D95,'C.1 - Rate Sheets'!$B$16:$E$35,4)","v":90.9},{"$f":"VLOOKUP($D95,'C.1 - Rate Sheets'!B:F,5,FALSE)","v":0},null,null,null,null,null,null,null,null,null,null,null,null,null,null,null,null,null,null,null,null,null,null,null,null,null,null,null,null,null,null,null,null,16,null,{"$f":"SUM(AS95:AV95)","v":16},8,8,null,null,{"$f":"SUM(AX95:BA95)","v":16},8,8,null,null,{"$f":"SUM(BC95:BF95)","v":16},8,8,null,null,{"$f":"SUM(BH95:BK95)","v":16},8,8,null,null,{"$f":"SUM(BM95:BP95)","v":16},8,8,null,null,{"$f":"SUM(BR95:BU95)","v":16},null,16,null,null,{"$f":"SUM(BW95:BZ95)","v":16},null,null,null,null,{"$f":"+SUM(CB95:CE95)","v":0},null,null,null,null,{"$f":"SUM(CG95:CJ95)","v":0},null,null,null,null,{"$f":"+SUM(CL95:CO95)","v":0},null,null,null,null,{"$f":"+SUM(CQ95:CT95)","v":0},null,null,null,null,{"$f":"+SUM(CV95:CY95)","v":0},null,null,null,null,{"$f":"+SUM(DA95:DD95)","v":0},null,null,null,null,{"$f":"+SUM(DF95:DI95)","v":0},null,null,null,null,null,null,null,null,null,null,null,null,null,null,null,null,null,null,null,null,null,null,null,null,null,null,null,null,null,null,null,null,null,null,null,{"$f":"SUM(O95,T95,Y95,AI95,AN95,AS95,AX95,BC95,BH95,BM95,BR95,BW95,CB95,CL95, CG95,CQ95,CV95,DA95,DF95,DK95, DP95,DU95,DZ95,EE95,EJ95,EO95)","v":40},{"$f":"SUM(P95,U95,Z95,AJ95,AO95,AT95,AY95,BD95,BI95,BN95,BS95,BX95,CC95,CM95, CH95,CR95,CW95,DB95,DG95,DL95, DQ95,DV95,EA95,EF95,EK95,EP95)","v":56},{"$f":"SUM(Q95,V95,AA95,AK95,AP95,AU95,AZ95,BE95,BJ95,BO95,BT95,BY95,CD95,CN95, CI95,CS95,CX95,DC95,DH95,DM95, DR95,DW95,EB95,EG95,EL95,EQ95)","v":16},{"$f":"SUM(R95,W95,AB95,AL95,AQ95,AV95,BA95,BF95,BK95,BP95,BU95,BZ95,CO95, CJ95,CT95,CY95,DD95,DI95,DN95, DS95,DX95,EC95,EH95,EM95,ER95)","v":0},{"$f":"SUM(S95,X95,AC95,AM95,AR95,AW95,BB95,BG95,BL95,BQ95,BV95,CA95,CP95, CK95,CU95,CZ95,DE95,DJ95,DO95, DT95,DY95,ED95,EI95,EN95,ES95)","v":112},2272,4295.2,1454.4,0,{"$f":"SUM(EY95:FB95)","v":8021.6},{"$f":"FC95-FF95","v":8021.6},"Yes",0,0,0]
[null,74,null,"Tree Trimmer","Vendor #13",null,"SW008067","2018-10-14","2018-10-20","Yes",{"$f":"VLOOKUP($D96,'C.1 - Rate Sheets'!$B$16:$E$35,2)","v":48.5},{"$f":"VLOOKUP($D96,'C.1 - Rate Sheets'!$B$16:$E$35,3)","v":65.5},{"$f":"VLOOKUP($D96,'C.1 - Rate Sheets'!$B$16:$E$35,4)","v":77.599999999999994},{"$f":"VLOOKUP($D96,'C.1 - Rate Sheets'!B:F,5,FALSE)","v":0},null,null,null,null,null,null,null,null,null,null,null,null,null,null,null,null,null,null,null,null,null,null,null,null,null,null,null,null,null,null,null,null,16,null,16,8,8,null,null,16,8,8,null,null,16,8,8,null,null,16,8,8,null,null,16,8,8,null,null,16,null,16,null,null,16,null,null,null,null,0,null,null,null,null,0,null,null,null,null,0,null,null,null,null,0,null,null,null,null,0,null,null,null,null,0,null,null,null,null,0,null,null,null,null,null,null,null,null,null,null,null,null,null,null,null,null,null,null,null,null,null,null,null,null,null,null,null,null,null,null,null,null,null,null,null,40,56,16,0,112,1940,3668,1241.5999999999999,0,6849.6,6849.6,"Yes",0,0,0]
[null,75,null,"Crew Foreman","Vendor #13",null,"SW008068","2018-10-14","2018-10-20","Yes",{"$f":"VLOOKUP($D97,'C.1 - Rate Sheets'!$B$16:$E$35,2)","v":56.8},{"$f":"VLOOKUP($D97,'C.1 - Rate Sheets'!$B$16:$E$35,3)","v":76.7},{"$f":"VLOOKUP($D97,'C.1 - Rate Sheets'!$B$16:$E$35,4)","v":90.9},{"$f":"VLOOKUP($D97,'C.1 - Rate Sheets'!B:F,5,FALSE)","v":0},null,null,null,null,null,null,null,null,null,null,null,null,null,null,null,null,null,null,null,null,null,null,null,null,null,null,null,null,null,null,null,null,16,null,16,8,8,null,null,16,8,8,null,null,16,8,8,null,null,16,8,8,null,null,16,8,8,null,null,16,null,16,null,null,16,null,null,null,null,0,null,null,null,null,0,null,null,null,null,0,null,null,null,null,0,null,null,null,null,0,null,null,null,null,0,null,null,null,null,0,null,null,null,null,null,null,null,null,null,null,null,null,null,null,null,null,null,null,null,null,null,null,null,null,null,null,null,null,null,null,null,null,null,null,null,40,56,16,0,112,2272,4295.2,1454.4,0,8021.6,8021.6,"Yes",0,0,0]
[null,76,null,"Tree Trimmer","Vendor #13",null,"SW008068","2018-10-14","2018-10-20","Yes",{"$f":"VLOOKUP($D98,'C.1 - Rate Sheets'!$B$16:$E$35,2)","v":48.5},{"$f":"VLOOKUP($D98,'C.1 - Rate Sheets'!$B$16:$E$35,3)","v":65.5},{"$f":"VLOOKUP($D98,'C.1 - Rate Sheets'!$B$16:$E$35,4)","v":77.599999999999994},{"$f":"VLOOKUP($D98,'C.1 - Rate Sheets'!B:F,5,FALSE)","v":0},null,null,null,null,null,null,null,null,null,null,null,null,null,null,null,null,null,null,null,null,null,null,null,null,null,null,null,null,null,null,null,null,16,null,16,8,8,null,null,16,8,8,null,null,16,8,8,null,null,16,8,8,null,null,16,8,8,null,null,16,null,16,null,null,16,null,null,null,null,0,null,null,null,null,0,null,null,null,null,0,null,null,null,null,0,null,null,null,null,0,null,null,null,null,0,null,null,null,null,0,null,null,null,null,null,null,null,null,null,null,null,null,null,null,null,null,null,null,null,null,null,null,null,null,null,null,null,null,null,null,null,null,null,null,null,40,56,16,0,112,1940,3668,1241.5999999999999,0,6849.6,6849.6,"Yes",0,0,0]
[null,77,null,"Crew Foreman","Vendor #13",null,"SW008069","2018-10-14","2018-10-20","Yes",{"$f":"VLOOKUP($D99,'C.1 - Rate Sheets'!$B$16:$E$35,2)","v":56.8},{"$f":"VLOOKUP($D99,'C.1 - Rate Sheets'!$B$16:$E$35,3)","v":76.7},{"$f":"VLOOKUP($D99,'C.1 - Rate Sheets'!$B$16:$E$35,4)","v":90.9},{"$f":"VLOOKUP($D99,'C.1 - Rate Sheets'!B:F,5,FALSE)","v":0},null,null,null,null,null,null,null,null,null,null,null,null,null,null,null,null,null,null,null,null,null,null,null,null,null,null,null,null,null,null,null,null,16,null,16,8,8,null,null,16,8,8,null,null,16,8,8,null,null,16,8,8,null,null,16,8,8,null,null,16,null,16,null,null,16,null,null,null,null,0,null,null,null,null,0,null,null,null,null,0,null,null,null,null,0,null,null,null,null,0,null,null,null,null,0,null,null,null,null,0,null,null,null,null,null,null,null,null,null,null,null,null,null,null,null,null,null,null,null,null,null,null,null,null,null,null,null,null,null,null,null,null,null,null,null,40,56,16,0,112,2272,4295.2,1454.4,0,8021.6,8021.6,"Yes",0,0,0]
[null,78,null,"Tree Trimmer","Vendor #13",null,"SW008069","2018-10-14","2018-10-20","Yes",{"$f":"VLOOKUP($D100,'C.1 - Rate Sheets'!$B$16:$E$35,2)","v":48.5},{"$f":"VLOOKUP($D100,'C.1 - Rate Sheets'!$B$16:$E$35,3)","v":65.5},{"$f":"VLOOKUP($D100,'C.1 - Rate Sheets'!$B$16:$E$35,4)","v":77.599999999999994},{"$f":"VLOOKUP($D100,'C.1 - Rate Sheets'!B:F,5,FALSE)","v":0},null,null,null,null,null,null,null,null,null,null,null,null,null,null,null,null,null,null,null,null,null,null,null,null,null,null,null,null,null,null,null,null,16,null,16,8,8,null,null,16,8,8,null,null,16,8,8,null,null,16,8,8,null,null,16,8,8,null,null,16,null,16,null,null,16,null,null,null,null,0,null,null,null,null,0,null,null,null,null,0,null,null,null,null,0,null,null,null,null,0,null,null,null,null,0,null,null,null,null,0,null,null,null,null,null,null,null,null,null,null,null,null,null,null,null,null,null,null,null,null,null,null,null,null,null,null,null,null,null,null,null,null,null,null,null,40,56,16,0,112,1940,3668,1241.5999999999999,0,6849.6,6849.6,"Yes",0,0,0]
[null,79,null,"Crew Foreman","Vendor #13",null,"SW008064","2018-10-14","2018-10-20","Yes",{"$f":"VLOOKUP($D101,'C.1 - Rate Sheets'!$B$16:$E$35,2)","v":56.8},{"$f":"VLOOKUP($D101,'C.1 - Rate Sheets'!$B$16:$E$35,3)","v":76.7},{"$f":"VLOOKUP($D101,'C.1 - Rate Sheets'!$B$16:$E$35,4)","v":90.9},{"$f":"VLOOKUP($D101,'C.1 - Rate Sheets'!B:F,5,FALSE)","v":0},null,null,null,null,null,null,null,null,null,null,null,null,null,null,null,null,null,null,null,null,null,null,null,null,null,null,null,null,null,null,null,null,16,null,16,8,8,null,null,16,8,8,null,null,16,8,8,null,null,16,8,8,null,null,16,8,8,null,null,16,null,16,null,null,16,null,null,null,null,0,null,null,null,null,0,null,null,null,null,0,null,null,null,null,0,null,null,null,null,0,null,null,null,null,0,null,null,null,null,0,null,null,null,null,null,null,null,null,null,null,null,null,null,null,null,null,null,null,null,null,null,null,null,null,null,null,null,null,null,null,null,null,null,null,null,40,56,16,0,112,2272,4295.2,1454.4,0,8021.6,8021.6,"Yes",0,0,0]
[null,80,null,"Tree Trimmer","Vendor #13",null,"SW008064","2018-10-14","2018-10-20","Yes",{"$f":"VLOOKUP($D102,'C.1 - Rate Sheets'!$B$16:$E$35,2)","v":48.5},{"$f":"VLOOKUP($D102,'C.1 - Rate Sheets'!$B$16:$E$35,3)","v":65.5},{"$f":"VLOOKUP($D102,'C.1 - Rate Sheets'!$B$16:$E$35,4)","v":77.599999999999994},{"$f":"VLOOKUP($D102,'C.1 - Rate Sheets'!B:F,5,FALSE)","v":0},null,null,null,null,null,null,null,null,null,null,null,null,null,null,null,null,null,null,null,null,null,null,null,null,null,null,null,null,null,null,null,null,16,null,16,8,8,null,null,16,8,8,null,null,16,8,8,null,null,16,8,8,null,null,16,8,8,null,null,16,null,16,null,null,16,null,null,null,null,0,null,null,null,null,0,null,null,null,null,0,null,null,null,null,0,null,null,null,null,0,null,null,null,null,0,null,null,null,null,0,null,null,null,null,null,null,null,null,null,null,null,null,null,null,null,null,null,null,null,null,null,null,null,null,null,null,null,null,null,null,null,null,null,null,null,40,56,16,0,112,1940,3668,1241.5999999999999,0,6849.6,6849.6,"Yes",0,0,0]
[null,81,null,"Supervisor","Vendor #13",null,"SW008065","2018-10-14","2018-10-20","Yes",{"$f":"VLOOKUP($D103,'C.1 - Rate Sheets'!$B$16:$E$35,2)","v":74},{"$f":"VLOOKUP($D103,'C.1 - Rate Sheets'!$B$16:$E$35,3)","v":99.9},{"$f":"VLOOKUP($D103,'C.1 - Rate Sheets'!$B$16:$E$35,4)","v":118.4},{"$f":"VLOOKUP($D103,'C.1 - Rate Sheets'!B:F,5,FALSE)","v":0},null,null,null,null,null,null,null,null,null,null,null,null,null,null,null,null,null,null,null,null,null,null,null,null,null,null,null,null,null,null,null,null,16,null,16,8,8,null,null,16,8,8,null,null,16,8,8,null,null,16,8,8,null,null,16,8,8,null,null,16,null,16,null,null,16,null,null,null,null,0,null,null,null,null,0,null,null,null,null,0,null,null,null,null,0,null,null,null,null,0,null,null,null,null,0,null,null,null,null,0,null,null,null,null,null,null,null,null,null,null,null,null,null,null,null,null,null,null,null,null,null,null,null,null,null,null,null,null,null,null,null,null,null,null,null,40,56,16,0,112,2960,5594.4000000000005,1894.4,0,10448.800000000001,10448.800000000001,"Yes",0,0,0]
[null,82,null,"Supervisor","Vendor #13",null,5356275,"2018-10-22","2018-10-27","Yes",{"$f":"VLOOKUP($D104,'C.1 - Rate Sheets'!$B$16:$E$35,2,TRUE)","v":74},{"$f":"VLOOKUP($D104,'C.1 - Rate Sheets'!$B$16:$E$35,3)","v":99.9},{"$f":"VLOOKUP($D104,'C.1 - Rate Sheets'!$B$16:$E$35,4)","v":118.4},{"$f":"VLOOKUP($D104,'C.1 - Rate Sheets'!B:F,5,FALSE)","v":0},null,null,null,null,null,null,null,null,null,null,null,null,null,null,null,null,null,null,null,null,null,null,null,null,null,null,null,null,null,null,null,null,null,null,0,null,null,null,null,0,null,null,null,null,0,null,null,null,null,0,null,null,null,null,0,null,null,null,null,0,null,null,null,null,0,null,null,null,null,0,2,null,null,null,2,null,null,null,null,0,null,null,null,null,0,null,null,null,null,0,null,null,null,null,0,null,null,null,null,0,null,null,null,null,null,null,null,null,null,null,null,null,null,null,null,null,null,null,null,null,null,null,null,null,null,null,null,null,null,null,null,null,null,null,null,2,0,0,0,2,148,0,0,0,148,148,"Yes",0,0,0]
[null,83,null,"Crew Foreman","Vendor #13",null,5356276,"2018-10-22","2018-10-27","Yes",{"$f":"VLOOKUP($D105,'C.1 - Rate Sheets'!$B$16:$E$35,2)","v":56.8},{"$f":"VLOOKUP($D105,'C.1 - Rate Sheets'!$B$16:$E$35,3)","v":76.7},{"$f":"VLOOKUP($D105,'C.1 - Rate Sheets'!$B$16:$E$35,4)","v":90.9},{"$f":"VLOOKUP($D105,'C.1 - Rate Sheets'!B:F,5,FALSE)","v":0},null,null,null,null,null,null,null,null,null,null,null,null,null,null,null,null,null,null,null,null,null,null,null,null,null,null,null,null,null,null,null,null,null,null,0,null,null,null,null,0,null,null,null,null,0,null,null,null,null,0,null,null,null,null,0,null,null,null,null,0,null,null,null,null,0,null,null,null,null,0,2,null,null,null,2,null,null,null,null,0,null,null,null,null,0,null,null,null,null,0,null,null,null,null,0,null,null,null,null,0,null,null,null,null,null,null,null,null,null,null,null,null,null,null,null,null,null,null,null,null,null,null,null,null,null,null,null,null,null,null,null,null,null,null,null,2,0,0,0,2,113.6,0,0,0,113.6,113.6,"Yes",0,0,0]
[null,84,null,"Tree Trimmer","Vendor #13",null,5356276,"2018-10-22","2018-10-27","Yes",{"$f":"VLOOKUP($D106,'C.1 - Rate Sheets'!$B$16:$E$35,2)","v":48.5},{"$f":"VLOOKUP($D106,'C.1 - Rate Sheets'!$B$16:$E$35,3)","v":65.5},{"$f":"VLOOKUP($D106,'C.1 - Rate Sheets'!$B$16:$E$35,4)","v":77.599999999999994},{"$f":"VLOOKUP($D106,'C.1 - Rate Sheets'!B:F,5,FALSE)","v":0},null,null,null,null,null,null,null,null,null,null,null,null,null,null,null,null,null,null,null,null,null,null,null,null,null,null,null,null,null,null,null,null,null,null,0,null,null,null,null,0,null,null,null,null,0,null,null,null,null,0,null,null,null,null,0,null,null,null,null,0,null,null,null,null,0,null,null,null,null,0,2,null,null,null,2,null,null,null,null,0,null,null,null,null,0,null,null,null,null,0,null,null,null,null,0,null,null,null,null,0,null,null,null,null,null,null,null,null,null,null,null,null,null,null,null,null,null,null,null,null,null,null,null,null,null,null,null,null,null,null,null,null,null,null,null,2,0,0,0,2,97,0,0,0,97,97,"Yes",0,0,0]
[null,85,null,"Tree Trimmer","Vendor #13",null,5356276,"2018-10-22","2018-10-27","Yes",{"$f":"VLOOKUP($D107,'C.1 - Rate Sheets'!$B$16:$E$35,2)","v":48.5},{"$f":"VLOOKUP($D107,'C.1 - Rate Sheets'!$B$16:$E$35,3)","v":65.5},{"$f":"VLOOKUP($D107,'C.1 - Rate Sheets'!$B$16:$E$35,4)","v":77.599999999999994},{"$f":"VLOOKUP($D107,'C.1 - Rate Sheets'!B:F,5,FALSE)","v":0},null,null,null,null,null,null,null,null,null,null,null,null,null,null,null,null,null,null,null,null,null,null,null,null,null,null,null,null,null,null,null,null,null,null,0,null,null,null,null,0,null,null,null,null,0,null,null,null,null,0,null,null,null,null,0,null,null,null,null,0,null,null,null,null,0,null,null,null,null,0,2,null,null,null,2,null,null,null,null,0,null,null,null,null,0,null,null,null,null,0,null,null,null,null,0,null,null,null,null,0,null,null,null,null,null,null,null,null,null,null,null,null,null,null,null,null,null,null,null,null,null,null,null,null,null,null,null,null,null,null,null,null,null,null,null,2,0,0,0,2,97,0,0,0,97,97,"Yes",0,0,0]
[null,86,null,"Crew Foreman","Vendor #13",null,5356277,"2018-10-22","2018-10-27","Yes",{"$f":"VLOOKUP($D108,'C.1 - Rate Sheets'!$B$16:$E$35,2)","v":56.8},{"$f":"VLOOKUP($D108,'C.1 - Rate Sheets'!$B$16:$E$35,3)","v":76.7},{"$f":"VLOOKUP($D108,'C.1 - Rate Sheets'!$B$16:$E$35,4)","v":90.9},{"$f":"VLOOKUP($D108,'C.1 - Rate Sheets'!B:F,5,FALSE)","v":0},null,null,null,null,null,null,null,null,null,null,null,null,null,null,null,null,null,null,null,null,null,null,null,null,null,null,null,null,null,null,null,null,null,null,0,null,null,null,null,0,null,null,null,null,0,null,null,null,null,0,null,null,null,null,0,null,null,null,null,0,null,null,null,null,0,null,null,null,null,0,2,null,null,null,2,null,null,null,null,0,null,null,null,null,0,null,null,null,null,0,null,null,null,null,0,null,null,null,null,0,null,null,null,null,null,null,null,null,null,null,null,null,null,null,null,null,null,null,null,null,null,null,null,null,null,null,null,null,null,null,null,null,null,null,null,2,0,0,0,2,113.6,0,0,0,113.6,113.6,"Yes",0,0,0]
[null,87,null,"Tree Trimmer","Vendor #13",null,5356277,"2018-10-22","2018-10-27","Yes",{"$f":"VLOOKUP($D109,'C.1 - Rate Sheets'!$B$16:$E$35,2)","v":48.5},{"$f":"VLOOKUP($D109,'C.1 - Rate Sheets'!$B$16:$E$35,3)","v":65.5},{"$f":"VLOOKUP($D109,'C.1 - Rate Sheets'!$B$16:$E$35,4)","v":77.599999999999994},{"$f":"VLOOKUP($D109,'C.1 - Rate Sheets'!B:F,5,FALSE)","v":0},null,null,null,null,null,null,null,null,null,null,null,null,null,null,null,null,null,null,null,null,null,null,null,null,null,null,null,null,null,null,null,null,null,null,0,null,null,null,null,0,null,null,null,null,0,null,null,null,null,0,null,null,null,null,0,null,null,null,null,0,null,null,null,null,0,null,null,null,null,0,2,null,null,null,2,null,null,null,null,0,null,null,null,null,0,null,null,null,null,0,null,null,null,null,0,null,null,null,null,0,null,null,null,null,null,null,null,null,null,null,null,null,null,null,null,null,null,null,null,null,null,null,null,null,null,null,null,null,null,null,null,null,null,null,null,2,0,0,0,2,97,0,0,0,97,97,"Yes",0,0,0]
[null,88,null,"Crew Foreman","Vendor #13",null,5356278,"2018-10-22","2018-10-27","Yes",{"$f":"VLOOKUP($D110,'C.1 - Rate Sheets'!$B$16:$E$35,2)","v":56.8},{"$f":"VLOOKUP($D110,'C.1 - Rate Sheets'!$B$16:$E$35,3)","v":76.7},{"$f":"VLOOKUP($D110,'C.1 - Rate Sheets'!$B$16:$E$35,4)","v":90.9},{"$f":"VLOOKUP($D110,'C.1 - Rate Sheets'!B:F,5,FALSE)","v":0},null,null,null,null,null,null,null,null,null,null,null,null,null,null,null,null,null,null,null,null,null,null,null,null,null,null,null,null,null,null,null,null,null,null,0,null,null,null,null,0,null,null,null,null,0,null,null,null,null,0,null,null,null,null,0,null,null,null,null,0,null,null,null,null,0,null,null,null,null,0,2,null,null,null,2,null,null,null,null,0,null,null,null,null,0,null,null,null,null,0,null,null,null,null,0,null,null,null,null,0,null,null,null,null,null,null,null,null,null,null,null,null,null,null,null,null,null,null,null,null,null,null,null,null,null,null,null,null,null,null,null,null,null,null,null,2,0,0,0,2,113.6,0,0,0,113.6,113.6,"Yes",0,0,0]
[null,89,null,"Tree Trimmer","Vendor #13",null,5356278,"2018-10-22","2018-10-27","Yes",{"$f":"VLOOKUP($D111,'C.1 - Rate Sheets'!$B$16:$E$35,2)","v":48.5},{"$f":"VLOOKUP($D111,'C.1 - Rate Sheets'!$B$16:$E$35,3)","v":65.5},{"$f":"VLOOKUP($D111,'C.1 - Rate Sheets'!$B$16:$E$35,4)","v":77.599999999999994},{"$f":"VLOOKUP($D111,'C.1 - Rate Sheets'!B:F,5,FALSE)","v":0},null,null,null,null,null,null,null,null,null,null,null,null,null,null,null,null,null,null,null,null,null,null,null,null,null,null,null,null,null,null,null,null,null,null,0,null,null,null,null,0,null,null,null,null,0,null,null,null,null,0,null,null,null,null,0,null,null,null,null,0,null,null,null,null,0,null,null,null,null,0,2,null,null,null,2,null,null,null,null,0,null,null,null,null,0,null,null,null,null,0,null,null,null,null,0,null,null,null,null,0,null,null,null,null,null,null,null,null,null,null,null,null,null,null,null,null,null,null,null,null,null,null,null,null,null,null,null,null,null,null,null,null,null,null,null,2,0,0,0,2,97,0,0,0,97,97,"Yes",0,0,0]
[null,90,null,"Crew Foreman","Vendor #13",null,5356279,"2018-10-22","2018-10-27","Yes",{"$f":"VLOOKUP($D112,'C.1 - Rate Sheets'!$B$16:$E$35,2)","v":56.8},{"$f":"VLOOKUP($D112,'C.1 - Rate Sheets'!$B$16:$E$35,3)","v":76.7},{"$f":"VLOOKUP($D112,'C.1 - Rate Sheets'!$B$16:$E$35,4)","v":90.9},{"$f":"VLOOKUP($D112,'C.1 - Rate Sheets'!B:F,5,FALSE)","v":0},null,null,null,null,null,null,null,null,null,null,null,null,null,null,null,null,null,null,null,null,null,null,null,null,null,null,null,null,null,null,null,null,null,null,0,null,null,null,null,0,null,null,null,null,0,null,null,null,null,0,null,null,null,null,0,null,null,null,null,0,null,null,null,null,0,null,null,null,null,0,2,null,null,null,2,null,null,null,null,0,null,null,null,null,0,null,null,null,null,0,null,null,null,null,0,null,null,null,null,0,null,null,null,null,null,null,null,null,null,null,null,null,null,null,null,null,null,null,null,null,null,null,null,null,null,null,null,null,null,null,null,null,null,null,null,2,0,0,0,2,113.6,0,0,0,113.6,113.6,"Yes",0,0,0]
[null,91,null,"Tree Trimmer","Vendor #13",null,5356279,"2018-10-22","2018-10-27","Yes",{"$f":"VLOOKUP($D113,'C.1 - Rate Sheets'!$B$16:$E$35,2)","v":48.5},{"$f":"VLOOKUP($D113,'C.1 - Rate Sheets'!$B$16:$E$35,3)","v":65.5},{"$f":"VLOOKUP($D113,'C.1 - Rate Sheets'!$B$16:$E$35,4)","v":77.599999999999994},{"$f":"VLOOKUP($D113,'C.1 - Rate Sheets'!B:F,5,FALSE)","v":0},null,null,null,null,null,null,null,null,null,null,null,null,null,null,null,null,null,null,null,null,null,null,null,null,null,null,null,null,null,null,null,null,null,null,0,null,null,null,null,0,null,null,null,null,0,null,null,null,null,0,null,null,null,null,0,null,null,null,null,0,null,null,null,null,0,null,null,null,null,0,2,null,null,null,2,null,null,null,null,0,null,null,null,null,0,null,null,null,null,0,null,null,null,null,0,null,null,null,null,0,null,null,null,null,null,null,null,null,null,null,null,null,null,null,null,null,null,null,null,null,null,null,null,null,null,null,null,null,null,null,null,null,null,null,null,2,0,0,0,2,97,0,0,0,97,97,"Yes",0,0,0]
[null,92,null,"Crew Foreman","Vendor #13",null,5356280,"2018-10-22","2018-10-27","Yes",{"$f":"VLOOKUP($D114,'C.1 - Rate Sheets'!$B$16:$E$35,2)","v":56.8},{"$f":"VLOOKUP($D114,'C.1 - Rate Sheets'!$B$16:$E$35,3)","v":76.7},{"$f":"VLOOKUP($D114,'C.1 - Rate Sheets'!$B$16:$E$35,4)","v":90.9},{"$f":"VLOOKUP($D114,'C.1 - Rate Sheets'!B:F,5,FALSE)","v":0},null,null,null,null,null,null,null,null,null,null,null,null,null,null,null,null,null,null,null,null,null,null,null,null,null,null,null,null,null,null,null,null,null,null,0,null,null,null,null,0,null,null,null,null,0,null,null,null,null,0,null,null,null,null,0,null,null,null,null,0,null,null,null,null,0,null,null,null,null,0,2,null,null,null,2,null,null,null,null,0,null,null,null,null,0,null,null,null,null,0,null,null,null,null,0,null,null,null,null,0,null,null,null,null,null,null,null,null,null,null,null,null,null,null,null,null,null,null,null,null,null,null,null,null,null,null,null,null,null,null,null,null,null,null,null,2,0,0,0,2,113.6,0,0,0,113.6,113.6,"Yes",0,0,0]
[null,93,null,"Tree Trimmer","Vendor #13",null,5356280,"2018-10-22","2018-10-27","Yes",{"$f":"VLOOKUP($D115,'C.1 - Rate Sheets'!$B$16:$E$35,2)","v":48.5},{"$f":"VLOOKUP($D115,'C.1 - Rate Sheets'!$B$16:$E$35,3)","v":65.5},{"$f":"VLOOKUP($D115,'C.1 - Rate Sheets'!$B$16:$E$35,4)","v":77.599999999999994},{"$f":"VLOOKUP($D115,'C.1 - Rate Sheets'!B:F,5,FALSE)","v":0},null,null,null,null,null,null,null,null,null,null,null,null,null,null,null,null,null,null,null,null,null,null,null,null,null,null,null,null,null,null,null,null,null,null,0,null,null,null,null,0,null,null,null,null,0,null,null,null,null,0,null,null,null,null,0,null,null,null,null,0,null,null,null,null,0,null,null,null,null,0,2,null,null,null,2,null,null,null,null,0,null,null,null,null,0,null,null,null,null,0,null,null,null,null,0,null,null,null,null,0,null,null,null,null,null,null,null,null,null,null,null,null,null,null,null,null,null,null,null,null,null,null,null,null,null,null,null,null,null,null,null,null,null,null,null,2,0,0,0,2,97,0,0,0,97,97,"Yes",0,0,0]
[null,94,null,"Supervisor","Vendor #13",null,5356281,"2018-10-22","2018-10-27","Yes",{"$f":"VLOOKUP($D116,'C.1 - Rate Sheets'!$B$16:$E$35,2)","v":74},{"$f":"VLOOKUP($D116,'C.1 - Rate Sheets'!$B$16:$E$35,3)","v":99.9},{"$f":"VLOOKUP($D116,'C.1 - Rate Sheets'!$B$16:$E$35,4)","v":118.4},{"$f":"VLOOKUP($D116,'C.1 - Rate Sheets'!B:F,5,FALSE)","v":0},null,null,null,null,null,null,null,null,null,null,null,null,null,null,null,null,null,null,null,null,null,null,null,null,null,null,null,null,null,null,null,null,null,null,0,null,null,null,null,0,null,null,null,null,0,null,null,null,null,0,null,null,null,null,0,null,null,null,null,0,null,null,null,null,0,null,null,null,null,0,6,8,null,null,14,8,8,null,null,16,8,8,null,null,16,8,8,null,null,16,8,8,null,null,16,null,16,null,null,16,null,null,null,null,null,null,null,null,null,null,null,null,null,null,null,null,null,null,null,null,null,null,null,null,null,null,null,null,null,null,null,null,null,null,null,38,56,0,0,94,2812,5594.4000000000005,0,0,8406.4000000000015,8406.4000000000015,"Yes",0,0,0]
[null,95,null,"Crew Foreman","Vendor #13",null,5356282,"2018-10-22","2018-10-27","Yes",{"$f":"VLOOKUP($D117,'C.1 - Rate Sheets'!$B$16:$E$35,2)","v":56.8},{"$f":"VLOOKUP($D117,'C.1 - Rate Sheets'!$B$16:$E$35,3)","v":76.7},{"$f":"VLOOKUP($D117,'C.1 - Rate Sheets'!$B$16:$E$35,4)","v":90.9},{"$f":"VLOOKUP($D117,'C.1 - Rate Sheets'!B:F,5,FALSE)","v":0},null,null,null,null,null,null,null,null,null,null,null,null,null,null,null,null,null,null,null,null,null,null,null,null,null,null,null,null,null,null,null,null,null,null,0,null,null,null,null,0,null,null,null,null,0,null,null,null,null,0,null,null,null,null,0,null,null,null,null,0,null,null,null,null,0,null,null,null,null,0,6,8,null,null,14,8,8,null,null,16,8,8,null,null,{"$f":"+SUM(CQ117:CT117)","v":16},8,8,null,null,{"$f":"+SUM(CV117:CY117)","v":16},8,8,null,null,16,null,16,null,null,16,null,null,null,null,null,null,null,null,null,null,null,null,null,null,null,null,null,null,null,null,null,null,null,null,null,null,null,null,null,null,null,null,null,null,null,38,56,0,0,94,2158.4,4295.2,0,0,6453.6,6453.6,"Yes",0,0,0]
[null,96,null,"Tree Trimmer","Vendor #13",null,5356282,"2018-10-22","2018-10-27","Yes",{"$f":"VLOOKUP($D118,'C.1 - Rate Sheets'!$B$16:$E$35,2)","v":48.5},{"$f":"VLOOKUP($D118,'C.1 - Rate Sheets'!$B$16:$E$35,3)","v":65.5},{"$f":"VLOOKUP($D118,'C.1 - Rate Sheets'!$B$16:$E$35,4)","v":77.599999999999994},{"$f":"VLOOKUP($D118,'C.1 - Rate Sheets'!B:F,5,FALSE)","v":0},null,null,null,null,null,null,null,null,null,null,null,null,null,null,null,null,null,null,null,null,null,null,null,null,null,null,null,null,null,null,null,null,null,null,0,null,null,null,null,0,null,null,null,null,0,null,null,null,null,0,null,null,null,null,0,null,null,null,null,0,null,null,null,null,0,null,null,null,null,0,6,8,null,null,14,8,8,null,null,16,8,8,null,null,{"$f":"+SUM(CQ118:CT118)","v":16},8,8,null,null,{"$f":"+SUM(CV118:CY118)","v":16},8,8,null,null,16,null,16,null,null,16,null,null,null,null,null,null,null,null,null,null,null,null,null,null,null,null,null,null,null,null,null,null,null,null,null,null,null,null,null,null,null,null,null,null,null,38,56,0,0,94,1843,3668,0,0,5511,5511,"Yes",0,0,0]
[null,97,null,"Tree Trimmer","Vendor #13",null,5356282,"2018-10-22","2018-10-27","Yes",{"$f":"VLOOKUP($D119,'C.1 - Rate Sheets'!$B$16:$E$35,2)","v":48.5},{"$f":"VLOOKUP($D119,'C.1 - Rate Sheets'!$B$16:$E$35,3)","v":65.5},{"$f":"VLOOKUP($D119,'C.1 - Rate Sheets'!$B$16:$E$35,4)","v":77.599999999999994},{"$f":"VLOOKUP($D119,'C.1 - Rate Sheets'!B:F,5,FALSE)","v":0},null,null,null,null,null,null,null,null,null,null,null,null,null,null,null,null,null,null,null,null,null,null,null,null,null,null,null,null,null,null,null,null,null,null,0,null,null,null,null,0,null,null,null,null,0,null,null,null,null,0,null,null,null,null,0,null,null,null,null,0,null,null,null,null,0,null,null,null,null,0,6,8,null,null,14,8,8,null,null,16,8,8,null,null,16,8,8,null,null,16,8,8,null,null,16,null,16,null,null,16,null,null,null,null,null,null,null,null,null,null,null,null,null,null,null,null,null,null,null,null,null,null,null,null,null,null,null,null,null,null,null,null,null,null,null,38,56,0,0,94,1843,3668,0,0,5511,5511,"Yes",0,0,0]
[null,98,null,"Crew Foreman","Vendor #13",null,5356283,"2018-10-22","2018-10-27","Yes",{"$f":"VLOOKUP($D120,'C.1 - Rate Sheets'!$B$16:$E$35,2)","v":56.8},{"$f":"VLOOKUP($D120,'C.1 - Rate Sheets'!$B$16:$E$35,3)","v":76.7},{"$f":"VLOOKUP($D120,'C.1 - Rate Sheets'!$B$16:$E$35,4)","v":90.9},{"$f":"VLOOKUP($D120,'C.1 - Rate Sheets'!B:F,5,FALSE)","v":0},null,null,null,null,null,null,null,null,null,null,null,null,null,null,null,null,null,null,null,null,null,null,null,null,null,null,null,null,null,null,null,null,null,null,0,null,null,null,null,0,null,null,null,null,0,null,null,null,null,0,null,null,null,null,0,null,null,null,null,0,null,null,null,null,0,null,null,null,null,0,6,8,null,null,14,8,8,null,null,16,8,8,null,null,16,8,8,null,null,16,8,8,null,null,16,null,16,null,null,16,null,null,null,null,null,null,null,null,null,null,null,null,null,null,null,null,null,null,null,null,null,null,null,null,null,null,null,null,null,null,null,null,null,null,null,38,56,0,0,94,2158.4,4295.2,0,0,6453.6,6453.6,"Yes",0,0,0]
[null,99,null,"Tree Trimmer","Vendor #13",null,5356283,"2018-10-22","2018-10-27","Yes",{"$f":"VLOOKUP($D121,'C.1 - Rate Sheets'!$B$16:$E$35,2)","v":48.5},{"$f":"VLOOKUP($D121,'C.1 - Rate Sheets'!$B$16:$E$35,3)","v":65.5},{"$f":"VLOOKUP($D121,'C.1 - Rate Sheets'!$B$16:$E$35,4)","v":77.599999999999994},{"$f":"VLOOKUP($D121,'C.1 - Rate Sheets'!B:F,5,FALSE)","v":0},null,null,null,null,null,null,null,null,null,null,null,null,null,null,null,null,null,null,null,null,null,null,null,null,null,null,null,null,null,null,null,null,null,null,0,null,null,null,null,0,null,null,null,null,0,null,null,null,null,0,null,null,null,null,0,null,null,null,null,0,null,null,null,null,0,null,null,null,null,0,6,8,null,null,14,8,8,null,null,16,8,8,null,null,16,8,8,null,null,16,8,8,null,null,16,null,16,null,null,16,null,null,null,null,null,null,null,null,null,null,null,null,null,null,null,null,null,null,null,null,null,null,null,null,null,null,null,null,null,null,null,null,null,null,null,38,56,0,0,94,1843,3668,0,0,5511,5511,"Yes",0,0,0]
[null,100,null,"Crew Foreman","Vendor #13",null,5356284,"2018-10-22","2018-10-27","Yes",{"$f":"VLOOKUP($D122,'C.1 - Rate Sheets'!$B$16:$E$35,2)","v":56.8},{"$f":"VLOOKUP($D122,'C.1 - Rate Sheets'!$B$16:$E$35,3)","v":76.7},{"$f":"VLOOKUP($D122,'C.1 - Rate Sheets'!$B$16:$E$35,4)","v":90.9},{"$f":"VLOOKUP($D122,'C.1 - Rate Sheets'!B:F,5,FALSE)","v":0},null,null,null,null,null,null,null,null,null,null,null,null,null,null,null,null,null,null,null,null,null,null,null,null,null,null,null,null,null,null,null,null,null,null,0,null,null,null,null,0,null,null,null,null,0,null,null,null,null,0,null,null,null,null,0,null,null,null,null,0,null,null,null,null,0,null,null,null,null,0,6,8,null,null,14,8,8,null,null,16,8,8,null,null,16,8,8,null,null,16,8,8,null,null,16,null,16,null,null,16,null,null,null,null,null,null,null,null,null,null,null,null,null,null,null,null,null,null,null,null,null,null,null,null,null,null,null,null,null,null,null,null,null,null,null,38,56,0,0,94,2158.4,4295.2,0,0,6453.6,6453.6,"Yes",0,0,0]
[null,101,null,"Tree Trimmer","Vendor #13",null,5356284,"2018-10-22","2018-10-27","Yes",{"$f":"VLOOKUP($D123,'C.1 - Rate Sheets'!$B$16:$E$35,2)","v":48.5},{"$f":"VLOOKUP($D123,'C.1 - Rate Sheets'!$B$16:$E$35,3)","v":65.5},{"$f":"VLOOKUP($D123,'C.1 - Rate Sheets'!$B$16:$E$35,4)","v":77.599999999999994},{"$f":"VLOOKUP($D123,'C.1 - Rate Sheets'!B:F,5,FALSE)","v":0},null,null,null,null,null,null,null,null,null,null,null,null,null,null,null,null,null,null,null,null,null,null,null,null,null,null,null,null,null,null,null,null,null,null,0,null,null,null,null,0,null,null,null,null,0,null,null,null,null,0,null,null,null,null,0,null,null,null,null,0,null,null,null,null,0,null,null,null,null,0,6,8,null,null,14,8,8,null,null,16,8,8,null,null,16,8,8,null,null,16,8,8,null,null,16,null,16,null,null,16,null,null,null,null,null,null,null,null,null,null,null,null,null,null,null,null,null,null,null,null,null,null,null,null,null,null,null,null,null,null,null,null,null,null,null,38,56,0,0,94,1843,3668,0,0,5511,5511,"Yes",0,0,0]
[null,102,null,"Crew Foreman","Vendor #13",null,5356285,"2018-10-22","2018-10-27","Yes",{"$f":"VLOOKUP($D124,'C.1 - Rate Sheets'!$B$16:$E$35,2)","v":56.8},{"$f":"VLOOKUP($D124,'C.1 - Rate Sheets'!$B$16:$E$35,3)","v":76.7},{"$f":"VLOOKUP($D124,'C.1 - Rate Sheets'!$B$16:$E$35,4)","v":90.9},{"$f":"VLOOKUP($D124,'C.1 - Rate Sheets'!B:F,5,FALSE)","v":0},null,null,null,null,null,null,null,null,null,null,null,null,null,null,null,null,null,null,null,null,null,null,null,null,null,null,null,null,null,null,null,null,null,null,0,null,null,null,null,0,null,null,null,null,0,null,null,null,null,0,null,null,null,null,0,null,null,null,null,0,null,null,null,null,0,null,null,null,null,0,6,8,null,null,14,8,8,null,null,16,8,8,null,null,16,8,8,null,null,16,8,8,null,null,16,null,16,null,null,16,null,null,null,null,null,null,null,null,null,null,null,null,null,null,null,null,null,null,null,null,null,null,null,null,null,null,null,null,null,null,null,null,null,null,null,38,56,0,0,94,2158.4,4295.2,0,0,6453.6,6453.6,"Yes",0,0,0]
[null,103,null,"Tree Trimmer","Vendor #13",null,5356285,"2018-10-22","2018-10-27","Yes",{"$f":"VLOOKUP($D125,'C.1 - Rate Sheets'!$B$16:$E$35,2)","v":48.5},{"$f":"VLOOKUP($D125,'C.1 - Rate Sheets'!$B$16:$E$35,3)","v":65.5},{"$f":"VLOOKUP($D125,'C.1 - Rate Sheets'!$B$16:$E$35,4)","v":77.599999999999994},{"$f":"VLOOKUP($D125,'C.1 - Rate Sheets'!B:F,5,FALSE)","v":0},0,0,0,0,0,0,0,0,0,0,0,0,0,0,0,0,0,0,0,0,null,null,null,null,0,null,null,null,null,0,null,null,null,null,{"$f":"SUM(AS125:AV125)","v":0},null,null,null,null,{"$f":"SUM(AX125:BA125)","v":0},null,null,null,null,{"$f":"SUM(BC125:BF125)","v":0},null,null,null,null,0,null,null,null,null,0,null,null,null,null,0,null,null,null,null,0,null,null,null,null,0,6,8,null,null,{"$f":"SUM(CG125:CJ125)","v":14},8,8,0,0,16,8,8,0,0,16,8,8,0,0,{"$f":"+SUM(CV125:CY125)","v":16},8,8,0,0,{"$f":"+SUM(DA125:DD125)","v":16},0,16,0,0,16,0,0,0,0,0,0,0,0,0,0,0,0,0,0,0,0,0,0,0,0,0,0,0,0,0,0,0,0,0,0,0,0,0,0,0,38,56,0,0,94,1843,3668,0,0,5511,5511,"Yes",0,0,0]
[null,104,null,"Crew Foreman","Vendor #13",null,5356286,"2018-10-23","2018-10-27","Yes",{"$f":"VLOOKUP($D126,'C.1 - Rate Sheets'!$B$16:$E$35,2)","v":56.8},{"$f":"VLOOKUP($D126,'C.1 - Rate Sheets'!$B$16:$E$35,3)","v":76.7},{"$f":"VLOOKUP($D126,'C.1 - Rate Sheets'!$B$16:$E$35,4)","v":90.9},{"$f":"VLOOKUP($D126,'C.1 - Rate Sheets'!B:F,5,FALSE)","v":0},0,0,0,0,0,0,0,0,0,0,0,0,0,0,0,0,0,0,0,0,null,null,null,null,0,null,null,null,null,0,null,null,null,null,0,null,null,null,null,0,null,null,null,null,0,null,null,null,null,0,null,null,null,null,0,null,null,null,null,0,null,null,null,null,0,null,null,null,null,0,null,null,null,null,0,4,0,0,0,4,8,8,0,0,16,8,8,0,0,{"$f":"+SUM(CV126:CY126)","v":16},8,8,0,0,{"$f":"+SUM(DA126:DD126)","v":16},0,16,0,0,16,0,0,0,0,0,0,0,0,0,0,0,0,0,0,0,0,0,0,0,0,0,0,0,0,0,0,0,0,0,0,0,0,0,0,0,28,40,0,0,68,1590.3999999999999,3068,0,0,4658.3999999999996,4658.3999999999996,"Yes",0,0,0]
[null,105,null,"Tree Trimmer","Vendor #13",null,5356286,"2018-10-21","2018-10-27","Yes",{"$f":"VLOOKUP($D127,'C.1 - Rate Sheets'!$B$16:$E$35,2)","v":48.5},{"$f":"VLOOKUP($D127,'C.1 - Rate Sheets'!$B$16:$E$35,3)","v":65.5},{"$f":"VLOOKUP($D127,'C.1 - Rate Sheets'!$B$16:$E$35,4)","v":77.599999999999994},{"$f":"VLOOKUP($D127,'C.1 - Rate Sheets'!B:F,5,FALSE)","v":0},0,0,0,0,0,0,0,0,0,0,0,0,0,0,0,0,0,0,0,0,null,null,null,null,0,null,null,null,null,0,null,null,null,null,0,null,null,null,null,0,null,null,null,null,0,null,null,null,null,0,null,null,null,null,0,null,null,null,null,0,null,null,null,null,0,null,null,null,null,0,null,null,null,null,0,4,0,0,0,4,8,8,0,0,16,8,8,0,0,16,8,8,0,0,16,0,16,0,0,16,0,0,0,0,0,0,0,0,0,0,0,0,0,0,0,0,0,0,0,0,0,0,0,0,0,0,0,0,0,0,0,0,0,0,0,28,40,0,0,68,1358,2620,0,0,3978,3978,"Yes",0,0,0]
[null,106,null,"Supervisor","Vendor #13",null,"SW007826","2018-10-21","2018-10-27","Yes",{"$f":"VLOOKUP($D128,'C.1 - Rate Sheets'!$B$16:$E$35,2)","v":74},{"$f":"VLOOKUP($D128,'C.1 - Rate Sheets'!$B$16:$E$35,3)","v":99.9},{"$f":"VLOOKUP($D128,'C.1 - Rate Sheets'!$B$16:$E$35,4)","v":118.4},{"$f":"VLOOKUP($D128,'C.1 - Rate Sheets'!B:F,5,FALSE)","v":0},0,0,0,0,0,0,0,0,0,0,0,0,0,0,0,0,0,0,0,0,null,null,null,null,0,null,null,null,null,0,null,null,null,null,0,null,null,null,null,0,null,null,null,null,0,null,null,null,null,0,null,null,null,null,0,null,null,null,null,0,null,null,null,null,0,null,null,16,null,16,8,8,null,null,16,8,8,0,0,16,8,8,0,0,16,8,8,0,0,16,8,8,0,0,16,0,0,0,0,0,0,0,0,0,0,0,0,0,0,0,0,0,0,0,0,0,0,0,0,0,0,0,0,0,0,0,0,0,0,0,0,0,0,0,0,40,40,16,{"$f":"SUM(R128,W128,AB128,AL128,AQ128,AV128,BA128,BF128,BK128,BP128,BU128,BZ128,CE128, CO128, CJ128,CT128,CY128,DD128,DI128,DN128, DS128,DX128,EC128,EH128,EM128,ER128)","v":0},80,2960,3996,1894.4,0,8850.4,8850.4,"Yes",0,0,0]
[null,107,null,"Supervisor","Vendor #13",null,"SW007827","2018-10-27","2018-10-27","Yes",{"$f":"VLOOKUP($D129,'C.1 - Rate Sheets'!$B$16:$E$35,2)","v":74},{"$f":"VLOOKUP($D129,'C.1 - Rate Sheets'!$B$16:$E$35,3)","v":99.9},{"$f":"VLOOKUP($D129,'C.1 - Rate Sheets'!$B$16:$E$35,4)","v":118.4},{"$f":"VLOOKUP($D129,'C.1 - Rate Sheets'!B:F,5,FALSE)","v":0},0,0,0,0,0,0,0,0,0,0,0,0,0,0,0,0,0,0,0,0,null,null,null,null,0,null,null,null,null,0,null,null,null,null,0,null,null,null,null,0,null,null,null,null,0,null,null,null,null,0,null,null,null,null,0,null,null,null,null,0,null,null,null,null,0,null,null,null,null,0,null,null,null,null,0,0,0,0,0,0,0,0,0,0,0,0,0,0,0,0,0,0,0,0,0,0,13,0,0,13,0,0,0,0,0,0,0,0,0,0,0,0,0,0,0,0,0,0,0,0,0,0,0,0,0,0,0,0,0,0,0,0,0,0,0,0,13,0,0,13,0,1298.7,0,0,1298.7,1298.7,"Yes",0,0,0]
[null,108,null,"Supervisor","Vendor #13",null,"SW007829","2018-10-27","2018-10-27","Yes",{"$f":"VLOOKUP($D130,'C.1 - Rate Sheets'!$B$16:$E$35,2)","v":74},{"$f":"VLOOKUP($D130,'C.1 - Rate Sheets'!$B$16:$E$35,3)","v":99.9},{"$f":"VLOOKUP($D130,'C.1 - Rate Sheets'!$B$16:$E$35,4)","v":118.4},{"$f":"VLOOKUP($D130,'C.1 - Rate Sheets'!B:F,5,FALSE)","v":0},0,0,0,0,0,0,0,0,0,0,0,0,0,0,0,0,0,0,0,0,null,null,null,null,0,0,0,0,0,0,null,null,null,null,0,null,null,null,null,0,null,null,null,null,0,null,null,null,null,0,null,null,null,null,0,null,null,null,null,0,null,null,null,null,0,null,null,null,null,0,null,null,null,null,0,0,0,0,0,0,0,0,0,0,0,0,0,0,0,0,0,0,0,0,0,0,13,0,0,13,0,0,0,0,0,0,0,0,0,0,0,0,0,0,0,0,0,0,0,0,0,0,0,0,0,0,0,0,0,0,0,0,0,0,0,0,13,0,0,13,0,1298.7,0,0,1298.7,1298.7,"Yes",0,0,0]
[null,108,null,"Tree Trimmer","Vendor #13",null,"SW007829","2018-10-27","2018-10-27","Yes",{"$f":"VLOOKUP($D131,'C.1 - Rate Sheets'!$B$16:$E$35,2)","v":48.5},{"$f":"VLOOKUP($D131,'C.1 - Rate Sheets'!$B$16:$E$35,3)","v":65.5},{"$f":"VLOOKUP($D131,'C.1 - Rate Sheets'!$B$16:$E$35,4)","v":77.599999999999994},{"$f":"VLOOKUP($D131,'C.1 - Rate Sheets'!B:F,5,FALSE)","v":0},0,0,0,0,{"$f":"SUM(O131:R131)","v":0},0,0,0,0,{"$f":"SUM(T131:W131)","v":0},0,0,0,0,{"$f":"SUM(Y131:AB131)","v":0},0,0,0,0,{"$f":"SUM(AD131:AG131)","v":0},null,null,null,null,{"$f":"SUM(AI131:AL131)","v":0},0,0,0,0,{"$f":"SUM(AN131:AQ131)","v":0},null,null,null,null,{"$f":"SUM(AS131:AV131)","v":0},null,null,null,null,{"$f":"SUM(AX131:BA131)","v":0},null,null,null,null,{"$f":"SUM(BC131:BF131)","v":0},null,null,null,null,{"$f":"SUM(BH131:BK131)","v":0},null,null,null,null,{"$f":"SUM(BM131:BP131)","v":0},null,null,null,null,{"$f":"SUM(BR131:BU131)","v":0},null,null,null,null,{"$f":"SUM(BW131:BZ131)","v":0},null,null,null,null,{"$f":"+SUM(CB131:CE131)","v":0},null,null,null,null,{"$f":"SUM(CG131:CJ131)","v":0},0,0,0,0,{"$f":"+SUM(CL131:CO131)","v":0},0,0,0,0,{"$f":"+SUM(CQ131:CT131)","v":0},0,0,0,0,{"$f":"+SUM(CV131:CY131)","v":0},0,0,0,0,{"$f":"+SUM(DA131:DD131)","v":0},0,13,0,0,{"$f":"+SUM(DF131:DI131)","v":13},0,0,0,0,{"$f":"SUM(DK131:DN131)","v":0},0,0,0,0,{"$f":"SUM(DP131:DS131)","v":0},0,0,0,0,{"$f":"SUM(DU131:DX131)","v":0},0,0,0,0,{"$f":"SUM(DZ131:EC131)","v":0},0,0,0,0,{"$f":"SUM(EE131:EH131)","v":0},0,0,0,0,{"$f":"SUM(EJ131:EM131)","v":0},0,0,0,0,{"$f":"SUM(EO131:ER131)","v":0},0,13,0,{"$f":"SUM(R131,W131,AB131,AL131,AQ131,AV131,BA131,BF131,BK131,BP131,BU131,BZ131,CO131, CJ131,CT131,CY131,DD131,DI131,DN131, DS131,DX131,EC131,EH131,EM131,ER131)","v":0},{"$f":"SUM(S131,X131,AC131,AM131,AR131,AW131,BB131,BG131,BL131,BQ131,BV131,CA131,CP131, CK131,CU131,CZ131,DE131,DJ131,DO131, DT131,DY131,ED131,EI131,EN131,ES131)","v":13},0,851.5,0,0,{"$f":"SUM(EY131:FB131)","v":851.5},{"$f":"FC131-FF131","v":851.5},"Yes",0,0,-522.6,7]
[null,109,null,"Crew Foreman","Vendor #13",null,"SW007830","2018-10-21","2018-10-27","Yes",{"$f":"VLOOKUP($D132,'C.1 - Rate Sheets'!$B$16:$E$35,2)","v":56.8},{"$f":"VLOOKUP($D132,'C.1 - Rate Sheets'!$B$16:$E$35,3)","v":76.7},{"$f":"VLOOKUP($D132,'C.1 - Rate Sheets'!$B$16:$E$35,4)","v":90.9},{"$f":"VLOOKUP($D132,'C.1 - Rate Sheets'!B:F,5,FALSE)","v":0},0,0,0,0,{"$f":"SUM(O132:R132)","v":0},0,0,0,0,{"$f":"SUM(T132:W132)","v":0},0,0,0,0,{"$f":"SUM(Y132:AB132)","v":0},0,0,0,0,{"$f":"SUM(AD132:AG132)","v":0},null,null,null,null,{"$f":"SUM(AI132:AL132)","v":0},0,0,0,0,{"$f":"SUM(AN132:AQ132)","v":0},null,null,null,null,{"$f":"SUM(AS132:AV132)","v":0},null,null,null,null,{"$f":"SUM(AX132:BA132)","v":0},null,null,null,null,{"$f":"SUM(BC132:BF132)","v":0},null,null,null,null,{"$f":"SUM(BH132:BK132)","v":0},null,null,null,null,{"$f":"SUM(BM132:BP132)","v":0},null,null,null,null,{"$f":"SUM(BR132:BU132)","v":0},null,null,null,null,{"$f":"SUM(BW132:BZ132)","v":0},null,null,16,null,{"$f":"+SUM(CB132:CE132)","v":16},8,8,null,null,{"$f":"SUM(CG132:CJ132)","v":16},8,8,0,0,{"$f":"+SUM(CL132:CO132)","v":16},8,8,0,0,{"$f":"+SUM(CQ132:CT132)","v":16},8,8,0,0,{"$f":"+SUM(CV132:CY132)","v":16},8,8,0,0,{"$f":"+SUM(DA132:DD132)","v":16},0,0,0,0,{"$f":"+SUM(DF132:DI132)","v":0},0,0,0,0,{"$f":"SUM(DK132:DN132)","v":0},0,0,0,0,{"$f":"SUM(DP132:DS132)","v":0},0,0,0,0,{"$f":"SUM(DU132:DX132)","v":0},0,0,0,0,{"$f":"SUM(DZ132:EC132)","v":0},0,0,0,0,{"$f":"SUM(EE132:EH132)","v":0},0,0,0,0,{"$f":"SUM(EJ132:EM132)","v":0},0,0,0,0,{"$f":"SUM(EO132:ER132)","v":0},{"$f":"SUM(O132,T132,Y132,AI132,AN132,AS132,AX132,BC132,BH132,BM132,BR132,BW132,CB132,CL132, CG132,CQ132,CV132,DA132,DF132,DK132, DP132,DU132,DZ132,EE132,EJ132,EO132)","v":40},40,{"$f":"SUM(Q132,V132,AA132,AK132,AP132,AU132,AZ132,BE132,BJ132,BO132,BT132,BY132,CD132,CN132, CI132,CS132,CX132,DC132,DH132,DM132, DR132,DW132,EB132,EG132,EL132,EQ132)","v":16},0,80,2272,3068,1454.4,0,{"$f":"SUM(EY132:FB132)","v":6794.4},{"$f":"FC132-FF132","v":6794.4},"Yes",0,0,0]
[null,110,null,"Tree Trimmer","Vendor #13",null,"SW007830","2018-10-21","2018-10-27","Yes",{"$f":"VLOOKUP($D133,'C.1 - Rate Sheets'!$B$16:$E$35,2)","v":48.5},{"$f":"VLOOKUP($D133,'C.1 - Rate Sheets'!$B$16:$E$35,3)","v":65.5},{"$f":"VLOOKUP($D133,'C.1 - Rate Sheets'!$B$16:$E$35,4)","v":77.599999999999994},{"$f":"VLOOKUP($D133,'C.1 - Rate Sheets'!B:F,5,FALSE)","v":0},0,0,0,0,0,0,0,0,0,0,0,0,0,0,0,0,0,0,0,0,null,null,null,null,0,0,0,0,0,0,null,null,null,null,0,null,null,null,null,0,null,null,null,null,0,null,null,null,null,0,null,null,null,null,0,null,null,null,null,0,null,null,null,null,0,null,null,16,null,16,8,8,null,null,16,8,8,0,0,16,8,8,0,0,16,8,8,0,0,16,8,8,0,0,16,0,0,0,0,0,0,0,0,0,0,0,0,0,0,0,0,0,0,0,0,0,0,0,0,0,0,0,0,0,0,0,0,0,0,0,0,0,0,0,0,{"$f":"SUM(O133,T133,Y133,AI133,AN133,AS133,AX133,BC133,BH133,BM133,BR133,BW133,CB133,CL133, CG133,CQ133,CV133,DA133,DF133,DK133, DP133,DU133,DZ133,EE133,EJ133,EO133)","v":40},{"$f":"SUM(P133,U133,Z133,AJ133,AO133,AT133,AY133,BD133,BI133,BN133,BS133,BX133,CC133,CM133, CH133,CR133,CW133,DB133,DG133,DL133, DQ133,DV133,EA133,EF133,EK133,EP133)","v":40},{"$f":"SUM(Q133,V133,AA133,AK133,AP133,AU133,AZ133,BE133,BJ133,BO133,BT133,BY133,CD133,CN133, CI133,CS133,CX133,DC133,DH133,DM133, DR133,DW133,EB133,EG133,EL133,EQ133)","v":16},0,80,1940,2620,1241.5999999999999,0,5801.6,5801.6,"Yes",0,0,0]
[null,111,null,"Crew Foreman","Vendor #13",null,"SW007831","2018-10-21","2018-10-27","Yes",{"$f":"VLOOKUP($D134,'C.1 - Rate Sheets'!$B$16:$E$35,2)","v":56.8},{"$f":"VLOOKUP($D134,'C.1 - Rate Sheets'!$B$16:$E$35,3)","v":76.7},{"$f":"VLOOKUP($D134,'C.1 - Rate Sheets'!$B$16:$E$35,4)","v":90.9},{"$f":"VLOOKUP($D134,'C.1 - Rate Sheets'!B:F,5,FALSE)","v":0},0,0,0,0,0,0,0,0,0,0,0,0,0,0,0,0,0,0,0,0,null,null,null,null,0,0,0,0,0,0,null,null,null,null,0,null,null,null,null,0,null,null,null,null,0,null,null,null,null,0,null,null,null,null,0,null,null,null,null,0,null,null,null,null,0,null,null,16,null,16,8,8,null,null,16,8,8,0,0,16,8,8,0,0,16,8,8,0,0,16,8,8,0,0,16,0,0,0,0,0,0,0,0,0,0,0,0,0,0,0,0,0,0,0,0,0,0,0,0,0,0,0,0,0,0,0,0,0,0,0,0,0,0,0,0,40,40,16,0,80,2272,3068,1454.4,0,6794.4,6794.4,"Yes",0,0,0]
[null,112,null,"Tree Trimmer","Vendor #13",null,"SW007831","2018-10-21","2018-10-27","Yes",{"$f":"VLOOKUP($D135,'C.1 - Rate Sheets'!$B$16:$E$35,2)","v":48.5},{"$f":"VLOOKUP($D135,'C.1 - Rate Sheets'!$B$16:$E$35,3)","v":65.5},{"$f":"VLOOKUP($D135,'C.1 - Rate Sheets'!$B$16:$E$35,4)","v":77.599999999999994},{"$f":"VLOOKUP($D135,'C.1 - Rate Sheets'!B:F,5,FALSE)","v":0},0,0,0,0,0,0,0,0,0,0,0,0,0,0,0,0,0,0,0,0,null,null,null,null,0,0,0,0,0,0,null,null,null,null,0,null,null,null,null,0,null,null,null,null,0,null,null,null,null,0,null,null,null,null,0,null,null,null,null,0,null,null,null,null,0,null,null,16,null,16,8,8,null,null,16,8,8,0,0,16,8,8,0,0,16,8,8,0,0,16,8,8,0,0,16,0,0,0,0,0,0,0,0,0,0,0,0,0,0,0,0,0,0,0,0,0,0,0,0,0,0,0,0,0,0,0,0,0,0,0,0,0,0,0,0,40,40,16,0,80,1940,2620,1241.5999999999999,0,5801.6,5801.6,"Yes",0,0,0]
[null,113,null,"Crew Foreman","Vendor #13",null,"SW007832","2018-10-21","2018-10-27","Yes",{"$f":"VLOOKUP($D136,'C.1 - Rate Sheets'!$B$16:$E$35,2)","v":56.8},{"$f":"VLOOKUP($D136,'C.1 - Rate Sheets'!$B$16:$E$35,3)","v":76.7},{"$f":"VLOOKUP($D136,'C.1 - Rate Sheets'!$B$16:$E$35,4)","v":90.9},{"$f":"VLOOKUP($D136,'C.1 - Rate Sheets'!B:F,5,FALSE)","v":0},0,0,0,0,0,0,0,0,0,0,0,0,0,0,0,0,0,0,0,0,null,null,null,null,0,0,0,0,0,0,null,null,null,null,0,null,null,null,null,0,null,null,null,null,0,null,null,null,null,0,null,null,null,null,0,null,null,null,null,0,null,null,null,null,0,null,null,null,null,0,null,null,null,null,0,0,0,0,0,0,0,0,0,0,0,0,0,0,0,0,0,0,0,0,0,0,13,0,0,13,0,0,0,0,0,0,0,0,0,0,0,0,0,0,0,0,0,0,0,0,0,0,0,0,0,0,0,0,0,0,0,0,0,0,0,0,13,0,0,13,0,997.1,0,0,997.1,997.1,"Yes",0,0,0]
[null,114,null,"Tree Trimmer","Vendor #13",null,"SW007832","2018-10-21","2018-10-27","Yes",{"$f":"VLOOKUP($D137,'C.1 - Rate Sheets'!$B$16:$E$35,2)","v":48.5},{"$f":"VLOOKUP($D137,'C.1 - Rate Sheets'!$B$16:$E$35,3)","v":65.5},{"$f":"VLOOKUP($D137,'C.1 - Rate Sheets'!$B$16:$E$35,4)","v":77.599999999999994},{"$f":"VLOOKUP($D137,'C.1 - Rate Sheets'!B:F,5,FALSE)","v":0},0,0,0,0,0,0,0,0,0,0,0,0,0,0,0,0,0,0,0,0,null,null,null,null,0,0,0,0,0,0,null,null,null,null,0,null,null,null,null,0,null,null,null,null,0,null,null,null,null,0,null,null,null,null,0,null,null,null,null,0,null,null,null,null,0,null,null,null,null,0,null,null,null,null,0,0,0,0,0,0,0,0,0,0,0,0,0,0,0,0,0,0,0,0,0,0,13,0,0,13,0,0,0,0,0,0,0,0,0,0,0,0,0,0,0,0,0,0,0,0,0,0,0,0,0,0,0,0,0,0,0,0,0,0,0,0,13,0,0,13,0,851.5,0,0,851.5,851.5,"Yes",0,0,0]
[null,115,null,"Crew Foreman","Vendor #13",null,"SW007833","2018-10-21","2018-10-27","Yes",{"$f":"VLOOKUP($D138,'C.1 - Rate Sheets'!$B$16:$E$35,2)","v":56.8},{"$f":"VLOOKUP($D138,'C.1 - Rate Sheets'!$B$16:$E$35,3)","v":76.7},{"$f":"VLOOKUP($D138,'C.1 - Rate Sheets'!$B$16:$E$35,4)","v":90.9},{"$f":"VLOOKUP($D138,'C.1 - Rate Sheets'!B:F,5,FALSE)","v":0},0,0,0,0,0,0,0,0,0,0,0,0,0,0,0,0,0,0,0,0,null,null,null,null,0,0,0,0,0,0,null,null,null,null,0,null,null,null,null,0,null,null,null,null,0,null,null,null,null,0,null,null,null,null,0,null,null,null,null,0,null,null,null,null,0,null,null,16,null,16,8,8,null,null,16,8,8,0,0,16,8,8,0,0,16,8,8,0,0,16,8,8,0,0,16,0,0,0,0,0,0,0,0,0,0,0,0,0,0,0,0,0,0,0,0,0,0,0,0,0,0,0,0,0,0,0,0,0,0,0,0,0,0,0,0,40,40,16,0,80,2272,3068,1454.4,0,6794.4,6794.4,"Yes",0,0,0]
[null,116,null,"Tree Trimmer","Vendor #13",null,"SW007833","2018-10-21","2018-10-27","Yes",{"$f":"VLOOKUP($D139,'C.1 - Rate Sheets'!$B$16:$E$35,2)","v":48.5},{"$f":"VLOOKUP($D139,'C.1 - Rate Sheets'!$B$16:$E$35,3)","v":65.5},{"$f":"VLOOKUP($D139,'C.1 - Rate Sheets'!$B$16:$E$35,4)","v":77.599999999999994},{"$f":"VLOOKUP($D139,'C.1 - Rate Sheets'!B:F,5,FALSE)","v":0},0,0,0,0,0,0,0,0,0,0,0,0,0,0,0,0,0,0,0,0,null,null,null,null,0,0,0,0,0,0,null,null,null,null,0,null,null,null,null,0,null,null,null,null,0,null,null,null,null,0,null,null,null,null,0,null,null,null,null,0,null,null,null,null,0,null,null,16,null,16,8,8,null,null,16,8,8,0,0,16,8,8,0,0,16,8,8,0,0,16,8,8,0,0,16,0,0,0,0,0,0,0,0,0,0,0,0,0,0,0,0,0,0,0,0,0,0,0,0,0,0,0,0,0,0,0,0,0,0,0,0,0,0,0,0,40,40,16,0,80,1940,2620,1241.5999999999999,0,5801.6,5801.6,"Yes",0,0,0]
[null,117,null,"Crew Foreman","Vendor #13",null,"SW007834","2018-10-21","2018-10-27","Yes",{"$f":"VLOOKUP($D140,'C.1 - Rate Sheets'!$B$16:$E$35,2)","v":56.8},{"$f":"VLOOKUP($D140,'C.1 - Rate Sheets'!$B$16:$E$35,3)","v":76.7},{"$f":"VLOOKUP($D140,'C.1 - Rate Sheets'!$B$16:$E$35,4)","v":90.9},{"$f":"VLOOKUP($D140,'C.1 - Rate Sheets'!B:F,5,FALSE)","v":0},0,0,0,0,0,0,0,0,0,0,0,0,0,0,0,0,0,0,0,0,null,null,null,null,0,0,0,0,0,0,null,null,null,null,0,null,null,null,null,0,null,null,null,null,0,null,null,null,null,0,null,null,null,null,0,null,null,null,null,0,null,null,null,null,0,null,null,null,null,0,null,null,null,null,0,0,0,0,0,0,0,0,0,0,0,0,0,0,0,0,0,0,0,0,0,0,13,0,0,13,0,0,0,0,0,0,0,0,0,0,0,0,0,0,0,0,0,0,0,0,0,0,0,0,0,0,0,0,0,0,0,0,0,0,0,0,13,0,0,13,0,997.1,0,0,997.1,997.1,"Yes",0,0,0]
[null,118,null,"Tree Trimmer","Vendor #13",null,"SW007834","2018-10-21","2018-10-27","Yes",{"$f":"VLOOKUP($D141,'C.1 - Rate Sheets'!$B$16:$E$35,2)","v":48.5},{"$f":"VLOOKUP($D141,'C.1 - Rate Sheets'!$B$16:$E$35,3)","v":65.5},{"$f":"VLOOKUP($D141,'C.1 - Rate Sheets'!$B$16:$E$35,4)","v":77.599999999999994},{"$f":"VLOOKUP($D141,'C.1 - Rate Sheets'!B:F,5,FALSE)","v":0},0,0,0,0,0,0,0,0,0,0,0,0,0,0,0,0,0,0,0,0,null,null,null,null,0,0,0,0,0,0,null,null,null,null,0,null,null,null,null,0,null,null,null,null,0,null,null,null,null,0,null,null,null,null,0,null,null,null,null,0,null,null,null,null,0,null,null,null,null,0,null,null,null,null,0,0,0,0,0,0,0,0,0,0,0,0,0,0,0,0,0,0,0,0,0,0,13,0,0,13,0,0,0,0,0,0,0,0,0,0,0,0,0,0,0,0,0,0,0,0,0,0,0,0,0,0,0,0,0,0,0,0,0,0,0,0,13,0,0,13,0,851.5,0,0,851.5,851.5,"Yes",0,0,0]
[null,119,null,"Supervisor","Vendor #13",null,"SW007901","2018-10-21","2018-10-27","Yes",{"$f":"VLOOKUP($D142,'C.1 - Rate Sheets'!$B$16:$E$35,2)","v":74},{"$f":"VLOOKUP($D142,'C.1 - Rate Sheets'!$B$16:$E$35,3)","v":99.9},{"$f":"VLOOKUP($D142,'C.1 - Rate Sheets'!$B$16:$E$35,4)","v":118.4},{"$f":"VLOOKUP($D142,'C.1 - Rate Sheets'!B:F,5,FALSE)","v":0},0,0,0,0,0,0,0,0,0,0,0,0,0,0,0,0,0,0,0,0,null,null,null,null,0,0,0,0,0,0,null,null,null,null,0,null,null,null,null,0,null,null,null,null,0,null,null,null,null,0,null,null,null,null,0,null,null,null,null,0,null,null,null,null,0,null,null,16,null,16,8,8,null,null,16,8,8,0,0,16,8,8,0,0,16,8,8,0,0,16,8,8,0,0,16,0,16,0,0,16,0,0,0,0,0,0,0,0,0,0,0,0,0,0,0,0,0,0,0,0,0,0,0,0,0,0,0,0,0,0,0,0,0,0,0,40,56,16,0,96,2960,5594.4000000000005,1894.4,0,10448.800000000001,10448.800000000001,"Yes",0,0,0]
[null,120,null,"Crew Foreman","Vendor #13",null,"SW007902","2018-10-21","2018-10-27","Yes",{"$f":"VLOOKUP($D143,'C.1 - Rate Sheets'!$B$16:$E$35,2)","v":56.8},{"$f":"VLOOKUP($D143,'C.1 - Rate Sheets'!$B$16:$E$35,3)","v":76.7},{"$f":"VLOOKUP($D143,'C.1 - Rate Sheets'!$B$16:$E$35,4)","v":90.9},{"$f":"VLOOKUP($D143,'C.1 - Rate Sheets'!B:F,5,FALSE)","v":0},0,0,0,0,0,0,0,0,0,0,0,0,0,0,0,0,0,0,0,0,null,null,null,null,0,0,0,0,0,0,null,null,null,null,0,null,null,null,null,0,null,null,null,null,0,null,null,null,null,0,null,null,null,null,0,null,null,null,null,0,null,null,null,null,0,null,null,16,null,16,8,8,null,null,16,8,8,0,0,16,8,8,0,0,16,8,8,0,0,16,8,8,0,0,16,0,16,0,0,16,0,0,0,0,0,0,0,0,0,0,0,0,0,0,0,0,0,0,0,0,0,0,0,0,0,0,0,0,0,0,0,0,0,0,0,40,56,16,0,96,2272,4295.2,1454.4,0,8021.6,8021.6,"Yes",0,0,0]
[null,121,null,"Tree Trimmer","Vendor #13",null,"SW007902","2018-10-21","2018-10-27","Yes",{"$f":"VLOOKUP($D144,'C.1 - Rate Sheets'!$B$16:$E$35,2)","v":48.5},{"$f":"VLOOKUP($D144,'C.1 - Rate Sheets'!$B$16:$E$35,3)","v":65.5},{"$f":"VLOOKUP($D144,'C.1 - Rate Sheets'!$B$16:$E$35,4)","v":77.599999999999994},{"$f":"VLOOKUP($D144,'C.1 - Rate Sheets'!B:F,5,FALSE)","v":0},0,0,0,0,0,0,0,0,0,0,0,0,0,0,0,0,0,0,0,0,null,null,null,null,0,0,0,0,0,0,null,null,null,null,0,null,null,null,null,0,null,null,null,null,0,null,null,null,null,0,null,null,null,null,0,null,null,null,null,0,null,null,null,null,0,null,null,16,null,16,8,8,null,null,16,8,8,0,0,16,8,8,0,0,16,8,8,0,0,16,8,8,0,0,16,0,16,0,0,16,0,0,0,0,0,0,0,0,0,0,0,0,0,0,0,0,0,0,0,0,0,0,0,0,0,0,0,0,0,0,0,0,0,0,0,40,56,16,0,96,1940,3668,1241.5999999999999,0,6849.6,6849.6,"Yes",0,0,0]
[null,122,null,"Crew Foreman","Vendor #13",null,"SW007903","2018-10-21","2018-10-27","Yes",{"$f":"VLOOKUP($D145,'C.1 - Rate Sheets'!$B$16:$E$35,2)","v":56.8},{"$f":"VLOOKUP($D145,'C.1 - Rate Sheets'!$B$16:$E$35,3)","v":76.7},{"$f":"VLOOKUP($D145,'C.1 - Rate Sheets'!$B$16:$E$35,4)","v":90.9},{"$f":"VLOOKUP($D145,'C.1 - Rate Sheets'!B:F,5,FALSE)","v":0},0,0,0,0,0,0,0,0,0,0,0,0,0,0,0,0,0,0,0,0,null,null,null,null,0,0,0,0,0,0,null,null,null,null,0,null,null,null,null,0,null,null,null,null,0,null,null,null,null,0,null,null,null,null,0,null,null,null,null,0,null,null,null,null,0,null,null,16,null,16,8,8,null,null,16,8,8,0,0,16,8,8,0,0,16,8,8,0,0,16,8,8,0,0,16,0,16,0,0,16,0,0,0,0,0,0,0,0,0,0,0,0,0,0,0,0,0,0,0,0,0,0,0,0,0,0,0,0,0,0,0,0,0,0,0,40,56,16,0,96,2272,4295.2,1454.4,0,8021.6,8021.6,"Yes",0,0,0]
[null,123,null,"Tree Trimmer","Vendor #13",null,"SW007903","2018-10-21","2018-10-27","Yes",{"$f":"VLOOKUP($D146,'C.1 - Rate Sheets'!$B$16:$E$35,2)","v":48.5},{"$f":"VLOOKUP($D146,'C.1 - Rate Sheets'!$B$16:$E$35,3)","v":65.5},{"$f":"VLOOKUP($D146,'C.1 - Rate Sheets'!$B$16:$E$35,4)","v":77.599999999999994},{"$f":"VLOOKUP($D146,'C.1 - Rate Sheets'!B:F,5,FALSE)","v":0},0,0,0,0,0,0,0,0,0,0,0,0,0,0,0,0,0,0,0,0,null,null,null,null,0,0,0,0,0,0,null,null,null,null,0,null,null,null,null,0,null,null,null,null,0,null,null,null,null,0,null,null,null,null,0,null,null,null,null,0,null,null,null,null,0,null,null,16,null,16,8,8,null,null,16,8,8,0,0,16,8,8,0,0,16,8,8,0,0,16,8,8,0,0,16,0,16,0,0,16,0,0,0,0,0,0,0,0,0,0,0,0,0,0,0,0,0,0,0,0,0,0,0,0,0,0,0,0,0,0,0,0,0,0,0,40,56,16,0,96,1940,3668,1241.5999999999999,0,6849.6,6849.6,"Yes",0,0,0]
[null,124,null,"Crew Foreman","Vendor #13",null,"SW007904","2018-10-21","2018-10-27","Yes",{"$f":"VLOOKUP($D147,'C.1 - Rate Sheets'!$B$16:$E$35,2)","v":56.8},{"$f":"VLOOKUP($D147,'C.1 - Rate Sheets'!$B$16:$E$35,3)","v":76.7},{"$f":"VLOOKUP($D147,'C.1 - Rate Sheets'!$B$16:$E$35,4)","v":90.9},{"$f":"VLOOKUP($D147,'C.1 - Rate Sheets'!B:F,5,FALSE)","v":0},0,0,0,0,0,0,0,0,0,0,0,0,0,0,0,0,0,0,0,0,null,null,null,null,0,0,0,0,0,0,null,null,null,null,0,null,null,null,null,0,null,null,null,null,0,null,null,null,null,0,null,null,null,null,0,null,null,null,null,0,null,null,null,null,0,null,null,16,null,16,8,8,null,null,16,8,8,0,0,16,8,8,0,0,16,8,8,0,0,16,8,8,0,0,16,0,16,0,0,16,0,0,0,0,0,0,0,0,0,0,0,0,0,0,0,0,0,0,0,0,0,0,0,0,0,0,0,0,0,0,0,0,0,0,0,40,56,16,0,96,{"$f":"ET147*K147","v":2272},{"$f":"EU147*L147","v":4295.2},{"$f":"EV147*M147","v":1454.4},{"$f":"EW147*N147","v":0},8021.6,8021.6,"Yes",0,0,0]
[null,125,null,"Tree Trimmer","Vendor #13",null,"SW007904","2018-10-21","2018-10-27","Yes",{"$f":"VLOOKUP($D148,'C.1 - Rate Sheets'!$B$16:$E$35,2)","v":48.5},{"$f":"VLOOKUP($D148,'C.1 - Rate Sheets'!$B$16:$E$35,3)","v":65.5},{"$f":"VLOOKUP($D148,'C.1 - Rate Sheets'!$B$16:$E$35,4)","v":77.599999999999994},{"$f":"VLOOKUP($D148,'C.1 - Rate Sheets'!B:F,5,FALSE)","v":0},0,0,0,0,0,0,0,0,0,0,0,0,0,0,0,0,0,0,0,0,null,null,null,null,0,0,0,0,0,0,null,null,null,null,0,null,null,null,null,0,null,null,null,null,0,null,null,null,null,0,null,null,null,null,0,null,null,null,null,0,null,null,null,null,0,null,null,16,null,16,8,8,null,null,16,8,8,0,0,16,8,8,0,0,16,8,8,0,0,16,8,8,0,0,16,0,16,0,0,16,0,0,0,0,0,0,0,0,0,0,0,0,0,0,0,0,0,0,0,0,0,0,0,0,0,0,0,0,0,0,0,0,0,0,0,40,56,16,0,96,1940,3668,1241.5999999999999,0,6849.6,6849.6,"Yes",0,0,0]
[null,126,null,"Crew Foreman","Vendor #13",null,"SW007905","2018-10-21","2018-10-27","Yes",{"$f":"VLOOKUP($D149,'C.1 - Rate Sheets'!$B$16:$E$35,2)","v":56.8},{"$f":"VLOOKUP($D149,'C.1 - Rate Sheets'!$B$16:$E$35,3)","v":76.7},{"$f":"VLOOKUP($D149,'C.1 - Rate Sheets'!$B$16:$E$35,4)","v":90.9},{"$f":"VLOOKUP($D149,'C.1 - Rate Sheets'!B:F,5,FALSE)","v":0},0,0,0,0,0,0,0,0,0,0,0,0,0,0,0,0,0,0,0,0,null,null,null,null,0,0,0,0,0,0,null,null,null,null,0,null,null,null,null,0,null,null,null,null,0,null,null,null,null,0,null,null,null,null,0,null,null,null,null,0,null,null,null,null,0,null,null,16,null,16,8,8,null,null,16,8,8,0,0,16,8,8,0,0,16,8,8,0,0,16,8,8,0,0,16,0,0,0,0,0,0,0,0,0,0,0,0,0,0,0,0,0,0,0,0,0,0,0,0,0,0,0,0,0,0,0,0,0,0,0,0,0,0,0,0,40,40,16,0,80,2272,3068,1454.4,0,6794.4,6794.4,"Yes",0,0,0]
[null,127,null,"Tree Trimmer","Vendor #13",null,"SW007905","2018-10-21","2018-10-27","Yes",{"$f":"VLOOKUP($D150,'C.1 - Rate Sheets'!$B$16:$E$35,2)","v":48.5},{"$f":"VLOOKUP($D150,'C.1 - Rate Sheets'!$B$16:$E$35,3)","v":65.5},{"$f":"VLOOKUP($D150,'C.1 - Rate Sheets'!$B$16:$E$35,4)","v":77.599999999999994},{"$f":"VLOOKUP($D150,'C.1 - Rate Sheets'!B:F,5,FALSE)","v":0},0,0,0,0,0,0,0,0,0,0,0,0,0,0,0,0,0,0,0,0,null,null,null,null,0,0,0,0,0,0,null,null,null,null,0,null,null,null,null,0,null,null,null,null,0,null,null,null,null,0,null,null,null,null,0,null,null,null,null,0,null,null,null,null,0,null,null,16,null,16,8,8,null,null,16,8,8,0,0,16,8,8,0,0,16,8,8,0,0,16,8,8,0,0,16,0,0,0,0,0,0,0,0,0,0,0,0,0,0,0,0,0,0,0,0,0,0,0,0,0,0,0,0,0,0,0,0,0,0,0,0,0,0,0,0,40,40,16,0,80,1940,2620,1241.5999999999999,0,5801.6,5801.6,"Yes",0,0,0]
[null,128,null,"Tree Trimmer","Vendor #13",null,"SW007905","2018-10-21","2018-10-27","Yes",{"$f":"VLOOKUP($D151,'C.1 - Rate Sheets'!$B$16:$E$35,2)","v":48.5},{"$f":"VLOOKUP($D151,'C.1 - Rate Sheets'!$B$16:$E$35,3)","v":65.5},{"$f":"VLOOKUP($D151,'C.1 - Rate Sheets'!$B$16:$E$35,4)","v":77.599999999999994},{"$f":"VLOOKUP($D151,'C.1 - Rate Sheets'!B:F,5,FALSE)","v":0},0,0,0,0,0,0,0,0,0,0,0,0,0,0,0,0,0,0,0,0,null,null,null,null,0,0,0,0,0,0,null,null,null,null,0,null,null,null,null,0,null,null,null,null,0,null,null,null,null,0,null,null,null,null,0,null,null,null,null,0,null,null,null,null,0,null,null,16,null,16,8,8,null,null,16,8,8,0,0,16,8,8,0,0,16,8,8,0,0,16,8,8,0,0,16,0,0,0,0,0,0,0,0,0,0,0,0,0,0,0,0,0,0,0,0,0,0,0,0,0,0,0,0,0,0,0,0,0,0,0,0,0,0,0,0,40,40,16,0,80,1940,2620,1241.5999999999999,0,5801.6,5801.6,"Yes",0,0,0]
[null,129,null,"Crew Foreman","Vendor #13",null,"SW007906","2018-10-21","2018-10-27","Yes",{"$f":"VLOOKUP($D152,'C.1 - Rate Sheets'!$B$16:$E$35,2)","v":56.8},{"$f":"VLOOKUP($D152,'C.1 - Rate Sheets'!$B$16:$E$35,3)","v":76.7},{"$f":"VLOOKUP($D152,'C.1 - Rate Sheets'!$B$16:$E$35,4)","v":90.9},{"$f":"VLOOKUP($D152,'C.1 - Rate Sheets'!B:F,5,FALSE)","v":0},0,0,0,0,0,0,0,0,0,0,0,0,0,0,0,0,0,0,0,0,null,null,null,null,0,0,0,0,0,0,null,null,null,null,0,null,null,null,null,0,null,null,null,null,0,null,null,null,null,0,null,null,null,null,0,null,null,null,null,0,null,null,null,null,0,null,null,null,null,0,null,null,null,null,0,0,0,0,0,0,0,0,0,0,0,0,0,0,0,0,0,0,0,0,0,0,12,0,0,12,0,0,0,0,0,0,0,0,0,0,0,0,0,0,0,0,0,0,0,0,0,0,0,0,0,0,0,0,0,0,0,0,0,0,0,0,12,0,{"$f":"SUM(R152,W152,AB152,AL152,AQ152,AV152,BA152,BF152,BK152,BP152,BU152,BZ152,CO152, CJ152,CT152,CY152,DD152,DI152,DN152, DS152,DX152,EC152,EH152,EM152,ER152)","v":0},{"$f":"SUM(S152,X152,AC152,AM152,AR152,AW152,BB152,BG152,BL152,BQ152,BV152,CA152,CP152, CK152,CU152,CZ152,DE152,DJ152,DO152, DT152,DY152,ED152,EI152,EN152,ES152)","v":12},0,920.40000000000009,0,0,920.40000000000009,920.40000000000009,"Yes",0,0,0]
[null,130,null,"Tree Trimmer","Vendor #13",null,"SW007906","2018-10-21","2018-10-27","Yes",{"$f":"VLOOKUP($D153,'C.1 - Rate Sheets'!$B$16:$E$35,2)","v":48.5},{"$f":"VLOOKUP($D153,'C.1 - Rate Sheets'!$B$16:$E$35,3)","v":65.5},{"$f":"VLOOKUP($D153,'C.1 - Rate Sheets'!$B$16:$E$35,4)","v":77.599999999999994},{"$f":"VLOOKUP($D153,'C.1 - Rate Sheets'!B:F,5,FALSE)","v":0},0,0,0,0,0,0,0,0,0,0,0,0,0,0,0,0,0,0,0,0,null,null,null,null,0,0,0,0,0,0,null,null,null,null,0,null,null,null,null,0,null,null,null,null,0,null,null,null,null,0,null,null,null,null,0,null,null,null,null,0,null,null,null,null,0,null,null,null,null,0,null,null,null,null,0,0,0,0,0,0,0,0,0,0,0,0,0,0,0,0,0,0,0,0,0,0,12,0,0,12,0,0,0,0,0,0,0,0,0,0,0,0,0,0,0,0,0,0,0,0,0,0,0,0,0,0,0,0,0,0,0,0,0,0,0,0,12,0,0,12,0,786,0,0,786,786,"Yes",0,0,0]
[null,131,null,"Tree Trimmer","Vendor #13",null,"SW007906","2018-10-21","2018-10-27","Yes",{"$f":"VLOOKUP($D154,'C.1 - Rate Sheets'!$B$16:$E$35,2)","v":48.5},{"$f":"VLOOKUP($D154,'C.1 - Rate Sheets'!$B$16:$E$35,3)","v":65.5},{"$f":"VLOOKUP($D154,'C.1 - Rate Sheets'!$B$16:$E$35,4)","v":77.599999999999994},{"$f":"VLOOKUP($D154,'C.1 - Rate Sheets'!B:F,5,FALSE)","v":0},0,0,0,0,0,0,0,0,0,0,0,0,0,0,0,0,0,0,0,0,null,null,null,null,0,0,0,0,0,0,null,null,null,null,0,null,null,null,null,0,null,null,null,null,0,null,null,null,null,0,null,null,null,null,0,null,null,null,null,0,null,null,null,null,0,null,null,null,null,0,null,null,null,null,0,0,0,0,0,0,0,0,0,0,0,0,0,0,0,0,0,0,0,0,0,0,12,0,0,12,0,0,0,0,0,0,0,0,0,0,0,0,0,0,0,0,0,0,0,0,0,0,0,0,0,0,0,0,0,0,0,0,0,0,0,0,12,0,0,12,0,786,0,0,786,786,"Yes",0,0,-786,8]
[null,132,null,"Crew Foreman","Vendor #13",null,"SW007907","2018-10-21","2018-10-27","Yes",{"$f":"VLOOKUP($D155,'C.1 - Rate Sheets'!$B$16:$E$35,2)","v":56.8},{"$f":"VLOOKUP($D155,'C.1 - Rate Sheets'!$B$16:$E$35,3)","v":76.7},{"$f":"VLOOKUP($D155,'C.1 - Rate Sheets'!$B$16:$E$35,4)","v":90.9},{"$f":"VLOOKUP($D155,'C.1 - Rate Sheets'!B:F,5,FALSE)","v":0},0,0,0,0,0,0,0,0,0,0,0,0,0,0,0,0,0,0,0,0,null,null,null,null,0,0,0,0,0,0,null,null,null,null,0,null,null,null,null,0,null,null,null,null,0,null,null,null,null,0,null,null,null,null,0,null,null,null,null,0,null,null,null,null,0,null,null,16,null,16,8,8,null,null,16,8,8,0,0,16,8,8,0,0,16,8,8,0,0,16,8,8,0,0,16,0,16,0,0,16,0,0,0,0,0,0,0,0,0,0,0,0,0,0,0,0,0,0,0,0,0,0,0,0,0,0,0,0,0,0,0,0,0,0,0,40,56,16,0,96,2272,4295.2,1454.4,0,8021.6,8021.6,"Yes",0,0,0]
[null,133,null,"Tree Trimmer","Vendor #13",null,"SW007907","2018-10-21","2018-10-27","Yes",{"$f":"VLOOKUP($D156,'C.1 - Rate Sheets'!$B$16:$E$35,2)","v":48.5},{"$f":"VLOOKUP($D156,'C.1 - Rate Sheets'!$B$16:$E$35,3)","v":65.5},{"$f":"VLOOKUP($D156,'C.1 - Rate Sheets'!$B$16:$E$35,4)","v":77.599999999999994},{"$f":"VLOOKUP($D156,'C.1 - Rate Sheets'!B:F,5,FALSE)","v":0},0,0,0,0,0,0,0,0,0,0,0,0,0,0,0,0,0,0,0,0,null,null,null,null,0,0,0,0,0,0,null,null,null,null,0,null,null,null,null,0,null,null,null,null,0,null,null,null,null,0,null,null,null,null,0,null,null,null,null,0,null,null,null,null,0,null,null,16,null,16,8,8,null,null,16,8,8,0,0,16,8,8,0,0,16,8,8,0,0,16,8,8,0,0,16,0,16,0,0,16,0,0,0,0,0,0,0,0,0,0,0,0,0,0,0,0,0,0,0,0,0,0,0,0,0,0,0,0,0,0,0,0,0,0,0,40,56,16,0,96,1940,3668,1241.5999999999999,0,6849.6,6849.6,"Yes",0,0,0]
[null,134,null,"Crew Foreman","Vendor #13",null,"SW007908","2018-10-21","2018-10-27","Yes",{"$f":"VLOOKUP($D157,'C.1 - Rate Sheets'!$B$16:$E$35,2)","v":56.8},{"$f":"VLOOKUP($D157,'C.1 - Rate Sheets'!$B$16:$E$35,3)","v":76.7},{"$f":"VLOOKUP($D157,'C.1 - Rate Sheets'!$B$16:$E$35,4)","v":90.9},{"$f":"VLOOKUP($D157,'C.1 - Rate Sheets'!B:F,5,FALSE)","v":0},0,0,0,0,0,0,0,0,0,0,0,0,0,0,0,0,0,0,0,0,null,null,null,null,0,0,0,0,0,0,null,null,null,null,0,null,null,null,null,0,null,null,null,null,0,null,null,null,null,0,null,null,null,null,0,null,null,null,null,0,null,null,null,null,0,null,null,16,null,16,8,8,null,null,16,8,8,0,0,16,8,8,0,0,16,8,8,0,0,16,8,8,0,0,16,0,16,0,0,16,0,0,0,0,0,0,0,0,0,0,0,0,0,0,0,0,0,0,0,0,0,0,0,0,0,0,0,0,0,0,0,0,0,0,0,40,56,16,0,96,2272,4295.2,1454.4,0,8021.6,8021.6,"Yes",0,0,0]
[null,135,null,"Crew Foreman","Vendor #13",null,"SW007908","2018-10-21","2018-10-27","Yes",{"$f":"VLOOKUP($D158,'C.1 - Rate Sheets'!$B$16:$E$35,2)","v":56.8},{"$f":"VLOOKUP($D158,'C.1 - Rate Sheets'!$B$16:$E$35,3)","v":76.7},{"$f":"VLOOKUP($D158,'C.1 - Rate Sheets'!$B$16:$E$35,4)","v":90.9},{"$f":"VLOOKUP($D158,'C.1 - Rate Sheets'!B:F,5,FALSE)","v":0},0,0,0,0,0,0,0,0,0,0,0,0,0,0,0,0,0,0,0,0,null,null,null,null,0,0,0,0,0,0,null,null,null,null,0,null,null,null,null,0,null,null,null,null,0,null,null,null,null,0,null,null,null,null,0,null,null,null,null,0,null,null,null,null,0,null,null,16,null,16,8,8,null,null,16,8,8,0,0,16,8,8,0,0,16,8,8,0,0,16,8,8,0,0,16,0,16,0,0,16,0,0,0,0,0,0,0,0,0,0,0,0,0,0,0,0,0,0,0,0,0,0,0,0,0,0,0,0,0,0,0,0,0,0,0,40,56,16,0,96,2272,4295.2,1454.4,0,8021.6,8021.6,"Yes",0,0,912,9]
[null,136,null,"Crew Foreman","Vendor #13",null,"SW007909","2018-10-21","2018-10-27","Yes",{"$f":"VLOOKUP($D159,'C.1 - Rate Sheets'!$B$16:$E$35,2)","v":56.8},{"$f":"VLOOKUP($D159,'C.1 - Rate Sheets'!$B$16:$E$35,3)","v":76.7},{"$f":"VLOOKUP($D159,'C.1 - Rate Sheets'!$B$16:$E$35,4)","v":90.9},{"$f":"VLOOKUP($D159,'C.1 - Rate Sheets'!B:F,5,FALSE)","v":0},0,0,0,0,0,0,0,0,0,0,0,0,0,0,0,0,0,0,0,0,null,null,null,null,0,0,0,0,0,0,null,null,null,null,0,null,null,null,null,0,null,null,null,null,0,null,null,null,null,0,null,null,null,null,0,null,null,null,null,0,null,null,null,null,0,null,null,16,null,16,8,8,null,null,16,8,8,0,0,16,8,8,0,0,16,8,8,0,0,16,8,8,0,0,16,0,16,null,0,16,0,0,0,0,0,0,0,0,0,0,0,0,0,0,0,0,0,0,0,0,0,0,0,0,0,0,0,0,0,0,0,0,0,0,0,40,56,16,0,96,2272,4295.2,1454.4,0,8021.6,8021.6,"Yes",0,0,0]
[null,137,null,"Tree Trimmer","Vendor #13",null,"SW007909","2018-10-21","2018-10-27","Yes",{"$f":"VLOOKUP($D160,'C.1 - Rate Sheets'!$B$16:$E$35,2)","v":48.5},{"$f":"VLOOKUP($D160,'C.1 - Rate Sheets'!$B$16:$E$35,3)","v":65.5},{"$f":"VLOOKUP($D160,'C.1 - Rate Sheets'!$B$16:$E$35,4)","v":77.599999999999994},{"$f":"VLOOKUP($D160,'C.1 - Rate Sheets'!B:F,5,FALSE)","v":0},0,0,0,0,0,0,0,0,0,0,0,0,0,0,0,0,0,0,0,0,null,null,null,null,0,0,0,0,0,0,null,null,null,null,0,null,null,null,null,0,null,null,null,null,0,null,null,null,null,0,null,null,null,null,0,null,null,null,null,0,null,null,null,null,0,null,null,16,null,16,8,8,null,null,16,8,8,0,0,16,8,8,0,0,16,8,8,0,0,16,8,8,0,0,16,0,16,null,0,16,0,0,0,0,0,0,0,0,0,0,0,0,0,0,0,0,0,0,0,0,0,0,0,0,0,0,0,0,0,0,0,0,0,0,0,40,56,16,0,96,1940,3668,1241.5999999999999,0,6849.6,6849.6,"Yes",0,0,0]
[null,138,null,"Supervisor","Vendor #13",null,"SW008070","2018-10-21","2018-10-27","Yes",{"$f":"VLOOKUP($D161,'C.1 - Rate Sheets'!$B$16:$E$35,2)","v":74},{"$f":"VLOOKUP($D161,'C.1 - Rate Sheets'!$B$16:$E$35,3)","v":99.9},{"$f":"VLOOKUP($D161,'C.1 - Rate Sheets'!$B$16:$E$35,4)","v":118.4},{"$f":"VLOOKUP($D161,'C.1 - Rate Sheets'!B:F,5,FALSE)","v":0},0,0,0,0,0,0,0,0,0,0,0,0,0,0,0,0,0,0,0,0,null,null,null,null,0,0,0,0,0,0,null,null,null,null,0,null,null,null,null,0,null,null,null,null,0,null,null,null,null,0,null,null,null,null,0,null,null,null,null,0,null,null,null,null,0,null,null,16,null,16,8,8,null,null,16,8,8,0,0,16,8,8,0,0,16,8,8,0,0,16,8,8,0,0,16,0,0,0,0,0,0,0,0,0,0,0,0,0,0,0,0,0,0,0,0,0,0,0,0,0,0,0,0,0,0,0,0,0,0,0,0,0,0,0,0,40,40,16,0,80,2960,3996,1894.4,0,8850.4,8850.4,"Yes",0,0,0]
[null,139,null,"Crew Foreman","Vendor #13",null,"SW008071","2018-10-21","2018-10-27","Yes",{"$f":"VLOOKUP($D162,'C.1 - Rate Sheets'!$B$16:$E$35,2)","v":56.8},{"$f":"VLOOKUP($D162,'C.1 - Rate Sheets'!$B$16:$E$35,3)","v":76.7},{"$f":"VLOOKUP($D162,'C.1 - Rate Sheets'!$B$16:$E$35,4)","v":90.9},{"$f":"VLOOKUP($D162,'C.1 - Rate Sheets'!B:F,5,FALSE)","v":0},0,0,0,0,0,0,0,0,0,0,0,0,0,0,0,0,0,0,0,0,null,null,null,null,0,0,0,0,0,0,null,null,null,null,0,null,null,null,null,0,null,null,null,null,0,null,null,null,null,0,null,null,null,null,0,null,null,null,null,0,null,null,null,null,0,null,null,16,null,16,8,8,null,null,16,8,8,0,0,16,8,8,0,0,16,8,8,0,0,16,8,8,0,0,16,0,0,0,0,0,0,0,0,0,0,0,0,0,0,0,0,0,0,0,0,0,0,0,0,0,0,0,0,0,0,0,0,0,0,0,0,0,0,0,0,40,40,16,0,80,2272,3068,1454.4,0,6794.4,6794.4,"Yes",0,0,0]
[null,140,null,"Tree Trimmer","Vendor #13",null,"SW008071","2018-10-21","2018-10-27","Yes",{"$f":"VLOOKUP($D163,'C.1 - Rate Sheets'!$B$16:$E$35,2)","v":48.5},{"$f":"VLOOKUP($D163,'C.1 - Rate Sheets'!$B$16:$E$35,3)","v":65.5},{"$f":"VLOOKUP($D163,'C.1 - Rate Sheets'!$B$16:$E$35,4)","v":77.599999999999994},{"$f":"VLOOKUP($D163,'C.1 - Rate Sheets'!B:F,5,FALSE)","v":0},0,0,0,0,0,0,0,0,0,0,0,0,0,0,0,0,0,0,0,0,null,null,null,null,0,0,0,0,0,0,null,null,null,null,0,null,null,null,null,0,null,null,null,null,0,null,null,null,null,0,null,null,null,null,0,null,null,null,null,0,null,null,null,null,0,null,null,16,null,16,8,8,null,null,16,8,8,0,0,16,8,8,0,0,16,8,8,0,0,16,8,8,0,0,16,0,0,0,0,0,0,0,0,0,0,0,0,0,0,0,0,0,0,0,0,0,0,0,0,0,0,0,0,0,0,0,0,0,0,0,0,0,0,0,0,40,40,16,0,80,1940,2620,1241.5999999999999,0,5801.6,5801.6,"Yes",0,0,0]
[null,141,null,"Crew Foreman","Vendor #13",null,"SW008072","2018-10-21","2018-10-27","Yes",{"$f":"VLOOKUP($D164,'C.1 - Rate Sheets'!$B$16:$E$35,2)","v":56.8},{"$f":"VLOOKUP($D164,'C.1 - Rate Sheets'!$B$16:$E$35,3)","v":76.7},{"$f":"VLOOKUP($D164,'C.1 - Rate Sheets'!$B$16:$E$35,4)","v":90.9},{"$f":"VLOOKUP($D164,'C.1 - Rate Sheets'!B:F,5,FALSE)","v":0},0,0,0,0,0,0,0,0,0,0,0,0,0,0,0,0,0,0,0,0,null,null,null,null,0,0,0,0,0,0,null,null,null,null,0,null,null,null,null,0,null,null,null,null,0,null,null,null,null,0,null,null,null,null,0,null,null,null,null,0,null,null,null,null,0,null,null,16,null,16,8,8,null,null,16,8,8,0,0,16,8,8,0,0,16,8,8,0,0,16,8,8,0,0,16,0,0,0,0,0,0,0,0,0,0,0,0,0,0,0,0,0,0,0,0,0,0,0,0,0,0,0,0,0,0,0,0,0,0,0,0,0,0,0,0,40,40,16,0,80,2272,3068,1454.4,0,6794.4,6794.4,"Yes",0,0,0]
[null,142,null,"Tree Trimmer","Vendor #13",null,"SW008072","2018-10-21","2018-10-27","Yes",{"$f":"VLOOKUP($D165,'C.1 - Rate Sheets'!$B$16:$E$35,2)","v":48.5},{"$f":"VLOOKUP($D165,'C.1 - Rate Sheets'!$B$16:$E$35,3)","v":65.5},{"$f":"VLOOKUP($D165,'C.1 - Rate Sheets'!$B$16:$E$35,4)","v":77.599999999999994},{"$f":"VLOOKUP($D165,'C.1 - Rate Sheets'!B:F,5,FALSE)","v":0},0,0,0,0,0,0,0,0,0,0,0,0,0,0,0,0,0,0,0,0,null,null,null,null,0,0,0,0,0,0,null,null,null,null,0,null,null,null,null,0,null,null,null,null,0,null,null,null,null,0,null,null,null,null,0,null,null,null,null,0,null,null,null,null,0,null,null,16,null,16,8,8,null,null,16,8,8,0,0,16,8,8,0,0,16,8,8,0,0,16,8,8,0,0,16,0,0,0,0,0,0,0,0,0,0,0,0,0,0,0,0,0,0,0,0,0,0,0,0,0,0,0,0,0,0,0,0,0,0,0,0,0,0,0,0,40,40,16,0,80,1940,2620,1241.5999999999999,0,5801.6,5801.6,"Yes",0,0,0]
[null,143,null,"Crew Foreman","Vendor #13",null,"SW008073","2018-10-21","2018-10-27","Yes",{"$f":"VLOOKUP($D166,'C.1 - Rate Sheets'!$B$16:$E$35,2)","v":56.8},{"$f":"VLOOKUP($D166,'C.1 - Rate Sheets'!$B$16:$E$35,3)","v":76.7},{"$f":"VLOOKUP($D166,'C.1 - Rate Sheets'!$B$16:$E$35,4)","v":90.9},{"$f":"VLOOKUP($D166,'C.1 - Rate Sheets'!B:F,5,FALSE)","v":0},0,0,0,0,0,0,0,0,0,0,0,0,0,0,0,0,0,0,0,0,null,null,null,null,0,0,0,0,0,0,null,null,null,null,0,null,null,null,null,0,null,null,null,null,0,null,null,null,null,0,null,null,null,null,0,null,null,null,null,0,null,null,null,null,0,null,null,16,null,16,8,8,null,null,16,8,8,0,0,16,8,8,0,0,16,8,8,0,0,16,null,null,0,0,0,0,0,0,0,0,0,0,0,0,0,0,0,0,0,0,0,0,0,0,0,0,0,0,0,0,0,0,0,0,0,0,0,0,0,0,0,0,0,0,0,32,32,16,0,64,1817.6,2454.4,1454.4,0,5726.4,5726.4,"Yes",0,0,0]
[null,144,null,"Tree Trimmer","Vendor #13",null,"SW008073","2018-10-21","2018-10-27","Yes",{"$f":"VLOOKUP($D167,'C.1 - Rate Sheets'!$B$16:$E$35,2)","v":48.5},{"$f":"VLOOKUP($D167,'C.1 - Rate Sheets'!$B$16:$E$35,3)","v":65.5},{"$f":"VLOOKUP($D167,'C.1 - Rate Sheets'!$B$16:$E$35,4)","v":77.599999999999994},{"$f":"VLOOKUP($D167,'C.1 - Rate Sheets'!B:F,5,FALSE)","v":0},0,0,0,0,0,0,0,0,0,0,0,0,0,0,0,0,0,0,0,0,null,null,null,null,0,0,0,0,0,0,null,null,null,null,0,null,null,null,null,0,null,null,null,null,0,null,null,null,null,0,null,null,null,null,0,null,null,null,null,0,null,null,null,null,0,null,null,16,null,16,8,8,null,null,16,8,8,0,0,16,8,8,0,0,16,8,8,0,0,16,null,null,0,0,0,0,0,0,0,0,0,0,0,0,0,0,0,0,0,0,0,0,0,0,0,0,0,0,0,0,0,0,0,0,0,0,0,0,0,0,0,0,0,0,0,32,32,16,0,64,1552,2096,1241.5999999999999,0,4889.6000000000004,4889.6000000000004,"Yes",0,0,0]
[null,145,null,"Crew Foreman","Vendor #13",null,"SW008074","2018-10-21","2018-10-27","Yes",{"$f":"VLOOKUP($D168,'C.1 - Rate Sheets'!$B$16:$E$35,2)","v":56.8},{"$f":"VLOOKUP($D168,'C.1 - Rate Sheets'!$B$16:$E$35,3)","v":76.7},{"$f":"VLOOKUP($D168,'C.1 - Rate Sheets'!$B$16:$E$35,4)","v":90.9},{"$f":"VLOOKUP($D168,'C.1 - Rate Sheets'!B:F,5,FALSE)","v":0},0,0,0,0,0,0,0,0,0,0,0,0,0,0,0,0,0,0,0,0,null,null,null,null,0,0,0,0,0,0,null,null,null,null,0,null,null,null,null,0,null,null,null,null,0,null,null,null,null,0,null,null,null,null,0,null,null,null,null,0,null,null,null,null,0,null,null,16,null,16,8,8,null,null,16,8,8,0,0,16,8,8,0,0,16,8,8,0,0,16,0,0,0,0,0,0,0,0,0,0,0,0,0,0,0,0,0,0,0,0,0,0,0,0,0,0,0,0,0,0,0,0,0,0,0,0,0,0,0,0,0,0,0,0,0,32,32,16,0,64,1817.6,2454.4,1454.4,0,5726.4,5726.4,"Yes",0,0,0]
[null,146,null,"Tree Trimmer","Vendor #13",null,"SW008074","2018-10-21","2018-10-27","Yes",{"$f":"VLOOKUP($D169,'C.1 - Rate Sheets'!$B$16:$E$35,2)","v":48.5},{"$f":"VLOOKUP($D169,'C.1 - Rate Sheets'!$B$16:$E$35,3)","v":65.5},{"$f":"VLOOKUP($D169,'C.1 - Rate Sheets'!$B$16:$E$35,4)","v":77.599999999999994},{"$f":"VLOOKUP($D169,'C.1 - Rate Sheets'!B:F,5,FALSE)","v":0},0,0,0,0,0,0,0,0,0,0,0,0,0,0,0,0,0,0,0,0,null,null,null,null,0,0,0,0,0,0,null,null,null,null,0,null,null,null,null,0,null,null,null,null,0,null,null,null,null,0,null,null,null,null,0,null,null,null,null,0,null,null,null,null,0,null,null,16,null,16,8,8,null,null,16,8,8,0,0,16,8,8,0,0,16,8,8,0,0,16,0,0,0,0,0,0,0,0,0,0,0,0,0,0,0,0,0,0,0,0,0,0,0,0,0,0,0,0,0,0,0,0,0,0,0,0,0,0,0,0,0,0,0,0,0,32,32,16,0,64,1552,2096,1241.5999999999999,0,4889.6000000000004,4889.6000000000004,"Yes",0,0,0]
[null,147,null,"Crew Foreman","Vendor #13",null,"SW008075","2018-10-21","2018-10-27","Yes",{"$f":"VLOOKUP($D170,'C.1 - Rate Sheets'!$B$16:$E$35,2)","v":56.8},{"$f":"VLOOKUP($D170,'C.1 - Rate Sheets'!$B$16:$E$35,3)","v":76.7},{"$f":"VLOOKUP($D170,'C.1 - Rate Sheets'!$B$16:$E$35,4)","v":90.9},{"$f":"VLOOKUP($D170,'C.1 - Rate Sheets'!B:F,5,FALSE)","v":0},0,0,0,0,0,0,0,0,0,0,0,0,0,0,0,0,0,0,0,0,null,null,null,null,0,0,0,0,0,0,null,null,null,null,0,null,null,null,null,0,null,null,null,null,0,null,null,null,null,0,null,null,null,null,0,null,null,null,null,0,null,null,null,null,0,null,null,16,null,16,8,8,null,null,16,8,8,0,0,16,8,8,0,0,16,8,8,0,0,16,0,0,0,0,0,0,0,0,0,0,0,0,0,0,0,0,0,0,0,0,0,0,0,0,0,0,0,0,0,0,0,0,0,0,0,0,0,0,0,0,0,0,0,0,0,32,32,16,0,64,1817.6,2454.4,1454.4,0,5726.4,5726.4,"Yes",0,0,0]
[null,148,null,"Tree Trimmer","Vendor #13",null,"SW008075","2018-10-21","2018-10-27","Yes",{"$f":"VLOOKUP($D171,'C.1 - Rate Sheets'!$B$16:$E$35,2)","v":48.5},{"$f":"VLOOKUP($D171,'C.1 - Rate Sheets'!$B$16:$E$35,3)","v":65.5},{"$f":"VLOOKUP($D171,'C.1 - Rate Sheets'!$B$16:$E$35,4)","v":77.599999999999994},{"$f":"VLOOKUP($D171,'C.1 - Rate Sheets'!B:F,5,FALSE)","v":0},0,0,0,0,0,0,0,0,0,0,0,0,0,0,0,0,0,0,0,0,null,null,null,null,0,0,0,0,0,0,null,null,null,null,0,null,null,null,null,0,null,null,null,null,0,null,null,null,null,0,null,null,null,null,0,null,null,null,null,0,null,null,null,null,0,null,null,16,null,16,8,8,null,null,16,8,8,0,0,16,8,8,0,0,16,8,8,0,0,16,0,0,0,0,0,0,0,0,0,0,0,0,0,0,0,0,0,0,0,0,0,0,0,0,0,0,0,0,0,0,0,0,0,0,0,0,0,0,0,0,0,0,0,0,0,32,32,16,0,64,1552,2096,1241.5999999999999,0,4889.6000000000004,4889.6000000000004,"Yes",0,0,0]
[null,149,null,"Supervisor","Vendor #13",null,"SW008076","2018-10-27","2018-10-27","Yes",{"$f":"VLOOKUP($D172,'C.1 - Rate Sheets'!$B$16:$E$35,2)","v":74},{"$f":"VLOOKUP($D172,'C.1 - Rate Sheets'!$B$16:$E$35,3)","v":99.9},{"$f":"VLOOKUP($D172,'C.1 - Rate Sheets'!$B$16:$E$35,4)","v":118.4},{"$f":"VLOOKUP($D172,'C.1 - Rate Sheets'!B:F,5,FALSE)","v":0},0,0,0,0,0,0,0,0,0,0,0,0,0,0,0,0,0,0,0,0,null,null,null,null,0,0,0,0,0,0,null,null,null,null,0,null,null,null,null,0,null,null,null,null,0,null,null,null,null,0,null,null,null,null,0,null,null,null,null,0,null,null,null,null,0,null,null,null,null,0,null,null,null,null,0,0,0,0,0,0,0,0,0,0,0,0,0,0,0,0,0,0,0,0,0,0,16,0,0,16,0,0,0,0,0,0,0,0,0,0,0,0,0,0,0,0,0,0,0,0,0,0,0,0,0,0,0,0,0,0,0,0,0,0,0,0,16,0,0,16,0,1598.4,0,0,1598.4,1598.4,"Yes",0,0,0]
[null,150,null,"Crew Foreman","Vendor #13",null,"SW008077","2018-10-28","2018-10-28","Yes",{"$f":"VLOOKUP($D173,'C.1 - Rate Sheets'!$B$16:$E$35,2)","v":56.8},{"$f":"VLOOKUP($D173,'C.1 - Rate Sheets'!$B$16:$E$35,3)","v":76.7},{"$f":"VLOOKUP($D173,'C.1 - Rate Sheets'!$B$16:$E$35,4)","v":90.9},{"$f":"VLOOKUP($D173,'C.1 - Rate Sheets'!B:F,5,FALSE)","v":0},0,0,0,0,0,0,0,0,0,0,0,0,0,0,0,0,0,0,0,0,null,null,null,null,0,0,0,0,0,0,null,null,null,null,0,null,null,null,null,0,null,null,null,null,0,null,null,null,null,0,null,null,null,null,0,null,null,null,null,0,null,null,null,null,0,null,null,null,null,0,null,null,null,null,0,0,0,0,0,0,0,0,0,0,0,0,0,0,0,0,0,0,0,0,0,0,0,0,0,0,0,13,0,0,13,0,0,0,0,0,0,0,0,0,0,0,0,0,0,0,0,0,0,0,0,0,0,0,0,0,0,0,0,0,0,0,13,0,0,13,0,997.1,0,0,997.1,997.1,"Yes",0,0,0]
[null,151,null,"Tree Trimmer","Vendor #13",null,"SW008077","2018-10-28","2018-10-28","Yes",{"$f":"VLOOKUP($D174,'C.1 - Rate Sheets'!$B$16:$E$35,2)","v":48.5},{"$f":"VLOOKUP($D174,'C.1 - Rate Sheets'!$B$16:$E$35,3)","v":65.5},{"$f":"VLOOKUP($D174,'C.1 - Rate Sheets'!$B$16:$E$35,4)","v":77.599999999999994},{"$f":"VLOOKUP($D174,'C.1 - Rate Sheets'!B:F,5,FALSE)","v":0},0,0,0,0,0,0,0,0,0,0,0,0,0,0,0,0,0,0,0,0,null,null,null,null,0,0,0,0,0,0,null,null,null,null,0,null,null,null,null,0,null,null,null,null,0,null,null,null,null,0,null,null,null,null,0,null,null,null,null,0,null,null,null,null,0,null,null,null,null,0,null,null,null,null,0,0,0,0,0,0,0,0,0,0,0,0,0,0,0,0,0,0,0,0,0,0,0,0,0,0,0,13,0,0,13,0,0,0,0,0,0,0,0,0,0,0,0,0,0,0,0,0,0,0,0,0,0,0,0,0,0,0,0,0,0,0,13,0,0,13,0,851.5,0,0,851.5,851.5,"Yes",0,0,0]
[null,152,null,"Crew Foreman","Vendor #13",null,"SW008078","2018-10-21","2018-10-27","Yes",{"$f":"VLOOKUP($D175,'C.1 - Rate Sheets'!$B$16:$E$35,2)","v":56.8},{"$f":"VLOOKUP($D175,'C.1 - Rate Sheets'!$B$16:$E$35,3)","v":76.7},{"$f":"VLOOKUP($D175,'C.1 - Rate Sheets'!$B$16:$E$35,4)","v":90.9},{"$f":"VLOOKUP($D175,'C.1 - Rate Sheets'!B:F,5,FALSE)","v":0},0,0,0,0,0,0,0,0,0,0,0,0,0,0,0,0,0,0,0,0,null,null,null,null,0,0,0,0,0,0,null,null,null,null,0,null,null,null,null,0,null,null,null,null,0,null,null,null,null,0,null,null,null,null,0,null,null,null,null,0,null,null,null,null,0,null,null,null,null,0,null,null,null,null,0,0,0,0,0,0,0,0,0,0,0,0,0,0,0,0,0,0,0,0,0,0,16,0,0,16,0,0,0,0,0,0,0,0,0,0,0,0,0,0,0,0,0,0,0,0,0,0,0,0,0,0,0,0,0,0,0,0,0,0,0,0,16,0,0,16,0,1227.2,0,0,1227.2,1227.2,"Yes",0,0,0]
[null,153,null,"Tree Trimmer","Vendor #13",null,"SW008078","2018-10-21","2018-10-27","Yes",{"$f":"VLOOKUP($D176,'C.1 - Rate Sheets'!$B$16:$E$35,2)","v":48.5},{"$f":"VLOOKUP($D176,'C.1 - Rate Sheets'!$B$16:$E$35,3)","v":65.5},{"$f":"VLOOKUP($D176,'C.1 - Rate Sheets'!$B$16:$E$35,4)","v":77.599999999999994},{"$f":"VLOOKUP($D176,'C.1 - Rate Sheets'!B:F,5,FALSE)","v":0},0,0,0,0,0,0,0,0,0,0,0,0,0,0,0,0,0,0,0,0,null,null,null,null,0,0,0,0,0,0,null,null,null,null,0,null,null,null,null,0,null,null,null,null,0,null,null,null,null,0,null,null,null,null,0,null,null,null,null,0,null,null,null,null,0,null,null,null,null,0,null,null,null,null,0,0,0,0,0,0,0,0,0,0,0,0,0,0,0,0,0,0,0,0,0,0,16,0,0,16,0,0,0,0,0,0,0,0,0,0,0,0,0,0,0,0,0,0,0,0,0,0,0,0,0,0,0,0,0,0,0,0,0,0,0,0,16,0,0,16,0,1048,0,0,1048,1048,"Yes",0,0,0]
[null,154,null,"Crew Foreman","Vendor #13",null,"SW008079","2018-10-21","2018-10-26","Yes",{"$f":"VLOOKUP($D177,'C.1 - Rate Sheets'!$B$16:$E$35,2)","v":56.8},{"$f":"VLOOKUP($D177,'C.1 - Rate Sheets'!$B$16:$E$35,3)","v":76.7},{"$f":"VLOOKUP($D177,'C.1 - Rate Sheets'!$B$16:$E$35,4)","v":90.9},{"$f":"VLOOKUP($D177,'C.1 - Rate Sheets'!B:F,5,FALSE)","v":0},0,0,0,0,0,0,0,0,0,0,0,0,0,0,0,0,0,0,0,0,null,null,null,null,0,0,0,0,0,0,null,null,null,null,0,null,null,null,null,0,null,null,null,null,0,null,null,null,null,0,null,null,null,null,0,0,0,null,null,0,null,null,null,null,0,null,null,null,null,0,null,null,null,null,0,0,0,0,0,0,0,0,0,0,0,0,0,0,0,0,8,5,0,0,13,0,0,0,0,0,0,0,0,0,0,0,0,0,0,0,0,0,0,0,0,0,0,0,0,0,0,0,0,0,0,0,0,0,0,0,0,0,0,0,0,8,5,0,0,13,454.4,383.5,0,0,837.9,837.9,"Yes",0,0,0]
[null,155,null,"Tree Trimmer","Vendor #13",null,"SW008079","2018-10-21","2018-10-26","Yes",{"$f":"VLOOKUP($D178,'C.1 - Rate Sheets'!$B$16:$E$35,2)","v":48.5},{"$f":"VLOOKUP($D178,'C.1 - Rate Sheets'!$B$16:$E$35,3)","v":65.5},{"$f":"VLOOKUP($D178,'C.1 - Rate Sheets'!$B$16:$E$35,4)","v":77.599999999999994},{"$f":"VLOOKUP($D178,'C.1 - Rate Sheets'!B:F,5,FALSE)","v":0},0,0,0,0,0,0,0,0,0,0,0,0,0,0,0,0,0,0,0,0,null,null,null,null,0,0,0,0,0,0,null,null,null,null,0,null,null,null,null,0,null,null,null,null,0,null,null,null,null,0,null,null,null,null,0,0,0,null,null,0,null,null,null,null,0,null,null,null,null,0,null,null,null,null,0,0,0,0,0,0,0,0,0,0,0,0,0,0,0,0,8,5,0,0,13,0,0,0,0,0,0,0,0,0,0,0,0,0,0,0,0,0,0,0,0,0,0,0,0,0,0,0,0,0,0,0,0,0,0,0,0,0,0,0,0,8,5,0,0,13,388,327.5,0,0,715.5,715.5,"Yes",0,0,0]
[null,156,null,"Crew Foreman","Vendor #13",null,"SW008080","2018-10-21","2018-10-26","Yes",{"$f":"VLOOKUP($D179,'C.1 - Rate Sheets'!$B$16:$E$35,2)","v":56.8},{"$f":"VLOOKUP($D179,'C.1 - Rate Sheets'!$B$16:$E$35,3)","v":76.7},{"$f":"VLOOKUP($D179,'C.1 - Rate Sheets'!$B$16:$E$35,4)","v":90.9},{"$f":"VLOOKUP($D179,'C.1 - Rate Sheets'!B:F,5,FALSE)","v":0},0,0,0,0,0,0,0,0,0,0,0,0,0,0,0,0,0,0,0,0,null,null,null,null,0,0,0,0,0,0,null,null,null,null,0,null,null,null,null,0,null,null,null,null,0,null,null,null,null,0,null,null,null,null,0,null,null,null,null,0,null,null,null,null,0,null,null,null,null,0,null,null,null,null,0,0,0,0,0,0,0,0,0,0,0,0,0,0,0,0,8,5,0,0,13,0,0,0,0,0,0,0,0,0,0,0,0,0,0,0,0,0,0,0,0,0,0,0,0,0,0,0,0,0,0,0,0,0,0,0,0,0,0,0,0,8,5,0,0,13,454.4,383.5,0,0,837.9,837.9,"Yes",0,0,0]
[null,157,null,"Tree Trimmer","Vendor #13",null,"SW008080","2018-10-21","2018-10-26","Yes",{"$f":"VLOOKUP($D180,'C.1 - Rate Sheets'!$B$16:$E$35,2)","v":48.5},{"$f":"VLOOKUP($D180,'C.1 - Rate Sheets'!$B$16:$E$35,3)","v":65.5},{"$f":"VLOOKUP($D180,'C.1 - Rate Sheets'!$B$16:$E$35,4)","v":77.599999999999994},{"$f":"VLOOKUP($D180,'C.1 - Rate Sheets'!B:F,5,FALSE)","v":0},0,0,0,0,0,0,0,0,0,0,0,0,0,0,0,0,0,0,0,0,null,null,null,null,0,0,0,0,0,0,null,null,null,null,0,null,null,null,null,0,null,null,null,null,0,null,null,null,null,0,null,null,null,null,0,null,null,null,null,0,null,null,null,null,0,null,null,null,null,0,null,null,null,null,0,0,0,0,0,0,0,0,0,0,0,0,0,0,0,0,8,5,0,0,13,0,0,0,0,0,0,0,0,0,0,0,0,0,0,0,0,0,0,0,0,0,0,0,0,0,0,0,0,0,0,0,0,0,0,0,0,0,0,0,0,8,5,0,0,13,388,327.5,0,0,715.5,715.5,"Yes",0,0,0]
[null,158,null,"Crew Foreman","Vendor #13",null,"SW008081","2018-10-21","2018-10-27","Yes",{"$f":"VLOOKUP($D181,'C.1 - Rate Sheets'!$B$16:$E$35,2)","v":56.8},{"$f":"VLOOKUP($D181,'C.1 - Rate Sheets'!$B$16:$E$35,3)","v":76.7},{"$f":"VLOOKUP($D181,'C.1 - Rate Sheets'!$B$16:$E$35,4)","v":90.9},{"$f":"VLOOKUP($D181,'C.1 - Rate Sheets'!B:F,5,FALSE)","v":0},0,0,0,0,0,0,0,0,0,0,0,0,0,0,0,0,0,0,0,0,null,null,null,null,0,0,0,0,0,0,null,null,null,null,0,null,null,null,null,0,null,null,null,null,0,null,null,null,null,0,null,null,null,null,0,null,null,null,null,0,null,null,null,null,0,null,null,null,null,0,null,null,null,null,0,0,0,0,0,0,0,0,0,0,0,0,0,0,0,0,0,0,0,0,0,8,5,0,0,13,0,0,0,0,0,0,0,0,0,0,0,0,0,0,0,0,0,0,0,0,0,0,0,0,0,0,0,0,0,0,0,0,0,0,0,8,5,0,0,13,454.4,383.5,0,0,837.9,837.9,"Yes",0,0,0]
[null,159,null,"Tree Trimmer","Vendor #13",null,"SW008081","2018-10-21","2018-10-27","Yes",{"$f":"VLOOKUP($D182,'C.1 - Rate Sheets'!$B$16:$E$35,2)","v":48.5},{"$f":"VLOOKUP($D182,'C.1 - Rate Sheets'!$B$16:$E$35,3)","v":65.5},{"$f":"VLOOKUP($D182,'C.1 - Rate Sheets'!$B$16:$E$35,4)","v":77.599999999999994},{"$f":"VLOOKUP($D182,'C.1 - Rate Sheets'!B:F,5,FALSE)","v":0},0,0,0,0,0,0,0,0,0,0,0,0,0,0,0,0,0,0,0,0,null,null,null,null,0,0,0,0,0,0,null,null,null,null,0,null,null,null,null,0,null,null,null,null,0,null,null,null,null,0,null,null,null,null,0,null,null,null,null,0,null,null,null,null,0,null,null,null,null,0,null,null,null,null,0,0,0,0,0,0,0,0,0,0,0,0,0,0,0,0,0,0,0,0,0,8,5,0,0,13,0,0,0,0,0,0,0,0,0,0,0,0,0,0,0,0,0,0,0,0,0,0,0,0,0,0,0,0,0,0,0,0,0,0,0,8,5,0,0,13,388,327.5,0,0,715.5,715.5,"Yes",0,0,0]
[null,160,null,"Supervisor","Vendor #13",null,"SW007910","2018-10-28","2018-11-02","Yes",{"$f":"VLOOKUP($D183,'C.1 - Rate Sheets'!$B$16:$E$35,2)","v":74},{"$f":"VLOOKUP($D183,'C.1 - Rate Sheets'!$B$16:$E$35,3)","v":99.9},{"$f":"VLOOKUP($D183,'C.1 - Rate Sheets'!$B$16:$E$35,4)","v":118.4},{"$f":"VLOOKUP($D183,'C.1 - Rate Sheets'!B:F,5,FALSE)","v":0},0,0,0,0,0,0,0,0,0,0,0,0,0,0,0,0,0,0,0,0,null,null,null,null,0,0,0,0,0,0,null,null,null,null,0,null,null,null,null,0,null,null,null,null,0,null,null,null,null,0,null,null,null,null,0,null,null,null,null,0,null,null,null,null,0,null,null,null,null,0,null,null,null,null,0,0,0,0,0,0,0,0,0,0,0,0,0,0,0,0,0,0,0,0,0,0,0,0,0,0,0,0,16,0,{"$f":"+SUM(DK183:DN183)","v":16},8,8,0,0,{"$f":"+SUM(DP183:DS183)","v":16},8,8,0,0,16,8,8,0,0,16,8,8,0,0,16,8,8,0,0,16,0,0,0,0,0,40,40,16,0,96,2960,3996,1894.4,0,8850.4,8850.4,"Yes",0,0,0]
[null,161,null,"Supervisor","Vendor #13",null,"SW007911","2018-11-03","2018-11-03","Yes",{"$f":"VLOOKUP($D184,'C.1 - Rate Sheets'!$B$16:$E$35,2)","v":74},{"$f":"VLOOKUP($D184,'C.1 - Rate Sheets'!$B$16:$E$35,3)","v":99.9},{"$f":"VLOOKUP($D184,'C.1 - Rate Sheets'!$B$16:$E$35,4)","v":118.4},{"$f":"VLOOKUP($D184,'C.1 - Rate Sheets'!B:F,5,FALSE)","v":0},0,0,0,0,0,0,0,0,0,0,0,0,0,0,0,0,0,0,0,0,null,null,null,null,0,0,0,0,0,0,null,null,null,null,0,null,null,null,null,0,null,null,null,null,0,null,null,null,null,0,null,null,null,null,0,null,null,null,null,0,null,null,null,null,0,null,null,null,null,0,null,null,null,null,0,0,0,0,0,0,0,0,0,0,0,0,0,0,0,0,0,0,0,0,0,0,0,0,0,0,0,null,null,0,0,null,null,0,0,0,null,null,0,0,0,null,null,0,0,0,null,null,0,0,0,null,null,0,0,0,0,13,0,0,13,0,13,0,0,13,0,1298.7,0,0,1298.7,1298.7,"Yes",0,0,0]
[null,162,null,"Crew Foreman","Vendor #13",null,"SW007912","2018-10-28","2018-11-02","Yes",{"$f":"VLOOKUP($D185,'C.1 - Rate Sheets'!$B$16:$E$35,2)","v":56.8},{"$f":"VLOOKUP($D185,'C.1 - Rate Sheets'!$B$16:$E$35,3)","v":76.7},{"$f":"VLOOKUP($D185,'C.1 - Rate Sheets'!$B$16:$E$35,4)","v":90.9},{"$f":"VLOOKUP($D185,'C.1 - Rate Sheets'!B:F,5,FALSE)","v":0},0,0,0,0,0,0,0,0,0,0,0,0,0,0,0,0,0,0,0,0,null,null,null,null,0,0,0,0,0,0,null,null,null,null,0,null,null,null,null,0,null,null,null,null,0,null,null,null,null,0,null,null,null,null,0,null,null,null,null,0,null,null,null,null,0,null,null,null,null,0,null,null,null,null,0,0,0,0,0,0,0,0,0,0,0,0,0,0,0,0,0,0,0,0,0,0,0,0,0,0,0,0,16,0,16,8,8,0,0,16,8,8,0,0,16,8,8,0,0,16,8,8,0,0,16,8,8,0,0,16,0,0,0,0,0,40,40,16,0,96,2272,3068,1454.4,0,6794.4,6794.4,"Yes",0,0,0]
[null,163,null,"Tree Trimmer","Vendor #13",null,"SW007912","2018-10-28","2018-11-02","Yes",{"$f":"VLOOKUP($D186,'C.1 - Rate Sheets'!$B$16:$E$35,2)","v":48.5},{"$f":"VLOOKUP($D186,'C.1 - Rate Sheets'!$B$16:$E$35,3)","v":65.5},{"$f":"VLOOKUP($D186,'C.1 - Rate Sheets'!$B$16:$E$35,4)","v":77.599999999999994},{"$f":"VLOOKUP($D186,'C.1 - Rate Sheets'!B:F,5,FALSE)","v":0},0,0,0,0,0,0,0,0,0,0,0,0,0,0,0,0,0,0,0,0,null,null,null,null,0,0,0,0,0,0,null,null,null,null,0,null,null,null,null,0,null,null,null,null,0,null,null,null,null,0,null,null,null,null,0,null,null,null,null,0,null,null,null,null,0,null,null,null,null,0,null,null,null,null,0,0,0,0,0,0,0,0,0,0,0,0,0,0,0,0,0,0,0,0,0,0,0,0,0,0,0,0,16,0,16,8,8,0,0,16,8,8,0,0,16,8,8,0,0,16,8,8,0,0,16,8,8,0,0,16,0,0,0,0,0,40,40,16,0,96,1940,2620,1241.5999999999999,0,5801.6,5801.6,"Yes",0,0,0]
[null,164,null,"Crew Foreman","Vendor #13",null,"SW007913","2018-11-03","2018-11-03","Yes",{"$f":"VLOOKUP($D187,'C.1 - Rate Sheets'!$B$16:$E$35,2)","v":56.8},{"$f":"VLOOKUP($D187,'C.1 - Rate Sheets'!$B$16:$E$35,3)","v":76.7},{"$f":"VLOOKUP($D187,'C.1 - Rate Sheets'!$B$16:$E$35,4)","v":90.9},{"$f":"VLOOKUP($D187,'C.1 - Rate Sheets'!B:F,5,FALSE)","v":0},0,0,0,0,0,0,0,0,0,0,0,0,0,0,0,0,0,0,0,0,null,null,null,null,0,0,0,0,0,0,null,null,null,null,0,null,null,null,null,0,null,null,null,null,0,null,null,null,null,0,null,null,null,null,0,null,null,null,null,0,null,null,null,null,0,null,null,null,null,0,null,null,null,null,0,0,0,0,0,0,0,0,0,0,0,0,0,0,0,0,0,0,0,0,0,0,0,0,0,0,0,0,0,0,0,0,0,0,0,0,0,0,0,0,0,0,0,0,0,0,0,0,0,0,0,0,0,0,0,0,0,13,0,0,13,0,13,0,0,13,0,997.1,0,0,997.1,997.1,"Yes",0,0,0]
[null,165,null,"Tree Trimmer","Vendor #13",null,"SW007913","2018-11-03","2018-11-03","Yes",{"$f":"VLOOKUP($D188,'C.1 - Rate Sheets'!$B$16:$E$35,2)","v":48.5},{"$f":"VLOOKUP($D188,'C.1 - Rate Sheets'!$B$16:$E$35,3)","v":65.5},{"$f":"VLOOKUP($D188,'C.1 - Rate Sheets'!$B$16:$E$35,4)","v":77.599999999999994},{"$f":"VLOOKUP($D188,'C.1 - Rate Sheets'!B:F,5,FALSE)","v":0},0,0,0,0,0,0,0,0,0,0,0,0,0,0,0,0,0,0,0,0,null,null,null,null,0,0,0,0,0,0,null,null,null,null,0,null,null,null,null,0,null,null,null,null,0,null,null,null,null,0,null,null,null,null,0,null,null,null,null,0,null,null,null,null,0,null,null,null,null,0,null,null,null,null,0,0,0,0,0,0,0,0,0,0,0,0,0,0,0,0,0,0,0,0,0,0,0,0,0,0,0,0,0,0,0,0,0,0,0,0,0,0,0,0,0,0,0,0,0,0,0,0,0,0,0,0,0,0,0,0,0,13,0,0,13,0,13,0,0,13,0,851.5,0,0,851.5,851.5,"Yes",0,0,0]
[null,166,null,"Crew Foreman","Vendor #13",null,"SW007914","2018-10-28","2018-11-02","Yes",{"$f":"VLOOKUP($D189,'C.1 - Rate Sheets'!$B$16:$E$35,2)","v":56.8},{"$f":"VLOOKUP($D189,'C.1 - Rate Sheets'!$B$16:$E$35,3)","v":76.7},{"$f":"VLOOKUP($D189,'C.1 - Rate Sheets'!$B$16:$E$35,4)","v":90.9},{"$f":"VLOOKUP($D189,'C.1 - Rate Sheets'!B:F,5,FALSE)","v":0},0,0,0,0,0,0,0,0,0,0,0,0,0,0,0,0,0,0,0,0,null,null,null,null,0,0,0,0,0,0,null,null,null,null,0,null,null,null,null,0,null,null,null,null,0,null,null,null,null,0,null,null,null,null,0,null,null,null,null,0,null,null,null,null,0,null,null,null,null,0,null,null,null,null,0,0,0,0,0,0,0,0,0,0,0,0,0,0,0,0,0,0,0,0,0,0,0,0,0,0,0,0,16,0,16,8,8,0,0,16,8,8,0,0,16,8,8,0,0,16,8,8,0,0,16,8,8,0,0,16,0,0,0,0,0,40,40,16,0,96,2272,3068,1454.4,0,6794.4,6794.4,"Yes",0,0,0]
[null,167,null,"Tree Trimmer","Vendor #13",null,"SW007914","2018-10-28","2018-11-02","Yes",{"$f":"VLOOKUP($D190,'C.1 - Rate Sheets'!$B$16:$E$35,2)","v":48.5},{"$f":"VLOOKUP($D190,'C.1 - Rate Sheets'!$B$16:$E$35,3)","v":65.5},{"$f":"VLOOKUP($D190,'C.1 - Rate Sheets'!$B$16:$E$35,4)","v":77.599999999999994},{"$f":"VLOOKUP($D190,'C.1 - Rate Sheets'!B:F,5,FALSE)","v":0},0,0,0,0,0,0,0,0,0,0,0,0,0,0,0,0,0,0,0,0,null,null,null,null,0,0,0,0,0,0,null,null,null,null,0,null,null,null,null,0,null,null,null,null,0,null,null,null,null,0,null,null,null,null,0,null,null,null,null,0,null,null,null,null,0,null,null,null,null,0,null,null,null,null,0,0,0,0,0,0,0,0,0,0,0,0,0,0,0,0,0,0,0,0,0,0,0,0,0,0,0,0,16,0,16,8,8,0,0,16,8,8,0,0,16,8,8,0,0,16,8,8,0,0,16,8,8,0,0,16,0,0,0,0,0,40,40,16,0,96,1940,2620,1241.5999999999999,0,5801.6,5801.6,"Yes",0,0,0]
[null,168,null,"Crew Foreman","Vendor #13",null,"SW007915","2018-11-03","2018-11-03","Yes",{"$f":"VLOOKUP($D191,'C.1 - Rate Sheets'!$B$16:$E$35,2)","v":56.8},{"$f":"VLOOKUP($D191,'C.1 - Rate Sheets'!$B$16:$E$35,3)","v":76.7},{"$f":"VLOOKUP($D191,'C.1 - Rate Sheets'!$B$16:$E$35,4)","v":90.9},{"$f":"VLOOKUP($D191,'C.1 - Rate Sheets'!B:F,5,FALSE)","v":0},0,0,0,0,0,0,0,0,0,0,0,0,0,0,0,0,0,0,0,0,null,null,null,null,0,0,0,0,0,0,null,null,null,null,0,null,null,null,null,0,null,null,null,null,0,null,null,null,null,0,null,null,null,null,0,null,null,null,null,0,null,null,null,null,0,null,null,null,null,0,null,null,null,null,0,0,0,0,0,0,0,0,0,0,0,0,0,0,0,0,0,0,0,0,0,0,0,0,0,0,0,0,0,0,0,0,0,0,0,0,0,0,0,0,0,0,0,0,0,0,0,0,0,0,0,0,0,0,0,0,0,13,0,0,13,0,13,0,0,13,0,997.1,0,0,997.1,997.1,"Yes",0,0,0]
[null,169,null,"Tree Trimmer","Vendor #13",null,"SW007915","2018-11-03","2018-11-03","Yes",{"$f":"VLOOKUP($D192,'C.1 - Rate Sheets'!$B$16:$E$35,2)","v":48.5},{"$f":"VLOOKUP($D192,'C.1 - Rate Sheets'!$B$16:$E$35,3)","v":65.5},{"$f":"VLOOKUP($D192,'C.1 - Rate Sheets'!$B$16:$E$35,4)","v":77.599999999999994},{"$f":"VLOOKUP($D192,'C.1 - Rate Sheets'!B:F,5,FALSE)","v":0},0,0,0,0,0,0,0,0,0,0,0,0,0,0,0,0,0,0,0,0,null,null,null,null,0,0,0,0,0,0,null,null,null,null,0,null,null,null,null,0,null,null,null,null,0,null,null,null,null,0,null,null,null,null,0,null,null,null,null,0,null,null,null,null,0,null,null,null,null,0,null,null,null,null,0,0,0,0,0,0,0,0,0,0,0,0,0,0,0,0,0,0,0,0,0,0,0,0,0,0,0,0,0,0,0,0,0,0,0,0,0,0,0,0,0,0,0,0,0,0,0,0,0,0,0,0,0,0,0,0,0,13,0,0,13,0,13,0,0,13,0,851.5,0,0,851.5,851.5,"Yes",0,0,0]
[null,170,null,"Crew Foreman","Vendor #13",null,"SW007916","2018-10-28","2018-11-02","Yes",{"$f":"VLOOKUP($D193,'C.1 - Rate Sheets'!$B$16:$E$35,2)","v":56.8},{"$f":"VLOOKUP($D193,'C.1 - Rate Sheets'!$B$16:$E$35,3)","v":76.7},{"$f":"VLOOKUP($D193,'C.1 - Rate Sheets'!$B$16:$E$35,4)","v":90.9},{"$f":"VLOOKUP($D193,'C.1 - Rate Sheets'!B:F,5,FALSE)","v":0},0,0,0,0,0,0,0,0,0,0,0,0,0,0,0,0,0,0,0,0,null,null,null,null,0,0,0,0,0,0,null,null,null,null,0,null,null,null,null,0,null,null,null,null,0,null,null,null,null,0,null,null,null,null,0,null,null,null,null,0,null,null,null,null,0,null,null,null,null,0,null,null,null,null,0,0,0,0,0,0,0,0,0,0,0,0,0,0,0,0,0,0,0,0,0,0,0,0,0,0,0,0,16,0,16,8,8,0,0,16,8,8,0,0,16,8,8,0,0,16,8,8,0,0,16,8,8,0,0,16,0,0,0,0,0,40,40,16,0,96,2272,3068,1454.4,0,6794.4,6794.4,"Yes",0,0,0]
[null,171,null,"Tree Trimmer","Vendor #13",null,"SW007916","2018-10-28","2018-11-02","Yes",{"$f":"VLOOKUP($D194,'C.1 - Rate Sheets'!$B$16:$E$35,2)","v":48.5},{"$f":"VLOOKUP($D194,'C.1 - Rate Sheets'!$B$16:$E$35,3)","v":65.5},{"$f":"VLOOKUP($D194,'C.1 - Rate Sheets'!$B$16:$E$35,4)","v":77.599999999999994},{"$f":"VLOOKUP($D194,'C.1 - Rate Sheets'!B:F,5,FALSE)","v":0},0,0,0,0,0,0,0,0,0,0,0,0,0,0,0,0,0,0,0,0,null,null,null,null,0,0,0,0,0,0,null,null,null,null,0,null,null,null,null,0,null,null,null,null,0,null,null,null,null,0,null,null,null,null,0,null,null,null,null,0,null,null,null,null,0,null,null,null,null,0,null,null,null,null,0,0,0,0,0,0,0,0,0,0,0,0,0,0,0,0,0,0,0,0,0,0,0,0,0,0,0,0,16,0,16,8,8,0,0,16,8,8,0,0,16,8,8,0,0,16,8,8,0,0,16,8,8,0,0,16,0,0,0,0,0,40,40,16,0,96,1940,2620,1241.5999999999999,0,5801.6,5801.6,"Yes",0,0,0]
[null,172,null,"Crew Foreman","Vendor #13",null,"SW007917","2018-11-03","2018-11-03","Yes",{"$f":"VLOOKUP($D195,'C.1 - Rate Sheets'!$B$16:$E$35,2)","v":56.8},{"$f":"VLOOKUP($D195,'C.1 - Rate Sheets'!$B$16:$E$35,3)","v":76.7},{"$f":"VLOOKUP($D195,'C.1 - Rate Sheets'!$B$16:$E$35,4)","v":90.9},{"$f":"VLOOKUP($D195,'C.1 - Rate Sheets'!B:F,5,FALSE)","v":0},0,0,0,0,0,0,0,0,0,0,0,0,0,0,0,0,0,0,0,0,null,null,null,null,0,0,0,0,0,0,null,null,null,null,0,null,null,null,null,0,null,null,null,null,0,null,null,null,null,0,null,null,null,null,0,null,null,null,null,0,null,null,null,null,0,null,null,null,null,0,null,null,null,null,0,0,0,0,0,0,0,0,0,0,0,0,0,0,0,0,0,0,0,0,0,0,0,0,0,0,0,0,0,0,0,0,0,0,0,0,0,0,0,0,0,0,0,0,0,0,0,0,0,0,0,0,0,0,0,0,0,13,0,0,13,0,13,0,0,13,0,997.1,0,0,997.1,997.1,"Yes",0,0,0]
[null,173,null,"Tree Trimmer","Vendor #13",null,"SW007917","2018-11-03","2018-11-03","Yes",{"$f":"VLOOKUP($D196,'C.1 - Rate Sheets'!$B$16:$E$35,2)","v":48.5},{"$f":"VLOOKUP($D196,'C.1 - Rate Sheets'!$B$16:$E$35,3)","v":65.5},{"$f":"VLOOKUP($D196,'C.1 - Rate Sheets'!$B$16:$E$35,4)","v":77.599999999999994},{"$f":"VLOOKUP($D196,'C.1 - Rate Sheets'!B:F,5,FALSE)","v":0},0,0,0,0,{"$f":"SUM(O196:R196)","v":0},0,0,0,0,{"$f":"SUM(T196:W196)","v":0},0,0,0,0,{"$f":"SUM(Y196:AB196)","v":0},0,0,0,0,{"$f":"SUM(AD196:AG196)","v":0},null,null,null,null,{"$f":"SUM(AI196:AL196)","v":0},0,0,0,0,{"$f":"SUM(AN196:AQ196)","v":0},null,null,null,null,{"$f":"SUM(AS196:AV196)","v":0},null,null,null,null,{"$f":"SUM(AX196:BA196)","v":0},null,null,null,null,{"$f":"SUM(BC196:BF196)","v":0},null,null,null,null,{"$f":"SUM(BH196:BK196)","v":0},null,null,null,null,{"$f":"SUM(BM196:BP196)","v":0},null,null,null,null,{"$f":"SUM(BR196:BU196)","v":0},null,null,null,null,{"$f":"SUM(BW196:BZ196)","v":0},null,null,null,null,{"$f":"+SUM(CB196:CE196)","v":0},null,null,null,null,{"$f":"SUM(CG196:CJ196)","v":0},0,0,0,0,{"$f":"+SUM(CL196:CO196)","v":0},0,0,0,0,{"$f":"+SUM(CQ196:CT196)","v":0},0,0,0,0,{"$f":"+SUM(CV196:CY196)","v":0},0,0,0,0,{"$f":"+SUM(DA196:DD196)","v":0},0,0,0,0,{"$f":"+SUM(DF196:DI196)","v":0},0,0,0,0,{"$f":"SUM(DK196:DN196)","v":0},0,0,0,0,{"$f":"SUM(DP196:DS196)","v":0},0,0,0,0,{"$f":"SUM(DU196:DX196)","v":0},0,0,0,0,{"$f":"SUM(DZ196:EC196)","v":0},0,0,0,0,{"$f":"SUM(EE196:EH196)","v":0},0,0,0,0,{"$f":"SUM(EJ196:EM196)","v":0},0,13,0,0,{"$f":"SUM(EO196:ER196)","v":13},0,13,0,0,13,0,851.5,0,0,{"$f":"SUM(EY196:FB196)","v":851.5},{"$f":"FC196-FF196","v":851.5},"Yes",0,0,0]
[null,174,null,"Crew Foreman","Vendor #13",null,"SW007918","2018-10-28","2018-11-02","Yes",{"$f":"VLOOKUP($D197,'C.1 - Rate Sheets'!$B$16:$E$35,2)","v":56.8},{"$f":"VLOOKUP($D197,'C.1 - Rate Sheets'!$B$16:$E$35,3)","v":76.7},{"$f":"VLOOKUP($D197,'C.1 - Rate Sheets'!$B$16:$E$35,4)","v":90.9},{"$f":"VLOOKUP($D197,'C.1 - Rate Sheets'!B:F,5,FALSE)","v":0},0,0,0,0,0,0,0,0,0,0,0,0,0,0,0,0,0,0,0,0,null,null,null,null,0,0,0,0,0,0,null,null,null,null,0,null,null,null,null,0,null,null,null,null,0,null,null,null,null,0,null,null,null,null,0,null,null,null,null,0,null,null,null,null,0,null,null,null,null,0,null,null,null,null,0,0,0,0,0,0,0,0,0,0,0,0,0,0,0,0,0,0,0,0,0,0,0,0,0,0,0,0,16,0,16,8,8,0,0,16,8,8,0,0,16,8,8,0,0,16,8,8,0,0,16,8,8,0,0,16,0,0,0,0,0,{"$f":"SUM(O197,T197,Y197,AI197,AN197,AS197,AX197,BC197,BH197,BM197,BR197,BW197,CB197,CL197, CG197,CQ197,CV197,DA197,DF197,DK197, DP197,DU197,DZ197,EE197,EJ197,EO197)","v":40},{"$f":"SUM(P197,U197,Z197,AJ197,AO197,AT197,AY197,BD197,BI197,BN197,BS197,BX197,CC197,CM197, CH197,CR197,CW197,DB197,DG197,DL197, DQ197,DV197,EA197,EF197,EK197,EP197)","v":40},{"$f":"SUM(Q197,V197,AA197,AK197,AP197,AU197,AZ197,BE197,BJ197,BO197,BT197,BY197,CD197,CN197, CI197,CS197,CX197,DC197,DH197,DM197, DR197,DW197,EB197,EG197,EL197,EQ197)","v":16},0,96,2272,3068,1454.4,0,6794.4,6794.4,"Yes",0,0,0]
[null,175,null,"Tree Trimmer","Vendor #13",null,"SW007918","2018-10-28","2018-11-02","Yes",{"$f":"VLOOKUP($D198,'C.1 - Rate Sheets'!$B$16:$E$35,2)","v":48.5},{"$f":"VLOOKUP($D198,'C.1 - Rate Sheets'!$B$16:$E$35,3)","v":65.5},{"$f":"VLOOKUP($D198,'C.1 - Rate Sheets'!$B$16:$E$35,4)","v":77.599999999999994},{"$f":"VLOOKUP($D198,'C.1 - Rate Sheets'!B:F,5,FALSE)","v":0},0,0,0,0,0,0,0,0,0,0,0,0,0,0,0,0,0,0,0,0,null,null,null,null,0,0,0,0,0,0,null,null,null,null,0,null,null,null,null,0,null,null,null,null,0,null,null,null,null,0,null,null,null,null,0,null,null,null,null,0,null,null,null,null,0,null,null,null,null,0,null,null,null,null,0,0,0,0,0,0,0,0,0,0,0,0,0,0,0,0,0,0,0,0,0,0,0,0,0,0,0,0,16,0,16,8,8,0,0,16,8,8,0,0,16,8,8,0,0,16,8,8,0,0,16,8,8,0,0,16,0,0,0,0,0,40,40,16,0,96,1940,2620,1241.5999999999999,0,5801.6,5801.6,"Yes",0,0,0]
[null,176,null,"Crew Foreman","Vendor #13",null,"SW007919","2018-11-03","2018-11-03","Yes",{"$f":"VLOOKUP($D199,'C.1 - Rate Sheets'!$B$16:$E$35,2)","v":56.8},{"$f":"VLOOKUP($D199,'C.1 - Rate Sheets'!$B$16:$E$35,3)","v":76.7},{"$f":"VLOOKUP($D199,'C.1 - Rate Sheets'!$B$16:$E$35,4)","v":90.9},{"$f":"VLOOKUP($D199,'C.1 - Rate Sheets'!B:F,5,FALSE)","v":0},0,0,0,0,0,0,0,0,0,0,0,0,0,0,0,0,0,0,0,0,null,null,null,null,0,0,0,0,0,0,null,null,null,null,0,null,null,null,null,0,null,null,null,null,0,null,null,null,null,0,null,null,null,null,0,null,null,null,null,0,null,null,null,null,0,null,null,null,null,0,null,null,null,null,0,0,0,0,0,0,0,0,0,0,0,0,0,0,0,0,0,0,0,0,0,0,0,0,0,0,0,0,0,0,0,0,0,0,0,0,0,0,0,0,0,0,0,0,0,0,0,0,0,0,0,0,0,0,0,0,0,13,0,0,13,0,13,0,0,13,0,997.1,0,0,997.1,997.1,"Yes",0,0,0]
[null,177,null,"Tree Trimmer","Vendor #13",null,"SW007919","2018-11-03","2018-11-03","Yes",{"$f":"VLOOKUP($D200,'C.1 - Rate Sheets'!$B$16:$E$35,2)","v":48.5},{"$f":"VLOOKUP($D200,'C.1 - Rate Sheets'!$B$16:$E$35,3)","v":65.5},{"$f":"VLOOKUP($D200,'C.1 - Rate Sheets'!$B$16:$E$35,4)","v":77.599999999999994},{"$f":"VLOOKUP($D200,'C.1 - Rate Sheets'!B:F,5,FALSE)","v":0},0,0,0,0,0,0,0,0,0,0,0,0,0,0,0,0,0,0,0,0,null,null,null,null,0,0,0,0,0,0,null,null,null,null,0,null,null,null,null,0,null,null,null,null,0,null,null,null,null,0,null,null,null,null,0,null,null,null,null,0,null,null,null,null,0,null,null,null,null,0,null,null,null,null,0,0,0,0,0,0,0,0,0,0,0,0,0,0,0,0,0,0,0,0,0,0,0,0,0,0,0,0,0,0,0,0,0,0,0,0,0,0,0,0,0,0,0,0,0,0,0,0,0,0,0,0,0,0,0,0,0,13,0,0,13,0,13,0,0,13,0,851.5,0,0,851.5,851.5,"Yes",0,0,0]
[null,178,null,"Crew Foreman","Vendor #13",null,"SW007920","2018-10-28","2018-11-03","Yes",{"$f":"VLOOKUP($D201,'C.1 - Rate Sheets'!$B$16:$E$35,2)","v":56.8},{"$f":"VLOOKUP($D201,'C.1 - Rate Sheets'!$B$16:$E$35,3)","v":76.7},{"$f":"VLOOKUP($D201,'C.1 - Rate Sheets'!$B$16:$E$35,4)","v":90.9},{"$f":"VLOOKUP($D201,'C.1 - Rate Sheets'!B:F,5,FALSE)","v":0},0,0,0,0,0,0,0,0,0,0,0,0,0,0,0,0,0,0,0,0,null,null,null,null,0,0,0,0,0,0,null,null,null,null,0,null,null,null,null,0,null,null,null,null,0,null,null,null,null,0,null,null,null,null,0,null,null,null,null,0,null,null,null,null,0,null,null,null,null,0,null,null,null,null,0,0,0,0,0,0,0,0,0,0,0,0,0,0,0,0,0,0,0,0,0,0,0,0,0,0,0,0,16,0,16,8,8,0,0,16,8,8,0,0,16,0,0,0,0,0,0,0,0,0,0,0,0,0,0,0,0,0,0,0,0,16,16,16,0,48,908.8,1227.2,1454.4,0,3590.4,3590.4,"Yes",0,0,0]
[null,179,null,"Tree Trimmer","Vendor #13",null,"SW007920","2018-10-28","2018-11-03","Yes",{"$f":"VLOOKUP($D202,'C.1 - Rate Sheets'!$B$16:$E$35,2)","v":48.5},{"$f":"VLOOKUP($D202,'C.1 - Rate Sheets'!$B$16:$E$35,3)","v":65.5},{"$f":"VLOOKUP($D202,'C.1 - Rate Sheets'!$B$16:$E$35,4)","v":77.599999999999994},{"$f":"VLOOKUP($D202,'C.1 - Rate Sheets'!B:F,5,FALSE)","v":0},0,0,0,0,0,0,0,0,0,0,0,0,0,0,0,0,0,0,0,0,null,null,null,null,0,0,0,0,0,0,null,null,null,null,0,null,null,null,null,0,null,null,null,null,0,null,null,null,null,0,null,null,null,null,0,null,null,null,null,0,null,null,null,null,0,null,null,null,null,0,null,null,null,null,0,0,0,0,0,0,0,0,0,0,0,0,0,0,0,0,0,0,0,0,0,0,0,0,0,0,0,0,16,0,16,8,8,0,0,16,8,8,0,0,16,0,0,0,0,0,0,0,0,0,0,0,0,0,0,0,0,0,0,0,0,16,16,16,0,48,776,1048,1241.5999999999999,0,3065.6,3065.6,"Yes",0,0,0]
[null,180,null,"Crew Foreman","Vendor #13",null,"SW007921","2018-10-31","2018-11-03","Yes",{"$f":"VLOOKUP($D203,'C.1 - Rate Sheets'!$B$16:$E$35,2)","v":56.8},{"$f":"VLOOKUP($D203,'C.1 - Rate Sheets'!$B$16:$E$35,3)","v":76.7},{"$f":"VLOOKUP($D203,'C.1 - Rate Sheets'!$B$16:$E$35,4)","v":90.9},{"$f":"VLOOKUP($D203,'C.1 - Rate Sheets'!B:F,5,FALSE)","v":0},0,0,0,0,0,0,0,0,0,0,0,0,0,0,0,0,0,0,0,0,null,null,null,null,0,0,0,0,0,0,null,null,null,null,0,null,null,null,null,0,null,null,null,null,0,null,null,null,null,0,null,null,null,null,0,null,null,null,null,0,null,null,null,null,0,null,null,null,null,0,null,null,null,null,0,0,0,0,0,0,0,0,0,0,0,0,0,0,0,0,0,0,0,0,0,0,0,0,0,0,0,0,0,0,0,0,0,0,0,0,0,0,0,0,0,8,8,0,0,16,0,0,0,0,0,0,0,0,0,0,0,0,0,0,0,8,8,0,0,16,454.4,613.6,0,0,1068,1068,"Yes",0,0,0]
[null,181,null,"Tree Trimmer","Vendor #13",null,"SW007921","2018-10-31","2018-11-03","Yes",{"$f":"VLOOKUP($D204,'C.1 - Rate Sheets'!$B$16:$E$35,2)","v":48.5},{"$f":"VLOOKUP($D204,'C.1 - Rate Sheets'!$B$16:$E$35,3)","v":65.5},{"$f":"VLOOKUP($D204,'C.1 - Rate Sheets'!$B$16:$E$35,4)","v":77.599999999999994},{"$f":"VLOOKUP($D204,'C.1 - Rate Sheets'!B:F,5,FALSE)","v":0},0,0,0,0,0,0,0,0,0,0,0,0,0,0,0,0,0,0,0,0,null,null,null,null,0,0,0,0,0,0,null,null,null,null,0,null,null,null,null,0,null,null,null,null,0,null,null,null,null,0,null,null,null,null,0,null,null,null,null,0,null,null,null,null,0,null,null,null,null,0,null,null,null,null,0,0,0,0,0,0,0,0,0,0,0,0,0,0,0,0,0,0,0,0,0,0,0,0,0,0,0,0,0,0,0,0,0,0,0,0,0,0,0,0,0,8,8,0,0,16,0,0,0,0,0,0,0,0,0,0,0,0,0,0,0,8,8,0,0,16,388,524,0,0,912,912,"Yes",0,0,0]
[null,182,null,"Tree Trimmer","Vendor #13",null,"SW007921","2018-10-31","2018-11-03","Yes",{"$f":"VLOOKUP($D205,'C.1 - Rate Sheets'!$B$16:$E$35,2)","v":48.5},{"$f":"VLOOKUP($D205,'C.1 - Rate Sheets'!$B$16:$E$35,3)","v":65.5},{"$f":"VLOOKUP($D205,'C.1 - Rate Sheets'!$B$16:$E$35,4)","v":77.599999999999994},{"$f":"VLOOKUP($D205,'C.1 - Rate Sheets'!B:F,5,FALSE)","v":0},0,0,0,0,0,0,0,0,0,0,0,0,0,0,0,0,0,0,0,0,null,null,null,null,0,0,0,0,0,0,null,null,null,null,0,null,null,null,null,0,null,null,null,null,0,null,null,null,null,0,null,null,null,null,0,null,null,null,null,0,null,null,null,null,0,null,null,null,null,0,null,null,null,null,0,0,0,0,0,0,0,0,0,0,0,0,0,0,0,0,0,0,0,0,0,0,0,0,0,0,0,0,0,0,0,0,0,0,0,0,0,0,0,0,0,8,8,0,0,16,0,0,0,0,0,0,0,0,0,0,0,0,0,0,0,8,8,0,0,16,388,524,0,0,912,912,"Yes",0,0,0]
[null,183,null,"Crew Foreman","Vendor #13",null,"SW007922","2018-10-28","2018-11-03","Yes",{"$f":"VLOOKUP($D206,'C.1 - Rate Sheets'!$B$16:$E$35,2)","v":56.8},{"$f":"VLOOKUP($D206,'C.1 - Rate Sheets'!$B$16:$E$35,3)","v":76.7},{"$f":"VLOOKUP($D206,'C.1 - Rate Sheets'!$B$16:$E$35,4)","v":90.9},{"$f":"VLOOKUP($D206,'C.1 - Rate Sheets'!B:F,5,FALSE)","v":0},0,0,0,0,0,0,0,0,0,0,0,0,0,0,0,0,0,0,0,0,null,null,null,null,0,0,0,0,0,0,null,null,null,null,0,null,null,null,null,0,null,null,null,null,0,null,null,null,null,0,null,null,null,null,0,null,null,null,null,0,null,null,null,null,0,null,null,null,null,0,null,null,null,null,0,0,0,0,0,0,0,0,0,0,0,0,0,0,0,0,0,0,0,0,0,0,0,0,0,0,0,0,16,0,16,8,8,0,0,16,8,8,0,0,16,8,8,0,0,16,8,8,0,0,16,8,8,0,0,16,0,0,0,0,0,40,40,16,0,96,2272,3068,1454.4,0,6794.4,6794.4,"Yes",0,0,0]
[null,184,null,"Tree Trimmer","Vendor #13",null,"SW007922","2018-10-28","2018-10-30","Yes",{"$f":"VLOOKUP($D207,'C.1 - Rate Sheets'!$B$16:$E$35,2)","v":48.5},{"$f":"VLOOKUP($D207,'C.1 - Rate Sheets'!$B$16:$E$35,3)","v":65.5},{"$f":"VLOOKUP($D207,'C.1 - Rate Sheets'!$B$16:$E$35,4)","v":77.599999999999994},{"$f":"VLOOKUP($D207,'C.1 - Rate Sheets'!B:F,5,FALSE)","v":0},0,0,0,0,0,0,0,0,0,0,0,0,0,0,0,0,0,0,0,0,null,null,null,null,0,0,0,0,0,0,null,null,null,null,0,null,null,null,null,0,null,null,null,null,0,null,null,null,null,0,null,null,null,null,0,null,null,null,null,0,null,null,null,null,0,null,null,null,null,0,null,null,null,null,0,0,0,0,0,0,0,0,0,0,0,0,0,0,0,0,0,0,0,0,0,0,0,0,0,0,0,0,16,0,16,8,8,0,0,16,8,8,0,0,16,null,null,0,0,0,null,null,0,0,0,0,0,0,0,0,0,0,0,0,0,16,16,16,0,48,776,1048,1241.5999999999999,0,3065.6,3065.6,"Yes",0,0,0]
[null,185,null,"Crew Foreman","Vendor #13",null,"SW007923","2018-11-03","2018-11-03","Yes",{"$f":"VLOOKUP($D208,'C.1 - Rate Sheets'!$B$16:$E$35,2)","v":56.8},{"$f":"VLOOKUP($D208,'C.1 - Rate Sheets'!$B$16:$E$35,3)","v":76.7},{"$f":"VLOOKUP($D208,'C.1 - Rate Sheets'!$B$16:$E$35,4)","v":90.9},{"$f":"VLOOKUP($D208,'C.1 - Rate Sheets'!B:F,5,FALSE)","v":0},0,0,0,0,0,0,0,0,0,0,0,0,0,0,0,0,0,0,0,0,null,null,null,null,0,0,0,0,0,0,null,null,null,null,0,null,null,null,null,0,null,null,null,null,0,null,null,null,null,0,null,null,null,null,0,null,null,null,null,0,null,null,null,null,0,null,null,null,null,0,null,null,null,null,0,0,0,0,0,0,0,0,0,0,0,0,0,0,0,0,0,0,0,0,0,0,0,0,0,0,0,0,0,0,0,0,0,0,0,0,0,0,0,0,0,0,0,0,0,0,0,0,0,0,0,0,0,0,0,0,0,16,0,0,16,0,16,0,0,16,0,1227.2,0,0,1227.2,1227.2,"Yes",0,0,0]
[null,186,null,"Supervisor","Vendor #13",null,5856327,"2018-10-28","2018-11-02","Yes",{"$f":"VLOOKUP($D209,'C.1 - Rate Sheets'!$B$16:$E$35,2)","v":74},{"$f":"VLOOKUP($D209,'C.1 - Rate Sheets'!$B$16:$E$35,3)","v":99.9},{"$f":"VLOOKUP($D209,'C.1 - Rate Sheets'!$B$16:$E$35,4)","v":118.4},{"$f":"VLOOKUP($D209,'C.1 - Rate Sheets'!B:F,5,FALSE)","v":0},0,0,0,0,0,0,0,0,0,0,0,0,0,0,0,0,0,0,0,0,null,null,null,null,0,0,0,0,0,0,null,null,null,null,0,null,null,null,null,0,null,null,null,null,0,null,null,null,null,0,null,null,null,null,0,null,null,null,null,0,null,null,null,null,0,null,null,null,null,0,null,null,null,null,0,0,0,0,0,0,0,0,0,0,0,0,0,0,0,0,0,0,0,0,0,0,0,0,0,0,0,0,16,0,16,8,8,0,0,16,8,8,0,0,16,8,8,0,0,16,8,8,0,0,16,8,8,0,0,16,0,0,0,0,0,40,40,16,0,96,2960,3996,1894.4,0,8850.4,8850.4,"Yes",0,0,0]
[null,187,null,"Crew Foreman","Vendor #13",null,5356328,"2018-10-28","2018-11-02","Yes",{"$f":"VLOOKUP($D210,'C.1 - Rate Sheets'!$B$16:$E$35,2)","v":56.8},{"$f":"VLOOKUP($D210,'C.1 - Rate Sheets'!$B$16:$E$35,3)","v":76.7},{"$f":"VLOOKUP($D210,'C.1 - Rate Sheets'!$B$16:$E$35,4)","v":90.9},{"$f":"VLOOKUP($D210,'C.1 - Rate Sheets'!B:F,5,FALSE)","v":0},0,0,0,0,0,0,0,0,0,0,0,0,0,0,0,0,0,0,0,0,null,null,null,null,0,0,0,0,0,0,null,null,null,null,0,null,null,null,null,0,null,null,null,null,0,null,null,null,null,0,null,null,null,null,0,null,null,null,null,0,null,null,null,null,0,null,null,null,null,0,null,null,null,null,0,0,0,0,0,0,0,0,0,0,0,0,0,0,0,0,0,0,0,0,0,0,0,0,0,0,0,0,16,0,16,8,8,0,0,16,8,8,0,0,16,8,8,0,0,16,8,8,0,0,16,8,8,0,0,16,0,0,0,0,0,40,40,16,0,96,2272,3068,1454.4,0,6794.4,6794.4,"Yes",0,0,0]
[null,188,null,"Tree Trimmer","Vendor #13",null,5356328,"2018-10-28","2018-11-02","Yes",{"$f":"VLOOKUP($D211,'C.1 - Rate Sheets'!$B$16:$E$35,2)","v":48.5},{"$f":"VLOOKUP($D211,'C.1 - Rate Sheets'!$B$16:$E$35,3)","v":65.5},{"$f":"VLOOKUP($D211,'C.1 - Rate Sheets'!$B$16:$E$35,4)","v":77.599999999999994},{"$f":"VLOOKUP($D211,'C.1 - Rate Sheets'!B:F,5,FALSE)","v":0},0,0,0,0,0,0,0,0,0,0,0,0,0,0,0,0,0,0,0,0,null,null,null,null,0,0,0,0,0,0,null,null,null,null,0,null,null,null,null,0,null,null,null,null,0,null,null,null,null,0,null,null,null,null,0,null,null,null,null,0,null,null,null,null,0,null,null,null,null,0,null,null,null,null,0,0,0,0,0,0,0,0,0,0,0,0,0,0,0,0,0,0,0,0,0,0,0,0,0,0,0,0,16,0,16,8,8,0,0,16,8,8,0,0,16,8,8,0,0,16,8,8,0,0,16,8,8,0,0,16,0,0,0,0,0,40,40,16,0,96,{"$f":"ET211*K211","v":1940},{"$f":"EU211*L211","v":2620},{"$f":"EV211*M211","v":1241.5999999999999},{"$f":"EW211*N211","v":0},5801.6,5801.6,"Yes",0,0,0]
[null,189,null,"Tree Trimmer","Vendor #13",null,5356328,"2018-10-28","2018-11-02","Yes",{"$f":"VLOOKUP($D212,'C.1 - Rate Sheets'!$B$16:$E$35,2)","v":48.5},{"$f":"VLOOKUP($D212,'C.1 - Rate Sheets'!$B$16:$E$35,3)","v":65.5},{"$f":"VLOOKUP($D212,'C.1 - Rate Sheets'!$B$16:$E$35,4)","v":77.599999999999994},{"$f":"VLOOKUP($D212,'C.1 - Rate Sheets'!B:F,5,FALSE)","v":0},0,0,0,0,0,0,0,0,0,0,0,0,0,0,0,0,0,0,0,0,null,null,null,null,0,0,0,0,0,0,null,null,null,null,0,null,null,null,null,0,null,null,null,null,0,null,null,null,null,0,null,null,null,null,0,null,null,null,null,0,null,null,null,null,0,null,null,null,null,0,null,null,null,null,0,0,0,0,0,0,0,0,0,0,0,0,0,0,0,0,0,0,0,0,0,0,0,0,0,0,0,0,16,0,16,8,8,0,0,16,8,8,0,0,16,8,8,0,0,16,8,8,0,0,16,8,8,0,0,16,0,0,0,0,0,40,40,16,{"$f":"SUM(R212,W212,AB212,AL212,AQ212,AV212,BA212,BF212,BK212,BP212,BU212,BZ212,CO212, CJ212,CT212,CY212,DD212,DI212,DN212, DS212,DX212,EC212,EH212,EM212,ER212)","v":0},{"$f":"SUM(S212,X212,AC212,AM212,AR212,AW212,BB212,BG212,BL212,BQ212,BV212,CA212,CP212, CK212,CU212,CZ212,DE212,DJ212,DO212, DT212,DY212,ED212,EI212,EN212,ES212)","v":96},1940,2620,1241.5999999999999,0,5801.6,5801.6,"Yes",0,0,0]
[null,190,null,"Crew Foreman","Vendor #13",null,5356329,"2018-10-28","2018-11-02","Yes",{"$f":"VLOOKUP($D213,'C.1 - Rate Sheets'!$B$16:$E$35,2)","v":56.8},{"$f":"VLOOKUP($D213,'C.1 - Rate Sheets'!$B$16:$E$35,3)","v":76.7},{"$f":"VLOOKUP($D213,'C.1 - Rate Sheets'!$B$16:$E$35,4)","v":90.9},{"$f":"VLOOKUP($D213,'C.1 - Rate Sheets'!B:F,5,FALSE)","v":0},0,0,0,0,0,0,0,0,0,0,0,0,0,0,0,0,0,0,0,0,null,null,null,null,0,0,0,0,0,0,null,null,null,null,0,null,null,null,null,0,null,null,null,null,0,null,null,null,null,0,null,null,null,null,0,null,null,null,null,0,null,null,null,null,0,null,null,null,null,0,null,null,null,null,0,0,0,0,0,0,0,0,0,0,0,0,0,0,0,0,0,0,0,0,0,0,0,0,0,0,0,0,16,0,16,8,8,0,0,16,8,8,0,0,16,8,8,0,0,16,8,8,0,0,16,8,8,0,0,16,0,0,0,0,0,40,40,16,{"$f":"SUM(R213,W213,AB213,AL213,AQ213,AV213,BA213,BF213,BK213,BP213,BU213,BZ213,CO213, CJ213,CT213,CY213,DD213,DI213,DN213, DS213,DX213,EC213,EH213,EM213,ER213)","v":0},{"$f":"SUM(S213,X213,AC213,AM213,AR213,AW213,BB213,BG213,BL213,BQ213,BV213,CA213,CP213, CK213,CU213,CZ213,DE213,DJ213,DO213, DT213,DY213,ED213,EI213,EN213,ES213)","v":96},2272,3068,1454.4,0,6794.4,6794.4,"Yes",0,0,0]
[null,191,null,"Tree Trimmer","Vendor #13",null,5356329,"2018-10-28","2018-11-02","Yes",{"$f":"VLOOKUP($D214,'C.1 - Rate Sheets'!$B$16:$E$35,2)","v":48.5},{"$f":"VLOOKUP($D214,'C.1 - Rate Sheets'!$B$16:$E$35,3)","v":65.5},{"$f":"VLOOKUP($D214,'C.1 - Rate Sheets'!$B$16:$E$35,4)","v":77.599999999999994},{"$f":"VLOOKUP($D214,'C.1 - Rate Sheets'!B:F,5,FALSE)","v":0},0,0,0,0,0,0,0,0,0,0,0,0,0,0,0,0,0,0,0,0,null,null,null,null,0,0,0,0,0,0,null,null,null,null,0,null,null,null,null,0,null,null,null,null,0,null,null,null,null,0,null,null,null,null,0,null,null,null,null,0,null,null,null,null,0,null,null,null,null,0,null,null,null,null,0,0,0,0,0,0,0,0,0,0,0,0,0,0,0,0,0,0,0,0,0,0,0,0,0,0,0,0,16,0,16,8,8,0,0,16,8,8,0,0,16,8,8,0,0,16,8,8,0,0,16,8,8,0,0,16,0,0,0,0,0,40,40,16,0,96,1940,2620,1241.5999999999999,0,5801.6,5801.6,"Yes",0,0,0]
[null,192,null,"Crew Foreman","Vendor #13",null,5356330,"2018-10-28","2018-11-02","Yes",{"$f":"VLOOKUP($D215,'C.1 - Rate Sheets'!$B$16:$E$35,2)","v":56.8},{"$f":"VLOOKUP($D215,'C.1 - Rate Sheets'!$B$16:$E$35,3)","v":76.7},{"$f":"VLOOKUP($D215,'C.1 - Rate Sheets'!$B$16:$E$35,4)","v":90.9},{"$f":"VLOOKUP($D215,'C.1 - Rate Sheets'!B:F,5,FALSE)","v":0},0,0,0,0,0,0,0,0,0,0,0,0,0,0,0,0,0,0,0,0,null,null,null,null,0,0,0,0,0,0,null,null,null,null,0,null,null,null,null,0,null,null,null,null,0,null,null,null,null,0,null,null,null,null,0,null,null,null,null,0,null,null,null,null,0,null,null,null,null,0,null,null,null,null,0,0,0,0,0,0,0,0,0,0,0,0,0,0,0,0,0,0,0,0,0,0,0,0,0,0,0,0,16,0,16,8,8,0,0,16,8,8,0,0,16,8,8,0,0,16,8,8,0,0,16,8,8,0,0,16,0,0,0,0,0,40,40,16,0,96,2272,3068,1454.4,0,6794.4,6794.4,"Yes",0,0,0]
[null,193,null,"Tree Trimmer","Vendor #13",null,5356330,"2018-10-28","2018-11-02","Yes",{"$f":"VLOOKUP($D216,'C.1 - Rate Sheets'!$B$16:$E$35,2)","v":48.5},{"$f":"VLOOKUP($D216,'C.1 - Rate Sheets'!$B$16:$E$35,3)","v":65.5},{"$f":"VLOOKUP($D216,'C.1 - Rate Sheets'!$B$16:$E$35,4)","v":77.599999999999994},{"$f":"VLOOKUP($D216,'C.1 - Rate Sheets'!B:F,5,FALSE)","v":0},0,0,0,0,0,0,0,0,0,0,0,0,0,0,0,0,0,0,0,0,null,null,null,null,0,0,0,0,0,0,null,null,null,null,0,null,null,null,null,0,null,null,null,null,0,null,null,null,null,0,null,null,null,null,0,null,null,null,null,0,null,null,null,null,0,null,null,null,null,0,null,null,null,null,0,0,0,0,0,0,0,0,0,0,0,0,0,0,0,0,0,0,0,0,0,0,0,0,0,0,0,0,16,0,16,8,8,0,0,16,8,8,0,0,16,8,8,0,0,16,8,8,0,0,16,8,8,0,0,16,0,0,0,0,0,40,40,16,0,96,1940,2620,1241.5999999999999,0,5801.6,5801.6,"Yes",0,0,0]
[null,194,null,"Crew Foreman","Vendor #13",null,5356331,"2018-10-28","2018-11-02","Yes",{"$f":"VLOOKUP($D217,'C.1 - Rate Sheets'!$B$16:$E$35,2)","v":56.8},{"$f":"VLOOKUP($D217,'C.1 - Rate Sheets'!$B$16:$E$35,3)","v":76.7},{"$f":"VLOOKUP($D217,'C.1 - Rate Sheets'!$B$16:$E$35,4)","v":90.9},{"$f":"VLOOKUP($D217,'C.1 - Rate Sheets'!B:F,5,FALSE)","v":0},0,0,0,0,0,0,0,0,0,0,0,0,0,0,0,0,0,0,0,0,null,null,null,null,0,0,0,0,0,0,null,null,null,null,0,null,null,null,null,0,null,null,null,null,0,null,null,null,null,0,null,null,null,null,0,null,null,null,null,0,null,null,null,null,0,null,null,null,null,0,null,null,null,null,0,0,0,0,0,0,0,0,0,0,0,0,0,0,0,0,0,0,0,0,0,0,0,0,0,0,0,0,16,0,16,8,8,0,0,16,8,8,0,0,16,8,8,0,0,16,8,8,0,0,16,8,8,0,0,16,0,0,0,0,0,40,40,16,0,96,2272,3068,1454.4,0,6794.4,6794.4,"Yes",0,0,0]
[null,195,null,"Tree Trimmer","Vendor #13",null,5356331,"2018-10-28","2018-11-02","Yes",{"$f":"VLOOKUP($D218,'C.1 - Rate Sheets'!$B$16:$E$35,2)","v":48.5},{"$f":"VLOOKUP($D218,'C.1 - Rate Sheets'!$B$16:$E$35,3)","v":65.5},{"$f":"VLOOKUP($D218,'C.1 - Rate Sheets'!$B$16:$E$35,4)","v":77.599999999999994},{"$f":"VLOOKUP($D218,'C.1 - Rate Sheets'!B:F,5,FALSE)","v":0},0,0,0,0,0,0,0,0,0,0,0,0,0,0,0,0,0,0,0,0,null,null,null,null,0,0,0,0,0,0,null,null,null,null,0,null,null,null,null,0,null,null,null,null,0,null,null,null,null,0,null,null,null,null,0,null,null,null,null,0,null,null,null,null,0,null,null,null,null,0,null,null,null,null,0,0,0,0,0,0,0,0,0,0,0,0,0,0,0,0,0,0,0,0,0,0,0,0,0,0,0,0,16,0,16,8,8,0,0,16,8,8,0,0,16,8,8,0,0,16,8,8,0,0,16,8,8,0,0,16,0,0,0,0,0,40,40,16,0,96,1940,2620,1241.5999999999999,0,5801.6,5801.6,"Yes",0,0,0]
[null,196,null,"Crew Foreman","Vendor #13",null,5356332,"2018-10-28","2018-11-02","Yes",{"$f":"VLOOKUP($D219,'C.1 - Rate Sheets'!$B$16:$E$35,2)","v":56.8},{"$f":"VLOOKUP($D219,'C.1 - Rate Sheets'!$B$16:$E$35,3)","v":76.7},{"$f":"VLOOKUP($D219,'C.1 - Rate Sheets'!$B$16:$E$35,4)","v":90.9},{"$f":"VLOOKUP($D219,'C.1 - Rate Sheets'!B:F,5,FALSE)","v":0},0,0,0,0,0,0,0,0,0,0,0,0,0,0,0,0,0,0,0,0,null,null,null,null,0,0,0,0,0,0,null,null,null,null,0,null,null,null,null,0,null,null,null,null,0,null,null,null,null,0,null,null,null,null,0,null,null,null,null,0,null,null,null,null,0,null,null,null,null,0,null,null,null,null,0,0,0,0,0,0,0,0,0,0,0,0,0,0,0,0,0,0,0,0,0,0,0,0,0,0,null,null,16,0,16,8,8,0,0,16,8,8,0,0,16,8,8,0,0,16,8,8,0,0,16,8,8,0,0,16,0,0,0,0,0,40,40,16,0,96,2272,3068,1454.4,0,6794.4,6794.4,"Yes",0,0,0,10]
[null,197,null,"Tree Trimmer","Vendor #13",null,5356332,"2018-10-28","2018-11-02","Yes",{"$f":"VLOOKUP($D220,'C.1 - Rate Sheets'!$B$16:$E$35,2)","v":48.5},{"$f":"VLOOKUP($D220,'C.1 - Rate Sheets'!$B$16:$E$35,3)","v":65.5},{"$f":"VLOOKUP($D220,'C.1 - Rate Sheets'!$B$16:$E$35,4)","v":77.599999999999994},{"$f":"VLOOKUP($D220,'C.1 - Rate Sheets'!B:F,5,FALSE)","v":0},0,0,0,0,0,0,0,0,0,0,0,0,0,0,0,0,0,0,0,0,null,null,null,null,0,0,0,0,0,0,null,null,null,null,0,null,null,null,null,0,null,null,null,null,0,null,null,null,null,0,null,null,null,null,0,null,null,null,null,0,null,null,null,null,0,null,null,null,null,0,null,null,null,null,0,0,0,0,0,0,0,0,0,0,0,0,0,0,0,0,0,0,0,0,0,0,0,0,0,0,null,null,16,0,16,8,8,0,0,16,8,8,0,0,16,8,8,0,0,16,8,8,0,0,16,8,8,0,0,16,0,0,0,0,0,40,40,16,0,96,1940,2620,1241.5999999999999,0,5801.6,5801.6,"Yes",0,0,0,10]
[null,198,null,"Supervisor","Vendor #13",null,5356333,"2018-11-03","2018-11-03","Yes",{"$f":"VLOOKUP($D221,'C.1 - Rate Sheets'!$B$16:$E$35,2)","v":74},{"$f":"VLOOKUP($D221,'C.1 - Rate Sheets'!$B$16:$E$35,3)","v":99.9},{"$f":"VLOOKUP($D221,'C.1 - Rate Sheets'!$B$16:$E$35,4)","v":118.4},{"$f":"VLOOKUP($D221,'C.1 - Rate Sheets'!B:F,5,FALSE)","v":0},0,0,0,0,0,0,0,0,0,0,0,0,0,0,0,0,0,0,0,0,null,null,null,null,0,0,0,0,0,0,null,null,null,null,0,null,null,null,null,0,null,null,null,null,0,null,null,null,null,0,null,null,null,null,0,null,null,null,null,0,null,null,null,null,0,null,null,null,null,0,null,null,null,null,0,0,0,0,0,0,0,0,0,0,0,0,0,0,0,0,0,0,0,0,0,0,0,0,0,0,0,0,0,0,0,0,0,0,0,0,0,0,0,0,0,0,0,0,0,0,0,0,0,0,0,0,0,0,0,0,0,2,0,0,2,0,2,0,0,2,0,199.8,0,0,199.8,199.8,"Yes",0,0,0]
[null,199,null,"Crew Foreman","Vendor #13",null,5356334,"2018-11-03","2018-11-03","Yes",{"$f":"VLOOKUP($D222,'C.1 - Rate Sheets'!$B$16:$E$35,2)","v":56.8},{"$f":"VLOOKUP($D222,'C.1 - Rate Sheets'!$B$16:$E$35,3)","v":76.7},{"$f":"VLOOKUP($D222,'C.1 - Rate Sheets'!$B$16:$E$35,4)","v":90.9},{"$f":"VLOOKUP($D222,'C.1 - Rate Sheets'!B:F,5,FALSE)","v":0},0,0,0,0,0,0,0,0,0,0,0,0,0,0,0,0,0,0,0,0,null,null,null,null,0,0,0,0,0,0,null,null,null,null,0,null,null,null,null,0,null,null,null,null,0,null,null,null,null,0,null,null,null,null,0,null,null,null,null,0,null,null,null,null,0,null,null,null,null,0,null,null,null,null,0,0,0,0,0,0,0,0,0,0,0,0,0,0,0,0,0,0,0,0,0,0,0,0,0,0,0,0,0,0,0,0,0,0,0,0,0,0,0,0,0,0,0,0,0,0,0,0,0,0,0,0,0,0,0,0,0,2,0,0,2,0,2,0,0,2,0,153.4,0,0,153.4,153.4,"Yes",0,0,0]
[null,200,null,"Tree Trimmer","Vendor #13",null,5356334,"2018-11-03","2018-11-03","Yes",{"$f":"VLOOKUP($D223,'C.1 - Rate Sheets'!$B$16:$E$35,2)","v":48.5},{"$f":"VLOOKUP($D223,'C.1 - Rate Sheets'!$B$16:$E$35,3)","v":65.5},{"$f":"VLOOKUP($D223,'C.1 - Rate Sheets'!$B$16:$E$35,4)","v":77.599999999999994},{"$f":"VLOOKUP($D223,'C.1 - Rate Sheets'!B:F,5,FALSE)","v":0},0,0,0,0,0,0,0,0,0,0,0,0,0,0,0,0,0,0,0,0,null,null,null,null,0,0,0,0,0,0,null,null,null,null,0,null,null,null,null,0,null,null,null,null,0,null,null,null,null,0,null,null,null,null,0,null,null,null,null,0,null,null,null,null,0,null,null,null,null,0,null,null,null,null,0,0,0,0,0,0,0,0,0,0,0,0,0,0,0,0,0,0,0,0,0,0,0,0,0,0,0,0,0,0,0,0,0,0,0,0,0,0,0,0,0,0,0,0,0,0,0,0,0,0,0,0,0,0,0,0,0,2,0,0,2,0,2,0,0,2,0,131,0,0,131,131,"Yes",0,0,0]
[null,201,null,"Crew Foreman","Vendor #13",null,5356335,"2018-11-03","2018-11-03","Yes",{"$f":"VLOOKUP($D224,'C.1 - Rate Sheets'!$B$16:$E$35,2)","v":56.8},{"$f":"VLOOKUP($D224,'C.1 - Rate Sheets'!$B$16:$E$35,3)","v":76.7},{"$f":"VLOOKUP($D224,'C.1 - Rate Sheets'!$B$16:$E$35,4)","v":90.9},{"$f":"VLOOKUP($D224,'C.1 - Rate Sheets'!B:F,5,FALSE)","v":0},0,0,0,0,0,0,0,0,0,0,0,0,0,0,0,0,0,0,0,0,null,null,null,null,0,0,0,0,0,0,null,null,null,null,0,null,null,null,null,0,null,null,null,null,0,null,null,null,null,0,null,null,null,null,0,null,null,null,null,0,null,null,null,null,0,null,null,null,null,0,null,null,null,null,0,0,0,0,0,0,0,0,0,0,0,0,0,0,0,0,0,0,0,0,0,0,0,0,0,0,0,0,0,0,0,0,0,0,0,0,0,0,0,0,0,0,0,0,0,0,0,0,0,0,0,0,0,0,0,0,0,2,0,0,2,0,2,0,0,2,0,153.4,0,0,153.4,153.4,"Yes",0,0,0]
[null,202,null,"Tree Trimmer","Vendor #13",null,5356335,"2018-11-03","2018-11-03","Yes",{"$f":"VLOOKUP($D225,'C.1 - Rate Sheets'!$B$16:$E$35,2)","v":48.5},{"$f":"VLOOKUP($D225,'C.1 - Rate Sheets'!$B$16:$E$35,3)","v":65.5},{"$f":"VLOOKUP($D225,'C.1 - Rate Sheets'!$B$16:$E$35,4)","v":77.599999999999994},{"$f":"VLOOKUP($D225,'C.1 - Rate Sheets'!B:F,5,FALSE)","v":0},0,0,0,0,0,0,0,0,0,0,0,0,0,0,0,0,0,0,0,0,null,null,null,null,0,0,0,0,0,0,null,null,null,null,0,null,null,null,null,0,null,null,null,null,0,null,null,null,null,0,null,null,null,null,0,null,null,null,null,0,null,null,null,null,0,null,null,null,null,0,null,null,null,null,0,0,0,0,0,0,0,0,0,0,0,0,0,0,0,0,0,0,0,0,0,0,0,0,0,0,0,0,0,0,0,0,0,0,0,0,0,0,0,0,0,0,0,0,0,0,0,0,0,0,0,0,0,0,0,0,0,2,0,0,2,0,2,0,0,2,0,131,0,0,131,131,"Yes",0,0,0]
[null,203,null,"Crew Foreman","Vendor #13",null,5356336,"2018-11-03","2018-11-03","Yes",{"$f":"VLOOKUP($D226,'C.1 - Rate Sheets'!$B$16:$E$35,2)","v":56.8},{"$f":"VLOOKUP($D226,'C.1 - Rate Sheets'!$B$16:$E$35,3)","v":76.7},{"$f":"VLOOKUP($D226,'C.1 - Rate Sheets'!$B$16:$E$35,4)","v":90.9},{"$f":"VLOOKUP($D226,'C.1 - Rate Sheets'!B:F,5,FALSE)","v":0},0,0,0,0,0,0,0,0,0,0,0,0,0,0,0,0,0,0,0,0,null,null,null,null,0,0,0,0,0,0,null,null,null,null,0,null,null,null,null,0,null,null,null,null,0,null,null,null,null,0,null,null,null,null,0,null,null,null,null,0,null,null,null,null,0,null,null,null,null,0,null,null,null,null,0,0,0,0,0,0,0,0,0,0,0,0,0,0,0,0,0,0,0,0,0,0,0,0,0,0,0,0,0,0,0,0,0,0,0,0,0,0,0,0,0,0,0,0,0,0,0,0,0,0,0,0,0,0,0,0,0,2,0,0,2,0,2,0,0,2,0,153.4,0,0,153.4,153.4,"Yes",0,0,0]
[null,204,null,"Tree Trimmer","Vendor #13",null,5356336,"2018-11-03","2018-11-03","Yes",{"$f":"VLOOKUP($D227,'C.1 - Rate Sheets'!$B$16:$E$35,2)","v":48.5},{"$f":"VLOOKUP($D227,'C.1 - Rate Sheets'!$B$16:$E$35,3)","v":65.5},{"$f":"VLOOKUP($D227,'C.1 - Rate Sheets'!$B$16:$E$35,4)","v":77.599999999999994},{"$f":"VLOOKUP($D227,'C.1 - Rate Sheets'!B:F,5,FALSE)","v":0},0,0,0,0,0,0,0,0,0,0,0,0,0,0,0,0,0,0,0,0,null,null,null,null,0,0,0,0,0,0,null,null,null,null,0,null,null,null,null,0,null,null,null,null,0,null,null,null,null,0,null,null,null,null,0,null,null,null,null,0,null,null,null,null,0,null,null,null,null,0,null,null,null,null,0,0,0,0,0,0,0,0,0,0,0,0,0,0,0,0,0,0,0,0,0,0,0,0,0,0,0,0,0,0,0,0,0,0,0,0,0,0,0,0,0,0,0,0,0,0,0,0,0,0,0,0,0,0,0,0,0,2,0,0,2,0,2,0,0,2,0,131,0,0,131,131,"Yes",0,0,0]
[null,205,null,"Crew Foreman","Vendor #13",null,5356337,"2018-11-03","2018-11-03","Yes",{"$f":"VLOOKUP($D228,'C.1 - Rate Sheets'!$B$16:$E$35,2)","v":56.8},{"$f":"VLOOKUP($D228,'C.1 - Rate Sheets'!$B$16:$E$35,3)","v":76.7},{"$f":"VLOOKUP($D228,'C.1 - Rate Sheets'!$B$16:$E$35,4)","v":90.9},{"$f":"VLOOKUP($D228,'C.1 - Rate Sheets'!B:F,5,FALSE)","v":0},0,0,0,0,0,0,0,0,0,0,0,0,0,0,0,0,0,0,0,0,null,null,null,null,0,0,0,0,0,0,null,null,null,null,0,null,null,null,null,0,null,null,null,null,0,null,null,null,null,0,null,null,null,null,0,null,null,null,null,0,null,null,null,null,0,null,null,null,null,0,null,null,null,null,0,0,0,0,0,0,0,0,0,0,0,0,0,0,0,0,0,0,0,0,0,0,0,0,0,0,0,0,0,0,0,0,0,0,0,0,0,0,0,0,0,0,0,0,0,0,0,0,0,0,0,0,0,0,0,0,0,2,0,0,2,0,2,0,0,2,0,153.4,0,0,153.4,153.4,"Yes",0,0,0]
[null,206,null,"Tree Trimmer","Vendor #13",null,5356337,"2018-11-03","2018-11-03","Yes",{"$f":"VLOOKUP($D229,'C.1 - Rate Sheets'!$B$16:$E$35,2)","v":48.5},{"$f":"VLOOKUP($D229,'C.1 - Rate Sheets'!$B$16:$E$35,3)","v":65.5},{"$f":"VLOOKUP($D229,'C.1 - Rate Sheets'!$B$16:$E$35,4)","v":77.599999999999994},{"$f":"VLOOKUP($D229,'C.1 - Rate Sheets'!B:F,5,FALSE)","v":0},0,0,0,0,0,0,0,0,0,0,0,0,0,0,0,0,0,0,0,0,null,null,null,null,0,0,0,0,0,0,null,null,null,null,0,null,null,null,null,0,null,null,null,null,0,null,null,null,null,0,null,null,null,null,0,null,null,null,null,0,null,null,null,null,0,null,null,null,null,0,null,null,null,null,0,0,0,0,0,0,0,0,0,0,0,0,0,0,0,0,0,0,0,0,0,0,0,0,0,0,0,0,0,0,0,0,0,0,0,0,0,0,0,0,0,0,0,0,0,0,0,0,0,0,0,0,0,0,0,0,0,2,0,0,2,0,2,0,0,2,0,131,0,0,131,131,"Yes",0,0,0]
[null,207,null,"Tree Trimmer","Vendor #13",null,5356337,"2018-11-03","2018-11-03","Yes",{"$f":"VLOOKUP($D230,'C.1 - Rate Sheets'!$B$16:$E$35,2)","v":48.5},{"$f":"VLOOKUP($D230,'C.1 - Rate Sheets'!$B$16:$E$35,3)","v":65.5},{"$f":"VLOOKUP($D230,'C.1 - Rate Sheets'!$B$16:$E$35,4)","v":77.599999999999994},{"$f":"VLOOKUP($D230,'C.1 - Rate Sheets'!B:F,5,FALSE)","v":0},0,0,0,0,0,0,0,0,0,0,0,0,0,0,0,0,0,0,0,0,null,null,null,null,0,0,0,0,0,0,null,null,null,null,0,null,null,null,null,0,null,null,null,null,0,null,null,null,null,0,null,null,null,null,0,null,null,null,null,0,null,null,null,null,0,null,null,null,null,0,null,null,null,null,0,0,0,0,0,0,0,0,0,0,0,0,0,0,0,0,0,0,0,0,0,0,0,0,0,0,0,0,0,0,0,0,0,0,0,0,0,0,0,0,0,0,0,0,0,0,0,0,0,0,0,0,0,0,0,0,0,2,0,0,2,0,2,0,0,2,0,131,0,0,131,131,"Yes",0,0,0]
[null,208,null,"Crew Foreman","Vendor #13",null,5356338,"2018-11-03","2018-11-03","Yes",{"$f":"VLOOKUP($D231,'C.1 - Rate Sheets'!$B$16:$E$35,2)","v":56.8},{"$f":"VLOOKUP($D231,'C.1 - Rate Sheets'!$B$16:$E$35,3)","v":76.7},{"$f":"VLOOKUP($D231,'C.1 - Rate Sheets'!$B$16:$E$35,4)","v":90.9},{"$f":"VLOOKUP($D231,'C.1 - Rate Sheets'!B:F,5,FALSE)","v":0},0,0,0,0,0,0,0,0,0,0,0,0,0,0,0,0,0,0,0,0,null,null,null,null,0,0,0,0,0,0,null,null,null,null,0,null,null,null,null,0,null,null,null,null,0,null,null,null,null,0,null,null,null,null,0,null,null,null,null,0,null,null,null,null,0,null,null,null,null,0,null,null,null,null,0,0,0,0,0,0,0,0,0,0,0,0,0,0,0,0,0,0,0,0,0,0,0,0,0,0,0,0,0,0,0,0,0,0,0,0,0,0,0,0,0,0,0,0,0,0,0,0,0,0,0,0,0,0,0,0,0,2,0,0,2,0,2,0,0,2,0,153.4,0,0,153.4,153.4,"Yes",0,0,0]
[null,209,null,"Tree Trimmer","Vendor #13",null,5356338,"2018-11-03","2018-11-03","Yes",{"$f":"VLOOKUP($D232,'C.1 - Rate Sheets'!$B$16:$E$35,2)","v":48.5},{"$f":"VLOOKUP($D232,'C.1 - Rate Sheets'!$B$16:$E$35,3)","v":65.5},{"$f":"VLOOKUP($D232,'C.1 - Rate Sheets'!$B$16:$E$35,4)","v":77.599999999999994},{"$f":"VLOOKUP($D232,'C.1 - Rate Sheets'!B:F,5,FALSE)","v":0},0,0,0,0,0,0,0,0,0,0,0,0,0,0,0,0,0,0,0,0,null,null,null,null,0,0,0,0,0,0,null,null,null,null,0,null,null,null,null,0,null,null,null,null,0,null,null,null,null,0,null,null,null,null,0,null,null,null,null,0,null,null,null,null,0,null,null,null,null,0,null,null,null,null,0,0,0,0,0,0,0,0,0,0,0,0,0,0,0,0,0,0,0,0,0,0,0,0,0,0,0,0,0,0,0,0,0,0,0,0,0,0,0,0,0,0,0,0,0,0,0,0,0,0,0,0,0,0,0,0,0,2,0,0,2,0,2,0,0,2,0,131,0,0,131,131,"Yes",0,0,0]
[null,null,null,null,null,null,null,null,null,null,null,null,null," ",{"$f":"SUM(O19:O130)","v":0},0,0,0,0,0,0,0,0,0,10,5,0,0,15,0,0,0,0,0,20,138,0,0,158,0,176,0,0,176,0,0,{"$f":"SUM(AU19:AU130)","v":176},0,176,88,88,0,0,176,88,88,0,0,176,312,280,0,0,592,288,288,0,0,576,256,304,0,0,560,0,544,0,0,544,null,null,null,null,null,{"$f":"SUM(CG19:CG130)","v":92},88,0,0,180,96,88,0,0,{"$f":"+SUM(CL233:CO233)","v":184},{"$f":"SUM(CQ19:CQ130)","v":104},{"$f":"SUM(CR19:CR130)","v":104},{"$f":"SUM(CS19:CS130)","v":0},{"$f":"SUM(CT19:CT130)","v":0},{"$f":"+SUM(CQ233:CT233)","v":208},{"$f":"SUM(CV19:CV130)","v":104},104,0,0,208,104,104,0,0,208,0,218,0,0,218,0,0,0,0,0,0,0,0,0,0,0,0,0,0,0,0,0,{"$f":"SUM(EB19:EB130)","v":0},0,0,0,0,0,0,0,0,0,0,0,0,0,0,0,0,0,{"$f":"SUM(O233,T233,Y233,AI233,AN233,AS233,AX233,BC233,BH233,BM233,BR233,BW233,CL233, CG233,CQ233,CV233,DA233,DF233,DK233, DP233,DU233,DZ233,EE233,EJ233,EO233)","v":1562},{"$f":"SUM(P233,U233,Z233,AJ233,AO233,AT233,AY233,BD233,BI233,BN233,BS233,BX233,CM233, CH233,CR233,CW233,DB233,DG233,DL233, DQ233,DV233,EA233,EF233,EK233,EP233)","v":2617},{"$f":"SUM(Q233,V233,AA233,AK233,AP233,AU233,AZ233,BE233,BJ233,BO233,BT233,BY233,CN233, CI233,CS233,CX233,DC233,DH233,DM233, DR233,DW233,EB233,EG233,EL233,EQ233)","v":176},{"$f":"SUM(R233,W233,AB233,AL233,AQ233,AV233,BA233,BF233,BK233,BP233,BU233,BZ233,CO233, CJ233,CT233,CY233,DD233,DI233,DN233, DS233,DX233,EC233,EH233,EM233,ER233)","v":0},{"$f":"SUM(S233,X233,AC233,AM233,AR233,AW233,BB233,BG233,BL233,BQ233,BV233,CA233,CP233, CK233,CU233,CZ233,DE233,DJ233,DO233, DT233,DY233,ED233,EI233,EN233,ES233)","v":4355},{"$f":"ET233*K233","v":0},{"$f":"SUM(EZ19:EZ130)","v":194103.90000000005},{"$f":"SUM(FA19:FA130)","v":17268.8},{"$f":"SUM(FB19:FB130)","v":0},{"$f":"IFERROR(SUM(FC19:FC232),0)","v":705557.89999999991},{"$f":"FC233-FF233","v":705557.89999999991},null,{"$f":"SUM(FF19:FF130)","v":0},{"$f":"SUM(FG19:FG130)","v":0},{"$f":"SUM(FH19:FH158)","v":1024.3000000000002},null,"check (b)"]
[null,null,null,null,null,null,null,null,null,null,null,null,null," ","Total # of Crew",null,null,null,{"$f":"COUNTIF(S19:S130,\">0\")","v":0},"Total # of Crew",null,null,null,{"$f":"COUNTIF(X19:X130,\">0\")","v":0},"Total # of Crew",null,null,null,{"$f":"COUNTIF(AC19:AC130,\">0\")","v":1},"Total # of Crew",null,null,null,{"$f":"COUNTIF(AH19:AH130,\">0\")","v":0},"Total # of Crew",null,null,null,{"$f":"COUNTIF(AM19:AM130,\">0\")","v":16},"Total # of Crew",null,null,null,{"$f":"COUNTIF(AR19:AR130,\">0\")","v":11},"Total # of Crew",null,null,null,{"$f":"COUNTIF(AW19:AW130,\">0\")","v":11},"Total # of Crew",null,null,null,{"$f":"COUNTIF(BB19:BB130,\">0\")","v":11},"Total # of Crew",null,null,null,{"$f":"COUNTIF(BG19:BG130,\">0\")","v":11},"Total # of Crew",null,null,null,{"$f":"COUNTIF(BL19:BL130,\">0\")","v":59},"Total # of Crew",null,null,null,{"$f":"COUNTIF(BQ19:BQ130,\">0\")","v":36},"Total # of Crew",null,null,null,{"$f":"COUNTIF(BV19:BV130,\">0\")","v":35},"Total # of Crew",null,null,null,{"$f":"COUNTIF(CA19:CA130,\">0\")","v":34},null,null,null,null,null,"Total # of Crew",null,null,null,{"$f":"COUNTIF(CK19:CK130,\">0\")","v":23},"Total # of Crew",null,null,null,{"$f":"+SUM(CL234:CO234)","v":0},"Total # of Crew",null,null,null,{"$f":"+SUM(CQ234:CT234)","v":0},"Total # of Crew",null,null,null,{"$f":"COUNTIF(CZ19:CZ130,\">0\")","v":13},"Total # of Crew",null,null,null,{"$f":"COUNTIF(DE19:DE130,\">0\")","v":13},null,null,null,null,null,null,null,null,null,null,null,null,null,null,null,null,null,null,null,null,null,null,null,null,null,null,null,null,null,null,null,null,null,null,null,null,null,null,null,null,"# of time charges",null,null,null,{"$f":"SUM(S234,X234,AC234,AM234,AR234,AW234,BB234,BG234,BL234,BQ234,BV234,CA234,CK234,CV234,#REF!,DE234,#REF!,#REF!,#REF!)","v":{"$error":"#REF!"}},null,null,null,null,null," "]
[]
[null,"Tickmark Explanation:"]
[]
[null,1,"SW007712 Charged Crew Foreman DT instead of Tree trimmer ST and Tree Trimmer  ST instead of TT Overtime net overbill ($252.80)"]
[null,2,"SW007717Charged Crew Foreman DT instead of Tree trimmer ST and Tree Trimmer  ST instead of TT Overtime net overbill ($728)"]
[null,3,"SW007719Charged Crew Foreman DT instead of Tree trimmer ST and Tree Trimmer  ST instead of TT Overtime net overbill ($728)"]
[null,4,"SW007721 Charged Crew Foreman DT instead of Tree trimmer ST and Tree Trimmer  ST instead of TT Overtime net overbill ($118)"]
[null,5,"SW007771 Timesheet had 12 ST 43 OT, charged 19 ST and 36 OT, net underbill (-258.30)"]
[null,6,"SW007773 Timesheet had 12 ST  36 OT, charged 16 ST and 32 OT, net underbill (-147.60)"]
[null,7,"SW007829 Timesheet had 26 OT, charged 13 ST and 13 OT, net underbill (-522.60)"]
[null,8,"SW007906 Timesheet had 36 OT, charged 24 OT, net underbill (-786)"]
[null,9,"SW007908 Timesheet had 2 people, bill included 8 hours tree trimmer and 8 hours ot tree trimmer net overbill (912)"]
[null,10,"5356332 Sunday hours on timesheet marked 8ST and 8OT, should have been 16 DOT, as billed"]
[]
[]
[]
[]
[]
[]
[]
[]
[]
[]
[]
[]
[]
[]
[]
[]
[]
[]
[]
[]
[]
[]
[]
[]
[]
[]
[]
[]
[]
[]
[]
[]
[]
[]
[]
[]
[]
[]
[]
[]
[]
[]
[]
[]
[]
[]
[]
[]
[]
[]
[]
[]
[]
[]
[]
[]
[]
[]
[]
[]
[]
[]
[]
[]
[]
[]
[]
[]
[]
[]
[]
[]
[]
[]
[]
[]
[]
[]
[]
[]
[]
[]
[]
[]
[]
[]
[]
[]
[]
[]
[]
[]
[]
[]
[]
[]
[]
[]
[]
[]
[]
[]
[]
[]
[]
[]
[]
[]
[]
[]
[]
[]
[]
[]
[]
[]
[]
[]
[]
[]
[]
[]
[]
[]
[]
[]
[]
[]
[]
[]
[]
[]
[]
[]
[]
[]
[]
[]
[]
[]
[]
[]
[]
[]
[]
[]
[]
[]
[]
[]
[]
[]
[]
[]
[]
[]
[]
[]
[]
[]
[]
[]
[]
[]
[]
[]
[]
[]
[]
[]
[]
[]
[]
[]
[]
[]
[]
[]
[]
[]
[]
[]
[]
[]
[]
[]
[]
[]
[]
[]
[]
[]
[]
[]
[]
[]
[]
[]
[]
[]
[]
[]
[]
[]
[]
[]
[]
[]
[]
[]
[]
[]
[]
[]
[]
[]
[]
[]
[]
[]
[]
[]
[]
[]
[]
[]
[]
[]
[]
[]
[]
[]
[]
[]
[]
[]
[]
[]
[]
[]
[]
[]
[]
[]
[]
[]
[]
[]
[]
[]
[]
[]
[]
[]
[]
[]
[]
[]
[]
[]
[]
[]
[]
[]
[]
[]
[]
[]
[]
[]
[]
[]
[]
[]
[]
[]
[]
[]
[]
[]
[]
[]
[]
[]
[]
[]
[]
[]
[]
[]
[]
[]
[]
[]
[]
[]
[]
[]
[]
[]
[]
[]
[]
[]
[]
[]
[]
[]
[]
[]
[]
[]
[]
[]
[]
[]
[]
[]
[]
[]
[]
[]
[]
[]
[]
[]
[]
[]
[]
[]
[]
[]
[]
[]
[]
[]
[]
[]
[]
[]
[]
[]
[]
[]
[]
[]
[]
[]
[]
[]
[]
[]
[]
[]
[]
[]
[]
[]
[]
[]
[]
[]
[]
[]
[]
[]
[]
[]
[]
[]
[]
[]
[]
[]
[]
[]
[]
[]
[]
[]
[]
[]
[]
[]
[]
[]
[]
[]
[]
[]
[]
[]
[]
[]
[]
[]
[]
[]
[]
[]
[]
[]
[]
[]
[]
[]
[]
[]
[]
[]
[]
[]
[]
[]
[]
[]
[]
[]
[]
[]
[]
[]
[]
[]
[]
[]
[]
[]
[]
[]
[]
[]
[]
[]
[]
[]
[]
[]
[]
[]
[]
[]
[]
[]
[]
[]
[]
[]
[]
[]
[]
[]
[]
[]
[]
[]
[]
[]
[]
[]
[]
[]
[]
[]
[]
[]
[]
[]
[]
[]
[]
[]
[]
[]
[]
[]
[]
[]
[]
[]
[]
[]
[]
[]
[]
[]
[]
[]
[]
[]
[]
[]
[]
[]
[]
[]
[]
[]
[]
[]
[]
[]
[]
[]
[]
[]
[]
[]
[]
[]
[]
[]
[]
[]
[]
[]
[]
[]
[]
[]
[]
[]
[]
[]
[]
[]
[]
[]
[]
[]
[]
[]
[]
[]
[]
[]
[]
[]
[]
[]
[]
[]
[]
[]
[]
[]
[]
[]
[]
[]
[]
[]
[]
[]
[]
[]
[]
[]
[]
[]
[]
[]
[]
[]
[]
[]
[]
[]
[]
[]
[]
[]
[]
[]
[]
[]
[]
[]
[]
[]
[]
[]
[]
[]
[]
[]
[]
[]
[]
[]
[]
[]
[]
[]
[]
[]
[]
[]
[]
[]
[]
[]
[]
[]
[]
[]
[]
[]
[]
[]
[]
[]
[]
[]
[]
[]
[]
[]
[]
[]
[]
[]
[]
[]
[]
[]
[]
[]
[]
[]
[]
[]
[]
[]
[]
[]
[]
[]
[]
[]
[]
[]
[]
[]
[]
[]
[]
[]
[]
[]
[]
[]
[]
[]
[]
[]
[]
[]
[]
[]
[]
[]
[]
[]
[]
[]
[]
[]
[]
[]
[]
[]
[]
[]
[]
[]
[]
[]
[]
[]
[]
[]
[]
[]
[]
[]
[]
[]
[]
[]
[]
[]
[]
[]
[]
[]
[]
[]
[]
[]
[]
[]
[]
[]
[]
[]
[]
[]
[]
[]
[]
[]
[]
[]
[]
[]
[]
[]
[]
[]
[]
[]
[]
[]
[]
[]
[]
[]
[]
[]
[]
[]
[]
[]
[]
[]
[]
[]
[]
[]
[]
[]
[]
[]
[]
[]
[]
[]
[]
[]
[]
[]
[]
[]
[]
[]
[]
[]
[]
[]
[]
[]
[]
[]
[]
[]
[]
[]
[]
[]
[]
[]
[]
[]
[]
[]
[]
[]
[]
[]
[]
[]
[]
[]
[]
[]
[]
[]
[]
[]
[]
[]
[]
[]
[]
[]
[]
[]
[]
[]
[]
[]
[]
[]
[]
[]
[]
[]
[]
[]
[]
[]
[]
[]
[]
[]
[]
[]
[]
[]
[]
[]
[]
[]
[]
[]
[]
[]
[]
[]
[]
[]
[]
[]
[]
[]
[]
[]
[]
[]
[]
[]
[]
[]
[]
[]
[]
[]
[]
[]
[]
[]
[]
[]
[]
[]
[]
[]
[]
[]
[]
[]
[]
[]
[]
[]
[]
[]
[]
[]
[]
[]
[]
[]
[]
[]
[]
[]
[]
[]
[]
[]
[]
[]
[]
[]
[]
[]
[]
[]
[]
[]
[]
[]
[]
[]
[]
[]
[]
[]
[]
[]
[]
[]
[]
[]
[]
[]
[]
[]
[]
[]
[]
[]
[]
[]
[]
[]
[]
[]
[]
[]
[]
[]
[]
[]
[]
[]
[]
[]
[]
[]
[]
[]
[]
[]
[]
[]
[]
[]
[]
[]
[]
[]
[]
[]
[]
[]
[]
[]
[]
[]
[]
[]
[]
[]
[]
[]
[]
[]
[]
[]
[]
[]
[]
[]
[]
[]
[]
[]
[]
[]
[]
[]
[]
[]
[]
[]
[]
[]
[]
[]
[]
[]
[]
[]
[]
[]
[]
[]
[]
[]
[]
[]
[]
[]
[]
[]
[]
[]
[]
[]
[]
[]
[]
[]
[]
[]
[]
[]
[]
[]
[]
[]
[]
[]
[]
[]
[]
[]
[]
[]
[]
[]
[]
[]
[]
[]
[]
[]
[]
[]
[]
[]
[]
[]
[]
[]
[]
[]
[]
[]
[]
[]
[]
[]
[]
[]
[]
[]
[]
[]
[]
[]
[]
[]
[]
[]
[]
[]
[]
[]
[]
[]
[]
[]
[]
[]
[]
[]
[]
[]
[]
[]
[]
[]
[]
[]
[]
[]
[]
[]
[]
[]
[]
[]
[]
[]
[]
[]
[]
[]
[]
[]
[]
[]
[]
[]
[]
[]
[]
[]
[]
[]
[]
[]
[]
[]
[]
[]
[]
[]
[]
[]
[]
[]
[]
[]
[]
[]
[]
[]
[]
[]
[]
[]
[]
[]
[]
[]
[]
[]
[]
[]
[]
[]
[]
[]
[]
[]
[]
[]
[]
[]
[]
[]
[]
[]
[]
[]
[]
[]
[]
[]
[]
[]
[]
[]
[]
[]
[]
[]
[]
[]
[]
[]
[]
[]
[]
[]
[]
[]
[]
[]
[]
[]
[]
[]
[]
[]
[]
[]
[]
[]
[]
[]
[]
[]
[]
[]
[]
[]
[]
[]
[]
[]
[]
[]
[]
[]
[]
[]
[]
[]
[]
[]
[]
[]
[]
[]
[]
[]
[]
[]
[]
[]
[]
[]
[]
[]
[]
[]
[]
[]
[]
[]
[]
[]
[]
[]
[]
[]
[]
[]
[]
[]
[]
[]
[]
[]
[]
[]
[]
[]
[]
[]
[]
[]
[]
[]
[]
[]
[]
[]
[]
[]
[]
[]
[]
[]
[]
[]
[]
[]
[]
[]
[]
[]
[]
[]
[]
[]
[]
[]
[]
[]
[]
[]
[]
[]
[]
[]
[]
[]
[]
[]
[]
[]
[]
[]
[]
[]
[]
[]
[]
[]
[]
[]
[]
[]
[]
[]
[]
[]
[]
[]
[]
[]
[]
[]
[]
[]
[]
[]
[]
[]
[]
[]
[]
[]
[]
[]
[]
[]
[]
[]
[]
[]
[]
[]
[]
[]
[]
[]
[]
[]
[]
[]
[]
[]
[]
[]
[]
[]
[]
[]
[]
[]
[]
[]
[]
[]
[]
[]
[]
[]
[]
[]
[]
[]
[]
[]
[]
[]
[]
[]
[]
[]
[]
[]
[]
[]
[]
[]
[]
[]
[]
[]
[]
[]
[]
[]
[]
[]
[]
[]
[]
[]
[]
[]
[]
[]
[]
[]
[]
[]
[]
[]
[]
[]
[]
[]
[]
[]
[]
[]
[]
[]
[]
[]
[]
[]
[]
[]
[]
[]
[]
[]
[]
[]
[]
[]
[]
[]
[]
[]
[]
[]
[]
[]
[]
[]
[]
[]
[]
[]
[]
[]
[]
[]
[]
[]
[]
[]
[]
[]
[]
[]
[]
[]
[]
[]
[]
[]
[]
[]
[]
[]
[]
[]
[]
[]
[]
[]
[]
[]
[]
[]
[]
[]
[]
[]
[]
[]
[]
[]
[]
[]
[]
[]
[]
[]
[]
[]
[]
[]
[]
[]
[]
[]
[]
[]
[]
[]
[]
[]
[]
[]
[]
[]
[]
[]
[]
[]
[]
[]
[]
[]
[]
[]
[]
[]
[]
[]
[]
[]
[]
[]
[]
[]
[]
[]
[]
[]
[]
[]
[]
[]
[]
[]
[]
[]
[]
[]
[]
[]
[]
[]
[]
[]
[]
[]
[]
[]
[]
[]
[]
[]
[]
[]
[]
[]
[]
[]
[]
[]
[]
[]
[]
[]
[]
[]
[]
[]
[]
[]
[]
[]
[]
[]
[]
[]
[]
[]
[]
[]
[]
[]
[]
[]
[]
[]
[]
[]
[]
[]
[]
[]
[]
[]
[]
[]
[]
[]
[]
[]
[]
[]
[]
[]
[]
[]
[]
[]
[]
[]
[]
[]
[]
[]
[]
[]
[]
[]
[]
[]
[]
[]
[]
[]
[]
[]
[]
[]
[]
[]
[]
[]
[]
[]
[]
[]
[]
[]
[]
[]
[]
[]
[]
[]
[]
[]
[]
[]
[]
[]
[]
[]
[]
[]
[]
[]
[]
[]
[]
[]
[]
[]
[]
[]
[]
[]
[]
[]
[]
[]
[]
[]
[]
[]
[]
[]
[]
[]
[]
[]
[]
[]
[]
[]
[]
[]
[]
[]
[]
[]
[]
[]
[]
[]
[]
[]
[]
[]
[]
[]
[]
[]
[]
[]
[]
[]
[]
[]
[]
[]
[]
[]
[]
[]
[]
[]
[]
[]
[]
[]
[]
[]
[]
[]
[]
[]
[]
[]
[]
[]
[]
[]
[]
[]
[]
[]
[]
[]
[]
[]
[]
[]
[]
[]
[]
[]
[]
[]
[]
[]
[]
[]
[]
[]
[]
[]
[]
[]
[]
[]
[]
[]
[]
[]
[]
[]
[]
[]
[]
[]
[]
[]
[]
[]
[]
[]
[]
[]
[]
[]
[]
[]
[]
[]
[]
[]
[]
[]
[]
[]
[]
[]
[]
[]
[]
[]
[]
[]
[]
[]
[]
[]
[]
[]
[]
[]
[]
[]
[]
[]
[]
[]
[]
[]
[]
[]
[]
[]
[]
[]
[]
[]
[]
[]
[]
[]
[]
[]
[]
[]
[]
[]
[]
[]
[]
[]
[]
[]
[]
[]
[]
[]
[]
[]
[]
[]
[]
[]
[]
[]
[]
[]
[]
[]
[]
[]
[]
[]
[]
[]
[]
[]
[]
[]
[]
[]
[]
[]
[]
[]
[]
[]
[]
[]
[]
[]
[]
[]
[]
[]
[]
[]
[]
[]
[]
[]
[]
[]
[]
[]
[]
[]
[]
[]
[]
[]
[]
[]
[]
[]
[]
[]
[]
[]
[]
[]
[]
[]
[]
[]
[]
[]
[]
[]
[]
[]
[]
[]
[]
[]
[]
[]
[]
[]
[]
[]
[]
[]
[]
[]
[]
[]
[]
[]
[]
[]
[]
[]
[]
[]
[]
[]
[]
[]
[]
[]
[]
[]
[]
[]
[]
[]
[]
[]
[]
[]
[]
[]
[]
[]
[]
[]
[]
[]
[]
[]
[]
[]
[]
[]
[]
[]
[]
[]
[]
[]
[]
[]
[]
[]
[]
[]
[]
[]
[]
[]
[]
[]
[]
[]
[]
[]
[]
[]
[]
[]
[]
[]
[]
[]
[]
[]
[]
[]
[]
[]
[]
[]
[]
[]
[]
[]
[]
[]
[]
[]
[]
[]
[]
[]
[]
[]
[]
[]
[]
[]
[]
[]
[]
[]
[]
[]
[]
[]
[]
[]
[]
[]
[]
[]
[]
[]
[]
[]
[]
[]
[]
[]
[]
[]
[]
[]
[]
[]
[]
[]
[]
[]
[]
[]
[]
[]
[]
[]
[]
[]
[]
[]
[]
[]
[]
[]
[]
[]
[]
[]
[]
[]
[]
[]
[]
[]
[]
[]
[]
[]
[]
[]
[]
[]
[]
[]
[]
[]
[]
[]
[]
[]
[]
[]
[]
[]
[]
[]
[]
[]
[]
[]
[]
[]
[]
[]
[]
[]
[]
[]
[]
[]
[]
[]
[]
[]
[]
[]
[]
[]
[]
[]
[]
[]
[]
[]
[]
[]
[]
[]
[]
[]
[]
[]
[]
[]
[]
[]
[]
[]
[]
[]
[]
[]
[]
[]
[]
[]
[]
[]
[]
[]
[]
[]
[]
[]
[]
[]
[]
[]
[]
[]
[]
[]
[]
[]
[]
[]
[]
[]
[]
[]
[]
[]
[]
[]
[]
[]
[]
[]
[]
[]
[]
[]
[]
[]
[]
[]
[]
[]
[]
[]
[]
[]
[]
[]
[]
[]
[]
[]
[]
[]
[]
[]
[]
[]
[]
[]
[]
[]
[]
[]
[]
[]
[]
[]
[]
[]
[]
[]
[]
[]
[]
[]
[]
[]
[]
[]
[]
[]
[]
[]
[]
[]
[]
[]
[]
[]
[]
[]
[]
[]
[]
[]
[]
[]
[]
[]
[]
[]
[]
[]
[]
[]
[]
[]
[]
[]
[]
[]
[]
[]
[]
[]
[]
[]
[]
[]
[]
[]
[]
[]
[]
[]
[]
[]
[]
[]
[]
[]
[]
[]
[]
[]
[]
[]
[]
[]
[]
[]
[]
[]
[]
[]
[]
[]
[]
[]
[]
[]
[]
[]
[]
[]
[]
[]
[]
[]
[]
[]
[]
[]
[]
[]
[]
[]
[]
[]
[]
[]
[]
[]
[]
[]
[]
[]
[]
[]
[]
[]
[]
[]
[]
[]
[]
[]
[]
[]
[]
[]
[]
[]
[]
[]
[]
[]
[]
[]
[]
[]
[]
[]
[]
[]
[]
[]
[]
[]
[]
[]
[]
[]
[]
[]
[]
[]
[]
[]
[]
[]
[]
[]
[]
[]
[]
[]
[]
[]
[]
[]
[]
[]
[]
[]
[]
[]
[]
[]
[]
[]
[]
[]
[]
[]
[]
[]
[]
[]
[]
[]
[]
[]
[]
[]
[]
[]
[]
[]
[]
[]
[]
[]
[]
[]
[]
[]
[]
[]
[]
[]
[]
[]
[]
[]
[]
[]
[]
[]
[]
[]
[]
[]
[]
[]
[]
[]
[]
[]
[]
[]
[]
[]
[]
[]
[]
[]
[]
[]
[]
[]
[]
[]
[]
[]
[]
[]
[]
[]
[]
[]
[]
[]
[]
[]
[]
[]
[]
[]
[]
[]
[]
[]
[]
[]
[]
[]
[]
[]
[]
[]
[]
[]
[]
[]
[]
[]
[]
[]
[]
[]
[]
[]
[]
[]
[]
[]
[]
[]
[]
[]
[]
[]
[]
[]
[]
[]
[]
[]
[]
[]
[]
[]
[]
[]
[]
[]
[]
[]
[]
[]
[]
[]
[]
[]
[]
[]
[]
[]
[]
[]
[]
[]
[]
[]
[]
[]
[]
[]
[]
[]
[]
[]
[]
[]
[]
[]
[]
[]
[]
[]
[]
[]
[]
[]
[]
[]
[]
[]
[]
[]
[]
[]
[]
[]
[]
[]
[]
[]
[]
[]
[]
[]
[]
[]
[]
[]
[]
[]
[]
[]
[]
[]
[]
[]
[]
[]
[]
[]
[]
[]
[]
[]
[]
[]
[]
[]
[]
[]
[]
[]
[]
[]
[]
[]
[]
[]
[]
[]
[]
[]
[]
[]
[]
[]
[]
[]
[]
[]
[]
[]
[]
[]
[]
[]
[]
[]
[]
[]
[]
[]
[]
[]
[]
[]
[]
[]
[]
[]
[]
[]
[]
[]
[]
[]
[]
[]
[]
[]
[]
[]
[]
[]
[]
[]
[]
[]
[]
[]
[]
[]
[]
[]
[]
[]
[]
[]
[]
[]
[]
[]
[]
[]
[]
[]
[]
[]
[]
[]
[]
[]
[]
[]
[]
[]
[]
[]
[]
[]
[]
[]
[]
[]
[]
[]
[]
[]
[]
[]
[]
[]
[]
[]
[]
[]
[]
[]
[]
[]
[]
[]
[]
[]
[]
[]
[]
[]
[]
[]
[]
[]
[]
[]
[]
[]
[]
[]
[]
[]
[]
[]
[]
[]
[]
[]
[]
[]
[]
[]
[]
[]
[]
[]
[]
[]
[]
[]
[]
[]
[]
[]
[]
[]
[]
[]
[]
[]
[]
[]
[]
[]
[]
[]
[]
[]
[]
[]
[]
[]
[]
[]
[]
[]
[]
[]
[]
[]
[]
[]
[]
[]
[]
[]
[]
[]
[]
[]
[]
[]
[]
[]
[]
[]
[]
[]
[]
[]
[]
[]
[]
[]
[]
[]
[]
[]
[]
[]
[]
[]
[]
[]
[]
[]
[]
[]
[]
[]
[]
[]
[]
[]
[]
[]
[]
[]
[]
[]
[]
[]
[]
[]
[]
[]
[]
[]
[]
[]
[]
[]
[]
[]
[]
[]
[]
[]
[]
[]
[]
[]
[]
[]
[]
[]
[]
[]
[]
[]
[]
[]
[]
[]
[]
[]
[]
[]
[]
[]
[]
[]
[]
[]
[]
[]
[]
[]
[]
[]
[]
[]
[]
[]
[]
[]
[]
[]
[]
[]
[]
[]
[]
[]
[]
[]
[]
[]
[]
[]
[]
[]
[]
[]
[]
[]
[]
[]
[]
[]
[]
[]
[]
[]
[]
[]
[]
[]
[]
[]
[]
[]
[]
[]
[]
[]
[]
[]
[]
[]
[]
[]
[]
[]
[]
[]
[]
[]
[]
[]
[]
[]
[]
[]
[]
[]
[]
[]
[]
[]
[]
[]
[]
[]
[]
[]
[]
[]
[]
[]
[]
[]
[]
[]
[]
[]
[]
[]
[]
[]
[]
[]
[]
[]
[]
[]
[]
[]
[]
[]
[]
[]
[]
[]
[]
[]
[]
[]
[]
[]
[]
[]
[]
[]
[]
[]
[]
[]
[]
[]
[]
[]
[]
[]
[]
[]
[]
[]
[]
[]
[]
[]
[]
[]
[]
[]
[]
[]
[]
[]
[]
[]
[]
[]
[]
[]
[]
[]
[]
[]
[]
[]
[]
[]
[]
[]
[]
[]
[]
[]
[]
[]
[]
[]
[]
[]
[]
[]
[]
[]
[]
[]
[]
[]
[]
[]
[]
[]
[]
[]
[]
[]
[]
[]
[]
[]
[]
[]
[]
[]
[]
[]
[]
[]
[]
[]
[]
[]
[]
[]
[]
[]
[]
[]
[]
[]
[]
[]
[]
[]
[]
[]
[]
[]
[]
[]
[]
[]
[]
[]
[]
[]
[]
[]
[]
[]
[]
[]
[]
[]
[]
[]
[]
[]
[]
[]
[]
[]
[]
[]
[]
[]
[]
[]
[]
[]
[]
[]
[]
[]
[]
[]
[]
[]
[]
[]
[]
[]
[]
[]
[]
[]
[]
[]
[]
[]
[]
[]
[]
[]
[]
[]
[]
[]
[]
[]
[]
[]
[]
[]
[]
[]
[]
[]
[]
[]
[]
[]
[]
[]
[]
[]
[]
[]
[]
[]
[]
[]
[]
[]
[]
[]
[]
[]
[]
[]
[]
[]
[]
[]
[]
[]
[]
[]
[]
[]
[]
[]
[]
[]
[]
[]
[]
[]
[]
[]
[]
[]
[]
[]
[]
[]
[]
[]
[]
[]
[]
[]
[]
[]
[]
[]
[]
[]
[]
[]
[]
[]
[]
[]
[]
[]
[]
[]
[]
[]
[]
[]
[]
[]
[]
[]
[]
[]
[]
[]
[]
[]
[]
[]
[]
[]
[]
[]
[]
[]
[]
[]
[]
[]
[]
[]
[]
[]
[]
[]
[]
[]
[]
[]
[]
[]
[]
[]
[]
[]
[]
[]
[]
[]
[]
[]
[]
[]
[]
[]
[]
[]
[]
[]
[]
[]
[]
[]
[]
[]
[]
[]
[]
[]
[]
[]
[]
[]
[]
[]
[]
[]
[]
[]
[]
[]
[]
[]
[]
[]
[]
[]
[]
[]
[]
[]
[]
[]
[]
[]
[]
[]
[]
[]
[]
[]
[]
[]
[]
[]
[]
[]
[]
[]
[]
[]
[]
[]
[]
[]
[]
[]
[]
[]
[]
[]
[]
[]
[]
[]
[]
[]
[]
[]
[]
[]
[]
[]
[]
[]
[]
[]
[]
[]
[]
[]
[]
[]
[]
[]
[]
[]
[]
[]
[]
[]
[]
[]
[]
[]
[]
[]
[]
[]
[]
[]
[]
[]
[]
[]
[]
[]
[]
[]
[]
[]
[]
[]
[]
[]
[]
[]
[]
[]
[]
[]
[]
[]
[]
[]
[]
[]
[]
[]
[]
[]
[]
[]
[]
[]
[]
[]
[]
[]
[]
[]
[]
[]
[]
[]
[]
[]
[]
[]
[]
[]
[]
[]
[]
[]
[]
[]
[]
[]
[]
[]
[]
[]
[]
[]
[]
[]
[]
[]
[]
[]
[]
[]
[]
[]
[]
[]
[]
[]
[]
[]
[]
[]
[]
[]
[]
[]
[]
[]
[]
[]
[]
[]
[]
[]
[]
[]
[]
[]
[]
[]
[]
[]
[]
[]
[]
[]
[]
[]
[]
[]
[]
[]
[]
[]
[]
[]
[]
[]
[]
[]
[]
[]
[]
[]
[]
[]
[]
[]
[]
[]
[]
[]
[]
[]
[]
[]
[]
[]
[]
[]
[]
[]
[]
[]
[]
[]
[]
[]
[]
[]
[]
[]
[]
[]
[]
[]
[]
[]
[]
[]
[]
[]
[]
[]
[]
[]
[]
[]
[]
[]
[]
[]
[]
[]
[]
[]
[]
[]
[]
[]
[]
[]
[]
[]
[]
[]
[]
[]
[]
[]
[]
[]
[]
[]
[]
[]
[]
[]
[]
[]
[]
[]
[]
[]
[]
[]
[]
[]
[]
[]
[]
[]
[]
[]
[]
[]
[]
[]
[]
[]
[]
[]
[]
[]
[]
[]
[]
[]
[]
[]
[]
[]
[]
[]
[]
[]
[]
[]
[]
[]
[]
[]
[]
[]
[]
[]
[]
[]
[]
[]
[]
[]
[]
[]
[]
[]
[]
[]
[]
[]
[]
[]
[]
[]
[]
[]
[]
[]
[]
[]
[]
[]
[]
[]
[]
[]
[]
[]
[]
[]
[]
[]
[]
[]
[]
[]
[]
[]
[]
[]
[]
[]
[]
[]
[]
[]
[]
[]
[]
[]
[]
[]
[]
[]
[]
[]
[]
[]
[]
[]
[]
[]
[]
[]
[]
[]
[]
[]
[]
[]
[]
[]
[]
[]
[]
[]
[]
[]
[]
[]
[]
[]
[]
[]
[]
[]
[]
[]
[]
[]
[]
[]
[]
[]
[]
[]
[]
[]
[]
[]
[]
[]
[]
[]
[]
[]
[]
[]
[]
[]
[]
[]
[]
[]
[]
[]
[]
[]
[]
[]
[]
[]
[]
[]
[]
[]
[]
[]
[]
[]
[]
[]
[]
[]
[]
[]
[]
[]
[]
[]
[]
[]
[]
[]
[]
[]
[]
[]
[]
[]
[]
[]
[]
[]
[]
[]
[]
[]
[]
[]
[]
[]
[]
[]
[]
[]
[]
[]
[]
[]
[]
[]
[]
[]
[]
[]
[]
[]
[]
[]
[]
[]
[]
[]
[]
[]
[]
[]
[]
[]
[]
[]
[]
[]
[]
[]
[]
[]
[]
[]
[]
[]
[]
[]
[]
[]
[]
[]
[]
[]
[]
[]
[]
[]
[]
[]
[]
[]
[]
[]
[]
[]
[]
[]
[]
[]
[]
[]
[]
[]
[]
[]
[]
[]
[]
[]
[]
[]
[]
[]
[]
[]
[]
[]
[]
[]
[]
[]
[]
[]
[]
[]
[]
[]
[]
[]
[]
[]
[]
[]
[]
[]
[]
[]
[]
[]
[]
[]
[]
[]
[]
[]
[]
[]
[]
[]
[]
[]
[]
[]
[]
[]
[]
[]
[]
[]
[]
[]
[]
[]
[]
[]
[]
[]
[]
[]
[]
[]
[]
[]
[]
[]
[]
[]
[]
[]
[]
[]
[]
[]
[]
[]
[]
[]
[]
[]
[]
[]
[]
[]
[]
[]
[]
[]
[]
[]
[]
[]
[]
[]
[]
[]
[]
[]
[]
[]
[]
[]
[]
[]
[]
[]
[]
[]
[]
[]
[]
[]
[]
[]
[]
[]
[]
[]
[]
[]
[]
[]
[]
[]
[]
[]
[]
[]
[]
[]
[]
[]
[]
[]
[]
[]
[]
[]
[]
[]
[]
[]
[]
[]
[]
[]
[]
[]
[]
[]
[]
[]
[]
[]
[]
[]
[]
[]
[]
[]
[]
[]
[]
[]
[]
[]
[]
[]
[]
[]
[]
[]
[]
[]
[]
[]
[]
[]
[]
[]
[]
[]
[]
[]
[]
[]
[]
[]
[]
[]
[]
[]
[]
[]
[]
[]
[]
[]
[]
[]
[]
[]
[]
[]
[]
[]
[]
[]
[]
[]
[]
[]
[]
[]
[]
[]
[]
[]
[]
[]
[]
[]
[]
[]
[]
[]
[]
[]
[]
[]
[]
[]
[]
[]
[]
[]
[]
[]
[]
[]
[]
[]
[]
[]
[]
[]
[]
[]
[]
[]
[]
[]
[]
[]
[]
[]
[]
[]
[]
[]
[]
[]
[]
[]
[]
[]
[]
[]
[]
[]
[]
[]
[]
[]
[]
[]
[]
[]
[]
[]
[]
[]
[]
[]
[]
[]
[]
[]
[]
[]
[]
[]
[]
[]
[]
[]
[]
[]
[]
[]
[]
[]
[]
[]
[]
[]
[]
[]
[]
[]
[]
[]
[]
[]
[]
[]
[]
[]
[]
[]
[]
[]
[]
[]
[]
[]
[]
[]
[]
[]
[]
[]
[]
[]
[]
[]
[]
[]
[]
[]
[]
[]
[]
[]
[]
[]
[]
[]
[]
[]
[]
[]
[]
[]
[]
[]
[]
[]
[]
[]
[]
[]
[]
[]
[]
[]
[]
[]
[]
[]
[]
[]
[]
[]
[]
[]
[null,null,null,null,null,null,null,null,"2018-10-13"]

{"sheet":"C.3 - Asset by Company","index":6,"n_rows":1,"n_cols":3,"rows_kept":1,"cut":false,"hidden":false,"merged":[]}
["Asset Tag","Position","Name"]

{"sheet":"C.4 - Timesheets - Equipment","index":7,"n_rows":85,"n_cols":45,"rows_kept":85,"cut":false,"hidden":false,"merged":[[80,1,80,5],[14,37,16,37],[14,10,16,10],[14,1,16,1],[14,2,16,2],[14,4,16,4],[14,5,16,5],[14,6,16,6],[14,9,16,9],[14,7,16,7],[14,8,16,8],[14,3,16,3],[1,1,1,43],[14,41,16,41],[14,42,16,42],[14,43,16,43],[14,38,16,38],[14,40,16,40],[14,39,16,39],[3,2,8,9]]}
[]
[null,"Equipment Charges - Time Card"]
[]
[null,"Test Plan:","Obtain the time cards.  (A) Populate the equipment names and types (if provided). Find additional information regarding individual equipment charge from related invoice. (B) Enter hours worked from time card(s).   (C) Confirm that the dates per the time cards fall between dates provided per 'A - Contractor Summary' tab. (D) Identify any equipment charges to be reviewed.  (E) For charges which required further review, document review (include why it was determined to be allowed/disallowed via a tickmark)."]
[]
[]
[]
[]
[]
[null,"Rx","Recalculated."]
[null,"a","Provided from tab 'C.1 - Rate Sheets'."]
[null,"b","Check figure should equal $0.  Cell will appear yellow if discrepancies are noted."]
[]
[null,null,"A ",null,null,null,null,"Rx",null,"C","a","B","B",null,null,null,null,null,null,null,null,null,null,null,null,null,null,null,null,null,null,null,null,null,null,null,null,"Rx",null,null,"D","E"]
[null,"#","Equipment Name","Equipment ID","Company","Crew#","Invoice","Start Date","End Date","Dates Worked Reasonable?","Rates",{"$f":"L16","v":"2018-10-12"},{"$f":"M16","v":"2018-10-13"},{"$f":"N16","v":"2018-10-14"},"2018-10-15","2018-10-16","2018-10-17","2018-10-18","2018-10-19","2018-10-20","2018-10-21","2018-10-22","2018-10-23","2018-10-24","2018-10-25","2018-10-26","2018-10-27","2018-10-28","2018-10-29","2018-10-30","2018-10-31","2018-11-01","2018-11-02","2018-11-03","2018-11-13","2018-11-14","2018-11-15","Total Hours","Total Equipment $","Allowable Charges","To Be Reviewed","Reviewed - Allowable Charge","Reviewed - Unallowable Charge","Tickmarks"]
[null,null,null,null,null,null,null,null,null,null,null,"2018-10-12","2018-10-13","2018-10-14","2018-10-15","2018-10-16","2018-10-17","2018-10-18","2018-10-19","2018-10-20","2018-10-21","2018-10-22","2018-10-23","2018-10-24","2018-10-25","2018-10-26","2018-10-27","2018-10-28","2018-10-29","2018-10-30","2018-10-31","2018-11-01","2018-11-02","2018-11-03","2018-11-13","2018-11-14","2018-11-15"]
[null,null,null,null,null,null,null,null,null,null,null,"Hours","Hours","Hours","Hours","Hours","Hours","Hours","Hours","Hours","Hours","Hours","Hours","Hours","Hours","Hours","Hours","Hours","Hours","Hours","Hours","Hours","Hours","Hours","Hours","Hours","Hours"]
[null,1,"Ariel Lift Over 60",null,"Vendor #13","Maynard","SW008057","2018-10-13","2018-10-13","Yes",{"$f":"VLOOKUP($C18,'C.1 - Rate Sheets'!H:I,2,FALSE)","v":28},null,16,null,null,null,null,null,null,null,null,null,null,null,null,null,null,null,null,null,null,null,null,null,0,0,0,{"$f":"SUM(L18:AK18)","v":16},{"$f":"AL18*K18","v":448},{"$f":"AM18-AO18","v":448},0,0,0]
[null,2,"Ariel Lift Over 60",null,"Vendor #13","Williams","SW008058","2018-10-13","2018-10-13","Yes",{"$f":"VLOOKUP($C19,'C.1 - Rate Sheets'!H:I,2,FALSE)","v":28},null,16,null,null,null,null,null,null,null,null,null,null,null,null,null,null,null,null,null,null,null,null,null,0,0,0,16,448,448,0,0,0]
[null,3,{"$f":"+'C.1 - Rate Sheets'!H17","v":"Ariel Lift 60-2WD"},null,"Vendor #13","Suggs","SW008059","2018-10-12","2018-10-13","Yes",{"$f":"VLOOKUP($C20,'C.1 - Rate Sheets'!H:I,2,FALSE)","v":18},6,16,null,null,null,null,null,null,null,null,null,null,null,null,null,null,null,null,null,null,null,null,null,0,0,0,22,396,396,0,0,0]
[null,4,"Ariel Lift 60-2WD",null,"Vendor #13","Anthony","SW008060","2018-10-12","2018-10-13","Yes",{"$f":"VLOOKUP($C21,'C.1 - Rate Sheets'!H:I,2,FALSE)","v":18},4,16,null,null,null,null,null,null,null,null,null,null,null,null,null,null,null,null,null,null,null,null,null,0,0,0,20,360,360,0,0,0]
[null,5,"Ariel Lift 60-2WD",null,"Vendor #13","Taylor","SW008061","2018-10-12","2018-10-13","Yes",{"$f":"VLOOKUP($C22,'C.1 - Rate Sheets'!H:I,2,FALSE)","v":18},4,16,null,null,null,null,null,null,null,null,null,null,null,null,null,null,null,null,null,null,null,null,null,0,0,0,20,360,360,0,0,0]
[null,6,{"$f":"+'C.1 - Rate Sheets'!H16","v":"4x4 Pickup"},null,"Vendor #13","Allison","SW008063","2018-10-13","2018-10-13","Yes",{"$f":"VLOOKUP($C23,'C.1 - Rate Sheets'!H:I,2,FALSE)","v":10},null,16,null,null,null,null,null,null,null,null,null,null,null,null,null,null,null,null,null,null,null,null,null,0,0,0,16,160,160,0,0,0]
[null,7,"4x4 Pickup",null,"Vendor #13","Brooks","SW007708","2018-10-17","2018-10-20","Yes",{"$f":"VLOOKUP($C24,'C.1 - Rate Sheets'!H:I,2,FALSE)","v":10},null,null,null,null,null,4,16,16,16,null,null,null,null,null,null,null,null,null,null,null,null,null,null,0,0,0,52,520,520,0,0,0]
[null,8,"Ariel Lift 60-2WD",null,"Vendor #13","Singleton","SW007712","2018-10-17","2018-10-20","Yes",{"$f":"VLOOKUP($C25,'C.1 - Rate Sheets'!H:I,2,FALSE)","v":18},null,null,null,null,null,14,16,16,16,null,null,null,null,null,null,null,null,null,null,null,null,null,null,0,0,0,62,1116,1116,0,0,0]
[null,9,"Ariel Lift 60-2WD",null,"Vendor #13","Childress","SW007717","2018-10-17","2018-10-20","Yes",{"$f":"VLOOKUP($C26,'C.1 - Rate Sheets'!H:I,2,FALSE)","v":18},null,null,null,null,null,14,16,16,16,null,null,null,null,null,null,null,null,null,null,null,null,null,null,0,0,0,62,1116,1116,0,0,0]
[null,10,"Ariel Lift 60-2WD",null,"Vendor #13","Patterson","SW007719","2018-10-17","2018-10-20","Yes",{"$f":"VLOOKUP($C27,'C.1 - Rate Sheets'!H:I,2,FALSE)","v":18},null,null,null,null,null,14,16,16,16,null,null,null,null,null,null,null,null,null,null,null,null,null,null,0,0,0,62,1116,1116,0,0,0]
[null,11,"Ariel Lift 60-2WD",null,"Vendor #13","Housewright","SW007721","2018-10-17","2018-10-19","Yes",{"$f":"VLOOKUP($C28,'C.1 - Rate Sheets'!H:I,2,FALSE)","v":18},null,null,null,null,null,14,16,16,null,null,null,null,null,null,null,null,null,null,null,null,null,null,null,0,0,0,46,828,828,0,0,0]
[null,12,"4x4 Pickup",null,"Vendor #13","Mullins","SW007753","2018-10-17","2018-10-20","Yes",{"$f":"VLOOKUP($C29,'C.1 - Rate Sheets'!H:I,2,FALSE)","v":10},null,null,null,null,null,14,16,16,16,null,null,null,null,null,null,null,null,null,null,null,null,null,null,0,0,0,62,620,620,0,0,0]
[null,13,"Ariel Lift 60-2WD",null,"Vendor #13","Franklin","SW007755","2018-10-17","2018-10-20","Yes",{"$f":"VLOOKUP($C30,'C.1 - Rate Sheets'!H:I,2,FALSE)","v":18},null,null,null,null,null,14,16,16,16,null,null,null,null,null,null,null,null,null,null,null,null,null,null,0,0,0,62,1116,1116,0,0,0]
[null,14,"Ariel Lift 60-2WD",null,"Vendor #13","Norton","SW007759","2018-10-17","2018-10-18","Yes",{"$f":"VLOOKUP($C31,'C.1 - Rate Sheets'!H:I,2,FALSE)","v":18},null,null,null,null,null,14,16,null,null,null,null,null,null,null,null,null,null,null,null,null,null,null,null,0,0,0,30,540,540,0,0,0]
[null,15,"Ariel Lift 60-2WD",null,"Vendor #13","Moore","SW007761","2018-10-17","2018-10-20","Yes",{"$f":"VLOOKUP($C32,'C.1 - Rate Sheets'!H:I,2,FALSE)","v":18},null,null,null,null,null,14,16,16,16,null,null,null,null,null,null,null,null,null,null,null,null,null,null,0,0,0,62,1116,1116,0,0,0]
[null,16,"Ariel Lift 60-2WD",null,"Vendor #13","McLain","SW007764","2018-10-17","2018-10-20","Yes",{"$f":"VLOOKUP($C33,'C.1 - Rate Sheets'!H:I,2,FALSE)","v":18},null,null,null,null,null,14,16,16,16,null,null,null,null,null,null,null,null,null,null,null,null,null,null,0,0,0,62,1116,1116,0,0,0]
[null,17,"Ariel Lift Over 60",null,"Vendor #13","Carver","SW007769","2018-10-17","2018-10-20","Yes",{"$f":"VLOOKUP($C34,'C.1 - Rate Sheets'!H:I,2,FALSE)","v":28},null,null,null,null,null,14,16,16,16,null,null,null,null,null,null,null,null,null,null,null,null,null,null,0,0,0,62,1736,1736,0,0,0]
[null,18,"Ariel Lift 60-2WD",null,"Vendor #13","Nuccio","SW007771","2018-10-17","2018-10-20","Yes",{"$f":"VLOOKUP($C35,'C.1 - Rate Sheets'!H:I,2,FALSE)","v":18},null,null,null,null,null,7,16,16,16,null,null,null,null,null,null,null,null,null,null,null,null,null,null,0,0,0,55,990,990,0,0,0]
[null,19,"Ariel Lift 60-2WD",null,"Vendor #13","White","SW007773","2018-10-17","2018-10-20","Yes",{"$f":"VLOOKUP($C36,'C.1 - Rate Sheets'!H:I,2,FALSE)","v":18},null,null,null,null,null,null,16,16,16,null,null,null,null,null,null,null,null,null,null,null,null,null,null,0,0,0,48,864,864,0,0,0]
[null,20,"Ariel Lift 60-2WD",null,"Vendor #13","Puckett","SW007774","2018-10-17","2018-10-20","Yes",{"$f":"VLOOKUP($C37,'C.1 - Rate Sheets'!H:I,2,FALSE)","v":18},null,null,null,null,null,null,16,16,16,null,null,null,null,null,null,null,null,null,null,null,null,null,null,0,0,0,48,864,864,0,0,0]
[null,21,"Ariel Lift Over 60",null,"Vendor #13","Williams","SW008066","2018-10-14","2018-10-20","Yes",{"$f":"VLOOKUP($C38,'C.1 - Rate Sheets'!H:I,2,FALSE)","v":28},null,null,16,16,16,16,16,16,16,null,null,null,null,null,null,null,null,null,null,null,null,null,null,0,0,0,112,3136,3136,0,0,0]
[null,22,"Ariel Lift 60-2WD",null,"Vendor #13","Suggs","SW008067","2018-10-14","2018-10-20","Yes",{"$f":"VLOOKUP($C39,'C.1 - Rate Sheets'!H:I,2,FALSE)","v":18},null,null,16,16,16,16,16,16,16,null,null,null,null,null,null,null,null,null,null,null,null,null,null,0,0,0,112,2016,2016,0,0,0]
[null,23,"Ariel Lift 60-2WD",null,"Vendor #13","Anthony","SW008068","2018-10-14","2018-10-20","Yes",{"$f":"VLOOKUP($C40,'C.1 - Rate Sheets'!H:I,2,FALSE)","v":18},null,null,16,16,16,16,16,16,16,null,null,null,null,null,null,null,null,null,null,null,null,null,null,0,0,0,112,2016,2016,0,0,0]
[null,24,"Ariel Lift 60-2WD",null,"Vendor #13","Taylor","SW008069","2018-10-14","2018-10-20","Yes",{"$f":"VLOOKUP($C41,'C.1 - Rate Sheets'!H:I,2,FALSE)","v":18},null,null,16,16,16,16,16,16,16,null,null,null,null,null,null,null,null,null,null,null,null,null,null,0,0,0,112,2016,2016,0,0,0]
[null,25,"Ariel Lift Over 60",null,"Vendor #13","Maynard","SW008064","2018-10-14","2018-10-20","Yes",{"$f":"VLOOKUP($C42,'C.1 - Rate Sheets'!H:I,2,FALSE)","v":28},null,null,16,16,16,16,16,16,16,null,null,null,null,null,null,null,null,null,null,null,null,null,null,0,0,0,112,3136,3136,0,0,0]
[null,26,"4x4 Pickup",null,"Vendor #13","Allison","SW008065","2018-10-14","2018-10-20","Yes",{"$f":"VLOOKUP($C43,'C.1 - Rate Sheets'!H:I,2,FALSE)","v":10},null,null,16,16,16,16,16,16,16,null,null,null,null,null,null,null,null,null,null,null,null,null,null,0,0,0,112,1120,{"$f":"AM43-AO43","v":1120},0,0,0]
[null,27,"Ariel Lift Over 60",null,"Vendor #13","Wisham",5356282,"2018-10-22","2018-10-27","Yes",{"$f":"VLOOKUP($C44,'C.1 - Rate Sheets'!H:I,2,FALSE)","v":28},null,null,null,null,null,null,null,null,null,null,14,16,16,16,16,16,null,null,null,null,null,null,null,0,0,0,94,2632,2632,0,0,0]
[null,28,"Ariel Lift Over 60",null,"Vendor #13","Robison",5356283,"2018-10-22","2018-10-27","Yes",{"$f":"VLOOKUP($C45,'C.1 - Rate Sheets'!H:I,2,FALSE)","v":28},null,null,null,null,null,null,null,null,null,null,14,16,16,16,16,16,null,null,null,null,null,null,null,0,0,0,94,2632,2632,0,0,0]
[null,29,"Ariel Lift Over 60",null,"Vendor #13","Hale",5356284,"2018-10-22","2018-10-27","Yes",{"$f":"VLOOKUP($C46,'C.1 - Rate Sheets'!H:I,2,FALSE)","v":28},null,null,null,null,null,null,null,null,null,null,14,16,16,16,16,16,null,null,null,null,null,null,null,0,0,0,94,2632,2632,0,0,0]
[null,30,"Ariel Lift 60-2WD",null,"Vendor #13","Hudson",5356285,"2018-10-22","2018-10-27","Yes",{"$f":"VLOOKUP($C47,'C.1 - Rate Sheets'!H:I,2,FALSE)","v":18},null,null,null,null,null,null,null,null,null,null,14,16,16,16,16,16,null,null,null,null,null,null,null,0,0,0,94,1692,1692,0,0,0]
[null,31,{"$f":"+'C.1 - Rate Sheets'!H22","v":"Loader"},null,"Vendor #13","Hale",5356286,"2018-10-22","2018-10-27","Yes",{"$f":"VLOOKUP($C48,'C.1 - Rate Sheets'!H:I,2,FALSE)","v":61.14},null,null,null,null,null,null,null,null,null,null,null,4,16,16,16,16,null,null,null,null,null,null,null,0,0,0,68,4157.5200000000004,4157.5200000000004,0,0,0]
[null,32,"Ariel Lift 60-2WD",null,"Vendor #13","Patterson","SW007830","2018-10-21","2018-10-26","Yes",{"$f":"VLOOKUP($C49,'C.1 - Rate Sheets'!H:I,2,FALSE)","v":18},null,null,null,null,null,null,null,null,null,16,16,16,16,16,16,null,null,null,null,null,null,null,null,0,0,0,96,1728,1728,0,0,0]
[null,33,"Ariel Lift 60-2WD",null,"Vendor #13","Singleton","SW007831","2018-10-21","2018-10-26","Yes",{"$f":"VLOOKUP($C50,'C.1 - Rate Sheets'!H:I,2,FALSE)","v":18},null,null,null,null,null,null,null,null,null,16,16,16,16,16,16,null,null,null,null,null,null,null,null,0,0,0,{"$f":"SUM(L50:AK50)","v":96},{"$f":"AL50*K50","v":1728},1728,0,0,0]
[null,34,"Ariel Lift 60-2WD",null,"Vendor #13","Childress","SW007833","2018-10-21","2018-10-26","Yes",{"$f":"VLOOKUP($C51,'C.1 - Rate Sheets'!H:I,2,FALSE)","v":18},null,null,null,null,null,null,null,null,null,16,16,16,16,16,16,null,null,null,null,null,null,null,null,0,0,0,96,1728,1728,0,0,0]
[null,35,"4x4 Pickup",null,"Vendor #13","Mullins","SW007901","2018-10-21","2018-10-27","Yes",{"$f":"VLOOKUP($C52,'C.1 - Rate Sheets'!H:I,2,FALSE)","v":10},null,null,null,null,null,null,null,null,null,16,16,16,16,16,16,16,null,null,null,null,null,null,null,0,0,0,112,1120,1120,0,0,0]
[null,36,"Ariel Lift 60-2WD",null,"Vendor #13","Franklin","SW007902","2018-10-21","2018-10-27","Yes",{"$f":"VLOOKUP($C53,'C.1 - Rate Sheets'!H:I,2,FALSE)","v":18},null,null,null,null,null,null,null,null,null,16,16,16,16,16,16,16,null,null,null,null,null,null,null,0,0,0,112,2016,2016,0,0,0]
[null,37,"Ariel Lift 60-2WD",null,"Vendor #13","Nuccio","SW007903","2018-10-21","2018-10-27","Yes",{"$f":"VLOOKUP($C54,'C.1 - Rate Sheets'!H:I,2,FALSE)","v":18},null,null,null,null,null,null,null,null,null,16,16,16,16,16,16,16,null,null,null,null,null,null,null,0,0,0,112,2016,2016,0,0,0]
[null,38,"Ariel Lift Over 60",null,"Vendor #13","Carver","SW007904","2018-10-21","2018-10-27","Yes",{"$f":"VLOOKUP($C55,'C.1 - Rate Sheets'!H:I,2,FALSE)","v":28},null,null,null,null,null,null,null,null,null,16,16,16,16,16,16,16,null,null,null,null,null,null,null,0,0,0,112,3136,3136,0,0,0]
[null,39,"Ariel Lift 60-2WD",null,"Vendor #13","Collins","SW007905","2018-10-21","2018-10-26","Yes",{"$f":"VLOOKUP($C56,'C.1 - Rate Sheets'!H:I,2,FALSE)","v":18},null,null,null,null,null,null,null,null,null,16,16,16,16,16,16,null,null,null,null,null,null,null,null,0,0,0,96,1728,1728,0,0,0]
[null,40,"Ariel Lift 60-2WD",null,"Vendor #13","McLain","SW007907","2018-10-21","2018-10-27","Yes",{"$f":"VLOOKUP($C57,'C.1 - Rate Sheets'!H:I,2,FALSE)","v":18},null,null,null,null,null,null,null,null,null,16,16,16,16,16,16,16,null,null,null,null,null,null,null,0,0,0,112,2016,2016,0,0,0]
[null,41,"Ariel Lift 60-2WD",null,"Vendor #13","White","SW007908","2018-10-21","2018-10-27","Yes",{"$f":"VLOOKUP($C58,'C.1 - Rate Sheets'!H:I,2,FALSE)","v":18},null,null,null,null,null,null,null,null,null,16,16,16,16,16,16,16,null,null,null,null,null,null,null,0,0,0,112,2016,2016,0,0,0]
[null,42,"Ariel Lift 60-2WD",null,"Vendor #13","Puckett","SW007909","2018-10-21","2018-10-27","Yes",{"$f":"VLOOKUP($C59,'C.1 - Rate Sheets'!H:I,2,FALSE)","v":18},null,null,null,null,null,null,null,null,null,16,16,16,16,16,16,16,null,null,null,null,null,null,null,0,0,0,112,2016,2016,0,0,0]
[null,43,"4x4 Pickup",null,"Vendor #13","Allison","SW008070","2018-10-21","2018-10-26","Yes",{"$f":"VLOOKUP($C60,'C.1 - Rate Sheets'!H:I,2,FALSE)","v":10},null,null,null,null,null,null,null,null,null,16,16,16,16,16,16,null,null,null,null,null,null,null,null,0,0,0,96,960,960,0,0,0]
[null,44,"Ariel Lift Over 60",null,"Vendor #13","Maynard","SW008071","2018-10-21","2018-10-26","Yes",{"$f":"VLOOKUP($C61,'C.1 - Rate Sheets'!H:I,2,FALSE)","v":28},null,null,null,null,null,null,null,null,null,16,16,16,16,16,16,null,null,null,null,null,null,null,null,0,0,0,96,2688,2688,0,0,0]
[null,44,"4x4 Pickup",null,"Vendor #13","Brooks","SW007826","2018-10-21","2018-10-26","Yes",{"$f":"VLOOKUP($C62,'C.1 - Rate Sheets'!H:I,2,FALSE)","v":10},null,null,null,null,null,null,null,null,null,16,16,16,16,16,16,null,null,null,null,null,null,null,null,0,0,0,96,960,{"$f":"AM62-AO62","v":960},0,0,0]
[null,45,"Ariel Lift Over 60",null,"Vendor #13","Williams","SW008072","2018-10-21","2018-10-26","Yes",{"$f":"VLOOKUP($C63,'C.1 - Rate Sheets'!H:I,2,FALSE)","v":28},null,null,null,null,null,null,null,null,null,16,16,16,16,16,16,null,null,null,null,null,null,null,null,0,0,0,96,2688,2688,0,0,0]
[null,46,"Ariel Lift 60-2WD",null,"Vendor #13","Suggs","SW008073","2018-10-21","2018-10-25","Yes",{"$f":"VLOOKUP($C64,'C.1 - Rate Sheets'!H:I,2,FALSE)","v":18},null,null,null,null,null,null,null,null,null,16,16,16,16,16,null,null,null,null,null,null,null,null,null,0,0,0,80,1440,1440,0,0,0]
[null,47,"Ariel Lift 60-2WD",null,"Vendor #13","Anthony","SW008074","2018-10-21","2018-10-25","Yes",{"$f":"VLOOKUP($C65,'C.1 - Rate Sheets'!H:I,2,FALSE)","v":18},null,null,null,null,null,null,null,null,null,16,16,16,16,16,null,null,null,null,null,null,null,null,null,0,0,0,80,1440,1440,0,0,0]
[null,48,"Ariel Lift 60-2WD",null,"Vendor #13","Taylor","SW008075","2018-10-21","2018-10-25","Yes",{"$f":"VLOOKUP($C66,'C.1 - Rate Sheets'!H:I,2,FALSE)","v":18},null,null,null,null,null,null,null,null,null,16,16,16,16,16,null,null,null,null,null,null,null,null,null,0,0,0,80,1440,1440,0,0,0]
[null,49,"4x4 Pickup",null,"Vendor #13","Mullins","SW007910","2018-10-28","2018-11-02","Yes",{"$f":"VLOOKUP($C67,'C.1 - Rate Sheets'!H:I,2,FALSE)","v":10},null,null,null,null,null,null,null,null,null,null,null,null,null,null,null,null,16,16,16,16,16,16,null,0,0,0,96,960,960,0,0,0]
[null,50,"Ariel Lift 60-2WD",null,"Vendor #13","Nuccio","SW007912","2018-10-28","2018-11-02","Yes",{"$f":"VLOOKUP($C68,'C.1 - Rate Sheets'!H:I,2,FALSE)","v":18},null,null,null,null,null,null,null,null,null,null,null,null,null,null,null,null,16,16,16,16,16,16,null,0,0,0,96,1728,1728,0,0,0]
[null,51,"Ariel Lift 60-2WD",null,"Vendor #13","Franklin","SW007914","2018-10-28","2018-11-02","Yes",{"$f":"VLOOKUP($C69,'C.1 - Rate Sheets'!H:I,2,FALSE)","v":18},null,null,null,null,null,null,null,null,null,null,null,null,null,null,null,null,16,16,16,16,16,16,null,0,0,0,96,1728,1728,0,0,0]
[null,52,"Ariel Lift Over 60",null,"Vendor #13","Carver","SW007916","2018-10-28","2018-11-02","Yes",{"$f":"VLOOKUP($C70,'C.1 - Rate Sheets'!H:I,2,FALSE)","v":28},null,null,null,null,null,null,null,null,null,null,null,null,null,null,null,null,16,16,16,16,16,16,null,0,0,0,96,2688,2688,0,0,0]
[null,53,"Ariel Lift 60-2WD",null,"Vendor #13","McLain","SW007918","2018-10-28","2018-11-02","Yes",{"$f":"VLOOKUP($C71,'C.1 - Rate Sheets'!H:I,2,FALSE)","v":18},null,null,null,null,null,null,null,null,null,null,null,null,null,null,null,null,16,16,16,16,16,16,null,0,0,0,96,1728,1728,0,0,0]
[null,54,"Ariel Lift 60-2WD",null,"Vendor #13","Puckett","SW007920","2018-10-28","2018-10-30","Yes",{"$f":"VLOOKUP($C72,'C.1 - Rate Sheets'!H:I,2,FALSE)","v":18},null,null,null,null,null,null,null,null,null,null,null,null,null,null,null,null,16,16,16,null,null,null,null,0,0,0,48,864,864,0,0,0]
[null,55,"Ariel Lift 60-2WD",null,"Vendor #13","White","SW007922","2018-10-28","2018-10-30","Yes",{"$f":"VLOOKUP($C73,'C.1 - Rate Sheets'!H:I,2,FALSE)","v":18},null,null,null,null,null,null,null,null,null,null,null,null,null,null,null,null,16,16,16,null,null,null,null,0,0,0,48,864,864,0,0,0]
[null,56,"4x4 Pickup",null,"Vendor #13","Hudson",5856327,"2018-10-28","2018-11-02","Yes",{"$f":"VLOOKUP($C74,'C.1 - Rate Sheets'!H:I,2,FALSE)","v":10},null,null,null,null,null,null,null,null,null,null,null,null,null,null,null,null,16,16,16,16,16,16,null,0,0,0,96,960,960,0,0,0]
[null,57,"Ariel Lift Over 60",null,"Vendor #13","Conley",5356328,"2018-10-28","2018-11-02","Yes",{"$f":"VLOOKUP($C75,'C.1 - Rate Sheets'!H:I,2,FALSE)","v":28},null,null,null,null,null,null,null,null,null,null,null,null,null,null,null,null,16,16,16,16,16,16,null,0,0,0,96,2688,2688,0,0,0]
[null,58,"Ariel Lift Over 60",null,"Vendor #13","Hale",5356329,"2018-10-28","2018-11-02","Yes",{"$f":"VLOOKUP($C76,'C.1 - Rate Sheets'!H:I,2,FALSE)","v":28},null,null,null,null,null,null,null,null,null,null,null,null,null,null,null,null,16,16,16,16,16,16,null,0,0,0,96,2688,2688,0,0,0]
[null,59,"Ariel Lift Over 60",null,"Vendor #13","Robison",5356330,"2018-10-28","2018-11-02","Yes",{"$f":"VLOOKUP($C77,'C.1 - Rate Sheets'!H:I,2,FALSE)","v":28},null,null,null,null,null,null,null,null,null,null,null,null,null,null,null,null,16,16,16,16,16,16,null,0,0,0,96,2688,2688,0,0,0]
[null,60,"4x4 Pickup",null,"Vendor #13","Hudson",5356281,"2018-10-22","2018-10-27","Yes",{"$f":"VLOOKUP($C78,'C.1 - Rate Sheets'!H:I,2,FALSE)","v":10},null,null,null,null,null,null,null,null,null,null,16,16,16,16,16,16,null,null,null,null,null,null,null,0,0,0,94,940,{"$f":"AM78-AO78","v":940},0,0,0]
[null,61,"Ariel Lift 60-2WD",null,"Vendor #13","Hudson",5356331,"2018-10-28","2018-11-02","Yes",{"$f":"VLOOKUP($C79,'C.1 - Rate Sheets'!H:I,2,FALSE)","v":18},null,null,null,null,null,null,null,null,null,null,null,null,null,null,null,null,16,16,16,16,16,16,null,0,0,0,{"$f":"SUM(L79:AK79)","v":96},1728,1728,0,0,0]
[null,62,"Loader",null,"Vendor #13","Hale",5356332,"2018-10-28","2018-11-02","Yes",{"$f":"VLOOKUP($C80,'C.1 - Rate Sheets'!H:I,2,FALSE)","v":61.14},null,null,null,null,null,null,null,null,null,null,null,null,null,null,null,null,16,16,16,16,16,16,null,0,0,0,{"$f":"SUM(L80:AK80)","v":96},5869.4400000000005,{"$f":"AM80-AO80","v":5869.4400000000005},0,0,0]
[null,null,null,null,null,null,null,null,null,null,null,{"$f":"SUM(L18:L80)","v":14},96,96,96,96,247,320,304,288,288,360,372,384,384,336,208,208,208,208,176,176,176,0,0,0,0,5039,104000.96000000001,104000.96000000001,0,0,0,{"$f":"AO81-AP81-AQ81","v":0},"check (b)"]
[]
[]
[null,null,null,null,null,null,null,null,null,null,null,null,null,null,null,null,null,null,null,null,null,null,null,null,null,null,null,null,null,null,null,null,null,null,null,null,null," "]
[null,"Tickmark Explanation:"]

{"sheet":"D - Lodging","index":8,"n_rows":100,"n_cols":25,"rows_kept":100,"cut":false,"hidden":false,"merged":[[1,1,1,23],[11,15,11,23],[11,1,11,14],[3,1,6,14]]}
[]
[null,"Lodging Charges"]
[]
[null,"Test Plan:  (A) Obtain support of individual charges. (B) Enter Yes/No if receipt is itemized (C) Enter Yes/No if proof of payment has been provided. (D) Ensure charges fall between the dates the vendor was mobilized and the date they arrived.  (E) Ensure charges are prior to the date the vendor arrived home or was released to another utility.  (F) Ensure the location of stay was reasonable (G) Determine the amount(s) to be reviewed, allowed and/or disallowed.  (H) For charges which required further review, document review (include why it was determined to be allowed/disallowed via a tickmark)."]
[]
[]
[]
[null,"Rx","Recalculated."]
[null,"a","Check figure should equal $0.  Cell will appear yellow if discrepancies are noted."]
[]
[null,null,"A",null,null,null,null,null,null,null,null,null,"Rx","B","C","D","E","F","G",null,null,"H"]
[null,"Support Reviewed",null,null,null,null,null,null,null,null,null,null,null,null,null,"Conclusion"]
[null,"#","Type of Support","Support Identifier","Crew","Company","Check In Date","Person","Hotel Name","Location","# of Nights","Total Invoice","$ / Night","Itemized Receipt","Proof of Payment","Reasonable based on Mobilization date(s)","Reasonable based on Demobilization date(s)","Location Reasonable","Conclusion","$ Allowable Charge","$ To Be Reviewed","Reviewed - Allowable $","Reviewed - Unallowable $","Tickmark"]
[null,1,null,null,null,null,null,null,null,null,null,null,{"$f":"L14/K14","v":{"$error":"#DIV/0!"}},null,null,{"$f":"IF(AND(G14>='A - Contractor Summary'!$C$36,G14<='A - Contractor Summary'!$C$38),\"Yes\",IF(G14<'A - Contractor Summary'!$C$36,\"No\",IF(G14>'A - Contractor Summary'!$C$39,\"\",\"\")))","v":"Yes"},{"$f":"IF(OR(P14=\"Yes\",P14=\"No\")*AND(G14<'A - Contractor Summary'!$C$39),\"\",IF(AND(G14>'A - Contractor Summary'!$C$39,G14<'A - Contractor Summary'!$C$42),\"Yes\",IF(G14>'A - Contractor Summary'!$C$42,\"No\",\"Needs Review\")))","v":"Needs Review"},null,{"$f":"IF(AND(R14=\"YES\",O14=\"Yes\",N14=\"Yes\")*OR(P14=\"Yes\",Q14=\"Yes\"),\"Yes\",IF(OR(N14=\"No\",O14=\"No\",P14=\"No\",Q14=\"No\",R14=\"No\"),\"No\",\"Needs Review\"))","v":"Needs Review"},{"$f":"IF(S14=\"Yes\",L14,0)","v":0},{"$f":"IF(S14=\"Needs Review\",L14,0)","v":0}]
[null,2,null,null,null,null,null,null,null,null,null,null,{"$error":"#DIV/0!"},null,null,{"$f":"IF(AND(G15>='A - Contractor Summary'!$C$36,G15<='A - Contractor Summary'!$C$38),\"Yes\",IF(G15<'A - Contractor Summary'!$C$36,\"No\",IF(G15>'A - Contractor Summary'!$C$39,\"\",\"\")))","v":"Yes"},{"$f":"IF(OR(P15=\"Yes\",P15=\"No\")*AND(G15<'A - Contractor Summary'!$C$39),\"\",IF(AND(G15>'A - Contractor Summary'!$C$39,G15<'A - Contractor Summary'!$C$42),\"Yes\",IF(G15>'A - Contractor Summary'!$C$42,\"No\",\"Needs Review\")))","v":"Needs Review"},null,"Needs Review",0,0]
[null,3,null,null,null,null,null,null,null,null,null,null,{"$error":"#DIV/0!"},null,null,{"$f":"IF(AND(G16>='A - Contractor Summary'!$C$36,G16<='A - Contractor Summary'!$C$38),\"Yes\",IF(G16<'A - Contractor Summary'!$C$36,\"No\",IF(G16>'A - Contractor Summary'!$C$39,\"\",\"\")))","v":"Yes"},{"$f":"IF(OR(P16=\"Yes\",P16=\"No\")*AND(G16<'A - Contractor Summary'!$C$39),\"\",IF(AND(G16>'A - Contractor Summary'!$C$39,G16<'A - Contractor Summary'!$C$42),\"Yes\",IF(G16>'A - Contractor Summary'!$C$42,\"No\",\"Needs Review\")))","v":"Needs Review"},null,"Needs Review",0,0]
[null,4,null,null,null,null,null,null,null,null,null,null,{"$error":"#DIV/0!"},null,null,{"$f":"IF(AND(G17>='A - Contractor Summary'!$C$36,G17<='A - Contractor Summary'!$C$38),\"Yes\",IF(G17<'A - Contractor Summary'!$C$36,\"No\",IF(G17>'A - Contractor Summary'!$C$39,\"\",\"\")))","v":"Yes"},{"$f":"IF(OR(P17=\"Yes\",P17=\"No\")*AND(G17<'A - Contractor Summary'!$C$39),\"\",IF(AND(G17>'A - Contractor Summary'!$C$39,G17<'A - Contractor Summary'!$C$42),\"Yes\",IF(G17>'A - Contractor Summary'!$C$42,\"No\",\"Needs Review\")))","v":"Needs Review"},null,"Needs Review",0,0]
[null,5,null,null,null,null,null,null,null,null,null,null,{"$error":"#DIV/0!"},null,null,{"$f":"IF(AND(G18>='A - Contractor Summary'!$C$36,G18<='A - Contractor Summary'!$C$38),\"Yes\",IF(G18<'A - Contractor Summary'!$C$36,\"No\",IF(G18>'A - Contractor Summary'!$C$39,\"\",\"\")))","v":"Yes"},{"$f":"IF(OR(P18=\"Yes\",P18=\"No\")*AND(G18<'A - Contractor Summary'!$C$39),\"\",IF(AND(G18>'A - Contractor Summary'!$C$39,G18<'A - Contractor Summary'!$C$42),\"Yes\",IF(G18>'A - Contractor Summary'!$C$42,\"No\",\"Needs Review\")))","v":"Needs Review"},null,"Needs Review",0,0]
[null,6,null,null,null,null,null,null,null,null,null,null,{"$error":"#DIV/0!"},null,null,{"$f":"IF(AND(G19>='A - Contractor Summary'!$C$36,G19<='A - Contractor Summary'!$C$38),\"Yes\",IF(G19<'A - Contractor Summary'!$C$36,\"No\",IF(G19>'A - Contractor Summary'!$C$39,\"\",\"\")))","v":"Yes"},{"$f":"IF(OR(P19=\"Yes\",P19=\"No\")*AND(G19<'A - Contractor Summary'!$C$39),\"\",IF(AND(G19>'A - Contractor Summary'!$C$39,G19<'A - Contractor Summary'!$C$42),\"Yes\",IF(G19>'A - Contractor Summary'!$C$42,\"No\",\"Needs Review\")))","v":"Needs Review"},null,"Needs Review",0,0]
[null,7,null,null,null,null,null,null,null,null,null,null,{"$error":"#DIV/0!"},null,null,{"$f":"IF(AND(G20>='A - Contractor Summary'!$C$36,G20<='A - Contractor Summary'!$C$38),\"Yes\",IF(G20<'A - Contractor Summary'!$C$36,\"No\",IF(G20>'A - Contractor Summary'!$C$39,\"\",\"\")))","v":"Yes"},{"$f":"IF(OR(P20=\"Yes\",P20=\"No\")*AND(G20<'A - Contractor Summary'!$C$39),\"\",IF(AND(G20>'A - Contractor Summary'!$C$39,G20<'A - Contractor Summary'!$C$42),\"Yes\",IF(G20>'A - Contractor Summary'!$C$42,\"No\",\"Needs Review\")))","v":"Needs Review"},null,"Needs Review",0,0]
[null,8,null,null,null,null,null,null,null,null,null,null,{"$error":"#DIV/0!"},null,null,{"$f":"IF(AND(G21>='A - Contractor Summary'!$C$36,G21<='A - Contractor Summary'!$C$38),\"Yes\",IF(G21<'A - Contractor Summary'!$C$36,\"No\",IF(G21>'A - Contractor Summary'!$C$39,\"\",\"\")))","v":"Yes"},{"$f":"IF(OR(P21=\"Yes\",P21=\"No\")*AND(G21<'A - Contractor Summary'!$C$39),\"\",IF(AND(G21>'A - Contractor Summary'!$C$39,G21<'A - Contractor Summary'!$C$42),\"Yes\",IF(G21>'A - Contractor Summary'!$C$42,\"No\",\"Needs Review\")))","v":"Needs Review"},null,"Needs Review",0,0]
[null,9,null,null,null,null,null,null,null,null,null,null,{"$error":"#DIV/0!"},null,null,{"$f":"IF(AND(G22>='A - Contractor Summary'!$C$36,G22<='A - Contractor Summary'!$C$38),\"Yes\",IF(G22<'A - Contractor Summary'!$C$36,\"No\",IF(G22>'A - Contractor Summary'!$C$39,\"\",\"\")))","v":"Yes"},{"$f":"IF(OR(P22=\"Yes\",P22=\"No\")*AND(G22<'A - Contractor Summary'!$C$39),\"\",IF(AND(G22>'A - Contractor Summary'!$C$39,G22<'A - Contractor Summary'!$C$42),\"Yes\",IF(G22>'A - Contractor Summary'!$C$42,\"No\",\"Needs Review\")))","v":"Needs Review"},null,"Needs Review",0,0]
[null,10,null,null,null,null,null,null,null,null,null,null,{"$error":"#DIV/0!"},null,null,{"$f":"IF(AND(G23>='A - Contractor Summary'!$C$36,G23<='A - Contractor Summary'!$C$38),\"Yes\",IF(G23<'A - Contractor Summary'!$C$36,\"No\",IF(G23>'A - Contractor Summary'!$C$39,\"\",\"\")))","v":"Yes"},{"$f":"IF(OR(P23=\"Yes\",P23=\"No\")*AND(G23<'A - Contractor Summary'!$C$39),\"\",IF(AND(G23>'A - Contractor Summary'!$C$39,G23<'A - Contractor Summary'!$C$42),\"Yes\",IF(G23>'A - Contractor Summary'!$C$42,\"No\",\"Needs Review\")))","v":"Needs Review"},null,"Needs Review",0,0]
[null,11,null,null,null,null,null,null,null,null,null,null,{"$error":"#DIV/0!"},null,null,{"$f":"IF(AND(G24>='A - Contractor Summary'!$C$36,G24<='A - Contractor Summary'!$C$38),\"Yes\",IF(G24<'A - Contractor Summary'!$C$36,\"No\",IF(G24>'A - Contractor Summary'!$C$39,\"\",\"\")))","v":"Yes"},{"$f":"IF(OR(P24=\"Yes\",P24=\"No\")*AND(G24<'A - Contractor Summary'!$C$39),\"\",IF(AND(G24>'A - Contractor Summary'!$C$39,G24<'A - Contractor Summary'!$C$42),\"Yes\",IF(G24>'A - Contractor Summary'!$C$42,\"No\",\"Needs Review\")))","v":"Needs Review"},null,"Needs Review",0,0]
[null,12,null,null,null,null,null,null,null,null,null,null,{"$error":"#DIV/0!"},null,null,{"$f":"IF(AND(G25>='A - Contractor Summary'!$C$36,G25<='A - Contractor Summary'!$C$38),\"Yes\",IF(G25<'A - Contractor Summary'!$C$36,\"No\",IF(G25>'A - Contractor Summary'!$C$39,\"\",\"\")))","v":"Yes"},{"$f":"IF(OR(P25=\"Yes\",P25=\"No\")*AND(G25<'A - Contractor Summary'!$C$39),\"\",IF(AND(G25>'A - Contractor Summary'!$C$39,G25<'A - Contractor Summary'!$C$42),\"Yes\",IF(G25>'A - Contractor Summary'!$C$42,\"No\",\"Needs Review\")))","v":"Needs Review"},null,"Needs Review",0,0]
[null,13,null,null,null,null,null,null,null,null,null,null,{"$error":"#DIV/0!"},null,null,{"$f":"IF(AND(G26>='A - Contractor Summary'!$C$36,G26<='A - Contractor Summary'!$C$38),\"Yes\",IF(G26<'A - Contractor Summary'!$C$36,\"No\",IF(G26>'A - Contractor Summary'!$C$39,\"\",\"\")))","v":"Yes"},{"$f":"IF(OR(P26=\"Yes\",P26=\"No\")*AND(G26<'A - Contractor Summary'!$C$39),\"\",IF(AND(G26>'A - Contractor Summary'!$C$39,G26<'A - Contractor Summary'!$C$42),\"Yes\",IF(G26>'A - Contractor Summary'!$C$42,\"No\",\"Needs Review\")))","v":"Needs Review"},null,"Needs Review",0,0]
[null,14,null,null,null,null,null,null,null,null,null,null,{"$error":"#DIV/0!"},null,null,{"$f":"IF(AND(G27>='A - Contractor Summary'!$C$36,G27<='A - Contractor Summary'!$C$38),\"Yes\",IF(G27<'A - Contractor Summary'!$C$36,\"No\",IF(G27>'A - Contractor Summary'!$C$39,\"\",\"\")))","v":"Yes"},{"$f":"IF(OR(P27=\"Yes\",P27=\"No\")*AND(G27<'A - Contractor Summary'!$C$39),\"\",IF(AND(G27>'A - Contractor Summary'!$C$39,G27<'A - Contractor Summary'!$C$42),\"Yes\",IF(G27>'A - Contractor Summary'!$C$42,\"No\",\"Needs Review\")))","v":"Needs Review"},null,"Needs Review",0,0]
[null,15,null,null,null,null,null,null,null,null,null,null,{"$error":"#DIV/0!"},null,null,{"$f":"IF(AND(G28>='A - Contractor Summary'!$C$36,G28<='A - Contractor Summary'!$C$38),\"Yes\",IF(G28<'A - Contractor Summary'!$C$36,\"No\",IF(G28>'A - Contractor Summary'!$C$39,\"\",\"\")))","v":"Yes"},{"$f":"IF(OR(P28=\"Yes\",P28=\"No\")*AND(G28<'A - Contractor Summary'!$C$39),\"\",IF(AND(G28>'A - Contractor Summary'!$C$39,G28<'A - Contractor Summary'!$C$42),\"Yes\",IF(G28>'A - Contractor Summary'!$C$42,\"No\",\"Needs Review\")))","v":"Needs Review"},null,"Needs Review",0,0]
[null,16,null,null,null,null,null,null,null,null,null,null,{"$error":"#DIV/0!"},null,null,{"$f":"IF(AND(G29>='A - Contractor Summary'!$C$36,G29<='A - Contractor Summary'!$C$38),\"Yes\",IF(G29<'A - Contractor Summary'!$C$36,\"No\",IF(G29>'A - Contractor Summary'!$C$39,\"\",\"\")))","v":"Yes"},{"$f":"IF(OR(P29=\"Yes\",P29=\"No\")*AND(G29<'A - Contractor Summary'!$C$39),\"\",IF(AND(G29>'A - Contractor Summary'!$C$39,G29<'A - Contractor Summary'!$C$42),\"Yes\",IF(G29>'A - Contractor Summary'!$C$42,\"No\",\"Needs Review\")))","v":"Needs Review"},null,"Needs Review",0,0]
[null,17,null,null,null,null,null,null,null,null,null,null,{"$error":"#DIV/0!"},null,null,{"$f":"IF(AND(G30>='A - Contractor Summary'!$C$36,G30<='A - Contractor Summary'!$C$38),\"Yes\",IF(G30<'A - Contractor Summary'!$C$36,\"No\",IF(G30>'A - Contractor Summary'!$C$39,\"\",\"\")))","v":"Yes"},{"$f":"IF(OR(P30=\"Yes\",P30=\"No\")*AND(G30<'A - Contractor Summary'!$C$39),\"\",IF(AND(G30>'A - Contractor Summary'!$C$39,G30<'A - Contractor Summary'!$C$42),\"Yes\",IF(G30>'A - Contractor Summary'!$C$42,\"No\",\"Needs Review\")))","v":"Needs Review"},null,"Needs Review",0,0]
[null,18,null,null,null,null,null,null,null,null,null,null,{"$error":"#DIV/0!"},null,null,{"$f":"IF(AND(G31>='A - Contractor Summary'!$C$36,G31<='A - Contractor Summary'!$C$38),\"Yes\",IF(G31<'A - Contractor Summary'!$C$36,\"No\",IF(G31>'A - Contractor Summary'!$C$39,\"\",\"\")))","v":"Yes"},{"$f":"IF(OR(P31=\"Yes\",P31=\"No\")*AND(G31<'A - Contractor Summary'!$C$39),\"\",IF(AND(G31>'A - Contractor Summary'!$C$39,G31<'A - Contractor Summary'!$C$42),\"Yes\",IF(G31>'A - Contractor Summary'!$C$42,\"No\",\"Needs Review\")))","v":"Needs Review"},null,"Needs Review",0,0]
[null,19,null,null,null,null,null,null,null,null,null,null,{"$error":"#DIV/0!"},null,null,{"$f":"IF(AND(G32>='A - Contractor Summary'!$C$36,G32<='A - Contractor Summary'!$C$38),\"Yes\",IF(G32<'A - Contractor Summary'!$C$36,\"No\",IF(G32>'A - Contractor Summary'!$C$39,\"\",\"\")))","v":"Yes"},{"$f":"IF(OR(P32=\"Yes\",P32=\"No\")*AND(G32<'A - Contractor Summary'!$C$39),\"\",IF(AND(G32>'A - Contractor Summary'!$C$39,G32<'A - Contractor Summary'!$C$42),\"Yes\",IF(G32>'A - Contractor Summary'!$C$42,\"No\",\"Needs Review\")))","v":"Needs Review"},null,"Needs Review",0,0]
[null,20,null,null,null,null,null,null,null,null,null,null,{"$error":"#DIV/0!"},null,null,{"$f":"IF(AND(G33>='A - Contractor Summary'!$C$36,G33<='A - Contractor Summary'!$C$38),\"Yes\",IF(G33<'A - Contractor Summary'!$C$36,\"No\",IF(G33>'A - Contractor Summary'!$C$39,\"\",\"\")))","v":"Yes"},{"$f":"IF(OR(P33=\"Yes\",P33=\"No\")*AND(G33<'A - Contractor Summary'!$C$39),\"\",IF(AND(G33>'A - Contractor Summary'!$C$39,G33<'A - Contractor Summary'!$C$42),\"Yes\",IF(G33>'A - Contractor Summary'!$C$42,\"No\",\"Needs Review\")))","v":"Needs Review"},null,"Needs Review",0,0]
[null,21,null,null,null,null,null,null,null,null,null,null,{"$error":"#DIV/0!"},null,null,{"$f":"IF(AND(G34>='A - Contractor Summary'!$C$36,G34<='A - Contractor Summary'!$C$38),\"Yes\",IF(G34<'A - Contractor Summary'!$C$36,\"No\",IF(G34>'A - Contractor Summary'!$C$39,\"\",\"\")))","v":"Yes"},{"$f":"IF(OR(P34=\"Yes\",P34=\"No\")*AND(G34<'A - Contractor Summary'!$C$39),\"\",IF(AND(G34>'A - Contractor Summary'!$C$39,G34<'A - Contractor Summary'!$C$42),\"Yes\",IF(G34>'A - Contractor Summary'!$C$42,\"No\",\"Needs Review\")))","v":"Needs Review"},null,"Needs Review",0,0]
[null,22,null,null,null,null,null,null,null,null,null,null,{"$error":"#DIV/0!"},null,null,{"$f":"IF(AND(G35>='A - Contractor Summary'!$C$36,G35<='A - Contractor Summary'!$C$38),\"Yes\",IF(G35<'A - Contractor Summary'!$C$36,\"No\",IF(G35>'A - Contractor Summary'!$C$39,\"\",\"\")))","v":"Yes"},{"$f":"IF(OR(P35=\"Yes\",P35=\"No\")*AND(G35<'A - Contractor Summary'!$C$39),\"\",IF(AND(G35>'A - Contractor Summary'!$C$39,G35<'A - Contractor Summary'!$C$42),\"Yes\",IF(G35>'A - Contractor Summary'!$C$42,\"No\",\"Needs Review\")))","v":"Needs Review"},null,"Needs Review",0,0]
[null,23,null,null,null,null,null,null,null,null,null,null,{"$error":"#DIV/0!"},null,null,{"$f":"IF(AND(G36>='A - Contractor Summary'!$C$36,G36<='A - Contractor Summary'!$C$38),\"Yes\",IF(G36<'A - Contractor Summary'!$C$36,\"No\",IF(G36>'A - Contractor Summary'!$C$39,\"\",\"\")))","v":"Yes"},{"$f":"IF(OR(P36=\"Yes\",P36=\"No\")*AND(G36<'A - Contractor Summary'!$C$39),\"\",IF(AND(G36>'A - Contractor Summary'!$C$39,G36<'A - Contractor Summary'!$C$42),\"Yes\",IF(G36>'A - Contractor Summary'!$C$42,\"No\",\"Needs Review\")))","v":"Needs Review"},null,"Needs Review",0,0]
[null,24,null,null,null,null,null,null,null,null,null,null,{"$error":"#DIV/0!"},null,null,{"$f":"IF(AND(G37>='A - Contractor Summary'!$C$36,G37<='A - Contractor Summary'!$C$38),\"Yes\",IF(G37<'A - Contractor Summary'!$C$36,\"No\",IF(G37>'A - Contractor Summary'!$C$39,\"\",\"\")))","v":"Yes"},{"$f":"IF(OR(P37=\"Yes\",P37=\"No\")*AND(G37<'A - Contractor Summary'!$C$39),\"\",IF(AND(G37>'A - Contractor Summary'!$C$39,G37<'A - Contractor Summary'!$C$42),\"Yes\",IF(G37>'A - Contractor Summary'!$C$42,\"No\",\"Needs Review\")))","v":"Needs Review"},null,"Needs Review",0,0]
[null,25,null,null,null,null,null,null,null,null,null,null,{"$error":"#DIV/0!"},null,null,{"$f":"IF(AND(G38>='A - Contractor Summary'!$C$36,G38<='A - Contractor Summary'!$C$38),\"Yes\",IF(G38<'A - Contractor Summary'!$C$36,\"No\",IF(G38>'A - Contractor Summary'!$C$39,\"\",\"\")))","v":"Yes"},{"$f":"IF(OR(P38=\"Yes\",P38=\"No\")*AND(G38<'A - Contractor Summary'!$C$39),\"\",IF(AND(G38>'A - Contractor Summary'!$C$39,G38<'A - Contractor Summary'!$C$42),\"Yes\",IF(G38>'A - Contractor Summary'!$C$42,\"No\",\"Needs Review\")))","v":"Needs Review"},null,"Needs Review",0,0]
[null,26,null,null,null,null,null,null,null,null,null,null,{"$error":"#DIV/0!"},null,null,{"$f":"IF(AND(G39>='A - Contractor Summary'!$C$36,G39<='A - Contractor Summary'!$C$38),\"Yes\",IF(G39<'A - Contractor Summary'!$C$36,\"No\",IF(G39>'A - Contractor Summary'!$C$39,\"\",\"\")))","v":"Yes"},{"$f":"IF(OR(P39=\"Yes\",P39=\"No\")*AND(G39<'A - Contractor Summary'!$C$39),\"\",IF(AND(G39>'A - Contractor Summary'!$C$39,G39<'A - Contractor Summary'!$C$42),\"Yes\",IF(G39>'A - Contractor Summary'!$C$42,\"No\",\"Needs Review\")))","v":"Needs Review"},null,"Needs Review",0,0]
[null,27,null,null,null,null,null,null,null,null,null,null,{"$error":"#DIV/0!"},null,null,{"$f":"IF(AND(G40>='A - Contractor Summary'!$C$36,G40<='A - Contractor Summary'!$C$38),\"Yes\",IF(G40<'A - Contractor Summary'!$C$36,\"No\",IF(G40>'A - Contractor Summary'!$C$39,\"\",\"\")))","v":"Yes"},{"$f":"IF(OR(P40=\"Yes\",P40=\"No\")*AND(G40<'A - Contractor Summary'!$C$39),\"\",IF(AND(G40>'A - Contractor Summary'!$C$39,G40<'A - Contractor Summary'!$C$42),\"Yes\",IF(G40>'A - Contractor Summary'!$C$42,\"No\",\"Needs Review\")))","v":"Needs Review"},null,"Needs Review",0,0]
[null,28,null,null,null,null,null,null,null,null,null,null,{"$error":"#DIV/0!"},null,null,{"$f":"IF(AND(G41>='A - Contractor Summary'!$C$36,G41<='A - Contractor Summary'!$C$38),\"Yes\",IF(G41<'A - Contractor Summary'!$C$36,\"No\",IF(G41>'A - Contractor Summary'!$C$39,\"\",\"\")))","v":"Yes"},{"$f":"IF(OR(P41=\"Yes\",P41=\"No\")*AND(G41<'A - Contractor Summary'!$C$39),\"\",IF(AND(G41>'A - Contractor Summary'!$C$39,G41<'A - Contractor Summary'!$C$42),\"Yes\",IF(G41>'A - Contractor Summary'!$C$42,\"No\",\"Needs Review\")))","v":"Needs Review"},null,"Needs Review",0,0]
[null,29,null,null,null,null,null,null,null,null,null,null,{"$error":"#DIV/0!"},null,null,{"$f":"IF(AND(G42>='A - Contractor Summary'!$C$36,G42<='A - Contractor Summary'!$C$38),\"Yes\",IF(G42<'A - Contractor Summary'!$C$36,\"No\",IF(G42>'A - Contractor Summary'!$C$39,\"\",\"\")))","v":"Yes"},{"$f":"IF(OR(P42=\"Yes\",P42=\"No\")*AND(G42<'A - Contractor Summary'!$C$39),\"\",IF(AND(G42>'A - Contractor Summary'!$C$39,G42<'A - Contractor Summary'!$C$42),\"Yes\",IF(G42>'A - Contractor Summary'!$C$42,\"No\",\"Needs Review\")))","v":"Needs Review"},null,"Needs Review",0,0]
[null,30,null,null,null,null,null,null,null,null,null,null,{"$error":"#DIV/0!"},null,null,{"$f":"IF(AND(G43>='A - Contractor Summary'!$C$36,G43<='A - Contractor Summary'!$C$38),\"Yes\",IF(G43<'A - Contractor Summary'!$C$36,\"No\",IF(G43>'A - Contractor Summary'!$C$39,\"\",\"\")))","v":"Yes"},{"$f":"IF(OR(P43=\"Yes\",P43=\"No\")*AND(G43<'A - Contractor Summary'!$C$39),\"\",IF(AND(G43>'A - Contractor Summary'!$C$39,G43<'A - Contractor Summary'!$C$42),\"Yes\",IF(G43>'A - Contractor Summary'!$C$42,\"No\",\"Needs Review\")))","v":"Needs Review"},null,"Needs Review",0,0]
[null,31,null,null,null,null,null,null,null,null,null,null,{"$error":"#DIV/0!"},null,null,{"$f":"IF(AND(G44>='A - Contractor Summary'!$C$36,G44<='A - Contractor Summary'!$C$38),\"Yes\",IF(G44<'A - Contractor Summary'!$C$36,\"No\",IF(G44>'A - Contractor Summary'!$C$39,\"\",\"\")))","v":"Yes"},{"$f":"IF(OR(P44=\"Yes\",P44=\"No\")*AND(G44<'A - Contractor Summary'!$C$39),\"\",IF(AND(G44>'A - Contractor Summary'!$C$39,G44<'A - Contractor Summary'!$C$42),\"Yes\",IF(G44>'A - Contractor Summary'!$C$42,\"No\",\"Needs Review\")))","v":"Needs Review"},null,"Needs Review",0,0]
[null,32,null,null,null,null,null,null,null,null,null,null,{"$error":"#DIV/0!"},null,null,{"$f":"IF(AND(G45>='A - Contractor Summary'!$C$36,G45<='A - Contractor Summary'!$C$38),\"Yes\",IF(G45<'A - Contractor Summary'!$C$36,\"No\",IF(G45>'A - Contractor Summary'!$C$39,\"\",\"\")))","v":"Yes"},{"$f":"IF(OR(P45=\"Yes\",P45=\"No\")*AND(G45<'A - Contractor Summary'!$C$39),\"\",IF(AND(G45>'A - Contractor Summary'!$C$39,G45<'A - Contractor Summary'!$C$42),\"Yes\",IF(G45>'A - Contractor Summary'!$C$42,\"No\",\"Needs Review\")))","v":"Needs Review"},null,"Needs Review",0,0]
[null,33,null,null,null,null,null,null,null,null,null,null,{"$f":"L46/K46","v":{"$error":"#DIV/0!"}},null,null,{"$f":"IF(AND(G46>='A - Contractor Summary'!$C$36,G46<='A - Contractor Summary'!$C$38),\"Yes\",IF(G46<'A - Contractor Summary'!$C$36,\"No\",IF(G46>'A - Contractor Summary'!$C$39,\"\",\"\")))","v":"Yes"},{"$f":"IF(OR(P46=\"Yes\",P46=\"No\")*AND(G46<'A - Contractor Summary'!$C$39),\"\",IF(AND(G46>'A - Contractor Summary'!$C$39,G46<'A - Contractor Summary'!$C$42),\"Yes\",IF(G46>'A - Contractor Summary'!$C$42,\"No\",\"Needs Review\")))","v":"Needs Review"},null,{"$f":"IF(AND(R46=\"YES\",O46=\"Yes\",N46=\"Yes\")*OR(P46=\"Yes\",Q46=\"Yes\"),\"Yes\",IF(OR(N46=\"No\",O46=\"No\",P46=\"No\",Q46=\"No\",R46=\"No\"),\"No\",\"Needs Review\"))","v":"Needs Review"},{"$f":"IF(S46=\"Yes\",L46,0)","v":0},{"$f":"IF(S46=\"Needs Review\",L46,0)","v":0}]
[null,34,null,null,null,null,null,null,null,null,null,null,{"$error":"#DIV/0!"},null,null,{"$f":"IF(AND(G47>='A - Contractor Summary'!$C$36,G47<='A - Contractor Summary'!$C$38),\"Yes\",IF(G47<'A - Contractor Summary'!$C$36,\"No\",IF(G47>'A - Contractor Summary'!$C$39,\"\",\"\")))","v":"Yes"},{"$f":"IF(OR(P47=\"Yes\",P47=\"No\")*AND(G47<'A - Contractor Summary'!$C$39),\"\",IF(AND(G47>'A - Contractor Summary'!$C$39,G47<'A - Contractor Summary'!$C$42),\"Yes\",IF(G47>'A - Contractor Summary'!$C$42,\"No\",\"Needs Review\")))","v":"Needs Review"},null,"Needs Review",0,0]
[null,35,null,null,null,null,null,null,null,null,null,null,{"$error":"#DIV/0!"},null,null,{"$f":"IF(AND(G48>='A - Contractor Summary'!$C$36,G48<='A - Contractor Summary'!$C$38),\"Yes\",IF(G48<'A - Contractor Summary'!$C$36,\"No\",IF(G48>'A - Contractor Summary'!$C$39,\"\",\"\")))","v":"Yes"},{"$f":"IF(OR(P48=\"Yes\",P48=\"No\")*AND(G48<'A - Contractor Summary'!$C$39),\"\",IF(AND(G48>'A - Contractor Summary'!$C$39,G48<'A - Contractor Summary'!$C$42),\"Yes\",IF(G48>'A - Contractor Summary'!$C$42,\"No\",\"Needs Review\")))","v":"Needs Review"},null,"Needs Review",0,0]
[null,36,null,null,null,null,null,null,null,null,null,null,{"$error":"#DIV/0!"},null,null,{"$f":"IF(AND(G49>='A - Contractor Summary'!$C$36,G49<='A - Contractor Summary'!$C$38),\"Yes\",IF(G49<'A - Contractor Summary'!$C$36,\"No\",IF(G49>'A - Contractor Summary'!$C$39,\"\",\"\")))","v":"Yes"},{"$f":"IF(OR(P49=\"Yes\",P49=\"No\")*AND(G49<'A - Contractor Summary'!$C$39),\"\",IF(AND(G49>'A - Contractor Summary'!$C$39,G49<'A - Contractor Summary'!$C$42),\"Yes\",IF(G49>'A - Contractor Summary'!$C$42,\"No\",\"Needs Review\")))","v":"Needs Review"},null,"Needs Review",0,0]
[null,37,null,null,null,null,null,null,null,null,null,null,{"$error":"#DIV/0!"},null,null,{"$f":"IF(AND(G50>='A - Contractor Summary'!$C$36,G50<='A - Contractor Summary'!$C$38),\"Yes\",IF(G50<'A - Contractor Summary'!$C$36,\"No\",IF(G50>'A - Contractor Summary'!$C$39,\"\",\"\")))","v":"Yes"},{"$f":"IF(OR(P50=\"Yes\",P50=\"No\")*AND(G50<'A - Contractor Summary'!$C$39),\"\",IF(AND(G50>'A - Contractor Summary'!$C$39,G50<'A - Contractor Summary'!$C$42),\"Yes\",IF(G50>'A - Contractor Summary'!$C$42,\"No\",\"Needs Review\")))","v":"Needs Review"},null,"Needs Review",0,0]
[null,38,null,null,null,null,null,null,null,null,null,null,{"$error":"#DIV/0!"},null,null,{"$f":"IF(AND(G51>='A - Contractor Summary'!$C$36,G51<='A - Contractor Summary'!$C$38),\"Yes\",IF(G51<'A - Contractor Summary'!$C$36,\"No\",IF(G51>'A - Contractor Summary'!$C$39,\"\",\"\")))","v":"Yes"},{"$f":"IF(OR(P51=\"Yes\",P51=\"No\")*AND(G51<'A - Contractor Summary'!$C$39),\"\",IF(AND(G51>'A - Contractor Summary'!$C$39,G51<'A - Contractor Summary'!$C$42),\"Yes\",IF(G51>'A - Contractor Summary'!$C$42,\"No\",\"Needs Review\")))","v":"Needs Review"},null,"Needs Review",0,0]
[null,39,null,null,null,null,null,null,null,null,null,null,{"$error":"#DIV/0!"},null,null,{"$f":"IF(AND(G52>='A - Contractor Summary'!$C$36,G52<='A - Contractor Summary'!$C$38),\"Yes\",IF(G52<'A - Contractor Summary'!$C$36,\"No\",IF(G52>'A - Contractor Summary'!$C$39,\"\",\"\")))","v":"Yes"},{"$f":"IF(OR(P52=\"Yes\",P52=\"No\")*AND(G52<'A - Contractor Summary'!$C$39),\"\",IF(AND(G52>'A - Contractor Summary'!$C$39,G52<'A - Contractor Summary'!$C$42),\"Yes\",IF(G52>'A - Contractor Summary'!$C$42,\"No\",\"Needs Review\")))","v":"Needs Review"},null,"Needs Review",0,0]
[null,40,null,null,null,null,null,null,null,null,null,null,{"$error":"#DIV/0!"},null,null,{"$f":"IF(AND(G53>='A - Contractor Summary'!$C$36,G53<='A - Contractor Summary'!$C$38),\"Yes\",IF(G53<'A - Contractor Summary'!$C$36,\"No\",IF(G53>'A - Contractor Summary'!$C$39,\"\",\"\")))","v":"Yes"},{"$f":"IF(OR(P53=\"Yes\",P53=\"No\")*AND(G53<'A - Contractor Summary'!$C$39),\"\",IF(AND(G53>'A - Contractor Summary'!$C$39,G53<'A - Contractor Summary'!$C$42),\"Yes\",IF(G53>'A - Contractor Summary'!$C$42,\"No\",\"Needs Review\")))","v":"Needs Review"},null,"Needs Review",0,0]
[null,41,null,null,null,null,null,null,null,null,null,null,{"$error":"#DIV/0!"},null,null,{"$f":"IF(AND(G54>='A - Contractor Summary'!$C$36,G54<='A - Contractor Summary'!$C$38),\"Yes\",IF(G54<'A - Contractor Summary'!$C$36,\"No\",IF(G54>'A - Contractor Summary'!$C$39,\"\",\"\")))","v":"Yes"},{"$f":"IF(OR(P54=\"Yes\",P54=\"No\")*AND(G54<'A - Contractor Summary'!$C$39),\"\",IF(AND(G54>'A - Contractor Summary'!$C$39,G54<'A - Contractor Summary'!$C$42),\"Yes\",IF(G54>'A - Contractor Summary'!$C$42,\"No\",\"Needs Review\")))","v":"Needs Review"},null,"Needs Review",0,0]
[null,42,null,null,null,null,null,null,null,null,null,null,{"$error":"#DIV/0!"},null,null,{"$f":"IF(AND(G55>='A - Contractor Summary'!$C$36,G55<='A - Contractor Summary'!$C$38),\"Yes\",IF(G55<'A - Contractor Summary'!$C$36,\"No\",IF(G55>'A - Contractor Summary'!$C$39,\"\",\"\")))","v":"Yes"},{"$f":"IF(OR(P55=\"Yes\",P55=\"No\")*AND(G55<'A - Contractor Summary'!$C$39),\"\",IF(AND(G55>'A - Contractor Summary'!$C$39,G55<'A - Contractor Summary'!$C$42),\"Yes\",IF(G55>'A - Contractor Summary'!$C$42,\"No\",\"Needs Review\")))","v":"Needs Review"},null,"Needs Review",0,0]
[null,43,null,null,null,null,null,null,null,null,null,null,{"$error":"#DIV/0!"},null,null,{"$f":"IF(AND(G56>='A - Contractor Summary'!$C$36,G56<='A - Contractor Summary'!$C$38),\"Yes\",IF(G56<'A - Contractor Summary'!$C$36,\"No\",IF(G56>'A - Contractor Summary'!$C$39,\"\",\"\")))","v":"Yes"},{"$f":"IF(OR(P56=\"Yes\",P56=\"No\")*AND(G56<'A - Contractor Summary'!$C$39),\"\",IF(AND(G56>'A - Contractor Summary'!$C$39,G56<'A - Contractor Summary'!$C$42),\"Yes\",IF(G56>'A - Contractor Summary'!$C$42,\"No\",\"Needs Review\")))","v":"Needs Review"},null,"Needs Review",0,0]
[null,44,null,null,null,null,null,null,null,null,null,null,{"$error":"#DIV/0!"},null,null,{"$f":"IF(AND(G57>='A - Contractor Summary'!$C$36,G57<='A - Contractor Summary'!$C$38),\"Yes\",IF(G57<'A - Contractor Summary'!$C$36,\"No\",IF(G57>'A - Contractor Summary'!$C$39,\"\",\"\")))","v":"Yes"},{"$f":"IF(OR(P57=\"Yes\",P57=\"No\")*AND(G57<'A - Contractor Summary'!$C$39),\"\",IF(AND(G57>'A - Contractor Summary'!$C$39,G57<'A - Contractor Summary'!$C$42),\"Yes\",IF(G57>'A - Contractor Summary'!$C$42,\"No\",\"Needs Review\")))","v":"Needs Review"},null,"Needs Review",0,0]
[null,45,null,null,null,null,null,null,null,null,null,null,{"$error":"#DIV/0!"},null,null,{"$f":"IF(AND(G58>='A - Contractor Summary'!$C$36,G58<='A - Contractor Summary'!$C$38),\"Yes\",IF(G58<'A - Contractor Summary'!$C$36,\"No\",IF(G58>'A - Contractor Summary'!$C$39,\"\",\"\")))","v":"Yes"},{"$f":"IF(OR(P58=\"Yes\",P58=\"No\")*AND(G58<'A - Contractor Summary'!$C$39),\"\",IF(AND(G58>'A - Contractor Summary'!$C$39,G58<'A - Contractor Summary'!$C$42),\"Yes\",IF(G58>'A - Contractor Summary'!$C$42,\"No\",\"Needs Review\")))","v":"Needs Review"},null,"Needs Review",0,0]
[null,46,null,null,null,null,null,null,null,null,null,null,{"$error":"#DIV/0!"},null,null,{"$f":"IF(AND(G59>='A - Contractor Summary'!$C$36,G59<='A - Contractor Summary'!$C$38),\"Yes\",IF(G59<'A - Contractor Summary'!$C$36,\"No\",IF(G59>'A - Contractor Summary'!$C$39,\"\",\"\")))","v":"Yes"},{"$f":"IF(OR(P59=\"Yes\",P59=\"No\")*AND(G59<'A - Contractor Summary'!$C$39),\"\",IF(AND(G59>'A - Contractor Summary'!$C$39,G59<'A - Contractor Summary'!$C$42),\"Yes\",IF(G59>'A - Contractor Summary'!$C$42,\"No\",\"Needs Review\")))","v":"Needs Review"},null,"Needs Review",0,0]
[null,47,null,null,null,null,null,null,null,null,null,null,{"$error":"#DIV/0!"},null,null,{"$f":"IF(AND(G60>='A - Contractor Summary'!$C$36,G60<='A - Contractor Summary'!$C$38),\"Yes\",IF(G60<'A - Contractor Summary'!$C$36,\"No\",IF(G60>'A - Contractor Summary'!$C$39,\"\",\"\")))","v":"Yes"},{"$f":"IF(OR(P60=\"Yes\",P60=\"No\")*AND(G60<'A - Contractor Summary'!$C$39),\"\",IF(AND(G60>'A - Contractor Summary'!$C$39,G60<'A - Contractor Summary'!$C$42),\"Yes\",IF(G60>'A - Contractor Summary'!$C$42,\"No\",\"Needs Review\")))","v":"Needs Review"},null,"Needs Review",0,0]
[null,48,null,null,null,null,null,null,null,null,null,null,{"$error":"#DIV/0!"},null,null,{"$f":"IF(AND(G61>='A - Contractor Summary'!$C$36,G61<='A - Contractor Summary'!$C$38),\"Yes\",IF(G61<'A - Contractor Summary'!$C$36,\"No\",IF(G61>'A - Contractor Summary'!$C$39,\"\",\"\")))","v":"Yes"},{"$f":"IF(OR(P61=\"Yes\",P61=\"No\")*AND(G61<'A - Contractor Summary'!$C$39),\"\",IF(AND(G61>'A - Contractor Summary'!$C$39,G61<'A - Contractor Summary'!$C$42),\"Yes\",IF(G61>'A - Contractor Summary'!$C$42,\"No\",\"Needs Review\")))","v":"Needs Review"},null,"Needs Review",0,0]
[null,49,null,null,null,null,null,null,null,null,null,null,{"$error":"#DIV/0!"},null,null,{"$f":"IF(AND(G62>='A - Contractor Summary'!$C$36,G62<='A - Contractor Summary'!$C$38),\"Yes\",IF(G62<'A - Contractor Summary'!$C$36,\"No\",IF(G62>'A - Contractor Summary'!$C$39,\"\",\"\")))","v":"Yes"},{"$f":"IF(OR(P62=\"Yes\",P62=\"No\")*AND(G62<'A - Contractor Summary'!$C$39),\"\",IF(AND(G62>'A - Contractor Summary'!$C$39,G62<'A - Contractor Summary'!$C$42),\"Yes\",IF(G62>'A - Contractor Summary'!$C$42,\"No\",\"Needs Review\")))","v":"Needs Review"},null,"Needs Review",0,0]
[null,50,null,null,null,null,null,null,null,null,null,null,{"$error":"#DIV/0!"},null,null,{"$f":"IF(AND(G63>='A - Contractor Summary'!$C$36,G63<='A - Contractor Summary'!$C$38),\"Yes\",IF(G63<'A - Contractor Summary'!$C$36,\"No\",IF(G63>'A - Contractor Summary'!$C$39,\"\",\"\")))","v":"Yes"},{"$f":"IF(OR(P63=\"Yes\",P63=\"No\")*AND(G63<'A - Contractor Summary'!$C$39),\"\",IF(AND(G63>'A - Contractor Summary'!$C$39,G63<'A - Contractor Summary'!$C$42),\"Yes\",IF(G63>'A - Contractor Summary'!$C$42,\"No\",\"Needs Review\")))","v":"Needs Review"},null,"Needs Review",0,0]
[null,51,null,null,null,null,null,null,null,null,null,null,{"$error":"#DIV/0!"},null,null,{"$f":"IF(AND(G64>='A - Contractor Summary'!$C$36,G64<='A - Contractor Summary'!$C$38),\"Yes\",IF(G64<'A - Contractor Summary'!$C$36,\"No\",IF(G64>'A - Contractor Summary'!$C$39,\"\",\"\")))","v":"Yes"},{"$f":"IF(OR(P64=\"Yes\",P64=\"No\")*AND(G64<'A - Contractor Summary'!$C$39),\"\",IF(AND(G64>'A - Contractor Summary'!$C$39,G64<'A - Contractor Summary'!$C$42),\"Yes\",IF(G64>'A - Contractor Summary'!$C$42,\"No\",\"Needs Review\")))","v":"Needs Review"},null,"Needs Review",0,0]
[null,52,null,null,null,null,null,null,null,null,null,null,{"$error":"#DIV/0!"},null,null,{"$f":"IF(AND(G65>='A - Contractor Summary'!$C$36,G65<='A - Contractor Summary'!$C$38),\"Yes\",IF(G65<'A - Contractor Summary'!$C$36,\"No\",IF(G65>'A - Contractor Summary'!$C$39,\"\",\"\")))","v":"Yes"},{"$f":"IF(OR(P65=\"Yes\",P65=\"No\")*AND(G65<'A - Contractor Summary'!$C$39),\"\",IF(AND(G65>'A - Contractor Summary'!$C$39,G65<'A - Contractor Summary'!$C$42),\"Yes\",IF(G65>'A - Contractor Summary'!$C$42,\"No\",\"Needs Review\")))","v":"Needs Review"},null,"Needs Review",0,0]
[null,53,null,null,null,null,null,null,null,null,null,null,{"$error":"#DIV/0!"},null,null,{"$f":"IF(AND(G66>='A - Contractor Summary'!$C$36,G66<='A - Contractor Summary'!$C$38),\"Yes\",IF(G66<'A - Contractor Summary'!$C$36,\"No\",IF(G66>'A - Contractor Summary'!$C$39,\"\",\"\")))","v":"Yes"},{"$f":"IF(OR(P66=\"Yes\",P66=\"No\")*AND(G66<'A - Contractor Summary'!$C$39),\"\",IF(AND(G66>'A - Contractor Summary'!$C$39,G66<'A - Contractor Summary'!$C$42),\"Yes\",IF(G66>'A - Contractor Summary'!$C$42,\"No\",\"Needs Review\")))","v":"Needs Review"},null,"Needs Review",0,0]
[null,54,null,null,null,null,null,null,null,null,null,null,{"$error":"#DIV/0!"},null,null,{"$f":"IF(AND(G67>='A - Contractor Summary'!$C$36,G67<='A - Contractor Summary'!$C$38),\"Yes\",IF(G67<'A - Contractor Summary'!$C$36,\"No\",IF(G67>'A - Contractor Summary'!$C$39,\"\",\"\")))","v":"Yes"},{"$f":"IF(OR(P67=\"Yes\",P67=\"No\")*AND(G67<'A - Contractor Summary'!$C$39),\"\",IF(AND(G67>'A - Contractor Summary'!$C$39,G67<'A - Contractor Summary'!$C$42),\"Yes\",IF(G67>'A - Contractor Summary'!$C$42,\"No\",\"Needs Review\")))","v":"Needs Review"},null,"Needs Review",0,0]
[null,55,null,null,null,null,null,null,null,null,null,null,{"$error":"#DIV/0!"},null,null,{"$f":"IF(AND(G68>='A - Contractor Summary'!$C$36,G68<='A - Contractor Summary'!$C$38),\"Yes\",IF(G68<'A - Contractor Summary'!$C$36,\"No\",IF(G68>'A - Contractor Summary'!$C$39,\"\",\"\")))","v":"Yes"},{"$f":"IF(OR(P68=\"Yes\",P68=\"No\")*AND(G68<'A - Contractor Summary'!$C$39),\"\",IF(AND(G68>'A - Contractor Summary'!$C$39,G68<'A - Contractor Summary'!$C$42),\"Yes\",IF(G68>'A - Contractor Summary'!$C$42,\"No\",\"Needs Review\")))","v":"Needs Review"},null,"Needs Review",0,0]
[null,56,null,null,null,null,null,null,null,null,null,null,{"$error":"#DIV/0!"},null,null,{"$f":"IF(AND(G69>='A - Contractor Summary'!$C$36,G69<='A - Contractor Summary'!$C$38),\"Yes\",IF(G69<'A - Contractor Summary'!$C$36,\"No\",IF(G69>'A - Contractor Summary'!$C$39,\"\",\"\")))","v":"Yes"},{"$f":"IF(OR(P69=\"Yes\",P69=\"No\")*AND(G69<'A - Contractor Summary'!$C$39),\"\",IF(AND(G69>'A - Contractor Summary'!$C$39,G69<'A - Contractor Summary'!$C$42),\"Yes\",IF(G69>'A - Contractor Summary'!$C$42,\"No\",\"Needs Review\")))","v":"Needs Review"},null,"Needs Review",0,0]
[null,57,null,null,null,null,null,null,null,null,null,null,{"$error":"#DIV/0!"},null,null,{"$f":"IF(AND(G70>='A - Contractor Summary'!$C$36,G70<='A - Contractor Summary'!$C$38),\"Yes\",IF(G70<'A - Contractor Summary'!$C$36,\"No\",IF(G70>'A - Contractor Summary'!$C$39,\"\",\"\")))","v":"Yes"},{"$f":"IF(OR(P70=\"Yes\",P70=\"No\")*AND(G70<'A - Contractor Summary'!$C$39),\"\",IF(AND(G70>'A - Contractor Summary'!$C$39,G70<'A - Contractor Summary'!$C$42),\"Yes\",IF(G70>'A - Contractor Summary'!$C$42,\"No\",\"Needs Review\")))","v":"Needs Review"},null,"Needs Review",0,0]
[null,58,null,null,null,null,null,null,null,null,null,null,{"$error":"#DIV/0!"},null,null,{"$f":"IF(AND(G71>='A - Contractor Summary'!$C$36,G71<='A - Contractor Summary'!$C$38),\"Yes\",IF(G71<'A - Contractor Summary'!$C$36,\"No\",IF(G71>'A - Contractor Summary'!$C$39,\"\",\"\")))","v":"Yes"},{"$f":"IF(OR(P71=\"Yes\",P71=\"No\")*AND(G71<'A - Contractor Summary'!$C$39),\"\",IF(AND(G71>'A - Contractor Summary'!$C$39,G71<'A - Contractor Summary'!$C$42),\"Yes\",IF(G71>'A - Contractor Summary'!$C$42,\"No\",\"Needs Review\")))","v":"Needs Review"},null,"Needs Review",0,0]
[null,59,null,null,null,null,null,null,null,null,null,null,{"$error":"#DIV/0!"},null,null,{"$f":"IF(AND(G72>='A - Contractor Summary'!$C$36,G72<='A - Contractor Summary'!$C$38),\"Yes\",IF(G72<'A - Contractor Summary'!$C$36,\"No\",IF(G72>'A - Contractor Summary'!$C$39,\"\",\"\")))","v":"Yes"},{"$f":"IF(OR(P72=\"Yes\",P72=\"No\")*AND(G72<'A - Contractor Summary'!$C$39),\"\",IF(AND(G72>'A - Contractor Summary'!$C$39,G72<'A - Contractor Summary'!$C$42),\"Yes\",IF(G72>'A - Contractor Summary'!$C$42,\"No\",\"Needs Review\")))","v":"Needs Review"},null,"Needs Review",0,0]
[null,60,null,null,null,null,null,null,null,null,null,null,{"$error":"#DIV/0!"},null,null,{"$f":"IF(AND(G73>='A - Contractor Summary'!$C$36,G73<='A - Contractor Summary'!$C$38),\"Yes\",IF(G73<'A - Contractor Summary'!$C$36,\"No\",IF(G73>'A - Contractor Summary'!$C$39,\"\",\"\")))","v":"Yes"},{"$f":"IF(OR(P73=\"Yes\",P73=\"No\")*AND(G73<'A - Contractor Summary'!$C$39),\"\",IF(AND(G73>'A - Contractor Summary'!$C$39,G73<'A - Contractor Summary'!$C$42),\"Yes\",IF(G73>'A - Contractor Summary'!$C$42,\"No\",\"Needs Review\")))","v":"Needs Review"},null,"Needs Review",0,0]
[null,61,null,null,null,null,null,null,null,null,null,null,{"$error":"#DIV/0!"},null,null,{"$f":"IF(AND(G74>='A - Contractor Summary'!$C$36,G74<='A - Contractor Summary'!$C$38),\"Yes\",IF(G74<'A - Contractor Summary'!$C$36,\"No\",IF(G74>'A - Contractor Summary'!$C$39,\"\",\"\")))","v":"Yes"},{"$f":"IF(OR(P74=\"Yes\",P74=\"No\")*AND(G74<'A - Contractor Summary'!$C$39),\"\",IF(AND(G74>'A - Contractor Summary'!$C$39,G74<'A - Contractor Summary'!$C$42),\"Yes\",IF(G74>'A - Contractor Summary'!$C$42,\"No\",\"Needs Review\")))","v":"Needs Review"},null,"Needs Review",0,0]
[null,62,null,null,null,null,null,null,null,null,null,null,{"$error":"#DIV/0!"},null,null,{"$f":"IF(AND(G75>='A - Contractor Summary'!$C$36,G75<='A - Contractor Summary'!$C$38),\"Yes\",IF(G75<'A - Contractor Summary'!$C$36,\"No\",IF(G75>'A - Contractor Summary'!$C$39,\"\",\"\")))","v":"Yes"},{"$f":"IF(OR(P75=\"Yes\",P75=\"No\")*AND(G75<'A - Contractor Summary'!$C$39),\"\",IF(AND(G75>'A - Contractor Summary'!$C$39,G75<'A - Contractor Summary'!$C$42),\"Yes\",IF(G75>'A - Contractor Summary'!$C$42,\"No\",\"Needs Review\")))","v":"Needs Review"},null,"Needs Review",0,0]
[null,63,null,null,null,null,null,null,null,null,null,null,{"$error":"#DIV/0!"},null,null,{"$f":"IF(AND(G76>='A - Contractor Summary'!$C$36,G76<='A - Contractor Summary'!$C$38),\"Yes\",IF(G76<'A - Contractor Summary'!$C$36,\"No\",IF(G76>'A - Contractor Summary'!$C$39,\"\",\"\")))","v":"Yes"},{"$f":"IF(OR(P76=\"Yes\",P76=\"No\")*AND(G76<'A - Contractor Summary'!$C$39),\"\",IF(AND(G76>'A - Contractor Summary'!$C$39,G76<'A - Contractor Summary'!$C$42),\"Yes\",IF(G76>'A - Contractor Summary'!$C$42,\"No\",\"Needs Review\")))","v":"Needs Review"},null,"Needs Review",0,0,null,null,3]
[null,64,null,null,null,null,null,null,null,null,null,null,{"$error":"#DIV/0!"},null,null,{"$f":"IF(AND(G77>='A - Contractor Summary'!$C$36,G77<='A - Contractor Summary'!$C$38),\"Yes\",IF(G77<'A - Contractor Summary'!$C$36,\"No\",IF(G77>'A - Contractor Summary'!$C$39,\"\",\"\")))","v":"Yes"},{"$f":"IF(OR(P77=\"Yes\",P77=\"No\")*AND(G77<'A - Contractor Summary'!$C$39),\"\",IF(AND(G77>'A - Contractor Summary'!$C$39,G77<'A - Contractor Summary'!$C$42),\"Yes\",IF(G77>'A - Contractor Summary'!$C$42,\"No\",\"Needs Review\")))","v":"Needs Review"},null,"Needs Review",0,0,null,null,3]
[null,65,null,null,null,null,null,null,null,null,null,null,{"$f":"L78/K78","v":{"$error":"#DIV/0!"}},null,null,{"$f":"IF(AND(G78>='A - Contractor Summary'!$C$36,G78<='A - Contractor Summary'!$C$38),\"Yes\",IF(G78<'A - Contractor Summary'!$C$36,\"No\",IF(G78>'A - Contractor Summary'!$C$39,\"\",\"\")))","v":"Yes"},{"$f":"IF(OR(P78=\"Yes\",P78=\"No\")*AND(G78<'A - Contractor Summary'!$C$39),\"\",IF(AND(G78>'A - Contractor Summary'!$C$39,G78<'A - Contractor Summary'!$C$42),\"Yes\",IF(G78>'A - Contractor Summary'!$C$42,\"No\",\"Needs Review\")))","v":"Needs Review"},null,{"$f":"IF(AND(R78=\"YES\",O78=\"Yes\",N78=\"Yes\")*OR(P78=\"Yes\",Q78=\"Yes\"),\"Yes\",IF(OR(N78=\"No\",O78=\"No\",P78=\"No\",Q78=\"No\",R78=\"No\"),\"No\",\"Needs Review\"))","v":"Needs Review"},{"$f":"IF(S78=\"Yes\",L78,0)","v":0},{"$f":"IF(S78=\"Needs Review\",L78,0)","v":0}]
[null,66,null,null,null,null,null,null,null,null,null,null,{"$error":"#DIV/0!"},null,null,{"$f":"IF(AND(G79>='A - Contractor Summary'!$C$36,G79<='A - Contractor Summary'!$C$38),\"Yes\",IF(G79<'A - Contractor Summary'!$C$36,\"No\",IF(G79>'A - Contractor Summary'!$C$39,\"\",\"\")))","v":"Yes"},{"$f":"IF(OR(P79=\"Yes\",P79=\"No\")*AND(G79<'A - Contractor Summary'!$C$39),\"\",IF(AND(G79>'A - Contractor Summary'!$C$39,G79<'A - Contractor Summary'!$C$42),\"Yes\",IF(G79>'A - Contractor Summary'!$C$42,\"No\",\"Needs Review\")))","v":"Needs Review"},null,"Needs Review",0,0]
[null,67,null,null,null,null,null,null,null,null,null,null,{"$error":"#DIV/0!"},null,null,{"$f":"IF(AND(G80>='A - Contractor Summary'!$C$36,G80<='A - Contractor Summary'!$C$38),\"Yes\",IF(G80<'A - Contractor Summary'!$C$36,\"No\",IF(G80>'A - Contractor Summary'!$C$39,\"\",\"\")))","v":"Yes"},{"$f":"IF(OR(P80=\"Yes\",P80=\"No\")*AND(G80<'A - Contractor Summary'!$C$39),\"\",IF(AND(G80>'A - Contractor Summary'!$C$39,G80<'A - Contractor Summary'!$C$42),\"Yes\",IF(G80>'A - Contractor Summary'!$C$42,\"No\",\"Needs Review\")))","v":"Needs Review"},null,"Needs Review",0,0]
[null,68,null,null,null,null,null,null,null,null,null,null,{"$error":"#DIV/0!"},null,null,{"$f":"IF(AND(G81>='A - Contractor Summary'!$C$36,G81<='A - Contractor Summary'!$C$38),\"Yes\",IF(G81<'A - Contractor Summary'!$C$36,\"No\",IF(G81>'A - Contractor Summary'!$C$39,\"\",\"\")))","v":"Yes"},{"$f":"IF(OR(P81=\"Yes\",P81=\"No\")*AND(G81<'A - Contractor Summary'!$C$39),\"\",IF(AND(G81>'A - Contractor Summary'!$C$39,G81<'A - Contractor Summary'!$C$42),\"Yes\",IF(G81>'A - Contractor Summary'!$C$42,\"No\",\"Needs Review\")))","v":"Needs Review"},null,"Needs Review",0,0,null,null,3]
[null,69,null,null,null,null,null,null,null,null,null,null,{"$error":"#DIV/0!"},null,null,{"$f":"IF(AND(G82>='A - Contractor Summary'!$C$36,G82<='A - Contractor Summary'!$C$38),\"Yes\",IF(G82<'A - Contractor Summary'!$C$36,\"No\",IF(G82>'A - Contractor Summary'!$C$39,\"\",\"\")))","v":"Yes"},{"$f":"IF(OR(P82=\"Yes\",P82=\"No\")*AND(G82<'A - Contractor Summary'!$C$39),\"\",IF(AND(G82>'A - Contractor Summary'!$C$39,G82<'A - Contractor Summary'!$C$42),\"Yes\",IF(G82>'A - Contractor Summary'!$C$42,\"No\",\"Needs Review\")))","v":"Needs Review"},null,"Needs Review",0,0,null,null,3]
[null,70,null,null,null,null,null,null,null,null,null,null,{"$error":"#DIV/0!"},null,null,{"$f":"IF(AND(G83>='A - Contractor Summary'!$C$36,G83<='A - Contractor Summary'!$C$38),\"Yes\",IF(G83<'A - Contractor Summary'!$C$36,\"No\",IF(G83>'A - Contractor Summary'!$C$39,\"\",\"\")))","v":"Yes"},{"$f":"IF(OR(P83=\"Yes\",P83=\"No\")*AND(G83<'A - Contractor Summary'!$C$39),\"\",IF(AND(G83>'A - Contractor Summary'!$C$39,G83<'A - Contractor Summary'!$C$42),\"Yes\",IF(G83>'A - Contractor Summary'!$C$42,\"No\",\"Needs Review\")))","v":"Needs Review"},null,"Needs Review",0,0]
[null,71,null,null,null,null,null,null,null,null,null,null,{"$error":"#DIV/0!"},null,null,{"$f":"IF(AND(G84>='A - Contractor Summary'!$C$36,G84<='A - Contractor Summary'!$C$38),\"Yes\",IF(G84<'A - Contractor Summary'!$C$36,\"No\",IF(G84>'A - Contractor Summary'!$C$39,\"\",\"\")))","v":"Yes"},{"$f":"IF(OR(P84=\"Yes\",P84=\"No\")*AND(G84<'A - Contractor Summary'!$C$39),\"\",IF(AND(G84>'A - Contractor Summary'!$C$39,G84<'A - Contractor Summary'!$C$42),\"Yes\",IF(G84>'A - Contractor Summary'!$C$42,\"No\",\"Needs Review\")))","v":"Needs Review"},null,"Needs Review",0,0]
[null,72,null,null,null,null,null,null,null,null,null,null,{"$error":"#DIV/0!"},null,null,{"$f":"IF(AND(G85>='A - Contractor Summary'!$C$36,G85<='A - Contractor Summary'!$C$38),\"Yes\",IF(G85<'A - Contractor Summary'!$C$36,\"No\",IF(G85>'A - Contractor Summary'!$C$39,\"\",\"\")))","v":"Yes"},{"$f":"IF(OR(P85=\"Yes\",P85=\"No\")*AND(G85<'A - Contractor Summary'!$C$39),\"\",IF(AND(G85>'A - Contractor Summary'!$C$39,G85<'A - Contractor Summary'!$C$42),\"Yes\",IF(G85>'A - Contractor Summary'!$C$42,\"No\",\"Needs Review\")))","v":"Needs Review"},null,"Needs Review",0,0]
[null,73,null,null,null,null,null,null,null,null,null,null,{"$error":"#DIV/0!"},null,null,{"$f":"IF(AND(G86>='A - Contractor Summary'!$C$36,G86<='A - Contractor Summary'!$C$38),\"Yes\",IF(G86<'A - Contractor Summary'!$C$36,\"No\",IF(G86>'A - Contractor Summary'!$C$39,\"\",\"\")))","v":"Yes"},{"$f":"IF(OR(P86=\"Yes\",P86=\"No\")*AND(G86<'A - Contractor Summary'!$C$39),\"\",IF(AND(G86>'A - Contractor Summary'!$C$39,G86<'A - Contractor Summary'!$C$42),\"Yes\",IF(G86>'A - Contractor Summary'!$C$42,\"No\",\"Needs Review\")))","v":"Needs Review"},null,"Needs Review",0,0]
[null,74,null,null,null,null,null,null,null,null,null,null,{"$error":"#DIV/0!"},null,null,{"$f":"IF(AND(G87>='A - Contractor Summary'!$C$36,G87<='A - Contractor Summary'!$C$38),\"Yes\",IF(G87<'A - Contractor Summary'!$C$36,\"No\",IF(G87>'A - Contractor Summary'!$C$39,\"\",\"\")))","v":"Yes"},{"$f":"IF(OR(P87=\"Yes\",P87=\"No\")*AND(G87<'A - Contractor Summary'!$C$39),\"\",IF(AND(G87>'A - Contractor Summary'!$C$39,G87<'A - Contractor Summary'!$C$42),\"Yes\",IF(G87>'A - Contractor Summary'!$C$42,\"No\",\"Needs Review\")))","v":"Needs Review"},null,"Needs Review",0,0]
[null,75,null,null,null,null,null,null,null,null,null,null,{"$error":"#DIV/0!"},null,null,{"$f":"IF(AND(G88>='A - Contractor Summary'!$C$36,G88<='A - Contractor Summary'!$C$38),\"Yes\",IF(G88<'A - Contractor Summary'!$C$36,\"No\",IF(G88>'A - Contractor Summary'!$C$39,\"\",\"\")))","v":"Yes"},{"$f":"IF(OR(P88=\"Yes\",P88=\"No\")*AND(G88<'A - Contractor Summary'!$C$39),\"\",IF(AND(G88>'A - Contractor Summary'!$C$39,G88<'A - Contractor Summary'!$C$42),\"Yes\",IF(G88>'A - Contractor Summary'!$C$42,\"No\",\"Needs Review\")))","v":"Needs Review"},null,"Needs Review",0,71.680000000000007,{"$f":"+M88","v":{"$error":"#DIV/0!"}},null,4]
[null,76,null,null,null,null,null,null,null,null,null,null,{"$error":"#DIV/0!"},null,null,{"$f":"IF(AND(G89>='A - Contractor Summary'!$C$36,G89<='A - Contractor Summary'!$C$38),\"Yes\",IF(G89<'A - Contractor Summary'!$C$36,\"No\",IF(G89>'A - Contractor Summary'!$C$39,\"\",\"\")))","v":"Yes"},{"$f":"IF(OR(P89=\"Yes\",P89=\"No\")*AND(G89<'A - Contractor Summary'!$C$39),\"\",IF(AND(G89>'A - Contractor Summary'!$C$39,G89<'A - Contractor Summary'!$C$42),\"Yes\",IF(G89>'A - Contractor Summary'!$C$42,\"No\",\"Needs Review\")))","v":"Needs Review"},null,"Needs Review",0,71.680000000000007,{"$f":"+M89","v":{"$error":"#DIV/0!"}},null,4]
[null,77,null,null,null,null,null,null,null,null,null,null,{"$error":"#DIV/0!"},null,null,{"$f":"IF(AND(G90>='A - Contractor Summary'!$C$36,G90<='A - Contractor Summary'!$C$38),\"Yes\",IF(G90<'A - Contractor Summary'!$C$36,\"No\",IF(G90>'A - Contractor Summary'!$C$39,\"\",\"\")))","v":"Yes"},{"$f":"IF(OR(P90=\"Yes\",P90=\"No\")*AND(G90<'A - Contractor Summary'!$C$39),\"\",IF(AND(G90>'A - Contractor Summary'!$C$39,G90<'A - Contractor Summary'!$C$42),\"Yes\",IF(G90>'A - Contractor Summary'!$C$42,\"No\",\"Needs Review\")))","v":"Needs Review"},null,"Needs Review",0,0,null,null,"2,3"]
[null,78,null,null,null,null,null,null,null,null,null,null,{"$error":"#DIV/0!"},null,null,{"$f":"IF(AND(G91>='A - Contractor Summary'!$C$36,G91<='A - Contractor Summary'!$C$38),\"Yes\",IF(G91<'A - Contractor Summary'!$C$36,\"No\",IF(G91>'A - Contractor Summary'!$C$39,\"\",\"\")))","v":"Yes"},{"$f":"IF(OR(P91=\"Yes\",P91=\"No\")*AND(G91<'A - Contractor Summary'!$C$39),\"\",IF(AND(G91>'A - Contractor Summary'!$C$39,G91<'A - Contractor Summary'!$C$42),\"Yes\",IF(G91>'A - Contractor Summary'!$C$42,\"No\",\"Needs Review\")))","v":"Needs Review"},null,"Needs Review",0,0,null,null,1]
[null,79,null,null,null,null,null,null,null,null,null,null,{"$error":"#DIV/0!"},null,null,{"$f":"IF(AND(G92>='A - Contractor Summary'!$C$36,G92<='A - Contractor Summary'!$C$38),\"Yes\",IF(G92<'A - Contractor Summary'!$C$36,\"No\",IF(G92>'A - Contractor Summary'!$C$39,\"\",\"\")))","v":"Yes"},{"$f":"IF(OR(P92=\"Yes\",P92=\"No\")*AND(G92<'A - Contractor Summary'!$C$39),\"\",IF(AND(G92>'A - Contractor Summary'!$C$39,G92<'A - Contractor Summary'!$C$42),\"Yes\",IF(G92>'A - Contractor Summary'!$C$42,\"No\",\"Needs Review\")))","v":"Needs Review"},null,"Needs Review",0,0,null,null,1]
[null,null,null,null,null,null,null,null,null,null,null,{"$f":"SUM(L14:L92)","v":0},null,null,null,null,null,null,null,{"$f":"IFERROR(SUM(T14:T92),0)","v":0},{"$f":"IFERROR(SUM(U14:U92),0)","v":143.36000000000001},0,{"$f":"IFERROR(SUM(W14:W92),0)","v":0},{"$f":"U93-V93-W93","v":143.36000000000001},"check (a)"]
[]
[]
[null,"Tickmark Explanation:"]
[null,1]
[null,2]
[null,3]
[null,4]

{"sheet":"E - Fuel","index":9,"n_rows":40,"n_cols":22,"rows_kept":40,"cut":false,"hidden":false,"merged":[[1,1,1,20],[3,1,6,11],[11,12,11,20],[11,1,11,11],[4,15,6,20]]}
[]
[null,"Fuel Charges"]
[]
[null,"Test Plan: (A) Obtain support of individual charges. (B) Enter Yes/No if receipt is itemized (C) Enter Yes/No if proof of payment has been provided. (D) Ensure charges fall between the dates the vendor was mobilized and the date they arrived.  (E) Ensure charges are prior to the date the vendor arrived home or was released to another utility.  (F) Ensure the location of charge was reasonable (G) Determine the amount(s) to be reviewed, allowed  and/or disallowed.  (H)  For charges which required further review, document review (include why it was determined to be allowed/disallowed via a tickmark)."]
[null,null,null,null,null,null,null,null,null,null,null,null,null,null,null,"No Fuel Charges"]
[]
[]
[]
[null,"a","Check figure should equal $0.  Cell will appear yellow if discrepancies are noted."]
[]
[null,null,"A",null,null,null,null,null,null,null,"B","C","D","E","F","G",null,null,"H"]
[null,"Support Reviewed",null,null,null,null,null,null,null,null,null,null,"Conclusions"]
[null,"#","Type of Support","Support Identifier","Company","Date","Person","Name","Location","Total Charge","Itemized Receipt","Proof of Payment","Reasonable based on Mobilization date(s)","Reasonable based on Demobilization date(s)","Locations Reasonable","Conclusion","$ Allowable Charge","$ To Be Reviewed","Reviewed - Allowable Charge","Reviewed - Unallowable Charge","Tickmarks"]
[null,1,null,null,null,null,null,null,null,null,null,null,{"$f":"IF(AND(F14>='A - Contractor Summary'!$C$36,F14<='A - Contractor Summary'!$C$38),\"Yes\",IF(F14<'A - Contractor Summary'!$C$36,\"No\",IF(F14>'A - Contractor Summary'!$C$39,\"\",\"\")))","v":"Yes"},{"$f":"IF(OR(M14=\"Yes\",M14=\"No\")*AND(F14<'A - Contractor Summary'!$C$39),\"\",IF(AND(F14>'A - Contractor Summary'!$C$39,F14<'A - Contractor Summary'!$C$42),\"Yes\",IF(F14>'A - Contractor Summary'!$C$42,\"No\",\"Needs Review\")))","v":"Needs Review"},null,{"$f":"IF(AND(O14=\"Yes\",K14=\"Yes\",L14=\"Yes\")*OR(N14=\"Yes\",M14=\"Yes\"),\"Yes\",IF(OR(K14=\"No\",M14=\"No\",N14=\"No\",O14=\"No\",L14=\"No\"),\"No\",\"Needs Review\"))","v":"Needs Review"},{"$f":"IF(P14=\"Yes\",J14,0)","v":0},{"$f":"IF(P14=\"Needs Review\",J14,0)","v":0}]
[null,2,null,null,null,null,null,null,null,null,null,null,{"$f":"IF(AND(F15>='A - Contractor Summary'!$C$36,F15<='A - Contractor Summary'!$C$38),\"Yes\",IF(F15<'A - Contractor Summary'!$C$36,\"No\",IF(F15>'A - Contractor Summary'!$C$39,\"\",\"\")))","v":"Yes"},{"$f":"IF(OR(M15=\"Yes\",M15=\"No\")*AND(F15<'A - Contractor Summary'!$C$39),\"\",IF(AND(F15>'A - Contractor Summary'!$C$39,F15<'A - Contractor Summary'!$C$42),\"Yes\",IF(F15>'A - Contractor Summary'!$C$42,\"No\",\"Needs Review\")))","v":"Needs Review"},null,{"$f":"IF(AND(O15=\"Yes\",K15=\"Yes\",L15=\"Yes\")*OR(N15=\"Yes\",M15=\"Yes\"),\"Yes\",IF(OR(K15=\"No\",M15=\"No\",N15=\"No\",O15=\"No\",L15=\"No\"),\"No\",\"Needs Review\"))","v":"Needs Review"},0,0]
[null,3,null,null,null,null,null,null,null,null,null,null,{"$f":"IF(AND(F16>='A - Contractor Summary'!$C$36,F16<='A - Contractor Summary'!$C$38),\"Yes\",IF(F16<'A - Contractor Summary'!$C$36,\"No\",IF(F16>'A - Contractor Summary'!$C$39,\"\",\"\")))","v":"Yes"},{"$f":"IF(OR(M16=\"Yes\",M16=\"No\")*AND(F16<'A - Contractor Summary'!$C$39),\"\",IF(AND(F16>'A - Contractor Summary'!$C$39,F16<'A - Contractor Summary'!$C$42),\"Yes\",IF(F16>'A - Contractor Summary'!$C$42,\"No\",\"Needs Review\")))","v":"Needs Review"},null,"Needs Review",0,0]
[null,4,null,null,null,null,null,null,null,null,null,null,{"$f":"IF(AND(F17>='A - Contractor Summary'!$C$36,F17<='A - Contractor Summary'!$C$38),\"Yes\",IF(F17<'A - Contractor Summary'!$C$36,\"No\",IF(F17>'A - Contractor Summary'!$C$39,\"\",\"\")))","v":"Yes"},{"$f":"IF(OR(M17=\"Yes\",M17=\"No\")*AND(F17<'A - Contractor Summary'!$C$39),\"\",IF(AND(F17>'A - Contractor Summary'!$C$39,F17<'A - Contractor Summary'!$C$42),\"Yes\",IF(F17>'A - Contractor Summary'!$C$42,\"No\",\"Needs Review\")))","v":"Needs Review"},null,"Needs Review",0,0]
[null,5,null,null,null,null,null,null,null,null,null,null,{"$f":"IF(AND(F18>='A - Contractor Summary'!$C$36,F18<='A - Contractor Summary'!$C$38),\"Yes\",IF(F18<'A - Contractor Summary'!$C$36,\"No\",IF(F18>'A - Contractor Summary'!$C$39,\"\",\"\")))","v":"Yes"},{"$f":"IF(OR(M18=\"Yes\",M18=\"No\")*AND(F18<'A - Contractor Summary'!$C$39),\"\",IF(AND(F18>'A - Contractor Summary'!$C$39,F18<'A - Contractor Summary'!$C$42),\"Yes\",IF(F18>'A - Contractor Summary'!$C$42,\"No\",\"Needs Review\")))","v":"Needs Review"},null,"Needs Review",0,0]
[null,6,null,null,null,null,null,null,null,null,null,null,{"$f":"IF(AND(F19>='A - Contractor Summary'!$C$36,F19<='A - Contractor Summary'!$C$38),\"Yes\",IF(F19<'A - Contractor Summary'!$C$36,\"No\",IF(F19>'A - Contractor Summary'!$C$39,\"\",\"\")))","v":"Yes"},{"$f":"IF(OR(M19=\"Yes\",M19=\"No\")*AND(F19<'A - Contractor Summary'!$C$39),\"\",IF(AND(F19>'A - Contractor Summary'!$C$39,F19<'A - Contractor Summary'!$C$42),\"Yes\",IF(F19>'A - Contractor Summary'!$C$42,\"No\",\"Needs Review\")))","v":"Needs Review"},null,"Needs Review",0,0]
[null,7,null,null,null,null,null,null,null,null,null,null,{"$f":"IF(AND(F20>='A - Contractor Summary'!$C$36,F20<='A - Contractor Summary'!$C$38),\"Yes\",IF(F20<'A - Contractor Summary'!$C$36,\"No\",IF(F20>'A - Contractor Summary'!$C$39,\"\",\"\")))","v":"Yes"},{"$f":"IF(OR(M20=\"Yes\",M20=\"No\")*AND(F20<'A - Contractor Summary'!$C$39),\"\",IF(AND(F20>'A - Contractor Summary'!$C$39,F20<'A - Contractor Summary'!$C$42),\"Yes\",IF(F20>'A - Contractor Summary'!$C$42,\"No\",\"Needs Review\")))","v":"Needs Review"},null,"Needs Review",0,0]
[null,8,null,null,null,null,null,null,null,null,null,null,{"$f":"IF(AND(F21>='A - Contractor Summary'!$C$36,F21<='A - Contractor Summary'!$C$38),\"Yes\",IF(F21<'A - Contractor Summary'!$C$36,\"No\",IF(F21>'A - Contractor Summary'!$C$39,\"\",\"\")))","v":"Yes"},{"$f":"IF(OR(M21=\"Yes\",M21=\"No\")*AND(F21<'A - Contractor Summary'!$C$39),\"\",IF(AND(F21>'A - Contractor Summary'!$C$39,F21<'A - Contractor Summary'!$C$42),\"Yes\",IF(F21>'A - Contractor Summary'!$C$42,\"No\",\"Needs Review\")))","v":"Needs Review"},null,"Needs Review",0,0]
[null,9,null,null,null,null,null,null,null,null,null,null,{"$f":"IF(AND(F22>='A - Contractor Summary'!$C$36,F22<='A - Contractor Summary'!$C$38),\"Yes\",IF(F22<'A - Contractor Summary'!$C$36,\"No\",IF(F22>'A - Contractor Summary'!$C$39,\"\",\"\")))","v":"Yes"},{"$f":"IF(OR(M22=\"Yes\",M22=\"No\")*AND(F22<'A - Contractor Summary'!$C$39),\"\",IF(AND(F22>'A - Contractor Summary'!$C$39,F22<'A - Contractor Summary'!$C$42),\"Yes\",IF(F22>'A - Contractor Summary'!$C$42,\"No\",\"Needs Review\")))","v":"Needs Review"},null,"Needs Review",0,0]
[null,10,null,null,null,null,null,null,null,null,null,null,{"$f":"IF(AND(F23>='A - Contractor Summary'!$C$36,F23<='A - Contractor Summary'!$C$38),\"Yes\",IF(F23<'A - Contractor Summary'!$C$36,\"No\",IF(F23>'A - Contractor Summary'!$C$39,\"\",\"\")))","v":"Yes"},{"$f":"IF(OR(M23=\"Yes\",M23=\"No\")*AND(F23<'A - Contractor Summary'!$C$39),\"\",IF(AND(F23>'A - Contractor Summary'!$C$39,F23<'A - Contractor Summary'!$C$42),\"Yes\",IF(F23>'A - Contractor Summary'!$C$42,\"No\",\"Needs Review\")))","v":"Needs Review"},null,"Needs Review",0,0]
[null,11,null,null,null,null,null,null,null,null,null,null,{"$f":"IF(AND(F24>='A - Contractor Summary'!$C$36,F24<='A - Contractor Summary'!$C$38),\"Yes\",IF(F24<'A - Contractor Summary'!$C$36,\"No\",IF(F24>'A - Contractor Summary'!$C$39,\"\",\"\")))","v":"Yes"},{"$f":"IF(OR(M24=\"Yes\",M24=\"No\")*AND(F24<'A - Contractor Summary'!$C$39),\"\",IF(AND(F24>'A - Contractor Summary'!$C$39,F24<'A - Contractor Summary'!$C$42),\"Yes\",IF(F24>'A - Contractor Summary'!$C$42,\"No\",\"Needs Review\")))","v":"Needs Review"},null,"Needs Review",0,0]
[null,12,null,null,null,null,null,null,null,null,null,null,{"$f":"IF(AND(F25>='A - Contractor Summary'!$C$36,F25<='A - Contractor Summary'!$C$38),\"Yes\",IF(F25<'A - Contractor Summary'!$C$36,\"No\",IF(F25>'A - Contractor Summary'!$C$39,\"\",\"\")))","v":"Yes"},{"$f":"IF(OR(M25=\"Yes\",M25=\"No\")*AND(F25<'A - Contractor Summary'!$C$39),\"\",IF(AND(F25>'A - Contractor Summary'!$C$39,F25<'A - Contractor Summary'!$C$42),\"Yes\",IF(F25>'A - Contractor Summary'!$C$42,\"No\",\"Needs Review\")))","v":"Needs Review"},null,"Needs Review",0,0]
[null,13,null,null,null,null,null,null,null,null,null,null,{"$f":"IF(AND(F26>='A - Contractor Summary'!$C$36,F26<='A - Contractor Summary'!$C$38),\"Yes\",IF(F26<'A - Contractor Summary'!$C$36,\"No\",IF(F26>'A - Contractor Summary'!$C$39,\"\",\"\")))","v":"Yes"},{"$f":"IF(OR(M26=\"Yes\",M26=\"No\")*AND(F26<'A - Contractor Summary'!$C$39),\"\",IF(AND(F26>'A - Contractor Summary'!$C$39,F26<'A - Contractor Summary'!$C$42),\"Yes\",IF(F26>'A - Contractor Summary'!$C$42,\"No\",\"Needs Review\")))","v":"Needs Review"},null,"Needs Review",0,0]
[null,14,null,null,null,null,null,null,null,null,null,null,{"$f":"IF(AND(F27>='A - Contractor Summary'!$C$36,F27<='A - Contractor Summary'!$C$38),\"Yes\",IF(F27<'A - Contractor Summary'!$C$36,\"No\",IF(F27>'A - Contractor Summary'!$C$39,\"\",\"\")))","v":"Yes"},{"$f":"IF(OR(M27=\"Yes\",M27=\"No\")*AND(F27<'A - Contractor Summary'!$C$39),\"\",IF(AND(F27>'A - Contractor Summary'!$C$39,F27<'A - Contractor Summary'!$C$42),\"Yes\",IF(F27>'A - Contractor Summary'!$C$42,\"No\",\"Needs Review\")))","v":"Needs Review"},null,"Needs Review",0,0]
[null,15,null,null,null,null,null,null,null,null,null,null,{"$f":"IF(AND(F28>='A - Contractor Summary'!$C$36,F28<='A - Contractor Summary'!$C$38),\"Yes\",IF(F28<'A - Contractor Summary'!$C$36,\"No\",IF(F28>'A - Contractor Summary'!$C$39,\"\",\"\")))","v":"Yes"},{"$f":"IF(OR(M28=\"Yes\",M28=\"No\")*AND(F28<'A - Contractor Summary'!$C$39),\"\",IF(AND(F28>'A - Contractor Summary'!$C$39,F28<'A - Contractor Summary'!$C$42),\"Yes\",IF(F28>'A - Contractor Summary'!$C$42,\"No\",\"Needs Review\")))","v":"Needs Review"},null,"Needs Review",0,0]
[null,16,null,null,null,null,null,null,null,null,null,null,{"$f":"IF(AND(F29>='A - Contractor Summary'!$C$36,F29<='A - Contractor Summary'!$C$38),\"Yes\",IF(F29<'A - Contractor Summary'!$C$36,\"No\",IF(F29>'A - Contractor Summary'!$C$39,\"\",\"\")))","v":"Yes"},{"$f":"IF(OR(M29=\"Yes\",M29=\"No\")*AND(F29<'A - Contractor Summary'!$C$39),\"\",IF(AND(F29>'A - Contractor Summary'!$C$39,F29<'A - Contractor Summary'!$C$42),\"Yes\",IF(F29>'A - Contractor Summary'!$C$42,\"No\",\"Needs Review\")))","v":"Needs Review"},null,"Needs Review",0,0]
[null,17,null,null,null,null,null,null,null,null,null,null,{"$f":"IF(AND(F30>='A - Contractor Summary'!$C$36,F30<='A - Contractor Summary'!$C$38),\"Yes\",IF(F30<'A - Contractor Summary'!$C$36,\"No\",IF(F30>'A - Contractor Summary'!$C$39,\"\",\"\")))","v":"Yes"},{"$f":"IF(OR(M30=\"Yes\",M30=\"No\")*AND(F30<'A - Contractor Summary'!$C$39),\"\",IF(AND(F30>'A - Contractor Summary'!$C$39,F30<'A - Contractor Summary'!$C$42),\"Yes\",IF(F30>'A - Contractor Summary'!$C$42,\"No\",\"Needs Review\")))","v":"Needs Review"},null,"Needs Review",0,0]
[null,18,null,null,null,null,null,null,null,null,null,null,{"$f":"IF(AND(F31>='A - Contractor Summary'!$C$36,F31<='A - Contractor Summary'!$C$38),\"Yes\",IF(F31<'A - Contractor Summary'!$C$36,\"No\",IF(F31>'A - Contractor Summary'!$C$39,\"\",\"\")))","v":"Yes"},{"$f":"IF(OR(M31=\"Yes\",M31=\"No\")*AND(F31<'A - Contractor Summary'!$C$39),\"\",IF(AND(F31>'A - Contractor Summary'!$C$39,F31<'A - Contractor Summary'!$C$42),\"Yes\",IF(F31>'A - Contractor Summary'!$C$42,\"No\",\"Needs Review\")))","v":"Needs Review"},null,"Needs Review",{"$f":"IF(P31=\"Yes\",#REF!,0)","v":0},{"$f":"IF(P31=\"ED Review\",#REF!,0)","v":0}]
[null,19,null,null,null,null,null,null,null,null,null,null,{"$f":"IF(AND(F32>='A - Contractor Summary'!$C$36,F32<='A - Contractor Summary'!$C$38),\"Yes\",IF(F32<'A - Contractor Summary'!$C$36,\"No\",IF(F32>'A - Contractor Summary'!$C$39,\"\",\"\")))","v":"Yes"},{"$f":"IF(OR(M32=\"Yes\",M32=\"No\")*AND(F32<'A - Contractor Summary'!$C$39),\"\",IF(AND(F32>'A - Contractor Summary'!$C$39,F32<'A - Contractor Summary'!$C$42),\"Yes\",IF(F32>'A - Contractor Summary'!$C$42,\"No\",\"Needs Review\")))","v":"Needs Review"},null,"Needs Review",{"$f":"IF(P32=\"Yes\",#REF!,0)","v":0},{"$f":"IF(P32=\"ED Review\",#REF!,0)","v":0}]
[null,20,null,null,null,null,null,null,null,null,null,null,{"$f":"IF(AND(F33>='A - Contractor Summary'!$C$36,F33<='A - Contractor Summary'!$C$38),\"Yes\",IF(F33<'A - Contractor Summary'!$C$36,\"No\",IF(F33>'A - Contractor Summary'!$C$39,\"\",\"\")))","v":"Yes"},{"$f":"IF(OR(M33=\"Yes\",M33=\"No\")*AND(F33<'A - Contractor Summary'!$C$39),\"\",IF(AND(F33>'A - Contractor Summary'!$C$39,F33<'A - Contractor Summary'!$C$42),\"Yes\",IF(F33>'A - Contractor Summary'!$C$42,\"No\",\"Needs Review\")))","v":"Needs Review"},null,"Needs Review",{"$f":"IF(P33=\"Yes\",#REF!,0)","v":0},{"$f":"IF(P33=\"ED Review\",#REF!,0)","v":0}]
[null,null,null,null,null,null,null,null,null,{"$f":"SUM(J14:J33)","v":0},null,null,null,null,null,null,{"$f":"IFERROR(SUM(Q14:Q33),0)","v":0},{"$f":"IFERROR(SUM(R14:R33),0)","v":0},{"$f":"SUM(S14:S33)","v":0},{"$f":"SUM(T14:T33)","v":0},{"$f":"R34-S34-T34","v":0},"check (a)"]
[]
[]
[]
[]
[]
[null,"Tickmark Explanation:"]

{"sheet":"F - Meals","index":10,"n_rows":68,"n_cols":23,"rows_kept":68,"cut":false,"hidden":false,"merged":[[11,13,11,21],[3,1,6,12],[1,1,1,21],[11,1,11,12]]}
[]
[null,"Meal Charges"]
[]
[null,"Test Plan: (A) Obtain support of individual charges.  (B) Enter Yes/No if receipt is itemized.  (C) Enter Yes/No if proof of payment has been provided.  (D) Ensure charges fall between the dates the vendor was mobilized and the date they arrived.  (E) Ensure charges are prior to the date the vendor arrived home or was released to another utility.  (F) Ensure the location of charge was reasonable (G) Determine the amount(s) to be reviewed, allowed and/or disallowed.  (H) For charges which required further review, document review and include why it was determined to be allowed/disallowed via a tickmark. "]
[]
[]
[]
[]
[null,"a","Check figure should equal $0.  Cell will appear yellow if discrepancies are noted."]
[]
[null,null,"A",null,null,null,null,null,null,null,null,"B","C","D","E","F","G",null,null,"H"]
[null,"Support Reviewed",null,null,null,null,null,null,null,null,null,null,null,"Conclusions"]
[null,"#","Type of Support","Support Identifier","Company","Crew","Date","Person"," Restaurant Name","Location","$ Total","Itemized Receipt","Proof of Payment","Reasonable based on Mobilization date(s)","Reasonable based on Demobilization date(s)","Locations Reasonable","Conclusion","$ Allowable Charge","$ To Be Reviewed","Reviewed - Allowable Charge","Reviewed - Unallowable Charge","Tickmarks"]
[null,1,null,null,null,null,null,null,null,null,null,null,null,{"$f":"IF(AND(G14>='A - Contractor Summary'!$C$36,G14<='A - Contractor Summary'!$C$38),\"Yes\",IF(G14<'A - Contractor Summary'!$C$36,\"No\",IF(G14>'A - Contractor Summary'!$C$39,\"\",\"\")))","v":"Yes"},{"$f":"IF(OR(N14=\"Yes\",N14=\"No\")*AND(G14<'A - Contractor Summary'!$C$39),\"\",IF(AND(G14>'A - Contractor Summary'!$C$39,G14<'A - Contractor Summary'!$C$42),\"Yes\",IF(G14>'A - Contractor Summary'!$C$42,\"No\",\"Needs Review\")))","v":"Needs Review"},"Yes",{"$f":"IF(AND(P14=\"Yes\",L14=\"Yes\",M14=\"Yes\")*OR(O14=\"Yes\",N14=\"Yes\"),\"Yes\",IF(OR(L14=\"No\",N14=\"No\",O14=\"No\",P14=\"No\",M14=\"No\"),\"No\",\"Needs Review\"))","v":"Needs Review"},{"$f":"+K14","v":0},{"$f":"IF(Q14=\"Needs Review\",K14,0)","v":0},0,0]
[null,2,null,null,null,null,null,null,null,null,null,null,null,{"$f":"IF(AND(G15>='A - Contractor Summary'!$C$36,G15<='A - Contractor Summary'!$C$38),\"Yes\",IF(G15<'A - Contractor Summary'!$C$36,\"No\",IF(G15>'A - Contractor Summary'!$C$39,\"\",\"\")))","v":"Yes"},{"$f":"IF(OR(N15=\"Yes\",N15=\"No\")*AND(G15<'A - Contractor Summary'!$C$39),\"\",IF(AND(G15>'A - Contractor Summary'!$C$39,G15<'A - Contractor Summary'!$C$42),\"Yes\",IF(G15>'A - Contractor Summary'!$C$42,\"No\",\"Needs Review\")))","v":"Needs Review"},"Yes","Needs Review",{"$f":"+K15","v":0},0,0,0]
[null,3,null,null,null,null,null,null,null,null,null,null,null,{"$f":"IF(AND(G16>='A - Contractor Summary'!$C$36,G16<='A - Contractor Summary'!$C$38),\"Yes\",IF(G16<'A - Contractor Summary'!$C$36,\"No\",IF(G16>'A - Contractor Summary'!$C$39,\"\",\"\")))","v":"Yes"},{"$f":"IF(OR(N16=\"Yes\",N16=\"No\")*AND(G16<'A - Contractor Summary'!$C$39),\"\",IF(AND(G16>'A - Contractor Summary'!$C$39,G16<'A - Contractor Summary'!$C$42),\"Yes\",IF(G16>'A - Contractor Summary'!$C$42,\"No\",\"Needs Review\")))","v":"Needs Review"},"Yes","Needs Review",0,0,0,0]
[null,4,null,null,null,null,null,null,null,null,null,null,null,{"$f":"IF(AND(G17>='A - Contractor Summary'!$C$36,G17<='A - Contractor Summary'!$C$38),\"Yes\",IF(G17<'A - Contractor Summary'!$C$36,\"No\",IF(G17>'A - Contractor Summary'!$C$39,\"\",\"\")))","v":"Yes"},{"$f":"IF(OR(N17=\"Yes\",N17=\"No\")*AND(G17<'A - Contractor Summary'!$C$39),\"\",IF(AND(G17>'A - Contractor Summary'!$C$39,G17<'A - Contractor Summary'!$C$42),\"Yes\",IF(G17>'A - Contractor Summary'!$C$42,\"No\",\"Needs Review\")))","v":"Needs Review"},"Yes","Needs Review",0,0,0,0]
[null,5,null,null,null,null,null,null,null,null,null,null,null,{"$f":"IF(AND(G18>='A - Contractor Summary'!$C$36,G18<='A - Contractor Summary'!$C$38),\"Yes\",IF(G18<'A - Contractor Summary'!$C$36,\"No\",IF(G18>'A - Contractor Summary'!$C$39,\"\",\"\")))","v":"Yes"},{"$f":"IF(OR(N18=\"Yes\",N18=\"No\")*AND(G18<'A - Contractor Summary'!$C$39),\"\",IF(AND(G18>'A - Contractor Summary'!$C$39,G18<'A - Contractor Summary'!$C$42),\"Yes\",IF(G18>'A - Contractor Summary'!$C$42,\"No\",\"Needs Review\")))","v":"Needs Review"},"No","No",0,0,0,0]
[null,6,null,null,null,null,null,null,null,null,null,null,null,{"$f":"IF(AND(G19>='A - Contractor Summary'!$C$36,G19<='A - Contractor Summary'!$C$38),\"Yes\",IF(G19<'A - Contractor Summary'!$C$36,\"No\",IF(G19>'A - Contractor Summary'!$C$39,\"\",\"\")))","v":"Yes"},{"$f":"IF(OR(N19=\"Yes\",N19=\"No\")*AND(G19<'A - Contractor Summary'!$C$39),\"\",IF(AND(G19>'A - Contractor Summary'!$C$39,G19<'A - Contractor Summary'!$C$42),\"Yes\",IF(G19>'A - Contractor Summary'!$C$42,\"No\",\"Needs Review\")))","v":"Needs Review"},"Yes","Needs Review",0,0]
[null,7,null,null,null,null,null,null,null,null,null,null,null,{"$f":"IF(AND(G20>='A - Contractor Summary'!$C$36,G20<='A - Contractor Summary'!$C$38),\"Yes\",IF(G20<'A - Contractor Summary'!$C$36,\"No\",IF(G20>'A - Contractor Summary'!$C$39,\"\",\"\")))","v":"Yes"},{"$f":"IF(OR(N20=\"Yes\",N20=\"No\")*AND(G20<'A - Contractor Summary'!$C$39),\"\",IF(AND(G20>'A - Contractor Summary'!$C$39,G20<'A - Contractor Summary'!$C$42),\"Yes\",IF(G20>'A - Contractor Summary'!$C$42,\"No\",\"Needs Review\")))","v":"Needs Review"},"Yes","Needs Review",0,0]
[null,8,null,null,null,null,null,null,null,null,null,null,null,{"$f":"IF(AND(G21>='A - Contractor Summary'!$C$36,G21<='A - Contractor Summary'!$C$38),\"Yes\",IF(G21<'A - Contractor Summary'!$C$36,\"No\",IF(G21>'A - Contractor Summary'!$C$39,\"\",\"\")))","v":"Yes"},{"$f":"IF(OR(N21=\"Yes\",N21=\"No\")*AND(G21<'A - Contractor Summary'!$C$39),\"\",IF(AND(G21>'A - Contractor Summary'!$C$39,G21<'A - Contractor Summary'!$C$42),\"Yes\",IF(G21>'A - Contractor Summary'!$C$42,\"No\",\"Needs Review\")))","v":"Needs Review"},"Yes","Needs Review",0,0]
[null,9,null,null,null,null,null,null,null,null,null,null,null,{"$f":"IF(AND(G22>='A - Contractor Summary'!$C$36,G22<='A - Contractor Summary'!$C$38),\"Yes\",IF(G22<'A - Contractor Summary'!$C$36,\"No\",IF(G22>'A - Contractor Summary'!$C$39,\"\",\"\")))","v":"Yes"},{"$f":"IF(OR(N22=\"Yes\",N22=\"No\")*AND(G22<'A - Contractor Summary'!$C$39),\"\",IF(AND(G22>'A - Contractor Summary'!$C$39,G22<'A - Contractor Summary'!$C$42),\"Yes\",IF(G22>'A - Contractor Summary'!$C$42,\"No\",\"Needs Review\")))","v":"Needs Review"},"Yes","Needs Review",0,0]
[null,10,null,null,null,null,null,null,null,null,null,null,null,{"$f":"IF(AND(G23>='A - Contractor Summary'!$C$36,G23<='A - Contractor Summary'!$C$38),\"Yes\",IF(G23<'A - Contractor Summary'!$C$36,\"No\",IF(G23>'A - Contractor Summary'!$C$39,\"\",\"\")))","v":"Yes"},{"$f":"IF(OR(N23=\"Yes\",N23=\"No\")*AND(G23<'A - Contractor Summary'!$C$39),\"\",IF(AND(G23>'A - Contractor Summary'!$C$39,G23<'A - Contractor Summary'!$C$42),\"Yes\",IF(G23>'A - Contractor Summary'!$C$42,\"No\",\"Needs Review\")))","v":"Needs Review"},"Yes","Needs Review",0,0,0,0]
[null,11,null,null,null,null,null,null,null,null,null,null,null,{"$f":"IF(AND(G24>='A - Contractor Summary'!$C$36,G24<='A - Contractor Summary'!$C$38),\"Yes\",IF(G24<'A - Contractor Summary'!$C$36,\"No\",IF(G24>'A - Contractor Summary'!$C$39,\"\",\"\")))","v":"Yes"},{"$f":"IF(OR(N24=\"Yes\",N24=\"No\")*AND(G24<'A - Contractor Summary'!$C$39),\"\",IF(AND(G24>'A - Contractor Summary'!$C$39,G24<'A - Contractor Summary'!$C$42),\"Yes\",IF(G24>'A - Contractor Summary'!$C$42,\"No\",\"Needs Review\")))","v":"Needs Review"},"Yes","Needs Review",0,0,0,0]
[null,12,null,null,null,null,null,null,null,null,null,null,null,{"$f":"IF(AND(G25>='A - Contractor Summary'!$C$36,G25<='A - Contractor Summary'!$C$38),\"Yes\",IF(G25<'A - Contractor Summary'!$C$36,\"No\",IF(G25>'A - Contractor Summary'!$C$39,\"\",\"\")))","v":"Yes"},{"$f":"IF(OR(N25=\"Yes\",N25=\"No\")*AND(G25<'A - Contractor Summary'!$C$39),\"\",IF(AND(G25>'A - Contractor Summary'!$C$39,G25<'A - Contractor Summary'!$C$42),\"Yes\",IF(G25>'A - Contractor Summary'!$C$42,\"No\",\"Needs Review\")))","v":"Needs Review"},"Yes","Needs Review",0,0,0,0]
[null,13,null,null,null,null,null,null,null,null,null,null,null,{"$f":"IF(AND(G26>='A - Contractor Summary'!$C$36,G26<='A - Contractor Summary'!$C$38),\"Yes\",IF(G26<'A - Contractor Summary'!$C$36,\"No\",IF(G26>'A - Contractor Summary'!$C$39,\"\",\"\")))","v":"Yes"},{"$f":"IF(OR(N26=\"Yes\",N26=\"No\")*AND(G26<'A - Contractor Summary'!$C$39),\"\",IF(AND(G26>'A - Contractor Summary'!$C$39,G26<'A - Contractor Summary'!$C$42),\"Yes\",IF(G26>'A - Contractor Summary'!$C$42,\"No\",\"Needs Review\")))","v":"Needs Review"},"Yes","Needs Review",0,0,0,0]
[null,14,null,null,null,null,null,null,null,null,null,null,null,{"$f":"IF(AND(G27>='A - Contractor Summary'!$C$36,G27<='A - Contractor Summary'!$C$38),\"Yes\",IF(G27<'A - Contractor Summary'!$C$36,\"No\",IF(G27>'A - Contractor Summary'!$C$39,\"\",\"\")))","v":"Yes"},{"$f":"IF(OR(N27=\"Yes\",N27=\"No\")*AND(G27<'A - Contractor Summary'!$C$39),\"\",IF(AND(G27>'A - Contractor Summary'!$C$39,G27<'A - Contractor Summary'!$C$42),\"Yes\",IF(G27>'A - Contractor Summary'!$C$42,\"No\",\"Needs Review\")))","v":"Needs Review"},"Yes","Needs Review",0,0,0,0]
[null,15,null,null,null,null,null,null,null,null,null,null,null,{"$f":"IF(AND(G28>='A - Contractor Summary'!$C$36,G28<='A - Contractor Summary'!$C$38),\"Yes\",IF(G28<'A - Contractor Summary'!$C$36,\"No\",IF(G28>'A - Contractor Summary'!$C$39,\"\",\"\")))","v":"Yes"},{"$f":"IF(OR(N28=\"Yes\",N28=\"No\")*AND(G28<'A - Contractor Summary'!$C$39),\"\",IF(AND(G28>'A - Contractor Summary'!$C$39,G28<'A - Contractor Summary'!$C$42),\"Yes\",IF(G28>'A - Contractor Summary'!$C$42,\"No\",\"Needs Review\")))","v":"Needs Review"},"Yes","Needs Review",0,0,0,0]
[null,16,null,null,null,null,null,null,null,null,null,null,null,{"$f":"IF(AND(G29>='A - Contractor Summary'!$C$36,G29<='A - Contractor Summary'!$C$38),\"Yes\",IF(G29<'A - Contractor Summary'!$C$36,\"No\",IF(G29>'A - Contractor Summary'!$C$39,\"\",\"\")))","v":"Yes"},{"$f":"IF(OR(N29=\"Yes\",N29=\"No\")*AND(G29<'A - Contractor Summary'!$C$39),\"\",IF(AND(G29>'A - Contractor Summary'!$C$39,G29<'A - Contractor Summary'!$C$42),\"Yes\",IF(G29>'A - Contractor Summary'!$C$42,\"No\",\"Needs Review\")))","v":"Needs Review"},"No","No",0,0,0,0]
[null,17,null,null,null,null,null,null,null,null,null,null,null,{"$f":"IF(AND(G30>='A - Contractor Summary'!$C$36,G30<='A - Contractor Summary'!$C$38),\"Yes\",IF(G30<'A - Contractor Summary'!$C$36,\"No\",IF(G30>'A - Contractor Summary'!$C$39,\"\",\"\")))","v":"Yes"},{"$f":"IF(OR(N30=\"Yes\",N30=\"No\")*AND(G30<'A - Contractor Summary'!$C$39),\"\",IF(AND(G30>'A - Contractor Summary'!$C$39,G30<'A - Contractor Summary'!$C$42),\"Yes\",IF(G30>'A - Contractor Summary'!$C$42,\"No\",\"Needs Review\")))","v":"Needs Review"},"Yes","Needs Review",0,0]
[null,18,null,null,null,null,null,null,null,null,null,null,null,{"$f":"IF(AND(G31>='A - Contractor Summary'!$C$36,G31<='A - Contractor Summary'!$C$38),\"Yes\",IF(G31<'A - Contractor Summary'!$C$36,\"No\",IF(G31>'A - Contractor Summary'!$C$39,\"\",\"\")))","v":"Yes"},{"$f":"IF(OR(N31=\"Yes\",N31=\"No\")*AND(G31<'A - Contractor Summary'!$C$39),\"\",IF(AND(G31>'A - Contractor Summary'!$C$39,G31<'A - Contractor Summary'!$C$42),\"Yes\",IF(G31>'A - Contractor Summary'!$C$42,\"No\",\"Needs Review\")))","v":"Needs Review"},"Yes","Needs Review",0,0]
[null,19,null,null,null,null,null,null,null,null,null,null,null,{"$f":"IF(AND(G32>='A - Contractor Summary'!$C$36,G32<='A - Contractor Summary'!$C$38),\"Yes\",IF(G32<'A - Contractor Summary'!$C$36,\"No\",IF(G32>'A - Contractor Summary'!$C$39,\"\",\"\")))","v":"Yes"},{"$f":"IF(OR(N32=\"Yes\",N32=\"No\")*AND(G32<'A - Contractor Summary'!$C$39),\"\",IF(AND(G32>'A - Contractor Summary'!$C$39,G32<'A - Contractor Summary'!$C$42),\"Yes\",IF(G32>'A - Contractor Summary'!$C$42,\"No\",\"Needs Review\")))","v":"Needs Review"},"Yes","Needs Review",0,0,0,0]
[null,20,null,null,null,null,null,null,null,null,null,null,null,{"$f":"IF(AND(G33>='A - Contractor Summary'!$C$36,G33<='A - Contractor Summary'!$C$38),\"Yes\",IF(G33<'A - Contractor Summary'!$C$36,\"No\",IF(G33>'A - Contractor Summary'!$C$39,\"\",\"\")))","v":"Yes"},{"$f":"IF(OR(N33=\"Yes\",N33=\"No\")*AND(G33<'A - Contractor Summary'!$C$39),\"\",IF(AND(G33>'A - Contractor Summary'!$C$39,G33<'A - Contractor Summary'!$C$42),\"Yes\",IF(G33>'A - Contractor Summary'!$C$42,\"No\",\"Needs Review\")))","v":"Needs Review"},"Yes","Needs Review",0,0]
[null,21,null,null,null,null,null,null,null,null,null,null,null,{"$f":"IF(AND(G34>='A - Contractor Summary'!$C$36,G34<='A - Contractor Summary'!$C$38),\"Yes\",IF(G34<'A - Contractor Summary'!$C$36,\"No\",IF(G34>'A - Contractor Summary'!$C$39,\"\",\"\")))","v":"Yes"},{"$f":"IF(OR(N34=\"Yes\",N34=\"No\")*AND(G34<'A - Contractor Summary'!$C$39),\"\",IF(AND(G34>'A - Contractor Summary'!$C$39,G34<'A - Contractor Summary'!$C$42),\"Yes\",IF(G34>'A - Contractor Summary'!$C$42,\"No\",\"Needs Review\")))","v":"Needs Review"},"Yes","Needs Review",0,0]
[null,22,null,null,null,null,null,null,null,null,null,null,null,{"$f":"IF(AND(G35>='A - Contractor Summary'!$C$36,G35<='A - Contractor Summary'!$C$38),\"Yes\",IF(G35<'A - Contractor Summary'!$C$36,\"No\",IF(G35>'A - Contractor Summary'!$C$39,\"\",\"\")))","v":"Yes"},{"$f":"IF(OR(N35=\"Yes\",N35=\"No\")*AND(G35<'A - Contractor Summary'!$C$39),\"\",IF(AND(G35>'A - Contractor Summary'!$C$39,G35<'A - Contractor Summary'!$C$42),\"Yes\",IF(G35>'A - Contractor Summary'!$C$42,\"No\",\"Needs Review\")))","v":"Needs Review"},"Yes","Needs Review",0,0,0,0]
[null,23,null,null,null,null,null,null,null,null,null,null,null,{"$f":"IF(AND(G36>='A - Contractor Summary'!$C$36,G36<='A - Contractor Summary'!$C$38),\"Yes\",IF(G36<'A - Contractor Summary'!$C$36,\"No\",IF(G36>'A - Contractor Summary'!$C$39,\"\",\"\")))","v":"Yes"},{"$f":"IF(OR(N36=\"Yes\",N36=\"No\")*AND(G36<'A - Contractor Summary'!$C$39),\"\",IF(AND(G36>'A - Contractor Summary'!$C$39,G36<'A - Contractor Summary'!$C$42),\"Yes\",IF(G36>'A - Contractor Summary'!$C$42,\"No\",\"Needs Review\")))","v":"Needs Review"},"Yes","Needs Review",0,0,0,0]
[null,24,null,null,null,null,null,null,null,null,null,null,null,{"$f":"IF(AND(G37>='A - Contractor Summary'!$C$36,G37<='A - Contractor Summary'!$C$38),\"Yes\",IF(G37<'A - Contractor Summary'!$C$36,\"No\",IF(G37>'A - Contractor Summary'!$C$39,\"\",\"\")))","v":"Yes"},{"$f":"IF(OR(N37=\"Yes\",N37=\"No\")*AND(G37<'A - Contractor Summary'!$C$39),\"\",IF(AND(G37>'A - Contractor Summary'!$C$39,G37<'A - Contractor Summary'!$C$42),\"Yes\",IF(G37>'A - Contractor Summary'!$C$42,\"No\",\"Needs Review\")))","v":"Needs Review"},"Yes","Needs Review",0,0]
[null,25,null,null,null,null,null,null,null,null,null,null,null,{"$f":"IF(AND(G38>='A - Contractor Summary'!$C$36,G38<='A - Contractor Summary'!$C$38),\"Yes\",IF(G38<'A - Contractor Summary'!$C$36,\"No\",IF(G38>'A - Contractor Summary'!$C$39,\"\",\"\")))","v":"Yes"},{"$f":"IF(OR(N38=\"Yes\",N38=\"No\")*AND(G38<'A - Contractor Summary'!$C$39),\"\",IF(AND(G38>'A - Contractor Summary'!$C$39,G38<'A - Contractor Summary'!$C$42),\"Yes\",IF(G38>'A - Contractor Summary'!$C$42,\"No\",\"Needs Review\")))","v":"Needs Review"},"Yes","Needs Review",0,0]
[null,26,null,null,null,null,null,null,null,null,null,null,null,{"$f":"IF(AND(G39>='A - Contractor Summary'!$C$36,G39<='A - Contractor Summary'!$C$38),\"Yes\",IF(G39<'A - Contractor Summary'!$C$36,\"No\",IF(G39>'A - Contractor Summary'!$C$39,\"\",\"\")))","v":"Yes"},{"$f":"IF(OR(N39=\"Yes\",N39=\"No\")*AND(G39<'A - Contractor Summary'!$C$39),\"\",IF(AND(G39>'A - Contractor Summary'!$C$39,G39<'A - Contractor Summary'!$C$42),\"Yes\",IF(G39>'A - Contractor Summary'!$C$42,\"No\",\"Needs Review\")))","v":"Needs Review"},"Yes","Needs Review",0,0]
[null,27,null,null,null,null,null,null,null,null,null,null,null,{"$f":"IF(AND(G40>='A - Contractor Summary'!$C$36,G40<='A - Contractor Summary'!$C$38),\"Yes\",IF(G40<'A - Contractor Summary'!$C$36,\"No\",IF(G40>'A - Contractor Summary'!$C$39,\"\",\"\")))","v":"Yes"},{"$f":"IF(OR(N40=\"Yes\",N40=\"No\")*AND(G40<'A - Contractor Summary'!$C$39),\"\",IF(AND(G40>'A - Contractor Summary'!$C$39,G40<'A - Contractor Summary'!$C$42),\"Yes\",IF(G40>'A - Contractor Summary'!$C$42,\"No\",\"Needs Review\")))","v":"Needs Review"},"Yes","Needs Review",0,0]
[null,28,null,null,null,null,null,null,null,null,null,null,null,{"$f":"IF(AND(G41>='A - Contractor Summary'!$C$36,G41<='A - Contractor Summary'!$C$38),\"Yes\",IF(G41<'A - Contractor Summary'!$C$36,\"No\",IF(G41>'A - Contractor Summary'!$C$39,\"\",\"\")))","v":"Yes"},{"$f":"IF(OR(N41=\"Yes\",N41=\"No\")*AND(G41<'A - Contractor Summary'!$C$39),\"\",IF(AND(G41>'A - Contractor Summary'!$C$39,G41<'A - Contractor Summary'!$C$42),\"Yes\",IF(G41>'A - Contractor Summary'!$C$42,\"No\",\"Needs Review\")))","v":"Needs Review"},"Yes","Needs Review",0,0,0,0]
[null,29,null,null,null,null,null,null,null,null,null,null,null,{"$f":"IF(AND(G42>='A - Contractor Summary'!$C$36,G42<='A - Contractor Summary'!$C$38),\"Yes\",IF(G42<'A - Contractor Summary'!$C$36,\"No\",IF(G42>'A - Contractor Summary'!$C$39,\"\",\"\")))","v":"Yes"},{"$f":"IF(OR(N42=\"Yes\",N42=\"No\")*AND(G42<'A - Contractor Summary'!$C$39),\"\",IF(AND(G42>'A - Contractor Summary'!$C$39,G42<'A - Contractor Summary'!$C$42),\"Yes\",IF(G42>'A - Contractor Summary'!$C$42,\"No\",\"Needs Review\")))","v":"Needs Review"},"Yes","Needs Review",0,0]
[null,30,null,null,null,null,null,null,null,null,null,null,null,{"$f":"IF(AND(G43>='A - Contractor Summary'!$C$36,G43<='A - Contractor Summary'!$C$38),\"Yes\",IF(G43<'A - Contractor Summary'!$C$36,\"No\",IF(G43>'A - Contractor Summary'!$C$39,\"\",\"\")))","v":"Yes"},{"$f":"IF(OR(N43=\"Yes\",N43=\"No\")*AND(G43<'A - Contractor Summary'!$C$39),\"\",IF(AND(G43>'A - Contractor Summary'!$C$39,G43<'A - Contractor Summary'!$C$42),\"Yes\",IF(G43>'A - Contractor Summary'!$C$42,\"No\",\"Needs Review\")))","v":"Needs Review"},"Yes","Needs Review",0,0]
[null,31,null,null,null,null,null,null,null,null,null,null,null,{"$f":"IF(AND(G44>='A - Contractor Summary'!$C$36,G44<='A - Contractor Summary'!$C$38),\"Yes\",IF(G44<'A - Contractor Summary'!$C$36,\"No\",IF(G44>'A - Contractor Summary'!$C$39,\"\",\"\")))","v":"Yes"},{"$f":"IF(OR(N44=\"Yes\",N44=\"No\")*AND(G44<'A - Contractor Summary'!$C$39),\"\",IF(AND(G44>'A - Contractor Summary'!$C$39,G44<'A - Contractor Summary'!$C$42),\"Yes\",IF(G44>'A - Contractor Summary'!$C$42,\"No\",\"Needs Review\")))","v":"Needs Review"},"Yes","Needs Review",0,0]
[null,32,null,null,null,null,null,null,null,null,null,null,null,{"$f":"IF(AND(G45>='A - Contractor Summary'!$C$36,G45<='A - Contractor Summary'!$C$38),\"Yes\",IF(G45<'A - Contractor Summary'!$C$36,\"No\",IF(G45>'A - Contractor Summary'!$C$39,\"\",\"\")))","v":"Yes"},{"$f":"IF(OR(N45=\"Yes\",N45=\"No\")*AND(G45<'A - Contractor Summary'!$C$39),\"\",IF(AND(G45>'A - Contractor Summary'!$C$39,G45<'A - Contractor Summary'!$C$42),\"Yes\",IF(G45>'A - Contractor Summary'!$C$42,\"No\",\"Needs Review\")))","v":"Needs Review"},"Yes","Needs Review",0,0]
[null,33,null,null,null,null,null,null,null,null,null,null,null,{"$f":"IF(AND(G46>='A - Contractor Summary'!$C$36,G46<='A - Contractor Summary'!$C$38),\"Yes\",IF(G46<'A - Contractor Summary'!$C$36,\"No\",IF(G46>'A - Contractor Summary'!$C$39,\"\",\"\")))","v":"Yes"},{"$f":"IF(OR(N46=\"Yes\",N46=\"No\")*AND(G46<'A - Contractor Summary'!$C$39),\"\",IF(AND(G46>'A - Contractor Summary'!$C$39,G46<'A - Contractor Summary'!$C$42),\"Yes\",IF(G46>'A - Contractor Summary'!$C$42,\"No\",\"Needs Review\")))","v":"Needs Review"},"Yes",{"$f":"IF(AND(P46=\"Yes\",L46=\"Yes\",M46=\"Yes\")*OR(O46=\"Yes\",N46=\"Yes\"),\"Yes\",IF(OR(L46=\"No\",N46=\"No\",O46=\"No\",P46=\"No\",M46=\"No\"),\"No\",\"Needs Review\"))","v":"Needs Review"},0,{"$f":"IF(Q46=\"Needs Review\",K46,0)","v":0}]
[null,34,null,null,null,null,null,null,null,null,null,null,null,{"$f":"IF(AND(G47>='A - Contractor Summary'!$C$36,G47<='A - Contractor Summary'!$C$38),\"Yes\",IF(G47<'A - Contractor Summary'!$C$36,\"No\",IF(G47>'A - Contractor Summary'!$C$39,\"\",\"\")))","v":"Yes"},{"$f":"IF(OR(N47=\"Yes\",N47=\"No\")*AND(G47<'A - Contractor Summary'!$C$39),\"\",IF(AND(G47>'A - Contractor Summary'!$C$39,G47<'A - Contractor Summary'!$C$42),\"Yes\",IF(G47>'A - Contractor Summary'!$C$42,\"No\",\"Needs Review\")))","v":"Needs Review"},"Yes","Needs Review",0,0]
[null,35,null,null,null,null,null,null,null,null,null,null,null,{"$f":"IF(AND(G48>='A - Contractor Summary'!$C$36,G48<='A - Contractor Summary'!$C$38),\"Yes\",IF(G48<'A - Contractor Summary'!$C$36,\"No\",IF(G48>'A - Contractor Summary'!$C$39,\"\",\"\")))","v":"Yes"},{"$f":"IF(OR(N48=\"Yes\",N48=\"No\")*AND(G48<'A - Contractor Summary'!$C$39),\"\",IF(AND(G48>'A - Contractor Summary'!$C$39,G48<'A - Contractor Summary'!$C$42),\"Yes\",IF(G48>'A - Contractor Summary'!$C$42,\"No\",\"Needs Review\")))","v":"Needs Review"},"Yes","Needs Review",0,0,0,0]
[null,36,null,null,null,null,null,null,null,null,null,null,null,{"$f":"IF(AND(G49>='A - Contractor Summary'!$C$36,G49<='A - Contractor Summary'!$C$38),\"Yes\",IF(G49<'A - Contractor Summary'!$C$36,\"No\",IF(G49>'A - Contractor Summary'!$C$39,\"\",\"\")))","v":"Yes"},{"$f":"IF(OR(N49=\"Yes\",N49=\"No\")*AND(G49<'A - Contractor Summary'!$C$39),\"\",IF(AND(G49>'A - Contractor Summary'!$C$39,G49<'A - Contractor Summary'!$C$42),\"Yes\",IF(G49>'A - Contractor Summary'!$C$42,\"No\",\"Needs Review\")))","v":"Needs Review"},"Yes","Needs Review",0,0]
[null,37,null,null,null,null,null,null,null,null,null,null,null,{"$f":"IF(AND(G50>='A - Contractor Summary'!$C$36,G50<='A - Contractor Summary'!$C$38),\"Yes\",IF(G50<'A - Contractor Summary'!$C$36,\"No\",IF(G50>'A - Contractor Summary'!$C$39,\"\",\"\")))","v":"Yes"},{"$f":"IF(OR(N50=\"Yes\",N50=\"No\")*AND(G50<'A - Contractor Summary'!$C$39),\"\",IF(AND(G50>'A - Contractor Summary'!$C$39,G50<'A - Contractor Summary'!$C$42),\"Yes\",IF(G50>'A - Contractor Summary'!$C$42,\"No\",\"Needs Review\")))","v":"Needs Review"},"Yes","Needs Review",0,0]
[null,38,null,null,null,null,null,null,null,null,null,null,null,{"$f":"IF(AND(G51>='A - Contractor Summary'!$C$36,G51<='A - Contractor Summary'!$C$38),\"Yes\",IF(G51<'A - Contractor Summary'!$C$36,\"No\",IF(G51>'A - Contractor Summary'!$C$39,\"\",\"\")))","v":"Yes"},{"$f":"IF(OR(N51=\"Yes\",N51=\"No\")*AND(G51<'A - Contractor Summary'!$C$39),\"\",IF(AND(G51>'A - Contractor Summary'!$C$39,G51<'A - Contractor Summary'!$C$42),\"Yes\",IF(G51>'A - Contractor Summary'!$C$42,\"No\",\"Needs Review\")))","v":"Needs Review"},"Yes","Needs Review",0,0]
[null,39,null,null,null,null,null,null,null,null,null,null,null,{"$f":"IF(AND(G52>='A - Contractor Summary'!$C$36,G52<='A - Contractor Summary'!$C$38),\"Yes\",IF(G52<'A - Contractor Summary'!$C$36,\"No\",IF(G52>'A - Contractor Summary'!$C$39,\"\",\"\")))","v":"Yes"},{"$f":"IF(OR(N52=\"Yes\",N52=\"No\")*AND(G52<'A - Contractor Summary'!$C$39),\"\",IF(AND(G52>'A - Contractor Summary'!$C$39,G52<'A - Contractor Summary'!$C$42),\"Yes\",IF(G52>'A - Contractor Summary'!$C$42,\"No\",\"Needs Review\")))","v":"Needs Review"},"Yes","Needs Review",0,0,0,0]
[null,40,null,null,null,null,null,null,null,null,null,null,null,{"$f":"IF(AND(G53>='A - Contractor Summary'!$C$36,G53<='A - Contractor Summary'!$C$38),\"Yes\",IF(G53<'A - Contractor Summary'!$C$36,\"No\",IF(G53>'A - Contractor Summary'!$C$39,\"\",\"\")))","v":"Yes"},{"$f":"IF(OR(N53=\"Yes\",N53=\"No\")*AND(G53<'A - Contractor Summary'!$C$39),\"\",IF(AND(G53>'A - Contractor Summary'!$C$39,G53<'A - Contractor Summary'!$C$42),\"Yes\",IF(G53>'A - Contractor Summary'!$C$42,\"No\",\"Needs Review\")))","v":"Needs Review"},"Yes","Needs Review",0,0,0,0]
[null,41,null,null,null,null,null,null,null,null,null,null,null,{"$f":"IF(AND(G54>='A - Contractor Summary'!$C$36,G54<='A - Contractor Summary'!$C$38),\"Yes\",IF(G54<'A - Contractor Summary'!$C$36,\"No\",IF(G54>'A - Contractor Summary'!$C$39,\"\",\"\")))","v":"Yes"},{"$f":"IF(OR(N54=\"Yes\",N54=\"No\")*AND(G54<'A - Contractor Summary'!$C$39),\"\",IF(AND(G54>'A - Contractor Summary'!$C$39,G54<'A - Contractor Summary'!$C$42),\"Yes\",IF(G54>'A - Contractor Summary'!$C$42,\"No\",\"Needs Review\")))","v":"Needs Review"},"Yes","Needs Review",0,0]
[null,42,null,null,null,null,null,null,null,null,null,null,null,{"$f":"IF(AND(G55>='A - Contractor Summary'!$C$36,G55<='A - Contractor Summary'!$C$38),\"Yes\",IF(G55<'A - Contractor Summary'!$C$36,\"No\",IF(G55>'A - Contractor Summary'!$C$39,\"\",\"\")))","v":"Yes"},{"$f":"IF(OR(N55=\"Yes\",N55=\"No\")*AND(G55<'A - Contractor Summary'!$C$39),\"\",IF(AND(G55>'A - Contractor Summary'!$C$39,G55<'A - Contractor Summary'!$C$42),\"Yes\",IF(G55>'A - Contractor Summary'!$C$42,\"No\",\"Needs Review\")))","v":"Needs Review"},"No","No",0,0,0,0]
[null,43,null,null,null,null,null,null,null,null,null,null,null,{"$f":"IF(AND(G56>='A - Contractor Summary'!$C$36,G56<='A - Contractor Summary'!$C$38),\"Yes\",IF(G56<'A - Contractor Summary'!$C$36,\"No\",IF(G56>'A - Contractor Summary'!$C$39,\"\",\"\")))","v":"Yes"},{"$f":"IF(OR(N56=\"Yes\",N56=\"No\")*AND(G56<'A - Contractor Summary'!$C$39),\"\",IF(AND(G56>'A - Contractor Summary'!$C$39,G56<'A - Contractor Summary'!$C$42),\"Yes\",IF(G56>'A - Contractor Summary'!$C$42,\"No\",\"Needs Review\")))","v":"Needs Review"},"Yes","Needs Review",0,0,0,0]
[null,null,null,null,null,null,null,null,null,null,{"$f":"SUM(K14:K56)","v":0},null,null,null,null,null,null,{"$f":"IFERROR(SUM(R14:R56),0)","v":0},{"$f":"IFERROR(SUM(S14:S56),0)","v":0},{"$f":"SUM(T14:T56)","v":0},{"$f":"SUM(U14:U56)","v":0},{"$f":"S57-T57-U57","v":0},"check (a)"]
[]
[]
[]
[null,"Tickmark Explanation:"]
[null,null,1]
[null,null,2]
[null,null,3]
[null,null,4]
[null,null,5]
[null,null,6]
[null,null,7]

{"sheet":"I - Other","index":11,"n_rows":29,"n_cols":23,"rows_kept":29,"cut":false,"hidden":false,"merged":[[12,13,12,21],[12,1,12,12],[3,1,7,12],[29,3,29,21]]}
[]
[null,"Other Charges"]
[]
[null,"Test Plan: (A) Obtain support of individual charges.   (B) Enter Yes/No if receipt is itemized.  (C) Enter Yes/No if proof of payment has been provided.  (D) Ensure charges fall between the dates the vendor was mobilized and the date they arrived.  (E) Ensure charges are prior to the date the vendor arrived home or was released to another utility.  (F) Ensure the expense type is reasonable (G) Determine the amount(s) to be reviewed, allowed and/or disallowed.   (H)  For charges which required further review, document review and include why it was determined to be allowed/disallowed via a tickmark."]
[]
[]
[]
[]
[null,"a","Check figure should equal $0.  Cell will appear yellow if discrepancies are noted."]
[]
[]
[null,null,"A",null,null,null,null,null,null,null,null,"B","C","D","E","F","G",null,null,"H"]
[null,"Support Reviewed",null,null,null,null,null,null,null,null,null,null,null,"Conclusions"]
[null,"#","Type of Support","Support Identifier","Company","Crew","Date","Person","Vendor Name","Location","$ Total","Itemized Receipt","Proof of Payment","Reasonable based on Mobilization date(s)","Reasonable based on Demobilization date(s)","Expense Type Appropriate","Conclusion","$ Allowable Charge","$ To Be Reviewed","Reviewed - Allowable Charge","Reviewed - Unallowable Charge","Tickmarks"]
[null,1,null,null,null,null,null,"N/A",null,null,null,"Yes","Yes","Yes",{"$f":"IF(OR(N15=\"Yes\",N15=\"No\")*AND(G15<'A - Contractor Summary'!$C$39),\"\",IF(AND(G15>'A - Contractor Summary'!$C$39,G15<'A - Contractor Summary'!$C$42),\"Yes\",IF(G15>'A - Contractor Summary'!$C$42,\"No\",\"Needs Review\")))","v":"Needs Review"},"Needs Reviewed","Needs Reviewed",null,{"$f":"+K15","v":0},{"$f":"+K15","v":0},null,1]
[null,2,null,null,null,null,null,"N/A",null,null,null,"Yes","Yes","Yes",{"$f":"IF(OR(N16=\"Yes\",N16=\"No\")*AND(G16<'A - Contractor Summary'!$C$39),\"\",IF(AND(G16>'A - Contractor Summary'!$C$39,G16<'A - Contractor Summary'!$C$42),\"Yes\",IF(G16>'A - Contractor Summary'!$C$42,\"No\",\"Needs Review\")))","v":"Needs Review"},"Needs Reviewed","Needs Reviewed",null,{"$f":"+K16","v":0},{"$f":"+K16","v":0},null,1]
[null,3,null,null,null,null,null,"N/A",null,null,null,"Yes","Yes","Yes",{"$f":"IF(OR(N17=\"Yes\",N17=\"No\")*AND(G17<'A - Contractor Summary'!$C$39),\"\",IF(AND(G17>'A - Contractor Summary'!$C$39,G17<'A - Contractor Summary'!$C$42),\"Yes\",IF(G17>'A - Contractor Summary'!$C$42,\"No\",\"Needs Review\")))","v":"Needs Review"},"Needs Reviewed","Needs Reviewed",null,0,0,null,1]
[null,4,null,null,null,null,null,"N/A",null,null,null,"Yes","Yes","Yes",{"$f":"IF(OR(N18=\"Yes\",N18=\"No\")*AND(G18<'A - Contractor Summary'!$C$39),\"\",IF(AND(G18>'A - Contractor Summary'!$C$39,G18<'A - Contractor Summary'!$C$42),\"Yes\",IF(G18>'A - Contractor Summary'!$C$42,\"No\",\"Needs Review\")))","v":"Needs Review"},"Needs Reviewed","Needs Reviewed",null,0,0,null,1]
[null,5,null,null,null,null,null,"N/A",null,null,null,"Yes","Yes","Yes",{"$f":"IF(OR(N19=\"Yes\",N19=\"No\")*AND(G19<'A - Contractor Summary'!$C$39),\"\",IF(AND(G19>'A - Contractor Summary'!$C$39,G19<'A - Contractor Summary'!$C$42),\"Yes\",IF(G19>'A - Contractor Summary'!$C$42,\"No\",\"Needs Review\")))","v":"Needs Review"},"Needs Reviewed","Needs Reviewed",null,0,0,null,1]
[null,6,null,null,null,null,null,"N/A",null,null,null,"Yes","Yes","Yes",{"$f":"IF(OR(N20=\"Yes\",N20=\"No\")*AND(G20<'A - Contractor Summary'!$C$39),\"\",IF(AND(G20>'A - Contractor Summary'!$C$39,G20<'A - Contractor Summary'!$C$42),\"Yes\",IF(G20>'A - Contractor Summary'!$C$42,\"No\",\"Needs Review\")))","v":"Needs Review"},"Needs Reviewed","Needs Reviewed",null,0,0,null,1]
[null,7,null,null,null,null,null,"N/A",null,null,null,"Yes","Yes","Yes",{"$f":"IF(OR(N21=\"Yes\",N21=\"No\")*AND(G21<'A - Contractor Summary'!$C$39),\"\",IF(AND(G21>'A - Contractor Summary'!$C$39,G21<'A - Contractor Summary'!$C$42),\"Yes\",IF(G21>'A - Contractor Summary'!$C$42,\"No\",\"Needs Review\")))","v":"Needs Review"},"Needs Reviewed","Needs Reviewed",null,0,0,null,1]
[null,8,null,null,null,null,null,"N/A",null,null,null,"Yes","Yes","Yes",{"$f":"IF(OR(N22=\"Yes\",N22=\"No\")*AND(G22<'A - Contractor Summary'!$C$39),\"\",IF(AND(G22>'A - Contractor Summary'!$C$39,G22<'A - Contractor Summary'!$C$42),\"Yes\",IF(G22>'A - Contractor Summary'!$C$42,\"No\",\"Needs Review\")))","v":"Needs Review"},"Needs Reviewed","Needs Reviewed",null,0,0,null,1]
[null,9,null,null,null,null,null,"N/A",null,null,null,"Yes","Yes","Yes",{"$f":"IF(OR(N23=\"Yes\",N23=\"No\")*AND(G23<'A - Contractor Summary'!$C$39),\"\",IF(AND(G23>'A - Contractor Summary'!$C$39,G23<'A - Contractor Summary'!$C$42),\"Yes\",IF(G23>'A - Contractor Summary'!$C$42,\"No\",\"Needs Review\")))","v":"Needs Review"},"Needs Reviewed","Needs Reviewed",{"$f":"+K23","v":0},0,{"$f":"SUM('B - Summary Expenses '!E21:F23)*0.1","v":0},null,1]
[null,null,null,null,null,null,null,null,null,null,{"$f":"SUM(K15:K23)","v":0},null,null,null,null,null,null,{"$f":"IFERROR(SUM(R15:R23),0)","v":0},{"$f":"SUM(S15:S23)","v":0},{"$f":"SUM(T15:T23)","v":0},{"$f":"SUM(U15:U15)","v":0},{"$f":"S24-T24-U24","v":0},"check (a)"]
[]
[]
[]
[null,"Tickmark Explanation:"]
[null,null,1]

{"sheet":"G - Per Diem","index":12,"n_rows":63,"n_cols":19,"rows_kept":63,"cut":false,"hidden":false,"merged":[[3,1,8,9],[1,1,1,17],[14,9,14,17],[14,1,14,8],[4,11,6,16]]}
[null,null,null,null,null,null,null," "]
[null,"Per Diem Charges"]
[]
[null,"Test Plan: (A) Enter per diem charges per invoice. (B) Enter number of crew worked per timecard.  (C) Enter the Per Diem Rate charged per person per meal (D) Ensure the number of crew members being charged is appropriate (This is comparing the submitted timecards and the per diem charges invoiced).  (E) Ensure charges fall between the dates the vendor was mobilized and the date they arrived.  (F) Ensure charges are prior to the date the vendor arrived home or was released to another utility.  (G)  Determine the amount(s) to be reviewed, allowed and/or disallowed.   (H) For charges which required further review, document review and include why it was determined to be allowed/disallowed via a tickmark."]
[]
[]
[]
[]
[]
[null,"Rx","Recalculated."]
[null,"a","Check figure should equal $0.  Cell will appear yellow if discrepancies are noted."]
[]
[]
[null,"A",null,null,null,"B","Rx","C","Rx","D","E","F","G",null,null,"H"]
[null,"Support Reviewed",null,null,null,null,null,null,null,"Conclusion"]
[null,"Dates","Company","Per Diem Type","# Crew Worked (per invoice)","# Crew Worked (per timecards)","Difference","Per Diem Rate","Total Per Diem  ","# Crew Reasonable","Reasonable based on Mobilization date(s)","Reasonable based on Demobilization date(s)","Conclusion","$ Allowable Charge","$ To Be Reviewed","Reviewed - Allowable Charge","Reviewed - Unallowable Charge","Tickmarks"]
[null,"2018-10-17","SW007770",null,2,2,{"$f":"E17-F17","v":0},8,{"$f":"H17*F17","v":16},{"$f":"IF(G17>0,\"No\",IF(F17=0,\"N/A\",\"Yes\"))","v":"Yes"},"Reasonable based on Mobilization date(s)","yes",{"$f":"IF(AND(J17=\"Yes\")*OR(K17=\"Yes\",L17=\"Yes\"),\"Yes\",IF(OR(K17=\"No\",J17=\"No\",L17=\"No\"),\"No\",\"Needs Review\"))","v":"Yes"},{"$f":"IF(M17=\"Yes\",I17,0)","v":16},{"$f":"IF(M17=\"Needs Review\",I17,0)","v":0}]
[null,"2018-10-17","SW007770",null,2,2,0,11,22,{"$f":"IF(G18>0,\"No\",IF(F18=0,\"N/A\",\"Yes\"))","v":"Yes"},"Reasonable based on Mobilization date(s)","yes",{"$f":"IF(AND(J18=\"Yes\")*OR(K18=\"Yes\",L18=\"Yes\"),\"Yes\",IF(OR(K18=\"No\",J18=\"No\",L18=\"No\"),\"No\",\"Needs Review\"))","v":"Yes"},{"$f":"IF(M18=\"Yes\",I18,0)","v":22},{"$f":"IF(M18=\"Needs Review\",I18,0)","v":0}]
[null,"2018-10-17","SW007770",null,2,2,0,18.5,37,{"$f":"IF(G19>0,\"No\",IF(F19=0,\"N/A\",\"Yes\"))","v":"Yes"},"Reasonable based on Mobilization date(s)","yes","Yes",37,0]
[null,"2018-10-17","SW007772",null,2,2,{"$f":"E20-F20","v":0},8,{"$f":"H20*F20","v":16},{"$f":"IF(G20>0,\"No\",IF(F20=0,\"N/A\",\"Yes\"))","v":"Yes"},"Reasonable based on Mobilization date(s)","yes",{"$f":"IF(AND(J20=\"Yes\")*OR(K20=\"Yes\",L20=\"Yes\"),\"Yes\",IF(OR(K20=\"No\",J20=\"No\",L20=\"No\"),\"No\",\"Needs Review\"))","v":"Yes"},{"$f":"IF(M20=\"Yes\",I20,0)","v":16},{"$f":"IF(M20=\"Needs Review\",I20,0)","v":0}]
[null,"2018-10-17","SW007772",null,2,2,0,11,22,"Yes","Reasonable based on Mobilization date(s)","yes","Yes",22,0]
[null,"2018-10-17","SW007772",null,2,2,0,18.5,37,"Yes","Reasonable based on Mobilization date(s)","yes","Yes",37,0]
[null,"2018-10-17","SW007775",null,2,2,{"$f":"E23-F23","v":0},8,16,"Yes","Reasonable based on Mobilization date(s)","yes","Yes",16,0]
[null,"2018-10-17","SW007775",null,2,2,0,11,22,"Yes","Reasonable based on Mobilization date(s)","yes","Yes",22,0]
[null,"2018-10-17","SW007775",null,2,2,0,18.5,37,"Yes","Reasonable based on Mobilization date(s)","yes","Yes",37,0]
[null,"2018-10-27","SW007827",null,1,1,{"$f":"E26-F26","v":0},11,11,"Yes","Reasonable based on Mobilization date(s)","yes","Yes",11,0]
[null,"2018-10-27","SW007827",null,1,1,0,18.5,18.5,"Yes","Reasonable based on Mobilization date(s)","yes","Yes",18.5,0]
[null,"2018-10-27","SW007829",null,2,2,{"$f":"E28-F28","v":0},11,22,"Yes","Reasonable based on Mobilization date(s)","yes","Yes",22,0]
[null,"2018-10-27","SW007829",null,2,2,0,18.5,37,"Yes","Reasonable based on Mobilization date(s)","yes","Yes",37,0]
[null,"2018-10-27","SW007832",null,2,2,{"$f":"E30-F30","v":0},11,22,"Yes","Reasonable based on Mobilization date(s)","yes","Yes",22,0]
[null,"2018-10-27","SW007832",null,2,2,0,18.5,37,"Yes","Reasonable based on Mobilization date(s)","yes","Yes",37,0]
[null,"2018-10-27","SW007834",null,2,2,0,11,22,"Yes","Reasonable based on Mobilization date(s)","yes","Yes",22,0]
[null,"2018-10-27","SW007834",null,2,2,0,18.5,37,"Yes","Reasonable based on Mobilization date(s)","yes","Yes",37,0]
[null,"2018-10-27","SW007906",null,2,2,{"$f":"E34-F34","v":0},11,22,"Yes","Reasonable based on Mobilization date(s)","yes","Yes",22,0]
[null,"2018-10-27","SW007906",null,2,2,0,18.5,37,"Yes","Reasonable based on Mobilization date(s)","yes","Yes",37,0]
[null,"2018-10-27","SW008076",null,1,1,0,11,11,"Yes","Reasonable based on Mobilization date(s)","yes","Yes",11,0]
[null,"2018-10-27","SW008076",null,1,1,0,18.5,18.5,"Yes","Reasonable based on Mobilization date(s)","yes","Yes",18.5,0]
[null,"2018-10-27","SW008077",null,2,2,0,11,22,"Yes","Reasonable based on Mobilization date(s)","yes","Yes",22,0]
[null,"2018-10-27","SW008077",null,2,2,0,18.5,37,"Yes","Reasonable based on Mobilization date(s)","yes","Yes",37,0]
[null,"2018-10-27","SW008078",null,2,2,0,11,22,"Yes","Reasonable based on Mobilization date(s)","yes","Yes",22,0]
[null,"2018-10-27","SW008078",null,2,2,0,18.5,37,"Yes","Reasonable based on Mobilization date(s)","yes","Yes",37,0]
[null,"2018-10-26","SW008080",null,2,2,0,11,22,"Yes","Reasonable based on Mobilization date(s)","yes","Yes",22,0]
[null,"2018-10-26","SW008080",null,2,2,0,18.5,37,"Yes","Reasonable based on Mobilization date(s)","yes","Yes",37,0]
[null,"2018-10-26","SW008081",null,2,2,0,11,22,"Yes","Reasonable based on Mobilization date(s)","yes","Yes",22,0]
[null,"2018-10-26","SW008081",null,2,2,0,18.5,37,"Yes","Reasonable based on Mobilization date(s)","yes","Yes",37,0]
[null,"2018-11-03","SW007911",null,1,1,0,11,11,"Yes","Reasonable based on Mobilization date(s)","yes","Yes",11,0]
[null,"2018-11-03","SW007911",null,1,1,0,18.5,18.5,"Yes","Reasonable based on Mobilization date(s)","yes","Yes",18.5,0]
[null,"2018-11-03","SW007913",null,2,2,0,11,22,"Yes","Reasonable based on Mobilization date(s)","yes","Yes",22,0]
[null,"2018-11-03","SW007913",null,2,2,0,18.5,37,"Yes","Reasonable based on Mobilization date(s)","yes","Yes",37,0]
[null,"2018-11-03","SW007915",null,2,2,0,11,22,"Yes","Reasonable based on Mobilization date(s)","yes","Yes",22,0]
[null,"2018-11-03","SW007915",null,2,2,0,18.5,37,"Yes","Reasonable based on Mobilization date(s)","yes","Yes",37,0]
[null,"2018-11-03","SW007917",null,2,2,0,11,22,"Yes","Reasonable based on Mobilization date(s)","yes","Yes",22,0]
[null,"2018-11-03","SW007917",null,2,2,0,18.5,37,"Yes","Reasonable based on Mobilization date(s)","yes","Yes",37,0]
[null,"2018-11-03","SW007919",null,2,2,0,11,22,"Yes","Reasonable based on Mobilization date(s)","yes","Yes",22,0]
[null,"2018-11-03","SW007919",null,2,2,0,18.5,37,"Yes","Reasonable based on Mobilization date(s)","yes","Yes",37,0]
[null,"2018-10-31","SW007921",null,3,3,0,11,33,"Yes","Reasonable based on Mobilization date(s)","yes","Yes",33,0]
[null,"2018-10-31","SW007921",null,3,3,0,18.5,55.5,"Yes","Reasonable based on Mobilization date(s)","yes","Yes",55.5,0]
[null,"2018-11-03","SW007923",null,1,1,0,11,11,"Yes","Reasonable based on Mobilization date(s)","yes","Yes",11,0]
[null,"2018-11-03","SW007923",null,1,1,0,18.5,18.5,"Yes","Reasonable based on Mobilization date(s)","yes","Yes",18.5,0]
[null,null,null,null,null,null,{"$f":"SUM(G17:G59)","v":0},null,{"$f":"SUM(I17:I59)","v":1139.5},null,null,null,null,{"$f":"IFERROR(SUM(N17:N59),0)","v":1139.5},{"$f":"IFERROR(SUM(O17:O59),0)","v":0},{"$f":"SUM(P17:P59)","v":0},{"$f":"SUM(Q17:Q59)","v":0},{"$f":"O60-P60-Q60","v":0},"check (a)"]
[]
[]
[null,"Tickmark Explanation:"]

{"sheet":"H - Mileage","index":13,"n_rows":75,"n_cols":23,"rows_kept":75,"cut":false,"hidden":false,"merged":[[1,1,1,21],[13,1,13,11],[13,12,13,21],[3,1,7,11],[5,14,7,19]]}
[]
[null,"Mileage Charges"]
[]
[null,"Test Plan: (A) Obtain support of individual mileage charged (Typically a rate and mileage included on invoice).  (B) Ensure charges fall between the dates the vendor was mobilized and the date they arrived.  (C) Ensure charges are prior to the date the vendor arrived home or was released to another utility.  (D)  Ensure number of miles charged deemed reasonable based on vendor location (recalculated per 'A - Contractor Summary' tab).  (E) Ensure the location of charge was reasonable (If mobilizing, charges should be related to travelling to TECO Service area, and home, if demobilizing).  (F) Determine the amount(s) to be reviewed, allowed and/or disallowed.  (G) For charges which required further review, document review and include why it was determined to be allowed/disallowed via a tickmark."]
[]
[]
[]
[]
[]
[null,"Rx","Recalculated."]
[null,"a","Check figure should equal $0.  Cell will appear yellow if discrepancies are noted."]
[]
[null,null,"A",null,null,null,null,null,null,null,null,"Rx","B","C","D","E","F",null,null,"G"]
[null,"Support Reviewed",null,null,null,null,null,null,null,null,null,null,"Conclusions"]
[null,"#","Type of Support","Company","Equipment Name","Equipment ID","Crew","Date","Location","Miles Charged","$ / Mile (Rate)","Total Charge","Reasonable based on Mobilization date(s)","Reasonable based on Demobilization date(s)","Number of Miles Charged Reasonable","Locations Reasonable","Conclusion","$ Allowable Charge","$ To Be Reviewed","Reviewed - Allowable Charge","Reviewed - Unallowable Charge","Tickmarks"]
[null,1,"Tree Trimming","Wolf Tree",null,null,"SW008052","2018-10-12","unknown",387,1.29,{"$f":"J16*K16","v":499.23},"Yes","Yes","Yes",null,{"$f":"IF(AND(P16=\"Yes\",O16=\"Yes\")*OR(N16=\"Yes\",M16=\"Yes\"),\"Yes\",IF(OR(M16=\"No\",N16=\"No\",P16=\"No\",O16=\"No\"),\"No\",\"Needs Review\"))","v":"Needs Review"},null,{"$f":"IF(Q16=\"Needs Review\",L16,0)","v":499.23},{"$f":"+S16","v":499.23},null,1]
[null,2,"Tree Trimming","Wolf Tree",null,null,"SW008054","2018-10-12","Mountain Electric, TN",582,1.24,721.68,"Yes","Yes","Yes",null,"Needs Review",null,721.68,721.68]
[null,3,"Tree Trimming","Wolf Tree",null,null,"SW008053","2018-10-12","unknown",582,1.29,750.78,"Yes","Yes","Yes",null,"Needs Review",null,750.78,750.78,null,1]
[null,4,"Tree Trimming","Wolf Tree",null,null,"SW008055","2018-10-12","unknown",444,1.24,550.55999999999995,"Yes","Yes","Yes",null,"Needs Review",null,550.55999999999995,550.55999999999995,null,1]
[null,5,"Tree Trimming","Wolf Tree",null,null,"SW008056","2018-10-12","unknown",444,1.24,550.55999999999995,"Yes","Yes","Yes",null,"Needs Review",null,550.55999999999995,550.55999999999995,null,1]
[null,6,"Tree Trimming","Wolf Tree",null,null,"SW008062","2018-10-12","unknown",387,0.77,297.99,"Yes","Yes","Yes",null,"Needs Review",null,297.99,297.99,null,1]
[null,7,"Tree Trimming","Wolf Tree",null,null,"SW007752","2018-10-12","Tallahassee FL",71,0.96,68.16,"Yes","Yes","Yes",null,"Needs Review",null,68.16,68.16]
[null,8,"Tree Trimming","Wolf Tree",null,null,"SW007709","2018-10-12","Tallahassee FL",71,1.24,88.04,"Yes","Yes","Yes",null,"Needs Review",null,88.04,88.04]
[null,9,"Tree Trimming","Wolf Tree",null,null,"SW007716","2018-10-12","Tallahassee FL",71,1.24,88.04,"Yes","Yes","Yes",null,"Needs Review",null,88.04,88.04]
[null,10,"Tree Trimming","Wolf Tree",null,null,"SW007718","2018-10-12","Tallahassee FL",71,1.24,88.04,"Yes","Yes","Yes",null,"Needs Review",null,88.04,88.04]
[null,11,"Tree Trimming","Wolf Tree",null,null,"SW007720","2018-10-12","Tallahassee FL",71,1.24,88.04,"Yes","Yes","Yes",null,"Needs Review",null,88.04,88.04]
[null,12,"Tree Trimming","Wolf Tree",null,null,"SW007754","2018-10-12","Tallahassee FL",71,1.24,88.04,"Yes","Yes","Yes",null,"Needs Review",null,88.04,88.04]
[null,13,"Tree Trimming","Wolf Tree",null,null,"SW007757","2018-10-12","Tallahassee FL",71,1.24,88.04,"Yes","Yes","Yes",null,"Needs Review",null,88.04,88.04]
[null,14,"Tree Trimming","Wolf Tree",null,null,"SW007760","2018-10-12","Tallahassee FL",71,1.24,88.04,"Yes","Yes","Yes",null,"Needs Review",null,88.04,88.04]
[null,15,"Tree Trimming","Wolf Tree",null,null,"SW007766","2018-10-12","Tallahassee FL",71,1.24,88.04,"Yes","Yes","Yes",null,"Needs Review",null,88.04,88.04]
[null,16,"Tree Trimming","Wolf Tree",null,null,"SW007707","2018-10-20","Tallahassee FL",71,0.96,68.16,"Yes","Yes","Yes",null,"Needs Review",null,68.16,68.16]
[null,17,"Tree Trimming","Wolf Tree",null,null,"SW007768","2018-10-12","Tallahassee FL",71,1.29,91.59,"Yes","Yes","Yes",null,"Needs Review",null,91.59,91.59]
[null,18,"Tree Trimming","Wolf Tree",null,null,"SW007770","2018-10-12","Greenville TN",496,1.24,615.04,"Yes","Yes","Yes",null,"Needs Review",null,615.04,615.04]
[null,19,"Tree Trimming","Wolf Tree",null,null,"SW007772","2018-10-12","Dunn NC",567,1.24,703.08,"Yes","Yes","Yes",null,"Needs Review",null,703.08,703.08]
[null,20,"Tree Trimming","Wolf Tree",null,null,"SW007775","2018-10-12","Dunn NC",567,1.24,703.08,"Yes","Yes","Yes",null,"Needs Review",null,703.08,703.08]
[null,21,"Tree Trimming","Wolf Tree",null,null,5356275,"2018-10-22","unknown (Home)",80,0.96,76.8,"Yes","Yes","Yes",null,"Needs Review",null,76.8,76.8,null,2]
[null,22,"Tree Trimming","Wolf Tree",null,null,5356276,"2018-10-22","unknown (Home)",80,1.29,103.2,"Yes","Yes","Yes",null,"Needs Review",null,103.2,103.2,null,2]
[null,23,"Tree Trimming","Wolf Tree",null,null,5356277,"2018-10-22","unknown (Home)",80,1.29,103.2,"Yes","Yes","Yes",null,"Needs Review",null,103.2,103.2,null,2]
[null,24,"Tree Trimming","Wolf Tree",null,null,5356278,"2018-10-22","unknown (Home)",80,1.29,103.2,"Yes","Yes","Yes",null,"Needs Review",null,103.2,103.2,null,2]
[null,25,"Tree Trimming","Wolf Tree",null,null,5356279,"2018-10-22","unknown (Home)",80,1.24,99.2,"Yes","Yes","Yes",null,"Needs Review",null,99.2,99.2,null,2]
[null,26,"Tree Trimming","Wolf Tree",null,null,5356280,"2018-10-23","unknown (Home)",80,1.24,99.2,"Yes","Yes","Yes",null,"Needs Review",null,99.2,99.2,null,2]
[null,27,"Tree Trimming","Wolf Tree",null,null,"SW007827","2018-10-27","Jefferson City, TN",462,0.96,443.52,"Yes","Yes","Yes",null,"Needs Review",null,443.52,443.52]
[null,28,"Tree Trimming","Wolf Tree",null,null,"SW007829","2018-10-27","Jefferson City, TN",462,1.24,572.88,"Yes","Yes","Yes",null,"Needs Review",null,572.88,572.88]
[null,29,"Tree Trimming","Wolf Tree",null,null,"SW007832","2018-10-27","Jefferson City, TN",462,1.24,572.88,"Yes","Yes","Yes",null,"Needs Review",null,572.88,572.88]
[null,30,"Tree Trimming","Wolf Tree",null,null,"SW007834","2018-10-27","Jefferson City, TN",462,1.24,572.88,"Yes","Yes","Yes",null,"Needs Review",null,572.88,572.88]
[null,31,"Tree Trimming","Wolf Tree",null,null,"SW007906","2018-10-27","Greeneville, TN",492,1.24,610.08000000000004,"Yes","Yes","Yes",null,"Needs Review",null,610.08000000000004,610.08000000000004]
[null,32,"Tree Trimming","Wolf Tree",null,null,"SW008076","2018-10-27","unknown (Home)",386,0.77,297.22000000000003,"Yes","Yes","Yes",null,"Needs Review",null,297.22000000000003,297.22000000000003,null,2]
[null,33,"Tree Trimming","Wolf Tree",null,null,"SW008077","2018-10-27","unknown (Home)",386,1.29,{"$f":"J48*K48","v":497.94},"Yes","Yes","Yes",null,{"$f":"IF(AND(P48=\"Yes\",O48=\"Yes\")*OR(N48=\"Yes\",M48=\"Yes\"),\"Yes\",IF(OR(M48=\"No\",N48=\"No\",P48=\"No\",O48=\"No\"),\"No\",\"Needs Review\"))","v":"Needs Review"},null,{"$f":"IF(Q48=\"Needs Review\",L48,0)","v":497.94},{"$f":"+S48","v":497.94},null,2]
[null,34,"Tree Trimming","Wolf Tree",null,null,"SW008078","2018-10-27","unknown (Home)",532,1.29,686.28,"Yes","Yes","Yes",null,"Needs Review",null,686.28,686.28,null,2]
[null,35,"Tree Trimming","Wolf Tree",null,null,"SW008079","2018-10-26","unknown (Home)",532,1.24,659.68,"Yes","Yes","Yes",null,"Needs Review",null,659.68,659.68,null,2]
[null,36,"Tree Trimming","Wolf Tree",null,null,"SW008080","2018-10-26","unknown (Home)",486,1.24,602.64,"Yes","Yes","Yes",null,"Needs Review",null,602.64,602.64,null,2]
[null,37,"Tree Trimming","Wolf Tree",null,null,"SW008081","2018-10-26","unknown (Home)",486,1.24,602.64,"Yes","Yes","Yes",null,"Needs Review",null,602.64,602.64,null,2]
[null,38,"Tree Trimming","Wolf Tree",null,null,"SW007911","2018-11-03","Greenville, TN",492,0.96,472.32,"Yes","Yes","Yes",null,"Needs Review",null,472.32,472.32]
[null,39,"Tree Trimming","Wolf Tree",null,null,"SW007913","2018-11-03","Greenville, TN",492,1.24,610.08000000000004,"Yes","Yes","Yes",null,"Needs Review",null,610.08000000000004,610.08000000000004]
[null,40,"Tree Trimming","Wolf Tree",null,null,"SW007915","2018-11-03","Greenville, TN",492,1.24,610.08000000000004,"Yes","Yes","Yes",null,"Needs Review",null,610.08000000000004,610.08000000000004]
[null,41,"Tree Trimming","Wolf Tree",null,null,"SW007917","2018-11-03","Greenville, TN",492,1.29,634.68000000000006,"Yes","Yes","Yes",null,"Needs Review",null,634.68000000000006,634.68000000000006]
[null,42,"Tree Trimming","Wolf Tree",null,null,"SW007919","2018-11-03","Greenville, TN",492,1.24,610.08000000000004,"Yes","Yes","Yes",null,"Needs Review",null,610.08000000000004,610.08000000000004]
[null,43,"Tree Trimming","Wolf Tree",null,null,"SW007921","2018-11-03","Dunn NC",567,1.24,703.08,"Yes","Yes","Yes",null,"Needs Review",null,703.08,703.08]
[null,44,"Tree Trimming","Wolf Tree",null,null,"SW007923","2018-11-03","Dunn NC",567,1.24,703.08,"Yes","Yes","Yes",null,"Needs Review",null,703.08,703.08]
[null,45,"Tree Trimming","Wolf Tree",null,null,5356333,"2018-11-03","unknown (Home)",80,0.96,76.8,"Yes","Yes","Yes",null,"Needs Review",null,76.8,76.8,null,2]
[null,46,"Tree Trimming","Wolf Tree",null,null,5356334,"2018-11-03","unknown (Home)",80,1.24,99.2,"Yes","Yes","Yes",null,"Needs Review",null,99.2,99.2,null,2]
[null,47,"Tree Trimming","Wolf Tree",null,null,5356335,"2018-11-03","unknown (Home)",80,1.29,103.2,"Yes","Yes","Yes",null,"Needs Review",null,103.2,103.2,null,2]
[null,48,"Tree Trimming","Wolf Tree",null,null,5356336,"2018-11-03","unknown (Home)",80,1.29,103.2,"Yes","Yes","Yes",null,"Needs Review",null,103.2,103.2,null,2]
[null,49,"Tree Trimming","Wolf Tree",null,null,5356337,"2018-11-03","unknown (Home)",80,1.29,103.2,"Yes","Yes","Yes",null,"Needs Review",null,103.2,103.2,null,2]
[null,50,"Tree Trimming","Wolf Tree",null,null,5356338,"2018-11-03","unknown (Home)",80,1.24,99.2,"Yes","Yes","Yes",null,"Needs Review",null,99.2,99.2,null,2]
[null,null,null,null,null,null,null,null,null,null,null,{"$f":"SUM(L16:L65)","v":17955.870000000003},null,null,null,null,null,{"$f":"IFERROR(SUM(R16:R65),0)","v":0},{"$f":"IFERROR(SUM(S16:S65),0)","v":17955.870000000003},{"$f":"SUM(T16:T65)","v":17955.870000000003},{"$f":"SUM(U16:U65)","v":0},{"$f":"S66-T66-U66","v":0},"check (a)"]
[]
[]
[]
[]
[]
[null,"Tickmark Explanation:"]
[]
[null,"1 Start Location not identified"]
[null,"2 Home Location not identified"]