{"text_format":"1","workbook":"xlsx","n_sheets":5,"sheets":["Daily","JAN","FEB","MAR","APR"],"not_rendered":{"charts":12,"images":0,"macros":1,"external_links":0,"defined_names":1,"comments":0,"pivot_tables":1},"unopened":[],"bounds":{"document_bytes":16777216,"sheet_cells":100000,"rows_first":2000,"rows_last":500,"rows_between":2000,"halvings":0,"cell_chars":16384,"cell_head_chars":4096},"cells_cut":0,"cells_raw":0,"read":"whole","date_system":"1900"}

{"sheet":"Daily","index":0,"n_rows":459,"n_cols":32,"rows_kept":459,"cut":false,"hidden":false,"merged":[[19,11,20,16]]}
["Date","Year","Month","AvgTemp","HDD","CDD","RNEL","Sales","RainFall",null,null,"Year","Month","Sum of HDD","Sum of CDD","Sum of RNEL","Sum of Sales","Sum of RainFall",null,null,null,null,null,null,null,null,"Fcst22","Month","BC HDD","BC CDD","CAL HDD","CAL CDD"]
["2021-11-01",{"$f":"YEAR(A2)","v":2021},11,66.5,{"$f":"IF(D2<65,65-D2,0)","v":0},{"$f":"IF(D2>65,D2-65,0)","v":1.5},null,null,0,{"$f":"+Y15","v":0},null,"(blank)","(blank)",null,null,null,null,null,null,null,null,null,null,"Peak","Estimated",null,null,1,148,75,172.35,54.9]
[{"$f":"+A2+1","v":"2021-11-02"},{"$f":"YEAR(A3)","v":2021},11,74.5,0,9.5,null,null,0,null,null,2021,11,26,128,null,null,0,null,null,null,null,null,"Demand","Energy",null,null,2,136,54,93.6,81.7]
[{"$f":"+A3+1","v":"2021-11-03"},2021,11,76.5,0,11.5,null,null,0,null,null,2021,12,9.5,212.5,null,null,0,null,null,null,null,null,"Losses","Losses",null,null,3,65,111,46,156.65]
["2021-11-04",2021,11,74,0,9,null,null,0,null,null,2022,1,133.5,60,null,null,1.4650000000000001,null,null,null,null,1,7.7976918907555634E-2,{"$f":"+X5/X$17*Y$17","v":0},null,null,4,22,200,4.8499999999999996,272]
["2021-11-05",2021,11,65,0,0,null,null,0,null,null,2022,2,47.5,148.5,null,null,0.622,null,null,null,null,{"$f":"+W5+1","v":2},6.8593533398023002E-2,{"$f":"+X6/X$17*Y$17","v":0},null,null,5,0,332,0,439.1]
["2021-11-06",2021,11,61,4,0,null,null,0,null,null,2022,3,11,287.5,null,null,2.9119999999999999,null,null,null,null,{"$f":"+W6+1","v":3},6.6304229223635186E-2,0,null,null,6,0,488,0,529.75]
["2021-11-07",2021,11,62.5,2.5,0,null,null,0,null,null,2022,4,0,355.5,null,null,3.3500000000000005,null,null,null,null,4,6.8568256174416961E-2,0,null,null,7,0,556,0,573.5]
["2021-11-08",2021,11,65,0,0,null,null,0,null,null,2022,5,0,513.5,null,null,0.16300000000000001,null,null,null,null,5,7.1271718244422827E-2,0,null,null,8,0,560,0,582]
["2021-11-09",2021,11,67.5,0,2.5,null,null,0,null,null,2022,6,0,562.5,null,null,12.603999999999999,null,null,null,null,6,7.4913564969474086E-2,0,null,null,9,0,572,0,526.35]
["2021-11-10",2021,11,72,0,7,null,null,0,null,null,2022,7,0,620,null,null,7.3050000000000015,null,null,null,null,7,7.5336280081718707E-2,0,null,null,10,0,476,3.6,390.35]
["2021-11-11",2021,11,75.5,0,10.5,null,null,0,null,null,2022,8,0,619,null,null,0,null,null,null,null,8,7.5925717340488211E-2,0,null,null,11,10,278,29.4,173.15]
["2021-11-12",2021,11,74.5,0,9.5,null,null,0,null,null,2022,9,0,542,null,null,0,null,null,null,null,9,7.2432308489683711E-2,0,null,null,12,64,134,100.15,104.35]
["2021-11-13",2021,11,70.5,0,5.5,null,null,0,null,null,2022,10,0,477.5,null,null,0,null,null,null,null,10,6.9733300656690964E-2,0]
["2021-11-14",2021,11,63,2,0,null,null,0,null,null,2022,11,26,128,null,null,0,null,null,null,null,11,6.2279965106430635E-2,0]
["2021-11-15",2021,11,65.5,0,0.5,null,null,0,null,null,2022,12,9.5,212.5,null,null,0,null,null,null,null,12,7.2764362201527696E-2,{"$f":"+X16/X$17*Y$17","v":0}]
["2021-11-16",2021,11,67.5,0,2.5,null,null,0,null,null,2023,1,133.5,60,null,null,0,null,null,null,null,"YE",7.1730392744596749E-2,{"$f":"+T5","v":0}]
["2021-11-17",2021,11,72,0,7,null,null,0,null,null,2023,2,65,0]
["2021-11-18",2021,11,74,0,9,null,null,0,null,null,null,null,null,null,{"$f":"SUM(P5:P16)","v":0},{"$f":"SUM(Q5:Q16)","v":0}]
["2021-11-19",2021,11,76,0,11,null,null,0,null,null,"NOTE:  Refresh Pivot Above"]
["2021-11-20",2021,11,72.5,0,7.5,null,null,0]
["2021-11-21",2021,11,76,0,11,null,null,0]
["2021-11-22",2021,11,71.5,0,6.5,null,null,0]
["2021-11-23",2021,11,60,5,0,null,null,0]
["2021-11-24",2021,11,62,3,0,null,null,0]
["2021-11-25",2021,11,68.5,0,3.5,null,null,0]
["2021-11-26",2021,11,68,0,3,null,null,0]
["2021-11-27",2021,11,62.5,2.5,0,null,null,0]
["2021-11-28",2021,11,62.5,2.5,0,null,null,0]
["2021-11-29",2021,11,64,1,0,null,null,0]
["2021-11-30",2021,11,61.5,3.5,0,null,null,0]
["2021-12-01",2021,12,66.5,0,1.5,null,null,0,{"$f":"+Y16","v":0}]
["2021-12-02",2021,12,67.5,0,2.5,null,null,0]
["2021-12-03",2021,12,66.5,0,1.5,null,null,0]
["2021-12-04",2021,12,65,0,0,null,null,0]
["2021-12-05",2021,12,70.5,0,5.5,null,null,0]
["2021-12-06",2021,12,71,0,6,null,null,0]
["2021-12-07",2021,12,73.5,0,8.5,null,null,0]
["2021-12-08",2021,12,73,0,8,null,null,0]
["2021-12-09",2021,12,74.5,0,9.5,null,null,0]
["2021-12-10",2021,12,75.5,0,10.5,null,null,0]
["2021-12-11",2021,12,77,0,12,null,null,0]
["2021-12-12",2021,12,76,0,11,null,null,0]
["2021-12-13",2021,12,76.5,0,11.5,null,null,0]
["2021-12-14",2021,12,75,0,10,null,null,0]
["2021-12-15",2021,12,75,0,10,null,null,0]
["2021-12-16",2021,12,77.5,0,12.5,null,null,0]
["2021-12-17",2021,12,77.5,0,12.5,null,null,0]
["2021-12-18",2021,12,78,0,13,null,null,0]
["2021-12-19",2021,12,77.5,0,12.5,null,null,0]
["2021-12-20",2021,12,72,0,7,null,null,0]
["2021-12-21",2021,12,67,0,2,null,null,0]
["2021-12-22",2021,12,60,5,0,null,null,0]
["2021-12-23",2021,12,60.5,4.5,0,null,null,0]
["2021-12-24",2021,12,65.5,0,0.5,null,null,0]
["2021-12-25",2021,12,66.5,0,1.5,null,null,0]
["2021-12-26",2021,12,68.5,0,3.5,null,null,0]
["2021-12-27",2021,12,69.5,0,4.5,null,null,0]
["2021-12-28",2021,12,70,0,5,null,null,0]
["2021-12-29",2021,12,75,0,10,null,null,0]
["2021-12-30",2021,12,74,0,9,null,null,0]
["2021-12-31",2021,12,76,0,11,null,null,0]
["2022-01-01",{"$f":"YEAR(A63)","v":2022},{"$f":"MONTH(A63)","v":1},74.5,{"$f":"IF(D63<65,65-D63,0)","v":0},{"$f":"IF(D63>65,D63-65,0)","v":9.5},null,null,0,{"$f":"+Y$5","v":0},null,null,null,null,null,null,null,null,null,null,null,null,null,null,null,{"$f":"SUM(AB63:AB427)","v":{"$error":"#DIV/0!"}},null,{"$f":"+AC63/$AD$427","v":{"$error":"#DIV/0!"}}]
["2022-01-02",2022,1,76.5,0,11.5,null,null,0,null,null,null,null,null,null,null,null,null,null,null,null,null,null,null,null,null,null,{"$f":"+AC64/$AD$427","v":{"$error":"#DIV/0!"}}]
["2022-01-03",2022,1,65,0,0,null,null,0.02,null,null,null,null,null,null,null,null,null,null,null,null,null,null,null,null,null,null,{"$f":"+AC65/$AD$427","v":{"$error":"#DIV/0!"}}]
["2022-01-04",2022,1,63,2,0,null,null,0,null,null,null,null,null,null,null,null,null,null,null,null,null,null,null,null,null,null,{"$f":"+AC66/$AD$427","v":{"$error":"#DIV/0!"}}]
["2022-01-05",{"$f":"YEAR(A67)","v":2022},{"$f":"MONTH(A67)","v":1},67,{"$f":"IF(D67<65,65-D67,0)","v":0},{"$f":"IF(D67>65,D67-65,0)","v":2},null,null,0,null,null,null,null,null,null,null,null,null,null,null,null,null,null,null,null,null,null,{"$error":"#DIV/0!"}]
[{"$f":"+A67+1","v":"2022-01-06"},2022,1,65,0,0,null,null,1E-3,null,null,null,null,null,null,null,null,null,null,null,null,null,null,null,null,null,null,{"$error":"#DIV/0!"}]
["2022-01-07",2022,1,72,0,7,null,null,1E-3,null,null,null,null,null,null,null,null,null,null,null,null,null,null,null,null,null,null,{"$error":"#DIV/0!"}]
["2022-01-08",2022,1,69.5,0,4.5,null,null,0,null,null,null,null,null,null,null,null,null,null,null,null,null,null,null,null,null,null,{"$error":"#DIV/0!"}]
["2022-01-09",2022,1,74.5,0,9.5,null,null,0,null,null,null,null,null,null,null,null,null,null,null,null,null,null,null,null,null,null,{"$error":"#DIV/0!"}]
["2022-01-10",2022,1,72.5,0,7.5,null,null,0,null,null,null,null,null,null,null,null,null,null,null,null,null,null,null,null,null,null,{"$error":"#DIV/0!"}]
["2022-01-11",2022,1,63.5,1.5,0,null,null,0,null,null,null,null,null,null,null,null,null,null,null,null,null,null,null,null,null,null,{"$error":"#DIV/0!"}]
["2022-01-12",2022,1,65.5,0,0.5,null,null,0,null,null,null,null,null,null,null,null,null,null,null,null,null,null,null,null,null,null,{"$error":"#DIV/0!"}]
["2022-01-13",2022,1,66.5,0,1.5,null,null,1E-3,null,null,null,null,null,null,null,null,null,null,null,null,null,null,null,null,null,null,{"$error":"#DIV/0!"}]
["2022-01-14",2022,1,63.5,1.5,0,null,null,0,null,null,null,null,null,null,null,null,null,null,null,null,null,null,null,null,null,null,{"$error":"#DIV/0!"}]
["2022-01-15",2022,1,62.5,2.5,0,null,null,0,null,null,null,null,null,null,null,null,null,null,null,null,null,null,null,null,null,null,{"$error":"#DIV/0!"}]
["2022-01-16",2022,1,66.5,0,1.5,null,null,0.68,null,null,null,null,null,null,null,null,null,null,null,null,null,null,null,null,null,null,{"$error":"#DIV/0!"}]
["2022-01-17",2022,1,61,4,0,null,null,0,null,null,null,null,null,null,null,null,null,null,null,null,null,null,null,null,null,null,{"$error":"#DIV/0!"}]
["2022-01-18",2022,1,53,12,0,null,null,0,null,null,null,null,null,null,null,null,null,null,null,null,null,null,null,null,null,null,{"$error":"#DIV/0!"}]
["2022-01-19",2022,1,61,4,0,null,null,0,null,null,null,null,null,null,null,null,null,null,null,null,null,null,null,null,null,null,{"$error":"#DIV/0!"}]
["2022-01-20",2022,1,65.5,0,0.5,null,null,0,null,null,null,null,null,null,null,null,null,null,null,null,null,null,null,null,null,null,{"$error":"#DIV/0!"}]
["2022-01-21",2022,1,68,0,3,null,null,0,null,null,null,null,null,null,null,null,null,null,null,null,null,null,null,null,null,null,{"$error":"#DIV/0!"}]
["2022-01-22",2022,1,54.5,10.5,0,null,null,0.01,null,null,null,null,null,null,null,null,null,null,null,null,null,null,null,null,null,null,{"$error":"#DIV/0!"}]
["2022-01-23",2022,1,51.5,13.5,0,null,null,1E-3,null,null,null,null,null,null,null,null,null,null,null,null,null,null,null,null,null,null,{"$error":"#DIV/0!"}]
["2022-01-24",2022,1,51.5,13.5,0,null,null,0,null,null,null,null,null,null,null,null,null,null,null,null,null,null,null,null,null,null,{"$error":"#DIV/0!"}]
["2022-01-25",2022,1,53.5,11.5,0,null,null,0.67,null,null,null,null,null,null,null,null,null,null,null,null,null,null,null,null,null,null,{"$error":"#DIV/0!"}]
["2022-01-26",2022,1,58.5,6.5,0,null,null,0.08,null,null,null,null,null,null,null,null,null,null,null,null,null,null,null,null,null,null,{"$error":"#DIV/0!"}]
["2022-01-27",2022,1,66.5,0,1.5,null,null,0,null,null,null,null,null,null,null,null,null,null,null,null,null,null,null,null,null,null,{"$error":"#DIV/0!"}]
["2022-01-28",2022,1,60.5,4.5,0,null,null,1E-3,null,null,null,null,null,null,null,null,null,null,null,null,null,null,null,null,null,null,{"$error":"#DIV/0!"}]
["2022-01-29",2022,1,48,17,0,null,null,0,null,null,null,null,null,null,null,null,null,null,null,null,null,null,null,null,null,null,{"$error":"#DIV/0!"}]
["2022-01-30",2022,1,47,18,0,null,null,0,null,null,null,null,null,null,null,null,null,null,null,null,null,null,null,null,null,null,{"$error":"#DIV/0!"}]
["2022-01-31",2022,1,54,11,0,null,null,0,null,null,null,null,null,null,null,null,null,null,null,null,null,null,null,null,null,null,{"$error":"#DIV/0!"}]
["2022-02-01",2022,2,62.5,2.5,0,null,null,0,{"$f":"+Y$6","v":0},null,null,null,null,null,null,null,null,null,null,null,null,null,null,null,null,null,{"$error":"#DIV/0!"}]
["2022-02-02",2022,2,69.5,0,4.5,null,null,0,null,null,null,null,null,null,null,null,null,null,null,null,null,null,null,null,null,null,{"$error":"#DIV/0!"}]
["2022-02-03",2022,2,75.5,0,10.5,null,null,0,null,null,null,null,null,null,null,null,null,null,null,null,null,null,null,null,null,null,{"$error":"#DIV/0!"}]
["2022-02-04",2022,2,75,0,10,null,null,0,null,null,null,null,null,null,null,null,null,null,null,null,null,null,null,null,null,null,{"$error":"#DIV/0!"}]
["2022-02-05",2022,2,63,2,0,null,null,0.02,null,null,null,null,null,null,null,null,null,null,null,null,null,null,null,null,null,null,{"$error":"#DIV/0!"}]
["2022-02-06",2022,2,59,6,0,null,null,0.02,null,null,null,null,null,null,null,null,null,null,null,null,null,null,null,null,null,null,{"$error":"#DIV/0!"}]
["2022-02-07",2022,2,62,3,0,null,null,0,null,null,null,null,null,null,null,null,null,null,null,null,null,null,null,null,null,null,{"$error":"#DIV/0!"}]
["2022-02-08",2022,2,54.5,10.5,0,null,null,0.35,null,null,null,null,null,null,null,null,null,null,null,null,null,null,null,null,null,null,{"$error":"#DIV/0!"}]
["2022-02-09",2022,2,59,6,0,null,null,1E-3,null,null,null,null,null,null,null,null,null,null,null,null,null,null,null,null,null,null,{"$error":"#DIV/0!"}]
["2022-02-10",2022,2,59.5,5.5,0,null,null,0,null,null,null,null,null,null,null,null,null,null,null,null,null,null,null,null,null,null,{"$error":"#DIV/0!"}]
["2022-02-11",2022,2,65,0,0,null,null,0,null,null,null,null,null,null,null,null,null,null,null,null,null,null,null,null,null,null,{"$error":"#DIV/0!"}]
["2022-02-12",2022,2,67.5,0,2.5,null,null,1E-3,null,null,null,null,null,null,null,null,null,null,null,null,null,null,null,null,null,null,{"$error":"#DIV/0!"}]
["2022-02-13",2022,2,66,0,1,null,null,0.1,null,null,null,null,null,null,null,null,null,null,null,null,null,null,null,null,null,null,{"$error":"#DIV/0!"}]
["2022-02-14",2022,2,57,8,0,null,null,0,null,null,null,null,null,null,null,null,null,null,null,null,null,null,null,null,null,null,{"$error":"#DIV/0!"}]
["2022-02-15",2022,2,61,4,0,null,null,0,null,null,null,null,null,null,null,null,null,null,null,null,null,null,null,null,null,null,{"$error":"#DIV/0!"}]
["2022-02-16",2022,2,71.5,0,6.5,null,null,0,null,null,null,null,null,null,null,null,null,null,null,null,null,null,null,null,null,null,{"$error":"#DIV/0!"}]
["2022-02-17",2022,2,76.5,0,11.5,null,null,0,null,null,null,null,null,null,null,null,null,null,null,null,null,null,null,null,null,null,{"$error":"#DIV/0!"}]
["2022-02-18",2022,2,74.5,0,9.5,null,null,0,null,null,null,null,null,null,null,null,null,null,null,null,null,null,null,null,null,null,{"$error":"#DIV/0!"}]
["2022-02-19",2022,2,68.5,0,3.5,null,null,0.13,null,null,null,null,null,null,null,null,null,null,null,null,null,null,null,null,null,null,{"$error":"#DIV/0!"}]
["2022-02-20",2022,2,68,0,3,null,null,0,null,null,null,null,null,null,null,null,null,null,null,null,null,null,null,null,null,null,{"$error":"#DIV/0!"}]
["2022-02-21",2022,2,74.5,0,9.5,null,null,0,null,null,null,null,null,null,null,null,null,null,null,null,null,null,null,null,null,null,{"$error":"#DIV/0!"}]
["2022-02-22",2022,2,77,0,12,null,null,0,null,null,null,null,null,null,null,null,null,null,null,null,null,null,null,null,null,null,{"$error":"#DIV/0!"}]
["2022-02-23",2022,2,78,0,13,null,null,0,null,null,null,null,null,null,null,null,null,null,null,null,null,null,null,null,null,null,{"$error":"#DIV/0!"}]
["2022-02-24",2022,2,77,0,12,null,null,0,null,null,null,null,null,null,null,null,null,null,null,null,null,null,null,null,null,null,{"$error":"#DIV/0!"}]
["2022-02-25",2022,2,76,0,11,null,null,0,null,null,null,null,null,null,null,null,null,null,null,null,null,null,null,null,null,null,{"$error":"#DIV/0!"}]
["2022-02-26",2022,2,76,0,11,null,null,0,null,null,null,null,null,null,null,null,null,null,null,null,null,null,null,null,null,null,{"$error":"#DIV/0!"}]
["2022-02-27",2022,2,75.5,0,10.5,null,null,0,null,null,null,null,null,null,null,null,null,null,null,null,null,null,null,null,null,null,{"$error":"#DIV/0!"}]
["2022-02-28",2022,2,72,0,7,null,null,0,null,null,null,null,null,null,null,null,null,null,null,null,null,null,null,null,null,null,{"$error":"#DIV/0!"}]
["2022-03-01",2022,3,69.5,0,4.5,null,null,0,{"$f":"+Y$7","v":0},null,null,null,null,null,null,null,null,null,null,null,null,null,null,null,null,null,{"$error":"#DIV/0!"}]
["2022-03-02",2022,3,68,0,3,null,null,0,null,null,null,null,null,null,null,null,null,null,null,null,null,null,null,null,null,null,{"$error":"#DIV/0!"}]
["2022-03-03",2022,3,71,0,6,null,null,0,null,null,null,null,null,null,null,null,null,null,null,null,null,null,null,null,null,null,{"$error":"#DIV/0!"}]
["2022-03-04",2022,3,77,0,12,null,null,0,null,null,null,null,null,null,null,null,null,null,null,null,null,null,null,null,null,null,{"$error":"#DIV/0!"}]
["2022-03-05",2022,3,76,0,11,null,null,0,null,null,null,null,null,null,null,null,null,null,null,null,null,null,null,null,null,null,{"$error":"#DIV/0!"}]
["2022-03-06",2022,3,77.5,0,12.5,null,null,0,null,null,null,null,null,null,null,null,null,null,null,null,null,null,null,null,null,null,{"$f":"+AC127/$AD$427","v":{"$error":"#DIV/0!"}}]
["2022-03-07",2022,3,79.5,0,14.5,null,null,0,null,null,null,null,null,null,null,null,null,null,null,null,null,null,null,null,null,null,{"$error":"#DIV/0!"}]
["2022-03-08",2022,3,80,0,15,null,null,0,null,null,null,null,null,null,null,null,null,null,null,null,null,null,null,null,null,null,{"$error":"#DIV/0!"}]
["2022-03-09",2022,3,80.5,0,15.5,null,null,0,null,null,null,null,null,null,null,null,null,null,null,null,null,null,null,null,null,null,{"$error":"#DIV/0!"}]
["2022-03-10",{"$f":"YEAR(A131)","v":2022},{"$f":"MONTH(A131)","v":3},78,{"$f":"IF(D131<65,65-D131,0)","v":0},{"$f":"IF(D131>65,D131-65,0)","v":13},null,null,1E-3,null,null,null,null,null,null,null,null,null,null,null,null,null,null,null,null,null,null,{"$error":"#DIV/0!"}]
[{"$f":"+A131+1","v":"2022-03-11"},2022,3,79,0,14,null,null,0,null,null,null,null,null,null,null,null,null,null,null,null,null,null,null,null,null,null,{"$error":"#DIV/0!"}]
["2022-03-12",2022,3,63.5,1.5,0,null,null,0.41,null,null,null,null,null,null,null,null,null,null,null,null,null,null,null,null,null,null,{"$error":"#DIV/0!"}]
["2022-03-13",2022,3,55.5,9.5,0,null,null,0,null,null,null,null,null,null,null,null,null,null,null,null,null,null,null,null,null,null,{"$error":"#DIV/0!"}]
["2022-03-14",2022,3,67.5,0,2.5,null,null,0,null,null,null,null,null,null,null,null,null,null,null,null,null,null,null,null,null,null,{"$error":"#DIV/0!"}]
["2022-03-15",2022,3,75.5,0,10.5,null,null,1.04,null,null,null,null,null,null,null,null,null,null,null,null,null,null,null,null,null,null,{"$error":"#DIV/0!"}]
["2022-03-16",2022,3,74,0,9,null,null,1E-3,null,null,null,null,null,null,null,null,null,null,null,null,null,null,null,null,null,null,{"$error":"#DIV/0!"}]
["2022-03-17",2022,3,72,0,7,null,null,0,null,null,null,null,null,null,null,null,null,null,null,null,null,null,null,null,null,null,{"$error":"#DIV/0!"}]
["2022-03-18",2022,3,76,0,11,null,null,0,null,null,null,null,null,null,null,null,null,null,null,null,null,null,null,null,null,null,{"$error":"#DIV/0!"}]
["2022-03-19",2022,3,77.5,0,12.5,null,null,0,null,null,null,null,null,null,null,null,null,null,null,null,null,null,null,null,null,null,{"$error":"#DIV/0!"}]
["2022-03-20",2022,3,74.5,0,9.5,null,null,0,null,null,null,null,null,null,null,null,null,null,null,null,null,null,null,null,null,null,{"$error":"#DIV/0!"}]
["2022-03-21",2022,3,71,0,6,null,null,0,null,null,null,null,null,null,null,null,null,null,null,null,null,null,null,null,null,null,{"$error":"#DIV/0!"}]
["2022-03-22",2022,3,77,0,12,null,null,0,null,null,null,null,null,null,null,null,null,null,null,null,null,null,null,null,null,null,{"$error":"#DIV/0!"}]
["2022-03-23",2022,3,80,0,15,null,null,0,null,null,null,null,null,null,null,null,null,null,null,null,null,null,null,null,null,null,{"$error":"#DIV/0!"}]
["2022-03-24",2022,3,70,0,5,null,null,1.42,null,null,null,null,null,null,null,null,null,null,null,null,null,null,null,null,null,null,{"$error":"#DIV/0!"}]
["2022-03-25",2022,3,71,0,6,null,null,0,null,null,null,null,null,null,null,null,null,null,null,null,null,null,null,null,null,null,{"$error":"#DIV/0!"}]
["2022-03-26",2022,3,70.5,0,5.5,null,null,0,null,null,null,null,null,null,null,null,null,null,null,null,null,null,null,null,null,null,{"$error":"#DIV/0!"}]
["2022-03-27",2022,3,72,0,7,null,null,0,null,null,null,null,null,null,null,null,null,null,null,null,null,null,null,null,null,null,{"$error":"#DIV/0!"}]
["2022-03-28",2022,3,75,0,10,null,null,0,null,null,null,null,null,null,null,null,null,null,null,null,null,null,null,null,null,null,{"$error":"#DIV/0!"}]
["2022-03-29",2022,3,75,0,10,null,null,0,null,null,null,null,null,null,null,null,null,null,null,null,null,null,null,null,null,null,{"$error":"#DIV/0!"}]
["2022-03-30",2022,3,78.5,0,13.5,null,null,0,null,null,null,null,null,null,null,null,null,null,null,null,null,null,null,null,null,null,{"$error":"#DIV/0!"}]
["2022-03-31",2022,3,79.5,0,14.5,null,null,0.04,null,null,null,null,null,null,null,null,null,null,null,null,null,null,null,null,null,null,{"$error":"#DIV/0!"}]
["2022-04-01",2022,4,75.5,0,10.5,null,null,0.18,{"$f":"+Y$8","v":0},null,null,null,null,null,null,null,null,null,null,null,null,null,null,null,null,null,{"$error":"#DIV/0!"}]
["2022-04-02",2022,4,74,0,9,null,null,0,null,null,null,null,null,null,null,null,null,null,null,null,null,null,null,null,null,null,{"$error":"#DIV/0!"}]
["2022-04-03",2022,4,74,0,9,null,null,0,null,null,null,null,null,null,null,null,null,null,null,null,null,null,null,null,null,null,{"$error":"#DIV/0!"}]
["2022-04-04",2022,4,75,0,10,null,null,0,null,null,null,null,null,null,null,null,null,null,null,null,null,null,null,null,null,null,{"$error":"#DIV/0!"}]
["2022-04-05",2022,4,80,0,15,null,null,0,null,null,null,null,null,null,null,null,null,null,null,null,null,null,null,null,null,null,{"$error":"#DIV/0!"}]
["2022-04-06",2022,4,82,0,17,null,null,0,null,null,null,null,null,null,null,null,null,null,null,null,null,null,null,null,null,null,{"$error":"#DIV/0!"}]
["2022-04-07",2022,4,76,0,11,null,null,0,null,null,null,null,null,null,null,null,null,null,null,null,null,null,null,null,null,null,{"$error":"#DIV/0!"}]
["2022-04-08",2022,4,71,0,6,null,null,0,null,null,null,null,null,null,null,null,null,null,null,null,null,null,null,null,null,null,{"$error":"#DIV/0!"}]
["2022-04-09",2022,4,67,0,2,null,null,0,null,null,null,null,null,null,null,null,null,null,null,null,null,null,null,null,null,null,{"$error":"#DIV/0!"}]
["2022-04-10",2022,4,66.5,0,1.5,null,null,0.54,null,null,null,null,null,null,null,null,null,null,null,null,null,null,null,null,null,null,{"$error":"#DIV/0!"}]
["2022-04-11",2022,4,73.5,0,8.5,null,null,2.02,null,null,null,null,null,null,null,null,null,null,null,null,null,null,null,null,null,null,{"$error":"#DIV/0!"}]
["2022-04-12",2022,4,77,0,12,null,null,0.04,null,null,null,null,null,null,null,null,null,null,null,null,null,null,null,null,null,null,{"$error":"#DIV/0!"}]
["2022-04-13",2022,4,78,0,13,null,null,0,null,null,null,null,null,null,null,null,null,null,null,null,null,null,null,null,null,null,{"$error":"#DIV/0!"}]
["2022-04-14",2022,4,80.5,0,15.5,null,null,0,null,null,null,null,null,null,null,null,null,null,null,null,null,null,null,null,null,null,{"$error":"#DIV/0!"}]
["2022-04-15",2022,4,80,0,15,null,null,0,null,null,null,null,null,null,null,null,null,null,null,null,null,null,null,null,null,null,{"$error":"#DIV/0!"}]
["2022-04-16",2022,4,80.5,0,15.5,null,null,0,null,null,null,null,null,null,null,null,null,null,null,null,null,null,null,null,null,null,{"$error":"#DIV/0!"}]
["2022-04-17",2022,4,81.5,0,16.5,null,null,0,null,null,null,null,null,null,null,null,null,null,null,null,null,null,null,null,null,null,{"$error":"#DIV/0!"}]
["2022-04-18",2022,4,82,0,17,null,null,0.35,null,null,null,null,null,null,null,null,null,null,null,null,null,null,null,null,null,null,{"$error":"#DIV/0!"}]
["2022-04-19",2022,4,75,0,10,null,null,0.08,null,null,null,null,null,null,null,null,null,null,null,null,null,null,null,null,null,null,{"$error":"#DIV/0!"}]
["2022-04-20",2022,4,73,0,8,null,null,0.14000000000000001,null,null,null,null,null,null,null,null,null,null,null,null,null,null,null,null,null,null,{"$error":"#DIV/0!"}]
["2022-04-21",2022,4,77,0,12,null,null,0,null,null,null,null,null,null,null,null,null,null,null,null,null,null,null,null,null,null,{"$error":"#DIV/0!"}]
["2022-04-22",2022,4,77,0,12,null,null,0,null,null,null,null,null,null,null,null,null,null,null,null,null,null,null,null,null,null,{"$error":"#DIV/0!"}]
["2022-04-23",2022,4,78,0,13,null,null,0,null,null,null,null,null,null,null,null,null,null,null,null,null,null,null,null,null,null,{"$error":"#DIV/0!"}]
["2022-04-24",2022,4,79.5,0,14.5,null,null,0,null,null,null,null,null,null,null,null,null,null,null,null,null,null,null,null,null,null,{"$error":"#DIV/0!"}]
["2022-04-25",2022,4,80.5,0,15.5,null,null,0,null,null,null,null,null,null,null,null,null,null,null,null,null,null,null,null,null,null,{"$error":"#DIV/0!"}]
["2022-04-26",2022,4,79.5,0,14.5,null,null,0,null,null,null,null,null,null,null,null,null,null,null,null,null,null,null,null,null,null,{"$error":"#DIV/0!"}]
["2022-04-27",2022,4,77,0,12,null,null,0,null,null,null,null,null,null,null,null,null,null,null,null,null,null,null,null,null,null,{"$error":"#DIV/0!"}]
["2022-04-28",2022,4,79,0,14,null,null,0,null,null,null,null,null,null,null,null,null,null,null,null,null,null,null,null,null,null,{"$error":"#DIV/0!"}]
["2022-04-29",2022,4,79,0,14,null,null,0,null,null,null,null,null,null,null,null,null,null,null,null,null,null,null,null,null,null,{"$error":"#DIV/0!"}]
["2022-04-30",2022,4,77,0,12,null,null,0,null,null,null,null,null,null,null,null,null,null,null,null,null,null,null,null,null,null,{"$error":"#DIV/0!"}]
["2022-05-01",2022,5,77.5,0,12.5,null,null,0,{"$f":"+Y$9","v":0},null,null,null,null,null,null,null,null,null,null,null,null,null,null,null,null,null,{"$error":"#DIV/0!"}]
["2022-05-02",2022,5,79,0,14,null,null,0,null,null,null,null,null,null,null,null,null,null,null,null,null,null,null,null,null,null,{"$error":"#DIV/0!"}]
["2022-05-03",2022,5,79.5,0,14.5,null,null,0,null,null,null,null,null,null,null,null,null,null,null,null,null,null,null,null,null,null,{"$error":"#DIV/0!"}]
["2022-05-04",2022,5,80.5,0,15.5,null,null,0,null,null,null,null,null,null,null,null,null,null,null,null,null,null,null,null,null,null,{"$error":"#DIV/0!"}]
["2022-05-05",2022,5,83,0,18,null,null,0,null,null,null,null,null,null,null,null,null,null,null,null,null,null,null,null,null,null,{"$error":"#DIV/0!"}]
["2022-05-06",2022,5,82.5,0,17.5,null,null,0.16,null,null,null,null,null,null,null,null,null,null,null,null,null,null,null,null,null,null,{"$error":"#DIV/0!"}]
["2022-05-07",2022,5,80.5,0,15.5,null,null,0,null,null,null,null,null,null,null,null,null,null,null,null,null,null,null,null,null,null,{"$error":"#DIV/0!"}]
["2022-05-08",2022,5,82,0,17,null,null,0,null,null,null,null,null,null,null,null,null,null,null,null,null,null,null,null,null,null,{"$error":"#DIV/0!"}]
["2022-05-09",2022,5,80.5,0,15.5,null,null,0,null,null,null,null,null,null,null,null,null,null,null,null,null,null,null,null,null,null,{"$f":"+AC191/$AD$427","v":{"$error":"#DIV/0!"}}]
["2022-05-10",2022,5,76,0,11,null,null,0,null,null,null,null,null,null,null,null,null,null,null,null,null,null,null,null,null,null,{"$error":"#DIV/0!"}]
["2022-05-11",2022,5,75,0,10,null,null,0,null,null,null,null,null,null,null,null,null,null,null,null,null,null,null,null,null,null,{"$error":"#DIV/0!"}]
["2022-05-12",2022,5,76.5,0,11.5,null,null,0,null,null,null,null,null,null,null,null,null,null,null,null,null,null,null,null,null,null,{"$error":"#DIV/0!"}]
["2022-05-13",{"$f":"YEAR(A195)","v":2022},{"$f":"MONTH(A195)","v":5},78,{"$f":"IF(D195<65,65-D195,0)","v":0},{"$f":"IF(D195>65,D195-65,0)","v":13},null,null,1E-3,null,null,null,null,null,null,null,null,null,null,null,null,null,null,null,null,null,null,{"$error":"#DIV/0!"}]
[{"$f":"+A195+1","v":"2022-05-14"},2022,5,80,0,15,null,null,0,null,null,null,null,null,null,null,null,null,null,null,null,null,null,null,null,null,null,{"$error":"#DIV/0!"}]
["2022-05-15",2022,5,80,0,15,null,null,0,null,null,null,null,null,null,null,null,null,null,null,null,null,null,null,null,null,null,{"$error":"#DIV/0!"}]
["2022-05-16",2022,5,80,0,15,null,null,0,null,null,null,null,null,null,null,null,null,null,null,null,null,null,null,null,null,null,{"$error":"#DIV/0!"}]
["2022-05-17",2022,5,82,0,17,null,null,0,null,null,null,null,null,null,null,null,null,null,null,null,null,null,null,null,null,null,{"$error":"#DIV/0!"}]
["2022-05-18",2022,5,83.5,0,18.5,null,null,0,null,null,null,null,null,null,null,null,null,null,null,null,null,null,null,null,null,null,{"$error":"#DIV/0!"}]
["2022-05-19",2022,5,83.5,0,18.5,null,null,0,null,null,null,null,null,null,null,null,null,null,null,null,null,null,null,null,null,null,{"$error":"#DIV/0!"}]
["2022-05-20",2022,5,81.5,0,16.5,null,null,0,null,null,null,null,null,null,null,null,null,null,null,null,null,null,null,null,null,null,{"$error":"#DIV/0!"}]
["2022-05-21",2022,5,82,0,17,null,null,1E-3,null,null,null,null,null,null,null,null,null,null,null,null,null,null,null,null,null,null,{"$error":"#DIV/0!"}]
["2022-05-22",2022,5,85,0,20,null,null,0,null,null,null,null,null,null,null,null,null,null,null,null,null,null,null,null,null,null,{"$error":"#DIV/0!"}]
["2022-05-23",2022,5,85.5,0,20.5,null,null,0,null,null,null,null,null,null,null,null,null,null,null,null,null,null,null,null,null,null,{"$error":"#DIV/0!"}]
["2022-05-24",2022,5,86.5,0,21.5,null,null,0,null,null,null,null,null,null,null,null,null,null,null,null,null,null,null,null,null,null,{"$error":"#DIV/0!"}]
["2022-05-25",2022,5,86,0,21,null,null,0,null,null,null,null,null,null,null,null,null,null,null,null,null,null,null,null,null,null,{"$error":"#DIV/0!"}]
["2022-05-26",2022,5,85,0,20,null,null,0,null,null,null,null,null,null,null,null,null,null,null,null,null,null,null,null,null,null,{"$error":"#DIV/0!"}]
["2022-05-27",2022,5,83.5,0,18.5,null,null,0,null,null,null,null,null,null,null,null,null,null,null,null,null,null,null,null,null,null,{"$error":"#DIV/0!"}]
["2022-05-28",2022,5,84.5,0,19.5,null,null,0,null,null,null,null,null,null,null,null,null,null,null,null,null,null,null,null,null,null,{"$error":"#DIV/0!"}]
["2022-05-29",2022,5,82,0,17,null,null,0,null,null,null,null,null,null,null,null,null,null,null,null,null,null,null,null,null,null,{"$error":"#DIV/0!"}]
["2022-05-30",2022,5,84.5,0,19.5,null,null,1E-3,null,null,null,null,null,null,null,null,null,null,null,null,null,null,null,null,null,null,{"$error":"#DIV/0!"}]
["2022-05-31",2022,5,83,0,18,null,null,0,null,null,null,null,null,null,null,null,null,null,null,null,null,null,null,null,null,null,{"$error":"#DIV/0!"}]
["2022-06-01",2022,6,84,0,19,null,null,0,{"$f":"+Y$10","v":0},null,null,null,null,null,null,null,null,null,null,null,null,null,null,null,null,null,{"$error":"#DIV/0!"}]
["2022-06-02",2022,6,82,0,17,null,null,1.47,null,null,null,null,null,null,null,null,null,null,null,null,null,null,null,null,null,null,{"$error":"#DIV/0!"}]
["2022-06-03",2022,6,83,0,18,null,null,1E-3,null,null,null,null,null,null,null,null,null,null,null,null,null,null,null,null,null,null,{"$error":"#DIV/0!"}]
["2022-06-04",2022,6,83,0,18,null,null,0.13,null,null,null,null,null,null,null,null,null,null,null,null,null,null,null,null,null,null,{"$error":"#DIV/0!"}]
["2022-06-05",2022,6,84.5,0,19.5,null,null,0,null,null,null,null,null,null,null,null,null,null,null,null,null,null,null,null,null,null,{"$error":"#DIV/0!"}]
["2022-06-06",2022,6,86,0,21,null,null,0.2,null,null,null,null,null,null,null,null,null,null,null,null,null,null,null,null,null,null,{"$error":"#DIV/0!"}]
["2022-06-07",2022,6,86,0,21,null,null,0.05,null,null,null,null,null,null,null,null,null,null,null,null,null,null,null,null,null,null,{"$error":"#DIV/0!"}]
["2022-06-08",2022,6,83.5,0,18.5,null,null,0.33,null,null,null,null,null,null,null,null,null,null,null,null,null,null,null,null,null,null,{"$error":"#DIV/0!"}]
["2022-06-09",2022,6,84.5,0,19.5,null,null,0,null,null,null,null,null,null,null,null,null,null,null,null,null,null,null,null,null,null,{"$error":"#DIV/0!"}]
["2022-06-10",2022,6,85,0,20,null,null,0,null,null,null,null,null,null,null,null,null,null,null,null,null,null,null,null,null,null,{"$error":"#DIV/0!"}]
["2022-06-11",2022,6,85.5,0,20.5,null,null,0,null,null,null,null,null,null,null,null,null,null,null,null,null,null,null,null,null,null,{"$error":"#DIV/0!"}]
["2022-06-12",2022,6,86,0,21,null,null,0,null,null,null,null,null,null,null,null,null,null,null,null,null,null,null,null,null,null,{"$error":"#DIV/0!"}]
["2022-06-13",2022,6,85.5,0,20.5,null,null,1E-3,null,null,null,null,null,null,null,null,null,null,null,null,null,null,null,null,null,null,{"$error":"#DIV/0!"}]
["2022-06-14",2022,6,84.5,0,19.5,null,null,0.56000000000000005,null,null,null,null,null,null,null,null,null,null,null,null,null,null,null,null,null,null,{"$error":"#DIV/0!"}]
["2022-06-15",2022,6,83,0,18,null,null,0.31,null,null,null,null,null,null,null,null,null,null,null,null,null,null,null,null,null,null,{"$error":"#DIV/0!"}]
["2022-06-16",2022,6,80,0,15,null,null,1.92,null,null,null,null,null,null,null,null,null,null,null,null,null,null,null,null,null,null,{"$error":"#DIV/0!"}]
["2022-06-17",2022,6,80.5,0,15.5,null,null,1.19,null,null,null,null,null,null,null,null,null,null,null,null,null,null,null,null,null,null,{"$error":"#DIV/0!"}]
["2022-06-18",2022,6,82.5,0,17.5,null,null,1E-3,null,null,null,null,null,null,null,null,null,null,null,null,null,null,null,null,null,null,{"$error":"#DIV/0!"}]
["2022-06-19",2022,6,85.5,0,20.5,null,null,0,null,null,null,null,null,null,null,null,null,null,null,null,null,null,null,null,null,null,{"$error":"#DIV/0!"}]
["2022-06-20",2022,6,86,0,21,null,null,0,null,null,null,null,null,null,null,null,null,null,null,null,null,null,null,null,null,null,{"$error":"#DIV/0!"}]
["2022-06-21",2022,6,85,0,20,null,null,1E-3,null,null,null,null,null,null,null,null,null,null,null,null,null,null,null,null,null,null,{"$error":"#DIV/0!"}]
["2022-06-22",2022,6,84.5,0,19.5,null,null,0.02,null,null,null,null,null,null,null,null,null,null,null,null,null,null,null,null,null,null,{"$error":"#DIV/0!"}]
["2022-06-23",2022,6,82,0,17,null,null,0.17,null,null,null,null,null,null,null,null,null,null,null,null,null,null,null,null,null,null,{"$error":"#DIV/0!"}]
["2022-06-24",2022,6,81.5,0,16.5,null,null,1.42,null,null,null,null,null,null,null,null,null,null,null,null,null,null,null,null,null,null,{"$error":"#DIV/0!"}]
["2022-06-25",2022,6,81.5,0,16.5,null,null,0.55000000000000004,null,null,null,null,null,null,null,null,null,null,null,null,null,null,null,null,null,null,{"$error":"#DIV/0!"}]
["2022-06-26",2022,6,83,0,18,null,null,0.82,null,null,null,null,null,null,null,null,null,null,null,null,null,null,null,null,null,null,{"$error":"#DIV/0!"}]
["2022-06-27",2022,6,85.5,0,20.5,null,null,0.02,null,null,null,null,null,null,null,null,null,null,null,null,null,null,null,null,null,null,{"$error":"#DIV/0!"}]
["2022-06-28",2022,6,86,0,21,null,null,0,null,null,null,null,null,null,null,null,null,null,null,null,null,null,null,null,null,null,{"$error":"#DIV/0!"}]
["2022-06-29",2022,6,82,0,17,null,null,3.33,null,null,null,null,null,null,null,null,null,null,null,null,null,null,null,null,null,null,{"$error":"#DIV/0!"}]
["2022-06-30",2022,6,81,0,16,null,null,0.11,null,null,null,null,null,null,null,null,null,null,null,null,null,null,null,null,null,null,{"$error":"#DIV/0!"}]
["2022-07-01",2022,7,81.5,{"$f":"IF(D244<65,65-D244,0)","v":0},{"$f":"IF(D244>65,D244-65,0)","v":16.5},null,null,0.05,{"$f":"+Y$11","v":0},null,null,null,null,null,null,null,null,null,null,null,null,null,null,null,null,null,{"$error":"#DIV/0!"}]
["2022-07-02",2022,7,82.5,0,17.5,null,null,0.48,null,null,null,null,null,null,null,null,null,null,null,null,null,null,null,null,null,null,{"$error":"#DIV/0!"}]
["2022-07-03",2022,7,80,0,15,null,null,2.63,null,null,null,null,null,null,null,null,null,null,null,null,null,null,null,null,null,null,{"$error":"#DIV/0!"}]
["2022-07-04",2022,7,84,0,19,null,null,0,null,null,null,null,null,null,null,null,null,null,null,null,null,null,null,null,null,null,{"$error":"#DIV/0!"}]
["2022-07-05",2022,7,86.5,0,21.5,null,null,0.18,null,null,null,null,null,null,null,null,null,null,null,null,null,null,null,null,null,null,{"$error":"#DIV/0!"}]
["2022-07-06",2022,7,81.5,0,16.5,null,null,0.66,null,null,null,null,null,null,null,null,null,null,null,null,null,null,null,null,null,null,{"$error":"#DIV/0!"}]
["2022-07-07",2022,7,82,0,17,null,null,0.9,null,null,null,null,null,null,null,null,null,null,null,null,null,null,null,null,null,null,{"$error":"#DIV/0!"}]
["2022-07-08",2022,7,85.5,0,20.5,null,null,0.01,null,null,null,null,null,null,null,null,null,null,null,null,null,null,null,null,null,null,{"$error":"#DIV/0!"}]
["2022-07-09",2022,7,85,0,20,null,null,0,null,null,null,null,null,null,null,null,null,null,null,null,null,null,null,null,null,null,{"$error":"#DIV/0!"}]
["2022-07-10",2022,7,85.5,0,20.5,null,null,1E-3,null,null,null,null,null,null,null,null,null,null,null,null,null,null,null,null,null,null,{"$error":"#DIV/0!"}]
["2022-07-11",2022,7,84,0,19,null,null,1E-3,null,null,null,null,null,null,null,null,null,null,null,null,null,null,null,null,null,null,{"$error":"#DIV/0!"}]
["2022-07-12",2022,7,82.5,0,17.5,null,null,0.3,null,null,null,null,null,null,null,null,null,null,null,null,null,null,null,null,null,null,{"$f":"+AC255/$AD$427","v":{"$error":"#DIV/0!"}}]
["2022-07-13",2022,7,84,0,19,null,null,0.21,null,null,null,null,null,null,null,null,null,null,null,null,null,null,null,null,null,null,{"$error":"#DIV/0!"}]
["2022-07-14",2022,7,84,0,19,null,null,0.03,null,null,null,null,null,null,null,null,null,null,null,null,null,null,null,null,null,null,{"$error":"#DIV/0!"}]
["2022-07-15",2022,7,86.5,0,21.5,null,null,0,null,null,null,null,null,null,null,null,null,null,null,null,null,null,null,null,null,null,{"$error":"#DIV/0!"}]
["2022-07-16",{"$f":"YEAR(A259)","v":2022},{"$f":"MONTH(A259)","v":7},87,0,22,null,null,0,null,null,null,null,null,null,null,null,null,null,null,null,null,null,null,null,null,null,{"$error":"#DIV/0!"}]
[{"$f":"+A259+1","v":"2022-07-17"},2022,7,88,0,23,null,null,0.01,null,null,null,null,null,null,null,null,null,null,null,null,null,null,null,null,null,null,{"$error":"#DIV/0!"}]
["2022-07-18",2022,7,86,0,21,null,null,0,null,null,null,null,null,null,null,null,null,null,null,null,null,null,null,null,null,null,{"$error":"#DIV/0!"}]
["2022-07-19",2022,7,85,0,20,null,null,0.5,null,null,null,null,null,null,null,null,null,null,null,null,null,null,null,null,null,null,{"$error":"#DIV/0!"}]
["2022-07-20",2022,7,85.5,0,20.5,null,null,0,null,null,null,null,null,null,null,null,null,null,null,null,null,null,null,null,null,null,{"$error":"#DIV/0!"}]
["2022-07-21",2022,7,86,0,21,null,null,0.37,null,null,null,null,null,null,null,null,null,null,null,null,null,null,null,null,null,null,{"$error":"#DIV/0!"}]
["2022-07-22",2022,7,87.5,0,22.5,null,null,0.09,null,null,null,null,null,null,null,null,null,null,null,null,null,null,null,null,null,null,{"$error":"#DIV/0!"}]
["2022-07-23",2022,7,87.5,0,22.5,null,null,1E-3,null,null,null,null,null,null,null,null,null,null,null,null,null,null,null,null,null,null,{"$error":"#DIV/0!"}]
["2022-07-24",2022,7,87.5,0,22.5,null,null,0.04,null,null,null,null,null,null,null,null,null,null,null,null,null,null,null,null,null,null,{"$error":"#DIV/0!"}]
["2022-07-25",2022,7,87.5,0,22.5,null,null,0,null,null,null,null,null,null,null,null,null,null,null,null,null,null,null,null,null,null,{"$error":"#DIV/0!"}]
["2022-07-26",2022,7,89,0,24,null,null,0,null,null,null,null,null,null,null,null,null,null,null,null,null,null,null,null,null,null,{"$error":"#DIV/0!"}]
["2022-07-27",2022,7,85.5,0,20.5,null,null,1E-3,null,null,null,null,null,null,null,null,null,null,null,null,null,null,null,null,null,null,{"$error":"#DIV/0!"}]
["2022-07-28",2022,7,83.5,0,18.5,null,null,0.09,null,null,null,null,null,null,null,null,null,null,null,null,null,null,null,null,null,null,{"$error":"#DIV/0!"}]
["2022-07-29",2022,7,82,0,17,null,null,0.46,null,null,null,null,null,null,null,null,null,null,null,null,null,null,null,null,null,null,{"$error":"#DIV/0!"}]
["2022-07-30",2022,7,85.5,0,20.5,null,null,1E-3,null,null,null,null,null,null,null,null,null,null,null,null,null,null,null,null,null,null,{"$error":"#DIV/0!"}]
["2022-07-31",2022,7,87,0,22,null,null,0.28999999999999998,null,null,null,null,null,null,null,null,null,null,null,null,null,null,null,null,null,null,{"$error":"#DIV/0!"}]
["2022-08-01",2022,8,88,0,23,null,null,0,{"$f":"+Y$12","v":0},null,null,null,null,null,null,null,null,null,null,null,null,null,null,null,null,null,{"$error":"#DIV/0!"}]
["2022-08-02",2022,8,85,0,20,null,null,0,null,null,null,null,null,null,null,null,null,null,null,null,null,null,null,null,null,null,{"$error":"#DIV/0!"}]
["2022-08-03",2022,8,81.5,0,16.5,null,null,0,null,null,null,null,null,null,null,null,null,null,null,null,null,null,null,null,null,null,{"$error":"#DIV/0!"}]
["2022-08-04",2022,8,81.5,0,16.5,null,null,0,null,null,null,null,null,null,null,null,null,null,null,null,null,null,null,null,null,null,{"$error":"#DIV/0!"}]
["2022-08-05",2022,8,81,0,16,null,null,0,null,null,null,null,null,null,null,null,null,null,null,null,null,null,null,null,null,null,{"$error":"#DIV/0!"}]
["2022-08-06",2022,8,85.5,0,20.5,null,null,0,null,null,null,null,null,null,null,null,null,null,null,null,null,null,null,null,null,null,{"$error":"#DIV/0!"}]
["2022-08-07",2022,8,84.5,0,19.5,null,null,0,null,null,null,null,null,null,null,null,null,null,null,null,null,null,null,null,null,null,{"$error":"#DIV/0!"}]
["2022-08-08",2022,8,85.5,0,20.5,null,null,0,null,null,null,null,null,null,null,null,null,null,null,null,null,null,null,null,null,null,{"$error":"#DIV/0!"}]
["2022-08-09",2022,8,85,0,20,null,null,0,null,null,null,null,null,null,null,null,null,null,null,null,null,null,null,null,null,null,{"$error":"#DIV/0!"}]
["2022-08-10",2022,8,85,0,20,null,null,0,null,null,null,null,null,null,null,null,null,null,null,null,null,null,null,null,null,null,{"$error":"#DIV/0!"}]
["2022-08-11",2022,8,84,0,19,null,null,0,null,null,null,null,null,null,null,null,null,null,null,null,null,null,null,null,null,null,{"$error":"#DIV/0!"}]
["2022-08-12",2022,8,87,0,22,null,null,0,null,null,null,null,null,null,null,null,null,null,null,null,null,null,null,null,null,null,{"$error":"#DIV/0!"}]
["2022-08-13",2022,8,83,0,18,null,null,0,null,null,null,null,null,null,null,null,null,null,null,null,null,null,null,null,null,null,{"$error":"#DIV/0!"}]
["2022-08-14",2022,8,83.5,0,18.5,null,null,0,null,null,null,null,null,null,null,null,null,null,null,null,null,null,null,null,null,null,{"$error":"#DIV/0!"}]
["2022-08-15",2022,8,81,0,16,null,null,0,null,null,null,null,null,null,null,null,null,null,null,null,null,null,null,null,null,null,{"$error":"#DIV/0!"}]
["2022-08-16",2022,8,84.5,0,19.5,null,null,0,null,null,null,null,null,null,null,null,null,null,null,null,null,null,null,null,null,null,{"$error":"#DIV/0!"}]
["2022-08-17",2022,8,86,0,21,null,null,0,null,null,null,null,null,null,null,null,null,null,null,null,null,null,null,null,null,null,{"$error":"#DIV/0!"}]
["2022-08-18",2022,8,88,0,23,null,null,0,null,null,null,null,null,null,null,null,null,null,null,null,null,null,null,null,null,null,{"$error":"#DIV/0!"}]
["2022-08-19",2022,8,86.5,0,21.5,null,null,0,null,null,null,null,null,null,null,null,null,null,null,null,null,null,null,null,null,null,{"$error":"#DIV/0!"}]
["2022-08-20",2022,8,88,0,23,null,null,0,null,null,null,null,null,null,null,null,null,null,null,null,null,null,null,null,null,null,{"$error":"#DIV/0!"}]
["2022-08-21",2022,8,86.5,0,21.5,null,null,0,null,null,null,null,null,null,null,null,null,null,null,null,null,null,null,null,null,null,{"$error":"#DIV/0!"}]
["2022-08-22",2022,8,85,0,20,null,null,0,null,null,null,null,null,null,null,null,null,null,null,null,null,null,null,null,null,null,{"$error":"#DIV/0!"}]
["2022-08-23",2022,8,84.5,0,19.5,null,null,0,null,null,null,null,null,null,null,null,null,null,null,null,null,null,null,null,null,null,{"$error":"#DIV/0!"}]
["2022-08-24",2022,8,86,0,21,null,null,0,null,null,null,null,null,null,null,null,null,null,null,null,null,null,null,null,null,null,{"$error":"#DIV/0!"}]
["2022-08-25",2022,8,88.5,0,23.5,null,null,0,null,null,null,null,null,null,null,null,null,null,null,null,null,null,null,null,null,null,{"$error":"#DIV/0!"}]
["2022-08-26",2022,8,84,0,19,null,null,0,null,null,null,null,null,null,null,null,null,null,null,null,null,null,null,null,null,null,{"$error":"#DIV/0!"}]
["2022-08-27",2022,8,85,0,20,null,null,0,null,null,null,null,null,null,null,null,null,null,null,null,null,null,null,null,null,null,{"$error":"#DIV/0!"}]
["2022-08-28",2022,8,84.5,0,19.5,null,null,0,null,null,null,null,null,null,null,null,null,null,null,null,null,null,null,null,null,null,{"$error":"#DIV/0!"}]
["2022-08-29",2022,8,86,0,21,null,null,0,null,null,null,null,null,null,null,null,null,null,null,null,null,null,null,null,null,null,{"$error":"#DIV/0!"}]
["2022-08-30",2022,8,84,0,19,null,null,0,null,null,null,null,null,null,null,null,null,null,null,null,null,null,null,null,null,null,{"$error":"#DIV/0!"}]
["2022-08-31",2022,8,86,0,21,null,null,0,null,null,null,null,null,null,null,null,null,null,null,null,null,null,null,null,null,null,{"$error":"#DIV/0!"}]
["2022-09-01",2022,9,79.5,0,14.5,null,null,0,{"$f":"+Y$13","v":0},null,null,null,null,null,null,null,null,null,null,null,null,null,null,null,null,null,{"$error":"#DIV/0!"}]
["2022-09-02",2022,9,82,0,17,null,null,0,null,null,null,null,null,null,null,null,null,null,null,null,null,null,null,null,null,null,{"$error":"#DIV/0!"}]
["2022-09-03",2022,9,84.5,{"$f":"IF(D308<65,65-D308,0)","v":0},{"$f":"IF(D308>65,D308-65,0)","v":19.5},null,null,0,null,null,null,null,null,null,null,null,null,null,null,null,null,null,null,null,null,null,{"$error":"#DIV/0!"}]
["2022-09-04",2022,9,83,0,18,null,null,0,null,null,null,null,null,null,null,null,null,null,null,null,null,null,null,null,null,null,{"$error":"#DIV/0!"}]
["2022-09-05",2022,9,83.5,0,18.5,null,null,0,null,null,null,null,null,null,null,null,null,null,null,null,null,null,null,null,null,null,{"$error":"#DIV/0!"}]
["2022-09-06",2022,9,84.5,0,19.5,null,null,0,null,null,null,null,null,null,null,null,null,null,null,null,null,null,null,null,null,null,{"$error":"#DIV/0!"}]
["2022-09-07",2022,9,82.5,0,17.5,null,null,0,null,null,null,null,null,null,null,null,null,null,null,null,null,null,null,null,null,null,{"$error":"#DIV/0!"}]
["2022-09-08",2022,9,85.5,0,20.5,null,null,0,null,null,null,null,null,null,null,null,null,null,null,null,null,null,null,null,null,null,{"$error":"#DIV/0!"}]
["2022-09-09",2022,9,84.5,0,19.5,null,null,0,null,null,null,null,null,null,null,null,null,null,null,null,null,null,null,null,null,null,{"$error":"#DIV/0!"}]
["2022-09-10",2022,9,83,0,18,null,null,0,null,null,null,null,null,null,null,null,null,null,null,null,null,null,null,null,null,null,{"$error":"#DIV/0!"}]
["2022-09-11",2022,9,82.5,0,17.5,null,null,0,null,null,null,null,null,null,null,null,null,null,null,null,null,null,null,null,null,null,{"$error":"#DIV/0!"}]
["2022-09-12",2022,9,85.5,0,20.5,null,null,0,null,null,null,null,null,null,null,null,null,null,null,null,null,null,null,null,null,null,{"$error":"#DIV/0!"}]
["2022-09-13",2022,9,85.5,0,20.5,null,null,0,null,null,null,null,null,null,null,null,null,null,null,null,null,null,null,null,null,null,{"$error":"#DIV/0!"}]
["2022-09-14",2022,9,82.5,0,17.5,null,null,0,null,null,null,null,null,null,null,null,null,null,null,null,null,null,null,null,null,null,{"$f":"+AC319/$AD$427","v":{"$error":"#DIV/0!"}}]
["2022-09-15",2022,9,82,0,17,null,null,0,null,null,null,null,null,null,null,null,null,null,null,null,null,null,null,null,null,null,{"$error":"#DIV/0!"}]
["2022-09-16",2022,9,82.5,0,17.5,null,null,0,null,null,null,null,null,null,null,null,null,null,null,null,null,null,null,null,null,null,{"$error":"#DIV/0!"}]
["2022-09-17",2022,9,82.5,0,17.5,null,null,0,null,null,null,null,null,null,null,null,null,null,null,null,null,null,null,null,null,null,{"$error":"#DIV/0!"}]
["2022-09-18",{"$f":"YEAR(A323)","v":2022},{"$f":"MONTH(A323)","v":9},82.5,0,17.5,null,null,0,null,null,null,null,null,null,null,null,null,null,null,null,null,null,null,null,null,null,{"$error":"#DIV/0!"}]
[{"$f":"+A323+1","v":"2022-09-19"},2022,9,82,0,17,null,null,0,null,null,null,null,null,null,null,null,null,null,null,null,null,null,null,null,null,null,{"$error":"#DIV/0!"}]
["2022-09-20",2022,9,82.5,0,17.5,null,null,0,null,null,null,null,null,null,null,null,null,null,null,null,null,null,null,null,null,null,{"$error":"#DIV/0!"}]
["2022-09-21",2022,9,83.5,0,18.5,null,null,0,null,null,null,null,null,null,null,null,null,null,null,null,null,null,null,null,null,null,{"$error":"#DIV/0!"}]
["2022-09-22",2022,9,83,0,18,null,null,0,null,null,null,null,null,null,null,null,null,null,null,null,null,null,null,null,null,null,{"$error":"#DIV/0!"}]
["2022-09-23",2022,9,83.5,0,18.5,null,null,0,null,null,null,null,null,null,null,null,null,null,null,null,null,null,null,null,null,null,{"$error":"#DIV/0!"}]
["2022-09-24",2022,9,85,0,20,null,null,0,null,null,null,null,null,null,null,null,null,null,null,null,null,null,null,null,null,null,{"$error":"#DIV/0!"}]
["2022-09-25",2022,9,84,0,19,null,null,0,null,null,null,null,null,null,null,null,null,null,null,null,null,null,null,null,null,null,{"$error":"#DIV/0!"}]
["2022-09-26",2022,9,83,0,18,null,null,0,null,null,null,null,null,null,null,null,null,null,null,null,null,null,null,null,null,null,{"$error":"#DIV/0!"}]
["2022-09-27",2022,9,82.5,0,17.5,null,null,0,null,null,null,null,null,null,null,null,null,null,null,null,null,null,null,null,null,null,{"$error":"#DIV/0!"}]
["2022-09-28",2022,9,80.5,0,15.5,null,null,0,null,null,null,null,null,null,null,null,null,null,null,null,null,null,null,null,null,null,{"$error":"#DIV/0!"}]
["2022-09-29",2022,9,81,0,16,null,null,0,null,null,null,null,null,null,null,null,null,null,null,null,null,null,null,null,null,null,{"$error":"#DIV/0!"}]
["2022-09-30",2022,9,83.5,0,18.5,null,null,0,null,null,null,null,null,null,null,null,null,null,null,null,null,null,null,null,null,null,{"$error":"#DIV/0!"}]
["2022-10-01",2022,10,83.5,0,18.5,null,null,0,{"$f":"+Y$14","v":0},null,null,null,null,null,null,null,null,null,null,null,null,null,null,null,null,null,{"$error":"#DIV/0!"}]
["2022-10-02",2022,10,83.5,0,18.5,null,null,0,null,null,null,null,null,null,null,null,null,null,null,null,null,null,null,null,null,null,{"$error":"#DIV/0!"}]
["2022-10-03",2022,10,82.5,0,17.5,null,null,0,null,null,null,null,null,null,null,null,null,null,null,null,null,null,null,null,null,null,{"$error":"#DIV/0!"}]
["2022-10-04",2022,10,81.5,0,16.5,null,null,0,null,null,null,null,null,null,null,null,null,null,null,null,null,null,null,null,null,null,{"$error":"#DIV/0!"}]
["2022-10-05",2022,10,82.5,0,17.5,null,null,0,null,null,null,null,null,null,null,null,null,null,null,null,null,null,null,null,null,null,{"$error":"#DIV/0!"}]
["2022-10-06",2022,10,84.5,0,19.5,null,null,0,null,null,null,null,null,null,null,null,null,null,null,null,null,null,null,null,null,null,{"$error":"#DIV/0!"}]
["2022-10-07",2022,10,85.5,0,20.5,null,null,0,null,null,null,null,null,null,null,null,null,null,null,null,null,null,null,null,null,null,{"$error":"#DIV/0!"}]
["2022-10-08",2022,10,82.5,0,17.5,null,null,0,null,null,null,null,null,null,null,null,null,null,null,null,null,null,null,null,null,null,{"$error":"#DIV/0!"}]
["2022-10-09",2022,10,83,0,18,null,null,0,null,null,null,null,null,null,null,null,null,null,null,null,null,null,null,null,null,null,{"$error":"#DIV/0!"}]
["2022-10-10",2022,10,81.5,0,16.5,null,null,0,null,null,null,null,null,null,null,null,null,null,null,null,null,null,null,null,null,null,{"$error":"#DIV/0!"}]
["2022-10-11",2022,10,80.5,0,15.5,null,null,0,null,null,null,null,null,null,null,null,null,null,null,null,null,null,null,null,null,null,{"$error":"#DIV/0!"}]
["2022-10-12",2022,10,84,0,19,null,null,0,null,null,null,null,null,null,null,null,null,null,null,null,null,null,null,null,null,null,{"$error":"#DIV/0!"}]
["2022-10-13",2022,10,83.5,0,18.5,null,null,0,null,null,null,null,null,null,null,null,null,null,null,null,null,null,null,null,null,null,{"$error":"#DIV/0!"}]
["2022-10-14",2022,10,84,0,19,null,null,0,null,null,null,null,null,null,null,null,null,null,null,null,null,null,null,null,null,null,{"$error":"#DIV/0!"}]
["2022-10-15",2022,10,83.5,0,18.5,null,null,0,null,null,null,null,null,null,null,null,null,null,null,null,null,null,null,null,null,null,{"$error":"#DIV/0!"}]
["2022-10-16",2022,10,82.5,0,17.5,null,null,0,null,null,null,null,null,null,null,null,null,null,null,null,null,null,null,null,null,null,{"$error":"#DIV/0!"}]
["2022-10-17",2022,10,78.5,0,13.5,null,null,0,null,null,null,null,null,null,null,null,null,null,null,null,null,null,null,null,null,null,{"$error":"#DIV/0!"}]
["2022-10-18",2022,10,75.5,0,10.5,null,null,0,null,null,null,null,null,null,null,null,null,null,null,null,null,null,null,null,null,null,{"$error":"#DIV/0!"}]
["2022-10-19",2022,10,77.5,0,12.5,null,null,0,null,null,null,null,null,null,null,null,null,null,null,null,null,null,null,null,null,null,{"$error":"#DIV/0!"}]
["2022-10-20",2022,10,78,0,13,null,null,0,null,null,null,null,null,null,null,null,null,null,null,null,null,null,null,null,null,null,{"$error":"#DIV/0!"}]
["2022-10-21",2022,10,79,0,14,null,null,0,null,null,null,null,null,null,null,null,null,null,null,null,null,null,null,null,null,null,{"$error":"#DIV/0!"}]
["2022-10-22",2022,10,80,0,15,null,null,0,null,null,null,null,null,null,null,null,null,null,null,null,null,null,null,null,null,null,{"$error":"#DIV/0!"}]
["2022-10-23",2022,10,82.5,0,17.5,null,null,0,null,null,null,null,null,null,null,null,null,null,null,null,null,null,null,null,null,null,{"$error":"#DIV/0!"}]
["2022-10-24",2022,10,81,0,16,null,null,0,null,null,null,null,null,null,null,null,null,null,null,null,null,null,null,null,null,null,{"$error":"#DIV/0!"}]
["2022-10-25",2022,10,81,0,16,null,null,0,null,null,null,null,null,null,null,null,null,null,null,null,null,null,null,null,null,null,{"$error":"#DIV/0!"}]
["2022-10-26",2022,10,80,0,15,null,null,0,null,null,null,null,null,null,null,null,null,null,null,null,null,null,null,null,null,null,{"$error":"#DIV/0!"}]
["2022-10-27",2022,10,75.5,0,10.5,null,null,0,null,null,null,null,null,null,null,null,null,null,null,null,null,null,null,null,null,null,{"$error":"#DIV/0!"}]
["2022-10-28",2022,10,81,0,16,null,null,0,null,null,null,null,null,null,null,null,null,null,null,null,null,null,null,null,null,null,{"$error":"#DIV/0!"}]
["2022-10-29",2022,10,75.5,0,10.5,null,null,0,null,null,null,null,null,null,null,null,null,null,null,null,null,null,null,null,null,null,{"$error":"#DIV/0!"}]
["2022-10-30",2022,10,69,0,4,null,null,0,null,null,null,null,null,null,null,null,null,null,null,null,null,null,null,null,null,null,{"$error":"#DIV/0!"}]
["2022-10-31",2022,10,70,0,5,null,null,0,null,null,null,null,null,null,null,null,null,null,null,null,null,null,null,null,null,null,{"$error":"#DIV/0!"}]
["2022-11-01",2022,11,{"$f":"D2","v":66.5},0,1.5,null,null,0,{"$f":"+Y$15","v":0},null,null,null,null,null,null,null,null,null,null,null,null,null,null,null,null,null,{"$error":"#DIV/0!"}]
["2022-11-02",2022,11,{"$f":"D3","v":74.5},0,9.5,null,null,0,null,null,null,null,null,null,null,null,null,null,null,null,null,null,null,null,null,null,{"$error":"#DIV/0!"}]
["2022-11-03",2022,11,76.5,0,11.5,null,null,0,null,null,null,null,null,null,null,null,null,null,null,null,null,null,null,null,null,null,{"$error":"#DIV/0!"}]
["2022-11-04",2022,11,74,0,9,null,null,0,null,null,null,null,null,null,null,null,null,null,null,null,null,null,null,null,null,null,{"$error":"#DIV/0!"}]
["2022-11-05",2022,11,65,0,0,null,null,0,null,null,null,null,null,null,null,null,null,null,null,null,null,null,null,null,null,null,{"$error":"#DIV/0!"}]
["2022-11-06",2022,11,61,{"$f":"IF(D372<65,65-D372,0)","v":4},{"$f":"IF(D372>65,D372-65,0)","v":0},null,null,0,null,null,null,null,null,null,null,null,null,null,null,null,null,null,null,null,null,null,{"$error":"#DIV/0!"}]
["2022-11-07",2022,11,62.5,2.5,0,null,null,0,null,null,null,null,null,null,null,null,null,null,null,null,null,null,null,null,null,null,{"$error":"#DIV/0!"}]
["2022-11-08",2022,11,65,0,0,null,null,0,null,null,null,null,null,null,null,null,null,null,null,null,null,null,null,null,null,null,{"$error":"#DIV/0!"}]
["2022-11-09",2022,11,67.5,0,2.5,null,null,0,null,null,null,null,null,null,null,null,null,null,null,null,null,null,null,null,null,null,{"$error":"#DIV/0!"}]
["2022-11-10",2022,11,72,0,7,null,null,0,null,null,null,null,null,null,null,null,null,null,null,null,null,null,null,null,null,null,{"$error":"#DIV/0!"}]
["2022-11-11",2022,11,75.5,0,10.5,null,null,0,null,null,null,null,null,null,null,null,null,null,null,null,null,null,null,null,null,null,{"$error":"#DIV/0!"}]
["2022-11-12",2022,11,74.5,0,9.5,null,null,0,null,null,null,null,null,null,null,null,null,null,null,null,null,null,null,null,null,null,{"$error":"#DIV/0!"}]
["2022-11-13",2022,11,70.5,0,5.5,null,null,0,null,null,null,null,null,null,null,null,null,null,null,null,null,null,null,null,null,null,{"$error":"#DIV/0!"}]
["2022-11-14",2022,11,63,2,0,null,null,0,null,null,null,null,null,null,null,null,null,null,null,null,null,null,null,null,null,null,{"$error":"#DIV/0!"}]
["2022-11-15",2022,11,65.5,0,0.5,null,null,0,null,null,null,null,null,null,null,null,null,null,null,null,null,null,null,null,null,null,{"$error":"#DIV/0!"}]
["2022-11-16",2022,11,67.5,0,2.5,null,null,0,null,null,null,null,null,null,null,null,null,null,null,null,null,null,null,null,null,null,{"$error":"#DIV/0!"}]
["2022-11-17",2022,11,72,0,7,null,null,0,null,null,null,null,null,null,null,null,null,null,null,null,null,null,null,null,null,null,{"$f":"+AC383/$AD$427","v":{"$error":"#DIV/0!"}}]
["2022-11-18",2022,11,74,0,9,null,null,0,null,null,null,null,null,null,null,null,null,null,null,null,null,null,null,null,null,null,{"$error":"#DIV/0!"}]
["2022-11-19",2022,11,76,0,11,null,null,0,null,null,null,null,null,null,null,null,null,null,null,null,null,null,null,null,null,null,{"$error":"#DIV/0!"}]
["2022-11-20",2022,11,72.5,0,7.5,null,null,0,null,null,null,null,null,null,null,null,null,null,null,null,null,null,null,null,null,null,{"$error":"#DIV/0!"}]
["2022-11-21",{"$f":"YEAR(A387)","v":2022},{"$f":"MONTH(A387)","v":11},76,0,11,null,null,0,null,null,null,null,null,null,null,null,null,null,null,null,null,null,null,null,null,null,{"$error":"#DIV/0!"}]
[{"$f":"+A387+1","v":"2022-11-22"},2022,11,71.5,0,6.5,null,null,0,null,null,null,null,null,null,null,null,null,null,null,null,null,null,null,null,null,null,{"$error":"#DIV/0!"}]
["2022-11-23",2022,11,60,5,0,null,null,0,null,null,null,null,null,null,null,null,null,null,null,null,null,null,null,null,null,null,{"$error":"#DIV/0!"}]
["2022-11-24",2022,11,62,3,0,null,null,0,null,null,null,null,null,null,null,null,null,null,null,null,null,null,null,null,null,null,{"$error":"#DIV/0!"}]
["2022-11-25",2022,11,68.5,0,3.5,null,null,0,null,null,null,null,null,null,null,null,null,null,null,null,null,null,null,null,null,null,{"$error":"#DIV/0!"}]
["2022-11-26",2022,11,68,0,3,null,null,0,null,null,null,null,null,null,null,null,null,null,null,null,null,null,null,null,null,null,{"$error":"#DIV/0!"}]
["2022-11-27",2022,11,62.5,2.5,0,null,null,0,null,null,null,null,null,null,null,null,null,null,null,null,null,null,null,null,null,null,{"$error":"#DIV/0!"}]
["2022-11-28",2022,11,62.5,2.5,0,null,null,0,null,null,null,null,null,null,null,null,null,null,null,null,null,null,null,null,null,null,{"$error":"#DIV/0!"}]
["2022-11-29",2022,11,64,1,0,null,null,0,null,null,null,null,null,null,null,null,null,null,null,null,null,null,null,null,null,null,{"$error":"#DIV/0!"}]
["2022-11-30",2022,11,61.5,3.5,0,null,null,0,null,null,null,null,null,null,null,null,null,null,null,null,null,null,null,null,null,null,{"$error":"#DIV/0!"}]
["2022-12-01",2022,12,66.5,0,1.5,null,null,0,{"$f":"+Y$16","v":0},null,null,null,null,null,null,null,null,null,null,null,null,null,null,null,null,null,{"$error":"#DIV/0!"}]
["2022-12-02",2022,12,67.5,0,2.5,null,null,0,null,null,null,null,null,null,null,null,null,null,null,null,null,null,null,null,null,null,{"$error":"#DIV/0!"}]
["2022-12-03",2022,12,66.5,0,1.5,null,null,0,null,null,null,null,null,null,null,null,null,null,null,null,null,null,null,null,null,null,{"$error":"#DIV/0!"}]
["2022-12-04",2022,12,65,0,0,null,null,0,null,null,null,null,null,null,null,null,null,null,null,null,null,null,null,null,null,null,{"$error":"#DIV/0!"}]
["2022-12-05",2022,12,70.5,0,5.5,null,null,0,null,null,null,null,null,null,null,null,null,null,null,null,null,null,null,null,null,null,{"$error":"#DIV/0!"}]
["2022-12-06",2022,12,71,0,6,null,null,0,null,null,null,null,null,null,null,null,null,null,null,null,null,null,null,null,null,null,{"$error":"#DIV/0!"}]
["2022-12-07",2022,12,73.5,0,8.5,null,null,0,null,null,null,null,null,null,null,null,null,null,null,null,null,null,null,null,null,null,{"$error":"#DIV/0!"}]
["2022-12-08",2022,12,73,0,8,null,null,0,null,null,null,null,null,null,null,null,null,null,null,null,null,null,null,null,null,null,{"$error":"#DIV/0!"}]
["2022-12-09",2022,12,74.5,0,9.5,null,null,0,null,null,null,null,null,null,null,null,null,null,null,null,null,null,null,null,null,null,{"$error":"#DIV/0!"}]
["2022-12-10",2022,12,75.5,0,10.5,null,null,0,null,null,null,null,null,null,null,null,null,null,null,null,null,null,null,null,null,null,{"$error":"#DIV/0!"}]
["2022-12-11",2022,12,77,0,12,null,null,0,null,null,null,null,null,null,null,null,null,null,null,null,null,null,null,null,null,null,{"$error":"#DIV/0!"}]
["2022-12-12",2022,12,76,0,11,null,null,0,null,null,null,null,null,null,null,null,null,null,null,null,null,null,null,null,null,null,{"$error":"#DIV/0!"}]
["2022-12-13",2022,12,76.5,0,11.5,null,null,0,null,null,null,null,null,null,null,null,null,null,null,null,null,null,null,null,null,null,{"$error":"#DIV/0!"}]
["2022-12-14",2022,12,75,0,10,null,null,0,null,null,null,null,null,null,null,null,null,null,null,null,null,null,null,null,null,null,{"$error":"#DIV/0!"}]
["2022-12-15",2022,12,75,0,10,null,null,0,null,null,null,null,null,null,null,null,null,null,null,null,null,null,null,null,null,null,{"$error":"#DIV/0!"}]
["2022-12-16",2022,12,77.5,0,12.5,null,null,0,null,null,null,null,null,null,null,null,null,null,null,null,null,null,null,null,null,null,{"$error":"#DIV/0!"}]
["2022-12-17",2022,12,77.5,0,12.5,null,null,0,null,null,null,null,null,null,null,null,null,null,null,null,null,null,null,null,null,null,{"$error":"#DIV/0!"}]
["2022-12-18",2022,12,78,0,13,null,null,0,null,null,null,null,null,null,null,null,null,null,null,null,null,null,null,null,null,null,{"$error":"#DIV/0!"}]
["2022-12-19",2022,12,77.5,0,12.5,null,null,0,null,null,null,null,null,null,null,null,null,null,null,null,null,null,null,null,null,null,{"$error":"#DIV/0!"}]
["2022-12-20",2022,12,72,0,7,null,null,0,null,null,null,null,null,null,null,null,null,null,null,null,null,null,null,null,null,null,{"$error":"#DIV/0!"}]
["2022-12-21",2022,12,67,0,2,null,null,0,null,null,null,null,null,null,null,null,null,null,null,null,null,null,null,null,null,null,{"$error":"#DIV/0!"}]
["2022-12-22",2022,12,60,5,0,null,null,0,null,null,null,null,null,null,null,null,null,null,null,null,null,null,null,null,null,null,{"$error":"#DIV/0!"}]
["2022-12-23",2022,12,60.5,4.5,0,null,null,0,null,null,null,null,null,null,null,null,null,null,null,null,null,null,null,null,null,null,{"$error":"#DIV/0!"}]
["2022-12-24",2022,12,65.5,0,0.5,null,null,0,null,null,null,null,null,null,null,null,null,null,null,null,null,null,null,null,null,null,{"$error":"#DIV/0!"}]
["2022-12-25",2022,12,66.5,0,1.5,null,null,0,null,null,null,null,null,null,null,null,null,null,null,null,null,null,null,null,null,null,{"$error":"#DIV/0!"}]
["2022-12-26",2022,12,68.5,0,3.5,null,null,0,null,null,null,null,null,null,null,null,null,null,null,null,null,null,null,null,null,null,{"$error":"#DIV/0!"}]
["2022-12-27",2022,12,69.5,0,4.5,null,null,0,null,null,null,null,null,null,null,null,null,null,null,null,null,null,null,null,null,null,{"$error":"#DIV/0!"}]
["2022-12-28",2022,12,70,0,5,null,null,0,null,null,null,null,null,null,null,null,null,null,null,null,null,null,null,null,null,null,{"$error":"#DIV/0!"}]
["2022-12-29",2022,12,75,0,10,null,null,0,null,null,null,null,null,null,null,null,null,null,null,null,null,null,null,null,null,null,{"$error":"#DIV/0!"}]
["2022-12-30",2022,12,74,0,9,null,null,0,null,null,null,null,null,null,null,null,null,null,null,null,null,null,null,null,null,null,{"$error":"#DIV/0!"}]
["2022-12-31",2022,12,76,0,11,null,null,0,null,null,null,null,null,null,null,null,null,null,null,null,null,null,null,null,null,null,{"$error":"#DIV/0!"},null,{"$f":"SUM(AC63:AC427)","v":0}]
["2023-01-01",2023,1,74.5,0,9.5,null,null,0,{"$f":"+$Y$17","v":0},null,null,null,null,null,null,null,null,null,null,null,null,null,null,null,null,null,{"$f":"+AC428/$AD$458","v":{"$error":"#DIV/0!"}}]
["2023-01-02",2023,1,76.5,0,11.5,null,null,0,null,null,null,null,null,null,null,null,null,null,null,null,null,null,null,null,null,null,{"$error":"#DIV/0!"}]
["2023-01-03",2023,1,65,0,0,null,null,0,null,null,null,null,null,null,null,null,null,null,null,null,null,null,null,null,null,null,{"$error":"#DIV/0!"}]
["2023-01-04",2023,1,63,2,0,null,null,0,null,null,null,null,null,null,null,null,null,null,null,null,null,null,null,null,null,null,{"$error":"#DIV/0!"}]
["2023-01-05",2023,1,{"$f":"D67","v":67},0,2,null,null,0,null,null,null,null,null,null,null,null,null,null,null,null,null,null,null,null,null,null,{"$error":"#DIV/0!"}]
["2023-01-06",{"$f":"YEAR(A433)","v":2023},{"$f":"MONTH(A433)","v":1},65,0,0,null,null,0,null,null,null,null,null,null,null,null,null,null,null,null,null,null,null,null,null,null,{"$error":"#DIV/0!"}]
["2023-01-07",2023,1,72,0,7,null,null,0,null,null,null,null,null,null,null,null,null,null,null,null,null,null,null,null,null,null,{"$error":"#DIV/0!"}]
["2023-01-08",2023,1,69.5,0,4.5,null,null,0,null,null,null,null,null,null,null,null,null,null,null,null,null,null,null,null,null,null,{"$error":"#DIV/0!"}]
["2023-01-09",2023,1,74.5,{"$f":"IF(D436<65,65-D436,0)","v":0},{"$f":"IF(D436>65,D436-65,0)","v":9.5},null,null,0,null,null,null,null,null,null,null,null,null,null,null,null,null,null,null,null,null,null,{"$error":"#DIV/0!"}]
["2023-01-10",2023,1,72.5,0,7.5,null,null,0,null,null,null,null,null,null,null,null,null,null,null,null,null,null,null,null,null,null,{"$error":"#DIV/0!"}]
["2023-01-11",2023,1,63.5,1.5,0,null,null,0,null,null,null,null,null,null,null,null,null,null,null,null,null,null,null,null,null,null,{"$error":"#DIV/0!"}]
["2023-01-12",2023,1,65.5,0,0.5,null,null,0,null,null,null,null,null,null,null,null,null,null,null,null,null,null,null,null,null,null,{"$error":"#DIV/0!"}]
["2023-01-13",2023,1,66.5,0,1.5,null,null,0,null,null,null,null,null,null,null,null,null,null,null,null,null,null,null,null,null,null,{"$error":"#DIV/0!"}]
["2023-01-14",2023,1,63.5,1.5,0,null,null,0,null,null,null,null,null,null,null,null,null,null,null,null,null,null,null,null,null,null,{"$error":"#DIV/0!"}]
["2023-01-15",2023,1,62.5,2.5,0,null,null,0,null,null,null,null,null,null,null,null,null,null,null,null,null,null,null,null,null,null,{"$error":"#DIV/0!"}]
["2023-01-16",2023,1,66.5,0,1.5,null,null,0,null,null,null,null,null,null,null,null,null,null,null,null,null,null,null,null,null,null,{"$error":"#DIV/0!"}]
["2023-01-17",2023,1,61,4,0,null,null,0,null,null,null,null,null,null,null,null,null,null,null,null,null,null,null,null,null,null,{"$error":"#DIV/0!"}]
["2023-01-18",2023,1,53,12,0,null,null,0,null,null,null,null,null,null,null,null,null,null,null,null,null,null,null,null,null,null,{"$error":"#DIV/0!"}]
["2023-01-19",2023,1,61,4,0,null,null,0,null,null,null,null,null,null,null,null,null,null,null,null,null,null,null,null,null,null,{"$error":"#DIV/0!"}]
["2023-01-20",2023,1,65.5,0,0.5,null,null,0,null,null,null,null,null,null,null,null,null,null,null,null,null,null,null,null,null,null,{"$error":"#DIV/0!"}]
["2023-01-21",2023,1,68,0,3,null,null,0,null,null,null,null,null,null,null,null,null,null,null,null,null,null,null,null,null,null,{"$error":"#DIV/0!"}]
["2023-01-22",2023,1,54.5,10.5,0,null,null,0,null,null,null,null,null,null,null,null,null,null,null,null,null,null,null,null,null,null,{"$error":"#DIV/0!"}]
["2023-01-23",2023,1,51.5,13.5,0,null,null,0,null,null,null,null,null,null,null,null,null,null,null,null,null,null,null,null,null,null,{"$error":"#DIV/0!"}]
["2023-01-24",2023,1,51.5,13.5,0,null,null,0,null,null,null,null,null,null,null,null,null,null,null,null,null,null,null,null,null,null,{"$error":"#DIV/0!"}]
[{"$f":"+A451+1","v":"2023-01-25"},2023,1,53.5,11.5,0,null,null,0,null,null,null,null,null,null,null,null,null,null,null,null,null,null,null,null,null,null,{"$error":"#DIV/0!"}]
["2023-01-26",2023,1,58.5,6.5,0,null,null,0,null,null,null,null,null,null,null,null,null,null,null,null,null,null,null,null,null,null,{"$error":"#DIV/0!"}]
["2023-01-27",2023,1,66.5,0,1.5,null,null,0,null,null,null,null,null,null,null,null,null,null,null,null,null,null,null,null,null,null,{"$error":"#DIV/0!"}]
["2023-01-28",2023,1,60.5,4.5,0,null,null,0,null,null,null,null,null,null,null,null,null,null,null,null,null,null,null,null,null,null,{"$error":"#DIV/0!"}]
["2023-01-29",2023,1,48,17,0,null,null,0,null,null,null,null,null,null,null,null,null,null,null,null,null,null,null,null,null,null,{"$error":"#DIV/0!"}]
["2023-01-30",2023,1,47,18,0,null,null,0,null,null,null,null,null,null,null,null,null,null,null,null,null,null,null,null,null,null,{"$error":"#DIV/0!"}]
["2023-01-31",{"$f":"YEAR(A458)","v":2023},{"$f":"MONTH(A458)","v":1},54,11,0,null,null,0,null,null,null,null,null,null,null,null,null,null,null,null,null,null,null,null,null,null,{"$error":"#DIV/0!"},null,{"$f":"SUM(AC428:AC458)","v":0}]
["2023-02-01",{"$f":"YEAR(A459)","v":2023},{"$f":"MONTH(A459)","v":2},null,65,0]

{"sheet":"JAN","index":1,"n_rows":90,"n_cols":157,"rows_kept":90,"cut":false,"hidden":false,"merged":[[1,1,1,6],[3,9,23,9]]}
[2022,null,null,null,null,null,null,null,null,null,null,null,null,null,null,null,null,null,null,null,null,null,null,null,null,null,null,null,null,null,null,null,null,null,null,null,null,null,null,null,null,null,null,null,null,null,null,null,null,null,null,null,null,null,null,null,null,null,null,null,null,null,null,null,null,null,null,null,null,null,null,null,null,null,null,null,null,null,null,null,null,null,null,null,null,null,{"$f":"YEAR(CI3)","v":2021},{"$f":"YEAR(CJ3)","v":2021},2021,2021,2021,2021,2021,2021,2021,2021,2021,2021,2021,2021,2021,2021,2021,2021,2021,2021,2021,2021,2021,2021,2021,2021,2021,2021,2021,2021,2021,2021,2021,2021,2021,2021,2021,2022,2022,2022,2022,2022,2022,2022,2022,2022,2022,2022,2022,2022,2022,2022,2022,2022,2022,2022,2022,2022,2022,2022,2022,2022,2022,2022,{"$f":"YEAR(EU3)","v":2022},{"$f":"YEAR(EV3)","v":2022},2022,2022,{"$f":"YEAR(EY3)","v":2022},2022,2022]
[1,"Published Billing Schedule",null,null,null,null,null,null,null,null,null,{"$f":"MONTH(L3)","v":11},{"$f":"MONTH(M3)","v":11},11,11,11,11,12,12,12,12,12,12,12,12,12,12,12,12,12,12,12,12,12,12,12,12,12,12,12,12,12,12,12,12,12,12,12,1,1,1,1,1,1,1,1,1,1,1,1,1,1,1,1,1,1,1,1,1,1,1,1,1,1,1,1,null,null,null,null,null,null,null,null,null,null,{"$f":"MONTH(CI3)","v":11},{"$f":"MONTH(CJ3)","v":11},11,11,11,11,12,12,12,12,12,12,12,12,12,12,12,12,12,12,12,12,12,12,12,12,12,12,12,12,12,12,12,12,12,12,12,1,1,1,1,1,1,1,1,1,1,1,1,1,1,1,1,1,1,1,1,1,1,1,1,1,1,1,1,1,{"$f":"MONTH(EW3)","v":1},1,2,2,2]
["Lookup","Year","Month","Cycle","StartBilling","EndBilling","No.Days",null,null,null,"Date",{"$f":"+E4","v":"2021-11-25"},{"$f":"+L3+1","v":"2021-11-26"},{"$f":"+M3+1","v":"2021-11-27"},"2021-11-28","2021-11-29","2021-11-30","2021-12-01","2021-12-02","2021-12-03","2021-12-04","2021-12-05","2021-12-06","2021-12-07","2021-12-08","2021-12-09","2021-12-10","2021-12-11","2021-12-12","2021-12-13","2021-12-14","2021-12-15","2021-12-16","2021-12-17","2021-12-18","2021-12-19","2021-12-20","2021-12-21","2021-12-22","2021-12-23","2021-12-24","2021-12-25","2021-12-26","2021-12-27","2021-12-28","2021-12-29","2021-12-30","2021-12-31","2022-01-01","2022-01-02","2022-01-03","2022-01-04","2022-01-05","2022-01-06","2022-01-07","2022-01-08","2022-01-09","2022-01-10","2022-01-11","2022-01-12","2022-01-13","2022-01-14","2022-01-15","2022-01-16","2022-01-17","2022-01-18","2022-01-19","2022-01-20","2022-01-21","2022-01-22","2022-01-23","2022-01-24","2022-01-25","2022-01-26",{"$f":"+BV3+1","v":"2022-01-27"},{"$f":"+BW3+1","v":"2022-01-28"},{"$f":"+BX3+1","v":"2022-01-29"},"2022-01-30","2022-01-31",{"$f":"+CA3+1","v":"2022-02-01"},{"$f":"+CB3+1","v":"2022-02-02"},{"$f":"+CC3+1","v":"2022-02-03"},null,null,null,"Cycle",{"$f":"+L3","v":"2021-11-25"},"2021-11-26","2021-11-27","2021-11-28","2021-11-29","2021-11-30","2021-12-01","2021-12-02","2021-12-03","2021-12-04","2021-12-05","2021-12-06","2021-12-07","2021-12-08","2021-12-09","2021-12-10","2021-12-11","2021-12-12","2021-12-13","2021-12-14","2021-12-15","2021-12-16","2021-12-17","2021-12-18","2021-12-19","2021-12-20","2021-12-21","2021-12-22","2021-12-23","2021-12-24","2021-12-25","2021-12-26",{"$f":"+AR3","v":"2021-12-27"},"2021-12-28","2021-12-29","2021-12-30","2021-12-31","2022-01-01","2022-01-02","2022-01-03","2022-01-04","2022-01-05","2022-01-06","2022-01-07","2022-01-08","2022-01-09","2022-01-10","2022-01-11","2022-01-12","2022-01-13","2022-01-14","2022-01-15","2022-01-16","2022-01-17","2022-01-18","2022-01-19","2022-01-20","2022-01-21","2022-01-22","2022-01-23","2022-01-24","2022-01-25","2022-01-26","2022-01-27",{"$f":"+BX3","v":"2022-01-28"},{"$f":"+BY3","v":"2022-01-29"},{"$f":"+BZ3","v":"2022-01-30"},{"$f":"+CA3","v":"2022-01-31"},{"$f":"+CB3","v":"2022-02-01"},"2022-02-02","2022-02-03"]
[{"$f":"+$A$1*10000+A2*100+1","v":20220101},{"$f":"+A1","v":2022},{"$f":"+A2","v":1},1,"2021-11-25","2021-12-28",{"$f":"+F4-E4+1","v":34},null,null,"Billing Cycles",1,{"$f":"IF(AND(L$3>=$E4,L$3<=$F4),1,0)","v":1},{"$f":"IF(AND(M$3>=$E4,M$3<=$F4),1,0)","v":1},1,1,1,1,1,1,1,1,1,1,1,1,1,1,1,1,1,1,1,1,1,1,1,1,1,1,1,1,1,1,1,1,0,0,0,0,0,0,0,0,0,0,0,0,0,0,0,0,0,0,0,0,0,0,0,0,0,0,0,0,0,0,0,{"$f":"IF(AND(BY$3>=$E4,BY$3<=$F4),1,0)","v":0},0,0,0,0,0,null,{"$f":"SUM(CI4:FA4)-CG4/1000","v":{"$error":"#DIV/0!"}},40187074,1,{"$f":"((CI48/$CG48))*($CG4/1000)","v":{"$error":"#DIV/0!"}},{"$f":"((CJ48/$CG48))*($CG4/1000)","v":{"$error":"#DIV/0!"}},{"$error":"#DIV/0!"},{"$error":"#DIV/0!"},{"$error":"#DIV/0!"},{"$error":"#DIV/0!"},{"$error":"#DIV/0!"},{"$error":"#DIV/0!"},{"$error":"#DIV/0!"},{"$error":"#DIV/0!"},{"$error":"#DIV/0!"},{"$error":"#DIV/0!"},{"$error":"#DIV/0!"},{"$error":"#DIV/0!"},{"$error":"#DIV/0!"},{"$error":"#DIV/0!"},{"$error":"#DIV/0!"},{"$error":"#DIV/0!"},{"$error":"#DIV/0!"},{"$error":"#DIV/0!"},{"$error":"#DIV/0!"},{"$error":"#DIV/0!"},{"$error":"#DIV/0!"},{"$error":"#DIV/0!"},{"$error":"#DIV/0!"},{"$error":"#DIV/0!"},{"$error":"#DIV/0!"},{"$error":"#DIV/0!"},{"$error":"#DIV/0!"},{"$error":"#DIV/0!"},{"$error":"#DIV/0!"},{"$error":"#DIV/0!"},{"$f":"((DO48/$CG48))*($CG4/1000)","v":{"$error":"#DIV/0!"}},{"$error":"#DIV/0!"},{"$error":"#DIV/0!"},{"$error":"#DIV/0!"},{"$error":"#DIV/0!"},{"$error":"#DIV/0!"},{"$error":"#DIV/0!"},{"$error":"#DIV/0!"},{"$error":"#DIV/0!"},{"$error":"#DIV/0!"},{"$error":"#DIV/0!"},{"$error":"#DIV/0!"},{"$error":"#DIV/0!"},{"$error":"#DIV/0!"},{"$error":"#DIV/0!"},{"$error":"#DIV/0!"},{"$error":"#DIV/0!"},{"$error":"#DIV/0!"},{"$error":"#DIV/0!"},{"$error":"#DIV/0!"},{"$error":"#DIV/0!"},{"$error":"#DIV/0!"},{"$error":"#DIV/0!"},{"$error":"#DIV/0!"},{"$error":"#DIV/0!"},{"$error":"#DIV/0!"},{"$error":"#DIV/0!"},{"$error":"#DIV/0!"},{"$error":"#DIV/0!"},{"$error":"#DIV/0!"},{"$error":"#DIV/0!"},{"$error":"#DIV/0!"},{"$error":"#DIV/0!"},{"$f":"((EV48/$CG48))*($CG4/1000)","v":{"$error":"#DIV/0!"}},{"$error":"#DIV/0!"},{"$error":"#DIV/0!"},{"$f":"((EY48/$CG48))*($CG4/1000)","v":{"$error":"#DIV/0!"}},{"$error":"#DIV/0!"},{"$error":"#DIV/0!"}]
[{"$f":"+A4+1","v":20220102},{"$f":"+B4","v":2022},{"$f":"+C4","v":1},{"$f":"+D4+1","v":2},"2021-11-30","2021-12-29",{"$f":"+F5-E5+1","v":30},null,null,null,2,{"$f":"IF(AND(L$3>=$E5,L$3<=$F5),1,0)","v":0},0,0,0,0,1,1,1,1,1,1,1,1,1,1,1,1,1,1,1,1,1,1,1,1,1,1,1,1,1,1,1,1,1,1,0,0,0,0,0,0,0,0,0,0,0,0,0,0,0,0,0,0,0,0,0,0,0,0,0,0,0,0,0,0,0,0,0,0,0,0,null,{"$error":"#DIV/0!"},78437430,2,{"$f":"((CI49/$CG49))*($CG5/1000)","v":{"$error":"#DIV/0!"}},{"$error":"#DIV/0!"},{"$error":"#DIV/0!"},{"$error":"#DIV/0!"},{"$error":"#DIV/0!"},{"$error":"#DIV/0!"},{"$error":"#DIV/0!"},{"$error":"#DIV/0!"},{"$error":"#DIV/0!"},{"$error":"#DIV/0!"},{"$error":"#DIV/0!"},{"$error":"#DIV/0!"},{"$error":"#DIV/0!"},{"$error":"#DIV/0!"},{"$error":"#DIV/0!"},{"$error":"#DIV/0!"},{"$error":"#DIV/0!"},{"$error":"#DIV/0!"},{"$error":"#DIV/0!"},{"$error":"#DIV/0!"},{"$error":"#DIV/0!"},{"$error":"#DIV/0!"},{"$error":"#DIV/0!"},{"$error":"#DIV/0!"},{"$error":"#DIV/0!"},{"$error":"#DIV/0!"},{"$error":"#DIV/0!"},{"$error":"#DIV/0!"},{"$error":"#DIV/0!"},{"$error":"#DIV/0!"},{"$error":"#DIV/0!"},{"$error":"#DIV/0!"},{"$f":"((DO49/$CG49))*($CG5/1000)","v":{"$error":"#DIV/0!"}},{"$error":"#DIV/0!"},{"$error":"#DIV/0!"},{"$error":"#DIV/0!"},{"$error":"#DIV/0!"},{"$error":"#DIV/0!"},{"$error":"#DIV/0!"},{"$error":"#DIV/0!"},{"$error":"#DIV/0!"},{"$error":"#DIV/0!"},{"$error":"#DIV/0!"},{"$error":"#DIV/0!"},{"$error":"#DIV/0!"},{"$error":"#DIV/0!"},{"$error":"#DIV/0!"},{"$error":"#DIV/0!"},{"$error":"#DIV/0!"},{"$error":"#DIV/0!"},{"$error":"#DIV/0!"},{"$error":"#DIV/0!"},{"$error":"#DIV/0!"},{"$error":"#DIV/0!"},{"$error":"#DIV/0!"},{"$error":"#DIV/0!"},{"$error":"#DIV/0!"},{"$error":"#DIV/0!"},{"$error":"#DIV/0!"},{"$error":"#DIV/0!"},{"$error":"#DIV/0!"},{"$error":"#DIV/0!"},{"$error":"#DIV/0!"},{"$error":"#DIV/0!"},{"$error":"#DIV/0!"},{"$f":"((EV49/$CG49))*($CG5/1000)","v":{"$error":"#DIV/0!"}},{"$error":"#DIV/0!"},{"$error":"#DIV/0!"},{"$f":"((EY49/$CG49))*($CG5/1000)","v":{"$error":"#DIV/0!"}},{"$error":"#DIV/0!"},{"$error":"#DIV/0!"}]
[{"$f":"+A5+1","v":20220103},{"$f":"+B5","v":2022},1,{"$f":"+D5+1","v":3},"2021-12-01","2021-12-30",30,null,null,null,3,0,0,0,0,0,0,1,1,1,1,1,1,1,1,1,1,1,1,1,1,1,1,1,1,1,1,1,1,1,1,1,1,1,1,1,1,0,0,0,0,0,0,0,0,0,0,0,0,0,0,0,0,0,0,0,0,0,0,0,0,0,0,0,0,0,0,0,0,0,0,0,null,{"$error":"#DIV/0!"},48531406,3,{"$f":"((CI50/$CG50))*($CG6/1000)","v":{"$error":"#DIV/0!"}},{"$error":"#DIV/0!"},{"$error":"#DIV/0!"},{"$error":"#DIV/0!"},{"$error":"#DIV/0!"},{"$error":"#DIV/0!"},{"$error":"#DIV/0!"},{"$error":"#DIV/0!"},{"$error":"#DIV/0!"},{"$error":"#DIV/0!"},{"$error":"#DIV/0!"},{"$error":"#DIV/0!"},{"$error":"#DIV/0!"},{"$error":"#DIV/0!"},{"$error":"#DIV/0!"},{"$error":"#DIV/0!"},{"$error":"#DIV/0!"},{"$error":"#DIV/0!"},{"$error":"#DIV/0!"},{"$error":"#DIV/0!"},{"$error":"#DIV/0!"},{"$error":"#DIV/0!"},{"$error":"#DIV/0!"},{"$error":"#DIV/0!"},{"$error":"#DIV/0!"},{"$error":"#DIV/0!"},{"$error":"#DIV/0!"},{"$error":"#DIV/0!"},{"$error":"#DIV/0!"},{"$error":"#DIV/0!"},{"$error":"#DIV/0!"},{"$error":"#DIV/0!"},{"$f":"((DO50/$CG50))*($CG6/1000)","v":{"$error":"#DIV/0!"}},{"$error":"#DIV/0!"},{"$error":"#DIV/0!"},{"$error":"#DIV/0!"},{"$error":"#DIV/0!"},{"$error":"#DIV/0!"},{"$error":"#DIV/0!"},{"$error":"#DIV/0!"},{"$error":"#DIV/0!"},{"$error":"#DIV/0!"},{"$error":"#DIV/0!"},{"$error":"#DIV/0!"},{"$error":"#DIV/0!"},{"$error":"#DIV/0!"},{"$error":"#DIV/0!"},{"$error":"#DIV/0!"},{"$error":"#DIV/0!"},{"$error":"#DIV/0!"},{"$error":"#DIV/0!"},{"$error":"#DIV/0!"},{"$error":"#DIV/0!"},{"$error":"#DIV/0!"},{"$error":"#DIV/0!"},{"$error":"#DIV/0!"},{"$error":"#DIV/0!"},{"$error":"#DIV/0!"},{"$error":"#DIV/0!"},{"$error":"#DIV/0!"},{"$error":"#DIV/0!"},{"$error":"#DIV/0!"},{"$error":"#DIV/0!"},{"$error":"#DIV/0!"},{"$error":"#DIV/0!"},{"$f":"((EV50/$CG50))*($CG6/1000)","v":{"$error":"#DIV/0!"}},{"$error":"#DIV/0!"},{"$error":"#DIV/0!"},{"$f":"((EY50/$CG50))*($CG6/1000)","v":{"$error":"#DIV/0!"}},{"$error":"#DIV/0!"},{"$error":"#DIV/0!"}]
[20220104,2022,1,4,"2021-12-02","2022-01-03",33,null,null,null,4,0,0,0,0,0,0,0,1,1,1,1,1,1,1,1,1,1,1,1,1,1,1,1,1,1,1,1,1,1,1,1,1,1,1,1,1,1,1,1,1,0,0,0,0,0,0,0,0,0,0,0,0,0,0,0,0,0,0,0,0,0,0,0,0,0,0,0,0,0,0,0,null,{"$error":"#DIV/0!"},67550081,4,{"$f":"((CI51/$CG51))*($CG7/1000)","v":{"$error":"#DIV/0!"}},{"$error":"#DIV/0!"},{"$error":"#DIV/0!"},{"$error":"#DIV/0!"},{"$error":"#DIV/0!"},{"$error":"#DIV/0!"},{"$error":"#DIV/0!"},{"$error":"#DIV/0!"},{"$error":"#DIV/0!"},{"$error":"#DIV/0!"},{"$error":"#DIV/0!"},{"$error":"#DIV/0!"},{"$error":"#DIV/0!"},{"$error":"#DIV/0!"},{"$error":"#DIV/0!"},{"$error":"#DIV/0!"},{"$error":"#DIV/0!"},{"$error":"#DIV/0!"},{"$error":"#DIV/0!"},{"$error":"#DIV/0!"},{"$error":"#DIV/0!"},{"$error":"#DIV/0!"},{"$error":"#DIV/0!"},{"$error":"#DIV/0!"},{"$error":"#DIV/0!"},{"$error":"#DIV/0!"},{"$error":"#DIV/0!"},{"$error":"#DIV/0!"},{"$error":"#DIV/0!"},{"$error":"#DIV/0!"},{"$error":"#DIV/0!"},{"$error":"#DIV/0!"},{"$f":"((DO51/$CG51))*($CG7/1000)","v":{"$error":"#DIV/0!"}},{"$error":"#DIV/0!"},{"$error":"#DIV/0!"},{"$error":"#DIV/0!"},{"$error":"#DIV/0!"},{"$error":"#DIV/0!"},{"$error":"#DIV/0!"},{"$error":"#DIV/0!"},{"$error":"#DIV/0!"},{"$error":"#DIV/0!"},{"$error":"#DIV/0!"},{"$error":"#DIV/0!"},{"$error":"#DIV/0!"},{"$error":"#DIV/0!"},{"$error":"#DIV/0!"},{"$error":"#DIV/0!"},{"$error":"#DIV/0!"},{"$error":"#DIV/0!"},{"$error":"#DIV/0!"},{"$error":"#DIV/0!"},{"$error":"#DIV/0!"},{"$error":"#DIV/0!"},{"$error":"#DIV/0!"},{"$error":"#DIV/0!"},{"$error":"#DIV/0!"},{"$error":"#DIV/0!"},{"$error":"#DIV/0!"},{"$error":"#DIV/0!"},{"$error":"#DIV/0!"},{"$error":"#DIV/0!"},{"$error":"#DIV/0!"},{"$error":"#DIV/0!"},{"$error":"#DIV/0!"},{"$f":"((EV51/$CG51))*($CG7/1000)","v":{"$error":"#DIV/0!"}},{"$error":"#DIV/0!"},{"$error":"#DIV/0!"},{"$f":"((EY51/$CG51))*($CG7/1000)","v":{"$error":"#DIV/0!"}},{"$error":"#DIV/0!"},{"$error":"#DIV/0!"}]
[20220105,2022,1,5,"2021-12-03","2022-01-04",33,null,null,null,5,0,0,0,0,0,0,0,0,1,1,1,1,1,1,1,{"$f":"IF(AND(AA$3>=$E8,AA$3<=$F8),1,0)","v":1},1,1,1,1,1,1,1,1,1,1,1,1,1,1,1,1,1,1,1,1,1,1,1,1,1,0,0,0,0,0,0,0,0,0,0,0,0,0,0,0,0,0,0,0,0,0,0,0,0,0,0,0,0,0,0,null,{"$error":"#DIV/0!"},120182173,5,{"$f":"((CI52/$CG52))*($CG8/1000)","v":{"$error":"#DIV/0!"}},{"$error":"#DIV/0!"},{"$error":"#DIV/0!"},{"$error":"#DIV/0!"},{"$error":"#DIV/0!"},{"$error":"#DIV/0!"},{"$error":"#DIV/0!"},{"$error":"#DIV/0!"},{"$error":"#DIV/0!"},{"$error":"#DIV/0!"},{"$error":"#DIV/0!"},{"$error":"#DIV/0!"},{"$error":"#DIV/0!"},{"$error":"#DIV/0!"},{"$error":"#DIV/0!"},{"$error":"#DIV/0!"},{"$error":"#DIV/0!"},{"$error":"#DIV/0!"},{"$error":"#DIV/0!"},{"$error":"#DIV/0!"},{"$error":"#DIV/0!"},{"$error":"#DIV/0!"},{"$error":"#DIV/0!"},{"$error":"#DIV/0!"},{"$error":"#DIV/0!"},{"$error":"#DIV/0!"},{"$error":"#DIV/0!"},{"$error":"#DIV/0!"},{"$error":"#DIV/0!"},{"$error":"#DIV/0!"},{"$error":"#DIV/0!"},{"$error":"#DIV/0!"},{"$f":"((DO52/$CG52))*($CG8/1000)","v":{"$error":"#DIV/0!"}},{"$error":"#DIV/0!"},{"$error":"#DIV/0!"},{"$error":"#DIV/0!"},{"$error":"#DIV/0!"},{"$error":"#DIV/0!"},{"$error":"#DIV/0!"},{"$error":"#DIV/0!"},{"$error":"#DIV/0!"},{"$error":"#DIV/0!"},{"$error":"#DIV/0!"},{"$error":"#DIV/0!"},{"$error":"#DIV/0!"},{"$error":"#DIV/0!"},{"$error":"#DIV/0!"},{"$error":"#DIV/0!"},{"$error":"#DIV/0!"},{"$error":"#DIV/0!"},{"$error":"#DIV/0!"},{"$error":"#DIV/0!"},{"$error":"#DIV/0!"},{"$error":"#DIV/0!"},{"$error":"#DIV/0!"},{"$error":"#DIV/0!"},{"$error":"#DIV/0!"},{"$error":"#DIV/0!"},{"$error":"#DIV/0!"},{"$error":"#DIV/0!"},{"$error":"#DIV/0!"},{"$error":"#DIV/0!"},{"$error":"#DIV/0!"},{"$error":"#DIV/0!"},{"$error":"#DIV/0!"},{"$f":"((EV52/$CG52))*($CG8/1000)","v":{"$error":"#DIV/0!"}},{"$error":"#DIV/0!"},{"$error":"#DIV/0!"},{"$f":"((EY52/$CG52))*($CG8/1000)","v":{"$error":"#DIV/0!"}},{"$error":"#DIV/0!"},{"$error":"#DIV/0!"}]
[20220106,2022,1,6,"2021-12-04","2022-01-05",33,null,null,null,6,0,0,0,0,0,0,0,0,0,1,1,1,1,1,1,1,1,1,1,1,1,1,1,1,1,1,1,1,1,1,1,1,1,1,1,1,1,1,1,1,1,1,0,0,0,0,0,0,0,0,0,0,0,0,0,0,0,0,0,0,0,0,0,0,0,0,0,0,0,0,0,null,{"$error":"#DIV/0!"},46534135,6,{"$f":"((CI53/$CG53))*($CG9/1000)","v":{"$error":"#DIV/0!"}},{"$error":"#DIV/0!"},{"$error":"#DIV/0!"},{"$error":"#DIV/0!"},{"$error":"#DIV/0!"},{"$error":"#DIV/0!"},{"$error":"#DIV/0!"},{"$error":"#DIV/0!"},{"$error":"#DIV/0!"},{"$error":"#DIV/0!"},{"$error":"#DIV/0!"},{"$error":"#DIV/0!"},{"$error":"#DIV/0!"},{"$error":"#DIV/0!"},{"$error":"#DIV/0!"},{"$error":"#DIV/0!"},{"$error":"#DIV/0!"},{"$error":"#DIV/0!"},{"$error":"#DIV/0!"},{"$error":"#DIV/0!"},{"$error":"#DIV/0!"},{"$error":"#DIV/0!"},{"$error":"#DIV/0!"},{"$error":"#DIV/0!"},{"$error":"#DIV/0!"},{"$error":"#DIV/0!"},{"$error":"#DIV/0!"},{"$error":"#DIV/0!"},{"$error":"#DIV/0!"},{"$error":"#DIV/0!"},{"$error":"#DIV/0!"},{"$error":"#DIV/0!"},{"$f":"((DO53/$CG53))*($CG9/1000)","v":{"$error":"#DIV/0!"}},{"$error":"#DIV/0!"},{"$error":"#DIV/0!"},{"$error":"#DIV/0!"},{"$error":"#DIV/0!"},{"$error":"#DIV/0!"},{"$error":"#DIV/0!"},{"$error":"#DIV/0!"},{"$error":"#DIV/0!"},{"$error":"#DIV/0!"},{"$error":"#DIV/0!"},{"$error":"#DIV/0!"},{"$error":"#DIV/0!"},{"$error":"#DIV/0!"},{"$error":"#DIV/0!"},{"$error":"#DIV/0!"},{"$error":"#DIV/0!"},{"$error":"#DIV/0!"},{"$error":"#DIV/0!"},{"$error":"#DIV/0!"},{"$error":"#DIV/0!"},{"$error":"#DIV/0!"},{"$error":"#DIV/0!"},{"$error":"#DIV/0!"},{"$error":"#DIV/0!"},{"$error":"#DIV/0!"},{"$error":"#DIV/0!"},{"$error":"#DIV/0!"},{"$error":"#DIV/0!"},{"$error":"#DIV/0!"},{"$error":"#DIV/0!"},{"$error":"#DIV/0!"},{"$error":"#DIV/0!"},{"$f":"((EV53/$CG53))*($CG9/1000)","v":{"$error":"#DIV/0!"}},{"$error":"#DIV/0!"},{"$error":"#DIV/0!"},{"$f":"((EY53/$CG53))*($CG9/1000)","v":{"$error":"#DIV/0!"}},{"$error":"#DIV/0!"},{"$error":"#DIV/0!"}]
[20220107,2022,1,7,"2021-12-07","2022-01-06",31,null,null,null,7,0,0,0,0,0,0,0,0,0,0,0,0,1,1,1,1,1,1,1,1,1,1,1,1,1,1,1,1,1,1,1,1,1,1,1,1,1,1,1,1,1,1,1,0,0,0,0,0,0,0,0,0,0,0,0,0,0,0,0,0,0,0,0,0,0,0,0,0,0,0,0,null,{"$error":"#DIV/0!"},49077765,7,{"$f":"((CI54/$CG54))*($CG10/1000)","v":{"$error":"#DIV/0!"}},{"$error":"#DIV/0!"},{"$error":"#DIV/0!"},{"$error":"#DIV/0!"},{"$error":"#DIV/0!"},{"$error":"#DIV/0!"},{"$error":"#DIV/0!"},{"$error":"#DIV/0!"},{"$error":"#DIV/0!"},{"$error":"#DIV/0!"},{"$error":"#DIV/0!"},{"$error":"#DIV/0!"},{"$error":"#DIV/0!"},{"$error":"#DIV/0!"},{"$error":"#DIV/0!"},{"$error":"#DIV/0!"},{"$error":"#DIV/0!"},{"$error":"#DIV/0!"},{"$error":"#DIV/0!"},{"$error":"#DIV/0!"},{"$error":"#DIV/0!"},{"$error":"#DIV/0!"},{"$error":"#DIV/0!"},{"$error":"#DIV/0!"},{"$error":"#DIV/0!"},{"$error":"#DIV/0!"},{"$error":"#DIV/0!"},{"$error":"#DIV/0!"},{"$error":"#DIV/0!"},{"$error":"#DIV/0!"},{"$error":"#DIV/0!"},{"$error":"#DIV/0!"},{"$f":"((DO54/$CG54))*($CG10/1000)","v":{"$error":"#DIV/0!"}},{"$error":"#DIV/0!"},{"$error":"#DIV/0!"},{"$error":"#DIV/0!"},{"$error":"#DIV/0!"},{"$error":"#DIV/0!"},{"$error":"#DIV/0!"},{"$error":"#DIV/0!"},{"$error":"#DIV/0!"},{"$error":"#DIV/0!"},{"$error":"#DIV/0!"},{"$error":"#DIV/0!"},{"$error":"#DIV/0!"},{"$error":"#DIV/0!"},{"$error":"#DIV/0!"},{"$error":"#DIV/0!"},{"$error":"#DIV/0!"},{"$error":"#DIV/0!"},{"$error":"#DIV/0!"},{"$error":"#DIV/0!"},{"$error":"#DIV/0!"},{"$error":"#DIV/0!"},{"$error":"#DIV/0!"},{"$error":"#DIV/0!"},{"$error":"#DIV/0!"},{"$error":"#DIV/0!"},{"$error":"#DIV/0!"},{"$error":"#DIV/0!"},{"$error":"#DIV/0!"},{"$error":"#DIV/0!"},{"$error":"#DIV/0!"},{"$error":"#DIV/0!"},{"$error":"#DIV/0!"},{"$f":"((EV54/$CG54))*($CG10/1000)","v":{"$error":"#DIV/0!"}},{"$error":"#DIV/0!"},{"$error":"#DIV/0!"},{"$f":"((EY54/$CG54))*($CG10/1000)","v":{"$error":"#DIV/0!"}},{"$error":"#DIV/0!"},{"$error":"#DIV/0!"}]
[20220108,2022,1,8,"2021-12-08","2022-01-07",31,null,null,null,8,0,0,0,0,0,0,0,0,0,0,0,0,0,1,1,1,1,1,1,1,1,1,1,1,1,1,1,1,1,1,1,1,1,1,1,1,1,1,1,1,1,1,1,1,0,0,0,0,0,0,0,0,0,0,0,0,0,0,0,0,0,0,0,0,0,0,0,0,0,0,0,null,{"$error":"#DIV/0!"},66347837,8,{"$f":"((CI55/$CG55))*($CG11/1000)","v":{"$error":"#DIV/0!"}},{"$error":"#DIV/0!"},{"$error":"#DIV/0!"},{"$error":"#DIV/0!"},{"$error":"#DIV/0!"},{"$error":"#DIV/0!"},{"$error":"#DIV/0!"},{"$error":"#DIV/0!"},{"$error":"#DIV/0!"},{"$error":"#DIV/0!"},{"$error":"#DIV/0!"},{"$error":"#DIV/0!"},{"$error":"#DIV/0!"},{"$error":"#DIV/0!"},{"$error":"#DIV/0!"},{"$error":"#DIV/0!"},{"$error":"#DIV/0!"},{"$error":"#DIV/0!"},{"$error":"#DIV/0!"},{"$error":"#DIV/0!"},{"$error":"#DIV/0!"},{"$error":"#DIV/0!"},{"$error":"#DIV/0!"},{"$error":"#DIV/0!"},{"$error":"#DIV/0!"},{"$error":"#DIV/0!"},{"$error":"#DIV/0!"},{"$error":"#DIV/0!"},{"$error":"#DIV/0!"},{"$error":"#DIV/0!"},{"$error":"#DIV/0!"},{"$error":"#DIV/0!"},{"$f":"((DO55/$CG55))*($CG11/1000)","v":{"$error":"#DIV/0!"}},{"$error":"#DIV/0!"},{"$error":"#DIV/0!"},{"$error":"#DIV/0!"},{"$error":"#DIV/0!"},{"$error":"#DIV/0!"},{"$error":"#DIV/0!"},{"$error":"#DIV/0!"},{"$error":"#DIV/0!"},{"$error":"#DIV/0!"},{"$error":"#DIV/0!"},{"$error":"#DIV/0!"},{"$error":"#DIV/0!"},{"$error":"#DIV/0!"},{"$error":"#DIV/0!"},{"$error":"#DIV/0!"},{"$error":"#DIV/0!"},{"$error":"#DIV/0!"},{"$error":"#DIV/0!"},{"$error":"#DIV/0!"},{"$error":"#DIV/0!"},{"$error":"#DIV/0!"},{"$error":"#DIV/0!"},{"$error":"#DIV/0!"},{"$error":"#DIV/0!"},{"$error":"#DIV/0!"},{"$error":"#DIV/0!"},{"$error":"#DIV/0!"},{"$error":"#DIV/0!"},{"$error":"#DIV/0!"},{"$error":"#DIV/0!"},{"$error":"#DIV/0!"},{"$error":"#DIV/0!"},{"$f":"((EV55/$CG55))*($CG11/1000)","v":{"$error":"#DIV/0!"}},{"$error":"#DIV/0!"},{"$error":"#DIV/0!"},{"$f":"((EY55/$CG55))*($CG11/1000)","v":{"$error":"#DIV/0!"}},{"$error":"#DIV/0!"},{"$error":"#DIV/0!"}]
[20220109,2022,1,9,"2021-12-09","2022-01-10",33,null,null,null,9,0,0,0,0,0,0,0,0,0,0,0,0,0,0,1,1,1,1,1,1,1,1,1,1,1,1,1,1,1,1,1,1,1,1,1,1,1,1,1,1,1,1,1,1,1,1,1,0,0,0,0,0,0,0,0,0,0,0,0,0,0,0,0,0,0,0,0,0,0,0,0,null,{"$error":"#DIV/0!"},54708339,9,{"$f":"((CI56/$CG56))*($CG12/1000)","v":{"$error":"#DIV/0!"}},{"$error":"#DIV/0!"},{"$error":"#DIV/0!"},{"$error":"#DIV/0!"},{"$error":"#DIV/0!"},{"$error":"#DIV/0!"},{"$error":"#DIV/0!"},{"$error":"#DIV/0!"},{"$error":"#DIV/0!"},{"$error":"#DIV/0!"},{"$error":"#DIV/0!"},{"$error":"#DIV/0!"},{"$error":"#DIV/0!"},{"$error":"#DIV/0!"},{"$error":"#DIV/0!"},{"$error":"#DIV/0!"},{"$error":"#DIV/0!"},{"$error":"#DIV/0!"},{"$error":"#DIV/0!"},{"$error":"#DIV/0!"},{"$error":"#DIV/0!"},{"$error":"#DIV/0!"},{"$error":"#DIV/0!"},{"$error":"#DIV/0!"},{"$error":"#DIV/0!"},{"$error":"#DIV/0!"},{"$error":"#DIV/0!"},{"$error":"#DIV/0!"},{"$error":"#DIV/0!"},{"$error":"#DIV/0!"},{"$error":"#DIV/0!"},{"$error":"#DIV/0!"},{"$f":"((DO56/$CG56))*($CG12/1000)","v":{"$error":"#DIV/0!"}},{"$error":"#DIV/0!"},{"$error":"#DIV/0!"},{"$error":"#DIV/0!"},{"$error":"#DIV/0!"},{"$error":"#DIV/0!"},{"$error":"#DIV/0!"},{"$error":"#DIV/0!"},{"$error":"#DIV/0!"},{"$error":"#DIV/0!"},{"$error":"#DIV/0!"},{"$error":"#DIV/0!"},{"$error":"#DIV/0!"},{"$error":"#DIV/0!"},{"$error":"#DIV/0!"},{"$error":"#DIV/0!"},{"$error":"#DIV/0!"},{"$error":"#DIV/0!"},{"$error":"#DIV/0!"},{"$error":"#DIV/0!"},{"$error":"#DIV/0!"},{"$error":"#DIV/0!"},{"$error":"#DIV/0!"},{"$error":"#DIV/0!"},{"$error":"#DIV/0!"},{"$error":"#DIV/0!"},{"$error":"#DIV/0!"},{"$error":"#DIV/0!"},{"$error":"#DIV/0!"},{"$error":"#DIV/0!"},{"$error":"#DIV/0!"},{"$error":"#DIV/0!"},{"$error":"#DIV/0!"},{"$f":"((EV56/$CG56))*($CG12/1000)","v":{"$error":"#DIV/0!"}},{"$error":"#DIV/0!"},{"$error":"#DIV/0!"},{"$f":"((EY56/$CG56))*($CG12/1000)","v":{"$error":"#DIV/0!"}},{"$error":"#DIV/0!"},{"$error":"#DIV/0!"}]
[20220110,2022,1,10,"2021-12-10","2022-01-11",33,null,null,null,10,0,0,0,0,0,0,0,0,0,0,0,0,0,0,0,1,1,1,1,1,1,1,1,1,1,{"$f":"IF(AND(AK$3>=$E13,AK$3<=$F13),1,0)","v":1},1,1,1,1,1,1,1,1,1,1,1,1,1,1,1,1,1,1,1,1,1,1,0,0,0,0,0,0,0,0,0,0,0,0,0,0,0,0,0,0,0,0,0,0,0,null,{"$error":"#DIV/0!"},125372019,10,{"$f":"((CI57/$CG57))*($CG13/1000)","v":{"$error":"#DIV/0!"}},{"$error":"#DIV/0!"},{"$error":"#DIV/0!"},{"$error":"#DIV/0!"},{"$error":"#DIV/0!"},{"$error":"#DIV/0!"},{"$error":"#DIV/0!"},{"$error":"#DIV/0!"},{"$error":"#DIV/0!"},{"$error":"#DIV/0!"},{"$error":"#DIV/0!"},{"$error":"#DIV/0!"},{"$error":"#DIV/0!"},{"$error":"#DIV/0!"},{"$error":"#DIV/0!"},{"$error":"#DIV/0!"},{"$error":"#DIV/0!"},{"$error":"#DIV/0!"},{"$error":"#DIV/0!"},{"$error":"#DIV/0!"},{"$error":"#DIV/0!"},{"$error":"#DIV/0!"},{"$error":"#DIV/0!"},{"$error":"#DIV/0!"},{"$error":"#DIV/0!"},{"$error":"#DIV/0!"},{"$error":"#DIV/0!"},{"$error":"#DIV/0!"},{"$error":"#DIV/0!"},{"$error":"#DIV/0!"},{"$error":"#DIV/0!"},{"$error":"#DIV/0!"},{"$f":"((DO57/$CG57))*($CG13/1000)","v":{"$error":"#DIV/0!"}},{"$error":"#DIV/0!"},{"$error":"#DIV/0!"},{"$error":"#DIV/0!"},{"$error":"#DIV/0!"},{"$error":"#DIV/0!"},{"$error":"#DIV/0!"},{"$error":"#DIV/0!"},{"$error":"#DIV/0!"},{"$error":"#DIV/0!"},{"$error":"#DIV/0!"},{"$error":"#DIV/0!"},{"$error":"#DIV/0!"},{"$error":"#DIV/0!"},{"$error":"#DIV/0!"},{"$error":"#DIV/0!"},{"$error":"#DIV/0!"},{"$error":"#DIV/0!"},{"$error":"#DIV/0!"},{"$error":"#DIV/0!"},{"$error":"#DIV/0!"},{"$error":"#DIV/0!"},{"$error":"#DIV/0!"},{"$error":"#DIV/0!"},{"$error":"#DIV/0!"},{"$error":"#DIV/0!"},{"$error":"#DIV/0!"},{"$error":"#DIV/0!"},{"$error":"#DIV/0!"},{"$error":"#DIV/0!"},{"$error":"#DIV/0!"},{"$error":"#DIV/0!"},{"$error":"#DIV/0!"},{"$f":"((EV57/$CG57))*($CG13/1000)","v":{"$error":"#DIV/0!"}},{"$error":"#DIV/0!"},{"$error":"#DIV/0!"},{"$f":"((EY57/$CG57))*($CG13/1000)","v":{"$error":"#DIV/0!"}},{"$error":"#DIV/0!"},{"$error":"#DIV/0!"}]
[20220111,2022,1,11,"2021-12-11","2022-01-12",33,null,null,null,11,0,0,0,0,0,0,0,0,0,0,0,0,0,0,0,0,{"$f":"IF(AND(AB$3>=$E14,AB$3<=$F14),1,0)","v":1},1,1,1,1,1,1,1,1,1,1,1,1,1,1,1,1,1,1,1,1,1,1,1,1,1,1,1,1,1,1,1,1,0,0,0,0,0,0,0,0,0,0,0,0,0,0,0,0,0,0,0,0,0,0,null,{"$error":"#DIV/0!"},51191230,11,{"$f":"((CI58/$CG58))*($CG14/1000)","v":{"$error":"#DIV/0!"}},{"$error":"#DIV/0!"},{"$error":"#DIV/0!"},{"$error":"#DIV/0!"},{"$error":"#DIV/0!"},{"$error":"#DIV/0!"},{"$error":"#DIV/0!"},{"$error":"#DIV/0!"},{"$error":"#DIV/0!"},{"$error":"#DIV/0!"},{"$error":"#DIV/0!"},{"$error":"#DIV/0!"},{"$error":"#DIV/0!"},{"$error":"#DIV/0!"},{"$error":"#DIV/0!"},{"$error":"#DIV/0!"},{"$error":"#DIV/0!"},{"$error":"#DIV/0!"},{"$error":"#DIV/0!"},{"$error":"#DIV/0!"},{"$error":"#DIV/0!"},{"$error":"#DIV/0!"},{"$error":"#DIV/0!"},{"$error":"#DIV/0!"},{"$error":"#DIV/0!"},{"$error":"#DIV/0!"},{"$error":"#DIV/0!"},{"$error":"#DIV/0!"},{"$error":"#DIV/0!"},{"$error":"#DIV/0!"},{"$error":"#DIV/0!"},{"$error":"#DIV/0!"},{"$f":"((DO58/$CG58))*($CG14/1000)","v":{"$error":"#DIV/0!"}},{"$error":"#DIV/0!"},{"$error":"#DIV/0!"},{"$error":"#DIV/0!"},{"$error":"#DIV/0!"},{"$error":"#DIV/0!"},{"$error":"#DIV/0!"},{"$error":"#DIV/0!"},{"$error":"#DIV/0!"},{"$error":"#DIV/0!"},{"$error":"#DIV/0!"},{"$error":"#DIV/0!"},{"$error":"#DIV/0!"},{"$error":"#DIV/0!"},{"$error":"#DIV/0!"},{"$error":"#DIV/0!"},{"$error":"#DIV/0!"},{"$error":"#DIV/0!"},{"$error":"#DIV/0!"},{"$error":"#DIV/0!"},{"$error":"#DIV/0!"},{"$error":"#DIV/0!"},{"$error":"#DIV/0!"},{"$error":"#DIV/0!"},{"$error":"#DIV/0!"},{"$error":"#DIV/0!"},{"$error":"#DIV/0!"},{"$error":"#DIV/0!"},{"$error":"#DIV/0!"},{"$error":"#DIV/0!"},{"$error":"#DIV/0!"},{"$error":"#DIV/0!"},{"$error":"#DIV/0!"},{"$f":"((EV58/$CG58))*($CG14/1000)","v":{"$error":"#DIV/0!"}},{"$error":"#DIV/0!"},{"$error":"#DIV/0!"},{"$f":"((EY58/$CG58))*($CG14/1000)","v":{"$error":"#DIV/0!"}},{"$error":"#DIV/0!"},{"$error":"#DIV/0!"}]
[20220112,2022,1,12,"2021-12-11","2022-01-12",33,null,null,null,12,0,0,0,0,0,0,0,0,0,0,0,0,0,0,0,0,1,1,1,1,1,1,1,1,1,1,1,1,1,1,1,1,1,1,1,1,1,1,1,1,1,1,1,1,1,1,1,1,1,0,0,0,0,0,0,0,0,0,0,0,0,0,0,0,0,0,0,0,0,0,0,null,{"$error":"#DIV/0!"},47585004,12,{"$f":"((CI59/$CG59))*($CG15/1000)","v":{"$error":"#DIV/0!"}},{"$error":"#DIV/0!"},{"$error":"#DIV/0!"},{"$error":"#DIV/0!"},{"$error":"#DIV/0!"},{"$error":"#DIV/0!"},{"$error":"#DIV/0!"},{"$error":"#DIV/0!"},{"$error":"#DIV/0!"},{"$error":"#DIV/0!"},{"$error":"#DIV/0!"},{"$error":"#DIV/0!"},{"$error":"#DIV/0!"},{"$error":"#DIV/0!"},{"$error":"#DIV/0!"},{"$error":"#DIV/0!"},{"$error":"#DIV/0!"},{"$error":"#DIV/0!"},{"$error":"#DIV/0!"},{"$error":"#DIV/0!"},{"$error":"#DIV/0!"},{"$error":"#DIV/0!"},{"$error":"#DIV/0!"},{"$error":"#DIV/0!"},{"$error":"#DIV/0!"},{"$error":"#DIV/0!"},{"$error":"#DIV/0!"},{"$error":"#DIV/0!"},{"$error":"#DIV/0!"},{"$error":"#DIV/0!"},{"$error":"#DIV/0!"},{"$error":"#DIV/0!"},{"$f":"((DO59/$CG59))*($CG15/1000)","v":{"$error":"#DIV/0!"}},{"$error":"#DIV/0!"},{"$error":"#DIV/0!"},{"$error":"#DIV/0!"},{"$error":"#DIV/0!"},{"$error":"#DIV/0!"},{"$error":"#DIV/0!"},{"$error":"#DIV/0!"},{"$error":"#DIV/0!"},{"$error":"#DIV/0!"},{"$error":"#DIV/0!"},{"$error":"#DIV/0!"},{"$error":"#DIV/0!"},{"$error":"#DIV/0!"},{"$error":"#DIV/0!"},{"$error":"#DIV/0!"},{"$error":"#DIV/0!"},{"$error":"#DIV/0!"},{"$error":"#DIV/0!"},{"$error":"#DIV/0!"},{"$error":"#DIV/0!"},{"$error":"#DIV/0!"},{"$error":"#DIV/0!"},{"$error":"#DIV/0!"},{"$error":"#DIV/0!"},{"$error":"#DIV/0!"},{"$error":"#DIV/0!"},{"$error":"#DIV/0!"},{"$error":"#DIV/0!"},{"$error":"#DIV/0!"},{"$error":"#DIV/0!"},{"$error":"#DIV/0!"},{"$error":"#DIV/0!"},{"$f":"((EV59/$CG59))*($CG15/1000)","v":{"$error":"#DIV/0!"}},{"$error":"#DIV/0!"},{"$error":"#DIV/0!"},{"$f":"((EY59/$CG59))*($CG15/1000)","v":{"$error":"#DIV/0!"}},{"$error":"#DIV/0!"},{"$error":"#DIV/0!"}]
[20220113,2022,1,13,"2021-12-14","2022-01-13",31,null,null,null,13,0,0,0,0,0,0,0,0,0,0,0,0,0,0,0,0,0,0,0,1,1,1,1,1,1,1,1,1,1,1,1,1,1,1,1,1,1,1,1,1,1,1,1,1,1,1,1,1,1,1,0,0,0,0,0,0,0,0,0,0,0,0,0,0,0,0,0,0,0,0,0,null,{"$error":"#DIV/0!"},52782216,13,{"$f":"((CI60/$CG60))*($CG16/1000)","v":{"$error":"#DIV/0!"}},{"$error":"#DIV/0!"},{"$error":"#DIV/0!"},{"$error":"#DIV/0!"},{"$error":"#DIV/0!"},{"$error":"#DIV/0!"},{"$error":"#DIV/0!"},{"$error":"#DIV/0!"},{"$error":"#DIV/0!"},{"$error":"#DIV/0!"},{"$error":"#DIV/0!"},{"$error":"#DIV/0!"},{"$error":"#DIV/0!"},{"$error":"#DIV/0!"},{"$error":"#DIV/0!"},{"$error":"#DIV/0!"},{"$error":"#DIV/0!"},{"$error":"#DIV/0!"},{"$error":"#DIV/0!"},{"$error":"#DIV/0!"},{"$error":"#DIV/0!"},{"$error":"#DIV/0!"},{"$error":"#DIV/0!"},{"$error":"#DIV/0!"},{"$error":"#DIV/0!"},{"$error":"#DIV/0!"},{"$error":"#DIV/0!"},{"$error":"#DIV/0!"},{"$error":"#DIV/0!"},{"$error":"#DIV/0!"},{"$error":"#DIV/0!"},{"$error":"#DIV/0!"},{"$f":"((DO60/$CG60))*($CG16/1000)","v":{"$error":"#DIV/0!"}},{"$error":"#DIV/0!"},{"$error":"#DIV/0!"},{"$error":"#DIV/0!"},{"$error":"#DIV/0!"},{"$error":"#DIV/0!"},{"$error":"#DIV/0!"},{"$error":"#DIV/0!"},{"$error":"#DIV/0!"},{"$error":"#DIV/0!"},{"$error":"#DIV/0!"},{"$error":"#DIV/0!"},{"$error":"#DIV/0!"},{"$error":"#DIV/0!"},{"$error":"#DIV/0!"},{"$error":"#DIV/0!"},{"$error":"#DIV/0!"},{"$error":"#DIV/0!"},{"$error":"#DIV/0!"},{"$error":"#DIV/0!"},{"$error":"#DIV/0!"},{"$error":"#DIV/0!"},{"$error":"#DIV/0!"},{"$error":"#DIV/0!"},{"$error":"#DIV/0!"},{"$error":"#DIV/0!"},{"$error":"#DIV/0!"},{"$error":"#DIV/0!"},{"$error":"#DIV/0!"},{"$error":"#DIV/0!"},{"$error":"#DIV/0!"},{"$error":"#DIV/0!"},{"$error":"#DIV/0!"},{"$f":"((EV60/$CG60))*($CG16/1000)","v":{"$error":"#DIV/0!"}},{"$error":"#DIV/0!"},{"$error":"#DIV/0!"},{"$f":"((EY60/$CG60))*($CG16/1000)","v":{"$error":"#DIV/0!"}},{"$error":"#DIV/0!"},{"$error":"#DIV/0!"}]
[20220114,2022,1,14,"2021-12-15","2022-01-14",31,null,null,null,14,0,0,0,0,0,0,0,0,0,0,0,0,0,0,0,0,0,0,0,0,1,1,1,1,1,1,1,1,1,1,1,1,1,1,1,1,1,1,1,1,1,1,1,1,1,1,1,1,1,1,1,0,0,0,0,0,0,0,0,0,0,0,0,0,0,0,0,0,0,0,0,null,{"$error":"#DIV/0!"},69578631,14,{"$f":"((CI61/$CG61))*($CG17/1000)","v":{"$error":"#DIV/0!"}},{"$error":"#DIV/0!"},{"$error":"#DIV/0!"},{"$error":"#DIV/0!"},{"$error":"#DIV/0!"},{"$error":"#DIV/0!"},{"$error":"#DIV/0!"},{"$error":"#DIV/0!"},{"$error":"#DIV/0!"},{"$error":"#DIV/0!"},{"$error":"#DIV/0!"},{"$error":"#DIV/0!"},{"$error":"#DIV/0!"},{"$error":"#DIV/0!"},{"$error":"#DIV/0!"},{"$error":"#DIV/0!"},{"$error":"#DIV/0!"},{"$error":"#DIV/0!"},{"$error":"#DIV/0!"},{"$error":"#DIV/0!"},{"$error":"#DIV/0!"},{"$error":"#DIV/0!"},{"$error":"#DIV/0!"},{"$error":"#DIV/0!"},{"$error":"#DIV/0!"},{"$error":"#DIV/0!"},{"$error":"#DIV/0!"},{"$error":"#DIV/0!"},{"$error":"#DIV/0!"},{"$error":"#DIV/0!"},{"$error":"#DIV/0!"},{"$error":"#DIV/0!"},{"$f":"((DO61/$CG61))*($CG17/1000)","v":{"$error":"#DIV/0!"}},{"$error":"#DIV/0!"},{"$error":"#DIV/0!"},{"$error":"#DIV/0!"},{"$error":"#DIV/0!"},{"$error":"#DIV/0!"},{"$error":"#DIV/0!"},{"$error":"#DIV/0!"},{"$error":"#DIV/0!"},{"$error":"#DIV/0!"},{"$error":"#DIV/0!"},{"$error":"#DIV/0!"},{"$error":"#DIV/0!"},{"$error":"#DIV/0!"},{"$error":"#DIV/0!"},{"$error":"#DIV/0!"},{"$error":"#DIV/0!"},{"$error":"#DIV/0!"},{"$error":"#DIV/0!"},{"$error":"#DIV/0!"},{"$error":"#DIV/0!"},{"$error":"#DIV/0!"},{"$error":"#DIV/0!"},{"$error":"#DIV/0!"},{"$error":"#DIV/0!"},{"$error":"#DIV/0!"},{"$error":"#DIV/0!"},{"$error":"#DIV/0!"},{"$error":"#DIV/0!"},{"$error":"#DIV/0!"},{"$error":"#DIV/0!"},{"$error":"#DIV/0!"},{"$error":"#DIV/0!"},{"$f":"((EV61/$CG61))*($CG17/1000)","v":{"$error":"#DIV/0!"}},{"$error":"#DIV/0!"},{"$error":"#DIV/0!"},{"$f":"((EY61/$CG61))*($CG17/1000)","v":{"$error":"#DIV/0!"}},{"$error":"#DIV/0!"},{"$error":"#DIV/0!"}]
[20220115,2022,1,15,"2021-12-16","2022-01-18",34,null,null,null,15,0,0,0,0,0,0,0,0,0,0,0,0,0,0,0,0,0,0,0,0,0,1,1,1,1,1,1,1,1,1,1,1,1,1,1,1,1,1,1,1,1,1,1,1,1,1,1,1,1,1,1,1,1,1,1,0,0,0,0,0,0,0,0,0,0,0,0,0,0,0,0,null,{"$error":"#DIV/0!"},100434076,15,{"$f":"((CI62/$CG62))*($CG18/1000)","v":{"$error":"#DIV/0!"}},{"$error":"#DIV/0!"},{"$error":"#DIV/0!"},{"$error":"#DIV/0!"},{"$error":"#DIV/0!"},{"$error":"#DIV/0!"},{"$error":"#DIV/0!"},{"$error":"#DIV/0!"},{"$error":"#DIV/0!"},{"$error":"#DIV/0!"},{"$error":"#DIV/0!"},{"$error":"#DIV/0!"},{"$error":"#DIV/0!"},{"$error":"#DIV/0!"},{"$error":"#DIV/0!"},{"$error":"#DIV/0!"},{"$error":"#DIV/0!"},{"$error":"#DIV/0!"},{"$error":"#DIV/0!"},{"$error":"#DIV/0!"},{"$error":"#DIV/0!"},{"$error":"#DIV/0!"},{"$error":"#DIV/0!"},{"$error":"#DIV/0!"},{"$error":"#DIV/0!"},{"$error":"#DIV/0!"},{"$error":"#DIV/0!"},{"$error":"#DIV/0!"},{"$error":"#DIV/0!"},{"$error":"#DIV/0!"},{"$error":"#DIV/0!"},{"$error":"#DIV/0!"},{"$f":"((DO62/$CG62))*($CG18/1000)","v":{"$error":"#DIV/0!"}},{"$error":"#DIV/0!"},{"$error":"#DIV/0!"},{"$error":"#DIV/0!"},{"$error":"#DIV/0!"},{"$error":"#DIV/0!"},{"$error":"#DIV/0!"},{"$error":"#DIV/0!"},{"$error":"#DIV/0!"},{"$error":"#DIV/0!"},{"$error":"#DIV/0!"},{"$error":"#DIV/0!"},{"$error":"#DIV/0!"},{"$error":"#DIV/0!"},{"$error":"#DIV/0!"},{"$error":"#DIV/0!"},{"$error":"#DIV/0!"},{"$error":"#DIV/0!"},{"$error":"#DIV/0!"},{"$error":"#DIV/0!"},{"$error":"#DIV/0!"},{"$error":"#DIV/0!"},{"$error":"#DIV/0!"},{"$error":"#DIV/0!"},{"$error":"#DIV/0!"},{"$error":"#DIV/0!"},{"$error":"#DIV/0!"},{"$error":"#DIV/0!"},{"$error":"#DIV/0!"},{"$error":"#DIV/0!"},{"$error":"#DIV/0!"},{"$error":"#DIV/0!"},{"$error":"#DIV/0!"},{"$f":"((EV62/$CG62))*($CG18/1000)","v":{"$error":"#DIV/0!"}},{"$error":"#DIV/0!"},{"$error":"#DIV/0!"},{"$f":"((EY62/$CG62))*($CG18/1000)","v":{"$error":"#DIV/0!"}},{"$error":"#DIV/0!"},{"$error":"#DIV/0!"}]
[20220116,2022,1,16,"2021-12-17","2022-01-19",34,null,null,null,16,0,0,0,0,0,0,0,0,0,0,0,0,0,0,0,0,0,0,0,0,0,0,1,1,1,1,{"$f":"IF(AND(AL$3>=$E19,AL$3<=$F19),1,0)","v":1},1,1,1,1,1,1,1,1,1,1,1,1,1,1,1,1,1,1,1,1,1,1,1,1,1,1,1,1,1,0,0,0,0,0,0,0,0,0,0,0,0,0,0,0,null,{"$error":"#DIV/0!"},57988808,16,{"$f":"((CI63/$CG63))*($CG19/1000)","v":{"$error":"#DIV/0!"}},{"$error":"#DIV/0!"},{"$error":"#DIV/0!"},{"$error":"#DIV/0!"},{"$error":"#DIV/0!"},{"$error":"#DIV/0!"},{"$error":"#DIV/0!"},{"$error":"#DIV/0!"},{"$error":"#DIV/0!"},{"$error":"#DIV/0!"},{"$error":"#DIV/0!"},{"$error":"#DIV/0!"},{"$error":"#DIV/0!"},{"$error":"#DIV/0!"},{"$error":"#DIV/0!"},{"$error":"#DIV/0!"},{"$error":"#DIV/0!"},{"$error":"#DIV/0!"},{"$error":"#DIV/0!"},{"$error":"#DIV/0!"},{"$error":"#DIV/0!"},{"$error":"#DIV/0!"},{"$error":"#DIV/0!"},{"$error":"#DIV/0!"},{"$error":"#DIV/0!"},{"$error":"#DIV/0!"},{"$error":"#DIV/0!"},{"$error":"#DIV/0!"},{"$error":"#DIV/0!"},{"$error":"#DIV/0!"},{"$error":"#DIV/0!"},{"$error":"#DIV/0!"},{"$f":"((DO63/$CG63))*($CG19/1000)","v":{"$error":"#DIV/0!"}},{"$error":"#DIV/0!"},{"$error":"#DIV/0!"},{"$error":"#DIV/0!"},{"$error":"#DIV/0!"},{"$error":"#DIV/0!"},{"$error":"#DIV/0!"},{"$error":"#DIV/0!"},{"$error":"#DIV/0!"},{"$error":"#DIV/0!"},{"$error":"#DIV/0!"},{"$error":"#DIV/0!"},{"$error":"#DIV/0!"},{"$error":"#DIV/0!"},{"$error":"#DIV/0!"},{"$error":"#DIV/0!"},{"$error":"#DIV/0!"},{"$error":"#DIV/0!"},{"$error":"#DIV/0!"},{"$error":"#DIV/0!"},{"$error":"#DIV/0!"},{"$error":"#DIV/0!"},{"$error":"#DIV/0!"},{"$error":"#DIV/0!"},{"$error":"#DIV/0!"},{"$error":"#DIV/0!"},{"$error":"#DIV/0!"},{"$error":"#DIV/0!"},{"$error":"#DIV/0!"},{"$error":"#DIV/0!"},{"$error":"#DIV/0!"},{"$error":"#DIV/0!"},{"$error":"#DIV/0!"},{"$f":"((EV63/$CG63))*($CG19/1000)","v":{"$error":"#DIV/0!"}},{"$error":"#DIV/0!"},{"$error":"#DIV/0!"},{"$f":"((EY63/$CG63))*($CG19/1000)","v":{"$error":"#DIV/0!"}},{"$error":"#DIV/0!"},{"$error":"#DIV/0!"}]
[20220117,2022,1,17,"2021-12-18","2022-01-20",34,null,null,null,17,0,0,0,0,0,0,0,0,0,0,0,0,0,0,0,0,{"$f":"IF(AND(AB$3>=$E20,AB$3<=$F20),1,0)","v":0},0,0,0,0,0,0,1,1,1,1,1,1,1,1,1,1,1,1,1,1,1,1,1,1,1,1,1,1,1,1,1,1,1,1,1,1,1,1,1,1,0,0,0,0,0,0,0,0,0,0,0,{"$f":"IF(AND(CB$3>=$E20,CB$3<=$F20),1,0)","v":0},0,0,null,{"$error":"#DIV/0!"},42193532,17,{"$f":"((CI64/$CG64))*($CG20/1000)","v":{"$error":"#DIV/0!"}},{"$error":"#DIV/0!"},{"$error":"#DIV/0!"},{"$error":"#DIV/0!"},{"$error":"#DIV/0!"},{"$error":"#DIV/0!"},{"$error":"#DIV/0!"},{"$error":"#DIV/0!"},{"$error":"#DIV/0!"},{"$error":"#DIV/0!"},{"$error":"#DIV/0!"},{"$error":"#DIV/0!"},{"$error":"#DIV/0!"},{"$error":"#DIV/0!"},{"$error":"#DIV/0!"},{"$error":"#DIV/0!"},{"$error":"#DIV/0!"},{"$error":"#DIV/0!"},{"$error":"#DIV/0!"},{"$error":"#DIV/0!"},{"$error":"#DIV/0!"},{"$error":"#DIV/0!"},{"$error":"#DIV/0!"},{"$error":"#DIV/0!"},{"$error":"#DIV/0!"},{"$error":"#DIV/0!"},{"$error":"#DIV/0!"},{"$error":"#DIV/0!"},{"$error":"#DIV/0!"},{"$error":"#DIV/0!"},{"$error":"#DIV/0!"},{"$error":"#DIV/0!"},{"$f":"((DO64/$CG64))*($CG20/1000)","v":{"$error":"#DIV/0!"}},{"$error":"#DIV/0!"},{"$error":"#DIV/0!"},{"$error":"#DIV/0!"},{"$error":"#DIV/0!"},{"$error":"#DIV/0!"},{"$error":"#DIV/0!"},{"$error":"#DIV/0!"},{"$error":"#DIV/0!"},{"$error":"#DIV/0!"},{"$error":"#DIV/0!"},{"$error":"#DIV/0!"},{"$error":"#DIV/0!"},{"$error":"#DIV/0!"},{"$error":"#DIV/0!"},{"$error":"#DIV/0!"},{"$error":"#DIV/0!"},{"$error":"#DIV/0!"},{"$error":"#DIV/0!"},{"$error":"#DIV/0!"},{"$error":"#DIV/0!"},{"$error":"#DIV/0!"},{"$error":"#DIV/0!"},{"$error":"#DIV/0!"},{"$error":"#DIV/0!"},{"$error":"#DIV/0!"},{"$error":"#DIV/0!"},{"$error":"#DIV/0!"},{"$error":"#DIV/0!"},{"$error":"#DIV/0!"},{"$error":"#DIV/0!"},{"$error":"#DIV/0!"},{"$error":"#DIV/0!"},{"$f":"((EV64/$CG64))*($CG20/1000)","v":{"$error":"#DIV/0!"}},{"$error":"#DIV/0!"},{"$error":"#DIV/0!"},{"$f":"((EY64/$CG64))*($CG20/1000)","v":{"$error":"#DIV/0!"}},{"$error":"#DIV/0!"},{"$error":"#DIV/0!"}]
[20220118,2022,1,18,"2021-12-21","2022-01-21",32,null,null,null,18,0,0,0,0,0,0,0,0,0,0,0,0,0,0,0,0,0,0,0,0,0,0,0,0,0,0,1,1,1,1,1,1,1,1,1,1,1,1,1,1,1,1,1,1,1,1,1,1,1,1,1,1,1,1,1,1,1,1,0,0,0,0,0,0,0,0,0,0,0,0,0,null,{"$error":"#DIV/0!"},108493177,18,{"$f":"((CI65/$CG65))*($CG21/1000)","v":{"$error":"#DIV/0!"}},{"$error":"#DIV/0!"},{"$error":"#DIV/0!"},{"$error":"#DIV/0!"},{"$error":"#DIV/0!"},{"$error":"#DIV/0!"},{"$error":"#DIV/0!"},{"$error":"#DIV/0!"},{"$error":"#DIV/0!"},{"$error":"#DIV/0!"},{"$error":"#DIV/0!"},{"$error":"#DIV/0!"},{"$error":"#DIV/0!"},{"$error":"#DIV/0!"},{"$error":"#DIV/0!"},{"$error":"#DIV/0!"},{"$error":"#DIV/0!"},{"$error":"#DIV/0!"},{"$error":"#DIV/0!"},{"$error":"#DIV/0!"},{"$error":"#DIV/0!"},{"$error":"#DIV/0!"},{"$error":"#DIV/0!"},{"$error":"#DIV/0!"},{"$error":"#DIV/0!"},{"$error":"#DIV/0!"},{"$error":"#DIV/0!"},{"$error":"#DIV/0!"},{"$error":"#DIV/0!"},{"$error":"#DIV/0!"},{"$error":"#DIV/0!"},{"$error":"#DIV/0!"},{"$f":"((DO65/$CG65))*($CG21/1000)","v":{"$error":"#DIV/0!"}},{"$error":"#DIV/0!"},{"$error":"#DIV/0!"},{"$error":"#DIV/0!"},{"$error":"#DIV/0!"},{"$error":"#DIV/0!"},{"$error":"#DIV/0!"},{"$error":"#DIV/0!"},{"$error":"#DIV/0!"},{"$error":"#DIV/0!"},{"$error":"#DIV/0!"},{"$error":"#DIV/0!"},{"$error":"#DIV/0!"},{"$error":"#DIV/0!"},{"$error":"#DIV/0!"},{"$error":"#DIV/0!"},{"$error":"#DIV/0!"},{"$error":"#DIV/0!"},{"$error":"#DIV/0!"},{"$error":"#DIV/0!"},{"$error":"#DIV/0!"},{"$error":"#DIV/0!"},{"$error":"#DIV/0!"},{"$error":"#DIV/0!"},{"$error":"#DIV/0!"},{"$error":"#DIV/0!"},{"$error":"#DIV/0!"},{"$error":"#DIV/0!"},{"$error":"#DIV/0!"},{"$error":"#DIV/0!"},{"$error":"#DIV/0!"},{"$error":"#DIV/0!"},{"$error":"#DIV/0!"},{"$f":"((EV65/$CG65))*($CG21/1000)","v":{"$error":"#DIV/0!"}},{"$error":"#DIV/0!"},{"$error":"#DIV/0!"},{"$f":"((EY65/$CG65))*($CG21/1000)","v":{"$error":"#DIV/0!"}},{"$error":"#DIV/0!"},{"$error":"#DIV/0!"}]
[20220119,2022,1,19,"2021-12-22","2022-01-24",34,null,null,null,19,0,0,0,0,0,0,0,0,0,0,0,0,0,0,0,0,0,0,0,0,0,0,0,0,0,0,0,1,1,1,1,1,1,1,1,1,1,1,1,1,1,1,1,1,1,1,1,1,1,1,1,1,1,1,1,1,1,1,1,1,1,0,0,0,0,0,0,0,0,0,0,null,{"$error":"#DIV/0!"},52253470,19,{"$f":"((CI66/$CG66))*($CG22/1000)","v":{"$error":"#DIV/0!"}},{"$error":"#DIV/0!"},{"$error":"#DIV/0!"},{"$error":"#DIV/0!"},{"$error":"#DIV/0!"},{"$error":"#DIV/0!"},{"$error":"#DIV/0!"},{"$error":"#DIV/0!"},{"$error":"#DIV/0!"},{"$error":"#DIV/0!"},{"$error":"#DIV/0!"},{"$error":"#DIV/0!"},{"$error":"#DIV/0!"},{"$error":"#DIV/0!"},{"$error":"#DIV/0!"},{"$error":"#DIV/0!"},{"$error":"#DIV/0!"},{"$error":"#DIV/0!"},{"$error":"#DIV/0!"},{"$error":"#DIV/0!"},{"$error":"#DIV/0!"},{"$error":"#DIV/0!"},{"$error":"#DIV/0!"},{"$error":"#DIV/0!"},{"$error":"#DIV/0!"},{"$error":"#DIV/0!"},{"$error":"#DIV/0!"},{"$error":"#DIV/0!"},{"$error":"#DIV/0!"},{"$error":"#DIV/0!"},{"$error":"#DIV/0!"},{"$error":"#DIV/0!"},{"$f":"((DO66/$CG66))*($CG22/1000)","v":{"$error":"#DIV/0!"}},{"$error":"#DIV/0!"},{"$error":"#DIV/0!"},{"$error":"#DIV/0!"},{"$error":"#DIV/0!"},{"$error":"#DIV/0!"},{"$error":"#DIV/0!"},{"$error":"#DIV/0!"},{"$error":"#DIV/0!"},{"$error":"#DIV/0!"},{"$error":"#DIV/0!"},{"$error":"#DIV/0!"},{"$error":"#DIV/0!"},{"$error":"#DIV/0!"},{"$error":"#DIV/0!"},{"$error":"#DIV/0!"},{"$error":"#DIV/0!"},{"$error":"#DIV/0!"},{"$error":"#DIV/0!"},{"$error":"#DIV/0!"},{"$error":"#DIV/0!"},{"$error":"#DIV/0!"},{"$error":"#DIV/0!"},{"$error":"#DIV/0!"},{"$error":"#DIV/0!"},{"$error":"#DIV/0!"},{"$error":"#DIV/0!"},{"$error":"#DIV/0!"},{"$error":"#DIV/0!"},{"$error":"#DIV/0!"},{"$error":"#DIV/0!"},{"$error":"#DIV/0!"},{"$error":"#DIV/0!"},{"$f":"((EV66/$CG66))*($CG22/1000)","v":{"$error":"#DIV/0!"}},{"$error":"#DIV/0!"},{"$error":"#DIV/0!"},{"$f":"((EY66/$CG66))*($CG22/1000)","v":{"$error":"#DIV/0!"}},{"$error":"#DIV/0!"},{"$error":"#DIV/0!"}]
[20220120,2022,1,20,"2021-12-23","2022-01-25",34,null,null,null,20,0,0,0,0,0,0,0,0,0,0,0,0,{"$f":"IF(AND(X$3>=$E23,X$3<=$F23),1,0)","v":0},0,0,0,0,0,0,0,0,0,0,0,0,0,0,0,1,1,1,1,1,1,1,1,1,1,1,1,1,1,1,1,1,1,1,1,1,1,1,1,1,1,1,1,1,1,1,1,1,1,0,0,0,0,0,0,0,0,0,null,{"$error":"#DIV/0!"},47264312,20,{"$f":"((CI67/$CG67))*($CG23/1000)","v":{"$error":"#DIV/0!"}},{"$error":"#DIV/0!"},{"$error":"#DIV/0!"},{"$error":"#DIV/0!"},{"$error":"#DIV/0!"},{"$error":"#DIV/0!"},{"$error":"#DIV/0!"},{"$error":"#DIV/0!"},{"$error":"#DIV/0!"},{"$error":"#DIV/0!"},{"$error":"#DIV/0!"},{"$error":"#DIV/0!"},{"$error":"#DIV/0!"},{"$error":"#DIV/0!"},{"$error":"#DIV/0!"},{"$error":"#DIV/0!"},{"$error":"#DIV/0!"},{"$error":"#DIV/0!"},{"$error":"#DIV/0!"},{"$error":"#DIV/0!"},{"$error":"#DIV/0!"},{"$error":"#DIV/0!"},{"$error":"#DIV/0!"},{"$error":"#DIV/0!"},{"$error":"#DIV/0!"},{"$error":"#DIV/0!"},{"$error":"#DIV/0!"},{"$error":"#DIV/0!"},{"$error":"#DIV/0!"},{"$error":"#DIV/0!"},{"$error":"#DIV/0!"},{"$error":"#DIV/0!"},{"$f":"((DO67/$CG67))*($CG23/1000)","v":{"$error":"#DIV/0!"}},{"$error":"#DIV/0!"},{"$error":"#DIV/0!"},{"$error":"#DIV/0!"},{"$error":"#DIV/0!"},{"$error":"#DIV/0!"},{"$error":"#DIV/0!"},{"$error":"#DIV/0!"},{"$error":"#DIV/0!"},{"$error":"#DIV/0!"},{"$error":"#DIV/0!"},{"$error":"#DIV/0!"},{"$error":"#DIV/0!"},{"$error":"#DIV/0!"},{"$error":"#DIV/0!"},{"$error":"#DIV/0!"},{"$error":"#DIV/0!"},{"$error":"#DIV/0!"},{"$error":"#DIV/0!"},{"$error":"#DIV/0!"},{"$error":"#DIV/0!"},{"$error":"#DIV/0!"},{"$error":"#DIV/0!"},{"$error":"#DIV/0!"},{"$error":"#DIV/0!"},{"$error":"#DIV/0!"},{"$error":"#DIV/0!"},{"$error":"#DIV/0!"},{"$error":"#DIV/0!"},{"$error":"#DIV/0!"},{"$error":"#DIV/0!"},{"$error":"#DIV/0!"},{"$error":"#DIV/0!"},{"$f":"((EV67/$CG67))*($CG23/1000)","v":{"$error":"#DIV/0!"}},{"$error":"#DIV/0!"},{"$error":"#DIV/0!"},{"$f":"((EY67/$CG67))*($CG23/1000)","v":{"$error":"#DIV/0!"}},{"$error":"#DIV/0!"},{"$error":"#DIV/0!"}]
[20220121,2022,1,21,"2021-12-28","2022-01-26",30,null,null,null,21,{"$f":"IF(AND(L$3>=$E24,L$3<=$F24),1,0)","v":0},0,0,0,0,0,0,0,0,0,0,0,0,0,0,0,0,0,0,0,0,0,0,0,0,0,0,0,0,0,0,0,0,1,1,1,1,1,1,1,1,1,1,1,1,1,1,1,1,1,1,1,1,1,1,1,1,1,1,1,1,1,1,0,0,0,0,0,0,0,0,null,{"$error":"#DIV/0!"},88187648,21,{"$f":"((CI68/$CG68))*($CG24/1000)","v":{"$error":"#DIV/0!"}},{"$error":"#DIV/0!"},{"$error":"#DIV/0!"},{"$error":"#DIV/0!"},{"$error":"#DIV/0!"},{"$error":"#DIV/0!"},{"$error":"#DIV/0!"},{"$error":"#DIV/0!"},{"$error":"#DIV/0!"},{"$error":"#DIV/0!"},{"$error":"#DIV/0!"},{"$error":"#DIV/0!"},{"$error":"#DIV/0!"},{"$error":"#DIV/0!"},{"$error":"#DIV/0!"},{"$error":"#DIV/0!"},{"$error":"#DIV/0!"},{"$error":"#DIV/0!"},{"$error":"#DIV/0!"},{"$error":"#DIV/0!"},{"$error":"#DIV/0!"},{"$error":"#DIV/0!"},{"$error":"#DIV/0!"},{"$error":"#DIV/0!"},{"$error":"#DIV/0!"},{"$error":"#DIV/0!"},{"$error":"#DIV/0!"},{"$error":"#DIV/0!"},{"$error":"#DIV/0!"},{"$error":"#DIV/0!"},{"$error":"#DIV/0!"},{"$error":"#DIV/0!"},{"$f":"((DO68/$CG68))*($CG24/1000)","v":{"$error":"#DIV/0!"}},{"$error":"#DIV/0!"},{"$error":"#DIV/0!"},{"$error":"#DIV/0!"},{"$error":"#DIV/0!"},{"$error":"#DIV/0!"},{"$error":"#DIV/0!"},{"$error":"#DIV/0!"},{"$error":"#DIV/0!"},{"$error":"#DIV/0!"},{"$error":"#DIV/0!"},{"$error":"#DIV/0!"},{"$error":"#DIV/0!"},{"$error":"#DIV/0!"},{"$error":"#DIV/0!"},{"$error":"#DIV/0!"},{"$error":"#DIV/0!"},{"$error":"#DIV/0!"},{"$error":"#DIV/0!"},{"$error":"#DIV/0!"},{"$error":"#DIV/0!"},{"$error":"#DIV/0!"},{"$error":"#DIV/0!"},{"$error":"#DIV/0!"},{"$error":"#DIV/0!"},{"$error":"#DIV/0!"},{"$error":"#DIV/0!"},{"$error":"#DIV/0!"},{"$error":"#DIV/0!"},{"$error":"#DIV/0!"},{"$error":"#DIV/0!"},{"$error":"#DIV/0!"},{"$error":"#DIV/0!"},{"$f":"((EV68/$CG68))*($CG24/1000)","v":{"$error":"#DIV/0!"}},{"$error":"#DIV/0!"},{"$error":"#DIV/0!"},{"$f":"((EY68/$CG68))*($CG24/1000)","v":{"$error":"#DIV/0!"}},{"$error":"#DIV/0!"},{"$error":"#DIV/0!"}]
[{"$f":"+A24+2","v":20220123},2022,1,23,"2022-01-01",{"$f":"DATE(A1,A2,31)","v":"2022-01-31"},31,null,null,null,23,0,0,0,0,0,0,0,0,0,0,0,0,0,0,0,0,0,0,0,0,0,0,0,0,0,0,0,0,0,0,0,0,0,0,0,0,0,1,1,1,1,1,1,1,1,1,1,1,1,1,1,1,1,1,1,1,1,1,1,1,1,1,1,1,1,1,1,1,{"$f":"IF(AND(CB$3>=$E25,CB$3<=$F25),1,0)","v":0},0,0,null,{"$f":"SUM(CI25:FA25)-CG25/1000","v":{"$error":"#DIV/0!"}},123677210,23,{"$f":"((CI69/$CG69))*($CG25/1000)","v":{"$error":"#DIV/0!"}},{"$error":"#DIV/0!"},{"$error":"#DIV/0!"},{"$error":"#DIV/0!"},{"$error":"#DIV/0!"},{"$error":"#DIV/0!"},{"$error":"#DIV/0!"},{"$error":"#DIV/0!"},{"$error":"#DIV/0!"},{"$error":"#DIV/0!"},{"$error":"#DIV/0!"},{"$error":"#DIV/0!"},{"$error":"#DIV/0!"},{"$error":"#DIV/0!"},{"$error":"#DIV/0!"},{"$error":"#DIV/0!"},{"$error":"#DIV/0!"},{"$error":"#DIV/0!"},{"$error":"#DIV/0!"},{"$error":"#DIV/0!"},{"$error":"#DIV/0!"},{"$error":"#DIV/0!"},{"$error":"#DIV/0!"},{"$error":"#DIV/0!"},{"$error":"#DIV/0!"},{"$error":"#DIV/0!"},{"$error":"#DIV/0!"},{"$error":"#DIV/0!"},{"$error":"#DIV/0!"},{"$error":"#DIV/0!"},{"$error":"#DIV/0!"},{"$error":"#DIV/0!"},{"$f":"((DO69/$CG69))*($CG25/1000)","v":{"$error":"#DIV/0!"}},{"$error":"#DIV/0!"},{"$error":"#DIV/0!"},{"$error":"#DIV/0!"},{"$error":"#DIV/0!"},{"$error":"#DIV/0!"},{"$error":"#DIV/0!"},{"$error":"#DIV/0!"},{"$error":"#DIV/0!"},{"$error":"#DIV/0!"},{"$error":"#DIV/0!"},{"$error":"#DIV/0!"},{"$error":"#DIV/0!"},{"$error":"#DIV/0!"},{"$error":"#DIV/0!"},{"$error":"#DIV/0!"},{"$error":"#DIV/0!"},{"$error":"#DIV/0!"},{"$error":"#DIV/0!"},{"$error":"#DIV/0!"},{"$error":"#DIV/0!"},{"$error":"#DIV/0!"},{"$error":"#DIV/0!"},{"$error":"#DIV/0!"},{"$error":"#DIV/0!"},{"$error":"#DIV/0!"},{"$error":"#DIV/0!"},{"$error":"#DIV/0!"},{"$error":"#DIV/0!"},{"$error":"#DIV/0!"},{"$error":"#DIV/0!"},{"$error":"#DIV/0!"},{"$error":"#DIV/0!"},{"$f":"((EV69/$CG69))*($CG25/1000)","v":{"$error":"#DIV/0!"}},{"$error":"#DIV/0!"},{"$error":"#DIV/0!"},{"$f":"((EY69/$CG69))*($CG25/1000)","v":{"$error":"#DIV/0!"}},{"$error":"#DIV/0!"},{"$error":"#DIV/0!"}]
[null,null,null,null,null,null,{"$f":"AVERAGE(G4:G25)","v":32.363636363636367},null,null,null,"Cnt",{"$f":"SUM(L4:L25)","v":1},{"$f":"SUM(M4:M25)","v":1},{"$f":"SUM(N4:N25)","v":1},1,1,2,3,4,5,6,6,6,7,8,9,10,12,12,12,13,14,15,16,17,17,17,18,19,20,20,20,20,20,21,20,19,18,{"$f":"SUM(AW4:AW25)","v":19},19,19,18,17,16,15,14,14,14,13,12,10,9,8,8,8,8,7,6,5,4,4,4,3,2,1,1,{"$f":"SUM(BY4:BY25)","v":1},1,1,0,0,0,null,{"$f":"SUM(CI26:FA26)-CG26/1000","v":{"$error":"#DIV/0!"}},{"$f":"SUM(CG4:CG25)","v":1538557573},{"$f":"SUM(CI26:FA26)","v":{"$error":"#DIV/0!"}},{"$f":"SUM(CI4:CI25)","v":{"$error":"#DIV/0!"}},{"$f":"SUM(CJ4:CJ25)","v":{"$error":"#DIV/0!"}},{"$error":"#DIV/0!"},{"$error":"#DIV/0!"},{"$error":"#DIV/0!"},{"$error":"#DIV/0!"},{"$error":"#DIV/0!"},{"$error":"#DIV/0!"},{"$error":"#DIV/0!"},{"$error":"#DIV/0!"},{"$error":"#DIV/0!"},{"$error":"#DIV/0!"},{"$error":"#DIV/0!"},{"$error":"#DIV/0!"},{"$error":"#DIV/0!"},{"$error":"#DIV/0!"},{"$error":"#DIV/0!"},{"$error":"#DIV/0!"},{"$error":"#DIV/0!"},{"$error":"#DIV/0!"},{"$error":"#DIV/0!"},{"$error":"#DIV/0!"},{"$error":"#DIV/0!"},{"$error":"#DIV/0!"},{"$error":"#DIV/0!"},{"$error":"#DIV/0!"},{"$error":"#DIV/0!"},{"$error":"#DIV/0!"},{"$error":"#DIV/0!"},{"$error":"#DIV/0!"},{"$error":"#DIV/0!"},{"$error":"#DIV/0!"},{"$error":"#DIV/0!"},{"$error":"#DIV/0!"},{"$error":"#DIV/0!"},{"$error":"#DIV/0!"},{"$error":"#DIV/0!"},{"$error":"#DIV/0!"},{"$error":"#DIV/0!"},{"$error":"#DIV/0!"},{"$error":"#DIV/0!"},{"$error":"#DIV/0!"},{"$error":"#DIV/0!"},{"$error":"#DIV/0!"},{"$error":"#DIV/0!"},{"$error":"#DIV/0!"},{"$error":"#DIV/0!"},{"$error":"#DIV/0!"},{"$error":"#DIV/0!"},{"$error":"#DIV/0!"},{"$error":"#DIV/0!"},{"$error":"#DIV/0!"},{"$error":"#DIV/0!"},{"$error":"#DIV/0!"},{"$error":"#DIV/0!"},{"$error":"#DIV/0!"},{"$error":"#DIV/0!"},{"$error":"#DIV/0!"},{"$error":"#DIV/0!"},{"$error":"#DIV/0!"},{"$error":"#DIV/0!"},{"$error":"#DIV/0!"},{"$error":"#DIV/0!"},{"$error":"#DIV/0!"},{"$error":"#DIV/0!"},{"$f":"SUM(EV4:EV25)","v":{"$error":"#DIV/0!"}},{"$error":"#DIV/0!"},{"$error":"#DIV/0!"},{"$f":"SUM(EY4:EY25)","v":{"$error":"#DIV/0!"}},{"$error":"#DIV/0!"},{"$error":"#DIV/0!"}]
[null,null,null,null,null,"Check",{"$f":"+CD3","v":"2022-02-03"},null,{"$f":"SUM(L27:CD27)","v":32.363636363636367},null,"PctOn",{"$f":"+L26/22","v":4.5454545454545456E-2},{"$f":"+M26/22","v":4.5454545454545456E-2},{"$f":"+N26/22","v":4.5454545454545456E-2},4.5454545454545456E-2,4.5454545454545456E-2,9.0909090909090912E-2,0.13636363636363635,0.18181818181818182,0.22727272727272727,0.27272727272727271,0.27272727272727271,0.27272727272727271,0.31818181818181818,0.36363636363636365,0.40909090909090912,0.45454545454545453,0.54545454545454541,0.54545454545454541,0.54545454545454541,0.59090909090909094,0.63636363636363635,0.68181818181818177,0.72727272727272729,0.77272727272727271,0.77272727272727271,0.77272727272727271,0.81818181818181823,0.86363636363636365,0.90909090909090906,0.90909090909090906,0.90909090909090906,0.90909090909090906,0.90909090909090906,0.95454545454545459,0.90909090909090906,0.86363636363636365,0.81818181818181823,0.86363636363636365,0.86363636363636365,0.86363636363636365,0.81818181818181823,0.77272727272727271,0.72727272727272729,0.68181818181818177,0.63636363636363635,0.63636363636363635,0.63636363636363635,0.59090909090909094,0.54545454545454541,0.45454545454545453,0.40909090909090912,0.36363636363636365,0.36363636363636365,0.36363636363636365,0.36363636363636365,0.31818181818181818,0.27272727272727271,0.22727272727272727,0.18181818181818182,0.18181818181818182,0.18181818181818182,0.13636363636363635,9.0909090909090912E-2,4.5454545454545456E-2,4.5454545454545456E-2,{"$f":"+BY26/22","v":4.5454545454545456E-2},4.5454545454545456E-2,4.5454545454545456E-2,0,0,0,null,null,null,"NEL---->>>",{"$f":"VLOOKUP(CI3,Daily!$A$2:$H$459,8)","v":0},{"$f":"VLOOKUP(CJ3,Daily!$A$2:$H$459,8)","v":0},{"$f":"VLOOKUP(CK3,Daily!$A$2:$H$459,8)","v":0},{"$f":"VLOOKUP(CL3,Daily!$A$2:$H$459,8)","v":0},{"$f":"VLOOKUP(CM3,Daily!$A$2:$H$459,8)","v":0},{"$f":"VLOOKUP(CN3,Daily!$A$2:$H$459,8)","v":0},{"$f":"VLOOKUP(CO3,Daily!$A$2:$H$459,8)","v":0},{"$f":"VLOOKUP(CP3,Daily!$A$2:$H$459,8)","v":0},{"$f":"VLOOKUP(CQ3,Daily!$A$2:$H$459,8)","v":0},{"$f":"VLOOKUP(CR3,Daily!$A$2:$H$459,8)","v":0},{"$f":"VLOOKUP(CS3,Daily!$A$2:$H$459,8)","v":0},{"$f":"VLOOKUP(CT3,Daily!$A$2:$H$459,8)","v":0},{"$f":"VLOOKUP(CU3,Daily!$A$2:$H$459,8)","v":0},{"$f":"VLOOKUP(CV3,Daily!$A$2:$H$459,8)","v":0},{"$f":"VLOOKUP(CW3,Daily!$A$2:$H$459,8)","v":0},{"$f":"VLOOKUP(CX3,Daily!$A$2:$H$459,8)","v":0},{"$f":"VLOOKUP(CY3,Daily!$A$2:$H$459,8)","v":0},{"$f":"VLOOKUP(CZ3,Daily!$A$2:$H$459,8)","v":0},{"$f":"VLOOKUP(DA3,Daily!$A$2:$H$459,8)","v":0},{"$f":"VLOOKUP(DB3,Daily!$A$2:$H$459,8)","v":0},{"$f":"VLOOKUP(DC3,Daily!$A$2:$H$459,8)","v":0},{"$f":"VLOOKUP(DD3,Daily!$A$2:$H$459,8)","v":0},{"$f":"VLOOKUP(DE3,Daily!$A$2:$H$459,8)","v":0},{"$f":"VLOOKUP(DF3,Daily!$A$2:$H$459,8)","v":0},{"$f":"VLOOKUP(DG3,Daily!$A$2:$H$459,8)","v":0},{"$f":"VLOOKUP(DH3,Daily!$A$2:$H$459,8)","v":0},{"$f":"VLOOKUP(DI3,Daily!$A$2:$H$459,8)","v":0},{"$f":"VLOOKUP(DJ3,Daily!$A$2:$H$459,8)","v":0},{"$f":"VLOOKUP(DK3,Daily!$A$2:$H$459,8)","v":0},{"$f":"VLOOKUP(DL3,Daily!$A$2:$H$459,8)","v":0},{"$f":"VLOOKUP(DM3,Daily!$A$2:$H$459,8)","v":0},{"$f":"VLOOKUP(DN3,Daily!$A$2:$H$459,8)","v":0},{"$f":"VLOOKUP(DO3,Daily!$A$2:$H$459,8)","v":0},{"$f":"VLOOKUP(DP3,Daily!$A$2:$H$459,8)","v":0},{"$f":"VLOOKUP(DQ3,Daily!$A$2:$H$459,8)","v":0},{"$f":"VLOOKUP(DR3,Daily!$A$2:$H$459,8)","v":0},{"$f":"VLOOKUP(DS3,Daily!$A$2:$H$459,8)","v":0},{"$f":"VLOOKUP(DT3,Daily!$A$2:$H$459,8)","v":0},{"$f":"VLOOKUP(DU3,Daily!$A$2:$H$459,8)","v":0},{"$f":"VLOOKUP(DV3,Daily!$A$2:$H$459,8)","v":0},{"$f":"VLOOKUP(DW3,Daily!$A$2:$H$459,8)","v":0},{"$f":"VLOOKUP(DX3,Daily!$A$2:$H$459,8)","v":0},{"$f":"VLOOKUP(DY3,Daily!$A$2:$H$459,8)","v":0},{"$f":"VLOOKUP(DZ3,Daily!$A$2:$H$459,8)","v":0},{"$f":"VLOOKUP(EA3,Daily!$A$2:$H$459,8)","v":0},{"$f":"VLOOKUP(EB3,Daily!$A$2:$H$459,8)","v":0},{"$f":"VLOOKUP(EC3,Daily!$A$2:$H$459,8)","v":0},{"$f":"VLOOKUP(ED3,Daily!$A$2:$H$459,8)","v":0},{"$f":"VLOOKUP(EE3,Daily!$A$2:$H$459,8)","v":0},{"$f":"VLOOKUP(EF3,Daily!$A$2:$H$459,8)","v":0},{"$f":"VLOOKUP(EG3,Daily!$A$2:$H$459,8)","v":0},{"$f":"VLOOKUP(EH3,Daily!$A$2:$H$459,8)","v":0},{"$f":"VLOOKUP(EI3,Daily!$A$2:$H$459,8)","v":0},{"$f":"VLOOKUP(EJ3,Daily!$A$2:$H$459,8)","v":0},{"$f":"VLOOKUP(EK3,Daily!$A$2:$H$459,8)","v":0},{"$f":"VLOOKUP(EL3,Daily!$A$2:$H$459,8)","v":0},{"$f":"VLOOKUP(EM3,Daily!$A$2:$H$459,8)","v":0},{"$f":"VLOOKUP(EN3,Daily!$A$2:$H$459,8)","v":0},{"$f":"VLOOKUP(EO3,Daily!$A$2:$H$459,8)","v":0},{"$f":"VLOOKUP(EP3,Daily!$A$2:$H$459,8)","v":0},{"$f":"VLOOKUP(EQ3,Daily!$A$2:$H$459,8)","v":0},{"$f":"VLOOKUP(ER3,Daily!$A$2:$H$459,8)","v":0},{"$f":"VLOOKUP(ES3,Daily!$A$2:$H$459,8)","v":0},{"$f":"VLOOKUP(ET3,Daily!$A$2:$H$459,8)","v":0},{"$f":"VLOOKUP(EU3,Daily!$A$2:$H$459,8)","v":0},{"$f":"VLOOKUP(EV3,Daily!$A$2:$H$459,8)","v":0},{"$f":"VLOOKUP(EW3,Daily!$A$2:$H$459,8)","v":0},{"$f":"VLOOKUP(EX3,Daily!$A$2:$H$459,8)","v":0},{"$f":"VLOOKUP(EY3,Daily!$A$2:$H$459,8)","v":0},{"$f":"VLOOKUP(EZ3,Daily!$A$2:$H$459,8)","v":0},{"$f":"VLOOKUP(FA3,Daily!$A$2:$H$459,8)","v":0}]
[null,null,null,null,null,null,null,null,null,null,"PctOff",{"$f":"1-L27","v":0.95454545454545459},{"$f":"1-M27","v":0.95454545454545459},0.95454545454545459,0.95454545454545459,0.95454545454545459,0.90909090909090906,0.86363636363636365,0.81818181818181812,0.77272727272727271,0.72727272727272729,0.72727272727272729,0.72727272727272729,0.68181818181818188,0.63636363636363635,0.59090909090909083,0.54545454545454541,0.45454545454545459,0.45454545454545459,0.45454545454545459,0.40909090909090906,0.36363636363636365,0.31818181818181823,0.27272727272727271,0.22727272727272729,0.22727272727272729,0.22727272727272729,0.18181818181818177,0.13636363636363635,9.0909090909090939E-2,9.0909090909090939E-2,9.0909090909090939E-2,9.0909090909090939E-2,9.0909090909090939E-2,4.5454545454545414E-2,9.0909090909090939E-2,0.13636363636363635,0.18181818181818177,0.13636363636363635,0.13636363636363635,0.13636363636363635,0.18181818181818177,0.22727272727272729,0.27272727272727271,0.31818181818181823,0.36363636363636365,0.36363636363636365,0.36363636363636365,0.40909090909090906,0.45454545454545459,0.54545454545454541,0.59090909090909083,0.63636363636363635,0.63636363636363635,0.63636363636363635,0.63636363636363635,0.68181818181818188,0.72727272727272729,0.77272727272727271,0.81818181818181812,0.81818181818181812,0.81818181818181812,0.86363636363636365,{"$f":"1-BV27","v":0.90909090909090906},{"$f":"1-BW27","v":0.95454545454545459},{"$f":"1-BX27","v":0.95454545454545459},{"$f":"1-BY27","v":0.95454545454545459},0.95454545454545459,0.95454545454545459,{"$f":"1-CB27","v":1},1,1,null,null,"January:"]
[null,null,null,null,null,null,null,null,null,"Average","Temp",{"$f":"VLOOKUP(L3,Daily!$A:$D,4)","v":68.5},{"$f":"VLOOKUP(M3,Daily!$A:$D,4)","v":68},{"$f":"VLOOKUP(N3,Daily!$A:$D,4)","v":62.5},{"$f":"VLOOKUP(O3,Daily!$A:$D,4)","v":62.5},{"$f":"VLOOKUP(P3,Daily!$A:$D,4)","v":64},{"$f":"VLOOKUP(Q3,Daily!$A:$D,4)","v":61.5},{"$f":"VLOOKUP(R3,Daily!$A:$D,4)","v":66.5},{"$f":"VLOOKUP(S3,Daily!$A:$D,4)","v":67.5},{"$f":"VLOOKUP(T3,Daily!$A:$D,4)","v":66.5},{"$f":"VLOOKUP(U3,Daily!$A:$D,4)","v":65},{"$f":"VLOOKUP(V3,Daily!$A:$D,4)","v":70.5},{"$f":"VLOOKUP(W3,Daily!$A:$D,4)","v":71},{"$f":"VLOOKUP(X3,Daily!$A:$D,4)","v":73.5},{"$f":"VLOOKUP(Y3,Daily!$A:$D,4)","v":73},{"$f":"VLOOKUP(Z3,Daily!$A:$D,4)","v":74.5},{"$f":"VLOOKUP(AA3,Daily!$A:$D,4)","v":75.5},{"$f":"VLOOKUP(AB3,Daily!$A:$D,4)","v":77},{"$f":"VLOOKUP(AC3,Daily!$A:$D,4)","v":76},{"$f":"VLOOKUP(AD3,Daily!$A:$D,4)","v":76.5},{"$f":"VLOOKUP(AE3,Daily!$A:$D,4)","v":75},{"$f":"VLOOKUP(AF3,Daily!$A:$D,4)","v":75},{"$f":"VLOOKUP(AG3,Daily!$A:$D,4)","v":77.5},{"$f":"VLOOKUP(AH3,Daily!$A:$D,4)","v":77.5},{"$f":"VLOOKUP(AI3,Daily!$A:$D,4)","v":78},{"$f":"VLOOKUP(AJ3,Daily!$A:$D,4)","v":77.5},{"$f":"VLOOKUP(AK3,Daily!$A:$D,4)","v":72},{"$f":"VLOOKUP(AL3,Daily!$A:$D,4)","v":67},{"$f":"VLOOKUP(AM3,Daily!$A:$D,4)","v":60},{"$f":"VLOOKUP(AN3,Daily!$A:$D,4)","v":60.5},{"$f":"VLOOKUP(AO3,Daily!$A:$D,4)","v":65.5},{"$f":"VLOOKUP(AP3,Daily!$A:$D,4)","v":66.5},{"$f":"VLOOKUP(AQ3,Daily!$A:$D,4)","v":68.5},{"$f":"VLOOKUP(AR3,Daily!$A:$D,4)","v":69.5},{"$f":"VLOOKUP(AS3,Daily!$A:$D,4)","v":70},{"$f":"VLOOKUP(AT3,Daily!$A:$D,4)","v":75},{"$f":"VLOOKUP(AU3,Daily!$A:$D,4)","v":74},{"$f":"VLOOKUP(AV3,Daily!$A:$D,4)","v":76},{"$f":"VLOOKUP(AW3,Daily!$A:$D,4)","v":74.5},{"$f":"VLOOKUP(AX3,Daily!$A:$D,4)","v":76.5},{"$f":"VLOOKUP(AY3,Daily!$A:$D,4)","v":65},{"$f":"VLOOKUP(AZ3,Daily!$A:$D,4)","v":63},{"$f":"VLOOKUP(BA3,Daily!$A:$D,4)","v":67},{"$f":"VLOOKUP(BB3,Daily!$A:$D,4)","v":65},{"$f":"VLOOKUP(BC3,Daily!$A:$D,4)","v":72},{"$f":"VLOOKUP(BD3,Daily!$A:$D,4)","v":69.5},{"$f":"VLOOKUP(BE3,Daily!$A:$D,4)","v":74.5},{"$f":"VLOOKUP(BF3,Daily!$A:$D,4)","v":72.5},{"$f":"VLOOKUP(BG3,Daily!$A:$D,4)","v":63.5},{"$f":"VLOOKUP(BH3,Daily!$A:$D,4)","v":65.5},{"$f":"VLOOKUP(BI3,Daily!$A:$D,4)","v":66.5},{"$f":"VLOOKUP(BJ3,Daily!$A:$D,4)","v":63.5},{"$f":"VLOOKUP(BK3,Daily!$A:$D,4)","v":62.5},{"$f":"VLOOKUP(BL3,Daily!$A:$D,4)","v":66.5},{"$f":"VLOOKUP(BM3,Daily!$A:$D,4)","v":61},{"$f":"VLOOKUP(BN3,Daily!$A:$D,4)","v":53},{"$f":"VLOOKUP(BO3,Daily!$A:$D,4)","v":61},{"$f":"VLOOKUP(BP3,Daily!$A:$D,4)","v":65.5},{"$f":"VLOOKUP(BQ3,Daily!$A:$D,4)","v":68},{"$f":"VLOOKUP(BR3,Daily!$A:$D,4)","v":54.5},{"$f":"VLOOKUP(BS3,Daily!$A:$D,4)","v":51.5},{"$f":"VLOOKUP(BT3,Daily!$A:$D,4)","v":51.5},{"$f":"VLOOKUP(BU3,Daily!$A:$D,4)","v":53.5},{"$f":"VLOOKUP(BV3,Daily!$A:$D,4)","v":58.5},{"$f":"VLOOKUP(BW3,Daily!$A:$D,4)","v":66.5},{"$f":"VLOOKUP(BX3,Daily!$A:$D,4)","v":60.5},{"$f":"VLOOKUP(BY3,Daily!$A:$D,4)","v":48},{"$f":"VLOOKUP(BZ3,Daily!$A:$D,4)","v":47},{"$f":"VLOOKUP(CA3,Daily!$A:$D,4)","v":54},{"$f":"VLOOKUP(CB3,Daily!$A:$D,4)","v":62.5},{"$f":"VLOOKUP(CC3,Daily!$A:$D,4)","v":69.5},{"$f":"VLOOKUP(CD3,Daily!$A:$D,4)","v":75.5},null,null,"Billed",{"$f":"SUM(CI29:FA29)","v":{"$error":"#DIV/0!"}},{"$f":"IF(CI2=$A$2,CI26,0)","v":0},0,0,0,0,0,0,0,0,0,0,0,0,0,0,0,0,0,0,0,0,0,0,0,0,0,0,0,0,0,0,0,{"$f":"IF(DO2=$A$2,DO26,0)","v":0},{"$f":"IF(DP2=$A$2,DP26,0)","v":0},0,0,0,{"$error":"#DIV/0!"},{"$error":"#DIV/0!"},{"$error":"#DIV/0!"},{"$error":"#DIV/0!"},{"$error":"#DIV/0!"},{"$error":"#DIV/0!"},{"$error":"#DIV/0!"},{"$error":"#DIV/0!"},{"$error":"#DIV/0!"},{"$error":"#DIV/0!"},{"$error":"#DIV/0!"},{"$error":"#DIV/0!"},{"$error":"#DIV/0!"},{"$error":"#DIV/0!"},{"$error":"#DIV/0!"},{"$error":"#DIV/0!"},{"$error":"#DIV/0!"},{"$error":"#DIV/0!"},{"$error":"#DIV/0!"},{"$error":"#DIV/0!"},{"$error":"#DIV/0!"},{"$error":"#DIV/0!"},{"$error":"#DIV/0!"},{"$error":"#DIV/0!"},{"$error":"#DIV/0!"},{"$error":"#DIV/0!"},{"$error":"#DIV/0!"},{"$error":"#DIV/0!"},{"$f":"IF(EV2=$A$2,EV26,0)","v":{"$error":"#DIV/0!"}},{"$error":"#DIV/0!"},{"$error":"#DIV/0!"},{"$f":"IF(EY2=$A$2,EY26,0)","v":0},0,0]
[null,null,null,null,null,null,null,null,{"$f":"SUM(L30:CD30)","v":133.5},"Calendar","HDD",{"$f":"IF((L3>=DATE($A$1,$A$2,1))*(L3<=DATE($A$1,$A$2,DAY(EOMONTH(DATE($A$1,$A$2,1),0)))), IF(L29<65,65-L29,0),0)","v":0},{"$f":"IF((M3>=DATE($A$1,$A$2,1))*(M3<=DATE($A$1,$A$2,DAY(EOMONTH(DATE($A$1,$A$2,1),0)))), IF(M29<65,65-M29,0),0)","v":0},0,0,0,0,0,0,0,0,0,0,0,0,0,0,0,0,0,0,0,0,0,0,0,0,0,0,0,0,0,0,0,0,{"$f":"IF((AT3>=DATE($A$1,$A$2,1))*(AT3<=DATE($A$1,$A$2,DAY(EOMONTH(DATE($A$1,$A$2,1),0)))), IF(AT29<65,65-AT29,0),0)","v":0},0,0,0,0,0,2,0,0,0,0,0,0,1.5,0,0,{"$f":"IF((BJ3>=DATE($A$1,$A$2,1))*(BJ3<=DATE($A$1,$A$2,DAY(EOMONTH(DATE($A$1,$A$2,1),0)))), IF(BJ29<65,65-BJ29,0),0)","v":1.5},2.5,0,4,12,4,0,0,10.5,13.5,13.5,11.5,6.5,0,4.5,{"$f":"IF((BY3>=DATE($A$1,$A$2,1))*(BY3<=DATE($A$1,$A$2,DAY(EOMONTH(DATE($A$1,$A$2,1),0)))), IF(BY29<65,65-BY29,0),0)","v":17},18,11,0,0,0,null,null,"Unbilled1",{"$f":"SUM(CI30:FA30)","v":0},{"$f":"IFERROR(IF(CI2=$A$2,HLOOKUP(CI3,FEB!$CI$3:$ET$26,24),0),0)","v":0},{"$f":"IFERROR(IF(CJ2=$A$2,HLOOKUP(CJ3,FEB!$CI$3:$ET$26,24),0),0)","v":0},{"$f":"IFERROR(IF(CK2=$A$2,HLOOKUP(CK3,FEB!$CI$3:$ET$26,24),0),0)","v":0},{"$f":"IFERROR(IF(CL2=$A$2,HLOOKUP(CL3,FEB!$CI$3:$ET$26,24),0),0)","v":0},{"$f":"IFERROR(IF(CM2=$A$2,HLOOKUP(CM3,FEB!$CI$3:$ET$26,24),0),0)","v":0},{"$f":"IFERROR(IF(CN2=$A$2,HLOOKUP(CN3,FEB!$CI$3:$ET$26,24),0),0)","v":0},{"$f":"IFERROR(IF(CO2=$A$2,HLOOKUP(CO3,FEB!$CI$3:$ET$26,24),0),0)","v":0},{"$f":"IFERROR(IF(CP2=$A$2,HLOOKUP(CP3,FEB!$CI$3:$ET$26,24),0),0)","v":0},{"$f":"IFERROR(IF(CQ2=$A$2,HLOOKUP(CQ3,FEB!$CI$3:$ET$26,24),0),0)","v":0},{"$f":"IFERROR(IF(CR2=$A$2,HLOOKUP(CR3,FEB!$CI$3:$ET$26,24),0),0)","v":0},{"$f":"IFERROR(IF(CS2=$A$2,HLOOKUP(CS3,FEB!$CI$3:$ET$26,24),0),0)","v":0},{"$f":"IFERROR(IF(CT2=$A$2,HLOOKUP(CT3,FEB!$CI$3:$ET$26,24),0),0)","v":0},{"$f":"IFERROR(IF(CU2=$A$2,HLOOKUP(CU3,FEB!$CI$3:$ET$26,24),0),0)","v":0},{"$f":"IFERROR(IF(CV2=$A$2,HLOOKUP(CV3,FEB!$CI$3:$ET$26,24),0),0)","v":0},{"$f":"IFERROR(IF(CW2=$A$2,HLOOKUP(CW3,FEB!$CI$3:$ET$26,24),0),0)","v":0},{"$f":"IFERROR(IF(CX2=$A$2,HLOOKUP(CX3,FEB!$CI$3:$ET$26,24),0),0)","v":0},{"$f":"IFERROR(IF(CY2=$A$2,HLOOKUP(CY3,FEB!$CI$3:$ET$26,24),0),0)","v":0},{"$f":"IFERROR(IF(CZ2=$A$2,HLOOKUP(CZ3,FEB!$CI$3:$ET$26,24),0),0)","v":0},{"$f":"IFERROR(IF(DA2=$A$2,HLOOKUP(DA3,FEB!$CI$3:$ET$26,24),0),0)","v":0},{"$f":"IFERROR(IF(DB2=$A$2,HLOOKUP(DB3,FEB!$CI$3:$ET$26,24),0),0)","v":0},{"$f":"IFERROR(IF(DC2=$A$2,HLOOKUP(DC3,FEB!$CI$3:$ET$26,24),0),0)","v":0},{"$f":"IFERROR(IF(DD2=$A$2,HLOOKUP(DD3,FEB!$CI$3:$ET$26,24),0),0)","v":0},{"$f":"IFERROR(IF(DE2=$A$2,HLOOKUP(DE3,FEB!$CI$3:$ET$26,24),0),0)","v":0},{"$f":"IFERROR(IF(DF2=$A$2,HLOOKUP(DF3,FEB!$CI$3:$ET$26,24),0),0)","v":0},{"$f":"IFERROR(IF(DG2=$A$2,HLOOKUP(DG3,FEB!$CI$3:$ET$26,24),0),0)","v":0},{"$f":"IFERROR(IF(DH2=$A$2,HLOOKUP(DH3,FEB!$CI$3:$ET$26,24),0),0)","v":0},{"$f":"IFERROR(IF(DI2=$A$2,HLOOKUP(DI3,FEB!$CI$3:$ET$26,24),0),0)","v":0},{"$f":"IFERROR(IF(DJ2=$A$2,HLOOKUP(DJ3,FEB!$CI$3:$ET$26,24),0),0)","v":0},{"$f":"IFERROR(IF(DK2=$A$2,HLOOKUP(DK3,FEB!$CI$3:$ET$26,24),0),0)","v":0},{"$f":"IFERROR(IF(DL2=$A$2,HLOOKUP(DL3,FEB!$CI$3:$ET$26,24),0),0)","v":0},{"$f":"IFERROR(IF(DM2=$A$2,HLOOKUP(DM3,FEB!$CI$3:$ET$26,24),0),0)","v":0},{"$f":"IFERROR(IF(DN2=$A$2,HLOOKUP(DN3,FEB!$CI$3:$ET$26,24),0),0)","v":0},{"$f":"IFERROR(IF(DO2=$A$2,HLOOKUP(DO3,FEB!$CI$3:$ET$26,24),0),0)","v":0},{"$f":"IFERROR(IF(DP2=$A$2,HLOOKUP(DP3,FEB!$CI$3:$ET$26,24),0),0)","v":0},{"$f":"IFERROR(IF(DQ2=$A$2,HLOOKUP(DQ3,FEB!$CI$3:$ET$26,24),0),0)","v":0},{"$f":"IFERROR(IF(DR2=$A$2,HLOOKUP(DR3,FEB!$CI$3:$ET$26,24),0),0)","v":0},{"$f":"IFERROR(IF(DS2=$A$2,HLOOKUP(DS3,FEB!$CI$3:$ET$26,24),0),0)","v":0},{"$f":"IFERROR(IF(DT2=$A$2,HLOOKUP(DT3,FEB!$CI$3:$ET$26,24),0),0)","v":0},{"$f":"IFERROR(IF(DU2=$A$2,HLOOKUP(DU3,FEB!$CI$3:$ET$26,24),0),0)","v":0},{"$f":"IFERROR(IF(DV2=$A$2,HLOOKUP(DV3,FEB!$CI$3:$ET$26,24),0),0)","v":0},{"$f":"IFERROR(IF(DW2=$A$2,HLOOKUP(DW3,FEB!$CI$3:$ET$26,24),0),0)","v":0},{"$f":"IFERROR(IF(DX2=$A$2,HLOOKUP(DX3,FEB!$CI$3:$ET$26,24),0),0)","v":0},{"$f":"IFERROR(IF(DY2=$A$2,HLOOKUP(DY3,FEB!$CI$3:$ET$26,24),0),0)","v":0},{"$f":"IFERROR(IF(DZ2=$A$2,HLOOKUP(DZ3,FEB!$CI$3:$ET$26,24),0),0)","v":0},{"$f":"IFERROR(IF(EA2=$A$2,HLOOKUP(EA3,FEB!$CI$3:$ET$26,24),0),0)","v":0},{"$f":"IFERROR(IF(EB2=$A$2,HLOOKUP(EB3,FEB!$CI$3:$ET$26,24),0),0)","v":0},{"$f":"IFERROR(IF(EC2=$A$2,HLOOKUP(EC3,FEB!$CI$3:$ET$26,24),0),0)","v":0},{"$f":"IFERROR(IF(ED2=$A$2,HLOOKUP(ED3,FEB!$CI$3:$ET$26,24),0),0)","v":0},{"$f":"IFERROR(IF(EE2=$A$2,HLOOKUP(EE3,FEB!$CI$3:$ET$26,24),0),0)","v":0},{"$f":"IFERROR(IF(EF2=$A$2,HLOOKUP(EF3,FEB!$CI$3:$ET$26,24),0),0)","v":0},{"$f":"IFERROR(IF(EG2=$A$2,HLOOKUP(EG3,FEB!$CI$3:$ET$26,24),0),0)","v":0},{"$f":"IFERROR(IF(EH2=$A$2,HLOOKUP(EH3,FEB!$CI$3:$ET$26,24),0),0)","v":0},{"$f":"IFERROR(IF(EI2=$A$2,HLOOKUP(EI3,FEB!$CI$3:$ET$26,24),0),0)","v":0},{"$f":"IFERROR(IF(EJ2=$A$2,HLOOKUP(EJ3,FEB!$CI$3:$ET$26,24),0),0)","v":0},{"$f":"IFERROR(IF(EK2=$A$2,HLOOKUP(EK3,FEB!$CI$3:$ET$26,24),0),0)","v":0},{"$f":"IFERROR(IF(EL2=$A$2,HLOOKUP(EL3,FEB!$CI$3:$ET$26,24),0),0)","v":0},{"$f":"IFERROR(IF(EM2=$A$2,HLOOKUP(EM3,FEB!$CI$3:$ET$26,24),0),0)","v":0},{"$f":"IFERROR(IF(EN2=$A$2,HLOOKUP(EN3,FEB!$CI$3:$ET$26,24),0),0)","v":0},{"$f":"IFERROR(IF(EO2=$A$2,HLOOKUP(EO3,FEB!$CI$3:$ET$26,24),0),0)","v":0},{"$f":"IFERROR(IF(EP2=$A$2,HLOOKUP(EP3,FEB!$CI$3:$ET$26,24),0),0)","v":0},{"$f":"IFERROR(IF(EQ2=$A$2,HLOOKUP(EQ3,FEB!$CI$3:$ET$26,24),0),0)","v":0},{"$f":"IFERROR(IF(ER2=$A$2,HLOOKUP(ER3,FEB!$CI$3:$ET$26,24),0),0)","v":0},{"$f":"IFERROR(IF(ES2=$A$2,HLOOKUP(ES3,FEB!$CI$3:$ET$26,24),0),0)","v":0},{"$f":"IFERROR(IF(ET2=$A$2,HLOOKUP(ET3,FEB!$CI$3:$ET$26,24),0),0)","v":0},{"$f":"IFERROR(IF(EU2=$A$2,HLOOKUP(EU3,FEB!$CI$3:$ET$26,24),0),0)","v":0},{"$f":"IFERROR(IF(EV2=$A$2,HLOOKUP(EV3,FEB!$CI$3:$ET$26,24),0),0)","v":0},{"$f":"IFERROR(IF(EW2=$A$2,HLOOKUP(EW3,FEB!$CI$3:$ET$26,24),0),0)","v":0},{"$f":"IFERROR(IF(EX2=$A$2,HLOOKUP(EX3,FEB!$CI$3:$ET$26,24),0),0)","v":0},{"$f":"IFERROR(IF(EY2=$A$2,HLOOKUP(EY3,FEB!$CI$3:$ET$26,24),0),0)","v":0},{"$f":"IFERROR(IF(EZ2=$A$2,HLOOKUP(EZ3,FEB!$CI$3:$ET$26,24),0),0)","v":0},{"$f":"IFERROR(IF(FA2=$A$2,HLOOKUP(FA3,FEB!$CI$3:$ET$26,24),0),0)","v":0}]
[null,null,null,null,null,null,null,null,{"$f":"SUM(L31:CD31)","v":60},"Calendar","CDD",{"$f":"IF((L3>=DATE($A$1,$A$2,1))*(L3<=DATE($A$1,$A$2,DAY(EOMONTH(DATE($A$1,$A$2,1),0)))), IF(L29>65,L29-65,0),0)","v":0},{"$f":"IF((M3>=DATE($A$1,$A$2,1))*(M3<=DATE($A$1,$A$2,DAY(EOMONTH(DATE($A$1,$A$2,1),0)))), IF(M29>65,M29-65,0),0)","v":0},0,0,0,0,0,0,0,0,0,0,0,0,0,0,0,0,0,0,0,0,0,0,0,0,0,0,0,0,0,0,0,0,0,0,0,{"$f":"IF((AW3>=DATE($A$1,$A$2,1))*(AW3<=DATE($A$1,$A$2,DAY(EOMONTH(DATE($A$1,$A$2,1),0)))), IF(AW29>65,AW29-65,0),0)","v":9.5},11.5,0,0,2,0,7,4.5,9.5,7.5,0,0.5,1.5,0,0,1.5,0,0,0,0.5,3,0,0,0,0,0,1.5,0,{"$f":"IF((BY3>=DATE($A$1,$A$2,1))*(BY3<=DATE($A$1,$A$2,DAY(EOMONTH(DATE($A$1,$A$2,1),0)))), IF(BY29>65,BY29-65,0),0)","v":0},0,0,0,0,0,null,null,"Unbilled2",0,{"$f":"IFERROR(IF(CI2=$A$2,HLOOKUP(CI3,MAR!$CI$3:$ET$26,24),0),0)","v":0},{"$f":"IFERROR(IF(CJ2=$A$2,HLOOKUP(CJ3,MAR!$CI$3:$ET$26,24),0),0)","v":0},{"$f":"IFERROR(IF(CK2=$A$2,HLOOKUP(CK3,MAR!$CI$3:$ET$26,24),0),0)","v":0},{"$f":"IFERROR(IF(CL2=$A$2,HLOOKUP(CL3,MAR!$CI$3:$ET$26,24),0),0)","v":0},{"$f":"IFERROR(IF(CM2=$A$2,HLOOKUP(CM3,MAR!$CI$3:$ET$26,24),0),0)","v":0},{"$f":"IFERROR(IF(CN2=$A$2,HLOOKUP(CN3,MAR!$CI$3:$ET$26,24),0),0)","v":0},{"$f":"IFERROR(IF(CO2=$A$2,HLOOKUP(CO3,MAR!$CI$3:$ET$26,24),0),0)","v":0},{"$f":"IFERROR(IF(CP2=$A$2,HLOOKUP(CP3,MAR!$CI$3:$ET$26,24),0),0)","v":0},{"$f":"IFERROR(IF(CQ2=$A$2,HLOOKUP(CQ3,MAR!$CI$3:$ET$26,24),0),0)","v":0},{"$f":"IFERROR(IF(CR2=$A$2,HLOOKUP(CR3,MAR!$CI$3:$ET$26,24),0),0)","v":0},{"$f":"IFERROR(IF(CS2=$A$2,HLOOKUP(CS3,MAR!$CI$3:$ET$26,24),0),0)","v":0},{"$f":"IFERROR(IF(CT2=$A$2,HLOOKUP(CT3,MAR!$CI$3:$ET$26,24),0),0)","v":0},{"$f":"IFERROR(IF(CU2=$A$2,HLOOKUP(CU3,MAR!$CI$3:$ET$26,24),0),0)","v":0},{"$f":"IFERROR(IF(CV2=$A$2,HLOOKUP(CV3,MAR!$CI$3:$ET$26,24),0),0)","v":0},{"$f":"IFERROR(IF(CW2=$A$2,HLOOKUP(CW3,MAR!$CI$3:$ET$26,24),0),0)","v":0},{"$f":"IFERROR(IF(CX2=$A$2,HLOOKUP(CX3,MAR!$CI$3:$ET$26,24),0),0)","v":0},{"$f":"IFERROR(IF(CY2=$A$2,HLOOKUP(CY3,MAR!$CI$3:$ET$26,24),0),0)","v":0},{"$f":"IFERROR(IF(CZ2=$A$2,HLOOKUP(CZ3,MAR!$CI$3:$ET$26,24),0),0)","v":0},{"$f":"IFERROR(IF(DA2=$A$2,HLOOKUP(DA3,MAR!$CI$3:$ET$26,24),0),0)","v":0},{"$f":"IFERROR(IF(DB2=$A$2,HLOOKUP(DB3,MAR!$CI$3:$ET$26,24),0),0)","v":0},{"$f":"IFERROR(IF(DC2=$A$2,HLOOKUP(DC3,MAR!$CI$3:$ET$26,24),0),0)","v":0},{"$f":"IFERROR(IF(DD2=$A$2,HLOOKUP(DD3,MAR!$CI$3:$ET$26,24),0),0)","v":0},{"$f":"IFERROR(IF(DE2=$A$2,HLOOKUP(DE3,MAR!$CI$3:$ET$26,24),0),0)","v":0},{"$f":"IFERROR(IF(DF2=$A$2,HLOOKUP(DF3,MAR!$CI$3:$ET$26,24),0),0)","v":0},{"$f":"IFERROR(IF(DG2=$A$2,HLOOKUP(DG3,MAR!$CI$3:$ET$26,24),0),0)","v":0},{"$f":"IFERROR(IF(DH2=$A$2,HLOOKUP(DH3,MAR!$CI$3:$ET$26,24),0),0)","v":0},{"$f":"IFERROR(IF(DI2=$A$2,HLOOKUP(DI3,MAR!$CI$3:$ET$26,24),0),0)","v":0},{"$f":"IFERROR(IF(DJ2=$A$2,HLOOKUP(DJ3,MAR!$CI$3:$ET$26,24),0),0)","v":0},{"$f":"IFERROR(IF(DK2=$A$2,HLOOKUP(DK3,MAR!$CI$3:$ET$26,24),0),0)","v":0},{"$f":"IFERROR(IF(DL2=$A$2,HLOOKUP(DL3,MAR!$CI$3:$ET$26,24),0),0)","v":0},{"$f":"IFERROR(IF(DM2=$A$2,HLOOKUP(DM3,MAR!$CI$3:$ET$26,24),0),0)","v":0},{"$f":"IFERROR(IF(DN2=$A$2,HLOOKUP(DN3,MAR!$CI$3:$ET$26,24),0),0)","v":0},{"$f":"IFERROR(IF(DO2=$A$2,HLOOKUP(DO3,MAR!$CI$3:$ET$26,24),0),0)","v":0},{"$f":"IFERROR(IF(DP2=$A$2,HLOOKUP(DP3,MAR!$CI$3:$ET$26,24),0),0)","v":0},{"$f":"IFERROR(IF(DQ2=$A$2,HLOOKUP(DQ3,MAR!$CI$3:$ET$26,24),0),0)","v":0},{"$f":"IFERROR(IF(DR2=$A$2,HLOOKUP(DR3,MAR!$CI$3:$ET$26,24),0),0)","v":0},{"$f":"IFERROR(IF(DS2=$A$2,HLOOKUP(DS3,MAR!$CI$3:$ET$26,24),0),0)","v":0},{"$f":"IFERROR(IF(DT2=$A$2,HLOOKUP(DT3,MAR!$CI$3:$ET$26,24),0),0)","v":0},{"$f":"IFERROR(IF(DU2=$A$2,HLOOKUP(DU3,MAR!$CI$3:$ET$26,24),0),0)","v":0},{"$f":"IFERROR(IF(DV2=$A$2,HLOOKUP(DV3,MAR!$CI$3:$ET$26,24),0),0)","v":0},{"$f":"IFERROR(IF(DW2=$A$2,HLOOKUP(DW3,MAR!$CI$3:$ET$26,24),0),0)","v":0},{"$f":"IFERROR(IF(DX2=$A$2,HLOOKUP(DX3,MAR!$CI$3:$ET$26,24),0),0)","v":0},{"$f":"IFERROR(IF(DY2=$A$2,HLOOKUP(DY3,MAR!$CI$3:$ET$26,24),0),0)","v":0},{"$f":"IFERROR(IF(DZ2=$A$2,HLOOKUP(DZ3,MAR!$CI$3:$ET$26,24),0),0)","v":0},{"$f":"IFERROR(IF(EA2=$A$2,HLOOKUP(EA3,MAR!$CI$3:$ET$26,24),0),0)","v":0},{"$f":"IFERROR(IF(EB2=$A$2,HLOOKUP(EB3,MAR!$CI$3:$ET$26,24),0),0)","v":0},{"$f":"IFERROR(IF(EC2=$A$2,HLOOKUP(EC3,MAR!$CI$3:$ET$26,24),0),0)","v":0},{"$f":"IFERROR(IF(ED2=$A$2,HLOOKUP(ED3,MAR!$CI$3:$ET$26,24),0),0)","v":0},{"$f":"IFERROR(IF(EE2=$A$2,HLOOKUP(EE3,MAR!$CI$3:$ET$26,24),0),0)","v":0},{"$f":"IFERROR(IF(EF2=$A$2,HLOOKUP(EF3,MAR!$CI$3:$ET$26,24),0),0)","v":0},{"$f":"IFERROR(IF(EG2=$A$2,HLOOKUP(EG3,MAR!$CI$3:$ET$26,24),0),0)","v":0},{"$f":"IFERROR(IF(EH2=$A$2,HLOOKUP(EH3,MAR!$CI$3:$ET$26,24),0),0)","v":0},{"$f":"IFERROR(IF(EI2=$A$2,HLOOKUP(EI3,MAR!$CI$3:$ET$26,24),0),0)","v":0},{"$f":"IFERROR(IF(EJ2=$A$2,HLOOKUP(EJ3,MAR!$CI$3:$ET$26,24),0),0)","v":0},{"$f":"IFERROR(IF(EK2=$A$2,HLOOKUP(EK3,MAR!$CI$3:$ET$26,24),0),0)","v":0},{"$f":"IFERROR(IF(EL2=$A$2,HLOOKUP(EL3,MAR!$CI$3:$ET$26,24),0),0)","v":0},{"$f":"IFERROR(IF(EM2=$A$2,HLOOKUP(EM3,MAR!$CI$3:$ET$26,24),0),0)","v":0},{"$f":"IFERROR(IF(EN2=$A$2,HLOOKUP(EN3,MAR!$CI$3:$ET$26,24),0),0)","v":0},{"$f":"IFERROR(IF(EO2=$A$2,HLOOKUP(EO3,MAR!$CI$3:$ET$26,24),0),0)","v":0},{"$f":"IFERROR(IF(EP2=$A$2,HLOOKUP(EP3,MAR!$CI$3:$ET$26,24),0),0)","v":0},{"$f":"IFERROR(IF(EQ2=$A$2,HLOOKUP(EQ3,MAR!$CI$3:$ET$26,24),0),0)","v":0},{"$f":"IFERROR(IF(ER2=$A$2,HLOOKUP(ER3,MAR!$CI$3:$ET$26,24),0),0)","v":0},{"$f":"IFERROR(IF(ES2=$A$2,HLOOKUP(ES3,MAR!$CI$3:$ET$26,24),0),0)","v":0},{"$f":"IFERROR(IF(ET2=$A$2,HLOOKUP(ET3,MAR!$CI$3:$ET$26,24),0),0)","v":0},{"$f":"IFERROR(IF(EU2=$A$2,HLOOKUP(EU3,MAR!$CI$3:$ET$26,24),0),0)","v":0},{"$f":"IFERROR(IF(EV2=$A$2,HLOOKUP(EV3,MAR!$CI$3:$ET$26,24),0),0)","v":0},{"$f":"IFERROR(IF(EW2=$A$2,HLOOKUP(EW3,MAR!$CI$3:$ET$26,24),0),0)","v":0},{"$f":"IFERROR(IF(EX2=$A$2,HLOOKUP(EX3,MAR!$CI$3:$ET$26,24),0),0)","v":0},{"$f":"IFERROR(IF(EY2=$A$2,HLOOKUP(EY3,MAR!$CI$3:$ET$26,24),0),0)","v":0},{"$f":"IFERROR(IF(EZ2=$A$2,HLOOKUP(EZ3,MAR!$CI$3:$ET$26,24),0),0)","v":0},{"$f":"IFERROR(IF(FA2=$A$2,HLOOKUP(FA3,MAR!$CI$3:$ET$26,24),0),0)","v":0}]
[null,null,null,null,null,null,null,null,{"$f":"SUM(L32:CD32)","v":31.409090909090907},"Billing","HDD",{"$f":"IF(L29<65, (65-L29)*L27,0)","v":0},{"$f":"IF(M29<65, (65-M29)*M27,0)","v":0},0.11363636363636365,0.11363636363636365,4.5454545454545456E-2,0.31818181818181818,0,0,0,0,0,0,0,0,0,0,0,0,0,0,0,0,0,0,0,0,0,4.3181818181818183,4.0909090909090908,0,0,0,0,0,{"$f":"IF(AT29<65, (65-AT29)*AT27,0)","v":0},0,0,0,0,0,1.6363636363636365,0,0,0,0,0,0,0.88636363636363646,0,0,0.61363636363636365,0.90909090909090917,0,1.4545454545454546,4.3636363636363633,1.2727272727272727,0,0,1.9090909090909092,2.4545454545454546,2.4545454545454546,1.5681818181818181,0.59090909090909094,0,0.20454545454545456,{"$f":"IF(BY29<65, (65-BY29)*BY27,0)","v":0.77272727272727271},0.81818181818181823,0.5,0,0,0,null,null,"Calendar",{"$error":"#DIV/0!"},{"$f":"+CI29+CI30+CI31","v":0},{"$f":"+CJ29+CJ30+CJ31","v":0},0,0,0,0,0,0,0,0,0,0,0,0,0,0,0,0,0,0,0,0,0,0,0,0,0,0,0,0,0,0,0,0,0,0,0,{"$error":"#DIV/0!"},{"$error":"#DIV/0!"},{"$error":"#DIV/0!"},{"$error":"#DIV/0!"},{"$error":"#DIV/0!"},{"$error":"#DIV/0!"},{"$error":"#DIV/0!"},{"$error":"#DIV/0!"},{"$error":"#DIV/0!"},{"$error":"#DIV/0!"},{"$error":"#DIV/0!"},{"$error":"#DIV/0!"},{"$error":"#DIV/0!"},{"$error":"#DIV/0!"},{"$error":"#DIV/0!"},{"$error":"#DIV/0!"},{"$error":"#DIV/0!"},{"$error":"#DIV/0!"},{"$error":"#DIV/0!"},{"$error":"#DIV/0!"},{"$error":"#DIV/0!"},{"$error":"#DIV/0!"},{"$error":"#DIV/0!"},{"$error":"#DIV/0!"},{"$error":"#DIV/0!"},{"$error":"#DIV/0!"},{"$error":"#DIV/0!"},{"$error":"#DIV/0!"},{"$f":"+EV29+EV30+EV31","v":{"$error":"#DIV/0!"}},{"$error":"#DIV/0!"},{"$error":"#DIV/0!"},{"$f":"+EY29+EY30+EY31","v":0},0,0]
[null,null,null,null,null,null,null,null,{"$f":"SUM(L33:CD33)","v":174.40909090909091},"Billing","CDD",{"$f":"IF(L29>65, (L29-65)*L27,0)","v":0.15909090909090909},{"$f":"IF(M29>65, (M29-65)*M27,0)","v":0.13636363636363635},0,0,0,0,0.20454545454545453,0.45454545454545459,0.34090909090909088,{"$f":"IF(U29>65, (U29-65)*U27,0)","v":0},1.5,1.6363636363636362,2.7045454545454546,2.9090909090909092,3.8863636363636367,4.7727272727272725,6.545454545454545,6,6.2727272727272725,5.9090909090909092,6.3636363636363633,8.5227272727272716,9.0909090909090917,10.045454545454545,9.6590909090909083,5.4090909090909092,1.6363636363636365,0,0,0.45454545454545453,1.3636363636363635,3.1818181818181817,4.0909090909090908,4.7727272727272734,{"$f":"IF(AT29>65, (AT29-65)*AT27,0)","v":9.0909090909090899},7.7727272727272725,9,8.204545454545455,9.9318181818181817,0,0,1.5454545454545454,0,4.7727272727272725,2.8636363636363638,6.045454545454545,4.7727272727272725,0,0.27272727272727271,0.68181818181818177,0,0,0.54545454545454541,0,0,0,0.13636363636363635,0.68181818181818177,0,0,0,0,0,6.8181818181818177E-2,0,{"$f":"IF(BY29>65, (BY29-65)*BY27,0)","v":0},{"$f":"IF(BZ29>65, (BZ29-65)*BZ27,0)","v":0},0,0,0,0,null,null,"Check",{"$f":"+CH32-CH29-CH30-CH31","v":{"$error":"#DIV/0!"}}]
[null,null,null,null,null,null,null,null,1.4650000000000001,"Calendar","Rainfall",{"$f":"VLOOKUP(L3,Daily!$A:$I,9)","v":0},{"$f":"VLOOKUP(M3,Daily!$A:$I,9)","v":0},{"$f":"VLOOKUP(N3,Daily!$A:$I,9)","v":0},{"$f":"VLOOKUP(O3,Daily!$A:$I,9)","v":0},{"$f":"VLOOKUP(P3,Daily!$A:$I,9)","v":0},{"$f":"VLOOKUP(Q3,Daily!$A:$I,9)","v":0},{"$f":"VLOOKUP(R3,Daily!$A:$I,9)","v":0},{"$f":"VLOOKUP(S3,Daily!$A:$I,9)","v":0},{"$f":"VLOOKUP(T3,Daily!$A:$I,9)","v":0},{"$f":"VLOOKUP(U3,Daily!$A:$I,9)","v":0},{"$f":"VLOOKUP(V3,Daily!$A:$I,9)","v":0},{"$f":"VLOOKUP(W3,Daily!$A:$I,9)","v":0},{"$f":"VLOOKUP(X3,Daily!$A:$I,9)","v":0},{"$f":"VLOOKUP(Y3,Daily!$A:$I,9)","v":0},{"$f":"VLOOKUP(Z3,Daily!$A:$I,9)","v":0},{"$f":"VLOOKUP(AA3,Daily!$A:$I,9)","v":0},{"$f":"VLOOKUP(AB3,Daily!$A:$I,9)","v":0},{"$f":"VLOOKUP(AC3,Daily!$A:$I,9)","v":0},{"$f":"VLOOKUP(AD3,Daily!$A:$I,9)","v":0},{"$f":"VLOOKUP(AE3,Daily!$A:$I,9)","v":0},{"$f":"VLOOKUP(AF3,Daily!$A:$I,9)","v":0},{"$f":"VLOOKUP(AG3,Daily!$A:$I,9)","v":0},{"$f":"VLOOKUP(AH3,Daily!$A:$I,9)","v":0},{"$f":"VLOOKUP(AI3,Daily!$A:$I,9)","v":0},{"$f":"VLOOKUP(AJ3,Daily!$A:$I,9)","v":0},{"$f":"VLOOKUP(AK3,Daily!$A:$I,9)","v":0},{"$f":"VLOOKUP(AL3,Daily!$A:$I,9)","v":0},{"$f":"VLOOKUP(AM3,Daily!$A:$I,9)","v":0},{"$f":"VLOOKUP(AN3,Daily!$A:$I,9)","v":0},{"$f":"VLOOKUP(AO3,Daily!$A:$I,9)","v":0},{"$f":"VLOOKUP(AP3,Daily!$A:$I,9)","v":0},{"$f":"VLOOKUP(AQ3,Daily!$A:$I,9)","v":0},{"$f":"VLOOKUP(AR3,Daily!$A:$I,9)","v":0},{"$f":"VLOOKUP(AS3,Daily!$A:$I,9)","v":0},{"$f":"VLOOKUP(AT3,Daily!$A:$I,9)","v":0},{"$f":"VLOOKUP(AU3,Daily!$A:$I,9)","v":0},{"$f":"VLOOKUP(AV3,Daily!$A:$I,9)","v":0},{"$f":"VLOOKUP(AW3,Daily!$A:$I,9)","v":0},{"$f":"VLOOKUP(AX3,Daily!$A:$I,9)","v":0},{"$f":"VLOOKUP(AY3,Daily!$A:$I,9)","v":0.02},{"$f":"VLOOKUP(AZ3,Daily!$A:$I,9)","v":0},{"$f":"VLOOKUP(BA3,Daily!$A:$I,9)","v":0},{"$f":"VLOOKUP(BB3,Daily!$A:$I,9)","v":1E-3},{"$f":"VLOOKUP(BC3,Daily!$A:$I,9)","v":1E-3},{"$f":"VLOOKUP(BD3,Daily!$A:$I,9)","v":0},{"$f":"VLOOKUP(BE3,Daily!$A:$I,9)","v":0},{"$f":"VLOOKUP(BF3,Daily!$A:$I,9)","v":0},{"$f":"VLOOKUP(BG3,Daily!$A:$I,9)","v":0},{"$f":"VLOOKUP(BH3,Daily!$A:$I,9)","v":0},{"$f":"VLOOKUP(BI3,Daily!$A:$I,9)","v":1E-3},{"$f":"VLOOKUP(BJ3,Daily!$A:$I,9)","v":0},{"$f":"VLOOKUP(BK3,Daily!$A:$I,9)","v":0},{"$f":"VLOOKUP(BL3,Daily!$A:$I,9)","v":0.68},{"$f":"VLOOKUP(BM3,Daily!$A:$I,9)","v":0},{"$f":"VLOOKUP(BN3,Daily!$A:$I,9)","v":0},{"$f":"VLOOKUP(BO3,Daily!$A:$I,9)","v":0},{"$f":"VLOOKUP(BP3,Daily!$A:$I,9)","v":0},{"$f":"VLOOKUP(BQ3,Daily!$A:$I,9)","v":0},{"$f":"VLOOKUP(BR3,Daily!$A:$I,9)","v":0.01},{"$f":"VLOOKUP(BS3,Daily!$A:$I,9)","v":1E-3},{"$f":"VLOOKUP(BT3,Daily!$A:$I,9)","v":0},{"$f":"VLOOKUP(BU3,Daily!$A:$I,9)","v":0.67},{"$f":"VLOOKUP(BV3,Daily!$A:$I,9)","v":0.08},{"$f":"VLOOKUP(BW3,Daily!$A:$I,9)","v":0},{"$f":"VLOOKUP(BX3,Daily!$A:$I,9)","v":1E-3},{"$f":"VLOOKUP(BY3,Daily!$A:$I,9)","v":0},{"$f":"VLOOKUP(BZ3,Daily!$A:$I,9)","v":0},{"$f":"VLOOKUP(CA3,Daily!$A:$I,9)","v":0},{"$f":"VLOOKUP(CB3,Daily!$A:$I,9)","v":0},{"$f":"VLOOKUP(CC3,Daily!$A:$I,9)","v":0},{"$f":"VLOOKUP(CD3,Daily!$A:$I,9)","v":0},null,null,"Calendar Rainfall",{"$error":"#DIV/0!"},{"$f":"IF(CI32>0,L34,0)","v":0},0,0,0,0,0,0,0,0,0,0,0,0,0,0,0,0,0,0,0,0,0,0,0,0,0,0,0,0,0,0,0,{"$f":"IF(DO32>0,AR34,0)","v":0},0,0,0,0,{"$error":"#DIV/0!"},{"$error":"#DIV/0!"},{"$error":"#DIV/0!"},{"$error":"#DIV/0!"},{"$error":"#DIV/0!"},{"$error":"#DIV/0!"},{"$error":"#DIV/0!"},{"$error":"#DIV/0!"},{"$error":"#DIV/0!"},{"$error":"#DIV/0!"},{"$error":"#DIV/0!"},{"$error":"#DIV/0!"},{"$error":"#DIV/0!"},{"$error":"#DIV/0!"},{"$error":"#DIV/0!"},{"$error":"#DIV/0!"},{"$error":"#DIV/0!"},{"$error":"#DIV/0!"},{"$error":"#DIV/0!"},{"$error":"#DIV/0!"},{"$error":"#DIV/0!"},{"$error":"#DIV/0!"},{"$error":"#DIV/0!"},{"$error":"#DIV/0!"},{"$error":"#DIV/0!"},{"$error":"#DIV/0!"},{"$error":"#DIV/0!"},{"$f":"IF(EU32>0,BX34,0)","v":{"$error":"#DIV/0!"}},{"$error":"#DIV/0!"},{"$error":"#DIV/0!"},{"$error":"#DIV/0!"},{"$f":"IF(EY32>0,CB34,0)","v":0},0,0]
[null,null,null,null,null,null,null,null,0.36709090909090913,"Billing","Rainfall",{"$f":"+L34*L27","v":0},{"$f":"+M34*M27","v":0},0,0,0,0,0,0,0,0,0,0,0,0,0,0,0,0,0,0,0,0,0,0,0,0,0,0,0,0,0,0,0,0,0,0,0,0,0,1.7272727272727273E-2,0,0,7.2727272727272734E-4,6.8181818181818176E-4,0,0,0,0,0,4.5454545454545455E-4,0,0,0.24727272727272731,0,0,0,0,0,1.8181818181818182E-3,1.8181818181818183E-4,0,9.1363636363636369E-2,7.2727272727272727E-3,{"$f":"+BW34*BW27","v":0},{"$f":"+BX34*BX27","v":4.5454545454545459E-5},{"$f":"+BY34*BY27","v":0},0,0,{"$f":"+CB34*CB27","v":0},0,0,null,null,"Calendar HDD",{"$error":"#DIV/0!"},{"$f":"IF(CI32>0,L30,0)","v":0},0,0,0,0,0,0,0,0,0,0,0,0,0,0,0,0,0,0,0,0,0,0,0,0,0,0,0,0,0,0,0,{"$f":"IF(DO32>0,AR30,0)","v":0},0,0,0,0,{"$error":"#DIV/0!"},{"$error":"#DIV/0!"},{"$error":"#DIV/0!"},{"$error":"#DIV/0!"},{"$error":"#DIV/0!"},{"$error":"#DIV/0!"},{"$error":"#DIV/0!"},{"$error":"#DIV/0!"},{"$error":"#DIV/0!"},{"$error":"#DIV/0!"},{"$error":"#DIV/0!"},{"$error":"#DIV/0!"},{"$error":"#DIV/0!"},{"$error":"#DIV/0!"},{"$error":"#DIV/0!"},{"$error":"#DIV/0!"},{"$error":"#DIV/0!"},{"$error":"#DIV/0!"},{"$error":"#DIV/0!"},{"$error":"#DIV/0!"},{"$error":"#DIV/0!"},{"$error":"#DIV/0!"},{"$error":"#DIV/0!"},{"$error":"#DIV/0!"},{"$error":"#DIV/0!"},{"$error":"#DIV/0!"},{"$error":"#DIV/0!"},{"$f":"IF(EU32>0,BX30,0)","v":{"$error":"#DIV/0!"}},{"$error":"#DIV/0!"},{"$error":"#DIV/0!"},{"$error":"#DIV/0!"},{"$f":"IF(EY32>0,CB30,0)","v":0},0,0]
[null,null,null,null,null,null,null,null,null,null,null,null,null,null,null,null,null,null,null,null,null,null,null,null,null,null,null,null,null,null,null,null,null,null,null,null,null,null,null,null,null,null,null,null,null,null,null,null,null,null,null,null,null,null,null,null,null,null,null,null,null,null,null,null,null,null,null,null,null,null,null,null,null,null,null,null,null,null,null,null,null,null,null,null,"Calendar CDD",{"$error":"#DIV/0!"},{"$f":"IF(CI32>0,L31,0)","v":0},0,0,0,0,0,0,0,0,0,0,0,0,0,0,0,0,0,0,0,0,0,0,0,0,0,0,0,0,0,0,0,{"$f":"IF(DO32>0,AR31,0)","v":0},0,0,0,0,{"$error":"#DIV/0!"},{"$error":"#DIV/0!"},{"$error":"#DIV/0!"},{"$error":"#DIV/0!"},{"$error":"#DIV/0!"},{"$error":"#DIV/0!"},{"$error":"#DIV/0!"},{"$error":"#DIV/0!"},{"$error":"#DIV/0!"},{"$error":"#DIV/0!"},{"$error":"#DIV/0!"},{"$error":"#DIV/0!"},{"$error":"#DIV/0!"},{"$error":"#DIV/0!"},{"$error":"#DIV/0!"},{"$error":"#DIV/0!"},{"$error":"#DIV/0!"},{"$error":"#DIV/0!"},{"$error":"#DIV/0!"},{"$error":"#DIV/0!"},{"$error":"#DIV/0!"},{"$error":"#DIV/0!"},{"$error":"#DIV/0!"},{"$error":"#DIV/0!"},{"$error":"#DIV/0!"},{"$error":"#DIV/0!"},{"$error":"#DIV/0!"},{"$f":"IF(EU32>0,BX31,0)","v":{"$error":"#DIV/0!"}},{"$error":"#DIV/0!"},{"$error":"#DIV/0!"},{"$error":"#DIV/0!"},{"$f":"IF(EY32>0,CB31,0)","v":0},0,0]
[]
[null,null,null,null,null,null,null,null,null,null,null,null,null,null,null,null,null,null,null,null,null,null,null,null,{"$f":"TEXT(DATE(A1,A2,1),\"mmm yyyy\")&\" - Billing Cycle Temperatures\"","v":"Jan 2022 - Billing Cycle Temperatures"}]
[null,null,null,null,null,null,null,null,null,null,null,null,null,null,null,null,null,null,null,null,null,null,null,null,null,null,null,null,null,null,null,null,null,null,null,null,null,null,null,null,null,null,null,null,null,null,null,null,null,null,null,null,null,null,null,null,null,null,null,null,null,null,null,null,null,null,null,null,null,null,null,null,null,null,null,null,null,null,null,null,null,null,null,null,"Used in prior Month",{"$f":"SUM(CI39:ET39)","v":0},{"$f":"IFERROR(IF(CI2=$A$2,HLOOKUP(CI3,#REF!,23),0),0)","v":0},{"$f":"IFERROR(IF(CJ2=$A$2,HLOOKUP(CJ3,#REF!,23),0),0)","v":0},{"$f":"IFERROR(IF(CK2=$A$2,HLOOKUP(CK3,#REF!,23),0),0)","v":0},{"$f":"IFERROR(IF(CL2=$A$2,HLOOKUP(CL3,#REF!,23),0),0)","v":0},{"$f":"IFERROR(IF(CM2=$A$2,HLOOKUP(CM3,#REF!,23),0),0)","v":0},{"$f":"IFERROR(IF(CN2=$A$2,HLOOKUP(CN3,#REF!,23),0),0)","v":0},{"$f":"IFERROR(IF(CO2=$A$2,HLOOKUP(CO3,#REF!,23),0),0)","v":0},{"$f":"IFERROR(IF(CP2=$A$2,HLOOKUP(CP3,#REF!,23),0),0)","v":0},{"$f":"IFERROR(IF(CQ2=$A$2,HLOOKUP(CQ3,#REF!,23),0),0)","v":0},{"$f":"IFERROR(IF(CR2=$A$2,HLOOKUP(CR3,#REF!,23),0),0)","v":0},{"$f":"IFERROR(IF(CS2=$A$2,HLOOKUP(CS3,#REF!,23),0),0)","v":0},{"$f":"IFERROR(IF(CT2=$A$2,HLOOKUP(CT3,#REF!,23),0),0)","v":0},{"$f":"IFERROR(IF(CU2=$A$2,HLOOKUP(CU3,#REF!,23),0),0)","v":0},{"$f":"IFERROR(IF(CV2=$A$2,HLOOKUP(CV3,#REF!,23),0),0)","v":0},{"$f":"IFERROR(IF(CW2=$A$2,HLOOKUP(CW3,#REF!,23),0),0)","v":0},{"$f":"IFERROR(IF(CX2=$A$2,HLOOKUP(CX3,#REF!,23),0),0)","v":0},{"$f":"IFERROR(IF(CY2=$A$2,HLOOKUP(CY3,#REF!,23),0),0)","v":0},{"$f":"IFERROR(IF(CZ2=$A$2,HLOOKUP(CZ3,#REF!,23),0),0)","v":0},{"$f":"IFERROR(IF(DA2=$A$2,HLOOKUP(DA3,#REF!,23),0),0)","v":0},{"$f":"IFERROR(IF(DB2=$A$2,HLOOKUP(DB3,#REF!,23),0),0)","v":0},{"$f":"IFERROR(IF(DC2=$A$2,HLOOKUP(DC3,#REF!,23),0),0)","v":0},{"$f":"IFERROR(IF(DD2=$A$2,HLOOKUP(DD3,#REF!,23),0),0)","v":0},{"$f":"IFERROR(IF(DE2=$A$2,HLOOKUP(DE3,#REF!,23),0),0)","v":0},{"$f":"IFERROR(IF(DF2=$A$2,HLOOKUP(DF3,#REF!,23),0),0)","v":0},{"$f":"IFERROR(IF(DG2=$A$2,HLOOKUP(DG3,#REF!,23),0),0)","v":0},{"$f":"IFERROR(IF(DH2=$A$2,HLOOKUP(DH3,#REF!,23),0),0)","v":0},{"$f":"IFERROR(IF(DI2=$A$2,HLOOKUP(DI3,#REF!,23),0),0)","v":0},{"$f":"IFERROR(IF(DJ2=$A$2,HLOOKUP(DJ3,#REF!,23),0),0)","v":0},{"$f":"IFERROR(IF(DK2=$A$2,HLOOKUP(DK3,#REF!,23),0),0)","v":0},{"$f":"IFERROR(IF(DL2=$A$2,HLOOKUP(DL3,#REF!,23),0),0)","v":0},{"$f":"IFERROR(IF(DM2=$A$2,HLOOKUP(DM3,#REF!,23),0),0)","v":0},{"$f":"IFERROR(IF(DN2=$A$2,HLOOKUP(DN3,#REF!,23),0),0)","v":0},{"$f":"IFERROR(IF(DO2=$A$2,HLOOKUP(DO3,#REF!,23),0),0)","v":0},{"$f":"IFERROR(IF(DP2=$A$2,HLOOKUP(DP3,#REF!,23),0),0)","v":0},{"$f":"IFERROR(IF(DQ2=$A$2,HLOOKUP(DQ3,#REF!,23),0),0)","v":0},{"$f":"IFERROR(IF(DR2=$A$2,HLOOKUP(DR3,#REF!,23),0),0)","v":0},{"$f":"IFERROR(IF(DS2=$A$2,HLOOKUP(DS3,#REF!,23),0),0)","v":0},{"$f":"IFERROR(IF(DT2=$A$2,HLOOKUP(DT3,#REF!,23),0),0)","v":0},{"$f":"IFERROR(IF(DU2=$A$2,HLOOKUP(DU3,#REF!,23),0),0)","v":0},{"$f":"IFERROR(IF(DV2=$A$2,HLOOKUP(DV3,#REF!,23),0),0)","v":0},{"$f":"IFERROR(IF(DW2=$A$2,HLOOKUP(DW3,#REF!,23),0),0)","v":0},{"$f":"IFERROR(IF(DX2=$A$2,HLOOKUP(DX3,#REF!,23),0),0)","v":0},{"$f":"IFERROR(IF(DY2=$A$2,HLOOKUP(DY3,#REF!,23),0),0)","v":0},{"$f":"IFERROR(IF(DZ2=$A$2,HLOOKUP(DZ3,#REF!,23),0),0)","v":0},{"$f":"IFERROR(IF(EA2=$A$2,HLOOKUP(EA3,#REF!,23),0),0)","v":0},{"$f":"IFERROR(IF(EB2=$A$2,HLOOKUP(EB3,#REF!,23),0),0)","v":0},{"$f":"IFERROR(IF(EC2=$A$2,HLOOKUP(EC3,#REF!,23),0),0)","v":0},{"$f":"IFERROR(IF(ED2=$A$2,HLOOKUP(ED3,#REF!,23),0),0)","v":0},{"$f":"IFERROR(IF(EE2=$A$2,HLOOKUP(EE3,#REF!,23),0),0)","v":0},{"$f":"IFERROR(IF(EF2=$A$2,HLOOKUP(EF3,#REF!,23),0),0)","v":0},{"$f":"IFERROR(IF(EG2=$A$2,HLOOKUP(EG3,#REF!,23),0),0)","v":0},{"$f":"IFERROR(IF(EH2=$A$2,HLOOKUP(EH3,#REF!,23),0),0)","v":0},{"$f":"IFERROR(IF(EI2=$A$2,HLOOKUP(EI3,#REF!,23),0),0)","v":0},{"$f":"IFERROR(IF(EJ2=$A$2,HLOOKUP(EJ3,#REF!,23),0),0)","v":0},{"$f":"IFERROR(IF(EK2=$A$2,HLOOKUP(EK3,#REF!,23),0),0)","v":0},{"$f":"IFERROR(IF(EL2=$A$2,HLOOKUP(EL3,#REF!,23),0),0)","v":0},{"$f":"IFERROR(IF(EM2=$A$2,HLOOKUP(EM3,#REF!,23),0),0)","v":0},{"$f":"IFERROR(IF(EN2=$A$2,HLOOKUP(EN3,#REF!,23),0),0)","v":0},{"$f":"IFERROR(IF(EO2=$A$2,HLOOKUP(EO3,#REF!,23),0),0)","v":0},{"$f":"IFERROR(IF(EP2=$A$2,HLOOKUP(EP3,#REF!,23),0),0)","v":0},{"$f":"IFERROR(IF(EQ2=$A$2,HLOOKUP(EQ3,#REF!,23),0),0)","v":0},{"$f":"IFERROR(IF(ER2=$A$2,HLOOKUP(ER3,#REF!,23),0),0)","v":0},{"$f":"IFERROR(IF(ES2=$A$2,HLOOKUP(ES3,#REF!,23),0),0)","v":0},{"$f":"IFERROR(IF(ET2=$A$2,HLOOKUP(ET3,#REF!,23),0),0)","v":0},{"$f":"IFERROR(IF(EU2=$A$2,HLOOKUP(EU3,#REF!,23),0),0)","v":0},{"$f":"IFERROR(IF(EV2=$A$2,HLOOKUP(EV3,#REF!,23),0),0)","v":0},{"$f":"IFERROR(IF(EW2=$A$2,HLOOKUP(EW3,#REF!,23),0),0)","v":0},{"$f":"IFERROR(IF(EX2=$A$2,HLOOKUP(EX3,#REF!,23),0),0)","v":0},{"$f":"IFERROR(IF(EY2=$A$2,HLOOKUP(EY3,#REF!,23),0),0)","v":0},{"$f":"IFERROR(IF(EZ2=$A$2,HLOOKUP(EZ3,#REF!,23),0),0)","v":0},{"$f":"IFERROR(IF(FA2=$A$2,HLOOKUP(FA3,#REF!,23),0),0)","v":0}]
[null,null,null,null,null,null,null,null,null,null,null,null,null,null,null,null,null,null,null,null,null,null,null,null,null,null,null,null,null,null,null,null,null,null,null,null,null,null,null,null,null,null,null,null,null,null,null,null,null,null,null,null,null,null,null,null,null,null,null,null,null,null,null,null,null,null,null,null,null,null,null,null,null,null,null,null,null,null,null,null,null,null,null,null,"Used in current Month",{"$f":"SUM(CI40:ET40)","v":0},{"$f":"+CI29","v":0},{"$f":"IFERROR(IF(CJ2=$A$2,HLOOKUP(CJ3,FEB!$CI$3:$ET$26,23),0),0)","v":0},{"$f":"IFERROR(IF(CK2=$A$2,HLOOKUP(CK3,FEB!$CI$3:$ET$26,23),0),0)","v":0},{"$f":"IFERROR(IF(CL2=$A$2,HLOOKUP(CL3,FEB!$CI$3:$ET$26,23),0),0)","v":0},{"$f":"IFERROR(IF(CM2=$A$2,HLOOKUP(CM3,FEB!$CI$3:$ET$26,23),0),0)","v":0},{"$f":"IFERROR(IF(CN2=$A$2,HLOOKUP(CN3,FEB!$CI$3:$ET$26,23),0),0)","v":0},{"$f":"IFERROR(IF(CO2=$A$2,HLOOKUP(CO3,FEB!$CI$3:$ET$26,23),0),0)","v":0},{"$f":"IFERROR(IF(CP2=$A$2,HLOOKUP(CP3,FEB!$CI$3:$ET$26,23),0),0)","v":0},{"$f":"IFERROR(IF(CQ2=$A$2,HLOOKUP(CQ3,FEB!$CI$3:$ET$26,23),0),0)","v":0},{"$f":"IFERROR(IF(CR2=$A$2,HLOOKUP(CR3,FEB!$CI$3:$ET$26,23),0),0)","v":0},{"$f":"IFERROR(IF(CS2=$A$2,HLOOKUP(CS3,FEB!$CI$3:$ET$26,23),0),0)","v":0},{"$f":"IFERROR(IF(CT2=$A$2,HLOOKUP(CT3,FEB!$CI$3:$ET$26,23),0),0)","v":0},{"$f":"IFERROR(IF(CU2=$A$2,HLOOKUP(CU3,FEB!$CI$3:$ET$26,23),0),0)","v":0},{"$f":"IFERROR(IF(CV2=$A$2,HLOOKUP(CV3,FEB!$CI$3:$ET$26,23),0),0)","v":0},{"$f":"IFERROR(IF(CW2=$A$2,HLOOKUP(CW3,FEB!$CI$3:$ET$26,23),0),0)","v":0},{"$f":"IFERROR(IF(CX2=$A$2,HLOOKUP(CX3,FEB!$CI$3:$ET$26,23),0),0)","v":0},{"$f":"IFERROR(IF(CY2=$A$2,HLOOKUP(CY3,FEB!$CI$3:$ET$26,23),0),0)","v":0},{"$f":"IFERROR(IF(CZ2=$A$2,HLOOKUP(CZ3,FEB!$CI$3:$ET$26,23),0),0)","v":0},{"$f":"IFERROR(IF(DA2=$A$2,HLOOKUP(DA3,FEB!$CI$3:$ET$26,23),0),0)","v":0},{"$f":"IFERROR(IF(DB2=$A$2,HLOOKUP(DB3,FEB!$CI$3:$ET$26,23),0),0)","v":0},{"$f":"IFERROR(IF(DC2=$A$2,HLOOKUP(DC3,FEB!$CI$3:$ET$26,23),0),0)","v":0},{"$f":"IFERROR(IF(DD2=$A$2,HLOOKUP(DD3,FEB!$CI$3:$ET$26,23),0),0)","v":0},{"$f":"IFERROR(IF(DE2=$A$2,HLOOKUP(DE3,FEB!$CI$3:$ET$26,23),0),0)","v":0},{"$f":"IFERROR(IF(DF2=$A$2,HLOOKUP(DF3,FEB!$CI$3:$ET$26,23),0),0)","v":0},{"$f":"IFERROR(IF(DG2=$A$2,HLOOKUP(DG3,FEB!$CI$3:$ET$26,23),0),0)","v":0},{"$f":"IFERROR(IF(DH2=$A$2,HLOOKUP(DH3,FEB!$CI$3:$ET$26,23),0),0)","v":0},{"$f":"IFERROR(IF(DI2=$A$2,HLOOKUP(DI3,FEB!$CI$3:$ET$26,23),0),0)","v":0},{"$f":"IFERROR(IF(DJ2=$A$2,HLOOKUP(DJ3,FEB!$CI$3:$ET$26,23),0),0)","v":0},{"$f":"IFERROR(IF(DK2=$A$2,HLOOKUP(DK3,FEB!$CI$3:$ET$26,23),0),0)","v":0},{"$f":"IFERROR(IF(DL2=$A$2,HLOOKUP(DL3,FEB!$CI$3:$ET$26,23),0),0)","v":0},{"$f":"IFERROR(IF(DM2=$A$2,HLOOKUP(DM3,FEB!$CI$3:$ET$26,23),0),0)","v":0},{"$f":"IFERROR(IF(DN2=$A$2,HLOOKUP(DN3,FEB!$CI$3:$ET$26,23),0),0)","v":0},{"$f":"IFERROR(IF(DO2=$A$2,HLOOKUP(DO3,FEB!$CI$3:$ET$26,23),0),0)","v":0},{"$f":"IFERROR(IF(DP2=$A$2,HLOOKUP(DP3,FEB!$CI$3:$ET$26,23),0),0)","v":0},{"$f":"IFERROR(IF(DQ2=$A$2,HLOOKUP(DQ3,FEB!$CI$3:$ET$26,23),0),0)","v":0},{"$f":"IFERROR(IF(DR2=$A$2,HLOOKUP(DR3,FEB!$CI$3:$ET$26,23),0),0)","v":0},{"$f":"IFERROR(IF(DS2=$A$2,HLOOKUP(DS3,FEB!$CI$3:$ET$26,23),0),0)","v":0},{"$f":"IFERROR(IF(DT2=$A$2,HLOOKUP(DT3,FEB!$CI$3:$ET$26,23),0),0)","v":0},{"$f":"IFERROR(IF(DU2=$A$2,HLOOKUP(DU3,FEB!$CI$3:$ET$26,23),0),0)","v":0},{"$f":"IFERROR(IF(DV2=$A$2,HLOOKUP(DV3,FEB!$CI$3:$ET$26,23),0),0)","v":0},{"$f":"IFERROR(IF(DW2=$A$2,HLOOKUP(DW3,FEB!$CI$3:$ET$26,23),0),0)","v":0},{"$f":"IFERROR(IF(DX2=$A$2,HLOOKUP(DX3,FEB!$CI$3:$ET$26,23),0),0)","v":0},{"$f":"IFERROR(IF(DY2=$A$2,HLOOKUP(DY3,FEB!$CI$3:$ET$26,23),0),0)","v":0},{"$f":"IFERROR(IF(DZ2=$A$2,HLOOKUP(DZ3,FEB!$CI$3:$ET$26,23),0),0)","v":0},{"$f":"IFERROR(IF(EA2=$A$2,HLOOKUP(EA3,FEB!$CI$3:$ET$26,23),0),0)","v":0},{"$f":"IFERROR(IF(EB2=$A$2,HLOOKUP(EB3,FEB!$CI$3:$ET$26,23),0),0)","v":0},{"$f":"IFERROR(IF(EC2=$A$2,HLOOKUP(EC3,FEB!$CI$3:$ET$26,23),0),0)","v":0},{"$f":"IFERROR(IF(ED2=$A$2,HLOOKUP(ED3,FEB!$CI$3:$ET$26,23),0),0)","v":0},{"$f":"IFERROR(IF(EE2=$A$2,HLOOKUP(EE3,FEB!$CI$3:$ET$26,23),0),0)","v":0},{"$f":"IFERROR(IF(EF2=$A$2,HLOOKUP(EF3,FEB!$CI$3:$ET$26,23),0),0)","v":0},{"$f":"IFERROR(IF(EG2=$A$2,HLOOKUP(EG3,FEB!$CI$3:$ET$26,23),0),0)","v":0},{"$f":"IFERROR(IF(EH2=$A$2,HLOOKUP(EH3,FEB!$CI$3:$ET$26,23),0),0)","v":0},{"$f":"IFERROR(IF(EI2=$A$2,HLOOKUP(EI3,FEB!$CI$3:$ET$26,23),0),0)","v":0},{"$f":"IFERROR(IF(EJ2=$A$2,HLOOKUP(EJ3,FEB!$CI$3:$ET$26,23),0),0)","v":0},{"$f":"IFERROR(IF(EK2=$A$2,HLOOKUP(EK3,FEB!$CI$3:$ET$26,23),0),0)","v":0},{"$f":"IFERROR(IF(EL2=$A$2,HLOOKUP(EL3,FEB!$CI$3:$ET$26,23),0),0)","v":0},{"$f":"IFERROR(IF(EM2=$A$2,HLOOKUP(EM3,FEB!$CI$3:$ET$26,23),0),0)","v":0},{"$f":"IFERROR(IF(EN2=$A$2,HLOOKUP(EN3,FEB!$CI$3:$ET$26,23),0),0)","v":0},{"$f":"IFERROR(IF(EO2=$A$2,HLOOKUP(EO3,FEB!$CI$3:$ET$26,23),0),0)","v":0},{"$f":"IFERROR(IF(EP2=$A$2,HLOOKUP(EP3,FEB!$CI$3:$ET$26,23),0),0)","v":0},{"$f":"IFERROR(IF(EQ2=$A$2,HLOOKUP(EQ3,FEB!$CI$3:$ET$26,23),0),0)","v":0},{"$f":"IFERROR(IF(ER2=$A$2,HLOOKUP(ER3,FEB!$CI$3:$ET$26,23),0),0)","v":0},{"$f":"IFERROR(IF(ES2=$A$2,HLOOKUP(ES3,FEB!$CI$3:$ET$26,23),0),0)","v":0},{"$f":"IFERROR(IF(ET2=$A$2,HLOOKUP(ET3,FEB!$CI$3:$ET$26,23),0),0)","v":0},{"$f":"IFERROR(IF(EU2=$A$2,HLOOKUP(EU3,FEB!$CI$3:$ET$26,23),0),0)","v":0},{"$f":"IFERROR(IF(EV2=$A$2,HLOOKUP(EV3,FEB!$CI$3:$ET$26,23),0),0)","v":0},{"$f":"IFERROR(IF(EW2=$A$2,HLOOKUP(EW3,FEB!$CI$3:$ET$26,23),0),0)","v":0},{"$f":"IFERROR(IF(EX2=$A$2,HLOOKUP(EX3,FEB!$CI$3:$ET$26,23),0),0)","v":0},{"$f":"IFERROR(IF(EY2=$A$2,HLOOKUP(EY3,FEB!$CI$3:$ET$26,23),0),0)","v":0},{"$f":"IFERROR(IF(EZ2=$A$2,HLOOKUP(EZ3,FEB!$CI$3:$ET$26,23),0),0)","v":0},{"$f":"IFERROR(IF(FA2=$A$2,HLOOKUP(FA3,FEB!$CI$3:$ET$26,23),0),0)","v":0}]
[null,null,null,null,null,null,"Actual","Budget","Variance","Var %",null,null,null,null,null,null,null,null,null,null,null,null,null,null,null,null,null,null,null,null,null,null,null,null,null,null,null,null,null,null,null,null,null,null,null,null,null,null,null,null,null,null,null,null,null,null,null,null,null,null,null,null,null,null,null,null,null,null,null,null,null,null,null,null,null,null,null,null,null,null,null,null,null,null,"U",null,{"$f":"+CI30","v":0}]
[null,null,null,null,"Calendar","HDD",{"$f":"I30","v":133.5},{"$f":"VLOOKUP($A$2,Daily!$AB$2:$AF$13,4)","v":172.35},{"$f":"G42-H42","v":-38.849999999999994},{"$f":"G42/H42-1","v":-0.22541340295909484},null,null,null,null,null,null,null,null,null,null,null,null,null,null,null,null,null,null,null,null,null,null,null,null,null,null,null,null,null,null,null,null,null,null,null,null,null,null,null,null,null,null,null,null,null,null,null,null,null,null,null,null,null,null,null,null,null,null,null,null,null,null,null,null,null,null,null,null,null,null,null,null,null,null,"mth after that",{"$f":"SUM(CI42:ET42)","v":0},{"$f":"IFERROR(IF(CI2=$A$2,HLOOKUP(CI3,MAR!$CI$3:$ET$26,23),0),0)","v":0},{"$f":"IFERROR(IF(CJ2=$A$2,HLOOKUP(CJ3,MAR!$CI$3:$ET$26,23),0),0)","v":0},{"$f":"IFERROR(IF(CK2=$A$2,HLOOKUP(CK3,MAR!$CI$3:$ET$26,23),0),0)","v":0},{"$f":"IFERROR(IF(CL2=$A$2,HLOOKUP(CL3,MAR!$CI$3:$ET$26,23),0),0)","v":0},{"$f":"IFERROR(IF(CM2=$A$2,HLOOKUP(CM3,MAR!$CI$3:$ET$26,23),0),0)","v":0},{"$f":"IFERROR(IF(CN2=$A$2,HLOOKUP(CN3,MAR!$CI$3:$ET$26,23),0),0)","v":0},{"$f":"IFERROR(IF(CO2=$A$2,HLOOKUP(CO3,MAR!$CI$3:$ET$26,23),0),0)","v":0},{"$f":"IFERROR(IF(CP2=$A$2,HLOOKUP(CP3,MAR!$CI$3:$ET$26,23),0),0)","v":0},{"$f":"IFERROR(IF(CQ2=$A$2,HLOOKUP(CQ3,MAR!$CI$3:$ET$26,23),0),0)","v":0},{"$f":"IFERROR(IF(CR2=$A$2,HLOOKUP(CR3,MAR!$CI$3:$ET$26,23),0),0)","v":0},{"$f":"IFERROR(IF(CS2=$A$2,HLOOKUP(CS3,MAR!$CI$3:$ET$26,23),0),0)","v":0},{"$f":"IFERROR(IF(CT2=$A$2,HLOOKUP(CT3,MAR!$CI$3:$ET$26,23),0),0)","v":0},{"$f":"IFERROR(IF(CU2=$A$2,HLOOKUP(CU3,MAR!$CI$3:$ET$26,23),0),0)","v":0},{"$f":"IFERROR(IF(CV2=$A$2,HLOOKUP(CV3,MAR!$CI$3:$ET$26,23),0),0)","v":0},{"$f":"IFERROR(IF(CW2=$A$2,HLOOKUP(CW3,MAR!$CI$3:$ET$26,23),0),0)","v":0},{"$f":"IFERROR(IF(CX2=$A$2,HLOOKUP(CX3,MAR!$CI$3:$ET$26,23),0),0)","v":0},{"$f":"IFERROR(IF(CY2=$A$2,HLOOKUP(CY3,MAR!$CI$3:$ET$26,23),0),0)","v":0},{"$f":"IFERROR(IF(CZ2=$A$2,HLOOKUP(CZ3,MAR!$CI$3:$ET$26,23),0),0)","v":0},{"$f":"IFERROR(IF(DA2=$A$2,HLOOKUP(DA3,MAR!$CI$3:$ET$26,23),0),0)","v":0},{"$f":"IFERROR(IF(DB2=$A$2,HLOOKUP(DB3,MAR!$CI$3:$ET$26,23),0),0)","v":0},{"$f":"IFERROR(IF(DC2=$A$2,HLOOKUP(DC3,MAR!$CI$3:$ET$26,23),0),0)","v":0},{"$f":"IFERROR(IF(DD2=$A$2,HLOOKUP(DD3,MAR!$CI$3:$ET$26,23),0),0)","v":0},{"$f":"IFERROR(IF(DE2=$A$2,HLOOKUP(DE3,MAR!$CI$3:$ET$26,23),0),0)","v":0},{"$f":"IFERROR(IF(DF2=$A$2,HLOOKUP(DF3,MAR!$CI$3:$ET$26,23),0),0)","v":0},{"$f":"IFERROR(IF(DG2=$A$2,HLOOKUP(DG3,MAR!$CI$3:$ET$26,23),0),0)","v":0},{"$f":"IFERROR(IF(DH2=$A$2,HLOOKUP(DH3,MAR!$CI$3:$ET$26,23),0),0)","v":0},{"$f":"IFERROR(IF(DI2=$A$2,HLOOKUP(DI3,MAR!$CI$3:$ET$26,23),0),0)","v":0},{"$f":"IFERROR(IF(DJ2=$A$2,HLOOKUP(DJ3,MAR!$CI$3:$ET$26,23),0),0)","v":0},{"$f":"IFERROR(IF(DK2=$A$2,HLOOKUP(DK3,MAR!$CI$3:$ET$26,23),0),0)","v":0},{"$f":"IFERROR(IF(DL2=$A$2,HLOOKUP(DL3,MAR!$CI$3:$ET$26,23),0),0)","v":0},{"$f":"IFERROR(IF(DM2=$A$2,HLOOKUP(DM3,MAR!$CI$3:$ET$26,23),0),0)","v":0},{"$f":"IFERROR(IF(DN2=$A$2,HLOOKUP(DN3,MAR!$CI$3:$ET$26,23),0),0)","v":0},{"$f":"IFERROR(IF(DO2=$A$2,HLOOKUP(DO3,MAR!$CI$3:$ET$26,23),0),0)","v":0},{"$f":"IFERROR(IF(DP2=$A$2,HLOOKUP(DP3,MAR!$CI$3:$ET$26,23),0),0)","v":0},{"$f":"IFERROR(IF(DQ2=$A$2,HLOOKUP(DQ3,MAR!$CI$3:$ET$26,23),0),0)","v":0},{"$f":"IFERROR(IF(DR2=$A$2,HLOOKUP(DR3,MAR!$CI$3:$ET$26,23),0),0)","v":0},{"$f":"IFERROR(IF(DS2=$A$2,HLOOKUP(DS3,MAR!$CI$3:$ET$26,23),0),0)","v":0},{"$f":"IFERROR(IF(DT2=$A$2,HLOOKUP(DT3,MAR!$CI$3:$ET$26,23),0),0)","v":0},{"$f":"IFERROR(IF(DU2=$A$2,HLOOKUP(DU3,MAR!$CI$3:$ET$26,23),0),0)","v":0},{"$f":"IFERROR(IF(DV2=$A$2,HLOOKUP(DV3,MAR!$CI$3:$ET$26,23),0),0)","v":0},{"$f":"IFERROR(IF(DW2=$A$2,HLOOKUP(DW3,MAR!$CI$3:$ET$26,23),0),0)","v":0},{"$f":"IFERROR(IF(DX2=$A$2,HLOOKUP(DX3,MAR!$CI$3:$ET$26,23),0),0)","v":0},{"$f":"IFERROR(IF(DY2=$A$2,HLOOKUP(DY3,MAR!$CI$3:$ET$26,23),0),0)","v":0},{"$f":"IFERROR(IF(DZ2=$A$2,HLOOKUP(DZ3,MAR!$CI$3:$ET$26,23),0),0)","v":0},{"$f":"IFERROR(IF(EA2=$A$2,HLOOKUP(EA3,MAR!$CI$3:$ET$26,23),0),0)","v":0},{"$f":"IFERROR(IF(EB2=$A$2,HLOOKUP(EB3,MAR!$CI$3:$ET$26,23),0),0)","v":0},{"$f":"IFERROR(IF(EC2=$A$2,HLOOKUP(EC3,MAR!$CI$3:$ET$26,23),0),0)","v":0},{"$f":"IFERROR(IF(ED2=$A$2,HLOOKUP(ED3,MAR!$CI$3:$ET$26,23),0),0)","v":0},{"$f":"IFERROR(IF(EE2=$A$2,HLOOKUP(EE3,MAR!$CI$3:$ET$26,23),0),0)","v":0},{"$f":"IFERROR(IF(EF2=$A$2,HLOOKUP(EF3,MAR!$CI$3:$ET$26,23),0),0)","v":0},{"$f":"IFERROR(IF(EG2=$A$2,HLOOKUP(EG3,MAR!$CI$3:$ET$26,23),0),0)","v":0},{"$f":"IFERROR(IF(EH2=$A$2,HLOOKUP(EH3,MAR!$CI$3:$ET$26,23),0),0)","v":0},{"$f":"IFERROR(IF(EI2=$A$2,HLOOKUP(EI3,MAR!$CI$3:$ET$26,23),0),0)","v":0},{"$f":"IFERROR(IF(EJ2=$A$2,HLOOKUP(EJ3,MAR!$CI$3:$ET$26,23),0),0)","v":0},{"$f":"IFERROR(IF(EK2=$A$2,HLOOKUP(EK3,MAR!$CI$3:$ET$26,23),0),0)","v":0},{"$f":"IFERROR(IF(EL2=$A$2,HLOOKUP(EL3,MAR!$CI$3:$ET$26,23),0),0)","v":0},{"$f":"IFERROR(IF(EM2=$A$2,HLOOKUP(EM3,MAR!$CI$3:$ET$26,23),0),0)","v":0},{"$f":"IFERROR(IF(EN2=$A$2,HLOOKUP(EN3,MAR!$CI$3:$ET$26,23),0),0)","v":0},{"$f":"IFERROR(IF(EO2=$A$2,HLOOKUP(EO3,MAR!$CI$3:$ET$26,23),0),0)","v":0},{"$f":"IFERROR(IF(EP2=$A$2,HLOOKUP(EP3,MAR!$CI$3:$ET$26,23),0),0)","v":0},{"$f":"IFERROR(IF(EQ2=$A$2,HLOOKUP(EQ3,MAR!$CI$3:$ET$26,23),0),0)","v":0},{"$f":"IFERROR(IF(ER2=$A$2,HLOOKUP(ER3,MAR!$CI$3:$ET$26,23),0),0)","v":0},{"$f":"IFERROR(IF(ES2=$A$2,HLOOKUP(ES3,MAR!$CI$3:$ET$26,23),0),0)","v":0},{"$f":"IFERROR(IF(ET2=$A$2,HLOOKUP(ET3,MAR!$CI$3:$ET$26,23),0),0)","v":0},{"$f":"IFERROR(IF(EU2=$A$2,HLOOKUP(EU3,MAR!$CI$3:$ET$26,23),0),0)","v":0},{"$f":"IFERROR(IF(EV2=$A$2,HLOOKUP(EV3,MAR!$CI$3:$ET$26,23),0),0)","v":0},{"$f":"IFERROR(IF(EW2=$A$2,HLOOKUP(EW3,MAR!$CI$3:$ET$26,23),0),0)","v":0},{"$f":"IFERROR(IF(EX2=$A$2,HLOOKUP(EX3,MAR!$CI$3:$ET$26,23),0),0)","v":0},{"$f":"IFERROR(IF(EY2=$A$2,HLOOKUP(EY3,MAR!$CI$3:$ET$26,23),0),0)","v":0},{"$f":"IFERROR(IF(EZ2=$A$2,HLOOKUP(EZ3,MAR!$CI$3:$ET$26,23),0),0)","v":0},{"$f":"IFERROR(IF(FA2=$A$2,HLOOKUP(FA3,MAR!$CI$3:$ET$26,23),0),0)","v":0}]
[null,null,null,null,"Calendar","CDD",{"$f":"I31","v":60},{"$f":"VLOOKUP($A$2,Daily!$AB$2:$AF$13,5)","v":54.9},{"$f":"G43-H43","v":5.1000000000000014},{"$f":"G43/H43-1","v":9.2896174863388081E-2}]
[null,null,null,null,"Billing","HDD",{"$f":"I32","v":31.409090909090907},{"$f":"VLOOKUP($A$2,Daily!$AB$2:$AF$13,2)","v":148},-116.59090909090909,-0.78777641277641286]
[null,null,null,null,"Billing","CDD",{"$f":"I33","v":174.40909090909091},{"$f":"VLOOKUP($A$2,Daily!$AB$2:$AF$13,3)","v":75},99.409090909090907,1.3254545454545452,null,null,null,null,null,null,null,null,null,null,null,null,null,null,null,null,null,null,null,null,null,null,null,null,null,null,null,null,null,null,null,null,null,null,null,null,null,null,null,null,null,null,null,null,null,null,null,null,null,null,null,null,null,null,null,null,null,null,null,null,null,null,null,null,null,null,null,null,null,null,null,null,null,null,null,null,{"$f":"+CI1","v":2021},2021,2021,2021,2021,2021,2021,2021,2021,2021,2021,2021,2021,2021,2021,2021,2021,2021,2021,2021,2021,2021,2021,2021,2021,2021,2021,2021,2021,2021,2021,2021,{"$f":"+DO1","v":2021},2021,2021,2021,2021,2022,2022,2022,2022,2022,2022,2022,2022,2022,2022,2022,2022,2022,2022,2022,2022,2022,2022,2022,2022,2022,2022,2022,2022,2022,2022,2022,2022,{"$f":"+EV1","v":2022},2022,2022,{"$f":"+EY1","v":2022},2022,2022]
[null,null,null,null,null,null,null,null,null,null,null,null,null,null,null,null,null,null,null,null,null,null,null,null,null,null,null,null,null,null,null,null,null,null,null,null,null,null,null,null,null,null,null,null,null,null,null,null,null,null,null,null,null,null,null,null,null,null,null,null,null,null,null,null,null,null,null,null,null,null,null,null,null,null,null,null,null,null,null,null,null,null,null,null,null,null,{"$f":"+CI2","v":11},11,11,11,11,11,12,12,12,12,12,12,12,12,12,12,12,12,12,12,12,12,12,12,12,12,12,12,12,12,12,12,{"$f":"+DO2","v":12},12,12,12,12,1,1,1,1,1,1,1,1,1,1,1,1,1,1,1,1,1,1,1,1,1,1,1,1,1,1,1,1,{"$f":"+EV2","v":1},1,1,{"$f":"+EY2","v":2},2,2]
[null,null,null,null,null,null,null,null,null,null,null,null,null,null,null,null,null,null,null,null,null,null,null,null,null,null,null,null,null,null,null,null,null,null,null,null,null,null,null,null,null,null,null,null,null,null,null,null,null,null,null,null,null,null,null,null,null,null,null,null,null,null,null,null,null,null,null,null,null,null,null,null,null,null,null,null,null,null,null,null,null,null,null,null,null,"Cycle",{"$f":"+CI3","v":"2021-11-25"},"2021-11-26","2021-11-27","2021-11-28","2021-11-29","2021-11-30","2021-12-01","2021-12-02","2021-12-03","2021-12-04","2021-12-05","2021-12-06","2021-12-07","2021-12-08","2021-12-09","2021-12-10","2021-12-11","2021-12-12","2021-12-13","2021-12-14","2021-12-15","2021-12-16","2021-12-17","2021-12-18","2021-12-19","2021-12-20","2021-12-21","2021-12-22","2021-12-23","2021-12-24","2021-12-25","2021-12-26",{"$f":"+DO3","v":"2021-12-27"},"2021-12-28","2021-12-29","2021-12-30","2021-12-31","2022-01-01","2022-01-02","2022-01-03","2022-01-04","2022-01-05","2022-01-06","2022-01-07","2022-01-08","2022-01-09","2022-01-10","2022-01-11","2022-01-12","2022-01-13","2022-01-14","2022-01-15","2022-01-16","2022-01-17","2022-01-18","2022-01-19","2022-01-20","2022-01-21","2022-01-22","2022-01-23","2022-01-24","2022-01-25","2022-01-26","2022-01-27","2022-01-28",{"$f":"+EV3","v":"2022-01-29"},"2022-01-30","2022-01-31",{"$f":"+EY3","v":"2022-02-01"},"2022-02-02","2022-02-03"]
[null,null,null,null,null,null,"Actual","Budget","Variance","Var %",null,null,null,null,null,null,null,null,null,null,null,null,null,null,null,null,null,null,null,null,null,null,null,null,null,null,null,null,null,null,null,null,null,null,null,null,null,null,null,null,null,null,null,null,null,null,null,null,null,null,null,null,null,null,null,null,null,null,null,null,null,null,null,null,null,null,null,null,null,null,null,null,null,null,{"$f":"SUM(CI48:FA48)","v":0},1,{"$f":"IF(L4=1,CI$71,0)","v":0},{"$f":"IF(M4=1,CJ$71,0)","v":0},{"$f":"IF(N4=1,CK$71,0)","v":0},{"$f":"IF(O4=1,CL$71,0)","v":0},{"$f":"IF(P4=1,CM$71,0)","v":0},{"$f":"IF(Q4=1,CN$71,0)","v":0},{"$f":"IF(R4=1,CO$71,0)","v":0},{"$f":"IF(S4=1,CP$71,0)","v":0},{"$f":"IF(T4=1,CQ$71,0)","v":0},{"$f":"IF(U4=1,CR$71,0)","v":0},{"$f":"IF(V4=1,CS$71,0)","v":0},{"$f":"IF(W4=1,CT$71,0)","v":0},{"$f":"IF(X4=1,CU$71,0)","v":0},{"$f":"IF(Y4=1,CV$71,0)","v":0},{"$f":"IF(Z4=1,CW$71,0)","v":0},{"$f":"IF(AA4=1,CX$71,0)","v":0},{"$f":"IF(AB4=1,CY$71,0)","v":0},{"$f":"IF(AC4=1,CZ$71,0)","v":0},{"$f":"IF(AD4=1,DA$71,0)","v":0},{"$f":"IF(AE4=1,DB$71,0)","v":0},{"$f":"IF(AF4=1,DC$71,0)","v":0},{"$f":"IF(AG4=1,DD$71,0)","v":0},{"$f":"IF(AH4=1,DE$71,0)","v":0},{"$f":"IF(AI4=1,DF$71,0)","v":0},{"$f":"IF(AJ4=1,DG$71,0)","v":0},{"$f":"IF(AK4=1,DH$71,0)","v":0},{"$f":"IF(AL4=1,DI$71,0)","v":0},{"$f":"IF(AM4=1,DJ$71,0)","v":0},{"$f":"IF(AN4=1,DK$71,0)","v":0},{"$f":"IF(AO4=1,DL$71,0)","v":0},{"$f":"IF(AP4=1,DM$71,0)","v":0},{"$f":"IF(AQ4=1,DN$71,0)","v":0},{"$f":"IF(AR4=1,DO$71,0)","v":0},{"$f":"IF(AS4=1,DP$71,0)","v":0},{"$f":"IF(AT4=1,DQ$71,0)","v":0},{"$f":"IF(AU4=1,DR$71,0)","v":0},{"$f":"IF(AV4=1,DS$71,0)","v":0},{"$f":"IF(AW4=1,DT$71,0)","v":0},{"$f":"IF(AX4=1,DU$71,0)","v":0},{"$f":"IF(AY4=1,DV$71,0)","v":0},{"$f":"IF(AZ4=1,DW$71,0)","v":0},{"$f":"IF(BA4=1,DX$71,0)","v":0},{"$f":"IF(BB4=1,DY$71,0)","v":0},{"$f":"IF(BC4=1,DZ$71,0)","v":0},{"$f":"IF(BD4=1,EA$71,0)","v":0},{"$f":"IF(BE4=1,EB$71,0)","v":0},{"$f":"IF(BF4=1,EC$71,0)","v":0},{"$f":"IF(BG4=1,ED$71,0)","v":0},{"$f":"IF(BH4=1,EE$71,0)","v":0},{"$f":"IF(BI4=1,EF$71,0)","v":0},{"$f":"IF(BJ4=1,EG$71,0)","v":0},{"$f":"IF(BK4=1,EH$71,0)","v":0},{"$f":"IF(BL4=1,EI$71,0)","v":0},{"$f":"IF(BM4=1,EJ$71,0)","v":0},{"$f":"IF(BN4=1,EK$71,0)","v":0},{"$f":"IF(BO4=1,EL$71,0)","v":0},{"$f":"IF(BP4=1,EM$71,0)","v":0},{"$f":"IF(BQ4=1,EN$71,0)","v":0},{"$f":"IF(BR4=1,EO$71,0)","v":0},{"$f":"IF(BS4=1,EP$71,0)","v":0},{"$f":"IF(BT4=1,EQ$71,0)","v":0},{"$f":"IF(BU4=1,ER$71,0)","v":0},{"$f":"IF(BV4=1,ES$71,0)","v":0},{"$f":"IF(BW4=1,ET$71,0)","v":0},{"$f":"IF(BX4=1,EU$71,0)","v":0},{"$f":"IF(BY4=1,EV$71,0)","v":0},{"$f":"IF(BZ4=1,EW$71,0)","v":0},{"$f":"IF(CA4=1,EX$71,0)","v":0},{"$f":"IF(CB4=1,EY$71,0)","v":0},{"$f":"IF(CC4=1,EZ$71,0)","v":0},{"$f":"IF(CD4=1,FA$71,0)","v":0}]
[null,null,null,null,"Calendar","Total DD",{"$f":"G42+G43","v":193.5},{"$f":"H42+H43","v":227.25},{"$f":"G49-H49","v":-33.75},{"$f":"G49/H49-1","v":-0.14851485148514854},null,null,null,null,null,null,null,null,null,null,null,null,null,null,null,null,null,null,null,null,null,null,null,null,null,null,null,null,null,null,null,null,null,null,null,null,null,null,null,null,null,null,null,null,null,null,null,null,null,null,null,null,null,null,null,null,null,null,null,null,null,null,null,null,null,null,null,null,null,null,null,null,null,null,{"$f":"SUM(CI49:FA49)","v":0},2,0,0,0,0,0,0,0,0,0,0,0,0,0,0,0,0,0,0,0,0,0,0,0,0,0,0,0,0,0,0,0,0,0,0,0,0,0,0,0,0,0,0,0,0,0,0,0,0,0,0,0,0,0,0,0,0,0,0,0,0,0,0,0,0,0,0,0,0,0,0,0]
[null,null,null,null,"Billing","Total DD",{"$f":"G44+G45","v":205.81818181818181},{"$f":"H44+H45","v":223},{"$f":"G50-H50","v":-17.181818181818187},{"$f":"G50/H50-1","v":-7.7048512026090532E-2},null,null,null,null,null,null,null,null,null,null,null,null,null,null,null,null,null,null,null,null,null,null,null,null,null,null,null,null,null,null,null,null,null,null,null,null,null,null,null,null,null,null,null,null,null,null,null,null,null,null,null,null,null,null,null,null,null,null,null,null,null,null,null,null,null,null,null,null,null,null,null,null,null,null,0,3,0,0,0,0,0,0,0,0,0,0,0,0,0,0,0,0,0,0,0,0,0,0,0,0,0,0,0,0,0,0,0,0,0,0,0,0,0,0,0,0,0,0,0,0,0,0,0,0,0,0,0,0,0,0,0,0,0,0,0,0,0,0,0,0,0,0,0,0,0,0,0]
[null,null,null,null,null,null,null,null,null,null,null,null,null,null,null,null,null,null,null,null,null,null,null,null,null,null,null,null,null,null,null,null,null,null,null,null,null,null,null,null,null,null,null,null,null,null,null,null,null,null,null,null,null,null,null,null,null,null,null,null,null,null,null,null,null,null,null,null,null,null,null,null,null,null,null,null,null,null,null,null,null,null,null,null,0,4,0,0,0,0,0,0,0,0,0,0,0,0,0,0,0,0,0,0,0,0,0,0,0,0,0,0,0,0,0,0,0,0,0,0,0,0,0,0,0,0,0,0,0,0,0,0,0,0,0,0,0,0,0,0,0,0,0,0,0,0,0,0,0,0,0,0,0,0,0,0,0]
[null,null,null,null,null,null,null,null,null,null,null,null,null,null,null,null,null,null,null,null,null,null,null,null,null,null,null,null,null,null,null,null,null,null,null,null,null,null,null,null,null,null,null,null,null,null,null,null,null,null,null,null,null,null,null,null,null,null,null,null,null,null,null,null,null,null,null,null,null,null,null,null,null,null,null,null,null,null,null,null,null,null,null,null,0,5,0,0,0,0,0,0,0,0,0,0,0,0,0,0,0,0,0,0,0,0,0,0,0,0,0,0,0,0,0,0,0,0,0,0,0,0,0,0,0,0,0,0,0,0,0,0,0,0,0,0,0,0,0,0,0,0,0,0,0,0,0,0,0,0,0,0,0,0,0,0,0]
[null,null,null,null,null,null,null,null,null,null,null,null,null,null,null,null,null,null,null,null,null,null,null,null,null,null,null,null,null,null,null,null,null,null,null,null,null,null,null,null,null,null,null,null,null,null,null,null,null,null,null,null,null,null,null,null,null,null,null,null,null,null,null,null,null,null,null,null,null,null,null,null,null,null,null,null,null,null,null,null,null,null,null,null,0,6,0,0,0,0,0,0,0,0,0,0,0,0,0,0,0,0,0,0,0,0,0,0,0,0,0,0,0,0,0,0,0,0,0,0,0,0,0,0,0,0,0,0,0,0,0,0,0,0,0,0,0,0,0,0,0,0,0,0,0,0,0,0,0,0,0,0,0,0,0,0,0]
[null,null,null,null,null,null,null,null,null,null,null,null,null,null,null,null,null,null,null,null,null,null,null,null,null,null,null,null,null,null,null,null,null,null,null,null,null,null,null,null,null,null,null,null,null,null,null,null,null,null,null,null,null,null,null,null,null,null,null,null,null,null,null,null,null,null,null,null,null,null,null,null,null,null,null,null,null,null,null,null,null,null,null,null,0,7,0,0,0,0,0,0,0,0,0,0,0,0,0,0,0,0,0,0,0,0,0,0,0,0,0,0,0,0,0,0,0,0,0,0,0,0,0,0,0,0,0,0,0,0,0,0,0,0,0,0,0,0,0,0,0,0,0,0,0,0,0,0,0,0,0,0,0,0,0,0,0]
[null,null,null,null,null,null,null,null,null,null,null,null,null,null,null,null,null,null,null,null,null,null,null,null,null,null,null,null,null,null,null,null,null,null,null,null,null,null,null,null,null,null,null,null,null,null,null,null,null,null,null,null,null,null,null,null,null,null,null,null,null,null,null,null,null,null,null,null,null,null,null,null,null,null,null,null,null,null,null,null,null,null,null,null,0,8,0,0,0,0,0,0,0,0,0,0,0,0,0,0,0,0,0,0,0,0,0,0,0,0,0,0,0,0,0,0,0,0,0,0,0,0,0,0,0,0,0,0,0,0,0,0,0,0,0,0,0,0,0,0,0,0,0,0,0,0,0,0,0,0,0,0,0,0,0,0,0]
[null,null,null,null,null,null,null,null,null,null,null,null,null,null,null,null,null,null,null,null,null,null,null,null,null,null,null,null,null,null,null,null,null,null,null,null,null,null,null,null,null,null,null,null,null,null,null,null,null,null,null,null,null,null,null,null,null,null,null,null,null,null,null,null,null,null,null,null,null,null,null,null,null,null,null,null,null,null,null,null,null,null,null,null,0,9,0,0,0,0,0,0,0,0,0,0,0,0,0,0,0,0,0,0,0,0,0,0,0,0,0,0,0,0,0,0,0,0,0,0,0,0,0,0,0,0,0,0,0,0,0,0,0,0,0,0,0,0,0,0,0,0,0,0,0,0,0,0,0,0,0,0,0,0,0,0,0]
[null,null,null,null,null,null,null,null,null,null,null,null,null,null,null,null,null,null,null,null,null,null,null,null,null,null,null,null,null,null,null,null,null,null,null,null,null,null,null,null,null,null,null,null,null,null,null,null,null,null,null,null,null,null,null,null,null,null,null,null,null,null,null,null,null,null,null,null,null,null,null,null,null,null,null,null,null,null,null,null,null,null,null,null,0,10,0,0,0,0,0,0,0,0,0,0,0,0,0,0,0,0,0,0,0,0,0,0,0,0,0,0,0,0,0,0,0,0,0,0,0,0,0,0,0,0,0,0,0,0,0,0,0,0,0,0,0,0,0,0,0,0,0,0,0,0,0,0,0,0,0,0,0,0,0,0,0]
[null,null,null,null,null,null,null,null,null,null,null,null,null,null,null,null,null,null,null,null,null,null,null,null,null,null,null,null,null,null,null,null,null,null,null,null,null,null,null,null,null,null,null,null,null,null,null,null,null,null,null,null,null,null,null,null,null,null,null,null,null,null,null,null,null,null,null,null,null,null,null,null,null,null,null,null,null,null,null,null,null,null,null,null,0,11,0,0,0,0,0,0,0,0,0,0,0,0,0,0,0,0,0,0,0,0,0,0,0,0,0,0,0,0,0,0,0,0,0,0,0,0,0,0,0,0,0,0,0,0,0,0,0,0,0,0,0,0,0,0,0,0,0,0,0,0,0,0,0,0,0,0,0,0,0,0,0]
[null,null,null,null,null,null,null,null,null,null,null,null,null,null,null,null,null,null,null,null,null,null,null,null,{"$f":"TEXT(DATE(A1,A2,1),\"mmm yyyy\")&\" - Billing Cycle Rainfall\"","v":"Jan 2022 - Billing Cycle Rainfall"},null,null,null,null,null,null,null,null,null,null,null,null,null,null,null,null,null,null,null,null,null,null,null,null,null,null,null,null,null,null,null,null,null,null,null,null,null,null,null,null,null,null,null,null,null,null,null,null,null,null,null,null,null,null,null,null,null,null,null,0,12,0,0,0,0,0,0,0,0,0,0,0,0,0,0,0,0,0,0,0,0,0,0,0,0,0,0,0,0,0,0,0,0,0,0,0,0,0,0,0,0,0,0,0,0,0,0,0,0,0,0,0,0,0,0,0,0,0,0,0,0,0,0,0,0,0,0,0,0,0,0,0]
[null,null,null,null,null,null,null,null,null,null,null,null,null,null,null,null,null,null,null,null,null,null,null,null,null,null,null,null,null,null,null,null,null,null,null,null,null,null,null,null,null,null,null,null,null,null,null,null,null,null,null,null,null,null,null,null,null,null,null,null,null,null,null,null,null,null,null,null,null,null,null,null,null,null,null,null,null,null,null,null,null,null,null,null,0,13,0,0,0,0,0,0,0,0,0,0,0,0,0,0,0,0,0,0,0,0,0,0,0,0,0,0,0,0,0,0,0,0,0,0,0,0,0,0,0,0,0,0,0,0,0,0,0,0,0,0,0,0,0,0,0,0,0,0,0,0,0,0,0,0,0,0,0,0,0,0,0]
[null,null,null,null,null,null,null,null,null,null,null,null,null,null,null,null,null,null,null,null,null,null,null,null,null,null,null,null,null,null,null,null,null,null,null,null,null,null,null,null,null,null,null,null,null,null,null,null,null,null,null,null,null,null,null,null,null,null,null,null,null,null,null,null,null,null,null,null,null,null,null,null,null,null,null,null,null,null,null,null,null,null,null,null,0,14,0,0,0,0,0,0,0,0,0,0,0,0,0,0,0,0,0,0,0,0,0,0,0,0,0,0,0,0,0,0,0,0,0,0,0,0,0,0,0,0,0,0,0,0,0,0,0,0,0,0,0,0,0,0,0,0,0,0,0,0,0,0,0,0,0,0,0,0,0,0,0]
[null,null,null,null,null,null,null,null,null,null,null,null,null,null,null,null,null,null,null,null,null,null,null,null,null,null,null,null,null,null,null,null,null,null,null,null,null,null,null,null,null,null,null,null,null,null,null,null,null,null,null,null,null,null,null,null,null,null,null,null,null,null,null,null,null,null,null,null,null,null,null,null,null,null,null,null,null,null,null,null,null,null,null,null,0,15,0,0,0,0,0,0,0,0,0,0,0,0,0,0,0,0,0,0,0,0,0,0,0,0,0,0,0,0,0,0,0,0,0,0,0,0,0,0,0,0,0,0,0,0,0,0,0,0,0,0,0,0,0,0,0,0,0,0,0,0,0,0,0,0,0,0,0,0,0,0,0]
[null,null,null,null,null,null,null,null,null,null,null,null,null,null,null,null,null,null,null,null,null,null,null,null,null,null,null,null,null,null,null,null,null,null,null,null,null,null,null,null,null,null,null,null,null,null,null,null,null,null,null,null,null,null,null,null,null,null,null,null,null,null,null,null,null,null,null,null,null,null,null,null,null,null,null,null,null,null,null,null,null,null,null,null,0,16,0,0,0,0,0,0,0,0,0,0,0,0,0,0,0,0,0,0,0,0,0,0,0,0,0,0,0,0,0,0,0,0,0,0,0,0,0,0,0,0,0,0,0,0,0,0,0,0,0,0,0,0,0,0,0,0,0,0,0,0,0,0,0,0,0,0,0,0,0,0,0]
[null,null,null,null,null,null,null,null,null,null,null,null,null,null,null,null,null,null,null,null,null,null,null,null,null,null,null,null,null,null,null,null,null,null,null,null,null,null,null,null,null,null,null,null,null,null,null,null,null,null,null,null,null,null,null,null,null,null,null,null,null,null,null,null,null,null,null,null,null,null,null,null,null,null,null,null,null,null,null,null,null,null,null,null,0,17,0,0,0,0,0,0,0,0,0,0,0,0,0,0,0,0,0,0,0,0,0,0,0,0,0,0,0,0,0,0,0,0,0,0,0,0,0,0,0,0,0,0,0,0,0,0,0,0,0,0,0,0,0,0,0,0,0,0,0,0,0,0,0,0,0,0,0,0,0,0,0]
[null,null,null,null,null,null,null,null,null,null,null,null,null,null,null,null,null,null,null,null,null,null,null,null,null,null,null,null,null,null,null,null,null,null,null,null,null,null,null,null,null,null,null,null,null,null,null,null,null,null,null,null,null,null,null,null,null,null,null,null,null,null,null,null,null,null,null,null,null,null,null,null,null,null,null,null,null,null,null,null,null,null,null,null,0,18,0,0,0,0,0,0,0,0,0,0,0,0,0,0,0,0,0,0,0,0,0,0,0,0,0,0,0,0,0,0,0,0,0,0,0,0,0,0,0,0,0,0,0,0,0,0,0,0,0,0,0,0,0,0,0,0,0,0,0,0,0,0,0,0,0,0,0,0,0,0,0]
[null,null,null,null,null,null,null,null,null,null,null,null,null,null,null,null,null,null,null,null,null,null,null,null,null,null,null,null,null,null,null,null,null,null,null,null,null,null,null,null,null,null,null,null,null,null,null,null,null,null,null,null,null,null,null,null,null,null,null,null,null,null,null,null,null,null,null,null,null,null,null,null,null,null,null,null,null,null,null,null,null,null,null,null,0,19,0,0,0,0,0,0,0,0,0,0,0,0,0,0,0,0,0,0,0,0,0,0,0,0,0,0,0,0,0,0,0,0,0,0,0,0,0,0,0,0,0,0,0,0,0,0,0,0,0,0,0,0,0,0,0,0,0,0,0,0,0,0,0,0,0,0,0,0,0,0,0]
[null,null,null,null,null,null,null,null,null,null,null,null,null,null,null,null,null,null,null,null,null,null,null,null,null,null,null,null,null,null,null,null,null,null,null,null,null,null,null,null,null,null,null,null,null,null,null,null,null,null,null,null,null,null,null,null,null,null,null,null,null,null,null,null,null,null,null,null,null,null,null,null,null,null,null,null,null,null,null,null,null,null,null,null,0,20,0,0,0,0,0,0,0,0,0,0,0,0,0,0,0,0,0,0,0,0,0,0,0,0,0,0,0,0,0,0,0,0,0,0,0,0,0,0,0,0,0,0,0,0,0,0,0,0,0,0,0,0,0,0,0,0,0,0,0,0,0,0,0,0,0,0,0,0,0,0,0]
[null,null,null,null,null,null,null,null,null,null,null,null,null,null,null,null,null,null,null,null,null,null,null,null,null,null,null,null,null,null,null,null,null,null,null,null,null,null,null,null,null,null,null,null,null,null,null,null,null,null,null,null,null,null,null,null,null,null,null,null,null,null,null,null,null,null,null,null,null,null,null,null,null,null,null,null,null,null,null,null,null,null,null,null,0,21,0,0,0,0,0,0,0,0,0,0,0,0,0,0,0,0,0,0,0,0,0,0,0,0,0,0,0,0,0,0,0,0,0,0,0,0,0,0,0,0,0,0,0,0,0,0,0,0,0,0,0,0,0,0,0,0,0,0,0,0,0,0,0,0,0,0,0,0,0,0,0]
[null,null,null,null,null,null,null,null,null,null,null,null,null,null,null,null,null,null,null,null,null,null,null,null,null,null,null,null,null,null,null,null,null,null,null,null,null,null,null,null,null,null,null,null,null,null,null,null,null,null,null,null,null,null,null,null,null,null,null,null,null,null,null,null,null,null,null,null,null,null,null,null,null,null,null,null,null,null,null,null,null,null,null,null,0,23,0,0,0,0,0,0,0,0,0,0,0,0,0,0,0,0,0,0,0,0,0,0,0,0,0,0,0,0,0,0,0,0,0,0,0,0,0,0,0,0,0,0,0,0,0,0,0,0,0,0,0,0,0,0,0,0,0,0,0,0,0,0,0,0,0,0,0,0,0,0,0]
[null,null,null,null,null,null,null,null,null,null,null,null,null,null,null,null,null,null,null,null,null,null,null,null,null,null,null,null,null,null,null,null,null,null,null,null,null,null,null,null,null,null,null,null,null,null,null,null,null,null,null,null,null,null,null,null,null,null,null,null,null,null,null,null,null,null,null,null,null,null,null,null,null,null,null,null,null,null,null,null,null,null,null,null,null,{"$f":"SUM(CI70:EX70)","v":0},{"$f":"SUM(CI48:CI69)","v":0},{"$f":"SUM(CJ48:CJ69)","v":0},0,0,0,0,0,0,0,0,0,0,0,0,0,0,0,0,0,0,0,0,0,0,0,0,0,0,0,0,0,0,0,0,0,0,0,0,0,0,0,0,0,0,0,0,0,0,0,0,0,0,0,0,0,0,0,0,0,0,0,0,0,0,0,{"$f":"SUM(EV48:EV69)","v":0},0,0,0,0,0]
[null,null,null,null,null,null,null,null,null,null,null,null,null,null,null,null,null,null,null,null,null,null,null,null,null,null,null,null,null,null,null,null,null,null,null,null,null,null,null,null,null,null,null,null,null,null,null,null,null,null,null,null,null,null,null,null,null,null,null,null,null,null,null,null,null,null,null,null,null,null,null,null,null,null,null,null,null,null,null,null,null,null,null,null,null,{"$f":"SUM(CI71:EU71)","v":0},{"$f":"VLOOKUP(CI47,Daily!$A$2:$H$459,8)","v":0},{"$f":"VLOOKUP(CJ47,Daily!$A$2:$H$459,8)","v":0},{"$f":"VLOOKUP(CK47,Daily!$A$2:$H$459,8)","v":0},{"$f":"VLOOKUP(CL47,Daily!$A$2:$H$459,8)","v":0},{"$f":"VLOOKUP(CM47,Daily!$A$2:$H$459,8)","v":0},{"$f":"VLOOKUP(CN47,Daily!$A$2:$H$459,8)","v":0},{"$f":"VLOOKUP(CO47,Daily!$A$2:$H$459,8)","v":0},{"$f":"VLOOKUP(CP47,Daily!$A$2:$H$459,8)","v":0},{"$f":"VLOOKUP(CQ47,Daily!$A$2:$H$459,8)","v":0},{"$f":"VLOOKUP(CR47,Daily!$A$2:$H$459,8)","v":0},{"$f":"VLOOKUP(CS47,Daily!$A$2:$H$459,8)","v":0},{"$f":"VLOOKUP(CT47,Daily!$A$2:$H$459,8)","v":0},{"$f":"VLOOKUP(CU47,Daily!$A$2:$H$459,8)","v":0},{"$f":"VLOOKUP(CV47,Daily!$A$2:$H$459,8)","v":0},{"$f":"VLOOKUP(CW47,Daily!$A$2:$H$459,8)","v":0},{"$f":"VLOOKUP(CX47,Daily!$A$2:$H$459,8)","v":0},{"$f":"VLOOKUP(CY47,Daily!$A$2:$H$459,8)","v":0},{"$f":"VLOOKUP(CZ47,Daily!$A$2:$H$459,8)","v":0},{"$f":"VLOOKUP(DA47,Daily!$A$2:$H$459,8)","v":0},{"$f":"VLOOKUP(DB47,Daily!$A$2:$H$459,8)","v":0},{"$f":"VLOOKUP(DC47,Daily!$A$2:$H$459,8)","v":0},{"$f":"VLOOKUP(DD47,Daily!$A$2:$H$459,8)","v":0},{"$f":"VLOOKUP(DE47,Daily!$A$2:$H$459,8)","v":0},{"$f":"VLOOKUP(DF47,Daily!$A$2:$H$459,8)","v":0},{"$f":"VLOOKUP(DG47,Daily!$A$2:$H$459,8)","v":0},{"$f":"VLOOKUP(DH47,Daily!$A$2:$H$459,8)","v":0},{"$f":"VLOOKUP(DI47,Daily!$A$2:$H$459,8)","v":0},{"$f":"VLOOKUP(DJ47,Daily!$A$2:$H$459,8)","v":0},{"$f":"VLOOKUP(DK47,Daily!$A$2:$H$459,8)","v":0},{"$f":"VLOOKUP(DL47,Daily!$A$2:$H$459,8)","v":0},{"$f":"VLOOKUP(DM47,Daily!$A$2:$H$459,8)","v":0},{"$f":"VLOOKUP(DN47,Daily!$A$2:$H$459,8)","v":0},{"$f":"VLOOKUP(DO47,Daily!$A$2:$H$459,8)","v":0},{"$f":"VLOOKUP(DP47,Daily!$A$2:$H$459,8)","v":0},{"$f":"VLOOKUP(DQ47,Daily!$A$2:$H$459,8)","v":0},{"$f":"VLOOKUP(DR47,Daily!$A$2:$H$459,8)","v":0},{"$f":"VLOOKUP(DS47,Daily!$A$2:$H$459,8)","v":0},{"$f":"VLOOKUP(DT47,Daily!$A$2:$H$459,8)","v":0},{"$f":"VLOOKUP(DU47,Daily!$A$2:$H$459,8)","v":0},{"$f":"VLOOKUP(DV47,Daily!$A$2:$H$459,8)","v":0},{"$f":"VLOOKUP(DW47,Daily!$A$2:$H$459,8)","v":0},{"$f":"VLOOKUP(DX47,Daily!$A$2:$H$459,8)","v":0},{"$f":"VLOOKUP(DY47,Daily!$A$2:$H$459,8)","v":0},{"$f":"VLOOKUP(DZ47,Daily!$A$2:$H$459,8)","v":0},{"$f":"VLOOKUP(EA47,Daily!$A$2:$H$459,8)","v":0},{"$f":"VLOOKUP(EB47,Daily!$A$2:$H$459,8)","v":0},{"$f":"VLOOKUP(EC47,Daily!$A$2:$H$459,8)","v":0},{"$f":"VLOOKUP(ED47,Daily!$A$2:$H$459,8)","v":0},{"$f":"VLOOKUP(EE47,Daily!$A$2:$H$459,8)","v":0},{"$f":"VLOOKUP(EF47,Daily!$A$2:$H$459,8)","v":0},{"$f":"VLOOKUP(EG47,Daily!$A$2:$H$459,8)","v":0},{"$f":"VLOOKUP(EH47,Daily!$A$2:$H$459,8)","v":0},{"$f":"VLOOKUP(EI47,Daily!$A$2:$H$459,8)","v":0},{"$f":"VLOOKUP(EJ47,Daily!$A$2:$H$459,8)","v":0},{"$f":"VLOOKUP(EK47,Daily!$A$2:$H$459,8)","v":0},{"$f":"VLOOKUP(EL47,Daily!$A$2:$H$459,8)","v":0},{"$f":"VLOOKUP(EM47,Daily!$A$2:$H$459,8)","v":0},{"$f":"VLOOKUP(EN47,Daily!$A$2:$H$459,8)","v":0},{"$f":"VLOOKUP(EO47,Daily!$A$2:$H$459,8)","v":0},{"$f":"VLOOKUP(EP47,Daily!$A$2:$H$459,8)","v":0},{"$f":"VLOOKUP(EQ47,Daily!$A$2:$H$459,8)","v":0},{"$f":"VLOOKUP(ER47,Daily!$A$2:$H$459,8)","v":0},{"$f":"VLOOKUP(ES47,Daily!$A$2:$H$459,8)","v":0},{"$f":"VLOOKUP(ET47,Daily!$A$2:$H$459,8)","v":0},{"$f":"VLOOKUP(EU47,Daily!$A$2:$H$459,8)","v":0},{"$f":"VLOOKUP(EV47,Daily!$A$2:$H$459,8)","v":0},{"$f":"VLOOKUP(EW47,Daily!$A$2:$H$459,8)","v":0},{"$f":"VLOOKUP(EX47,Daily!$A$2:$H$459,8)","v":0},{"$f":"VLOOKUP(EY47,Daily!$A$2:$H$459,8)","v":0},{"$f":"VLOOKUP(EZ47,Daily!$A$2:$H$459,8)","v":0},{"$f":"VLOOKUP(FA47,Daily!$A$2:$H$459,8)","v":0}]
[null,null,null,null,null,null,null,null,null,null,null,null,null,null,null,null,null,null,null,null,null,null,null,null,null,null,null,null,null,null,null,null,null,null,null,null,null,null,null,null,null,null,null,null,null,null,null,null,null,null,null,null,null,null,null,null,null,null,null,null,null,null,null,null,null,null,null,null,null,null,null,null,null,null,null,null,null,null,null,null,null,null,null,null,null,null,{"$f":"+CI71/$CH71","v":{"$error":"#DIV/0!"}},{"$error":"#DIV/0!"},{"$error":"#DIV/0!"},{"$error":"#DIV/0!"},{"$error":"#DIV/0!"},{"$error":"#DIV/0!"},{"$error":"#DIV/0!"},{"$error":"#DIV/0!"},{"$error":"#DIV/0!"},{"$error":"#DIV/0!"},{"$error":"#DIV/0!"},{"$error":"#DIV/0!"},{"$error":"#DIV/0!"},{"$error":"#DIV/0!"},{"$error":"#DIV/0!"},{"$error":"#DIV/0!"},{"$error":"#DIV/0!"},{"$error":"#DIV/0!"},{"$error":"#DIV/0!"},{"$error":"#DIV/0!"},{"$error":"#DIV/0!"},{"$error":"#DIV/0!"},{"$error":"#DIV/0!"},{"$error":"#DIV/0!"},{"$error":"#DIV/0!"},{"$error":"#DIV/0!"},{"$error":"#DIV/0!"},{"$error":"#DIV/0!"},{"$error":"#DIV/0!"},{"$error":"#DIV/0!"},{"$error":"#DIV/0!"},{"$error":"#DIV/0!"},{"$f":"+DO71/$CH71","v":{"$error":"#DIV/0!"}},{"$error":"#DIV/0!"},{"$error":"#DIV/0!"},{"$error":"#DIV/0!"},{"$error":"#DIV/0!"},{"$error":"#DIV/0!"},{"$error":"#DIV/0!"},{"$error":"#DIV/0!"},{"$error":"#DIV/0!"},{"$error":"#DIV/0!"},{"$error":"#DIV/0!"},{"$error":"#DIV/0!"},{"$error":"#DIV/0!"},{"$error":"#DIV/0!"},{"$error":"#DIV/0!"},{"$error":"#DIV/0!"},{"$error":"#DIV/0!"},{"$error":"#DIV/0!"},{"$error":"#DIV/0!"},{"$error":"#DIV/0!"},{"$error":"#DIV/0!"},{"$error":"#DIV/0!"},{"$error":"#DIV/0!"},{"$error":"#DIV/0!"},{"$error":"#DIV/0!"},{"$error":"#DIV/0!"},{"$error":"#DIV/0!"},{"$error":"#DIV/0!"},{"$error":"#DIV/0!"},{"$error":"#DIV/0!"},{"$error":"#DIV/0!"},{"$error":"#DIV/0!"},{"$f":"+EU71/$CH71","v":{"$error":"#DIV/0!"}},{"$error":"#DIV/0!"},{"$error":"#DIV/0!"},{"$error":"#DIV/0!"},{"$f":"+EY71/$CH71","v":{"$error":"#DIV/0!"}},{"$error":"#DIV/0!"},{"$error":"#DIV/0!"}]
[]
[]
[]
[]
[]
[]
[]
[]
[]
[]
[]
[]
[null,null,null,null,null,null,null,null,null,"CHECK POINT (LC)",null,{"$f":"+L3","v":"2021-11-25"},{"$f":"+M3","v":"2021-11-26"},"2021-11-27","2021-11-28","2021-11-29","2021-11-30","2021-12-01","2021-12-02","2021-12-03","2021-12-04","2021-12-05","2021-12-06","2021-12-07","2021-12-08","2021-12-09","2021-12-10","2021-12-11","2021-12-12","2021-12-13","2021-12-14","2021-12-15","2021-12-16","2021-12-17","2021-12-18","2021-12-19","2021-12-20","2021-12-21","2021-12-22","2021-12-23","2021-12-24","2021-12-25","2021-12-26","2021-12-27","2021-12-28","2021-12-29","2021-12-30","2021-12-31","2022-01-01","2022-01-02","2022-01-03","2022-01-04","2022-01-05","2022-01-06","2022-01-07","2022-01-08","2022-01-09","2022-01-10","2022-01-11","2022-01-12","2022-01-13","2022-01-14","2022-01-15","2022-01-16","2022-01-17","2022-01-18","2022-01-19","2022-01-20","2022-01-21","2022-01-22","2022-01-23","2022-01-24","2022-01-25","2022-01-26","2022-01-27","2022-01-28",{"$f":"+BY3","v":"2022-01-29"},"2022-01-30","2022-01-31","2022-02-01","2022-02-02","2022-02-03"]
[null,null,null,null,null,null,null,null,null,"Calendar","HDD",{"$f":"IF(L29<65, (65-L29),0)","v":0},{"$f":"IF(M29<65, (65-M29),0)","v":0},2.5,2.5,1,3.5,0,0,0,0,0,0,0,0,0,0,0,0,0,0,0,0,0,0,0,0,0,5,4.5,0,0,0,0,0,0,0,0,0,0,0,2,0,0,0,0,0,0,1.5,0,0,1.5,2.5,0,4,12,4,0,0,10.5,13.5,13.5,11.5,6.5,0,4.5,{"$f":"IF(BY29<65, (65-BY29),0)","v":17},18,11,2.5,0,0]
[null,null,null,null,null,null,null,null,null,null,"CDD",{"$f":"IF(L29>65, (L29-65),0)","v":3.5},{"$f":"IF(M29>65, (M29-65),0)","v":3},0,0,0,0,1.5,2.5,1.5,0,5.5,6,8.5,8,9.5,10.5,12,11,11.5,10,10,12.5,12.5,13,12.5,7,2,0,0,0.5,1.5,3.5,4.5,5,10,9,11,9.5,11.5,0,0,2,0,7,4.5,9.5,7.5,0,0.5,1.5,0,0,1.5,0,0,0,0.5,3,0,0,0,0,0,1.5,0,{"$f":"IF(BY29>65, (BY29-65),0)","v":0},0,0,0,4.5,10.5]
[]
[null,null,null,null,null,null,null,null,null,"Billing","HDD",{"$f":"+L32","v":0},0,0.11363636363636365,0.11363636363636365,4.5454545454545456E-2,0.31818181818181818,0,0,0,0,0,0,0,0,0,0,0,0,0,0,0,0,0,0,0,0,0,4.3181818181818183,4.0909090909090908,0,0,0,{"$f":"+AR32","v":0},0,0,0,0,0,0,0,1.6363636363636365,0,0,0,0,0,0,0.88636363636363646,0,0,0.61363636363636365,0.90909090909090917,0,1.4545454545454546,4.3636363636363633,1.2727272727272727,0,0,1.9090909090909092,2.4545454545454546,2.4545454545454546,1.5681818181818181,0.59090909090909094,0,{"$f":"+BX32","v":0.20454545454545456},0.77272727272727271,0.81818181818181823,0.5,0,0,0]
[null,null,null,null,null,null,null,null,null,null,"CDD",{"$f":"+L33","v":0.15909090909090909},0.13636363636363635,0,0,0,0,0.20454545454545453,0.45454545454545459,0.34090909090909088,0,1.5,1.6363636363636362,2.7045454545454546,2.9090909090909092,3.8863636363636367,4.7727272727272725,6.545454545454545,6,6.2727272727272725,5.9090909090909092,6.3636363636363633,8.5227272727272716,9.0909090909090917,10.045454545454545,9.6590909090909083,5.4090909090909092,1.6363636363636365,0,0,0.45454545454545453,1.3636363636363635,3.1818181818181817,{"$f":"+AR33","v":4.0909090909090908},4.7727272727272734,9.0909090909090899,7.7727272727272725,9,8.204545454545455,9.9318181818181817,0,0,1.5454545454545454,0,4.7727272727272725,2.8636363636363638,6.045454545454545,4.7727272727272725,0,0.27272727272727271,0.68181818181818177,0,0,0.54545454545454541,0,0,0,0.13636363636363635,0.68181818181818177,0,0,0,0,0,6.8181818181818177E-2,{"$f":"+BX33","v":0},0,0,0,0,0,0]

{"sheet":"FEB","index":2,"n_rows":72,"n_cols":157,"rows_kept":72,"cut":false,"hidden":false,"merged":[[1,1,1,6],[3,9,23,9]]}
[{"$f":"+JAN!A1","v":2022},null,null,null,null,null,null,null,null,null,null,null,null,null,null,null,null,null,null,null,null,null,null,null,null,null,null,null,null,null,null,null,null,null,null,null,null,null,null,null,null,null,null,null,null,null,null,null,null,null,null,null,null,null,null,null,null,null,null,null,null,null,null,null,null,null,null,null,null,null,null,null,null,null,null,null,null,null,null,null,null,null,null,null,null,null,{"$f":"YEAR(CI3)","v":2021},{"$f":"YEAR(CJ3)","v":2021},2021,2022,2022,2022,2022,2022,2022,2022,2022,2022,2022,2022,2022,2022,2022,2022,2022,2022,2022,2022,2022,2022,2022,2022,2022,2022,2022,2022,2022,2022,2022,2022,2022,2022,2022,2022,2022,2022,2022,2022,2022,2022,2022,2022,2022,2022,2022,2022,2022,2022,2022,2022,2022,2022,2022,2022,2022,2022,2022,2022,2022,2022,{"$f":"YEAR(EU3)","v":2022},{"$f":"YEAR(EV3)","v":2022},2022,2022,{"$f":"YEAR(EY3)","v":2022},2022,2022]
[2,"Published Billing Schedule",null,null,null,null,null,null,null,null,null,null,null,null,null,null,null,null,null,null,null,null,null,null,null,null,null,null,null,null,null,null,null,null,null,null,null,null,null,null,null,null,null,null,null,null,null,null,null,null,null,null,null,null,null,null,null,null,null,null,null,null,null,null,null,null,null,null,null,null,null,null,null,null,null,null,null,null,null,null,null,null,null,null,null,null,{"$f":"MONTH(CI3)","v":12},{"$f":"MONTH(CJ3)","v":12},12,1,1,1,1,1,1,1,1,1,1,1,1,1,1,1,1,1,1,1,1,1,1,1,1,1,1,1,1,1,1,1,2,2,2,2,2,2,2,2,2,2,2,2,2,2,2,2,2,2,2,2,2,2,2,2,2,2,2,2,3,3,3,3,{"$f":"MONTH(EW3)","v":3},3,3,3,3]
["Lookup","Year","Month","Cycle","StartBilling","EndBilling","No.Days",null,null,null,"Date",{"$f":"+E4","v":"2021-12-29"},{"$f":"+L3+1","v":"2021-12-30"},{"$f":"+M3+1","v":"2021-12-31"},"2022-01-01","2022-01-02","2022-01-03","2022-01-04","2022-01-05","2022-01-06","2022-01-07","2022-01-08","2022-01-09","2022-01-10","2022-01-11","2022-01-12","2022-01-13","2022-01-14","2022-01-15","2022-01-16","2022-01-17","2022-01-18","2022-01-19","2022-01-20","2022-01-21","2022-01-22","2022-01-23","2022-01-24","2022-01-25","2022-01-26","2022-01-27","2022-01-28","2022-01-29","2022-01-30","2022-01-31","2022-02-01","2022-02-02","2022-02-03","2022-02-04","2022-02-05","2022-02-06","2022-02-07","2022-02-08","2022-02-09","2022-02-10","2022-02-11","2022-02-12","2022-02-13","2022-02-14","2022-02-15","2022-02-16","2022-02-17","2022-02-18","2022-02-19","2022-02-20","2022-02-21","2022-02-22","2022-02-23","2022-02-24","2022-02-25","2022-02-26","2022-02-27","2022-02-28","2022-03-01",{"$f":"+BV3+1","v":"2022-03-02"},{"$f":"+BW3+1","v":"2022-03-03"},{"$f":"+BX3+1","v":"2022-03-04"},"2022-03-05","2022-03-06",{"$f":"+CA3+1","v":"2022-03-07"},{"$f":"+CB3+1","v":"2022-03-08"},{"$f":"+CC3+1","v":"2022-03-09"},null,null,null,"Cycle",{"$f":"+L3","v":"2021-12-29"},"2021-12-30","2021-12-31","2022-01-01","2022-01-02","2022-01-03","2022-01-04","2022-01-05","2022-01-06","2022-01-07","2022-01-08","2022-01-09","2022-01-10","2022-01-11","2022-01-12","2022-01-13","2022-01-14","2022-01-15","2022-01-16","2022-01-17","2022-01-18","2022-01-19","2022-01-20","2022-01-21","2022-01-22","2022-01-23","2022-01-24","2022-01-25","2022-01-26","2022-01-27","2022-01-28","2022-01-29",{"$f":"+AR3","v":"2022-01-30"},"2022-01-31","2022-02-01","2022-02-02","2022-02-03","2022-02-04","2022-02-05","2022-02-06","2022-02-07","2022-02-08","2022-02-09","2022-02-10","2022-02-11","2022-02-12","2022-02-13","2022-02-14","2022-02-15","2022-02-16","2022-02-17","2022-02-18","2022-02-19","2022-02-20","2022-02-21","2022-02-22","2022-02-23","2022-02-24","2022-02-25","2022-02-26","2022-02-27","2022-02-28","2022-03-01","2022-03-02",{"$f":"+BX3","v":"2022-03-03"},{"$f":"+BY3","v":"2022-03-04"},{"$f":"+BZ3","v":"2022-03-05"},{"$f":"+CA3","v":"2022-03-06"},{"$f":"+CB3","v":"2022-03-07"},"2022-03-08","2022-03-09"]
[{"$f":"+$A$1*10000+A2*100+1","v":20220201},{"$f":"+A1","v":2022},{"$f":"+A2","v":2},1,{"$f":"+JAN!F4+1","v":"2021-12-29"},"2022-01-27",{"$f":"+F4-E4+1","v":30},{"$f":"+E4-JAN!F4","v":1},null,"Billing Cycles",1,{"$f":"IF(AND(L$3>=$E4,L$3<=$F4),1,0)","v":1},{"$f":"IF(AND(M$3>=$E4,M$3<=$F4),1,0)","v":1},1,1,1,1,1,1,1,1,1,1,1,1,1,1,1,1,1,1,1,1,1,1,1,1,1,1,1,1,0,0,0,0,0,0,0,0,0,0,0,0,0,0,0,0,0,0,0,0,0,0,0,0,0,0,0,0,0,0,0,0,0,0,0,{"$f":"IF(AND(BY$3>=$E4,BY$3<=$F4),1,0)","v":0},0,0,0,0,0,null,{"$f":"SUM(CI4:FA4)-CG4/1000","v":{"$error":"#DIV/0!"}},36077419,1,{"$f":"((CI48/$CG48))*($CG4/1000)","v":{"$error":"#DIV/0!"}},{"$error":"#DIV/0!"},{"$error":"#DIV/0!"},{"$error":"#DIV/0!"},{"$error":"#DIV/0!"},{"$error":"#DIV/0!"},{"$error":"#DIV/0!"},{"$error":"#DIV/0!"},{"$error":"#DIV/0!"},{"$error":"#DIV/0!"},{"$error":"#DIV/0!"},{"$error":"#DIV/0!"},{"$error":"#DIV/0!"},{"$error":"#DIV/0!"},{"$error":"#DIV/0!"},{"$error":"#DIV/0!"},{"$error":"#DIV/0!"},{"$error":"#DIV/0!"},{"$error":"#DIV/0!"},{"$error":"#DIV/0!"},{"$error":"#DIV/0!"},{"$error":"#DIV/0!"},{"$error":"#DIV/0!"},{"$error":"#DIV/0!"},{"$error":"#DIV/0!"},{"$error":"#DIV/0!"},{"$error":"#DIV/0!"},{"$error":"#DIV/0!"},{"$error":"#DIV/0!"},{"$error":"#DIV/0!"},{"$error":"#DIV/0!"},{"$error":"#DIV/0!"},{"$f":"((DO48/$CG48))*($CG4/1000)","v":{"$error":"#DIV/0!"}},{"$error":"#DIV/0!"},{"$error":"#DIV/0!"},{"$error":"#DIV/0!"},{"$error":"#DIV/0!"},{"$error":"#DIV/0!"},{"$error":"#DIV/0!"},{"$error":"#DIV/0!"},{"$error":"#DIV/0!"},{"$error":"#DIV/0!"},{"$error":"#DIV/0!"},{"$error":"#DIV/0!"},{"$error":"#DIV/0!"},{"$error":"#DIV/0!"},{"$error":"#DIV/0!"},{"$error":"#DIV/0!"},{"$error":"#DIV/0!"},{"$error":"#DIV/0!"},{"$error":"#DIV/0!"},{"$error":"#DIV/0!"},{"$error":"#DIV/0!"},{"$error":"#DIV/0!"},{"$error":"#DIV/0!"},{"$error":"#DIV/0!"},{"$error":"#DIV/0!"},{"$error":"#DIV/0!"},{"$error":"#DIV/0!"},{"$error":"#DIV/0!"},{"$error":"#DIV/0!"},{"$error":"#DIV/0!"},{"$error":"#DIV/0!"},{"$error":"#DIV/0!"},{"$error":"#DIV/0!"},{"$f":"((EV48/$CG48))*($CG4/1000)","v":{"$error":"#DIV/0!"}},{"$error":"#DIV/0!"},{"$error":"#DIV/0!"},{"$f":"((EY48/$CG48))*($CG4/1000)","v":{"$error":"#DIV/0!"}},{"$error":"#DIV/0!"},{"$error":"#DIV/0!"}]
[{"$f":"+A4+1","v":20220202},{"$f":"+B4","v":2022},{"$f":"+C4","v":2},{"$f":"+D4+1","v":2},{"$f":"+JAN!F5+1","v":"2021-12-30"},"2022-01-28",{"$f":"+F5-E5+1","v":30},{"$f":"+E5-JAN!F5","v":1},null,null,2,{"$f":"IF(AND(L$3>=$E5,L$3<=$F5),1,0)","v":0},1,1,1,1,1,1,1,1,1,1,1,1,1,1,1,1,1,1,1,1,1,1,1,1,1,1,1,1,1,1,0,0,0,0,0,0,0,0,0,0,0,0,0,0,0,0,0,0,0,0,0,0,0,0,0,0,0,0,0,0,0,0,0,0,0,0,0,0,0,0,null,{"$error":"#DIV/0!"},71680466,2,{"$f":"((CI49/$CG49))*($CG5/1000)","v":{"$error":"#DIV/0!"}},{"$error":"#DIV/0!"},{"$error":"#DIV/0!"},{"$error":"#DIV/0!"},{"$error":"#DIV/0!"},{"$error":"#DIV/0!"},{"$error":"#DIV/0!"},{"$error":"#DIV/0!"},{"$error":"#DIV/0!"},{"$error":"#DIV/0!"},{"$error":"#DIV/0!"},{"$error":"#DIV/0!"},{"$error":"#DIV/0!"},{"$error":"#DIV/0!"},{"$error":"#DIV/0!"},{"$error":"#DIV/0!"},{"$error":"#DIV/0!"},{"$error":"#DIV/0!"},{"$error":"#DIV/0!"},{"$error":"#DIV/0!"},{"$error":"#DIV/0!"},{"$error":"#DIV/0!"},{"$error":"#DIV/0!"},{"$error":"#DIV/0!"},{"$error":"#DIV/0!"},{"$error":"#DIV/0!"},{"$error":"#DIV/0!"},{"$error":"#DIV/0!"},{"$error":"#DIV/0!"},{"$error":"#DIV/0!"},{"$error":"#DIV/0!"},{"$error":"#DIV/0!"},{"$f":"((DO49/$CG49))*($CG5/1000)","v":{"$error":"#DIV/0!"}},{"$error":"#DIV/0!"},{"$error":"#DIV/0!"},{"$error":"#DIV/0!"},{"$error":"#DIV/0!"},{"$error":"#DIV/0!"},{"$error":"#DIV/0!"},{"$error":"#DIV/0!"},{"$error":"#DIV/0!"},{"$error":"#DIV/0!"},{"$error":"#DIV/0!"},{"$error":"#DIV/0!"},{"$error":"#DIV/0!"},{"$error":"#DIV/0!"},{"$error":"#DIV/0!"},{"$error":"#DIV/0!"},{"$error":"#DIV/0!"},{"$error":"#DIV/0!"},{"$error":"#DIV/0!"},{"$error":"#DIV/0!"},{"$error":"#DIV/0!"},{"$error":"#DIV/0!"},{"$error":"#DIV/0!"},{"$error":"#DIV/0!"},{"$error":"#DIV/0!"},{"$error":"#DIV/0!"},{"$error":"#DIV/0!"},{"$error":"#DIV/0!"},{"$error":"#DIV/0!"},{"$error":"#DIV/0!"},{"$error":"#DIV/0!"},{"$error":"#DIV/0!"},{"$error":"#DIV/0!"},{"$f":"((EV49/$CG49))*($CG5/1000)","v":{"$error":"#DIV/0!"}},{"$error":"#DIV/0!"},{"$error":"#DIV/0!"},{"$f":"((EY49/$CG49))*($CG5/1000)","v":{"$error":"#DIV/0!"}},{"$error":"#DIV/0!"},{"$error":"#DIV/0!"}]
[{"$f":"+A5+1","v":20220203},{"$f":"+B5","v":2022},2,{"$f":"+D5+1","v":3},{"$f":"+JAN!F6+1","v":"2021-12-31"},"2022-01-31",32,{"$f":"+E6-JAN!F6","v":1},null,null,3,0,0,1,1,1,1,1,1,1,1,1,1,1,1,1,1,1,1,1,1,1,1,1,1,1,1,1,1,1,1,1,1,1,1,0,0,0,0,0,0,0,0,0,0,0,0,0,0,0,0,0,0,0,0,0,0,0,0,0,0,0,0,0,0,0,0,0,0,0,0,0,null,{"$error":"#DIV/0!"},47990773,3,{"$f":"((CI50/$CG50))*($CG6/1000)","v":{"$error":"#DIV/0!"}},{"$error":"#DIV/0!"},{"$error":"#DIV/0!"},{"$error":"#DIV/0!"},{"$error":"#DIV/0!"},{"$error":"#DIV/0!"},{"$error":"#DIV/0!"},{"$error":"#DIV/0!"},{"$error":"#DIV/0!"},{"$error":"#DIV/0!"},{"$error":"#DIV/0!"},{"$error":"#DIV/0!"},{"$error":"#DIV/0!"},{"$error":"#DIV/0!"},{"$error":"#DIV/0!"},{"$error":"#DIV/0!"},{"$error":"#DIV/0!"},{"$error":"#DIV/0!"},{"$error":"#DIV/0!"},{"$error":"#DIV/0!"},{"$error":"#DIV/0!"},{"$error":"#DIV/0!"},{"$error":"#DIV/0!"},{"$error":"#DIV/0!"},{"$error":"#DIV/0!"},{"$error":"#DIV/0!"},{"$error":"#DIV/0!"},{"$error":"#DIV/0!"},{"$error":"#DIV/0!"},{"$error":"#DIV/0!"},{"$error":"#DIV/0!"},{"$error":"#DIV/0!"},{"$f":"((DO50/$CG50))*($CG6/1000)","v":{"$error":"#DIV/0!"}},{"$error":"#DIV/0!"},{"$error":"#DIV/0!"},{"$error":"#DIV/0!"},{"$error":"#DIV/0!"},{"$error":"#DIV/0!"},{"$error":"#DIV/0!"},{"$error":"#DIV/0!"},{"$error":"#DIV/0!"},{"$error":"#DIV/0!"},{"$error":"#DIV/0!"},{"$error":"#DIV/0!"},{"$error":"#DIV/0!"},{"$error":"#DIV/0!"},{"$error":"#DIV/0!"},{"$error":"#DIV/0!"},{"$error":"#DIV/0!"},{"$error":"#DIV/0!"},{"$error":"#DIV/0!"},{"$error":"#DIV/0!"},{"$error":"#DIV/0!"},{"$error":"#DIV/0!"},{"$error":"#DIV/0!"},{"$error":"#DIV/0!"},{"$error":"#DIV/0!"},{"$error":"#DIV/0!"},{"$error":"#DIV/0!"},{"$error":"#DIV/0!"},{"$error":"#DIV/0!"},{"$error":"#DIV/0!"},{"$error":"#DIV/0!"},{"$error":"#DIV/0!"},{"$error":"#DIV/0!"},{"$f":"((EV50/$CG50))*($CG6/1000)","v":{"$error":"#DIV/0!"}},{"$error":"#DIV/0!"},{"$error":"#DIV/0!"},{"$f":"((EY50/$CG50))*($CG6/1000)","v":{"$error":"#DIV/0!"}},{"$error":"#DIV/0!"},{"$error":"#DIV/0!"}]
[20220204,2022,2,4,{"$f":"+JAN!F7+1","v":"2022-01-04"},"2022-02-01",29,{"$f":"+E7-JAN!F7","v":1},null,null,4,0,0,0,0,0,0,1,1,1,1,1,1,1,1,1,1,1,1,1,1,1,1,1,1,1,1,1,1,1,1,1,1,1,1,1,0,0,0,0,0,0,0,0,0,0,0,0,0,0,0,0,0,0,0,0,0,0,0,0,0,0,0,0,0,0,0,0,0,0,0,0,null,{"$error":"#DIV/0!"},69322873,4,{"$f":"((CI51/$CG51))*($CG7/1000)","v":{"$error":"#DIV/0!"}},{"$error":"#DIV/0!"},{"$error":"#DIV/0!"},{"$error":"#DIV/0!"},{"$error":"#DIV/0!"},{"$error":"#DIV/0!"},{"$error":"#DIV/0!"},{"$error":"#DIV/0!"},{"$error":"#DIV/0!"},{"$error":"#DIV/0!"},{"$error":"#DIV/0!"},{"$error":"#DIV/0!"},{"$error":"#DIV/0!"},{"$error":"#DIV/0!"},{"$error":"#DIV/0!"},{"$error":"#DIV/0!"},{"$error":"#DIV/0!"},{"$error":"#DIV/0!"},{"$error":"#DIV/0!"},{"$error":"#DIV/0!"},{"$error":"#DIV/0!"},{"$error":"#DIV/0!"},{"$error":"#DIV/0!"},{"$error":"#DIV/0!"},{"$error":"#DIV/0!"},{"$error":"#DIV/0!"},{"$error":"#DIV/0!"},{"$error":"#DIV/0!"},{"$error":"#DIV/0!"},{"$error":"#DIV/0!"},{"$error":"#DIV/0!"},{"$error":"#DIV/0!"},{"$f":"((DO51/$CG51))*($CG7/1000)","v":{"$error":"#DIV/0!"}},{"$error":"#DIV/0!"},{"$error":"#DIV/0!"},{"$error":"#DIV/0!"},{"$error":"#DIV/0!"},{"$error":"#DIV/0!"},{"$error":"#DIV/0!"},{"$error":"#DIV/0!"},{"$error":"#DIV/0!"},{"$error":"#DIV/0!"},{"$error":"#DIV/0!"},{"$error":"#DIV/0!"},{"$error":"#DIV/0!"},{"$error":"#DIV/0!"},{"$error":"#DIV/0!"},{"$error":"#DIV/0!"},{"$error":"#DIV/0!"},{"$error":"#DIV/0!"},{"$error":"#DIV/0!"},{"$error":"#DIV/0!"},{"$error":"#DIV/0!"},{"$error":"#DIV/0!"},{"$error":"#DIV/0!"},{"$error":"#DIV/0!"},{"$error":"#DIV/0!"},{"$error":"#DIV/0!"},{"$error":"#DIV/0!"},{"$error":"#DIV/0!"},{"$error":"#DIV/0!"},{"$error":"#DIV/0!"},{"$error":"#DIV/0!"},{"$error":"#DIV/0!"},{"$error":"#DIV/0!"},{"$f":"((EV51/$CG51))*($CG7/1000)","v":{"$error":"#DIV/0!"}},{"$error":"#DIV/0!"},{"$error":"#DIV/0!"},{"$f":"((EY51/$CG51))*($CG7/1000)","v":{"$error":"#DIV/0!"}},{"$error":"#DIV/0!"},{"$error":"#DIV/0!"}]
[20220205,2022,2,5,{"$f":"+JAN!F8+1","v":"2022-01-05"},"2022-02-02",29,{"$f":"+E8-JAN!F8","v":1},null,null,5,0,0,0,0,0,0,0,1,1,1,1,1,1,1,1,{"$f":"IF(AND(AA$3>=$E8,AA$3<=$F8),1,0)","v":1},1,1,1,1,1,1,1,1,1,1,1,1,1,1,1,1,1,1,1,1,0,0,0,0,0,0,0,0,0,0,0,0,0,0,0,0,0,0,0,0,0,0,0,0,0,0,0,0,0,0,0,0,0,0,0,null,{"$error":"#DIV/0!"},102852265,5,{"$f":"((CI52/$CG52))*($CG8/1000)","v":{"$error":"#DIV/0!"}},{"$error":"#DIV/0!"},{"$error":"#DIV/0!"},{"$error":"#DIV/0!"},{"$error":"#DIV/0!"},{"$error":"#DIV/0!"},{"$error":"#DIV/0!"},{"$error":"#DIV/0!"},{"$error":"#DIV/0!"},{"$error":"#DIV/0!"},{"$error":"#DIV/0!"},{"$error":"#DIV/0!"},{"$error":"#DIV/0!"},{"$error":"#DIV/0!"},{"$error":"#DIV/0!"},{"$error":"#DIV/0!"},{"$error":"#DIV/0!"},{"$error":"#DIV/0!"},{"$error":"#DIV/0!"},{"$error":"#DIV/0!"},{"$error":"#DIV/0!"},{"$error":"#DIV/0!"},{"$error":"#DIV/0!"},{"$error":"#DIV/0!"},{"$error":"#DIV/0!"},{"$error":"#DIV/0!"},{"$error":"#DIV/0!"},{"$error":"#DIV/0!"},{"$error":"#DIV/0!"},{"$error":"#DIV/0!"},{"$error":"#DIV/0!"},{"$error":"#DIV/0!"},{"$f":"((DO52/$CG52))*($CG8/1000)","v":{"$error":"#DIV/0!"}},{"$error":"#DIV/0!"},{"$error":"#DIV/0!"},{"$error":"#DIV/0!"},{"$error":"#DIV/0!"},{"$error":"#DIV/0!"},{"$error":"#DIV/0!"},{"$error":"#DIV/0!"},{"$error":"#DIV/0!"},{"$error":"#DIV/0!"},{"$error":"#DIV/0!"},{"$error":"#DIV/0!"},{"$error":"#DIV/0!"},{"$error":"#DIV/0!"},{"$error":"#DIV/0!"},{"$error":"#DIV/0!"},{"$error":"#DIV/0!"},{"$error":"#DIV/0!"},{"$error":"#DIV/0!"},{"$error":"#DIV/0!"},{"$error":"#DIV/0!"},{"$error":"#DIV/0!"},{"$error":"#DIV/0!"},{"$error":"#DIV/0!"},{"$error":"#DIV/0!"},{"$error":"#DIV/0!"},{"$error":"#DIV/0!"},{"$error":"#DIV/0!"},{"$error":"#DIV/0!"},{"$error":"#DIV/0!"},{"$error":"#DIV/0!"},{"$error":"#DIV/0!"},{"$error":"#DIV/0!"},{"$f":"((EV52/$CG52))*($CG8/1000)","v":{"$error":"#DIV/0!"}},{"$error":"#DIV/0!"},{"$error":"#DIV/0!"},{"$f":"((EY52/$CG52))*($CG8/1000)","v":{"$error":"#DIV/0!"}},{"$error":"#DIV/0!"},{"$error":"#DIV/0!"}]
[20220206,2022,2,6,{"$f":"+JAN!F9+1","v":"2022-01-06"},"2022-02-03",29,{"$f":"+E9-JAN!F9","v":1},null,null,6,0,0,0,0,0,0,0,0,1,1,1,1,1,1,1,1,1,1,1,1,1,1,1,1,1,1,1,1,1,1,1,1,1,1,1,1,1,0,0,0,0,0,0,0,0,0,0,0,0,0,0,0,0,0,0,0,0,0,0,0,0,0,0,0,0,0,0,0,0,0,0,null,{"$error":"#DIV/0!"},40404344,6,{"$f":"((CI53/$CG53))*($CG9/1000)","v":{"$error":"#DIV/0!"}},{"$error":"#DIV/0!"},{"$error":"#DIV/0!"},{"$error":"#DIV/0!"},{"$error":"#DIV/0!"},{"$error":"#DIV/0!"},{"$error":"#DIV/0!"},{"$error":"#DIV/0!"},{"$error":"#DIV/0!"},{"$error":"#DIV/0!"},{"$error":"#DIV/0!"},{"$error":"#DIV/0!"},{"$error":"#DIV/0!"},{"$error":"#DIV/0!"},{"$error":"#DIV/0!"},{"$error":"#DIV/0!"},{"$error":"#DIV/0!"},{"$error":"#DIV/0!"},{"$error":"#DIV/0!"},{"$error":"#DIV/0!"},{"$error":"#DIV/0!"},{"$error":"#DIV/0!"},{"$error":"#DIV/0!"},{"$error":"#DIV/0!"},{"$error":"#DIV/0!"},{"$error":"#DIV/0!"},{"$error":"#DIV/0!"},{"$error":"#DIV/0!"},{"$error":"#DIV/0!"},{"$error":"#DIV/0!"},{"$error":"#DIV/0!"},{"$error":"#DIV/0!"},{"$f":"((DO53/$CG53))*($CG9/1000)","v":{"$error":"#DIV/0!"}},{"$error":"#DIV/0!"},{"$error":"#DIV/0!"},{"$error":"#DIV/0!"},{"$error":"#DIV/0!"},{"$error":"#DIV/0!"},{"$error":"#DIV/0!"},{"$error":"#DIV/0!"},{"$error":"#DIV/0!"},{"$error":"#DIV/0!"},{"$error":"#DIV/0!"},{"$error":"#DIV/0!"},{"$error":"#DIV/0!"},{"$error":"#DIV/0!"},{"$error":"#DIV/0!"},{"$error":"#DIV/0!"},{"$error":"#DIV/0!"},{"$error":"#DIV/0!"},{"$error":"#DIV/0!"},{"$error":"#DIV/0!"},{"$error":"#DIV/0!"},{"$error":"#DIV/0!"},{"$error":"#DIV/0!"},{"$error":"#DIV/0!"},{"$error":"#DIV/0!"},{"$error":"#DIV/0!"},{"$error":"#DIV/0!"},{"$error":"#DIV/0!"},{"$error":"#DIV/0!"},{"$error":"#DIV/0!"},{"$error":"#DIV/0!"},{"$error":"#DIV/0!"},{"$error":"#DIV/0!"},{"$f":"((EV53/$CG53))*($CG9/1000)","v":{"$error":"#DIV/0!"}},{"$error":"#DIV/0!"},{"$error":"#DIV/0!"},{"$f":"((EY53/$CG53))*($CG9/1000)","v":{"$error":"#DIV/0!"}},{"$error":"#DIV/0!"},{"$error":"#DIV/0!"}]
[20220207,2022,2,7,{"$f":"+JAN!F10+1","v":"2022-01-07"},"2022-02-04",29,{"$f":"+E10-JAN!F10","v":1},null,null,7,0,0,0,0,0,0,0,0,0,1,1,1,1,1,1,1,1,1,1,1,1,1,1,1,1,1,1,1,1,1,1,1,1,1,1,1,1,1,0,0,0,0,0,0,0,0,0,0,0,0,0,0,0,0,0,0,0,0,0,0,0,0,0,0,0,0,0,0,0,0,0,null,{"$error":"#DIV/0!"},43092515,7,{"$f":"((CI54/$CG54))*($CG10/1000)","v":{"$error":"#DIV/0!"}},{"$error":"#DIV/0!"},{"$error":"#DIV/0!"},{"$error":"#DIV/0!"},{"$error":"#DIV/0!"},{"$error":"#DIV/0!"},{"$error":"#DIV/0!"},{"$error":"#DIV/0!"},{"$error":"#DIV/0!"},{"$error":"#DIV/0!"},{"$error":"#DIV/0!"},{"$error":"#DIV/0!"},{"$error":"#DIV/0!"},{"$error":"#DIV/0!"},{"$error":"#DIV/0!"},{"$error":"#DIV/0!"},{"$error":"#DIV/0!"},{"$error":"#DIV/0!"},{"$error":"#DIV/0!"},{"$error":"#DIV/0!"},{"$error":"#DIV/0!"},{"$error":"#DIV/0!"},{"$error":"#DIV/0!"},{"$error":"#DIV/0!"},{"$error":"#DIV/0!"},{"$error":"#DIV/0!"},{"$error":"#DIV/0!"},{"$error":"#DIV/0!"},{"$error":"#DIV/0!"},{"$error":"#DIV/0!"},{"$error":"#DIV/0!"},{"$error":"#DIV/0!"},{"$f":"((DO54/$CG54))*($CG10/1000)","v":{"$error":"#DIV/0!"}},{"$error":"#DIV/0!"},{"$error":"#DIV/0!"},{"$error":"#DIV/0!"},{"$error":"#DIV/0!"},{"$error":"#DIV/0!"},{"$error":"#DIV/0!"},{"$error":"#DIV/0!"},{"$error":"#DIV/0!"},{"$error":"#DIV/0!"},{"$error":"#DIV/0!"},{"$error":"#DIV/0!"},{"$error":"#DIV/0!"},{"$error":"#DIV/0!"},{"$error":"#DIV/0!"},{"$error":"#DIV/0!"},{"$error":"#DIV/0!"},{"$error":"#DIV/0!"},{"$error":"#DIV/0!"},{"$error":"#DIV/0!"},{"$error":"#DIV/0!"},{"$error":"#DIV/0!"},{"$error":"#DIV/0!"},{"$error":"#DIV/0!"},{"$error":"#DIV/0!"},{"$error":"#DIV/0!"},{"$error":"#DIV/0!"},{"$error":"#DIV/0!"},{"$error":"#DIV/0!"},{"$error":"#DIV/0!"},{"$error":"#DIV/0!"},{"$error":"#DIV/0!"},{"$error":"#DIV/0!"},{"$f":"((EV54/$CG54))*($CG10/1000)","v":{"$error":"#DIV/0!"}},{"$error":"#DIV/0!"},{"$error":"#DIV/0!"},{"$f":"((EY54/$CG54))*($CG10/1000)","v":{"$error":"#DIV/0!"}},{"$error":"#DIV/0!"},{"$error":"#DIV/0!"}]
[20220208,2022,2,8,{"$f":"+JAN!F11+1","v":"2022-01-08"},"2022-02-07",31,{"$f":"+E11-JAN!F11","v":1},null,null,8,0,0,0,0,0,0,0,0,0,0,1,1,1,1,1,1,1,1,1,1,1,1,1,1,1,1,1,1,1,1,1,1,1,1,1,1,1,1,1,1,1,0,0,0,0,0,0,0,0,0,0,0,0,0,0,0,0,0,0,0,0,0,0,0,0,0,0,0,0,0,0,null,{"$error":"#DIV/0!"},58022566,8,{"$f":"((CI55/$CG55))*($CG11/1000)","v":{"$error":"#DIV/0!"}},{"$error":"#DIV/0!"},{"$error":"#DIV/0!"},{"$error":"#DIV/0!"},{"$error":"#DIV/0!"},{"$error":"#DIV/0!"},{"$error":"#DIV/0!"},{"$error":"#DIV/0!"},{"$error":"#DIV/0!"},{"$error":"#DIV/0!"},{"$error":"#DIV/0!"},{"$error":"#DIV/0!"},{"$error":"#DIV/0!"},{"$error":"#DIV/0!"},{"$error":"#DIV/0!"},{"$error":"#DIV/0!"},{"$error":"#DIV/0!"},{"$error":"#DIV/0!"},{"$error":"#DIV/0!"},{"$error":"#DIV/0!"},{"$error":"#DIV/0!"},{"$error":"#DIV/0!"},{"$error":"#DIV/0!"},{"$error":"#DIV/0!"},{"$error":"#DIV/0!"},{"$error":"#DIV/0!"},{"$error":"#DIV/0!"},{"$error":"#DIV/0!"},{"$error":"#DIV/0!"},{"$error":"#DIV/0!"},{"$error":"#DIV/0!"},{"$error":"#DIV/0!"},{"$f":"((DO55/$CG55))*($CG11/1000)","v":{"$error":"#DIV/0!"}},{"$error":"#DIV/0!"},{"$error":"#DIV/0!"},{"$error":"#DIV/0!"},{"$error":"#DIV/0!"},{"$error":"#DIV/0!"},{"$error":"#DIV/0!"},{"$error":"#DIV/0!"},{"$error":"#DIV/0!"},{"$error":"#DIV/0!"},{"$error":"#DIV/0!"},{"$error":"#DIV/0!"},{"$error":"#DIV/0!"},{"$error":"#DIV/0!"},{"$error":"#DIV/0!"},{"$error":"#DIV/0!"},{"$error":"#DIV/0!"},{"$error":"#DIV/0!"},{"$error":"#DIV/0!"},{"$error":"#DIV/0!"},{"$error":"#DIV/0!"},{"$error":"#DIV/0!"},{"$error":"#DIV/0!"},{"$error":"#DIV/0!"},{"$error":"#DIV/0!"},{"$error":"#DIV/0!"},{"$error":"#DIV/0!"},{"$error":"#DIV/0!"},{"$error":"#DIV/0!"},{"$error":"#DIV/0!"},{"$error":"#DIV/0!"},{"$error":"#DIV/0!"},{"$error":"#DIV/0!"},{"$f":"((EV55/$CG55))*($CG11/1000)","v":{"$error":"#DIV/0!"}},{"$error":"#DIV/0!"},{"$error":"#DIV/0!"},{"$f":"((EY55/$CG55))*($CG11/1000)","v":{"$error":"#DIV/0!"}},{"$error":"#DIV/0!"},{"$error":"#DIV/0!"}]
[20220209,2022,2,9,{"$f":"+JAN!F12+1","v":"2022-01-11"},"2022-02-08",29,{"$f":"+E12-JAN!F12","v":1},null,null,9,0,0,0,0,0,0,0,0,0,0,0,0,0,1,1,1,1,1,1,1,1,1,1,1,1,1,1,1,1,1,1,1,1,1,1,1,1,1,1,1,1,1,0,0,0,0,0,0,0,0,0,0,0,0,0,0,0,0,0,0,0,0,0,0,0,0,0,0,0,0,0,null,{"$error":"#DIV/0!"},52531546,9,{"$f":"((CI56/$CG56))*($CG12/1000)","v":{"$error":"#DIV/0!"}},{"$error":"#DIV/0!"},{"$error":"#DIV/0!"},{"$error":"#DIV/0!"},{"$error":"#DIV/0!"},{"$error":"#DIV/0!"},{"$error":"#DIV/0!"},{"$error":"#DIV/0!"},{"$error":"#DIV/0!"},{"$error":"#DIV/0!"},{"$error":"#DIV/0!"},{"$error":"#DIV/0!"},{"$error":"#DIV/0!"},{"$error":"#DIV/0!"},{"$error":"#DIV/0!"},{"$error":"#DIV/0!"},{"$error":"#DIV/0!"},{"$error":"#DIV/0!"},{"$error":"#DIV/0!"},{"$error":"#DIV/0!"},{"$error":"#DIV/0!"},{"$error":"#DIV/0!"},{"$error":"#DIV/0!"},{"$error":"#DIV/0!"},{"$error":"#DIV/0!"},{"$error":"#DIV/0!"},{"$error":"#DIV/0!"},{"$error":"#DIV/0!"},{"$error":"#DIV/0!"},{"$error":"#DIV/0!"},{"$error":"#DIV/0!"},{"$error":"#DIV/0!"},{"$f":"((DO56/$CG56))*($CG12/1000)","v":{"$error":"#DIV/0!"}},{"$error":"#DIV/0!"},{"$error":"#DIV/0!"},{"$error":"#DIV/0!"},{"$error":"#DIV/0!"},{"$error":"#DIV/0!"},{"$error":"#DIV/0!"},{"$error":"#DIV/0!"},{"$error":"#DIV/0!"},{"$error":"#DIV/0!"},{"$error":"#DIV/0!"},{"$error":"#DIV/0!"},{"$error":"#DIV/0!"},{"$error":"#DIV/0!"},{"$error":"#DIV/0!"},{"$error":"#DIV/0!"},{"$error":"#DIV/0!"},{"$error":"#DIV/0!"},{"$error":"#DIV/0!"},{"$error":"#DIV/0!"},{"$error":"#DIV/0!"},{"$error":"#DIV/0!"},{"$error":"#DIV/0!"},{"$error":"#DIV/0!"},{"$error":"#DIV/0!"},{"$error":"#DIV/0!"},{"$error":"#DIV/0!"},{"$error":"#DIV/0!"},{"$error":"#DIV/0!"},{"$error":"#DIV/0!"},{"$error":"#DIV/0!"},{"$error":"#DIV/0!"},{"$error":"#DIV/0!"},{"$f":"((EV56/$CG56))*($CG12/1000)","v":{"$error":"#DIV/0!"}},{"$error":"#DIV/0!"},{"$error":"#DIV/0!"},{"$f":"((EY56/$CG56))*($CG12/1000)","v":{"$error":"#DIV/0!"}},{"$error":"#DIV/0!"},{"$error":"#DIV/0!"}]
[20220210,2022,2,10,{"$f":"+JAN!F13+1","v":"2022-01-12"},"2022-02-09",29,{"$f":"+E13-JAN!F13","v":1},null,null,10,0,0,0,0,0,0,0,0,0,0,0,0,0,0,1,1,1,1,1,1,1,1,1,1,1,{"$f":"IF(AND(AK$3>=$E13,AK$3<=$F13),1,0)","v":1},1,1,1,1,1,1,1,1,1,1,1,1,1,1,1,1,1,0,0,0,0,0,0,0,0,0,0,0,0,0,0,0,0,0,0,0,0,0,0,0,0,0,0,0,0,null,{"$error":"#DIV/0!"},112428656,10,{"$f":"((CI57/$CG57))*($CG13/1000)","v":{"$error":"#DIV/0!"}},{"$error":"#DIV/0!"},{"$error":"#DIV/0!"},{"$error":"#DIV/0!"},{"$error":"#DIV/0!"},{"$error":"#DIV/0!"},{"$error":"#DIV/0!"},{"$error":"#DIV/0!"},{"$error":"#DIV/0!"},{"$error":"#DIV/0!"},{"$error":"#DIV/0!"},{"$error":"#DIV/0!"},{"$error":"#DIV/0!"},{"$error":"#DIV/0!"},{"$error":"#DIV/0!"},{"$error":"#DIV/0!"},{"$error":"#DIV/0!"},{"$error":"#DIV/0!"},{"$error":"#DIV/0!"},{"$error":"#DIV/0!"},{"$error":"#DIV/0!"},{"$error":"#DIV/0!"},{"$error":"#DIV/0!"},{"$error":"#DIV/0!"},{"$error":"#DIV/0!"},{"$error":"#DIV/0!"},{"$error":"#DIV/0!"},{"$error":"#DIV/0!"},{"$error":"#DIV/0!"},{"$error":"#DIV/0!"},{"$error":"#DIV/0!"},{"$error":"#DIV/0!"},{"$f":"((DO57/$CG57))*($CG13/1000)","v":{"$error":"#DIV/0!"}},{"$error":"#DIV/0!"},{"$error":"#DIV/0!"},{"$error":"#DIV/0!"},{"$error":"#DIV/0!"},{"$error":"#DIV/0!"},{"$error":"#DIV/0!"},{"$error":"#DIV/0!"},{"$error":"#DIV/0!"},{"$error":"#DIV/0!"},{"$error":"#DIV/0!"},{"$error":"#DIV/0!"},{"$error":"#DIV/0!"},{"$error":"#DIV/0!"},{"$error":"#DIV/0!"},{"$error":"#DIV/0!"},{"$error":"#DIV/0!"},{"$error":"#DIV/0!"},{"$error":"#DIV/0!"},{"$error":"#DIV/0!"},{"$error":"#DIV/0!"},{"$error":"#DIV/0!"},{"$error":"#DIV/0!"},{"$error":"#DIV/0!"},{"$error":"#DIV/0!"},{"$error":"#DIV/0!"},{"$error":"#DIV/0!"},{"$error":"#DIV/0!"},{"$error":"#DIV/0!"},{"$error":"#DIV/0!"},{"$error":"#DIV/0!"},{"$error":"#DIV/0!"},{"$error":"#DIV/0!"},{"$f":"((EV57/$CG57))*($CG13/1000)","v":{"$error":"#DIV/0!"}},{"$error":"#DIV/0!"},{"$error":"#DIV/0!"},{"$f":"((EY57/$CG57))*($CG13/1000)","v":{"$error":"#DIV/0!"}},{"$error":"#DIV/0!"},{"$error":"#DIV/0!"}]
[20220211,2022,2,11,{"$f":"+JAN!F14+1","v":"2022-01-13"},"2022-02-10",29,{"$f":"+E14-JAN!F14","v":1},null,null,11,0,0,0,0,0,0,0,0,0,0,0,0,0,0,0,1,{"$f":"IF(AND(AB$3>=$E14,AB$3<=$F14),1,0)","v":1},1,1,1,1,1,1,1,1,1,1,1,1,1,1,1,1,1,1,1,1,1,1,1,1,1,1,1,0,0,0,0,0,0,0,0,0,0,0,0,0,0,0,0,0,0,0,0,0,0,0,0,0,0,0,null,{"$error":"#DIV/0!"},44483400,11,{"$f":"((CI58/$CG58))*($CG14/1000)","v":{"$error":"#DIV/0!"}},{"$error":"#DIV/0!"},{"$error":"#DIV/0!"},{"$error":"#DIV/0!"},{"$error":"#DIV/0!"},{"$error":"#DIV/0!"},{"$error":"#DIV/0!"},{"$error":"#DIV/0!"},{"$error":"#DIV/0!"},{"$error":"#DIV/0!"},{"$error":"#DIV/0!"},{"$error":"#DIV/0!"},{"$error":"#DIV/0!"},{"$error":"#DIV/0!"},{"$error":"#DIV/0!"},{"$error":"#DIV/0!"},{"$error":"#DIV/0!"},{"$error":"#DIV/0!"},{"$error":"#DIV/0!"},{"$error":"#DIV/0!"},{"$error":"#DIV/0!"},{"$error":"#DIV/0!"},{"$error":"#DIV/0!"},{"$error":"#DIV/0!"},{"$error":"#DIV/0!"},{"$error":"#DIV/0!"},{"$error":"#DIV/0!"},{"$error":"#DIV/0!"},{"$error":"#DIV/0!"},{"$error":"#DIV/0!"},{"$error":"#DIV/0!"},{"$error":"#DIV/0!"},{"$f":"((DO58/$CG58))*($CG14/1000)","v":{"$error":"#DIV/0!"}},{"$error":"#DIV/0!"},{"$error":"#DIV/0!"},{"$error":"#DIV/0!"},{"$error":"#DIV/0!"},{"$error":"#DIV/0!"},{"$error":"#DIV/0!"},{"$error":"#DIV/0!"},{"$error":"#DIV/0!"},{"$error":"#DIV/0!"},{"$error":"#DIV/0!"},{"$error":"#DIV/0!"},{"$error":"#DIV/0!"},{"$error":"#DIV/0!"},{"$error":"#DIV/0!"},{"$error":"#DIV/0!"},{"$error":"#DIV/0!"},{"$error":"#DIV/0!"},{"$error":"#DIV/0!"},{"$error":"#DIV/0!"},{"$error":"#DIV/0!"},{"$error":"#DIV/0!"},{"$error":"#DIV/0!"},{"$error":"#DIV/0!"},{"$error":"#DIV/0!"},{"$error":"#DIV/0!"},{"$error":"#DIV/0!"},{"$error":"#DIV/0!"},{"$error":"#DIV/0!"},{"$error":"#DIV/0!"},{"$error":"#DIV/0!"},{"$error":"#DIV/0!"},{"$error":"#DIV/0!"},{"$f":"((EV58/$CG58))*($CG14/1000)","v":{"$error":"#DIV/0!"}},{"$error":"#DIV/0!"},{"$error":"#DIV/0!"},{"$f":"((EY58/$CG58))*($CG14/1000)","v":{"$error":"#DIV/0!"}},{"$error":"#DIV/0!"},{"$error":"#DIV/0!"}]
[20220212,2022,2,12,{"$f":"+JAN!F15+1","v":"2022-01-13"},"2022-02-11",30,{"$f":"+E15-JAN!F15","v":1},null,null,12,0,0,0,0,0,0,0,0,0,0,0,0,0,0,0,1,1,1,1,1,1,1,1,1,1,1,1,1,1,1,1,1,1,1,1,1,1,1,1,1,1,1,1,1,1,0,0,0,0,0,0,0,0,0,0,0,0,0,0,0,0,0,0,0,0,0,0,0,0,0,0,null,{"$error":"#DIV/0!"},43226890,12,{"$f":"((CI59/$CG59))*($CG15/1000)","v":{"$error":"#DIV/0!"}},{"$error":"#DIV/0!"},{"$error":"#DIV/0!"},{"$error":"#DIV/0!"},{"$error":"#DIV/0!"},{"$error":"#DIV/0!"},{"$error":"#DIV/0!"},{"$error":"#DIV/0!"},{"$error":"#DIV/0!"},{"$error":"#DIV/0!"},{"$error":"#DIV/0!"},{"$error":"#DIV/0!"},{"$error":"#DIV/0!"},{"$error":"#DIV/0!"},{"$error":"#DIV/0!"},{"$error":"#DIV/0!"},{"$error":"#DIV/0!"},{"$error":"#DIV/0!"},{"$error":"#DIV/0!"},{"$error":"#DIV/0!"},{"$error":"#DIV/0!"},{"$error":"#DIV/0!"},{"$error":"#DIV/0!"},{"$error":"#DIV/0!"},{"$error":"#DIV/0!"},{"$error":"#DIV/0!"},{"$error":"#DIV/0!"},{"$error":"#DIV/0!"},{"$error":"#DIV/0!"},{"$error":"#DIV/0!"},{"$error":"#DIV/0!"},{"$error":"#DIV/0!"},{"$f":"((DO59/$CG59))*($CG15/1000)","v":{"$error":"#DIV/0!"}},{"$error":"#DIV/0!"},{"$error":"#DIV/0!"},{"$error":"#DIV/0!"},{"$error":"#DIV/0!"},{"$error":"#DIV/0!"},{"$error":"#DIV/0!"},{"$error":"#DIV/0!"},{"$error":"#DIV/0!"},{"$error":"#DIV/0!"},{"$error":"#DIV/0!"},{"$error":"#DIV/0!"},{"$error":"#DIV/0!"},{"$error":"#DIV/0!"},{"$error":"#DIV/0!"},{"$error":"#DIV/0!"},{"$error":"#DIV/0!"},{"$error":"#DIV/0!"},{"$error":"#DIV/0!"},{"$error":"#DIV/0!"},{"$error":"#DIV/0!"},{"$error":"#DIV/0!"},{"$error":"#DIV/0!"},{"$error":"#DIV/0!"},{"$error":"#DIV/0!"},{"$error":"#DIV/0!"},{"$error":"#DIV/0!"},{"$error":"#DIV/0!"},{"$error":"#DIV/0!"},{"$error":"#DIV/0!"},{"$error":"#DIV/0!"},{"$error":"#DIV/0!"},{"$error":"#DIV/0!"},{"$f":"((EV59/$CG59))*($CG15/1000)","v":{"$error":"#DIV/0!"}},{"$error":"#DIV/0!"},{"$error":"#DIV/0!"},{"$f":"((EY59/$CG59))*($CG15/1000)","v":{"$error":"#DIV/0!"}},{"$error":"#DIV/0!"},{"$error":"#DIV/0!"}]
[20220213,2022,2,13,{"$f":"+JAN!F16+1","v":"2022-01-14"},"2022-02-14",32,{"$f":"+E16-JAN!F16","v":1},null,null,13,0,0,0,0,0,0,0,0,0,0,0,0,0,0,0,0,1,1,1,1,1,1,1,1,1,1,1,1,1,1,1,1,1,1,1,1,1,1,1,1,1,1,1,1,1,1,1,1,0,0,0,0,0,0,0,0,0,0,0,0,0,0,0,0,0,0,0,0,0,0,0,null,{"$error":"#DIV/0!"},47659881,13,{"$f":"((CI60/$CG60))*($CG16/1000)","v":{"$error":"#DIV/0!"}},{"$error":"#DIV/0!"},{"$error":"#DIV/0!"},{"$error":"#DIV/0!"},{"$error":"#DIV/0!"},{"$error":"#DIV/0!"},{"$error":"#DIV/0!"},{"$error":"#DIV/0!"},{"$error":"#DIV/0!"},{"$error":"#DIV/0!"},{"$error":"#DIV/0!"},{"$error":"#DIV/0!"},{"$error":"#DIV/0!"},{"$error":"#DIV/0!"},{"$error":"#DIV/0!"},{"$error":"#DIV/0!"},{"$error":"#DIV/0!"},{"$error":"#DIV/0!"},{"$error":"#DIV/0!"},{"$error":"#DIV/0!"},{"$error":"#DIV/0!"},{"$error":"#DIV/0!"},{"$error":"#DIV/0!"},{"$error":"#DIV/0!"},{"$error":"#DIV/0!"},{"$error":"#DIV/0!"},{"$error":"#DIV/0!"},{"$error":"#DIV/0!"},{"$error":"#DIV/0!"},{"$error":"#DIV/0!"},{"$error":"#DIV/0!"},{"$error":"#DIV/0!"},{"$f":"((DO60/$CG60))*($CG16/1000)","v":{"$error":"#DIV/0!"}},{"$error":"#DIV/0!"},{"$error":"#DIV/0!"},{"$error":"#DIV/0!"},{"$error":"#DIV/0!"},{"$error":"#DIV/0!"},{"$error":"#DIV/0!"},{"$error":"#DIV/0!"},{"$error":"#DIV/0!"},{"$error":"#DIV/0!"},{"$error":"#DIV/0!"},{"$error":"#DIV/0!"},{"$error":"#DIV/0!"},{"$error":"#DIV/0!"},{"$error":"#DIV/0!"},{"$error":"#DIV/0!"},{"$error":"#DIV/0!"},{"$error":"#DIV/0!"},{"$error":"#DIV/0!"},{"$error":"#DIV/0!"},{"$error":"#DIV/0!"},{"$error":"#DIV/0!"},{"$error":"#DIV/0!"},{"$error":"#DIV/0!"},{"$error":"#DIV/0!"},{"$error":"#DIV/0!"},{"$error":"#DIV/0!"},{"$error":"#DIV/0!"},{"$error":"#DIV/0!"},{"$error":"#DIV/0!"},{"$error":"#DIV/0!"},{"$error":"#DIV/0!"},{"$error":"#DIV/0!"},{"$f":"((EV60/$CG60))*($CG16/1000)","v":{"$error":"#DIV/0!"}},{"$error":"#DIV/0!"},{"$error":"#DIV/0!"},{"$f":"((EY60/$CG60))*($CG16/1000)","v":{"$error":"#DIV/0!"}},{"$error":"#DIV/0!"},{"$error":"#DIV/0!"}]
[20220214,2022,2,14,{"$f":"+JAN!F17+1","v":"2022-01-15"},"2022-02-15",32,{"$f":"+E17-JAN!F17","v":1},null,null,14,0,0,0,0,0,0,0,0,0,0,0,0,0,0,0,0,0,1,1,1,1,1,1,1,1,1,1,1,1,1,1,1,1,1,1,1,1,1,1,1,1,1,1,1,1,1,1,1,1,0,0,0,0,0,0,0,0,0,0,0,0,0,0,0,0,0,0,0,0,0,0,null,{"$error":"#DIV/0!"},68349599,14,{"$f":"((CI61/$CG61))*($CG17/1000)","v":{"$error":"#DIV/0!"}},{"$error":"#DIV/0!"},{"$error":"#DIV/0!"},{"$error":"#DIV/0!"},{"$error":"#DIV/0!"},{"$error":"#DIV/0!"},{"$error":"#DIV/0!"},{"$error":"#DIV/0!"},{"$error":"#DIV/0!"},{"$error":"#DIV/0!"},{"$error":"#DIV/0!"},{"$error":"#DIV/0!"},{"$error":"#DIV/0!"},{"$error":"#DIV/0!"},{"$error":"#DIV/0!"},{"$error":"#DIV/0!"},{"$error":"#DIV/0!"},{"$error":"#DIV/0!"},{"$error":"#DIV/0!"},{"$error":"#DIV/0!"},{"$error":"#DIV/0!"},{"$error":"#DIV/0!"},{"$error":"#DIV/0!"},{"$error":"#DIV/0!"},{"$error":"#DIV/0!"},{"$error":"#DIV/0!"},{"$error":"#DIV/0!"},{"$error":"#DIV/0!"},{"$error":"#DIV/0!"},{"$error":"#DIV/0!"},{"$error":"#DIV/0!"},{"$error":"#DIV/0!"},{"$f":"((DO61/$CG61))*($CG17/1000)","v":{"$error":"#DIV/0!"}},{"$error":"#DIV/0!"},{"$error":"#DIV/0!"},{"$error":"#DIV/0!"},{"$error":"#DIV/0!"},{"$error":"#DIV/0!"},{"$error":"#DIV/0!"},{"$error":"#DIV/0!"},{"$error":"#DIV/0!"},{"$error":"#DIV/0!"},{"$error":"#DIV/0!"},{"$error":"#DIV/0!"},{"$error":"#DIV/0!"},{"$error":"#DIV/0!"},{"$error":"#DIV/0!"},{"$error":"#DIV/0!"},{"$error":"#DIV/0!"},{"$error":"#DIV/0!"},{"$error":"#DIV/0!"},{"$error":"#DIV/0!"},{"$error":"#DIV/0!"},{"$error":"#DIV/0!"},{"$error":"#DIV/0!"},{"$error":"#DIV/0!"},{"$error":"#DIV/0!"},{"$error":"#DIV/0!"},{"$error":"#DIV/0!"},{"$error":"#DIV/0!"},{"$error":"#DIV/0!"},{"$error":"#DIV/0!"},{"$error":"#DIV/0!"},{"$error":"#DIV/0!"},{"$error":"#DIV/0!"},{"$f":"((EV61/$CG61))*($CG17/1000)","v":{"$error":"#DIV/0!"}},{"$error":"#DIV/0!"},{"$error":"#DIV/0!"},{"$f":"((EY61/$CG61))*($CG17/1000)","v":{"$error":"#DIV/0!"}},{"$error":"#DIV/0!"},{"$error":"#DIV/0!"}]
[20220215,2022,2,15,{"$f":"+JAN!F18+1","v":"2022-01-19"},"2022-02-16",29,{"$f":"+E18-JAN!F18","v":1},null,null,15,0,0,0,0,0,0,0,0,0,0,0,0,0,0,0,0,0,0,0,0,0,1,1,1,1,1,1,1,1,1,1,1,1,1,1,1,1,1,1,1,1,1,1,1,1,1,1,1,1,1,0,0,0,0,0,0,0,0,0,0,0,0,0,0,0,0,0,0,0,0,0,null,{"$error":"#DIV/0!"},102102187,15,{"$f":"((CI62/$CG62))*($CG18/1000)","v":{"$error":"#DIV/0!"}},{"$error":"#DIV/0!"},{"$error":"#DIV/0!"},{"$error":"#DIV/0!"},{"$error":"#DIV/0!"},{"$error":"#DIV/0!"},{"$error":"#DIV/0!"},{"$error":"#DIV/0!"},{"$error":"#DIV/0!"},{"$error":"#DIV/0!"},{"$error":"#DIV/0!"},{"$error":"#DIV/0!"},{"$error":"#DIV/0!"},{"$error":"#DIV/0!"},{"$error":"#DIV/0!"},{"$error":"#DIV/0!"},{"$error":"#DIV/0!"},{"$error":"#DIV/0!"},{"$error":"#DIV/0!"},{"$error":"#DIV/0!"},{"$error":"#DIV/0!"},{"$error":"#DIV/0!"},{"$error":"#DIV/0!"},{"$error":"#DIV/0!"},{"$error":"#DIV/0!"},{"$error":"#DIV/0!"},{"$error":"#DIV/0!"},{"$error":"#DIV/0!"},{"$error":"#DIV/0!"},{"$error":"#DIV/0!"},{"$error":"#DIV/0!"},{"$error":"#DIV/0!"},{"$f":"((DO62/$CG62))*($CG18/1000)","v":{"$error":"#DIV/0!"}},{"$error":"#DIV/0!"},{"$error":"#DIV/0!"},{"$error":"#DIV/0!"},{"$error":"#DIV/0!"},{"$error":"#DIV/0!"},{"$error":"#DIV/0!"},{"$error":"#DIV/0!"},{"$error":"#DIV/0!"},{"$error":"#DIV/0!"},{"$error":"#DIV/0!"},{"$error":"#DIV/0!"},{"$error":"#DIV/0!"},{"$error":"#DIV/0!"},{"$error":"#DIV/0!"},{"$error":"#DIV/0!"},{"$error":"#DIV/0!"},{"$error":"#DIV/0!"},{"$error":"#DIV/0!"},{"$error":"#DIV/0!"},{"$error":"#DIV/0!"},{"$error":"#DIV/0!"},{"$error":"#DIV/0!"},{"$error":"#DIV/0!"},{"$error":"#DIV/0!"},{"$error":"#DIV/0!"},{"$error":"#DIV/0!"},{"$error":"#DIV/0!"},{"$error":"#DIV/0!"},{"$error":"#DIV/0!"},{"$error":"#DIV/0!"},{"$error":"#DIV/0!"},{"$error":"#DIV/0!"},{"$f":"((EV62/$CG62))*($CG18/1000)","v":{"$error":"#DIV/0!"}},{"$error":"#DIV/0!"},{"$error":"#DIV/0!"},{"$f":"((EY62/$CG62))*($CG18/1000)","v":{"$error":"#DIV/0!"}},{"$error":"#DIV/0!"},{"$error":"#DIV/0!"}]
[20220216,2022,2,16,{"$f":"+JAN!F19+1","v":"2022-01-20"},"2022-02-17",29,{"$f":"+E19-JAN!F19","v":1},null,null,16,0,0,0,0,0,0,0,0,0,0,0,0,0,0,0,0,0,0,0,0,0,0,1,1,1,1,{"$f":"IF(AND(AL$3>=$E19,AL$3<=$F19),1,0)","v":1},1,1,1,1,1,1,1,1,1,1,1,1,1,1,1,1,1,1,1,1,1,1,1,1,0,0,0,0,0,0,0,0,0,0,0,0,0,0,0,0,0,0,0,0,null,{"$error":"#DIV/0!"},47460173,16,{"$f":"((CI63/$CG63))*($CG19/1000)","v":{"$error":"#DIV/0!"}},{"$error":"#DIV/0!"},{"$error":"#DIV/0!"},{"$error":"#DIV/0!"},{"$error":"#DIV/0!"},{"$error":"#DIV/0!"},{"$error":"#DIV/0!"},{"$error":"#DIV/0!"},{"$error":"#DIV/0!"},{"$error":"#DIV/0!"},{"$error":"#DIV/0!"},{"$error":"#DIV/0!"},{"$error":"#DIV/0!"},{"$error":"#DIV/0!"},{"$error":"#DIV/0!"},{"$error":"#DIV/0!"},{"$error":"#DIV/0!"},{"$error":"#DIV/0!"},{"$error":"#DIV/0!"},{"$error":"#DIV/0!"},{"$error":"#DIV/0!"},{"$error":"#DIV/0!"},{"$error":"#DIV/0!"},{"$error":"#DIV/0!"},{"$error":"#DIV/0!"},{"$error":"#DIV/0!"},{"$error":"#DIV/0!"},{"$error":"#DIV/0!"},{"$error":"#DIV/0!"},{"$error":"#DIV/0!"},{"$error":"#DIV/0!"},{"$error":"#DIV/0!"},{"$f":"((DO63/$CG63))*($CG19/1000)","v":{"$error":"#DIV/0!"}},{"$error":"#DIV/0!"},{"$error":"#DIV/0!"},{"$error":"#DIV/0!"},{"$error":"#DIV/0!"},{"$error":"#DIV/0!"},{"$error":"#DIV/0!"},{"$error":"#DIV/0!"},{"$error":"#DIV/0!"},{"$error":"#DIV/0!"},{"$error":"#DIV/0!"},{"$error":"#DIV/0!"},{"$error":"#DIV/0!"},{"$error":"#DIV/0!"},{"$error":"#DIV/0!"},{"$error":"#DIV/0!"},{"$error":"#DIV/0!"},{"$error":"#DIV/0!"},{"$error":"#DIV/0!"},{"$error":"#DIV/0!"},{"$error":"#DIV/0!"},{"$error":"#DIV/0!"},{"$error":"#DIV/0!"},{"$error":"#DIV/0!"},{"$error":"#DIV/0!"},{"$error":"#DIV/0!"},{"$error":"#DIV/0!"},{"$error":"#DIV/0!"},{"$error":"#DIV/0!"},{"$error":"#DIV/0!"},{"$error":"#DIV/0!"},{"$error":"#DIV/0!"},{"$error":"#DIV/0!"},{"$f":"((EV63/$CG63))*($CG19/1000)","v":{"$error":"#DIV/0!"}},{"$error":"#DIV/0!"},{"$error":"#DIV/0!"},{"$f":"((EY63/$CG63))*($CG19/1000)","v":{"$error":"#DIV/0!"}},{"$error":"#DIV/0!"},{"$error":"#DIV/0!"}]
[20220217,2022,2,17,{"$f":"+JAN!F20+1","v":"2022-01-21"},"2022-02-18",29,{"$f":"+E20-JAN!F20","v":1},null,null,17,0,0,0,0,0,0,0,0,0,0,0,0,0,0,0,0,{"$f":"IF(AND(AB$3>=$E20,AB$3<=$F20),1,0)","v":0},0,0,0,0,0,0,1,1,1,1,1,1,1,1,1,1,1,1,1,1,1,1,1,1,1,1,1,1,1,1,1,1,1,1,1,0,0,0,0,0,0,0,0,0,0,0,0,0,0,0,0,{"$f":"IF(AND(CB$3>=$E20,CB$3<=$F20),1,0)","v":0},0,0,null,{"$error":"#DIV/0!"},34161086,17,{"$f":"((CI64/$CG64))*($CG20/1000)","v":{"$error":"#DIV/0!"}},{"$error":"#DIV/0!"},{"$error":"#DIV/0!"},{"$error":"#DIV/0!"},{"$error":"#DIV/0!"},{"$error":"#DIV/0!"},{"$error":"#DIV/0!"},{"$error":"#DIV/0!"},{"$error":"#DIV/0!"},{"$error":"#DIV/0!"},{"$error":"#DIV/0!"},{"$error":"#DIV/0!"},{"$error":"#DIV/0!"},{"$error":"#DIV/0!"},{"$error":"#DIV/0!"},{"$error":"#DIV/0!"},{"$error":"#DIV/0!"},{"$error":"#DIV/0!"},{"$error":"#DIV/0!"},{"$error":"#DIV/0!"},{"$error":"#DIV/0!"},{"$error":"#DIV/0!"},{"$error":"#DIV/0!"},{"$error":"#DIV/0!"},{"$error":"#DIV/0!"},{"$error":"#DIV/0!"},{"$error":"#DIV/0!"},{"$error":"#DIV/0!"},{"$error":"#DIV/0!"},{"$error":"#DIV/0!"},{"$error":"#DIV/0!"},{"$error":"#DIV/0!"},{"$f":"((DO64/$CG64))*($CG20/1000)","v":{"$error":"#DIV/0!"}},{"$error":"#DIV/0!"},{"$error":"#DIV/0!"},{"$error":"#DIV/0!"},{"$error":"#DIV/0!"},{"$error":"#DIV/0!"},{"$error":"#DIV/0!"},{"$error":"#DIV/0!"},{"$error":"#DIV/0!"},{"$error":"#DIV/0!"},{"$error":"#DIV/0!"},{"$error":"#DIV/0!"},{"$error":"#DIV/0!"},{"$error":"#DIV/0!"},{"$error":"#DIV/0!"},{"$error":"#DIV/0!"},{"$error":"#DIV/0!"},{"$error":"#DIV/0!"},{"$error":"#DIV/0!"},{"$error":"#DIV/0!"},{"$error":"#DIV/0!"},{"$error":"#DIV/0!"},{"$error":"#DIV/0!"},{"$error":"#DIV/0!"},{"$error":"#DIV/0!"},{"$error":"#DIV/0!"},{"$error":"#DIV/0!"},{"$error":"#DIV/0!"},{"$error":"#DIV/0!"},{"$error":"#DIV/0!"},{"$error":"#DIV/0!"},{"$error":"#DIV/0!"},{"$error":"#DIV/0!"},{"$f":"((EV64/$CG64))*($CG20/1000)","v":{"$error":"#DIV/0!"}},{"$error":"#DIV/0!"},{"$error":"#DIV/0!"},{"$f":"((EY64/$CG64))*($CG20/1000)","v":{"$error":"#DIV/0!"}},{"$error":"#DIV/0!"},{"$error":"#DIV/0!"}]
[20220218,2022,2,18,{"$f":"+JAN!F21+1","v":"2022-01-22"},"2022-02-21",31,{"$f":"+E21-JAN!F21","v":1},null,null,18,0,0,0,0,0,0,0,0,0,0,0,0,0,0,0,0,0,0,0,0,0,0,0,0,1,1,1,1,1,1,1,1,1,1,1,1,1,1,1,1,1,1,1,1,1,1,1,1,1,1,1,1,1,1,1,0,0,0,0,0,0,0,0,0,0,0,0,0,0,0,0,null,{"$error":"#DIV/0!"},96293226,18,{"$f":"((CI65/$CG65))*($CG21/1000)","v":{"$error":"#DIV/0!"}},{"$error":"#DIV/0!"},{"$error":"#DIV/0!"},{"$error":"#DIV/0!"},{"$error":"#DIV/0!"},{"$error":"#DIV/0!"},{"$error":"#DIV/0!"},{"$error":"#DIV/0!"},{"$error":"#DIV/0!"},{"$error":"#DIV/0!"},{"$error":"#DIV/0!"},{"$error":"#DIV/0!"},{"$error":"#DIV/0!"},{"$error":"#DIV/0!"},{"$error":"#DIV/0!"},{"$error":"#DIV/0!"},{"$error":"#DIV/0!"},{"$error":"#DIV/0!"},{"$error":"#DIV/0!"},{"$error":"#DIV/0!"},{"$error":"#DIV/0!"},{"$error":"#DIV/0!"},{"$error":"#DIV/0!"},{"$error":"#DIV/0!"},{"$error":"#DIV/0!"},{"$error":"#DIV/0!"},{"$error":"#DIV/0!"},{"$error":"#DIV/0!"},{"$error":"#DIV/0!"},{"$error":"#DIV/0!"},{"$error":"#DIV/0!"},{"$error":"#DIV/0!"},{"$f":"((DO65/$CG65))*($CG21/1000)","v":{"$error":"#DIV/0!"}},{"$error":"#DIV/0!"},{"$error":"#DIV/0!"},{"$error":"#DIV/0!"},{"$error":"#DIV/0!"},{"$error":"#DIV/0!"},{"$error":"#DIV/0!"},{"$error":"#DIV/0!"},{"$error":"#DIV/0!"},{"$error":"#DIV/0!"},{"$error":"#DIV/0!"},{"$error":"#DIV/0!"},{"$error":"#DIV/0!"},{"$error":"#DIV/0!"},{"$error":"#DIV/0!"},{"$error":"#DIV/0!"},{"$error":"#DIV/0!"},{"$error":"#DIV/0!"},{"$error":"#DIV/0!"},{"$error":"#DIV/0!"},{"$error":"#DIV/0!"},{"$error":"#DIV/0!"},{"$error":"#DIV/0!"},{"$error":"#DIV/0!"},{"$error":"#DIV/0!"},{"$error":"#DIV/0!"},{"$error":"#DIV/0!"},{"$error":"#DIV/0!"},{"$error":"#DIV/0!"},{"$error":"#DIV/0!"},{"$error":"#DIV/0!"},{"$error":"#DIV/0!"},{"$error":"#DIV/0!"},{"$f":"((EV65/$CG65))*($CG21/1000)","v":{"$error":"#DIV/0!"}},{"$error":"#DIV/0!"},{"$error":"#DIV/0!"},{"$f":"((EY65/$CG65))*($CG21/1000)","v":{"$error":"#DIV/0!"}},{"$error":"#DIV/0!"},{"$error":"#DIV/0!"}]
[20220219,2022,2,19,{"$f":"+JAN!F22+1","v":"2022-01-25"},"2022-02-22",29,{"$f":"+E22-JAN!F22","v":1},null,null,19,0,0,0,0,0,0,0,0,0,0,0,0,0,0,0,0,0,0,0,0,0,0,0,0,0,0,0,1,1,1,1,1,1,1,1,1,1,1,1,1,1,1,1,1,1,1,1,1,1,1,1,1,1,1,1,1,0,0,0,0,0,0,0,0,0,0,0,0,0,0,0,null,{"$error":"#DIV/0!"},43451164,19,{"$f":"((CI66/$CG66))*($CG22/1000)","v":{"$error":"#DIV/0!"}},{"$error":"#DIV/0!"},{"$error":"#DIV/0!"},{"$error":"#DIV/0!"},{"$error":"#DIV/0!"},{"$error":"#DIV/0!"},{"$error":"#DIV/0!"},{"$error":"#DIV/0!"},{"$error":"#DIV/0!"},{"$error":"#DIV/0!"},{"$error":"#DIV/0!"},{"$error":"#DIV/0!"},{"$error":"#DIV/0!"},{"$error":"#DIV/0!"},{"$error":"#DIV/0!"},{"$error":"#DIV/0!"},{"$error":"#DIV/0!"},{"$error":"#DIV/0!"},{"$error":"#DIV/0!"},{"$error":"#DIV/0!"},{"$error":"#DIV/0!"},{"$error":"#DIV/0!"},{"$error":"#DIV/0!"},{"$error":"#DIV/0!"},{"$error":"#DIV/0!"},{"$error":"#DIV/0!"},{"$error":"#DIV/0!"},{"$error":"#DIV/0!"},{"$error":"#DIV/0!"},{"$error":"#DIV/0!"},{"$error":"#DIV/0!"},{"$error":"#DIV/0!"},{"$f":"((DO66/$CG66))*($CG22/1000)","v":{"$error":"#DIV/0!"}},{"$error":"#DIV/0!"},{"$error":"#DIV/0!"},{"$error":"#DIV/0!"},{"$error":"#DIV/0!"},{"$error":"#DIV/0!"},{"$error":"#DIV/0!"},{"$error":"#DIV/0!"},{"$error":"#DIV/0!"},{"$error":"#DIV/0!"},{"$error":"#DIV/0!"},{"$error":"#DIV/0!"},{"$error":"#DIV/0!"},{"$error":"#DIV/0!"},{"$error":"#DIV/0!"},{"$error":"#DIV/0!"},{"$error":"#DIV/0!"},{"$error":"#DIV/0!"},{"$error":"#DIV/0!"},{"$error":"#DIV/0!"},{"$error":"#DIV/0!"},{"$error":"#DIV/0!"},{"$error":"#DIV/0!"},{"$error":"#DIV/0!"},{"$error":"#DIV/0!"},{"$error":"#DIV/0!"},{"$error":"#DIV/0!"},{"$error":"#DIV/0!"},{"$error":"#DIV/0!"},{"$error":"#DIV/0!"},{"$error":"#DIV/0!"},{"$error":"#DIV/0!"},{"$error":"#DIV/0!"},{"$f":"((EV66/$CG66))*($CG22/1000)","v":{"$error":"#DIV/0!"}},{"$error":"#DIV/0!"},{"$error":"#DIV/0!"},{"$f":"((EY66/$CG66))*($CG22/1000)","v":{"$error":"#DIV/0!"}},{"$error":"#DIV/0!"},{"$error":"#DIV/0!"}]
[20220220,2022,2,20,{"$f":"+JAN!F23+1","v":"2022-01-26"},"2022-02-23",29,{"$f":"+E23-JAN!F23","v":1},null,null,20,0,0,0,0,0,0,0,0,0,0,0,0,{"$f":"IF(AND(X$3>=$E23,X$3<=$F23),1,0)","v":0},0,0,0,0,0,0,0,0,0,0,0,0,0,0,0,1,1,1,1,1,1,1,1,1,1,1,1,1,1,1,1,1,1,1,1,1,1,1,1,1,1,1,1,1,0,0,0,0,0,0,0,0,0,0,0,0,0,0,null,{"$error":"#DIV/0!"},41259392,20,{"$f":"((CI67/$CG67))*($CG23/1000)","v":{"$error":"#DIV/0!"}},{"$error":"#DIV/0!"},{"$error":"#DIV/0!"},{"$error":"#DIV/0!"},{"$error":"#DIV/0!"},{"$error":"#DIV/0!"},{"$error":"#DIV/0!"},{"$error":"#DIV/0!"},{"$error":"#DIV/0!"},{"$error":"#DIV/0!"},{"$error":"#DIV/0!"},{"$error":"#DIV/0!"},{"$error":"#DIV/0!"},{"$error":"#DIV/0!"},{"$error":"#DIV/0!"},{"$error":"#DIV/0!"},{"$error":"#DIV/0!"},{"$error":"#DIV/0!"},{"$error":"#DIV/0!"},{"$error":"#DIV/0!"},{"$error":"#DIV/0!"},{"$error":"#DIV/0!"},{"$error":"#DIV/0!"},{"$error":"#DIV/0!"},{"$error":"#DIV/0!"},{"$error":"#DIV/0!"},{"$error":"#DIV/0!"},{"$error":"#DIV/0!"},{"$error":"#DIV/0!"},{"$error":"#DIV/0!"},{"$error":"#DIV/0!"},{"$error":"#DIV/0!"},{"$f":"((DO67/$CG67))*($CG23/1000)","v":{"$error":"#DIV/0!"}},{"$error":"#DIV/0!"},{"$error":"#DIV/0!"},{"$error":"#DIV/0!"},{"$error":"#DIV/0!"},{"$error":"#DIV/0!"},{"$error":"#DIV/0!"},{"$error":"#DIV/0!"},{"$error":"#DIV/0!"},{"$error":"#DIV/0!"},{"$error":"#DIV/0!"},{"$error":"#DIV/0!"},{"$error":"#DIV/0!"},{"$error":"#DIV/0!"},{"$error":"#DIV/0!"},{"$error":"#DIV/0!"},{"$error":"#DIV/0!"},{"$error":"#DIV/0!"},{"$error":"#DIV/0!"},{"$error":"#DIV/0!"},{"$error":"#DIV/0!"},{"$error":"#DIV/0!"},{"$error":"#DIV/0!"},{"$error":"#DIV/0!"},{"$error":"#DIV/0!"},{"$error":"#DIV/0!"},{"$error":"#DIV/0!"},{"$error":"#DIV/0!"},{"$error":"#DIV/0!"},{"$error":"#DIV/0!"},{"$error":"#DIV/0!"},{"$error":"#DIV/0!"},{"$error":"#DIV/0!"},{"$f":"((EV67/$CG67))*($CG23/1000)","v":{"$error":"#DIV/0!"}},{"$error":"#DIV/0!"},{"$error":"#DIV/0!"},{"$f":"((EY67/$CG67))*($CG23/1000)","v":{"$error":"#DIV/0!"}},{"$error":"#DIV/0!"},{"$error":"#DIV/0!"}]
[20220221,2022,2,21,{"$f":"+JAN!F24+1","v":"2022-01-27"},"2022-02-24",29,{"$f":"+E24-JAN!F24","v":1},null,null,21,{"$f":"IF(AND(L$3>=$E24,L$3<=$F24),1,0)","v":0},0,0,0,0,0,0,0,0,0,0,0,0,0,0,0,0,0,0,0,0,0,0,0,0,0,0,0,0,1,1,1,1,1,1,1,1,1,1,1,1,1,1,1,1,1,1,1,1,1,1,1,1,1,1,1,1,1,0,0,0,0,0,0,0,0,0,0,0,0,0,null,{"$error":"#DIV/0!"},78270537,21,{"$f":"((CI68/$CG68))*($CG24/1000)","v":{"$error":"#DIV/0!"}},{"$error":"#DIV/0!"},{"$error":"#DIV/0!"},{"$error":"#DIV/0!"},{"$error":"#DIV/0!"},{"$error":"#DIV/0!"},{"$error":"#DIV/0!"},{"$error":"#DIV/0!"},{"$error":"#DIV/0!"},{"$error":"#DIV/0!"},{"$error":"#DIV/0!"},{"$error":"#DIV/0!"},{"$error":"#DIV/0!"},{"$error":"#DIV/0!"},{"$error":"#DIV/0!"},{"$error":"#DIV/0!"},{"$error":"#DIV/0!"},{"$error":"#DIV/0!"},{"$error":"#DIV/0!"},{"$error":"#DIV/0!"},{"$error":"#DIV/0!"},{"$error":"#DIV/0!"},{"$error":"#DIV/0!"},{"$error":"#DIV/0!"},{"$error":"#DIV/0!"},{"$error":"#DIV/0!"},{"$error":"#DIV/0!"},{"$error":"#DIV/0!"},{"$error":"#DIV/0!"},{"$error":"#DIV/0!"},{"$error":"#DIV/0!"},{"$error":"#DIV/0!"},{"$f":"((DO68/$CG68))*($CG24/1000)","v":{"$error":"#DIV/0!"}},{"$error":"#DIV/0!"},{"$error":"#DIV/0!"},{"$error":"#DIV/0!"},{"$error":"#DIV/0!"},{"$error":"#DIV/0!"},{"$error":"#DIV/0!"},{"$error":"#DIV/0!"},{"$error":"#DIV/0!"},{"$error":"#DIV/0!"},{"$error":"#DIV/0!"},{"$error":"#DIV/0!"},{"$error":"#DIV/0!"},{"$error":"#DIV/0!"},{"$error":"#DIV/0!"},{"$error":"#DIV/0!"},{"$error":"#DIV/0!"},{"$error":"#DIV/0!"},{"$error":"#DIV/0!"},{"$error":"#DIV/0!"},{"$error":"#DIV/0!"},{"$error":"#DIV/0!"},{"$error":"#DIV/0!"},{"$error":"#DIV/0!"},{"$error":"#DIV/0!"},{"$error":"#DIV/0!"},{"$error":"#DIV/0!"},{"$error":"#DIV/0!"},{"$error":"#DIV/0!"},{"$error":"#DIV/0!"},{"$error":"#DIV/0!"},{"$error":"#DIV/0!"},{"$error":"#DIV/0!"},{"$f":"((EV68/$CG68))*($CG24/1000)","v":{"$error":"#DIV/0!"}},{"$error":"#DIV/0!"},{"$error":"#DIV/0!"},{"$f":"((EY68/$CG68))*($CG24/1000)","v":{"$error":"#DIV/0!"}},{"$error":"#DIV/0!"},{"$error":"#DIV/0!"}]
[{"$f":"+A24+2","v":20220223},2022,2,23,{"$f":"+JAN!F25+1","v":"2022-02-01"},{"$f":"DATE(A1,A2,28)","v":"2022-02-28"},28,{"$f":"+E25-JAN!F25","v":1},null,null,23,0,0,0,0,0,0,0,0,0,0,0,0,0,0,0,0,0,0,0,0,0,0,0,0,0,0,0,0,0,0,0,0,0,0,1,1,1,1,1,1,1,1,1,1,1,1,1,1,1,1,1,1,1,1,1,1,1,1,1,1,1,1,0,0,0,0,{"$f":"IF(AND(BZ$3>=$E25,BZ$3<=$F25+1),1,0)","v":0},{"$f":"IF(AND(CA$3>=$E25,CA$3<=$F25+1),1,0)","v":0},{"$f":"IF(AND(CB$3>=$E25,CB$3<=$F25+1),1,0)","v":0},0,0,null,{"$f":"SUM(CI25:FA25)-CG25/1000","v":{"$error":"#DIV/0!"}},95873374,23,{"$f":"((CI69/$CG69))*($CG25/1000)","v":{"$error":"#DIV/0!"}},{"$error":"#DIV/0!"},{"$error":"#DIV/0!"},{"$error":"#DIV/0!"},{"$error":"#DIV/0!"},{"$error":"#DIV/0!"},{"$error":"#DIV/0!"},{"$error":"#DIV/0!"},{"$error":"#DIV/0!"},{"$error":"#DIV/0!"},{"$error":"#DIV/0!"},{"$error":"#DIV/0!"},{"$error":"#DIV/0!"},{"$error":"#DIV/0!"},{"$error":"#DIV/0!"},{"$error":"#DIV/0!"},{"$error":"#DIV/0!"},{"$error":"#DIV/0!"},{"$error":"#DIV/0!"},{"$error":"#DIV/0!"},{"$error":"#DIV/0!"},{"$error":"#DIV/0!"},{"$error":"#DIV/0!"},{"$error":"#DIV/0!"},{"$error":"#DIV/0!"},{"$error":"#DIV/0!"},{"$error":"#DIV/0!"},{"$error":"#DIV/0!"},{"$error":"#DIV/0!"},{"$error":"#DIV/0!"},{"$error":"#DIV/0!"},{"$error":"#DIV/0!"},{"$f":"((DO69/$CG69))*($CG25/1000)","v":{"$error":"#DIV/0!"}},{"$error":"#DIV/0!"},{"$error":"#DIV/0!"},{"$error":"#DIV/0!"},{"$error":"#DIV/0!"},{"$error":"#DIV/0!"},{"$error":"#DIV/0!"},{"$error":"#DIV/0!"},{"$error":"#DIV/0!"},{"$error":"#DIV/0!"},{"$error":"#DIV/0!"},{"$error":"#DIV/0!"},{"$error":"#DIV/0!"},{"$error":"#DIV/0!"},{"$error":"#DIV/0!"},{"$error":"#DIV/0!"},{"$error":"#DIV/0!"},{"$error":"#DIV/0!"},{"$error":"#DIV/0!"},{"$error":"#DIV/0!"},{"$error":"#DIV/0!"},{"$error":"#DIV/0!"},{"$error":"#DIV/0!"},{"$error":"#DIV/0!"},{"$error":"#DIV/0!"},{"$error":"#DIV/0!"},{"$error":"#DIV/0!"},{"$error":"#DIV/0!"},{"$error":"#DIV/0!"},{"$error":"#DIV/0!"},{"$error":"#DIV/0!"},{"$error":"#DIV/0!"},{"$error":"#DIV/0!"},{"$f":"((EV69/$CG69))*($CG25/1000)","v":{"$error":"#DIV/0!"}},{"$error":"#DIV/0!"},{"$error":"#DIV/0!"},{"$f":"((EY69/$CG69))*($CG25/1000)","v":{"$error":"#DIV/0!"}},{"$error":"#DIV/0!"},{"$error":"#DIV/0!"}]
[null,null,null,null,null,null,{"$f":"AVERAGE(G4:G25)","v":29.681818181818183},null,null,null,"Cnt",{"$f":"SUM(L4:L25)","v":1},{"$f":"SUM(M4:M25)","v":2},3,3,3,3,4,5,6,7,8,8,8,9,10,12,13,14,14,14,14,15,16,17,18,18,18,19,20,21,20,19,19,19,19,18,17,16,15,15,15,14,13,12,11,10,10,10,9,8,7,6,5,5,5,4,3,2,1,1,1,1,0,0,0,{"$f":"SUM(BY4:BY25)","v":0},0,0,0,0,0,null,{"$f":"SUM(CI26:FA26)-CG26/1000","v":{"$error":"#DIV/0!"}},{"$f":"SUM(CG4:CG25)","v":1376994332},{"$f":"SUM(CI26:FA26)","v":{"$error":"#DIV/0!"}},{"$f":"SUM(CI4:CI25)","v":{"$error":"#DIV/0!"}},{"$f":"SUM(CJ4:CJ25)","v":{"$error":"#DIV/0!"}},{"$error":"#DIV/0!"},{"$error":"#DIV/0!"},{"$error":"#DIV/0!"},{"$error":"#DIV/0!"},{"$error":"#DIV/0!"},{"$error":"#DIV/0!"},{"$error":"#DIV/0!"},{"$error":"#DIV/0!"},{"$error":"#DIV/0!"},{"$error":"#DIV/0!"},{"$error":"#DIV/0!"},{"$error":"#DIV/0!"},{"$error":"#DIV/0!"},{"$error":"#DIV/0!"},{"$error":"#DIV/0!"},{"$error":"#DIV/0!"},{"$error":"#DIV/0!"},{"$error":"#DIV/0!"},{"$error":"#DIV/0!"},{"$error":"#DIV/0!"},{"$error":"#DIV/0!"},{"$error":"#DIV/0!"},{"$error":"#DIV/0!"},{"$error":"#DIV/0!"},{"$error":"#DIV/0!"},{"$error":"#DIV/0!"},{"$error":"#DIV/0!"},{"$error":"#DIV/0!"},{"$error":"#DIV/0!"},{"$error":"#DIV/0!"},{"$error":"#DIV/0!"},{"$error":"#DIV/0!"},{"$error":"#DIV/0!"},{"$error":"#DIV/0!"},{"$error":"#DIV/0!"},{"$error":"#DIV/0!"},{"$error":"#DIV/0!"},{"$error":"#DIV/0!"},{"$error":"#DIV/0!"},{"$error":"#DIV/0!"},{"$error":"#DIV/0!"},{"$error":"#DIV/0!"},{"$error":"#DIV/0!"},{"$error":"#DIV/0!"},{"$error":"#DIV/0!"},{"$error":"#DIV/0!"},{"$error":"#DIV/0!"},{"$error":"#DIV/0!"},{"$error":"#DIV/0!"},{"$error":"#DIV/0!"},{"$error":"#DIV/0!"},{"$error":"#DIV/0!"},{"$error":"#DIV/0!"},{"$error":"#DIV/0!"},{"$error":"#DIV/0!"},{"$error":"#DIV/0!"},{"$error":"#DIV/0!"},{"$error":"#DIV/0!"},{"$error":"#DIV/0!"},{"$error":"#DIV/0!"},{"$error":"#DIV/0!"},{"$error":"#DIV/0!"},{"$error":"#DIV/0!"},{"$f":"SUM(EV4:EV25)","v":{"$error":"#DIV/0!"}},{"$error":"#DIV/0!"},{"$error":"#DIV/0!"},{"$f":"SUM(EY4:EY25)","v":{"$error":"#DIV/0!"}},{"$error":"#DIV/0!"},{"$error":"#DIV/0!"}]
[null,null,null,null,null,"Check",{"$f":"+CD3","v":"2022-03-09"},null,{"$f":"SUM(L27:CD27)","v":29.681818181818187},null,"PctOn",{"$f":"+L26/22","v":4.5454545454545456E-2},{"$f":"+M26/22","v":9.0909090909090912E-2},0.13636363636363635,0.13636363636363635,0.13636363636363635,0.13636363636363635,0.18181818181818182,0.22727272727272727,0.27272727272727271,0.31818181818181818,0.36363636363636365,0.36363636363636365,0.36363636363636365,0.40909090909090912,0.45454545454545453,0.54545454545454541,0.59090909090909094,0.63636363636363635,0.63636363636363635,0.63636363636363635,0.63636363636363635,0.68181818181818177,0.72727272727272729,0.77272727272727271,0.81818181818181823,0.81818181818181823,0.81818181818181823,0.86363636363636365,0.90909090909090906,0.95454545454545459,0.90909090909090906,0.86363636363636365,0.86363636363636365,0.86363636363636365,0.86363636363636365,0.81818181818181823,0.77272727272727271,0.72727272727272729,0.68181818181818177,0.68181818181818177,0.68181818181818177,0.63636363636363635,0.59090909090909094,0.54545454545454541,0.5,0.45454545454545453,0.45454545454545453,0.45454545454545453,0.40909090909090912,0.36363636363636365,0.31818181818181818,0.27272727272727271,0.22727272727272727,0.22727272727272727,0.22727272727272727,0.18181818181818182,0.13636363636363635,9.0909090909090912E-2,4.5454545454545456E-2,4.5454545454545456E-2,4.5454545454545456E-2,4.5454545454545456E-2,0,0,0,{"$f":"+BY26/22","v":0},0,0,0,0,0,null,null,null,"NEL---->>>",{"$f":"VLOOKUP(CI3,Daily!$A$2:$H$459,8)","v":0},{"$f":"VLOOKUP(CJ3,Daily!$A$2:$H$459,8)","v":0},{"$f":"VLOOKUP(CK3,Daily!$A$2:$H$459,8)","v":0},{"$f":"VLOOKUP(CL3,Daily!$A$2:$H$459,8)","v":0},{"$f":"VLOOKUP(CM3,Daily!$A$2:$H$459,8)","v":0},{"$f":"VLOOKUP(CN3,Daily!$A$2:$H$459,8)","v":0},{"$f":"VLOOKUP(CO3,Daily!$A$2:$H$459,8)","v":0},{"$f":"VLOOKUP(CP3,Daily!$A$2:$H$459,8)","v":0},{"$f":"VLOOKUP(CQ3,Daily!$A$2:$H$459,8)","v":0},{"$f":"VLOOKUP(CR3,Daily!$A$2:$H$459,8)","v":0},{"$f":"VLOOKUP(CS3,Daily!$A$2:$H$459,8)","v":0},{"$f":"VLOOKUP(CT3,Daily!$A$2:$H$459,8)","v":0},{"$f":"VLOOKUP(CU3,Daily!$A$2:$H$459,8)","v":0},{"$f":"VLOOKUP(CV3,Daily!$A$2:$H$459,8)","v":0},{"$f":"VLOOKUP(CW3,Daily!$A$2:$H$459,8)","v":0},{"$f":"VLOOKUP(CX3,Daily!$A$2:$H$459,8)","v":0},{"$f":"VLOOKUP(CY3,Daily!$A$2:$H$459,8)","v":0},{"$f":"VLOOKUP(CZ3,Daily!$A$2:$H$459,8)","v":0},{"$f":"VLOOKUP(DA3,Daily!$A$2:$H$459,8)","v":0},{"$f":"VLOOKUP(DB3,Daily!$A$2:$H$459,8)","v":0},{"$f":"VLOOKUP(DC3,Daily!$A$2:$H$459,8)","v":0},{"$f":"VLOOKUP(DD3,Daily!$A$2:$H$459,8)","v":0},{"$f":"VLOOKUP(DE3,Daily!$A$2:$H$459,8)","v":0},{"$f":"VLOOKUP(DF3,Daily!$A$2:$H$459,8)","v":0},{"$f":"VLOOKUP(DG3,Daily!$A$2:$H$459,8)","v":0},{"$f":"VLOOKUP(DH3,Daily!$A$2:$H$459,8)","v":0},{"$f":"VLOOKUP(DI3,Daily!$A$2:$H$459,8)","v":0},{"$f":"VLOOKUP(DJ3,Daily!$A$2:$H$459,8)","v":0},{"$f":"VLOOKUP(DK3,Daily!$A$2:$H$459,8)","v":0},{"$f":"VLOOKUP(DL3,Daily!$A$2:$H$459,8)","v":0},{"$f":"VLOOKUP(DM3,Daily!$A$2:$H$459,8)","v":0},{"$f":"VLOOKUP(DN3,Daily!$A$2:$H$459,8)","v":0},{"$f":"VLOOKUP(DO3,Daily!$A$2:$H$459,8)","v":0},{"$f":"VLOOKUP(DP3,Daily!$A$2:$H$459,8)","v":0},{"$f":"VLOOKUP(DQ3,Daily!$A$2:$H$459,8)","v":0},{"$f":"VLOOKUP(DR3,Daily!$A$2:$H$459,8)","v":0},{"$f":"VLOOKUP(DS3,Daily!$A$2:$H$459,8)","v":0},{"$f":"VLOOKUP(DT3,Daily!$A$2:$H$459,8)","v":0},{"$f":"VLOOKUP(DU3,Daily!$A$2:$H$459,8)","v":0},{"$f":"VLOOKUP(DV3,Daily!$A$2:$H$459,8)","v":0},{"$f":"VLOOKUP(DW3,Daily!$A$2:$H$459,8)","v":0},{"$f":"VLOOKUP(DX3,Daily!$A$2:$H$459,8)","v":0},{"$f":"VLOOKUP(DY3,Daily!$A$2:$H$459,8)","v":0},{"$f":"VLOOKUP(DZ3,Daily!$A$2:$H$459,8)","v":0},{"$f":"VLOOKUP(EA3,Daily!$A$2:$H$459,8)","v":0},{"$f":"VLOOKUP(EB3,Daily!$A$2:$H$459,8)","v":0},{"$f":"VLOOKUP(EC3,Daily!$A$2:$H$459,8)","v":0},{"$f":"VLOOKUP(ED3,Daily!$A$2:$H$459,8)","v":0},{"$f":"VLOOKUP(EE3,Daily!$A$2:$H$459,8)","v":0},{"$f":"VLOOKUP(EF3,Daily!$A$2:$H$459,8)","v":0},{"$f":"VLOOKUP(EG3,Daily!$A$2:$H$459,8)","v":0},{"$f":"VLOOKUP(EH3,Daily!$A$2:$H$459,8)","v":0},{"$f":"VLOOKUP(EI3,Daily!$A$2:$H$459,8)","v":0},{"$f":"VLOOKUP(EJ3,Daily!$A$2:$H$459,8)","v":0},{"$f":"VLOOKUP(EK3,Daily!$A$2:$H$459,8)","v":0},{"$f":"VLOOKUP(EL3,Daily!$A$2:$H$459,8)","v":0},{"$f":"VLOOKUP(EM3,Daily!$A$2:$H$459,8)","v":0},{"$f":"VLOOKUP(EN3,Daily!$A$2:$H$459,8)","v":0},{"$f":"VLOOKUP(EO3,Daily!$A$2:$H$459,8)","v":0},{"$f":"VLOOKUP(EP3,Daily!$A$2:$H$459,8)","v":0},{"$f":"VLOOKUP(EQ3,Daily!$A$2:$H$459,8)","v":0},{"$f":"VLOOKUP(ER3,Daily!$A$2:$H$459,8)","v":0},{"$f":"VLOOKUP(ES3,Daily!$A$2:$H$459,8)","v":0},{"$f":"VLOOKUP(ET3,Daily!$A$2:$H$459,8)","v":0},{"$f":"VLOOKUP(EU3,Daily!$A$2:$H$459,8)","v":0},{"$f":"VLOOKUP(EV3,Daily!$A$2:$H$459,8)","v":0},{"$f":"VLOOKUP(EW3,Daily!$A$2:$H$459,8)","v":0},{"$f":"VLOOKUP(EX3,Daily!$A$2:$H$459,8)","v":0},{"$f":"VLOOKUP(EY3,Daily!$A$2:$H$459,8)","v":0},{"$f":"VLOOKUP(EZ3,Daily!$A$2:$H$459,8)","v":0},{"$f":"VLOOKUP(FA3,Daily!$A$2:$H$459,8)","v":0}]
[null,null,null,null,null,null,null,null,null,null,"PctOff",{"$f":"1-L27","v":0.95454545454545459},{"$f":"1-M27","v":0.90909090909090906},0.86363636363636365,0.86363636363636365,0.86363636363636365,0.86363636363636365,0.81818181818181812,0.77272727272727271,0.72727272727272729,0.68181818181818188,0.63636363636363635,0.63636363636363635,0.63636363636363635,0.59090909090909083,0.54545454545454541,0.45454545454545459,0.40909090909090906,0.36363636363636365,0.36363636363636365,0.36363636363636365,0.36363636363636365,0.31818181818181823,0.27272727272727271,0.22727272727272729,0.18181818181818177,0.18181818181818177,0.18181818181818177,0.13636363636363635,9.0909090909090939E-2,4.5454545454545414E-2,9.0909090909090939E-2,0.13636363636363635,0.13636363636363635,0.13636363636363635,0.13636363636363635,0.18181818181818177,0.22727272727272729,0.27272727272727271,0.31818181818181823,0.31818181818181823,0.31818181818181823,0.36363636363636365,0.40909090909090906,0.45454545454545459,0.5,0.54545454545454541,0.54545454545454541,0.54545454545454541,0.59090909090909083,0.63636363636363635,0.68181818181818188,0.72727272727272729,0.77272727272727271,0.77272727272727271,0.77272727272727271,0.81818181818181812,0.86363636363636365,0.90909090909090906,0.95454545454545459,0.95454545454545459,0.95454545454545459,0.95454545454545459,1,{"$f":"1-BW27","v":1},{"$f":"1-BX27","v":1},{"$f":"1-BY27","v":1},1,1,{"$f":"1-CB27","v":1},1,1,null,null,"January:"]
[null,null,null,null,null,null,null,null,null,"Average","Temp",{"$f":"VLOOKUP(L3,Daily!$A:$D,4)","v":75},{"$f":"VLOOKUP(M3,Daily!$A:$D,4)","v":74},{"$f":"VLOOKUP(N3,Daily!$A:$D,4)","v":76},{"$f":"VLOOKUP(O3,Daily!$A:$D,4)","v":74.5},{"$f":"VLOOKUP(P3,Daily!$A:$D,4)","v":76.5},{"$f":"VLOOKUP(Q3,Daily!$A:$D,4)","v":65},{"$f":"VLOOKUP(R3,Daily!$A:$D,4)","v":63},{"$f":"VLOOKUP(S3,Daily!$A:$D,4)","v":67},{"$f":"VLOOKUP(T3,Daily!$A:$D,4)","v":65},{"$f":"VLOOKUP(U3,Daily!$A:$D,4)","v":72},{"$f":"VLOOKUP(V3,Daily!$A:$D,4)","v":69.5},{"$f":"VLOOKUP(W3,Daily!$A:$D,4)","v":74.5},{"$f":"VLOOKUP(X3,Daily!$A:$D,4)","v":72.5},{"$f":"VLOOKUP(Y3,Daily!$A:$D,4)","v":63.5},{"$f":"VLOOKUP(Z3,Daily!$A:$D,4)","v":65.5},{"$f":"VLOOKUP(AA3,Daily!$A:$D,4)","v":66.5},{"$f":"VLOOKUP(AB3,Daily!$A:$D,4)","v":63.5},{"$f":"VLOOKUP(AC3,Daily!$A:$D,4)","v":62.5},{"$f":"VLOOKUP(AD3,Daily!$A:$D,4)","v":66.5},{"$f":"VLOOKUP(AE3,Daily!$A:$D,4)","v":61},{"$f":"VLOOKUP(AF3,Daily!$A:$D,4)","v":53},{"$f":"VLOOKUP(AG3,Daily!$A:$D,4)","v":61},{"$f":"VLOOKUP(AH3,Daily!$A:$D,4)","v":65.5},{"$f":"VLOOKUP(AI3,Daily!$A:$D,4)","v":68},{"$f":"VLOOKUP(AJ3,Daily!$A:$D,4)","v":54.5},{"$f":"VLOOKUP(AK3,Daily!$A:$D,4)","v":51.5},{"$f":"VLOOKUP(AL3,Daily!$A:$D,4)","v":51.5},{"$f":"VLOOKUP(AM3,Daily!$A:$D,4)","v":53.5},{"$f":"VLOOKUP(AN3,Daily!$A:$D,4)","v":58.5},{"$f":"VLOOKUP(AO3,Daily!$A:$D,4)","v":66.5},{"$f":"VLOOKUP(AP3,Daily!$A:$D,4)","v":60.5},{"$f":"VLOOKUP(AQ3,Daily!$A:$D,4)","v":48},{"$f":"VLOOKUP(AR3,Daily!$A:$D,4)","v":47},{"$f":"VLOOKUP(AS3,Daily!$A:$D,4)","v":54},{"$f":"VLOOKUP(AT3,Daily!$A:$D,4)","v":62.5},{"$f":"VLOOKUP(AU3,Daily!$A:$D,4)","v":69.5},{"$f":"VLOOKUP(AV3,Daily!$A:$D,4)","v":75.5},{"$f":"VLOOKUP(AW3,Daily!$A:$D,4)","v":75},{"$f":"VLOOKUP(AX3,Daily!$A:$D,4)","v":63},{"$f":"VLOOKUP(AY3,Daily!$A:$D,4)","v":59},{"$f":"VLOOKUP(AZ3,Daily!$A:$D,4)","v":62},{"$f":"VLOOKUP(BA3,Daily!$A:$D,4)","v":54.5},{"$f":"VLOOKUP(BB3,Daily!$A:$D,4)","v":59},{"$f":"VLOOKUP(BC3,Daily!$A:$D,4)","v":59.5},{"$f":"VLOOKUP(BD3,Daily!$A:$D,4)","v":65},{"$f":"VLOOKUP(BE3,Daily!$A:$D,4)","v":67.5},{"$f":"VLOOKUP(BF3,Daily!$A:$D,4)","v":66},{"$f":"VLOOKUP(BG3,Daily!$A:$D,4)","v":57},{"$f":"VLOOKUP(BH3,Daily!$A:$D,4)","v":61},{"$f":"VLOOKUP(BI3,Daily!$A:$D,4)","v":71.5},{"$f":"VLOOKUP(BJ3,Daily!$A:$D,4)","v":76.5},{"$f":"VLOOKUP(BK3,Daily!$A:$D,4)","v":74.5},{"$f":"VLOOKUP(BL3,Daily!$A:$D,4)","v":68.5},{"$f":"VLOOKUP(BM3,Daily!$A:$D,4)","v":68},{"$f":"VLOOKUP(BN3,Daily!$A:$D,4)","v":74.5},{"$f":"VLOOKUP(BO3,Daily!$A:$D,4)","v":77},{"$f":"VLOOKUP(BP3,Daily!$A:$D,4)","v":78},{"$f":"VLOOKUP(BQ3,Daily!$A:$D,4)","v":77},{"$f":"VLOOKUP(BR3,Daily!$A:$D,4)","v":76},{"$f":"VLOOKUP(BS3,Daily!$A:$D,4)","v":76},{"$f":"VLOOKUP(BT3,Daily!$A:$D,4)","v":75.5},{"$f":"VLOOKUP(BU3,Daily!$A:$D,4)","v":72},{"$f":"VLOOKUP(BV3,Daily!$A:$D,4)","v":69.5},{"$f":"VLOOKUP(BW3,Daily!$A:$D,4)","v":68},{"$f":"VLOOKUP(BX3,Daily!$A:$D,4)","v":71},{"$f":"VLOOKUP(BY3,Daily!$A:$D,4)","v":77},{"$f":"VLOOKUP(BZ3,Daily!$A:$D,4)","v":76},{"$f":"VLOOKUP(CA3,Daily!$A:$D,4)","v":77.5},{"$f":"VLOOKUP(CB3,Daily!$A:$D,4)","v":79.5},{"$f":"VLOOKUP(CC3,Daily!$A:$D,4)","v":80},{"$f":"VLOOKUP(CD3,Daily!$A:$D,4)","v":80.5},null,null,"Billed",{"$f":"SUM(CI29:FA29)","v":{"$error":"#DIV/0!"}},{"$f":"IF(CI2=$A$2,CI26,0)","v":0},0,0,0,0,0,0,0,0,0,0,0,0,0,0,0,0,0,0,0,0,0,0,0,0,0,0,0,0,0,0,0,{"$f":"IF(DO2=$A$2,DO26,0)","v":0},{"$f":"IF(DP2=$A$2,DP26,0)","v":0},{"$error":"#DIV/0!"},{"$error":"#DIV/0!"},{"$error":"#DIV/0!"},{"$error":"#DIV/0!"},{"$error":"#DIV/0!"},{"$error":"#DIV/0!"},{"$error":"#DIV/0!"},{"$error":"#DIV/0!"},{"$error":"#DIV/0!"},{"$error":"#DIV/0!"},{"$error":"#DIV/0!"},{"$error":"#DIV/0!"},{"$error":"#DIV/0!"},{"$error":"#DIV/0!"},{"$error":"#DIV/0!"},{"$error":"#DIV/0!"},{"$error":"#DIV/0!"},{"$error":"#DIV/0!"},{"$error":"#DIV/0!"},{"$error":"#DIV/0!"},{"$error":"#DIV/0!"},{"$error":"#DIV/0!"},{"$error":"#DIV/0!"},{"$error":"#DIV/0!"},{"$error":"#DIV/0!"},{"$error":"#DIV/0!"},{"$error":"#DIV/0!"},{"$error":"#DIV/0!"},0,0,0,{"$f":"IF(EV2=$A$2,EV26,0)","v":0},0,0,{"$f":"IF(EY2=$A$2,EY26,0)","v":0},0,0]
[null,null,null,null,null,null,null,null,{"$f":"SUM(L30:CD30)","v":47.5},"Calendar","HDD",{"$f":"IF((L3>=DATE($A$1,$A$2,1))*(L3<=DATE($A$1,$A$2,DAY(EOMONTH(DATE($A$1,$A$2,1),0)))), IF(L29<65,65-L29,0),0)","v":0},{"$f":"IF((M3>=DATE($A$1,$A$2,1))*(M3<=DATE($A$1,$A$2,DAY(EOMONTH(DATE($A$1,$A$2,1),0)))), IF(M29<65,65-M29,0),0)","v":0},0,0,0,0,0,0,0,0,0,0,0,0,0,0,0,0,0,0,0,0,0,0,0,0,0,0,0,0,0,0,0,0,2.5,0,0,0,2,6,3,10.5,6,5.5,0,0,0,8,4,0,0,0,0,0,0,0,0,0,0,0,0,0,0,0,0,{"$f":"IF((BY3>=DATE($A$1,$A$2,1))*(BY3<=DATE($A$1,$A$2,DAY(EOMONTH(DATE($A$1,$A$2,1),0)))), IF(BY29<65,65-BY29,0),0)","v":0},0,0,0,0,0,null,null,"Unbilled1",{"$f":"SUM(CI30:FA30)","v":{"$error":"#DIV/0!"}},{"$f":"IF(CI2=$A$2,HLOOKUP(CI3,MAR!$CI$3:$ET$26,24),0)","v":0},{"$f":"IF(CJ2=$A$2,HLOOKUP(CJ3,MAR!$CI$3:$ET$26,24),0)","v":0},{"$f":"IF(CK2=$A$2,HLOOKUP(CK3,MAR!$CI$3:$ET$26,24),0)","v":0},{"$f":"IF(CL2=$A$2,HLOOKUP(CL3,MAR!$CI$3:$ET$26,24),0)","v":0},{"$f":"IF(CM2=$A$2,HLOOKUP(CM3,MAR!$CI$3:$ET$26,24),0)","v":0},{"$f":"IF(CN2=$A$2,HLOOKUP(CN3,MAR!$CI$3:$ET$26,24),0)","v":0},{"$f":"IF(CO2=$A$2,HLOOKUP(CO3,MAR!$CI$3:$ET$26,24),0)","v":0},{"$f":"IF(CP2=$A$2,HLOOKUP(CP3,MAR!$CI$3:$ET$26,24),0)","v":0},{"$f":"IF(CQ2=$A$2,HLOOKUP(CQ3,MAR!$CI$3:$ET$26,24),0)","v":0},{"$f":"IF(CR2=$A$2,HLOOKUP(CR3,MAR!$CI$3:$ET$26,24),0)","v":0},{"$f":"IF(CS2=$A$2,HLOOKUP(CS3,MAR!$CI$3:$ET$26,24),0)","v":0},{"$f":"IF(CT2=$A$2,HLOOKUP(CT3,MAR!$CI$3:$ET$26,24),0)","v":0},{"$f":"IF(CU2=$A$2,HLOOKUP(CU3,MAR!$CI$3:$ET$26,24),0)","v":0},{"$f":"IF(CV2=$A$2,HLOOKUP(CV3,MAR!$CI$3:$ET$26,24),0)","v":0},{"$f":"IF(CW2=$A$2,HLOOKUP(CW3,MAR!$CI$3:$ET$26,24),0)","v":0},{"$f":"IF(CX2=$A$2,HLOOKUP(CX3,MAR!$CI$3:$ET$26,24),0)","v":0},{"$f":"IF(CY2=$A$2,HLOOKUP(CY3,MAR!$CI$3:$ET$26,24),0)","v":0},{"$f":"IF(CZ2=$A$2,HLOOKUP(CZ3,MAR!$CI$3:$ET$26,24),0)","v":0},{"$f":"IF(DA2=$A$2,HLOOKUP(DA3,MAR!$CI$3:$ET$26,24),0)","v":0},{"$f":"IF(DB2=$A$2,HLOOKUP(DB3,MAR!$CI$3:$ET$26,24),0)","v":0},{"$f":"IF(DC2=$A$2,HLOOKUP(DC3,MAR!$CI$3:$ET$26,24),0)","v":0},{"$f":"IF(DD2=$A$2,HLOOKUP(DD3,MAR!$CI$3:$ET$26,24),0)","v":0},{"$f":"IF(DE2=$A$2,HLOOKUP(DE3,MAR!$CI$3:$ET$26,24),0)","v":0},{"$f":"IF(DF2=$A$2,HLOOKUP(DF3,MAR!$CI$3:$ET$26,24),0)","v":0},{"$f":"IF(DG2=$A$2,HLOOKUP(DG3,MAR!$CI$3:$ET$26,24),0)","v":0},{"$f":"IF(DH2=$A$2,HLOOKUP(DH3,MAR!$CI$3:$ET$26,24),0)","v":0},{"$f":"IF(DI2=$A$2,HLOOKUP(DI3,MAR!$CI$3:$ET$26,24),0)","v":0},{"$f":"IF(DJ2=$A$2,HLOOKUP(DJ3,MAR!$CI$3:$ET$26,24),0)","v":0},{"$f":"IF(DK2=$A$2,HLOOKUP(DK3,MAR!$CI$3:$ET$26,24),0)","v":0},{"$f":"IF(DL2=$A$2,HLOOKUP(DL3,MAR!$CI$3:$ET$26,24),0)","v":0},{"$f":"IF(DM2=$A$2,HLOOKUP(DM3,MAR!$CI$3:$ET$26,24),0)","v":0},{"$f":"IF(DN2=$A$2,HLOOKUP(DN3,MAR!$CI$3:$ET$26,24),0)","v":0},{"$f":"IF(DO2=$A$2,HLOOKUP(DO3,MAR!$CI$3:$ET$26,24),0)","v":0},{"$f":"IF(DP2=$A$2,HLOOKUP(DP3,MAR!$CI$3:$ET$26,24),0)","v":0},{"$f":"IF(DQ2=$A$2,HLOOKUP(DQ3,MAR!$CI$3:$ET$26,24),0)","v":{"$error":"#DIV/0!"}},{"$f":"IF(DR2=$A$2,HLOOKUP(DR3,MAR!$CI$3:$ET$26,24),0)","v":{"$error":"#DIV/0!"}},{"$f":"IF(DS2=$A$2,HLOOKUP(DS3,MAR!$CI$3:$ET$26,24),0)","v":{"$error":"#DIV/0!"}},{"$f":"IF(DT2=$A$2,HLOOKUP(DT3,MAR!$CI$3:$ET$26,24),0)","v":{"$error":"#DIV/0!"}},{"$f":"IF(DU2=$A$2,HLOOKUP(DU3,MAR!$CI$3:$ET$26,24),0)","v":{"$error":"#DIV/0!"}},{"$f":"IF(DV2=$A$2,HLOOKUP(DV3,MAR!$CI$3:$ET$26,24),0)","v":{"$error":"#DIV/0!"}},{"$f":"IF(DW2=$A$2,HLOOKUP(DW3,MAR!$CI$3:$ET$26,24),0)","v":{"$error":"#DIV/0!"}},{"$f":"IF(DX2=$A$2,HLOOKUP(DX3,MAR!$CI$3:$ET$26,24),0)","v":{"$error":"#DIV/0!"}},{"$f":"IF(DY2=$A$2,HLOOKUP(DY3,MAR!$CI$3:$ET$26,24),0)","v":{"$error":"#DIV/0!"}},{"$f":"IF(DZ2=$A$2,HLOOKUP(DZ3,MAR!$CI$3:$ET$26,24),0)","v":{"$error":"#DIV/0!"}},{"$f":"IF(EA2=$A$2,HLOOKUP(EA3,MAR!$CI$3:$ET$26,24),0)","v":{"$error":"#DIV/0!"}},{"$f":"IF(EB2=$A$2,HLOOKUP(EB3,MAR!$CI$3:$ET$26,24),0)","v":{"$error":"#DIV/0!"}},{"$f":"IF(EC2=$A$2,HLOOKUP(EC3,MAR!$CI$3:$ET$26,24),0)","v":{"$error":"#DIV/0!"}},{"$f":"IF(ED2=$A$2,HLOOKUP(ED3,MAR!$CI$3:$ET$26,24),0)","v":{"$error":"#DIV/0!"}},{"$f":"IF(EE2=$A$2,HLOOKUP(EE3,MAR!$CI$3:$ET$26,24),0)","v":{"$error":"#DIV/0!"}},{"$f":"IF(EF2=$A$2,HLOOKUP(EF3,MAR!$CI$3:$ET$26,24),0)","v":{"$error":"#DIV/0!"}},{"$f":"IF(EG2=$A$2,HLOOKUP(EG3,MAR!$CI$3:$ET$26,24),0)","v":{"$error":"#DIV/0!"}},{"$f":"IF(EH2=$A$2,HLOOKUP(EH3,MAR!$CI$3:$ET$26,24),0)","v":{"$error":"#DIV/0!"}},{"$f":"IF(EI2=$A$2,HLOOKUP(EI3,MAR!$CI$3:$ET$26,24),0)","v":{"$error":"#DIV/0!"}},{"$f":"IF(EJ2=$A$2,HLOOKUP(EJ3,MAR!$CI$3:$ET$26,24),0)","v":{"$error":"#DIV/0!"}},{"$f":"IF(EK2=$A$2,HLOOKUP(EK3,MAR!$CI$3:$ET$26,24),0)","v":{"$error":"#DIV/0!"}},{"$f":"IF(EL2=$A$2,HLOOKUP(EL3,MAR!$CI$3:$ET$26,24),0)","v":{"$error":"#DIV/0!"}},{"$f":"IF(EM2=$A$2,HLOOKUP(EM3,MAR!$CI$3:$ET$26,24),0)","v":{"$error":"#DIV/0!"}},{"$f":"IF(EN2=$A$2,HLOOKUP(EN3,MAR!$CI$3:$ET$26,24),0)","v":{"$error":"#DIV/0!"}},{"$f":"IF(EO2=$A$2,HLOOKUP(EO3,MAR!$CI$3:$ET$26,24),0)","v":{"$error":"#DIV/0!"}},{"$f":"IF(EP2=$A$2,HLOOKUP(EP3,MAR!$CI$3:$ET$26,24),0)","v":{"$error":"#DIV/0!"}},{"$f":"IF(EQ2=$A$2,HLOOKUP(EQ3,MAR!$CI$3:$ET$26,24),0)","v":{"$error":"#DIV/0!"}},{"$f":"IF(ER2=$A$2,HLOOKUP(ER3,MAR!$CI$3:$ET$26,24),0)","v":{"$error":"#DIV/0!"}},{"$f":"IF(ES2=$A$2,HLOOKUP(ES3,MAR!$CI$3:$ET$26,24),0)","v":0},{"$f":"IF(ET2=$A$2,HLOOKUP(ET3,MAR!$CI$3:$ET$26,24),0)","v":0},{"$f":"IF(EU2=$A$2,HLOOKUP(EU3,MAR!$CI$3:$ET$26,24),0)","v":0},{"$f":"IF(EV2=$A$2,HLOOKUP(EV3,MAR!$CI$3:$ET$26,24),0)","v":0},{"$f":"IF(EW2=$A$2,HLOOKUP(EW3,MAR!$CI$3:$ET$26,24),0)","v":0},{"$f":"IF(EX2=$A$2,HLOOKUP(EX3,MAR!$CI$3:$ET$26,24),0)","v":0},{"$f":"IF(EY2=$A$2,HLOOKUP(EY3,MAR!$CI$3:$ET$26,24),0)","v":0},{"$f":"IF(EZ2=$A$2,HLOOKUP(EZ3,MAR!$CI$3:$ET$26,24),0)","v":0},{"$f":"IF(FA2=$A$2,HLOOKUP(FA3,MAR!$CI$3:$ET$26,24),0)","v":0}]
[null,null,null,null,null,null,null,null,148.5,"Calendar","CDD",{"$f":"IF((L3>=DATE($A$1,$A$2,1))*(L3<=DATE($A$1,$A$2,DAY(EOMONTH(DATE($A$1,$A$2,1),0)))), IF(L29>65,L29-65,0),0)","v":0},{"$f":"IF((M3>=DATE($A$1,$A$2,1))*(M3<=DATE($A$1,$A$2,DAY(EOMONTH(DATE($A$1,$A$2,1),0)))), IF(M29>65,M29-65,0),0)","v":0},0,0,0,0,0,0,0,0,0,0,0,0,0,0,0,0,0,0,0,0,0,0,0,0,0,0,0,0,0,0,0,0,0,4.5,10.5,10,0,0,0,0,0,0,0,2.5,1,0,0,6.5,11.5,9.5,3.5,3,9.5,12,13,12,11,11,10.5,7,0,0,0,{"$f":"IF((BY3>=DATE($A$1,$A$2,1))*(BY3<=DATE($A$1,$A$2,DAY(EOMONTH(DATE($A$1,$A$2,1),0)))), IF(BY29>65,BY29-65,0),0)","v":0},0,0,0,0,0,null,null,"Unbilled2",0,{"$f":"IFERROR(IF(CI2=$A$2,HLOOKUP(CI3,APR!$CI$3:$ET$26,24),0),0)","v":0},{"$f":"IFERROR(IF(CJ2=$A$2,HLOOKUP(CJ3,APR!$CI$3:$ET$26,24),0),0)","v":0},{"$f":"IFERROR(IF(CK2=$A$2,HLOOKUP(CK3,APR!$CI$3:$ET$26,24),0),0)","v":0},{"$f":"IFERROR(IF(CL2=$A$2,HLOOKUP(CL3,APR!$CI$3:$ET$26,24),0),0)","v":0},{"$f":"IFERROR(IF(CM2=$A$2,HLOOKUP(CM3,APR!$CI$3:$ET$26,24),0),0)","v":0},{"$f":"IFERROR(IF(CN2=$A$2,HLOOKUP(CN3,APR!$CI$3:$ET$26,24),0),0)","v":0},{"$f":"IFERROR(IF(CO2=$A$2,HLOOKUP(CO3,APR!$CI$3:$ET$26,24),0),0)","v":0},{"$f":"IFERROR(IF(CP2=$A$2,HLOOKUP(CP3,APR!$CI$3:$ET$26,24),0),0)","v":0},{"$f":"IFERROR(IF(CQ2=$A$2,HLOOKUP(CQ3,APR!$CI$3:$ET$26,24),0),0)","v":0},{"$f":"IFERROR(IF(CR2=$A$2,HLOOKUP(CR3,APR!$CI$3:$ET$26,24),0),0)","v":0},{"$f":"IFERROR(IF(CS2=$A$2,HLOOKUP(CS3,APR!$CI$3:$ET$26,24),0),0)","v":0},{"$f":"IFERROR(IF(CT2=$A$2,HLOOKUP(CT3,APR!$CI$3:$ET$26,24),0),0)","v":0},{"$f":"IFERROR(IF(CU2=$A$2,HLOOKUP(CU3,APR!$CI$3:$ET$26,24),0),0)","v":0},{"$f":"IFERROR(IF(CV2=$A$2,HLOOKUP(CV3,APR!$CI$3:$ET$26,24),0),0)","v":0},{"$f":"IFERROR(IF(CW2=$A$2,HLOOKUP(CW3,APR!$CI$3:$ET$26,24),0),0)","v":0},{"$f":"IFERROR(IF(CX2=$A$2,HLOOKUP(CX3,APR!$CI$3:$ET$26,24),0),0)","v":0},{"$f":"IFERROR(IF(CY2=$A$2,HLOOKUP(CY3,APR!$CI$3:$ET$26,24),0),0)","v":0},{"$f":"IFERROR(IF(CZ2=$A$2,HLOOKUP(CZ3,APR!$CI$3:$ET$26,24),0),0)","v":0},{"$f":"IFERROR(IF(DA2=$A$2,HLOOKUP(DA3,APR!$CI$3:$ET$26,24),0),0)","v":0},{"$f":"IFERROR(IF(DB2=$A$2,HLOOKUP(DB3,APR!$CI$3:$ET$26,24),0),0)","v":0},{"$f":"IFERROR(IF(DC2=$A$2,HLOOKUP(DC3,APR!$CI$3:$ET$26,24),0),0)","v":0},{"$f":"IFERROR(IF(DD2=$A$2,HLOOKUP(DD3,APR!$CI$3:$ET$26,24),0),0)","v":0},{"$f":"IFERROR(IF(DE2=$A$2,HLOOKUP(DE3,APR!$CI$3:$ET$26,24),0),0)","v":0},{"$f":"IFERROR(IF(DF2=$A$2,HLOOKUP(DF3,APR!$CI$3:$ET$26,24),0),0)","v":0},{"$f":"IFERROR(IF(DG2=$A$2,HLOOKUP(DG3,APR!$CI$3:$ET$26,24),0),0)","v":0},{"$f":"IFERROR(IF(DH2=$A$2,HLOOKUP(DH3,APR!$CI$3:$ET$26,24),0),0)","v":0},{"$f":"IFERROR(IF(DI2=$A$2,HLOOKUP(DI3,APR!$CI$3:$ET$26,24),0),0)","v":0},{"$f":"IFERROR(IF(DJ2=$A$2,HLOOKUP(DJ3,APR!$CI$3:$ET$26,24),0),0)","v":0},{"$f":"IFERROR(IF(DK2=$A$2,HLOOKUP(DK3,APR!$CI$3:$ET$26,24),0),0)","v":0},{"$f":"IFERROR(IF(DL2=$A$2,HLOOKUP(DL3,APR!$CI$3:$ET$26,24),0),0)","v":0},{"$f":"IFERROR(IF(DM2=$A$2,HLOOKUP(DM3,APR!$CI$3:$ET$26,24),0),0)","v":0},{"$f":"IFERROR(IF(DN2=$A$2,HLOOKUP(DN3,APR!$CI$3:$ET$26,24),0),0)","v":0},{"$f":"IFERROR(IF(DO2=$A$2,HLOOKUP(DO3,APR!$CI$3:$ET$26,24),0),0)","v":0},{"$f":"IFERROR(IF(DP2=$A$2,HLOOKUP(DP3,APR!$CI$3:$ET$26,24),0),0)","v":0},{"$f":"IFERROR(IF(DQ2=$A$2,HLOOKUP(DQ3,APR!$CI$3:$ET$26,24),0),0)","v":0},{"$f":"IFERROR(IF(DR2=$A$2,HLOOKUP(DR3,APR!$CI$3:$ET$26,24),0),0)","v":0},{"$f":"IFERROR(IF(DS2=$A$2,HLOOKUP(DS3,APR!$CI$3:$ET$26,24),0),0)","v":0},{"$f":"IFERROR(IF(DT2=$A$2,HLOOKUP(DT3,APR!$CI$3:$ET$26,24),0),0)","v":0},{"$f":"IFERROR(IF(DU2=$A$2,HLOOKUP(DU3,APR!$CI$3:$ET$26,24),0),0)","v":0},{"$f":"IFERROR(IF(DV2=$A$2,HLOOKUP(DV3,APR!$CI$3:$ET$26,24),0),0)","v":0},{"$f":"IFERROR(IF(DW2=$A$2,HLOOKUP(DW3,APR!$CI$3:$ET$26,24),0),0)","v":0},{"$f":"IFERROR(IF(DX2=$A$2,HLOOKUP(DX3,APR!$CI$3:$ET$26,24),0),0)","v":0},{"$f":"IFERROR(IF(DY2=$A$2,HLOOKUP(DY3,APR!$CI$3:$ET$26,24),0),0)","v":0},{"$f":"IFERROR(IF(DZ2=$A$2,HLOOKUP(DZ3,APR!$CI$3:$ET$26,24),0),0)","v":0},{"$f":"IFERROR(IF(EA2=$A$2,HLOOKUP(EA3,APR!$CI$3:$ET$26,24),0),0)","v":0},{"$f":"IFERROR(IF(EB2=$A$2,HLOOKUP(EB3,APR!$CI$3:$ET$26,24),0),0)","v":0},{"$f":"IFERROR(IF(EC2=$A$2,HLOOKUP(EC3,APR!$CI$3:$ET$26,24),0),0)","v":0},{"$f":"IFERROR(IF(ED2=$A$2,HLOOKUP(ED3,APR!$CI$3:$ET$26,24),0),0)","v":0},{"$f":"IFERROR(IF(EE2=$A$2,HLOOKUP(EE3,APR!$CI$3:$ET$26,24),0),0)","v":0},{"$f":"IFERROR(IF(EF2=$A$2,HLOOKUP(EF3,APR!$CI$3:$ET$26,24),0),0)","v":0},{"$f":"IFERROR(IF(EG2=$A$2,HLOOKUP(EG3,APR!$CI$3:$ET$26,24),0),0)","v":0},{"$f":"IFERROR(IF(EH2=$A$2,HLOOKUP(EH3,APR!$CI$3:$ET$26,24),0),0)","v":0},{"$f":"IFERROR(IF(EI2=$A$2,HLOOKUP(EI3,APR!$CI$3:$ET$26,24),0),0)","v":0},{"$f":"IFERROR(IF(EJ2=$A$2,HLOOKUP(EJ3,APR!$CI$3:$ET$26,24),0),0)","v":0},{"$f":"IFERROR(IF(EK2=$A$2,HLOOKUP(EK3,APR!$CI$3:$ET$26,24),0),0)","v":0},{"$f":"IFERROR(IF(EL2=$A$2,HLOOKUP(EL3,APR!$CI$3:$ET$26,24),0),0)","v":0},{"$f":"IFERROR(IF(EM2=$A$2,HLOOKUP(EM3,APR!$CI$3:$ET$26,24),0),0)","v":0},{"$f":"IFERROR(IF(EN2=$A$2,HLOOKUP(EN3,APR!$CI$3:$ET$26,24),0),0)","v":0},{"$f":"IFERROR(IF(EO2=$A$2,HLOOKUP(EO3,APR!$CI$3:$ET$26,24),0),0)","v":0},{"$f":"IFERROR(IF(EP2=$A$2,HLOOKUP(EP3,APR!$CI$3:$ET$26,24),0),0)","v":0},{"$f":"IFERROR(IF(EQ2=$A$2,HLOOKUP(EQ3,APR!$CI$3:$ET$26,24),0),0)","v":0},{"$f":"IFERROR(IF(ER2=$A$2,HLOOKUP(ER3,APR!$CI$3:$ET$26,24),0),0)","v":0},{"$f":"IFERROR(IF(ES2=$A$2,HLOOKUP(ES3,APR!$CI$3:$ET$26,24),0),0)","v":0},{"$f":"IFERROR(IF(ET2=$A$2,HLOOKUP(ET3,APR!$CI$3:$ET$26,24),0),0)","v":0},{"$f":"IFERROR(IF(EU2=$A$2,HLOOKUP(EU3,APR!$CI$3:$ET$26,24),0),0)","v":0},{"$f":"IFERROR(IF(EV2=$A$2,HLOOKUP(EV3,APR!$CI$3:$ET$26,24),0),0)","v":0},{"$f":"IFERROR(IF(EW2=$A$2,HLOOKUP(EW3,APR!$CI$3:$ET$26,24),0),0)","v":0},{"$f":"IFERROR(IF(EX2=$A$2,HLOOKUP(EX3,APR!$CI$3:$ET$26,24),0),0)","v":0},{"$f":"IFERROR(IF(EY2=$A$2,HLOOKUP(EY3,APR!$CI$3:$ET$26,24),0),0)","v":0},{"$f":"IFERROR(IF(EZ2=$A$2,HLOOKUP(EZ3,APR!$CI$3:$ET$26,24),0),0)","v":0},{"$f":"IFERROR(IF(FA2=$A$2,HLOOKUP(FA3,APR!$CI$3:$ET$26,24),0),0)","v":0}]
[null,null,null,null,null,null,null,null,134.86363636363635,"Billing","HDD",{"$f":"IF(L29<65, (65-L29)*L27,0)","v":0},{"$f":"IF(M29<65, (65-M29)*M27,0)","v":0},0,0,0,0,0.36363636363636365,0,0,0,0,0,0,0.61363636363636365,0,0,0.88636363636363646,1.5909090909090908,0,2.5454545454545454,7.6363636363636367,2.7272727272727271,0,0,8.5909090909090917,11.045454545454547,11.045454545454547,9.9318181818181817,5.9090909090909092,0,4.0909090909090908,14.681818181818182,15.545454545454545,9.5,2.1590909090909092,0,0,0,1.3636363636363635,4.0909090909090908,2.0454545454545454,6.6818181818181817,3.5454545454545459,3,0,0,0,3.6363636363636362,1.6363636363636365,0,0,0,0,0,0,0,0,0,0,0,0,0,0,0,0,{"$f":"IF(BY29<65, (65-BY29)*BY27,0)","v":0},0,0,0,0,0,null,null,"Calendar",{"$error":"#DIV/0!"},{"$f":"+CI29+CI30+CI31","v":0},{"$f":"+CJ29+CJ30+CJ31","v":0},0,0,0,0,0,0,0,0,0,0,0,0,0,0,0,0,0,0,0,0,0,0,0,0,0,0,0,0,0,0,0,0,{"$error":"#DIV/0!"},{"$error":"#DIV/0!"},{"$error":"#DIV/0!"},{"$error":"#DIV/0!"},{"$error":"#DIV/0!"},{"$error":"#DIV/0!"},{"$error":"#DIV/0!"},{"$error":"#DIV/0!"},{"$error":"#DIV/0!"},{"$error":"#DIV/0!"},{"$error":"#DIV/0!"},{"$error":"#DIV/0!"},{"$error":"#DIV/0!"},{"$error":"#DIV/0!"},{"$error":"#DIV/0!"},{"$error":"#DIV/0!"},{"$error":"#DIV/0!"},{"$error":"#DIV/0!"},{"$error":"#DIV/0!"},{"$error":"#DIV/0!"},{"$error":"#DIV/0!"},{"$error":"#DIV/0!"},{"$error":"#DIV/0!"},{"$error":"#DIV/0!"},{"$error":"#DIV/0!"},{"$error":"#DIV/0!"},{"$error":"#DIV/0!"},{"$error":"#DIV/0!"},0,0,0,{"$f":"+EV29+EV30+EV31","v":0},0,0,{"$f":"+EY29+EY30+EY31","v":0},0,0]
[null,null,null,null,null,null,null,null,62,"Billing","CDD",{"$f":"IF(L29>65, (L29-65)*L27,0)","v":0.45454545454545459},{"$f":"IF(M29>65, (M29-65)*M27,0)","v":0.81818181818181823},1.5,1.2954545454545454,1.5681818181818181,0,0,0.45454545454545453,0,2.2272727272727271,1.6363636363636365,3.4545454545454546,2.7272727272727275,0,0.22727272727272727,0.81818181818181812,0,0,0.95454545454545459,0,0,0,0.36363636363636365,2.3181818181818183,0,0,0,0,0,{"$f":"IF(AO29>65, (AO29-65)*AO27,0)","v":1.4318181818181819},0,0,0,0,0,3.6818181818181821,8.1136363636363633,7.2727272727272734,0,0,0,0,0,0,0,1.1363636363636362,0.45454545454545453,0,0,2.3636363636363638,3.6590909090909092,2.5909090909090908,0.79545454545454541,0.68181818181818177,2.1590909090909092,2.1818181818181817,1.7727272727272725,1.0909090909090908,0.5,0.5,0.47727272727272729,0.31818181818181818,0,0,0,{"$f":"IF(BY29>65, (BY29-65)*BY27,0)","v":0},0,0,0,0,0,null,null,"Check",{"$f":"+CH32-CH29-CH30-CH31","v":{"$error":"#DIV/0!"}}]
[null,null,null,null,null,null,null,null,2.0869999999999997,"Calendar","Rainfall",{"$f":"VLOOKUP(L3,Daily!$A:$I,9)","v":0},{"$f":"VLOOKUP(M3,Daily!$A:$I,9)","v":0},{"$f":"VLOOKUP(N3,Daily!$A:$I,9)","v":0},{"$f":"VLOOKUP(O3,Daily!$A:$I,9)","v":0},{"$f":"VLOOKUP(P3,Daily!$A:$I,9)","v":0},{"$f":"VLOOKUP(Q3,Daily!$A:$I,9)","v":0.02},{"$f":"VLOOKUP(R3,Daily!$A:$I,9)","v":0},{"$f":"VLOOKUP(S3,Daily!$A:$I,9)","v":0},{"$f":"VLOOKUP(T3,Daily!$A:$I,9)","v":1E-3},{"$f":"VLOOKUP(U3,Daily!$A:$I,9)","v":1E-3},{"$f":"VLOOKUP(V3,Daily!$A:$I,9)","v":0},{"$f":"VLOOKUP(W3,Daily!$A:$I,9)","v":0},{"$f":"VLOOKUP(X3,Daily!$A:$I,9)","v":0},{"$f":"VLOOKUP(Y3,Daily!$A:$I,9)","v":0},{"$f":"VLOOKUP(Z3,Daily!$A:$I,9)","v":0},{"$f":"VLOOKUP(AA3,Daily!$A:$I,9)","v":1E-3},{"$f":"VLOOKUP(AB3,Daily!$A:$I,9)","v":0},{"$f":"VLOOKUP(AC3,Daily!$A:$I,9)","v":0},{"$f":"VLOOKUP(AD3,Daily!$A:$I,9)","v":0.68},{"$f":"VLOOKUP(AE3,Daily!$A:$I,9)","v":0},{"$f":"VLOOKUP(AF3,Daily!$A:$I,9)","v":0},{"$f":"VLOOKUP(AG3,Daily!$A:$I,9)","v":0},{"$f":"VLOOKUP(AH3,Daily!$A:$I,9)","v":0},{"$f":"VLOOKUP(AI3,Daily!$A:$I,9)","v":0},{"$f":"VLOOKUP(AJ3,Daily!$A:$I,9)","v":0.01},{"$f":"VLOOKUP(AK3,Daily!$A:$I,9)","v":1E-3},{"$f":"VLOOKUP(AL3,Daily!$A:$I,9)","v":0},{"$f":"VLOOKUP(AM3,Daily!$A:$I,9)","v":0.67},{"$f":"VLOOKUP(AN3,Daily!$A:$I,9)","v":0.08},{"$f":"VLOOKUP(AO3,Daily!$A:$I,9)","v":0},{"$f":"VLOOKUP(AP3,Daily!$A:$I,9)","v":1E-3},{"$f":"VLOOKUP(AQ3,Daily!$A:$I,9)","v":0},{"$f":"VLOOKUP(AR3,Daily!$A:$I,9)","v":0},{"$f":"VLOOKUP(AS3,Daily!$A:$I,9)","v":0},{"$f":"VLOOKUP(AT3,Daily!$A:$I,9)","v":0},{"$f":"VLOOKUP(AU3,Daily!$A:$I,9)","v":0},{"$f":"VLOOKUP(AV3,Daily!$A:$I,9)","v":0},{"$f":"VLOOKUP(AW3,Daily!$A:$I,9)","v":0},{"$f":"VLOOKUP(AX3,Daily!$A:$I,9)","v":0.02},{"$f":"VLOOKUP(AY3,Daily!$A:$I,9)","v":0.02},{"$f":"VLOOKUP(AZ3,Daily!$A:$I,9)","v":0},{"$f":"VLOOKUP(BA3,Daily!$A:$I,9)","v":0.35},{"$f":"VLOOKUP(BB3,Daily!$A:$I,9)","v":1E-3},{"$f":"VLOOKUP(BC3,Daily!$A:$I,9)","v":0},{"$f":"VLOOKUP(BD3,Daily!$A:$I,9)","v":0},{"$f":"VLOOKUP(BE3,Daily!$A:$I,9)","v":1E-3},{"$f":"VLOOKUP(BF3,Daily!$A:$I,9)","v":0.1},{"$f":"VLOOKUP(BG3,Daily!$A:$I,9)","v":0},{"$f":"VLOOKUP(BH3,Daily!$A:$I,9)","v":0},{"$f":"VLOOKUP(BI3,Daily!$A:$I,9)","v":0},{"$f":"VLOOKUP(BJ3,Daily!$A:$I,9)","v":0},{"$f":"VLOOKUP(BK3,Daily!$A:$I,9)","v":0},{"$f":"VLOOKUP(BL3,Daily!$A:$I,9)","v":0.13},{"$f":"VLOOKUP(BM3,Daily!$A:$I,9)","v":0},{"$f":"VLOOKUP(BN3,Daily!$A:$I,9)","v":0},{"$f":"VLOOKUP(BO3,Daily!$A:$I,9)","v":0},{"$f":"VLOOKUP(BP3,Daily!$A:$I,9)","v":0},{"$f":"VLOOKUP(BQ3,Daily!$A:$I,9)","v":0},{"$f":"VLOOKUP(BR3,Daily!$A:$I,9)","v":0},{"$f":"VLOOKUP(BS3,Daily!$A:$I,9)","v":0},{"$f":"VLOOKUP(BT3,Daily!$A:$I,9)","v":0},{"$f":"VLOOKUP(BU3,Daily!$A:$I,9)","v":0},{"$f":"VLOOKUP(BV3,Daily!$A:$I,9)","v":0},{"$f":"VLOOKUP(BW3,Daily!$A:$I,9)","v":0},{"$f":"VLOOKUP(BX3,Daily!$A:$I,9)","v":0},{"$f":"VLOOKUP(BY3,Daily!$A:$I,9)","v":0},{"$f":"VLOOKUP(BZ3,Daily!$A:$I,9)","v":0},{"$f":"VLOOKUP(CA3,Daily!$A:$I,9)","v":0},{"$f":"VLOOKUP(CB3,Daily!$A:$I,9)","v":0},{"$f":"VLOOKUP(CC3,Daily!$A:$I,9)","v":0},{"$f":"VLOOKUP(CD3,Daily!$A:$I,9)","v":0},null,null,"Calendar Rainfall",{"$error":"#DIV/0!"},{"$f":"IF(CI32>0,L34,0)","v":0},0,0,0,0,0,0,0,0,0,0,0,0,0,0,0,0,0,0,0,0,0,0,0,0,0,0,0,0,0,0,0,{"$f":"IF(DO32>0,AR34,0)","v":0},0,{"$error":"#DIV/0!"},{"$error":"#DIV/0!"},{"$error":"#DIV/0!"},{"$error":"#DIV/0!"},{"$error":"#DIV/0!"},{"$error":"#DIV/0!"},{"$error":"#DIV/0!"},{"$error":"#DIV/0!"},{"$error":"#DIV/0!"},{"$error":"#DIV/0!"},{"$error":"#DIV/0!"},{"$error":"#DIV/0!"},{"$error":"#DIV/0!"},{"$error":"#DIV/0!"},{"$error":"#DIV/0!"},{"$error":"#DIV/0!"},{"$error":"#DIV/0!"},{"$error":"#DIV/0!"},{"$error":"#DIV/0!"},{"$error":"#DIV/0!"},{"$error":"#DIV/0!"},{"$error":"#DIV/0!"},{"$error":"#DIV/0!"},{"$error":"#DIV/0!"},{"$error":"#DIV/0!"},{"$error":"#DIV/0!"},{"$error":"#DIV/0!"},{"$error":"#DIV/0!"},0,0,{"$f":"IF(EU32>0,BX34,0)","v":0},0,0,0,{"$f":"IF(EY32>0,CB34,0)","v":0},0,0]
[null,null,null,null,null,null,null,null,1.423909090909091,"Billing","Rainfall",{"$f":"+L34*L27","v":0},{"$f":"+M34*M27","v":0},0,0,0,2.7272727272727271E-3,0,0,2.7272727272727274E-4,3.181818181818182E-4,0,0,0,0,0,5.4545454545454548E-4,0,0,0.43272727272727274,0,0,0,0,0,8.1818181818181825E-3,8.1818181818181827E-4,0,0.57863636363636373,7.2727272727272724E-2,0,9.0909090909090909E-4,0,0,0,0,0,0,0,1.3636363636363636E-2,1.3636363636363636E-2,0,0.22272727272727272,5.9090909090909094E-4,0,0,4.5454545454545455E-4,4.5454545454545456E-2,0,0,0,0,0,2.9545454545454545E-2,0,0,0,0,0,0,0,0,0,0,{"$f":"+BW34*BW27","v":0},{"$f":"+BX34*BX27","v":0},{"$f":"+BY34*BY27","v":0},0,0,{"$f":"+CB34*CB27","v":0},0,0,null,null,"Calendar HDD",{"$error":"#DIV/0!"},{"$f":"IF(CI32>0,L30,0)","v":0},0,0,0,0,0,0,0,0,0,0,0,0,0,0,0,0,0,0,0,0,0,0,0,0,0,0,0,0,0,0,0,{"$f":"IF(DO32>0,AR30,0)","v":0},0,{"$error":"#DIV/0!"},{"$error":"#DIV/0!"},{"$error":"#DIV/0!"},{"$error":"#DIV/0!"},{"$error":"#DIV/0!"},{"$error":"#DIV/0!"},{"$error":"#DIV/0!"},{"$error":"#DIV/0!"},{"$error":"#DIV/0!"},{"$error":"#DIV/0!"},{"$error":"#DIV/0!"},{"$error":"#DIV/0!"},{"$error":"#DIV/0!"},{"$error":"#DIV/0!"},{"$error":"#DIV/0!"},{"$error":"#DIV/0!"},{"$error":"#DIV/0!"},{"$error":"#DIV/0!"},{"$error":"#DIV/0!"},{"$error":"#DIV/0!"},{"$error":"#DIV/0!"},{"$error":"#DIV/0!"},{"$error":"#DIV/0!"},{"$error":"#DIV/0!"},{"$error":"#DIV/0!"},{"$error":"#DIV/0!"},{"$error":"#DIV/0!"},{"$error":"#DIV/0!"},0,0,{"$f":"IF(EU32>0,BX30,0)","v":0},0,0,0,{"$f":"IF(EY32>0,CB30,0)","v":0},0,0]
[null,null,null,null,null,null,null,null,null,null,null,null,null,null,null,null,null,null,null,null,null,null,null,null,null,null,null,null,null,null,null,null,null,null,null,null,null,null,null,null,null,null,null,null,null,null,null,null,null,null,null,null,null,null,null,null,null,null,null,null,null,null,null,null,null,null,null,null,null,null,null,null,null,null,null,null,null,null,null,null,null,null,null,null,"Calendar CDD",{"$error":"#DIV/0!"},{"$f":"IF(CI32>0,L31,0)","v":0},0,0,0,0,0,0,0,0,0,0,0,0,0,0,0,0,0,0,0,0,0,0,0,0,0,0,0,0,0,0,0,{"$f":"IF(DO32>0,AR31,0)","v":0},0,{"$error":"#DIV/0!"},{"$error":"#DIV/0!"},{"$error":"#DIV/0!"},{"$error":"#DIV/0!"},{"$error":"#DIV/0!"},{"$error":"#DIV/0!"},{"$error":"#DIV/0!"},{"$error":"#DIV/0!"},{"$error":"#DIV/0!"},{"$error":"#DIV/0!"},{"$error":"#DIV/0!"},{"$error":"#DIV/0!"},{"$error":"#DIV/0!"},{"$error":"#DIV/0!"},{"$error":"#DIV/0!"},{"$error":"#DIV/0!"},{"$error":"#DIV/0!"},{"$error":"#DIV/0!"},{"$error":"#DIV/0!"},{"$error":"#DIV/0!"},{"$error":"#DIV/0!"},{"$error":"#DIV/0!"},{"$error":"#DIV/0!"},{"$error":"#DIV/0!"},{"$error":"#DIV/0!"},{"$error":"#DIV/0!"},{"$error":"#DIV/0!"},{"$error":"#DIV/0!"},0,0,{"$f":"IF(EU32>0,BX31,0)","v":0},0,0,0,{"$f":"IF(EY32>0,CB31,0)","v":0},0,0]
[]
[null,null,null,null,null,null,null,null,null,null,null,null,null,null,null,null,null,null,null,null,null,null,null,null,{"$f":"TEXT(DATE(A1,A2,1),\"mmm yyyy\")&\" - Billing Cycle Temperatures\"","v":"Feb 2022 - Billing Cycle Temperatures"}]
[]
[]
[null,null,null,null,null,null,"Actual","Budget","Variance","Var %"]
[null,null,null,null,"Calendar","HDD",{"$f":"I30","v":47.5},{"$f":"VLOOKUP($A$2,Daily!$AB$2:$AF$13,4)","v":93.6},{"$f":"G42-H42","v":-46.099999999999994},{"$f":"G42/H42-1","v":-0.49252136752136744}]
[null,null,null,null,"Calendar","CDD",{"$f":"I31","v":148.5},{"$f":"VLOOKUP($A$2,Daily!$AB$2:$AF$13,5)","v":81.7},{"$f":"G43-H43","v":66.8},{"$f":"G43/H43-1","v":0.81762545899632788}]
[null,null,null,null,"Billing","HDD",{"$f":"I32","v":134.86363636363635},{"$f":"VLOOKUP($A$2,Daily!$AB$2:$AF$13,2)","v":136},-1.1363636363636545,-8.3556149732622043E-3]
[null,null,null,null,"Billing","CDD",{"$f":"I33","v":62},{"$f":"VLOOKUP($A$2,Daily!$AB$2:$AF$13,3)","v":54},8,0.14814814814814814,null,null,null,null,null,null,null,null,null,null,null,null,null,null,null,null,null,null,null,null,null,null,null,null,null,null,null,null,null,null,null,null,null,null,null,null,null,null,null,null,null,null,null,null,null,null,null,null,null,null,null,null,null,null,null,null,null,null,null,null,null,null,null,null,null,null,null,null,null,null,null,null,null,null,null,null,{"$f":"+CI1","v":2021},2021,2021,2022,2022,2022,2022,2022,2022,2022,2022,2022,2022,2022,2022,2022,2022,2022,2022,2022,2022,2022,2022,2022,2022,2022,2022,2022,2022,2022,2022,2022,{"$f":"+DO1","v":2022},2022,2022,2022,2022,2022,2022,2022,2022,2022,2022,2022,2022,2022,2022,2022,2022,2022,2022,2022,2022,2022,2022,2022,2022,2022,2022,2022,2022,2022,2022,2022,2022,{"$f":"+EV1","v":2022},2022,2022,{"$f":"+EY1","v":2022},2022,2022]
[null,null,null,null,null,null,null,null,null,null,null,null,null,null,null,null,null,null,null,null,null,null,null,null,null,null,null,null,null,null,null,null,null,null,null,null,null,null,null,null,null,null,null,null,null,null,null,null,null,null,null,null,null,null,null,null,null,null,null,null,null,null,null,null,null,null,null,null,null,null,null,null,null,null,null,null,null,null,null,null,null,null,null,null,null,null,{"$f":"+CI2","v":12},12,12,1,1,1,1,1,1,1,1,1,1,1,1,1,1,1,1,1,1,1,1,1,1,1,1,1,1,1,1,1,{"$f":"+DO2","v":1},1,2,2,2,2,2,2,2,2,2,2,2,2,2,2,2,2,2,2,2,2,2,2,2,2,2,2,2,2,3,3,3,{"$f":"+EV2","v":3},3,3,{"$f":"+EY2","v":3},3,3]
[null,null,null,null,null,null,null,null,null,null,null,null,null,null,null,null,null,null,null,null,null,null,null,null,null,null,null,null,null,null,null,null,null,null,null,null,null,null,null,null,null,null,null,null,null,null,null,null,null,null,null,null,null,null,null,null,null,null,null,null,null,null,null,null,null,null,null,null,null,null,null,null,null,null,null,null,null,null,null,null,null,null,null,null,null,"Cycle",{"$f":"+CI3","v":"2021-12-29"},"2021-12-30","2021-12-31","2022-01-01","2022-01-02","2022-01-03","2022-01-04","2022-01-05","2022-01-06","2022-01-07","2022-01-08","2022-01-09","2022-01-10","2022-01-11","2022-01-12","2022-01-13","2022-01-14","2022-01-15","2022-01-16","2022-01-17","2022-01-18","2022-01-19","2022-01-20","2022-01-21","2022-01-22","2022-01-23","2022-01-24","2022-01-25","2022-01-26","2022-01-27","2022-01-28","2022-01-29",{"$f":"+DO3","v":"2022-01-30"},"2022-01-31","2022-02-01","2022-02-02","2022-02-03","2022-02-04","2022-02-05","2022-02-06","2022-02-07","2022-02-08","2022-02-09","2022-02-10","2022-02-11","2022-02-12","2022-02-13","2022-02-14","2022-02-15","2022-02-16","2022-02-17","2022-02-18","2022-02-19","2022-02-20","2022-02-21","2022-02-22","2022-02-23","2022-02-24","2022-02-25","2022-02-26","2022-02-27","2022-02-28","2022-03-01","2022-03-02","2022-03-03",{"$f":"+EV3","v":"2022-03-04"},"2022-03-05","2022-03-06",{"$f":"+EY3","v":"2022-03-07"},"2022-03-08","2022-03-09"]
[null,null,null,null,null,null,"Actual","Budget","Variance","Var %",null,null,null,null,null,null,null,null,null,null,null,null,null,null,null,null,null,null,null,null,null,null,null,null,null,null,null,null,null,null,null,null,null,null,null,null,null,null,null,null,null,null,null,null,null,null,null,null,null,null,null,null,null,null,null,null,null,null,null,null,null,null,null,null,null,null,null,null,null,null,null,null,null,null,{"$f":"SUM(CI48:FA48)","v":0},1,{"$f":"IF(L4=1,CI$71,0)","v":0},{"$f":"IF(M4=1,CJ$71,0)","v":0},{"$f":"IF(N4=1,CK$71,0)","v":0},{"$f":"IF(O4=1,CL$71,0)","v":0},{"$f":"IF(P4=1,CM$71,0)","v":0},{"$f":"IF(Q4=1,CN$71,0)","v":0},{"$f":"IF(R4=1,CO$71,0)","v":0},{"$f":"IF(S4=1,CP$71,0)","v":0},{"$f":"IF(T4=1,CQ$71,0)","v":0},{"$f":"IF(U4=1,CR$71,0)","v":0},{"$f":"IF(V4=1,CS$71,0)","v":0},{"$f":"IF(W4=1,CT$71,0)","v":0},{"$f":"IF(X4=1,CU$71,0)","v":0},{"$f":"IF(Y4=1,CV$71,0)","v":0},{"$f":"IF(Z4=1,CW$71,0)","v":0},{"$f":"IF(AA4=1,CX$71,0)","v":0},{"$f":"IF(AB4=1,CY$71,0)","v":0},{"$f":"IF(AC4=1,CZ$71,0)","v":0},{"$f":"IF(AD4=1,DA$71,0)","v":0},{"$f":"IF(AE4=1,DB$71,0)","v":0},{"$f":"IF(AF4=1,DC$71,0)","v":0},{"$f":"IF(AG4=1,DD$71,0)","v":0},{"$f":"IF(AH4=1,DE$71,0)","v":0},{"$f":"IF(AI4=1,DF$71,0)","v":0},{"$f":"IF(AJ4=1,DG$71,0)","v":0},{"$f":"IF(AK4=1,DH$71,0)","v":0},{"$f":"IF(AL4=1,DI$71,0)","v":0},{"$f":"IF(AM4=1,DJ$71,0)","v":0},{"$f":"IF(AN4=1,DK$71,0)","v":0},{"$f":"IF(AO4=1,DL$71,0)","v":0},{"$f":"IF(AP4=1,DM$71,0)","v":0},{"$f":"IF(AQ4=1,DN$71,0)","v":0},{"$f":"IF(AR4=1,DO$71,0)","v":0},{"$f":"IF(AS4=1,DP$71,0)","v":0},{"$f":"IF(AT4=1,DQ$71,0)","v":0},{"$f":"IF(AU4=1,DR$71,0)","v":0},{"$f":"IF(AV4=1,DS$71,0)","v":0},{"$f":"IF(AW4=1,DT$71,0)","v":0},{"$f":"IF(AX4=1,DU$71,0)","v":0},{"$f":"IF(AY4=1,DV$71,0)","v":0},{"$f":"IF(AZ4=1,DW$71,0)","v":0},{"$f":"IF(BA4=1,DX$71,0)","v":0},{"$f":"IF(BB4=1,DY$71,0)","v":0},{"$f":"IF(BC4=1,DZ$71,0)","v":0},{"$f":"IF(BD4=1,EA$71,0)","v":0},{"$f":"IF(BE4=1,EB$71,0)","v":0},{"$f":"IF(BF4=1,EC$71,0)","v":0},{"$f":"IF(BG4=1,ED$71,0)","v":0},{"$f":"IF(BH4=1,EE$71,0)","v":0},{"$f":"IF(BI4=1,EF$71,0)","v":0},{"$f":"IF(BJ4=1,EG$71,0)","v":0},{"$f":"IF(BK4=1,EH$71,0)","v":0},{"$f":"IF(BL4=1,EI$71,0)","v":0},{"$f":"IF(BM4=1,EJ$71,0)","v":0},{"$f":"IF(BN4=1,EK$71,0)","v":0},{"$f":"IF(BO4=1,EL$71,0)","v":0},{"$f":"IF(BP4=1,EM$71,0)","v":0},{"$f":"IF(BQ4=1,EN$71,0)","v":0},{"$f":"IF(BR4=1,EO$71,0)","v":0},{"$f":"IF(BS4=1,EP$71,0)","v":0},{"$f":"IF(BT4=1,EQ$71,0)","v":0},{"$f":"IF(BU4=1,ER$71,0)","v":0},{"$f":"IF(BV4=1,ES$71,0)","v":0},{"$f":"IF(BW4=1,ET$71,0)","v":0},{"$f":"IF(BX4=1,EU$71,0)","v":0},{"$f":"IF(BY4=1,EV$71,0)","v":0},{"$f":"IF(BZ4=1,EW$71,0)","v":0},{"$f":"IF(CA4=1,EX$71,0)","v":0},{"$f":"IF(CB4=1,EY$71,0)","v":0},{"$f":"IF(CC4=1,EZ$71,0)","v":0},{"$f":"IF(CD4=1,FA$71,0)","v":0}]
[null,null,null,null,"Calendar","Total DD",{"$f":"G42+G43","v":196},{"$f":"H42+H43","v":175.3},{"$f":"G49-H49","v":20.699999999999989},{"$f":"G49/H49-1","v":0.11808328579577854},null,null,null,null,null,null,null,null,null,null,null,null,null,null,null,null,null,null,null,null,null,null,null,null,null,null,null,null,null,null,null,null,null,null,null,null,null,null,null,null,null,null,null,null,null,null,null,null,null,null,null,null,null,null,null,null,null,null,null,null,null,null,null,null,null,null,null,null,null,null,null,null,null,null,{"$f":"SUM(CI49:FA49)","v":0},2,0,0,0,0,0,0,0,0,0,0,0,0,0,0,0,0,0,0,0,0,0,0,0,0,0,0,0,0,0,0,0,0,0,0,0,0,0,0,0,0,0,0,0,0,0,0,0,0,0,0,0,0,0,0,0,0,0,0,0,0,0,0,0,0,0,0,0,0,0,0,0]
[null,null,null,null,"Billing","Total DD",{"$f":"G44+G45","v":196.86363636363635},{"$f":"H44+H45","v":190},{"$f":"G50-H50","v":6.8636363636363455},{"$f":"G50/H50-1","v":3.6124401913875559E-2},null,null,null,null,null,null,null,null,null,null,null,null,null,null,null,null,null,null,null,null,null,null,null,null,null,null,null,null,null,null,null,null,null,null,null,null,null,null,null,null,null,null,null,null,null,null,null,null,null,null,null,null,null,null,null,null,null,null,null,null,null,null,null,null,null,null,null,null,null,null,null,null,null,null,0,3,0,0,0,0,0,0,0,0,0,0,0,0,0,0,0,0,0,0,0,0,0,0,0,0,0,0,0,0,0,0,0,0,0,0,0,0,0,0,0,0,0,0,0,0,0,0,0,0,0,0,0,0,0,0,0,0,0,0,0,0,0,0,0,0,0,0,0,0,0,0,0]
[null,null,null,null,null,null,null,null,null,null,null,null,null,null,null,null,null,null,null,null,null,null,null,null,null,null,null,null,null,null,null,null,null,null,null,null,null,null,null,null,null,null,null,null,null,null,null,null,null,null,null,null,null,null,null,null,null,null,null,null,null,null,null,null,null,null,null,null,null,null,null,null,null,null,null,null,null,null,null,null,null,null,null,null,0,4,0,0,0,0,0,0,0,0,0,0,0,0,0,0,0,0,0,0,0,0,0,0,0,0,0,0,0,0,0,0,0,0,0,0,0,0,0,0,0,0,0,0,0,0,0,0,0,0,0,0,0,0,0,0,0,0,0,0,0,0,0,0,0,0,0,0,0,0,0,0,0]
[null,null,null,null,null,null,null,null,null,null,null,null,null,null,null,null,null,null,null,null,null,null,null,null,null,null,null,null,null,null,null,null,null,null,null,null,null,null,null,null,null,null,null,null,null,null,null,null,null,null,null,null,null,null,null,null,null,null,null,null,null,null,null,null,null,null,null,null,null,null,null,null,null,null,null,null,null,null,null,null,null,null,null,null,0,5,0,0,0,0,0,0,0,0,0,0,0,0,0,0,0,0,0,0,0,0,0,0,0,0,0,0,0,0,0,0,0,0,0,0,0,0,0,0,0,0,0,0,0,0,0,0,0,0,0,0,0,0,0,0,0,0,0,0,0,0,0,0,0,0,0,0,0,0,0,0,0]
[null,null,null,null,null,null,null,null,null,null,null,null,null,null,null,null,null,null,null,null,null,null,null,null,null,null,null,null,null,null,null,null,null,null,null,null,null,null,null,null,null,null,null,null,null,null,null,null,null,null,null,null,null,null,null,null,null,null,null,null,null,null,null,null,null,null,null,null,null,null,null,null,null,null,null,null,null,null,null,null,null,null,null,null,0,6,0,0,0,0,0,0,0,0,0,0,0,0,0,0,0,0,0,0,0,0,0,0,0,0,0,0,0,0,0,0,0,0,0,0,0,0,0,0,0,0,0,0,0,0,0,0,0,0,0,0,0,0,0,0,0,0,0,0,0,0,0,0,0,0,0,0,0,0,0,0,0]
[null,null,null,null,null,null,null,null,null,null,null,null,null,null,null,null,null,null,null,null,null,null,null,null,null,null,null,null,null,null,null,null,null,null,null,null,null,null,null,null,null,null,null,null,null,null,null,null,null,null,null,null,null,null,null,null,null,null,null,null,null,null,null,null,null,null,null,null,null,null,null,null,null,null,null,null,null,null,null,null,null,null,null,null,0,7,0,0,0,0,0,0,0,0,0,0,0,0,0,0,0,0,0,0,0,0,0,0,0,0,0,0,0,0,0,0,0,0,0,0,0,0,0,0,0,0,0,0,0,0,0,0,0,0,0,0,0,0,0,0,0,0,0,0,0,0,0,0,0,0,0,0,0,0,0,0,0]
[null,null,null,null,null,null,null,null,null,null,null,null,null,null,null,null,null,null,null,null,null,null,null,null,null,null,null,null,null,null,null,null,null,null,null,null,null,null,null,null,null,null,null,null,null,null,null,null,null,null,null,null,null,null,null,null,null,null,null,null,null,null,null,null,null,null,null,null,null,null,null,null,null,null,null,null,null,null,null,null,null,null,null,null,0,8,0,0,0,0,0,0,0,0,0,0,0,0,0,0,0,0,0,0,0,0,0,0,0,0,0,0,0,0,0,0,0,0,0,0,0,0,0,0,0,0,0,0,0,0,0,0,0,0,0,0,0,0,0,0,0,0,0,0,0,0,0,0,0,0,0,0,0,0,0,0,0]
[null,null,null,null,null,null,null,null,null,null,null,null,null,null,null,null,null,null,null,null,null,null,null,null,null,null,null,null,null,null,null,null,null,null,null,null,null,null,null,null,null,null,null,null,null,null,null,null,null,null,null,null,null,null,null,null,null,null,null,null,null,null,null,null,null,null,null,null,null,null,null,null,null,null,null,null,null,null,null,null,null,null,null,null,0,9,0,0,0,0,0,0,0,0,0,0,0,0,0,0,0,0,0,0,0,0,0,0,0,0,0,0,0,0,0,0,0,0,0,0,0,0,0,0,0,0,0,0,0,0,0,0,0,0,0,0,0,0,0,0,0,0,0,0,0,0,0,0,0,0,0,0,0,0,0,0,0]
[null,null,null,null,null,null,null,null,null,null,null,null,null,null,null,null,null,null,null,null,null,null,null,null,null,null,null,null,null,null,null,null,null,null,null,null,null,null,null,null,null,null,null,null,null,null,null,null,null,null,null,null,null,null,null,null,null,null,null,null,null,null,null,null,null,null,null,null,null,null,null,null,null,null,null,null,null,null,null,null,null,null,null,null,0,10,0,0,0,0,0,0,0,0,0,0,0,0,0,0,0,0,0,0,0,0,0,0,0,0,0,0,0,0,0,0,0,0,0,0,0,0,0,0,0,0,0,0,0,0,0,0,0,0,0,0,0,0,0,0,0,0,0,0,0,0,0,0,0,0,0,0,0,0,0,0,0]
[null,null,null,null,null,null,null,null,null,null,null,null,null,null,null,null,null,null,null,null,null,null,null,null,null,null,null,null,null,null,null,null,null,null,null,null,null,null,null,null,null,null,null,null,null,null,null,null,null,null,null,null,null,null,null,null,null,null,null,null,null,null,null,null,null,null,null,null,null,null,null,null,null,null,null,null,null,null,null,null,null,null,null,null,0,11,0,0,0,0,0,0,0,0,0,0,0,0,0,0,0,0,0,0,0,0,0,0,0,0,0,0,0,0,0,0,0,0,0,0,0,0,0,0,0,0,0,0,0,0,0,0,0,0,0,0,0,0,0,0,0,0,0,0,0,0,0,0,0,0,0,0,0,0,0,0,0]
[null,null,null,null,null,null,null,null,null,null,null,null,null,null,null,null,null,null,null,null,null,null,null,null,{"$f":"TEXT(DATE(A1,A2,1),\"mmm yyyy\")&\" - Billing Cycle Rainfall\"","v":"Feb 2022 - Billing Cycle Rainfall"},null,null,null,null,null,null,null,null,null,null,null,null,null,null,null,null,null,null,null,null,null,null,null,null,null,null,null,null,null,null,null,null,null,null,null,null,null,null,null,null,null,null,null,null,null,null,null,null,null,null,null,null,null,null,null,null,null,null,null,0,12,0,0,0,0,0,0,0,0,0,0,0,0,0,0,0,0,0,0,0,0,0,0,0,0,0,0,0,0,0,0,0,0,0,0,0,0,0,0,0,0,0,0,0,0,0,0,0,0,0,0,0,0,0,0,0,0,0,0,0,0,0,0,0,0,0,0,0,0,0,0,0]
[null,null,null,null,null,null,null,null,null,null,null,null,null,null,null,null,null,null,null,null,null,null,null,null,null,null,null,null,null,null,null,null,null,null,null,null,null,null,null,null,null,null,null,null,null,null,null,null,null,null,null,null,null,null,null,null,null,null,null,null,null,null,null,null,null,null,null,null,null,null,null,null,null,null,null,null,null,null,null,null,null,null,null,null,0,13,0,0,0,0,0,0,0,0,0,0,0,0,0,0,0,0,0,0,0,0,0,0,0,0,0,0,0,0,0,0,0,0,0,0,0,0,0,0,0,0,0,0,0,0,0,0,0,0,0,0,0,0,0,0,0,0,0,0,0,0,0,0,0,0,0,0,0,0,0,0,0]
[null,null,null,null,null,null,null,null,null,null,null,null,null,null,null,null,null,null,null,null,null,null,null,null,null,null,null,null,null,null,null,null,null,null,null,null,null,null,null,null,null,null,null,null,null,null,null,null,null,null,null,null,null,null,null,null,null,null,null,null,null,null,null,null,null,null,null,null,null,null,null,null,null,null,null,null,null,null,null,null,null,null,null,null,0,14,0,0,0,0,0,0,0,0,0,0,0,0,0,0,0,0,0,0,0,0,0,0,0,0,0,0,0,0,0,0,0,0,0,0,0,0,0,0,0,0,0,0,0,0,0,0,0,0,0,0,0,0,0,0,0,0,0,0,0,0,0,0,0,0,0,0,0,0,0,0,0]
[null,null,null,null,null,null,null,null,null,null,null,null,null,null,null,null,null,null,null,null,null,null,null,null,null,null,null,null,null,null,null,null,null,null,null,null,null,null,null,null,null,null,null,null,null,null,null,null,null,null,null,null,null,null,null,null,null,null,null,null,null,null,null,null,null,null,null,null,null,null,null,null,null,null,null,null,null,null,null,null,null,null,null,null,0,15,0,0,0,0,0,0,0,0,0,0,0,0,0,0,0,0,0,0,0,0,0,0,0,0,0,0,0,0,0,0,0,0,0,0,0,0,0,0,0,0,0,0,0,0,0,0,0,0,0,0,0,0,0,0,0,0,0,0,0,0,0,0,0,0,0,0,0,0,0,0,0]
[null,null,null,null,null,null,null,null,null,null,null,null,null,null,null,null,null,null,null,null,null,null,null,null,null,null,null,null,null,null,null,null,null,null,null,null,null,null,null,null,null,null,null,null,null,null,null,null,null,null,null,null,null,null,null,null,null,null,null,null,null,null,null,null,null,null,null,null,null,null,null,null,null,null,null,null,null,null,null,null,null,null,null,null,0,16,0,0,0,0,0,0,0,0,0,0,0,0,0,0,0,0,0,0,0,0,0,0,0,0,0,0,0,0,0,0,0,0,0,0,0,0,0,0,0,0,0,0,0,0,0,0,0,0,0,0,0,0,0,0,0,0,0,0,0,0,0,0,0,0,0,0,0,0,0,0,0]
[null,null,null,null,null,null,null,null,null,null,null,null,null,null,null,null,null,null,null,null,null,null,null,null,null,null,null,null,null,null,null,null,null,null,null,null,null,null,null,null,null,null,null,null,null,null,null,null,null,null,null,null,null,null,null,null,null,null,null,null,null,null,null,null,null,null,null,null,null,null,null,null,null,null,null,null,null,null,null,null,null,null,null,null,0,17,0,0,0,0,0,0,0,0,0,0,0,0,0,0,0,0,0,0,0,0,0,0,0,0,0,0,0,0,0,0,0,0,0,0,0,0,0,0,0,0,0,0,0,0,0,0,0,0,0,0,0,0,0,0,0,0,0,0,0,0,0,0,0,0,0,0,0,0,0,0,0]
[null,null,null,null,null,null,null,null,null,null,null,null,null,null,null,null,null,null,null,null,null,null,null,null,null,null,null,null,null,null,null,null,null,null,null,null,null,null,null,null,null,null,null,null,null,null,null,null,null,null,null,null,null,null,null,null,null,null,null,null,null,null,null,null,null,null,null,null,null,null,null,null,null,null,null,null,null,null,null,null,null,null,null,null,0,18,0,0,0,0,0,0,0,0,0,0,0,0,0,0,0,0,0,0,0,0,0,0,0,0,0,0,0,0,0,0,0,0,0,0,0,0,0,0,0,0,0,0,0,0,0,0,0,0,0,0,0,0,0,0,0,0,0,0,0,0,0,0,0,0,0,0,0,0,0,0,0]
[null,null,null,null,null,null,null,null,null,null,null,null,null,null,null,null,null,null,null,null,null,null,null,null,null,null,null,null,null,null,null,null,null,null,null,null,null,null,null,null,null,null,null,null,null,null,null,null,null,null,null,null,null,null,null,null,null,null,null,null,null,null,null,null,null,null,null,null,null,null,null,null,null,null,null,null,null,null,null,null,null,null,null,null,0,19,0,0,0,0,0,0,0,0,0,0,0,0,0,0,0,0,0,0,0,0,0,0,0,0,0,0,0,0,0,0,0,0,0,0,0,0,0,0,0,0,0,0,0,0,0,0,0,0,0,0,0,0,0,0,0,0,0,0,0,0,0,0,0,0,0,0,0,0,0,0,0]
[null,null,null,null,null,null,null,null,null,null,null,null,null,null,null,null,null,null,null,null,null,null,null,null,null,null,null,null,null,null,null,null,null,null,null,null,null,null,null,null,null,null,null,null,null,null,null,null,null,null,null,null,null,null,null,null,null,null,null,null,null,null,null,null,null,null,null,null,null,null,null,null,null,null,null,null,null,null,null,null,null,null,null,null,0,20,0,0,0,0,0,0,0,0,0,0,0,0,0,0,0,0,0,0,0,0,0,0,0,0,0,0,0,0,0,0,0,0,0,0,0,0,0,0,0,0,0,0,0,0,0,0,0,0,0,0,0,0,0,0,0,0,0,0,0,0,0,0,0,0,0,0,0,0,0,0,0]
[null,null,null,null,null,null,null,null,null,null,null,null,null,null,null,null,null,null,null,null,null,null,null,null,null,null,null,null,null,null,null,null,null,null,null,null,null,null,null,null,null,null,null,null,null,null,null,null,null,null,null,null,null,null,null,null,null,null,null,null,null,null,null,null,null,null,null,null,null,null,null,null,null,null,null,null,null,null,null,null,null,null,null,null,0,21,0,0,0,0,0,0,0,0,0,0,0,0,0,0,0,0,0,0,0,0,0,0,0,0,0,0,0,0,0,0,0,0,0,0,0,0,0,0,0,0,0,0,0,0,0,0,0,0,0,0,0,0,0,0,0,0,0,0,0,0,0,0,0,0,0,0,0,0,0,0,0]
[null,null,null,null,null,null,null,null,null,null,null,null,null,null,null,null,null,null,null,null,null,null,null,null,null,null,null,null,null,null,null,null,null,null,null,null,null,null,null,null,null,null,null,null,null,null,null,null,null,null,null,null,null,null,null,null,null,null,null,null,null,null,null,null,null,null,null,null,null,null,null,null,null,null,null,null,null,null,null,null,null,null,null,null,0,23,0,0,0,0,0,0,0,0,0,0,0,0,0,0,0,0,0,0,0,0,0,0,0,0,0,0,0,0,0,0,0,0,0,0,0,0,0,0,0,0,0,0,0,0,0,0,0,0,0,0,0,0,0,0,0,0,0,0,0,0,0,0,0,0,0,0,0,0,0,0,0]
[null,null,null,null,null,null,null,null,null,null,null,null,null,null,null,null,null,null,null,null,null,null,null,null,null,null,null,null,null,null,null,null,null,null,null,null,null,null,null,null,null,null,null,null,null,null,null,null,null,null,null,null,null,null,null,null,null,null,null,null,null,null,null,null,null,null,null,null,null,null,null,null,null,null,null,null,null,null,null,null,null,null,null,null,null,{"$f":"SUM(CI70:EX70)","v":0},{"$f":"SUM(CI48:CI69)","v":0},{"$f":"SUM(CJ48:CJ69)","v":0},0,0,0,0,0,0,0,0,0,0,0,0,0,0,0,0,0,0,0,0,0,0,0,0,0,0,0,0,0,0,0,0,0,0,0,0,0,0,0,0,0,0,0,0,0,0,0,0,0,0,0,0,0,0,0,0,0,0,0,0,0,0,0,{"$f":"SUM(EV48:EV69)","v":0},0,0,0,0,0]
[null,null,null,null,null,null,null,null,null,null,null,null,null,null,null,null,null,null,null,null,null,null,null,null,null,null,null,null,null,null,null,null,null,null,null,null,null,null,null,null,null,null,null,null,null,null,null,null,null,null,null,null,null,null,null,null,null,null,null,null,null,null,null,null,null,null,null,null,null,null,null,null,null,null,null,null,null,null,null,null,null,null,null,null,null,{"$f":"SUM(CI71:EU71)","v":0},{"$f":"VLOOKUP(CI47,Daily!$A$2:$H$459,8)","v":0},{"$f":"VLOOKUP(CJ47,Daily!$A$2:$H$459,8)","v":0},{"$f":"VLOOKUP(CK47,Daily!$A$2:$H$459,8)","v":0},{"$f":"VLOOKUP(CL47,Daily!$A$2:$H$459,8)","v":0},{"$f":"VLOOKUP(CM47,Daily!$A$2:$H$459,8)","v":0},{"$f":"VLOOKUP(CN47,Daily!$A$2:$H$459,8)","v":0},{"$f":"VLOOKUP(CO47,Daily!$A$2:$H$459,8)","v":0},{"$f":"VLOOKUP(CP47,Daily!$A$2:$H$459,8)","v":0},{"$f":"VLOOKUP(CQ47,Daily!$A$2:$H$459,8)","v":0},{"$f":"VLOOKUP(CR47,Daily!$A$2:$H$459,8)","v":0},{"$f":"VLOOKUP(CS47,Daily!$A$2:$H$459,8)","v":0},{"$f":"VLOOKUP(CT47,Daily!$A$2:$H$459,8)","v":0},{"$f":"VLOOKUP(CU47,Daily!$A$2:$H$459,8)","v":0},{"$f":"VLOOKUP(CV47,Daily!$A$2:$H$459,8)","v":0},{"$f":"VLOOKUP(CW47,Daily!$A$2:$H$459,8)","v":0},{"$f":"VLOOKUP(CX47,Daily!$A$2:$H$459,8)","v":0},{"$f":"VLOOKUP(CY47,Daily!$A$2:$H$459,8)","v":0},{"$f":"VLOOKUP(CZ47,Daily!$A$2:$H$459,8)","v":0},{"$f":"VLOOKUP(DA47,Daily!$A$2:$H$459,8)","v":0},{"$f":"VLOOKUP(DB47,Daily!$A$2:$H$459,8)","v":0},{"$f":"VLOOKUP(DC47,Daily!$A$2:$H$459,8)","v":0},{"$f":"VLOOKUP(DD47,Daily!$A$2:$H$459,8)","v":0},{"$f":"VLOOKUP(DE47,Daily!$A$2:$H$459,8)","v":0},{"$f":"VLOOKUP(DF47,Daily!$A$2:$H$459,8)","v":0},{"$f":"VLOOKUP(DG47,Daily!$A$2:$H$459,8)","v":0},{"$f":"VLOOKUP(DH47,Daily!$A$2:$H$459,8)","v":0},{"$f":"VLOOKUP(DI47,Daily!$A$2:$H$459,8)","v":0},{"$f":"VLOOKUP(DJ47,Daily!$A$2:$H$459,8)","v":0},{"$f":"VLOOKUP(DK47,Daily!$A$2:$H$459,8)","v":0},{"$f":"VLOOKUP(DL47,Daily!$A$2:$H$459,8)","v":0},{"$f":"VLOOKUP(DM47,Daily!$A$2:$H$459,8)","v":0},{"$f":"VLOOKUP(DN47,Daily!$A$2:$H$459,8)","v":0},{"$f":"VLOOKUP(DO47,Daily!$A$2:$H$459,8)","v":0},{"$f":"VLOOKUP(DP47,Daily!$A$2:$H$459,8)","v":0},{"$f":"VLOOKUP(DQ47,Daily!$A$2:$H$459,8)","v":0},{"$f":"VLOOKUP(DR47,Daily!$A$2:$H$459,8)","v":0},{"$f":"VLOOKUP(DS47,Daily!$A$2:$H$459,8)","v":0},{"$f":"VLOOKUP(DT47,Daily!$A$2:$H$459,8)","v":0},{"$f":"VLOOKUP(DU47,Daily!$A$2:$H$459,8)","v":0},{"$f":"VLOOKUP(DV47,Daily!$A$2:$H$459,8)","v":0},{"$f":"VLOOKUP(DW47,Daily!$A$2:$H$459,8)","v":0},{"$f":"VLOOKUP(DX47,Daily!$A$2:$H$459,8)","v":0},{"$f":"VLOOKUP(DY47,Daily!$A$2:$H$459,8)","v":0},{"$f":"VLOOKUP(DZ47,Daily!$A$2:$H$459,8)","v":0},{"$f":"VLOOKUP(EA47,Daily!$A$2:$H$459,8)","v":0},{"$f":"VLOOKUP(EB47,Daily!$A$2:$H$459,8)","v":0},{"$f":"VLOOKUP(EC47,Daily!$A$2:$H$459,8)","v":0},{"$f":"VLOOKUP(ED47,Daily!$A$2:$H$459,8)","v":0},{"$f":"VLOOKUP(EE47,Daily!$A$2:$H$459,8)","v":0},{"$f":"VLOOKUP(EF47,Daily!$A$2:$H$459,8)","v":0},{"$f":"VLOOKUP(EG47,Daily!$A$2:$H$459,8)","v":0},{"$f":"VLOOKUP(EH47,Daily!$A$2:$H$459,8)","v":0},{"$f":"VLOOKUP(EI47,Daily!$A$2:$H$459,8)","v":0},{"$f":"VLOOKUP(EJ47,Daily!$A$2:$H$459,8)","v":0},{"$f":"VLOOKUP(EK47,Daily!$A$2:$H$459,8)","v":0},{"$f":"VLOOKUP(EL47,Daily!$A$2:$H$459,8)","v":0},{"$f":"VLOOKUP(EM47,Daily!$A$2:$H$459,8)","v":0},{"$f":"VLOOKUP(EN47,Daily!$A$2:$H$459,8)","v":0},{"$f":"VLOOKUP(EO47,Daily!$A$2:$H$459,8)","v":0},{"$f":"VLOOKUP(EP47,Daily!$A$2:$H$459,8)","v":0},{"$f":"VLOOKUP(EQ47,Daily!$A$2:$H$459,8)","v":0},{"$f":"VLOOKUP(ER47,Daily!$A$2:$H$459,8)","v":0},{"$f":"VLOOKUP(ES47,Daily!$A$2:$H$459,8)","v":0},{"$f":"VLOOKUP(ET47,Daily!$A$2:$H$459,8)","v":0},{"$f":"VLOOKUP(EU47,Daily!$A$2:$H$459,8)","v":0},{"$f":"VLOOKUP(EV47,Daily!$A$2:$H$459,8)","v":0},{"$f":"VLOOKUP(EW47,Daily!$A$2:$H$459,8)","v":0},{"$f":"VLOOKUP(EX47,Daily!$A$2:$H$459,8)","v":0},{"$f":"VLOOKUP(EY47,Daily!$A$2:$H$459,8)","v":0},{"$f":"VLOOKUP(EZ47,Daily!$A$2:$H$459,8)","v":0},{"$f":"VLOOKUP(FA47,Daily!$A$2:$H$459,8)","v":0}]
[null,null,null,null,null,null,null,null,null,null,null,null,null,null,null,null,null,null,null,null,null,null,null,null,null,null,null,null,null,null,null,null,null,null,null,null,null,null,null,null,null,null,null,null,null,null,null,null,null,null,null,null,null,null,null,null,null,null,null,null,null,null,null,null,null,null,null,null,null,null,null,null,null,null,null,null,null,null,null,null,null,null,null,null,null,null,{"$f":"+CI71/$CH71","v":{"$error":"#DIV/0!"}},{"$error":"#DIV/0!"},{"$error":"#DIV/0!"},{"$error":"#DIV/0!"},{"$error":"#DIV/0!"},{"$error":"#DIV/0!"},{"$error":"#DIV/0!"},{"$error":"#DIV/0!"},{"$error":"#DIV/0!"},{"$error":"#DIV/0!"},{"$error":"#DIV/0!"},{"$error":"#DIV/0!"},{"$error":"#DIV/0!"},{"$error":"#DIV/0!"},{"$error":"#DIV/0!"},{"$error":"#DIV/0!"},{"$error":"#DIV/0!"},{"$error":"#DIV/0!"},{"$error":"#DIV/0!"},{"$error":"#DIV/0!"},{"$error":"#DIV/0!"},{"$error":"#DIV/0!"},{"$error":"#DIV/0!"},{"$error":"#DIV/0!"},{"$error":"#DIV/0!"},{"$error":"#DIV/0!"},{"$error":"#DIV/0!"},{"$error":"#DIV/0!"},{"$error":"#DIV/0!"},{"$error":"#DIV/0!"},{"$error":"#DIV/0!"},{"$error":"#DIV/0!"},{"$f":"+DO71/$CH71","v":{"$error":"#DIV/0!"}},{"$error":"#DIV/0!"},{"$error":"#DIV/0!"},{"$error":"#DIV/0!"},{"$error":"#DIV/0!"},{"$error":"#DIV/0!"},{"$error":"#DIV/0!"},{"$error":"#DIV/0!"},{"$error":"#DIV/0!"},{"$error":"#DIV/0!"},{"$error":"#DIV/0!"},{"$error":"#DIV/0!"},{"$error":"#DIV/0!"},{"$error":"#DIV/0!"},{"$error":"#DIV/0!"},{"$error":"#DIV/0!"},{"$error":"#DIV/0!"},{"$error":"#DIV/0!"},{"$error":"#DIV/0!"},{"$error":"#DIV/0!"},{"$error":"#DIV/0!"},{"$error":"#DIV/0!"},{"$error":"#DIV/0!"},{"$error":"#DIV/0!"},{"$error":"#DIV/0!"},{"$error":"#DIV/0!"},{"$error":"#DIV/0!"},{"$error":"#DIV/0!"},{"$error":"#DIV/0!"},{"$error":"#DIV/0!"},{"$error":"#DIV/0!"},{"$error":"#DIV/0!"},{"$f":"+EU71/$CH71","v":{"$error":"#DIV/0!"}},{"$error":"#DIV/0!"},{"$error":"#DIV/0!"},{"$error":"#DIV/0!"},{"$f":"+EY71/$CH71","v":{"$error":"#DIV/0!"}},{"$error":"#DIV/0!"},{"$error":"#DIV/0!"}]

{"sheet":"MAR","index":3,"n_rows":72,"n_cols":157,"rows_kept":72,"cut":false,"hidden":false,"merged":[[1,1,1,6],[3,9,23,9]]}
[{"$f":"+JAN!A1","v":2022},null,null,null,null,null,null,null,null,null,null,null,null,null,null,null,null,null,null,null,null,null,null,null,null,null,null,null,null,null,null,null,null,null,null,null,null,null,null,null,null,null,null,null,null,null,null,null,null,null,null,null,null,null,null,null,null,null,null,null,null,null,null,null,null,null,null,null,null,null,null,null,null,null,null,null,null,null,null,null,null,null,null,null,null,null,{"$f":"YEAR(CI3)","v":2022},{"$f":"YEAR(CJ3)","v":2022},2022,2022,2022,2022,2022,2022,2022,2022,2022,2022,2022,2022,2022,2022,2022,2022,2022,2022,2022,2022,2022,2022,2022,2022,2022,2022,2022,2022,2022,2022,2022,2022,2022,2022,2022,2022,2022,2022,2022,2022,2022,2022,2022,2022,2022,2022,2022,2022,2022,2022,2022,2022,2022,2022,2022,2022,2022,2022,2022,2022,2022,2022,{"$f":"YEAR(EU3)","v":2022},{"$f":"YEAR(EV3)","v":2022},2022,2022,{"$f":"YEAR(EY3)","v":2022},2022,2022]
[3,"Published Billing Schedule",null,null,null,null,null,null,null,null,null,null,null,null,null,null,null,null,null,null,null,null,null,null,null,null,null,null,null,null,null,null,null,null,null,null,null,null,null,null,null,null,null,null,null,null,null,null,null,null,null,null,null,null,null,null,null,null,null,null,null,null,null,null,null,null,null,null,null,null,null,null,null,null,null,null,null,null,null,null,null,null,null,null,null,null,{"$f":"MONTH(CI3)","v":1},{"$f":"MONTH(CJ3)","v":1},1,1,2,2,2,2,2,2,2,2,2,2,2,2,2,2,2,2,2,2,2,2,2,2,2,2,2,2,2,2,3,3,3,3,3,3,3,3,3,3,3,3,3,3,3,3,3,3,3,3,3,3,3,3,3,3,3,3,3,3,3,4,4,4,{"$f":"MONTH(EW3)","v":4},4,4,4,4]
["Lookup","Year","Month","Cycle","StartBilling","EndBilling","No.Days",null,null,null,"Date",{"$f":"+E4","v":"2022-01-28"},{"$f":"+L3+1","v":"2022-01-29"},{"$f":"+M3+1","v":"2022-01-30"},"2022-01-31","2022-02-01","2022-02-02","2022-02-03","2022-02-04","2022-02-05","2022-02-06","2022-02-07","2022-02-08","2022-02-09","2022-02-10","2022-02-11","2022-02-12","2022-02-13","2022-02-14","2022-02-15","2022-02-16","2022-02-17","2022-02-18","2022-02-19","2022-02-20","2022-02-21","2022-02-22","2022-02-23","2022-02-24","2022-02-25","2022-02-26","2022-02-27","2022-02-28","2022-03-01","2022-03-02","2022-03-03","2022-03-04","2022-03-05","2022-03-06","2022-03-07","2022-03-08","2022-03-09","2022-03-10","2022-03-11","2022-03-12","2022-03-13","2022-03-14","2022-03-15","2022-03-16","2022-03-17","2022-03-18","2022-03-19","2022-03-20","2022-03-21","2022-03-22","2022-03-23","2022-03-24","2022-03-25","2022-03-26","2022-03-27","2022-03-28","2022-03-29","2022-03-30","2022-03-31",{"$f":"+BV3+1","v":"2022-04-01"},{"$f":"+BW3+1","v":"2022-04-02"},{"$f":"+BX3+1","v":"2022-04-03"},"2022-04-04","2022-04-05",{"$f":"+CA3+1","v":"2022-04-06"},{"$f":"+CB3+1","v":"2022-04-07"},{"$f":"+CC3+1","v":"2022-04-08"},null,null,null,"Cycle",{"$f":"+L3","v":"2022-01-28"},"2022-01-29","2022-01-30","2022-01-31","2022-02-01","2022-02-02","2022-02-03","2022-02-04","2022-02-05","2022-02-06","2022-02-07","2022-02-08","2022-02-09","2022-02-10","2022-02-11","2022-02-12","2022-02-13","2022-02-14","2022-02-15","2022-02-16","2022-02-17","2022-02-18","2022-02-19","2022-02-20","2022-02-21","2022-02-22","2022-02-23","2022-02-24","2022-02-25","2022-02-26","2022-02-27","2022-02-28",{"$f":"+AR3","v":"2022-03-01"},"2022-03-02","2022-03-03","2022-03-04","2022-03-05","2022-03-06","2022-03-07","2022-03-08","2022-03-09","2022-03-10","2022-03-11","2022-03-12","2022-03-13","2022-03-14","2022-03-15","2022-03-16","2022-03-17","2022-03-18","2022-03-19","2022-03-20","2022-03-21","2022-03-22","2022-03-23","2022-03-24","2022-03-25","2022-03-26","2022-03-27","2022-03-28","2022-03-29","2022-03-30","2022-03-31","2022-04-01",{"$f":"+BX3","v":"2022-04-02"},{"$f":"+BY3","v":"2022-04-03"},{"$f":"+BZ3","v":"2022-04-04"},{"$f":"+CA3","v":"2022-04-05"},{"$f":"+CB3","v":"2022-04-06"},"2022-04-07","2022-04-08"]
[{"$f":"+$A$1*10000+A2*100+1","v":20220301},{"$f":"+A1","v":2022},{"$f":"+A2","v":3},1,{"$f":"+FEB!F4+1","v":"2022-01-28"},"2022-02-25",{"$f":"+F4-E4+1","v":29},{"$f":"+E4-FEB!F4","v":1},null,"Billing Cycles",1,{"$f":"IF(AND(L$3>=$E4,L$3<=$F4),1,0)","v":1},{"$f":"IF(AND(M$3>=$E4,M$3<=$F4),1,0)","v":1},1,1,1,1,1,1,1,1,1,1,1,1,1,1,1,1,1,1,1,1,1,1,1,1,1,1,1,0,0,0,0,0,0,0,0,0,0,0,0,0,0,0,0,0,0,0,0,0,0,0,0,0,0,0,0,0,0,0,0,0,0,0,0,{"$f":"IF(AND(BY$3>=$E4,BY$3<=$F4),1,0)","v":0},0,0,0,0,0,null,{"$f":"SUM(CI4:FA4)-CG4/1000","v":{"$error":"#DIV/0!"}},34854128,1,{"$f":"((CI48/$CG48))*($CG4/1000)","v":{"$error":"#DIV/0!"}},{"$f":"((CJ48/$CG48))*($CG4/1000)","v":{"$error":"#DIV/0!"}},{"$error":"#DIV/0!"},{"$error":"#DIV/0!"},{"$error":"#DIV/0!"},{"$error":"#DIV/0!"},{"$error":"#DIV/0!"},{"$error":"#DIV/0!"},{"$error":"#DIV/0!"},{"$error":"#DIV/0!"},{"$error":"#DIV/0!"},{"$error":"#DIV/0!"},{"$error":"#DIV/0!"},{"$error":"#DIV/0!"},{"$error":"#DIV/0!"},{"$error":"#DIV/0!"},{"$error":"#DIV/0!"},{"$error":"#DIV/0!"},{"$error":"#DIV/0!"},{"$error":"#DIV/0!"},{"$error":"#DIV/0!"},{"$error":"#DIV/0!"},{"$error":"#DIV/0!"},{"$error":"#DIV/0!"},{"$error":"#DIV/0!"},{"$error":"#DIV/0!"},{"$error":"#DIV/0!"},{"$error":"#DIV/0!"},{"$error":"#DIV/0!"},{"$error":"#DIV/0!"},{"$error":"#DIV/0!"},{"$error":"#DIV/0!"},{"$f":"((DO48/$CG48))*($CG4/1000)","v":{"$error":"#DIV/0!"}},{"$error":"#DIV/0!"},{"$error":"#DIV/0!"},{"$error":"#DIV/0!"},{"$error":"#DIV/0!"},{"$error":"#DIV/0!"},{"$error":"#DIV/0!"},{"$error":"#DIV/0!"},{"$error":"#DIV/0!"},{"$error":"#DIV/0!"},{"$error":"#DIV/0!"},{"$error":"#DIV/0!"},{"$error":"#DIV/0!"},{"$error":"#DIV/0!"},{"$error":"#DIV/0!"},{"$error":"#DIV/0!"},{"$error":"#DIV/0!"},{"$error":"#DIV/0!"},{"$error":"#DIV/0!"},{"$error":"#DIV/0!"},{"$error":"#DIV/0!"},{"$error":"#DIV/0!"},{"$error":"#DIV/0!"},{"$error":"#DIV/0!"},{"$error":"#DIV/0!"},{"$error":"#DIV/0!"},{"$error":"#DIV/0!"},{"$error":"#DIV/0!"},{"$error":"#DIV/0!"},{"$error":"#DIV/0!"},{"$error":"#DIV/0!"},{"$error":"#DIV/0!"},{"$error":"#DIV/0!"},{"$f":"((EV48/$CG48))*($CG4/1000)","v":{"$error":"#DIV/0!"}},{"$error":"#DIV/0!"},{"$error":"#DIV/0!"},{"$f":"((EY48/$CG48))*($CG4/1000)","v":{"$error":"#DIV/0!"}},{"$error":"#DIV/0!"},{"$error":"#DIV/0!"}]
[{"$f":"+A4+1","v":20220302},{"$f":"+B4","v":2022},{"$f":"+C4","v":3},{"$f":"+D4+1","v":2},{"$f":"+FEB!F5+1","v":"2022-01-29"},"2022-02-28",{"$f":"+F5-E5+1","v":31},{"$f":"+E5-FEB!F5","v":1},null,null,2,{"$f":"IF(AND(L$3>=$E5,L$3<=$F5),1,0)","v":0},1,1,1,1,1,1,1,1,1,1,1,1,1,1,1,1,1,1,1,1,1,1,1,1,1,1,1,1,1,1,1,0,0,0,0,0,0,0,0,0,0,0,0,0,0,0,0,0,0,0,0,0,0,0,0,0,0,0,0,0,0,0,0,0,0,0,0,0,0,0,null,{"$error":"#DIV/0!"},71013818,2,{"$f":"((CI49/$CG49))*($CG5/1000)","v":{"$error":"#DIV/0!"}},{"$error":"#DIV/0!"},{"$error":"#DIV/0!"},{"$error":"#DIV/0!"},{"$error":"#DIV/0!"},{"$error":"#DIV/0!"},{"$error":"#DIV/0!"},{"$error":"#DIV/0!"},{"$error":"#DIV/0!"},{"$error":"#DIV/0!"},{"$error":"#DIV/0!"},{"$error":"#DIV/0!"},{"$error":"#DIV/0!"},{"$error":"#DIV/0!"},{"$error":"#DIV/0!"},{"$error":"#DIV/0!"},{"$error":"#DIV/0!"},{"$error":"#DIV/0!"},{"$error":"#DIV/0!"},{"$error":"#DIV/0!"},{"$error":"#DIV/0!"},{"$error":"#DIV/0!"},{"$error":"#DIV/0!"},{"$error":"#DIV/0!"},{"$error":"#DIV/0!"},{"$error":"#DIV/0!"},{"$error":"#DIV/0!"},{"$error":"#DIV/0!"},{"$error":"#DIV/0!"},{"$error":"#DIV/0!"},{"$error":"#DIV/0!"},{"$error":"#DIV/0!"},{"$f":"((DO49/$CG49))*($CG5/1000)","v":{"$error":"#DIV/0!"}},{"$error":"#DIV/0!"},{"$error":"#DIV/0!"},{"$error":"#DIV/0!"},{"$error":"#DIV/0!"},{"$error":"#DIV/0!"},{"$error":"#DIV/0!"},{"$error":"#DIV/0!"},{"$error":"#DIV/0!"},{"$error":"#DIV/0!"},{"$error":"#DIV/0!"},{"$error":"#DIV/0!"},{"$error":"#DIV/0!"},{"$error":"#DIV/0!"},{"$error":"#DIV/0!"},{"$error":"#DIV/0!"},{"$error":"#DIV/0!"},{"$error":"#DIV/0!"},{"$error":"#DIV/0!"},{"$error":"#DIV/0!"},{"$error":"#DIV/0!"},{"$error":"#DIV/0!"},{"$error":"#DIV/0!"},{"$error":"#DIV/0!"},{"$error":"#DIV/0!"},{"$error":"#DIV/0!"},{"$error":"#DIV/0!"},{"$error":"#DIV/0!"},{"$error":"#DIV/0!"},{"$error":"#DIV/0!"},{"$error":"#DIV/0!"},{"$error":"#DIV/0!"},{"$error":"#DIV/0!"},{"$f":"((EV49/$CG49))*($CG5/1000)","v":{"$error":"#DIV/0!"}},{"$error":"#DIV/0!"},{"$error":"#DIV/0!"},{"$f":"((EY49/$CG49))*($CG5/1000)","v":{"$error":"#DIV/0!"}},{"$error":"#DIV/0!"},{"$error":"#DIV/0!"}]
[{"$f":"+A5+1","v":20220303},{"$f":"+B5","v":2022},3,{"$f":"+D5+1","v":3},{"$f":"+FEB!F6+1","v":"2022-02-01"},"2022-03-01",29,{"$f":"+E6-FEB!F6","v":1},null,null,3,0,0,0,0,1,1,1,1,1,1,1,1,1,1,1,1,1,1,1,1,1,1,1,1,1,1,1,1,1,1,1,1,1,0,0,0,0,0,0,0,0,0,0,0,0,0,0,0,0,0,0,0,0,0,0,0,0,0,0,0,0,0,0,0,0,0,0,0,0,0,0,null,{"$error":"#DIV/0!"},48664120,3,{"$f":"((CI50/$CG50))*($CG6/1000)","v":{"$error":"#DIV/0!"}},{"$error":"#DIV/0!"},{"$error":"#DIV/0!"},{"$error":"#DIV/0!"},{"$error":"#DIV/0!"},{"$error":"#DIV/0!"},{"$error":"#DIV/0!"},{"$error":"#DIV/0!"},{"$error":"#DIV/0!"},{"$error":"#DIV/0!"},{"$error":"#DIV/0!"},{"$error":"#DIV/0!"},{"$error":"#DIV/0!"},{"$error":"#DIV/0!"},{"$error":"#DIV/0!"},{"$error":"#DIV/0!"},{"$error":"#DIV/0!"},{"$error":"#DIV/0!"},{"$error":"#DIV/0!"},{"$error":"#DIV/0!"},{"$error":"#DIV/0!"},{"$error":"#DIV/0!"},{"$error":"#DIV/0!"},{"$error":"#DIV/0!"},{"$error":"#DIV/0!"},{"$error":"#DIV/0!"},{"$error":"#DIV/0!"},{"$error":"#DIV/0!"},{"$error":"#DIV/0!"},{"$error":"#DIV/0!"},{"$error":"#DIV/0!"},{"$error":"#DIV/0!"},{"$f":"((DO50/$CG50))*($CG6/1000)","v":{"$error":"#DIV/0!"}},{"$error":"#DIV/0!"},{"$error":"#DIV/0!"},{"$error":"#DIV/0!"},{"$error":"#DIV/0!"},{"$error":"#DIV/0!"},{"$error":"#DIV/0!"},{"$error":"#DIV/0!"},{"$error":"#DIV/0!"},{"$error":"#DIV/0!"},{"$error":"#DIV/0!"},{"$error":"#DIV/0!"},{"$error":"#DIV/0!"},{"$error":"#DIV/0!"},{"$error":"#DIV/0!"},{"$error":"#DIV/0!"},{"$error":"#DIV/0!"},{"$error":"#DIV/0!"},{"$error":"#DIV/0!"},{"$error":"#DIV/0!"},{"$error":"#DIV/0!"},{"$error":"#DIV/0!"},{"$error":"#DIV/0!"},{"$error":"#DIV/0!"},{"$error":"#DIV/0!"},{"$error":"#DIV/0!"},{"$error":"#DIV/0!"},{"$error":"#DIV/0!"},{"$error":"#DIV/0!"},{"$error":"#DIV/0!"},{"$error":"#DIV/0!"},{"$error":"#DIV/0!"},{"$error":"#DIV/0!"},{"$f":"((EV50/$CG50))*($CG6/1000)","v":{"$error":"#DIV/0!"}},{"$error":"#DIV/0!"},{"$error":"#DIV/0!"},{"$f":"((EY50/$CG50))*($CG6/1000)","v":{"$error":"#DIV/0!"}},{"$error":"#DIV/0!"},{"$error":"#DIV/0!"}]
[20220304,2022,3,4,{"$f":"+FEB!F7+1","v":"2022-02-02"},"2022-03-02",29,{"$f":"+E7-FEB!F7","v":1},null,null,4,0,0,0,0,0,1,1,1,1,1,1,1,1,1,1,1,1,1,1,1,1,1,1,1,1,1,1,1,1,1,1,1,1,1,0,0,0,0,0,0,0,0,0,0,0,0,0,0,0,0,0,0,0,0,0,0,0,0,0,0,0,0,0,0,0,0,0,0,0,0,0,null,{"$error":"#DIV/0!"},67173398,4,{"$f":"((CI51/$CG51))*($CG7/1000)","v":{"$error":"#DIV/0!"}},{"$error":"#DIV/0!"},{"$error":"#DIV/0!"},{"$error":"#DIV/0!"},{"$error":"#DIV/0!"},{"$error":"#DIV/0!"},{"$error":"#DIV/0!"},{"$error":"#DIV/0!"},{"$error":"#DIV/0!"},{"$error":"#DIV/0!"},{"$error":"#DIV/0!"},{"$error":"#DIV/0!"},{"$error":"#DIV/0!"},{"$error":"#DIV/0!"},{"$error":"#DIV/0!"},{"$error":"#DIV/0!"},{"$error":"#DIV/0!"},{"$error":"#DIV/0!"},{"$error":"#DIV/0!"},{"$error":"#DIV/0!"},{"$error":"#DIV/0!"},{"$error":"#DIV/0!"},{"$error":"#DIV/0!"},{"$error":"#DIV/0!"},{"$error":"#DIV/0!"},{"$error":"#DIV/0!"},{"$error":"#DIV/0!"},{"$error":"#DIV/0!"},{"$error":"#DIV/0!"},{"$error":"#DIV/0!"},{"$error":"#DIV/0!"},{"$error":"#DIV/0!"},{"$f":"((DO51/$CG51))*($CG7/1000)","v":{"$error":"#DIV/0!"}},{"$error":"#DIV/0!"},{"$error":"#DIV/0!"},{"$error":"#DIV/0!"},{"$error":"#DIV/0!"},{"$error":"#DIV/0!"},{"$error":"#DIV/0!"},{"$error":"#DIV/0!"},{"$error":"#DIV/0!"},{"$error":"#DIV/0!"},{"$error":"#DIV/0!"},{"$error":"#DIV/0!"},{"$error":"#DIV/0!"},{"$error":"#DIV/0!"},{"$error":"#DIV/0!"},{"$error":"#DIV/0!"},{"$error":"#DIV/0!"},{"$error":"#DIV/0!"},{"$error":"#DIV/0!"},{"$error":"#DIV/0!"},{"$error":"#DIV/0!"},{"$error":"#DIV/0!"},{"$error":"#DIV/0!"},{"$error":"#DIV/0!"},{"$error":"#DIV/0!"},{"$error":"#DIV/0!"},{"$error":"#DIV/0!"},{"$error":"#DIV/0!"},{"$error":"#DIV/0!"},{"$error":"#DIV/0!"},{"$error":"#DIV/0!"},{"$error":"#DIV/0!"},{"$error":"#DIV/0!"},{"$f":"((EV51/$CG51))*($CG7/1000)","v":{"$error":"#DIV/0!"}},{"$error":"#DIV/0!"},{"$error":"#DIV/0!"},{"$f":"((EY51/$CG51))*($CG7/1000)","v":{"$error":"#DIV/0!"}},{"$error":"#DIV/0!"},{"$error":"#DIV/0!"}]
[20220305,2022,3,5,{"$f":"+FEB!F8+1","v":"2022-02-03"},"2022-03-03",29,{"$f":"+E8-FEB!F8","v":1},null,null,5,0,0,0,0,0,0,1,1,1,1,1,1,1,1,1,{"$f":"IF(AND(AA$3>=$E8,AA$3<=$F8),1,0)","v":1},1,1,1,1,1,1,1,1,1,1,1,1,1,1,1,1,1,1,1,0,0,0,0,0,0,0,0,0,0,0,0,0,0,0,0,0,0,0,0,0,0,0,0,0,0,0,0,0,0,0,0,0,0,0,0,null,{"$error":"#DIV/0!"},109543661,5,{"$f":"((CI52/$CG52))*($CG8/1000)","v":{"$error":"#DIV/0!"}},{"$error":"#DIV/0!"},{"$error":"#DIV/0!"},{"$error":"#DIV/0!"},{"$error":"#DIV/0!"},{"$error":"#DIV/0!"},{"$error":"#DIV/0!"},{"$error":"#DIV/0!"},{"$error":"#DIV/0!"},{"$error":"#DIV/0!"},{"$error":"#DIV/0!"},{"$error":"#DIV/0!"},{"$error":"#DIV/0!"},{"$error":"#DIV/0!"},{"$error":"#DIV/0!"},{"$error":"#DIV/0!"},{"$error":"#DIV/0!"},{"$error":"#DIV/0!"},{"$error":"#DIV/0!"},{"$error":"#DIV/0!"},{"$error":"#DIV/0!"},{"$error":"#DIV/0!"},{"$error":"#DIV/0!"},{"$error":"#DIV/0!"},{"$error":"#DIV/0!"},{"$error":"#DIV/0!"},{"$error":"#DIV/0!"},{"$error":"#DIV/0!"},{"$error":"#DIV/0!"},{"$error":"#DIV/0!"},{"$error":"#DIV/0!"},{"$error":"#DIV/0!"},{"$f":"((DO52/$CG52))*($CG8/1000)","v":{"$error":"#DIV/0!"}},{"$error":"#DIV/0!"},{"$error":"#DIV/0!"},{"$error":"#DIV/0!"},{"$error":"#DIV/0!"},{"$error":"#DIV/0!"},{"$error":"#DIV/0!"},{"$error":"#DIV/0!"},{"$error":"#DIV/0!"},{"$error":"#DIV/0!"},{"$error":"#DIV/0!"},{"$error":"#DIV/0!"},{"$error":"#DIV/0!"},{"$error":"#DIV/0!"},{"$error":"#DIV/0!"},{"$error":"#DIV/0!"},{"$error":"#DIV/0!"},{"$error":"#DIV/0!"},{"$error":"#DIV/0!"},{"$error":"#DIV/0!"},{"$error":"#DIV/0!"},{"$error":"#DIV/0!"},{"$error":"#DIV/0!"},{"$error":"#DIV/0!"},{"$error":"#DIV/0!"},{"$error":"#DIV/0!"},{"$error":"#DIV/0!"},{"$error":"#DIV/0!"},{"$error":"#DIV/0!"},{"$error":"#DIV/0!"},{"$error":"#DIV/0!"},{"$error":"#DIV/0!"},{"$error":"#DIV/0!"},{"$f":"((EV52/$CG52))*($CG8/1000)","v":{"$error":"#DIV/0!"}},{"$error":"#DIV/0!"},{"$error":"#DIV/0!"},{"$f":"((EY52/$CG52))*($CG8/1000)","v":{"$error":"#DIV/0!"}},{"$error":"#DIV/0!"},{"$error":"#DIV/0!"}]
[20220306,2022,3,6,{"$f":"+FEB!F9+1","v":"2022-02-04"},"2022-03-04",29,{"$f":"+E9-FEB!F9","v":1},null,null,6,0,0,0,0,0,0,0,1,1,1,1,1,1,1,1,1,1,1,1,1,1,1,1,1,1,1,1,1,1,1,1,1,1,1,1,1,0,0,0,0,0,0,0,0,0,0,0,0,0,0,0,0,0,0,0,0,0,0,0,0,0,0,0,0,0,0,0,0,0,0,0,null,{"$error":"#DIV/0!"},40031071,6,{"$f":"((CI53/$CG53))*($CG9/1000)","v":{"$error":"#DIV/0!"}},{"$error":"#DIV/0!"},{"$error":"#DIV/0!"},{"$error":"#DIV/0!"},{"$error":"#DIV/0!"},{"$error":"#DIV/0!"},{"$error":"#DIV/0!"},{"$error":"#DIV/0!"},{"$error":"#DIV/0!"},{"$error":"#DIV/0!"},{"$error":"#DIV/0!"},{"$error":"#DIV/0!"},{"$error":"#DIV/0!"},{"$error":"#DIV/0!"},{"$error":"#DIV/0!"},{"$error":"#DIV/0!"},{"$error":"#DIV/0!"},{"$error":"#DIV/0!"},{"$error":"#DIV/0!"},{"$error":"#DIV/0!"},{"$error":"#DIV/0!"},{"$error":"#DIV/0!"},{"$error":"#DIV/0!"},{"$error":"#DIV/0!"},{"$error":"#DIV/0!"},{"$error":"#DIV/0!"},{"$error":"#DIV/0!"},{"$error":"#DIV/0!"},{"$error":"#DIV/0!"},{"$error":"#DIV/0!"},{"$error":"#DIV/0!"},{"$error":"#DIV/0!"},{"$f":"((DO53/$CG53))*($CG9/1000)","v":{"$error":"#DIV/0!"}},{"$error":"#DIV/0!"},{"$error":"#DIV/0!"},{"$error":"#DIV/0!"},{"$error":"#DIV/0!"},{"$error":"#DIV/0!"},{"$error":"#DIV/0!"},{"$error":"#DIV/0!"},{"$error":"#DIV/0!"},{"$error":"#DIV/0!"},{"$error":"#DIV/0!"},{"$error":"#DIV/0!"},{"$error":"#DIV/0!"},{"$error":"#DIV/0!"},{"$error":"#DIV/0!"},{"$error":"#DIV/0!"},{"$error":"#DIV/0!"},{"$error":"#DIV/0!"},{"$error":"#DIV/0!"},{"$error":"#DIV/0!"},{"$error":"#DIV/0!"},{"$error":"#DIV/0!"},{"$error":"#DIV/0!"},{"$error":"#DIV/0!"},{"$error":"#DIV/0!"},{"$error":"#DIV/0!"},{"$error":"#DIV/0!"},{"$error":"#DIV/0!"},{"$error":"#DIV/0!"},{"$error":"#DIV/0!"},{"$error":"#DIV/0!"},{"$error":"#DIV/0!"},{"$error":"#DIV/0!"},{"$f":"((EV53/$CG53))*($CG9/1000)","v":{"$error":"#DIV/0!"}},{"$error":"#DIV/0!"},{"$error":"#DIV/0!"},{"$f":"((EY53/$CG53))*($CG9/1000)","v":{"$error":"#DIV/0!"}},{"$error":"#DIV/0!"},{"$error":"#DIV/0!"}]
[20220307,2022,3,7,{"$f":"+FEB!F10+1","v":"2022-02-05"},"2022-03-07",31,{"$f":"+E10-FEB!F10","v":1},null,null,7,0,0,0,0,0,0,0,0,1,1,1,1,1,1,1,1,1,1,1,1,1,1,1,1,1,1,1,1,1,1,1,1,1,1,1,1,1,1,1,0,0,0,0,0,0,0,0,0,0,0,0,0,0,0,0,0,0,0,0,0,0,0,0,0,0,0,0,0,0,0,0,null,{"$error":"#DIV/0!"},42709957,7,{"$f":"((CI54/$CG54))*($CG10/1000)","v":{"$error":"#DIV/0!"}},{"$error":"#DIV/0!"},{"$error":"#DIV/0!"},{"$error":"#DIV/0!"},{"$error":"#DIV/0!"},{"$error":"#DIV/0!"},{"$error":"#DIV/0!"},{"$error":"#DIV/0!"},{"$error":"#DIV/0!"},{"$error":"#DIV/0!"},{"$error":"#DIV/0!"},{"$error":"#DIV/0!"},{"$error":"#DIV/0!"},{"$error":"#DIV/0!"},{"$error":"#DIV/0!"},{"$error":"#DIV/0!"},{"$error":"#DIV/0!"},{"$error":"#DIV/0!"},{"$error":"#DIV/0!"},{"$error":"#DIV/0!"},{"$error":"#DIV/0!"},{"$error":"#DIV/0!"},{"$error":"#DIV/0!"},{"$error":"#DIV/0!"},{"$error":"#DIV/0!"},{"$error":"#DIV/0!"},{"$error":"#DIV/0!"},{"$error":"#DIV/0!"},{"$error":"#DIV/0!"},{"$error":"#DIV/0!"},{"$error":"#DIV/0!"},{"$error":"#DIV/0!"},{"$f":"((DO54/$CG54))*($CG10/1000)","v":{"$error":"#DIV/0!"}},{"$error":"#DIV/0!"},{"$error":"#DIV/0!"},{"$error":"#DIV/0!"},{"$error":"#DIV/0!"},{"$error":"#DIV/0!"},{"$error":"#DIV/0!"},{"$error":"#DIV/0!"},{"$error":"#DIV/0!"},{"$error":"#DIV/0!"},{"$error":"#DIV/0!"},{"$error":"#DIV/0!"},{"$error":"#DIV/0!"},{"$error":"#DIV/0!"},{"$error":"#DIV/0!"},{"$error":"#DIV/0!"},{"$error":"#DIV/0!"},{"$error":"#DIV/0!"},{"$error":"#DIV/0!"},{"$error":"#DIV/0!"},{"$error":"#DIV/0!"},{"$error":"#DIV/0!"},{"$error":"#DIV/0!"},{"$error":"#DIV/0!"},{"$error":"#DIV/0!"},{"$error":"#DIV/0!"},{"$error":"#DIV/0!"},{"$error":"#DIV/0!"},{"$error":"#DIV/0!"},{"$error":"#DIV/0!"},{"$error":"#DIV/0!"},{"$error":"#DIV/0!"},{"$error":"#DIV/0!"},{"$f":"((EV54/$CG54))*($CG10/1000)","v":{"$error":"#DIV/0!"}},{"$error":"#DIV/0!"},{"$error":"#DIV/0!"},{"$f":"((EY54/$CG54))*($CG10/1000)","v":{"$error":"#DIV/0!"}},{"$error":"#DIV/0!"},{"$error":"#DIV/0!"}]
[20220308,2022,3,8,{"$f":"+FEB!F11+1","v":"2022-02-08"},"2022-03-08",29,{"$f":"+E11-FEB!F11","v":1},null,null,8,0,0,0,0,0,0,0,0,0,0,0,1,1,1,1,1,1,1,1,1,1,1,1,1,1,1,1,1,1,1,1,1,1,1,1,1,1,1,1,1,0,0,0,0,0,0,0,0,0,0,0,0,0,0,0,0,0,0,0,0,0,0,0,0,0,0,0,0,0,0,0,null,{"$error":"#DIV/0!"},61717587,8,{"$f":"((CI55/$CG55))*($CG11/1000)","v":{"$error":"#DIV/0!"}},{"$error":"#DIV/0!"},{"$error":"#DIV/0!"},{"$error":"#DIV/0!"},{"$error":"#DIV/0!"},{"$error":"#DIV/0!"},{"$error":"#DIV/0!"},{"$error":"#DIV/0!"},{"$error":"#DIV/0!"},{"$error":"#DIV/0!"},{"$error":"#DIV/0!"},{"$error":"#DIV/0!"},{"$error":"#DIV/0!"},{"$error":"#DIV/0!"},{"$error":"#DIV/0!"},{"$error":"#DIV/0!"},{"$error":"#DIV/0!"},{"$error":"#DIV/0!"},{"$error":"#DIV/0!"},{"$error":"#DIV/0!"},{"$error":"#DIV/0!"},{"$error":"#DIV/0!"},{"$error":"#DIV/0!"},{"$error":"#DIV/0!"},{"$error":"#DIV/0!"},{"$error":"#DIV/0!"},{"$error":"#DIV/0!"},{"$error":"#DIV/0!"},{"$error":"#DIV/0!"},{"$error":"#DIV/0!"},{"$error":"#DIV/0!"},{"$error":"#DIV/0!"},{"$f":"((DO55/$CG55))*($CG11/1000)","v":{"$error":"#DIV/0!"}},{"$error":"#DIV/0!"},{"$error":"#DIV/0!"},{"$error":"#DIV/0!"},{"$error":"#DIV/0!"},{"$error":"#DIV/0!"},{"$error":"#DIV/0!"},{"$error":"#DIV/0!"},{"$error":"#DIV/0!"},{"$error":"#DIV/0!"},{"$error":"#DIV/0!"},{"$error":"#DIV/0!"},{"$error":"#DIV/0!"},{"$error":"#DIV/0!"},{"$error":"#DIV/0!"},{"$error":"#DIV/0!"},{"$error":"#DIV/0!"},{"$error":"#DIV/0!"},{"$error":"#DIV/0!"},{"$error":"#DIV/0!"},{"$error":"#DIV/0!"},{"$error":"#DIV/0!"},{"$error":"#DIV/0!"},{"$error":"#DIV/0!"},{"$error":"#DIV/0!"},{"$error":"#DIV/0!"},{"$error":"#DIV/0!"},{"$error":"#DIV/0!"},{"$error":"#DIV/0!"},{"$error":"#DIV/0!"},{"$error":"#DIV/0!"},{"$error":"#DIV/0!"},{"$error":"#DIV/0!"},{"$f":"((EV55/$CG55))*($CG11/1000)","v":{"$error":"#DIV/0!"}},{"$error":"#DIV/0!"},{"$error":"#DIV/0!"},{"$f":"((EY55/$CG55))*($CG11/1000)","v":{"$error":"#DIV/0!"}},{"$error":"#DIV/0!"},{"$error":"#DIV/0!"}]
[20220309,2022,3,9,{"$f":"+FEB!F12+1","v":"2022-02-09"},"2022-03-09",29,{"$f":"+E12-FEB!F12","v":1},null,null,9,0,0,0,0,0,0,0,0,0,0,0,0,1,1,1,1,1,1,1,1,1,1,1,1,1,1,1,1,1,1,1,1,1,1,1,1,1,1,1,1,1,0,0,0,0,0,0,0,0,0,0,0,0,0,0,0,0,0,0,0,0,0,0,0,0,0,0,0,0,0,0,null,{"$error":"#DIV/0!"},47742657,9,{"$f":"((CI56/$CG56))*($CG12/1000)","v":{"$error":"#DIV/0!"}},{"$error":"#DIV/0!"},{"$error":"#DIV/0!"},{"$error":"#DIV/0!"},{"$error":"#DIV/0!"},{"$error":"#DIV/0!"},{"$error":"#DIV/0!"},{"$error":"#DIV/0!"},{"$error":"#DIV/0!"},{"$error":"#DIV/0!"},{"$error":"#DIV/0!"},{"$error":"#DIV/0!"},{"$error":"#DIV/0!"},{"$error":"#DIV/0!"},{"$error":"#DIV/0!"},{"$error":"#DIV/0!"},{"$error":"#DIV/0!"},{"$error":"#DIV/0!"},{"$error":"#DIV/0!"},{"$error":"#DIV/0!"},{"$error":"#DIV/0!"},{"$error":"#DIV/0!"},{"$error":"#DIV/0!"},{"$error":"#DIV/0!"},{"$error":"#DIV/0!"},{"$error":"#DIV/0!"},{"$error":"#DIV/0!"},{"$error":"#DIV/0!"},{"$error":"#DIV/0!"},{"$error":"#DIV/0!"},{"$error":"#DIV/0!"},{"$error":"#DIV/0!"},{"$f":"((DO56/$CG56))*($CG12/1000)","v":{"$error":"#DIV/0!"}},{"$error":"#DIV/0!"},{"$error":"#DIV/0!"},{"$error":"#DIV/0!"},{"$error":"#DIV/0!"},{"$error":"#DIV/0!"},{"$error":"#DIV/0!"},{"$error":"#DIV/0!"},{"$error":"#DIV/0!"},{"$error":"#DIV/0!"},{"$error":"#DIV/0!"},{"$error":"#DIV/0!"},{"$error":"#DIV/0!"},{"$error":"#DIV/0!"},{"$error":"#DIV/0!"},{"$error":"#DIV/0!"},{"$error":"#DIV/0!"},{"$error":"#DIV/0!"},{"$error":"#DIV/0!"},{"$error":"#DIV/0!"},{"$error":"#DIV/0!"},{"$error":"#DIV/0!"},{"$error":"#DIV/0!"},{"$error":"#DIV/0!"},{"$error":"#DIV/0!"},{"$error":"#DIV/0!"},{"$error":"#DIV/0!"},{"$error":"#DIV/0!"},{"$error":"#DIV/0!"},{"$error":"#DIV/0!"},{"$error":"#DIV/0!"},{"$error":"#DIV/0!"},{"$error":"#DIV/0!"},{"$f":"((EV56/$CG56))*($CG12/1000)","v":{"$error":"#DIV/0!"}},{"$error":"#DIV/0!"},{"$error":"#DIV/0!"},{"$f":"((EY56/$CG56))*($CG12/1000)","v":{"$error":"#DIV/0!"}},{"$error":"#DIV/0!"},{"$error":"#DIV/0!"}]
[20220310,2022,3,10,{"$f":"+FEB!F13+1","v":"2022-02-10"},"2022-03-10",29,{"$f":"+E13-FEB!F13","v":1},null,null,10,0,0,0,0,0,0,0,0,0,0,0,0,0,1,1,1,1,1,1,1,1,1,1,1,1,{"$f":"IF(AND(AK$3>=$E13,AK$3<=$F13),1,0)","v":1},1,1,1,1,1,1,1,1,1,1,1,1,1,1,1,1,0,0,0,0,0,0,0,0,0,0,0,0,0,0,0,0,0,0,0,0,0,0,0,0,0,0,0,0,0,null,{"$error":"#DIV/0!"},112198260,10,{"$f":"((CI57/$CG57))*($CG13/1000)","v":{"$error":"#DIV/0!"}},{"$error":"#DIV/0!"},{"$error":"#DIV/0!"},{"$error":"#DIV/0!"},{"$error":"#DIV/0!"},{"$error":"#DIV/0!"},{"$error":"#DIV/0!"},{"$error":"#DIV/0!"},{"$error":"#DIV/0!"},{"$error":"#DIV/0!"},{"$error":"#DIV/0!"},{"$error":"#DIV/0!"},{"$error":"#DIV/0!"},{"$error":"#DIV/0!"},{"$error":"#DIV/0!"},{"$error":"#DIV/0!"},{"$error":"#DIV/0!"},{"$error":"#DIV/0!"},{"$error":"#DIV/0!"},{"$error":"#DIV/0!"},{"$error":"#DIV/0!"},{"$error":"#DIV/0!"},{"$error":"#DIV/0!"},{"$error":"#DIV/0!"},{"$error":"#DIV/0!"},{"$error":"#DIV/0!"},{"$error":"#DIV/0!"},{"$error":"#DIV/0!"},{"$error":"#DIV/0!"},{"$error":"#DIV/0!"},{"$error":"#DIV/0!"},{"$error":"#DIV/0!"},{"$f":"((DO57/$CG57))*($CG13/1000)","v":{"$error":"#DIV/0!"}},{"$error":"#DIV/0!"},{"$error":"#DIV/0!"},{"$error":"#DIV/0!"},{"$error":"#DIV/0!"},{"$error":"#DIV/0!"},{"$error":"#DIV/0!"},{"$error":"#DIV/0!"},{"$error":"#DIV/0!"},{"$error":"#DIV/0!"},{"$error":"#DIV/0!"},{"$error":"#DIV/0!"},{"$error":"#DIV/0!"},{"$error":"#DIV/0!"},{"$error":"#DIV/0!"},{"$error":"#DIV/0!"},{"$error":"#DIV/0!"},{"$error":"#DIV/0!"},{"$error":"#DIV/0!"},{"$error":"#DIV/0!"},{"$error":"#DIV/0!"},{"$error":"#DIV/0!"},{"$error":"#DIV/0!"},{"$error":"#DIV/0!"},{"$error":"#DIV/0!"},{"$error":"#DIV/0!"},{"$error":"#DIV/0!"},{"$error":"#DIV/0!"},{"$error":"#DIV/0!"},{"$error":"#DIV/0!"},{"$error":"#DIV/0!"},{"$error":"#DIV/0!"},{"$error":"#DIV/0!"},{"$f":"((EV57/$CG57))*($CG13/1000)","v":{"$error":"#DIV/0!"}},{"$error":"#DIV/0!"},{"$error":"#DIV/0!"},{"$f":"((EY57/$CG57))*($CG13/1000)","v":{"$error":"#DIV/0!"}},{"$error":"#DIV/0!"},{"$error":"#DIV/0!"}]
[20220311,2022,3,11,{"$f":"+FEB!F14+1","v":"2022-02-11"},"2022-03-11",29,{"$f":"+E14-FEB!F14","v":1},null,null,11,0,0,0,0,0,0,0,0,0,0,0,0,0,0,1,1,{"$f":"IF(AND(AB$3>=$E14,AB$3<=$F14),1,0)","v":1},1,1,1,1,1,1,1,1,1,1,1,1,1,1,1,1,1,1,1,1,1,1,1,1,1,1,0,0,0,0,0,0,0,0,0,0,0,0,0,0,0,0,0,0,0,0,0,0,0,0,0,0,0,0,null,{"$error":"#DIV/0!"},42613252,11,{"$f":"((CI58/$CG58))*($CG14/1000)","v":{"$error":"#DIV/0!"}},{"$error":"#DIV/0!"},{"$error":"#DIV/0!"},{"$error":"#DIV/0!"},{"$error":"#DIV/0!"},{"$error":"#DIV/0!"},{"$error":"#DIV/0!"},{"$error":"#DIV/0!"},{"$error":"#DIV/0!"},{"$error":"#DIV/0!"},{"$error":"#DIV/0!"},{"$error":"#DIV/0!"},{"$error":"#DIV/0!"},{"$error":"#DIV/0!"},{"$error":"#DIV/0!"},{"$error":"#DIV/0!"},{"$error":"#DIV/0!"},{"$error":"#DIV/0!"},{"$error":"#DIV/0!"},{"$error":"#DIV/0!"},{"$error":"#DIV/0!"},{"$error":"#DIV/0!"},{"$error":"#DIV/0!"},{"$error":"#DIV/0!"},{"$error":"#DIV/0!"},{"$error":"#DIV/0!"},{"$error":"#DIV/0!"},{"$error":"#DIV/0!"},{"$error":"#DIV/0!"},{"$error":"#DIV/0!"},{"$error":"#DIV/0!"},{"$error":"#DIV/0!"},{"$f":"((DO58/$CG58))*($CG14/1000)","v":{"$error":"#DIV/0!"}},{"$error":"#DIV/0!"},{"$error":"#DIV/0!"},{"$error":"#DIV/0!"},{"$error":"#DIV/0!"},{"$error":"#DIV/0!"},{"$error":"#DIV/0!"},{"$error":"#DIV/0!"},{"$error":"#DIV/0!"},{"$error":"#DIV/0!"},{"$error":"#DIV/0!"},{"$error":"#DIV/0!"},{"$error":"#DIV/0!"},{"$error":"#DIV/0!"},{"$error":"#DIV/0!"},{"$error":"#DIV/0!"},{"$error":"#DIV/0!"},{"$error":"#DIV/0!"},{"$error":"#DIV/0!"},{"$error":"#DIV/0!"},{"$error":"#DIV/0!"},{"$error":"#DIV/0!"},{"$error":"#DIV/0!"},{"$error":"#DIV/0!"},{"$error":"#DIV/0!"},{"$error":"#DIV/0!"},{"$error":"#DIV/0!"},{"$error":"#DIV/0!"},{"$error":"#DIV/0!"},{"$error":"#DIV/0!"},{"$error":"#DIV/0!"},{"$error":"#DIV/0!"},{"$error":"#DIV/0!"},{"$f":"((EV58/$CG58))*($CG14/1000)","v":{"$error":"#DIV/0!"}},{"$error":"#DIV/0!"},{"$error":"#DIV/0!"},{"$f":"((EY58/$CG58))*($CG14/1000)","v":{"$error":"#DIV/0!"}},{"$error":"#DIV/0!"},{"$error":"#DIV/0!"}]
[20220312,2022,3,12,{"$f":"+FEB!F15+1","v":"2022-02-12"},"2022-03-14",31,{"$f":"+E15-FEB!F15","v":1},null,null,12,0,0,0,0,0,0,0,0,0,0,0,0,0,0,0,1,1,1,1,1,1,1,1,1,1,1,1,1,1,1,1,1,1,1,1,1,1,1,1,1,1,1,1,1,1,1,0,0,0,0,0,0,0,0,0,0,0,0,0,0,0,0,0,0,0,0,0,0,0,0,0,null,{"$error":"#DIV/0!"},40183327,12,{"$f":"((CI59/$CG59))*($CG15/1000)","v":{"$error":"#DIV/0!"}},{"$error":"#DIV/0!"},{"$error":"#DIV/0!"},{"$error":"#DIV/0!"},{"$error":"#DIV/0!"},{"$error":"#DIV/0!"},{"$error":"#DIV/0!"},{"$error":"#DIV/0!"},{"$error":"#DIV/0!"},{"$error":"#DIV/0!"},{"$error":"#DIV/0!"},{"$error":"#DIV/0!"},{"$error":"#DIV/0!"},{"$error":"#DIV/0!"},{"$error":"#DIV/0!"},{"$error":"#DIV/0!"},{"$error":"#DIV/0!"},{"$error":"#DIV/0!"},{"$error":"#DIV/0!"},{"$error":"#DIV/0!"},{"$error":"#DIV/0!"},{"$error":"#DIV/0!"},{"$error":"#DIV/0!"},{"$error":"#DIV/0!"},{"$error":"#DIV/0!"},{"$error":"#DIV/0!"},{"$error":"#DIV/0!"},{"$error":"#DIV/0!"},{"$error":"#DIV/0!"},{"$error":"#DIV/0!"},{"$error":"#DIV/0!"},{"$error":"#DIV/0!"},{"$f":"((DO59/$CG59))*($CG15/1000)","v":{"$error":"#DIV/0!"}},{"$error":"#DIV/0!"},{"$error":"#DIV/0!"},{"$error":"#DIV/0!"},{"$error":"#DIV/0!"},{"$error":"#DIV/0!"},{"$error":"#DIV/0!"},{"$error":"#DIV/0!"},{"$error":"#DIV/0!"},{"$error":"#DIV/0!"},{"$error":"#DIV/0!"},{"$error":"#DIV/0!"},{"$error":"#DIV/0!"},{"$error":"#DIV/0!"},{"$error":"#DIV/0!"},{"$error":"#DIV/0!"},{"$error":"#DIV/0!"},{"$error":"#DIV/0!"},{"$error":"#DIV/0!"},{"$error":"#DIV/0!"},{"$error":"#DIV/0!"},{"$error":"#DIV/0!"},{"$error":"#DIV/0!"},{"$error":"#DIV/0!"},{"$error":"#DIV/0!"},{"$error":"#DIV/0!"},{"$error":"#DIV/0!"},{"$error":"#DIV/0!"},{"$error":"#DIV/0!"},{"$error":"#DIV/0!"},{"$error":"#DIV/0!"},{"$error":"#DIV/0!"},{"$error":"#DIV/0!"},{"$f":"((EV59/$CG59))*($CG15/1000)","v":{"$error":"#DIV/0!"}},{"$error":"#DIV/0!"},{"$error":"#DIV/0!"},{"$f":"((EY59/$CG59))*($CG15/1000)","v":{"$error":"#DIV/0!"}},{"$error":"#DIV/0!"},{"$error":"#DIV/0!"}]
[20220313,2022,3,13,{"$f":"+FEB!F16+1","v":"2022-02-15"},"2022-03-15",29,{"$f":"+E16-FEB!F16","v":1},null,null,13,0,0,0,0,0,0,0,0,0,0,0,0,0,0,0,0,0,0,1,1,1,1,1,1,1,1,1,1,1,1,1,1,1,1,1,1,1,1,1,1,1,1,1,1,1,1,1,0,0,0,0,0,0,0,0,0,0,0,0,0,0,0,0,0,0,0,0,0,0,0,0,null,{"$error":"#DIV/0!"},47868575,13,{"$f":"((CI60/$CG60))*($CG16/1000)","v":{"$error":"#DIV/0!"}},{"$error":"#DIV/0!"},{"$error":"#DIV/0!"},{"$error":"#DIV/0!"},{"$error":"#DIV/0!"},{"$error":"#DIV/0!"},{"$error":"#DIV/0!"},{"$error":"#DIV/0!"},{"$error":"#DIV/0!"},{"$error":"#DIV/0!"},{"$error":"#DIV/0!"},{"$error":"#DIV/0!"},{"$error":"#DIV/0!"},{"$error":"#DIV/0!"},{"$error":"#DIV/0!"},{"$error":"#DIV/0!"},{"$error":"#DIV/0!"},{"$error":"#DIV/0!"},{"$error":"#DIV/0!"},{"$error":"#DIV/0!"},{"$error":"#DIV/0!"},{"$error":"#DIV/0!"},{"$error":"#DIV/0!"},{"$error":"#DIV/0!"},{"$error":"#DIV/0!"},{"$error":"#DIV/0!"},{"$error":"#DIV/0!"},{"$error":"#DIV/0!"},{"$error":"#DIV/0!"},{"$error":"#DIV/0!"},{"$error":"#DIV/0!"},{"$error":"#DIV/0!"},{"$f":"((DO60/$CG60))*($CG16/1000)","v":{"$error":"#DIV/0!"}},{"$error":"#DIV/0!"},{"$error":"#DIV/0!"},{"$error":"#DIV/0!"},{"$error":"#DIV/0!"},{"$error":"#DIV/0!"},{"$error":"#DIV/0!"},{"$error":"#DIV/0!"},{"$error":"#DIV/0!"},{"$error":"#DIV/0!"},{"$error":"#DIV/0!"},{"$error":"#DIV/0!"},{"$error":"#DIV/0!"},{"$error":"#DIV/0!"},{"$error":"#DIV/0!"},{"$error":"#DIV/0!"},{"$error":"#DIV/0!"},{"$error":"#DIV/0!"},{"$error":"#DIV/0!"},{"$error":"#DIV/0!"},{"$error":"#DIV/0!"},{"$error":"#DIV/0!"},{"$error":"#DIV/0!"},{"$error":"#DIV/0!"},{"$error":"#DIV/0!"},{"$error":"#DIV/0!"},{"$error":"#DIV/0!"},{"$error":"#DIV/0!"},{"$error":"#DIV/0!"},{"$error":"#DIV/0!"},{"$error":"#DIV/0!"},{"$error":"#DIV/0!"},{"$error":"#DIV/0!"},{"$f":"((EV60/$CG60))*($CG16/1000)","v":{"$error":"#DIV/0!"}},{"$error":"#DIV/0!"},{"$error":"#DIV/0!"},{"$f":"((EY60/$CG60))*($CG16/1000)","v":{"$error":"#DIV/0!"}},{"$error":"#DIV/0!"},{"$error":"#DIV/0!"}]
[20220314,2022,3,14,{"$f":"+FEB!F17+1","v":"2022-02-16"},"2022-03-16",29,{"$f":"+E17-FEB!F17","v":1},null,null,14,0,0,0,0,0,0,0,0,0,0,0,0,0,0,0,0,0,0,0,1,1,1,1,1,1,1,1,1,1,1,1,1,1,1,1,1,1,1,1,1,1,1,1,1,1,1,1,1,0,0,0,0,0,0,0,0,0,0,0,0,0,0,0,0,0,0,0,0,0,0,0,null,{"$error":"#DIV/0!"},62637358,14,{"$f":"((CI61/$CG61))*($CG17/1000)","v":{"$error":"#DIV/0!"}},{"$error":"#DIV/0!"},{"$error":"#DIV/0!"},{"$error":"#DIV/0!"},{"$error":"#DIV/0!"},{"$error":"#DIV/0!"},{"$error":"#DIV/0!"},{"$error":"#DIV/0!"},{"$error":"#DIV/0!"},{"$error":"#DIV/0!"},{"$error":"#DIV/0!"},{"$error":"#DIV/0!"},{"$error":"#DIV/0!"},{"$error":"#DIV/0!"},{"$error":"#DIV/0!"},{"$error":"#DIV/0!"},{"$error":"#DIV/0!"},{"$error":"#DIV/0!"},{"$error":"#DIV/0!"},{"$error":"#DIV/0!"},{"$error":"#DIV/0!"},{"$error":"#DIV/0!"},{"$error":"#DIV/0!"},{"$error":"#DIV/0!"},{"$error":"#DIV/0!"},{"$error":"#DIV/0!"},{"$error":"#DIV/0!"},{"$error":"#DIV/0!"},{"$error":"#DIV/0!"},{"$error":"#DIV/0!"},{"$error":"#DIV/0!"},{"$error":"#DIV/0!"},{"$f":"((DO61/$CG61))*($CG17/1000)","v":{"$error":"#DIV/0!"}},{"$error":"#DIV/0!"},{"$error":"#DIV/0!"},{"$error":"#DIV/0!"},{"$error":"#DIV/0!"},{"$error":"#DIV/0!"},{"$error":"#DIV/0!"},{"$error":"#DIV/0!"},{"$error":"#DIV/0!"},{"$error":"#DIV/0!"},{"$error":"#DIV/0!"},{"$error":"#DIV/0!"},{"$error":"#DIV/0!"},{"$error":"#DIV/0!"},{"$error":"#DIV/0!"},{"$error":"#DIV/0!"},{"$error":"#DIV/0!"},{"$error":"#DIV/0!"},{"$error":"#DIV/0!"},{"$error":"#DIV/0!"},{"$error":"#DIV/0!"},{"$error":"#DIV/0!"},{"$error":"#DIV/0!"},{"$error":"#DIV/0!"},{"$error":"#DIV/0!"},{"$error":"#DIV/0!"},{"$error":"#DIV/0!"},{"$error":"#DIV/0!"},{"$error":"#DIV/0!"},{"$error":"#DIV/0!"},{"$error":"#DIV/0!"},{"$error":"#DIV/0!"},{"$error":"#DIV/0!"},{"$f":"((EV61/$CG61))*($CG17/1000)","v":{"$error":"#DIV/0!"}},{"$error":"#DIV/0!"},{"$error":"#DIV/0!"},{"$f":"((EY61/$CG61))*($CG17/1000)","v":{"$error":"#DIV/0!"}},{"$error":"#DIV/0!"},{"$error":"#DIV/0!"}]
[20220315,2022,3,15,{"$f":"+FEB!F18+1","v":"2022-02-17"},"2022-03-17",29,{"$f":"+E18-FEB!F18","v":1},null,null,15,0,0,0,0,0,0,0,0,0,0,0,0,0,0,0,0,0,0,0,0,1,1,1,1,1,1,1,1,1,1,1,1,1,1,1,1,1,1,1,1,1,1,1,1,1,1,1,1,1,0,0,0,0,0,0,0,0,0,0,0,0,0,0,0,0,0,0,0,0,0,0,null,{"$error":"#DIV/0!"},92621258,15,{"$f":"((CI62/$CG62))*($CG18/1000)","v":{"$error":"#DIV/0!"}},{"$error":"#DIV/0!"},{"$error":"#DIV/0!"},{"$error":"#DIV/0!"},{"$error":"#DIV/0!"},{"$error":"#DIV/0!"},{"$error":"#DIV/0!"},{"$error":"#DIV/0!"},{"$error":"#DIV/0!"},{"$error":"#DIV/0!"},{"$error":"#DIV/0!"},{"$error":"#DIV/0!"},{"$error":"#DIV/0!"},{"$error":"#DIV/0!"},{"$error":"#DIV/0!"},{"$error":"#DIV/0!"},{"$error":"#DIV/0!"},{"$error":"#DIV/0!"},{"$error":"#DIV/0!"},{"$error":"#DIV/0!"},{"$error":"#DIV/0!"},{"$error":"#DIV/0!"},{"$error":"#DIV/0!"},{"$error":"#DIV/0!"},{"$error":"#DIV/0!"},{"$error":"#DIV/0!"},{"$error":"#DIV/0!"},{"$error":"#DIV/0!"},{"$error":"#DIV/0!"},{"$error":"#DIV/0!"},{"$error":"#DIV/0!"},{"$error":"#DIV/0!"},{"$f":"((DO62/$CG62))*($CG18/1000)","v":{"$error":"#DIV/0!"}},{"$error":"#DIV/0!"},{"$error":"#DIV/0!"},{"$error":"#DIV/0!"},{"$error":"#DIV/0!"},{"$error":"#DIV/0!"},{"$error":"#DIV/0!"},{"$error":"#DIV/0!"},{"$error":"#DIV/0!"},{"$error":"#DIV/0!"},{"$error":"#DIV/0!"},{"$error":"#DIV/0!"},{"$error":"#DIV/0!"},{"$error":"#DIV/0!"},{"$error":"#DIV/0!"},{"$error":"#DIV/0!"},{"$error":"#DIV/0!"},{"$error":"#DIV/0!"},{"$error":"#DIV/0!"},{"$error":"#DIV/0!"},{"$error":"#DIV/0!"},{"$error":"#DIV/0!"},{"$error":"#DIV/0!"},{"$error":"#DIV/0!"},{"$error":"#DIV/0!"},{"$error":"#DIV/0!"},{"$error":"#DIV/0!"},{"$error":"#DIV/0!"},{"$error":"#DIV/0!"},{"$error":"#DIV/0!"},{"$error":"#DIV/0!"},{"$error":"#DIV/0!"},{"$error":"#DIV/0!"},{"$f":"((EV62/$CG62))*($CG18/1000)","v":{"$error":"#DIV/0!"}},{"$error":"#DIV/0!"},{"$error":"#DIV/0!"},{"$f":"((EY62/$CG62))*($CG18/1000)","v":{"$error":"#DIV/0!"}},{"$error":"#DIV/0!"},{"$error":"#DIV/0!"}]
[20220316,2022,3,16,{"$f":"+FEB!F19+1","v":"2022-02-18"},"2022-03-18",29,{"$f":"+E19-FEB!F19","v":1},null,null,16,0,0,0,0,0,0,0,0,0,0,0,0,0,0,0,0,0,0,0,0,0,1,1,1,1,1,{"$f":"IF(AND(AL$3>=$E19,AL$3<=$F19),1,0)","v":1},1,1,1,1,1,1,1,1,1,1,1,1,1,1,1,1,1,1,1,1,1,1,1,0,0,0,0,0,0,0,0,0,0,0,0,0,0,0,0,0,0,0,0,0,null,{"$error":"#DIV/0!"},46853664,16,{"$f":"((CI63/$CG63))*($CG19/1000)","v":{"$error":"#DIV/0!"}},{"$error":"#DIV/0!"},{"$error":"#DIV/0!"},{"$error":"#DIV/0!"},{"$error":"#DIV/0!"},{"$error":"#DIV/0!"},{"$error":"#DIV/0!"},{"$error":"#DIV/0!"},{"$error":"#DIV/0!"},{"$error":"#DIV/0!"},{"$error":"#DIV/0!"},{"$error":"#DIV/0!"},{"$error":"#DIV/0!"},{"$error":"#DIV/0!"},{"$error":"#DIV/0!"},{"$error":"#DIV/0!"},{"$error":"#DIV/0!"},{"$error":"#DIV/0!"},{"$error":"#DIV/0!"},{"$error":"#DIV/0!"},{"$error":"#DIV/0!"},{"$error":"#DIV/0!"},{"$error":"#DIV/0!"},{"$error":"#DIV/0!"},{"$error":"#DIV/0!"},{"$error":"#DIV/0!"},{"$error":"#DIV/0!"},{"$error":"#DIV/0!"},{"$error":"#DIV/0!"},{"$error":"#DIV/0!"},{"$error":"#DIV/0!"},{"$error":"#DIV/0!"},{"$f":"((DO63/$CG63))*($CG19/1000)","v":{"$error":"#DIV/0!"}},{"$error":"#DIV/0!"},{"$error":"#DIV/0!"},{"$error":"#DIV/0!"},{"$error":"#DIV/0!"},{"$error":"#DIV/0!"},{"$error":"#DIV/0!"},{"$error":"#DIV/0!"},{"$error":"#DIV/0!"},{"$error":"#DIV/0!"},{"$error":"#DIV/0!"},{"$error":"#DIV/0!"},{"$error":"#DIV/0!"},{"$error":"#DIV/0!"},{"$error":"#DIV/0!"},{"$error":"#DIV/0!"},{"$error":"#DIV/0!"},{"$error":"#DIV/0!"},{"$error":"#DIV/0!"},{"$error":"#DIV/0!"},{"$error":"#DIV/0!"},{"$error":"#DIV/0!"},{"$error":"#DIV/0!"},{"$error":"#DIV/0!"},{"$error":"#DIV/0!"},{"$error":"#DIV/0!"},{"$error":"#DIV/0!"},{"$error":"#DIV/0!"},{"$error":"#DIV/0!"},{"$error":"#DIV/0!"},{"$error":"#DIV/0!"},{"$error":"#DIV/0!"},{"$error":"#DIV/0!"},{"$f":"((EV63/$CG63))*($CG19/1000)","v":{"$error":"#DIV/0!"}},{"$error":"#DIV/0!"},{"$error":"#DIV/0!"},{"$f":"((EY63/$CG63))*($CG19/1000)","v":{"$error":"#DIV/0!"}},{"$error":"#DIV/0!"},{"$error":"#DIV/0!"}]
[20220317,2022,3,17,{"$f":"+FEB!F20+1","v":"2022-02-19"},"2022-03-21",31,{"$f":"+E20-FEB!F20","v":1},null,null,17,0,0,0,0,0,0,0,0,0,0,0,0,0,0,0,0,{"$f":"IF(AND(AB$3>=$E20,AB$3<=$F20),1,0)","v":0},0,0,0,0,0,1,1,1,1,1,1,1,1,1,1,1,1,1,1,1,1,1,1,1,1,1,1,1,1,1,1,1,1,1,1,1,0,0,0,0,0,0,0,0,0,0,0,0,0,0,0,{"$f":"IF(AND(CB$3>=$E20,CB$3<=$F20),1,0)","v":0},0,0,null,{"$error":"#DIV/0!"},33693064,17,{"$f":"((CI64/$CG64))*($CG20/1000)","v":{"$error":"#DIV/0!"}},{"$error":"#DIV/0!"},{"$error":"#DIV/0!"},{"$error":"#DIV/0!"},{"$error":"#DIV/0!"},{"$error":"#DIV/0!"},{"$error":"#DIV/0!"},{"$error":"#DIV/0!"},{"$error":"#DIV/0!"},{"$error":"#DIV/0!"},{"$error":"#DIV/0!"},{"$error":"#DIV/0!"},{"$error":"#DIV/0!"},{"$error":"#DIV/0!"},{"$error":"#DIV/0!"},{"$error":"#DIV/0!"},{"$error":"#DIV/0!"},{"$error":"#DIV/0!"},{"$error":"#DIV/0!"},{"$error":"#DIV/0!"},{"$error":"#DIV/0!"},{"$error":"#DIV/0!"},{"$error":"#DIV/0!"},{"$error":"#DIV/0!"},{"$error":"#DIV/0!"},{"$error":"#DIV/0!"},{"$error":"#DIV/0!"},{"$error":"#DIV/0!"},{"$error":"#DIV/0!"},{"$error":"#DIV/0!"},{"$error":"#DIV/0!"},{"$error":"#DIV/0!"},{"$f":"((DO64/$CG64))*($CG20/1000)","v":{"$error":"#DIV/0!"}},{"$error":"#DIV/0!"},{"$error":"#DIV/0!"},{"$error":"#DIV/0!"},{"$error":"#DIV/0!"},{"$error":"#DIV/0!"},{"$error":"#DIV/0!"},{"$error":"#DIV/0!"},{"$error":"#DIV/0!"},{"$error":"#DIV/0!"},{"$error":"#DIV/0!"},{"$error":"#DIV/0!"},{"$error":"#DIV/0!"},{"$error":"#DIV/0!"},{"$error":"#DIV/0!"},{"$error":"#DIV/0!"},{"$error":"#DIV/0!"},{"$error":"#DIV/0!"},{"$error":"#DIV/0!"},{"$error":"#DIV/0!"},{"$error":"#DIV/0!"},{"$error":"#DIV/0!"},{"$error":"#DIV/0!"},{"$error":"#DIV/0!"},{"$error":"#DIV/0!"},{"$error":"#DIV/0!"},{"$error":"#DIV/0!"},{"$error":"#DIV/0!"},{"$error":"#DIV/0!"},{"$error":"#DIV/0!"},{"$error":"#DIV/0!"},{"$error":"#DIV/0!"},{"$error":"#DIV/0!"},{"$f":"((EV64/$CG64))*($CG20/1000)","v":{"$error":"#DIV/0!"}},{"$error":"#DIV/0!"},{"$error":"#DIV/0!"},{"$f":"((EY64/$CG64))*($CG20/1000)","v":{"$error":"#DIV/0!"}},{"$error":"#DIV/0!"},{"$error":"#DIV/0!"}]
[20220318,2022,3,18,{"$f":"+FEB!F21+1","v":"2022-02-22"},"2022-03-22",29,{"$f":"+E21-FEB!F21","v":1},null,null,18,0,0,0,0,0,0,0,0,0,0,0,0,0,0,0,0,0,0,0,0,0,0,0,0,0,1,1,1,1,1,1,1,1,1,1,1,1,1,1,1,1,1,1,1,1,1,1,1,1,1,1,1,1,1,0,0,0,0,0,0,0,0,0,0,0,0,0,0,0,0,0,null,{"$error":"#DIV/0!"},100729564,18,{"$f":"((CI65/$CG65))*($CG21/1000)","v":{"$error":"#DIV/0!"}},{"$error":"#DIV/0!"},{"$error":"#DIV/0!"},{"$error":"#DIV/0!"},{"$error":"#DIV/0!"},{"$error":"#DIV/0!"},{"$error":"#DIV/0!"},{"$error":"#DIV/0!"},{"$error":"#DIV/0!"},{"$error":"#DIV/0!"},{"$error":"#DIV/0!"},{"$error":"#DIV/0!"},{"$error":"#DIV/0!"},{"$error":"#DIV/0!"},{"$error":"#DIV/0!"},{"$error":"#DIV/0!"},{"$error":"#DIV/0!"},{"$error":"#DIV/0!"},{"$error":"#DIV/0!"},{"$error":"#DIV/0!"},{"$error":"#DIV/0!"},{"$error":"#DIV/0!"},{"$error":"#DIV/0!"},{"$error":"#DIV/0!"},{"$error":"#DIV/0!"},{"$error":"#DIV/0!"},{"$error":"#DIV/0!"},{"$error":"#DIV/0!"},{"$error":"#DIV/0!"},{"$error":"#DIV/0!"},{"$error":"#DIV/0!"},{"$error":"#DIV/0!"},{"$f":"((DO65/$CG65))*($CG21/1000)","v":{"$error":"#DIV/0!"}},{"$error":"#DIV/0!"},{"$error":"#DIV/0!"},{"$error":"#DIV/0!"},{"$error":"#DIV/0!"},{"$error":"#DIV/0!"},{"$error":"#DIV/0!"},{"$error":"#DIV/0!"},{"$error":"#DIV/0!"},{"$error":"#DIV/0!"},{"$error":"#DIV/0!"},{"$error":"#DIV/0!"},{"$error":"#DIV/0!"},{"$error":"#DIV/0!"},{"$error":"#DIV/0!"},{"$error":"#DIV/0!"},{"$error":"#DIV/0!"},{"$error":"#DIV/0!"},{"$error":"#DIV/0!"},{"$error":"#DIV/0!"},{"$error":"#DIV/0!"},{"$error":"#DIV/0!"},{"$error":"#DIV/0!"},{"$error":"#DIV/0!"},{"$error":"#DIV/0!"},{"$error":"#DIV/0!"},{"$error":"#DIV/0!"},{"$error":"#DIV/0!"},{"$error":"#DIV/0!"},{"$error":"#DIV/0!"},{"$error":"#DIV/0!"},{"$error":"#DIV/0!"},{"$error":"#DIV/0!"},{"$f":"((EV65/$CG65))*($CG21/1000)","v":{"$error":"#DIV/0!"}},{"$error":"#DIV/0!"},{"$error":"#DIV/0!"},{"$f":"((EY65/$CG65))*($CG21/1000)","v":{"$error":"#DIV/0!"}},{"$error":"#DIV/0!"},{"$error":"#DIV/0!"}]
[20220319,2022,3,19,{"$f":"+FEB!F22+1","v":"2022-02-23"},"2022-03-23",29,{"$f":"+E22-FEB!F22","v":1},null,null,19,0,0,0,0,0,0,0,0,0,0,0,0,0,0,0,0,0,0,0,0,0,0,0,0,0,0,1,1,1,1,1,1,1,1,1,1,1,1,1,1,1,1,1,1,1,1,1,1,1,1,1,1,1,1,1,0,0,0,0,0,0,0,0,0,0,0,0,0,0,0,0,null,{"$error":"#DIV/0!"},44569141,19,{"$f":"((CI66/$CG66))*($CG22/1000)","v":{"$error":"#DIV/0!"}},{"$error":"#DIV/0!"},{"$error":"#DIV/0!"},{"$error":"#DIV/0!"},{"$error":"#DIV/0!"},{"$error":"#DIV/0!"},{"$error":"#DIV/0!"},{"$error":"#DIV/0!"},{"$error":"#DIV/0!"},{"$error":"#DIV/0!"},{"$error":"#DIV/0!"},{"$error":"#DIV/0!"},{"$error":"#DIV/0!"},{"$error":"#DIV/0!"},{"$error":"#DIV/0!"},{"$error":"#DIV/0!"},{"$error":"#DIV/0!"},{"$error":"#DIV/0!"},{"$error":"#DIV/0!"},{"$error":"#DIV/0!"},{"$error":"#DIV/0!"},{"$error":"#DIV/0!"},{"$error":"#DIV/0!"},{"$error":"#DIV/0!"},{"$error":"#DIV/0!"},{"$error":"#DIV/0!"},{"$error":"#DIV/0!"},{"$error":"#DIV/0!"},{"$error":"#DIV/0!"},{"$error":"#DIV/0!"},{"$error":"#DIV/0!"},{"$error":"#DIV/0!"},{"$f":"((DO66/$CG66))*($CG22/1000)","v":{"$error":"#DIV/0!"}},{"$error":"#DIV/0!"},{"$error":"#DIV/0!"},{"$error":"#DIV/0!"},{"$error":"#DIV/0!"},{"$error":"#DIV/0!"},{"$error":"#DIV/0!"},{"$error":"#DIV/0!"},{"$error":"#DIV/0!"},{"$error":"#DIV/0!"},{"$error":"#DIV/0!"},{"$error":"#DIV/0!"},{"$error":"#DIV/0!"},{"$error":"#DIV/0!"},{"$error":"#DIV/0!"},{"$error":"#DIV/0!"},{"$error":"#DIV/0!"},{"$error":"#DIV/0!"},{"$error":"#DIV/0!"},{"$error":"#DIV/0!"},{"$error":"#DIV/0!"},{"$error":"#DIV/0!"},{"$error":"#DIV/0!"},{"$error":"#DIV/0!"},{"$error":"#DIV/0!"},{"$error":"#DIV/0!"},{"$error":"#DIV/0!"},{"$error":"#DIV/0!"},{"$error":"#DIV/0!"},{"$error":"#DIV/0!"},{"$error":"#DIV/0!"},{"$error":"#DIV/0!"},{"$error":"#DIV/0!"},{"$f":"((EV66/$CG66))*($CG22/1000)","v":{"$error":"#DIV/0!"}},{"$error":"#DIV/0!"},{"$error":"#DIV/0!"},{"$f":"((EY66/$CG66))*($CG22/1000)","v":{"$error":"#DIV/0!"}},{"$error":"#DIV/0!"},{"$error":"#DIV/0!"}]
[20220320,2022,3,20,{"$f":"+FEB!F23+1","v":"2022-02-24"},"2022-03-24",29,{"$f":"+E23-FEB!F23","v":1},null,null,20,0,0,0,0,0,0,0,0,0,0,0,0,{"$f":"IF(AND(X$3>=$E23,X$3<=$F23),1,0)","v":0},0,0,0,0,0,0,0,0,0,0,0,0,0,0,1,1,1,1,1,1,1,1,1,1,1,1,1,1,1,1,1,1,1,1,1,1,1,1,1,1,1,1,1,0,0,0,0,0,0,0,0,0,0,0,0,0,0,0,null,{"$error":"#DIV/0!"},39979659,20,{"$f":"((CI67/$CG67))*($CG23/1000)","v":{"$error":"#DIV/0!"}},{"$error":"#DIV/0!"},{"$error":"#DIV/0!"},{"$error":"#DIV/0!"},{"$error":"#DIV/0!"},{"$error":"#DIV/0!"},{"$error":"#DIV/0!"},{"$error":"#DIV/0!"},{"$error":"#DIV/0!"},{"$error":"#DIV/0!"},{"$error":"#DIV/0!"},{"$error":"#DIV/0!"},{"$error":"#DIV/0!"},{"$error":"#DIV/0!"},{"$error":"#DIV/0!"},{"$error":"#DIV/0!"},{"$error":"#DIV/0!"},{"$error":"#DIV/0!"},{"$error":"#DIV/0!"},{"$error":"#DIV/0!"},{"$error":"#DIV/0!"},{"$error":"#DIV/0!"},{"$error":"#DIV/0!"},{"$error":"#DIV/0!"},{"$error":"#DIV/0!"},{"$error":"#DIV/0!"},{"$error":"#DIV/0!"},{"$error":"#DIV/0!"},{"$error":"#DIV/0!"},{"$error":"#DIV/0!"},{"$error":"#DIV/0!"},{"$error":"#DIV/0!"},{"$f":"((DO67/$CG67))*($CG23/1000)","v":{"$error":"#DIV/0!"}},{"$error":"#DIV/0!"},{"$error":"#DIV/0!"},{"$error":"#DIV/0!"},{"$error":"#DIV/0!"},{"$error":"#DIV/0!"},{"$error":"#DIV/0!"},{"$error":"#DIV/0!"},{"$error":"#DIV/0!"},{"$error":"#DIV/0!"},{"$error":"#DIV/0!"},{"$error":"#DIV/0!"},{"$error":"#DIV/0!"},{"$error":"#DIV/0!"},{"$error":"#DIV/0!"},{"$error":"#DIV/0!"},{"$error":"#DIV/0!"},{"$error":"#DIV/0!"},{"$error":"#DIV/0!"},{"$error":"#DIV/0!"},{"$error":"#DIV/0!"},{"$error":"#DIV/0!"},{"$error":"#DIV/0!"},{"$error":"#DIV/0!"},{"$error":"#DIV/0!"},{"$error":"#DIV/0!"},{"$error":"#DIV/0!"},{"$error":"#DIV/0!"},{"$error":"#DIV/0!"},{"$error":"#DIV/0!"},{"$error":"#DIV/0!"},{"$error":"#DIV/0!"},{"$error":"#DIV/0!"},{"$f":"((EV67/$CG67))*($CG23/1000)","v":{"$error":"#DIV/0!"}},{"$error":"#DIV/0!"},{"$error":"#DIV/0!"},{"$f":"((EY67/$CG67))*($CG23/1000)","v":{"$error":"#DIV/0!"}},{"$error":"#DIV/0!"},{"$error":"#DIV/0!"}]
[20220321,2022,3,21,{"$f":"+FEB!F24+1","v":"2022-02-25"},"2022-03-25",29,{"$f":"+E24-FEB!F24","v":1},null,null,21,{"$f":"IF(AND(L$3>=$E24,L$3<=$F24),1,0)","v":0},0,0,0,0,0,0,0,0,0,0,0,0,0,0,0,0,0,0,0,0,0,0,0,0,0,0,0,1,1,1,1,1,1,1,1,1,1,1,1,1,1,1,1,1,1,1,1,1,1,1,1,1,1,1,1,1,0,0,0,0,0,0,0,0,0,0,0,0,0,0,null,{"$error":"#DIV/0!"},78846395,21,{"$f":"((CI68/$CG68))*($CG24/1000)","v":{"$error":"#DIV/0!"}},{"$error":"#DIV/0!"},{"$error":"#DIV/0!"},{"$error":"#DIV/0!"},{"$error":"#DIV/0!"},{"$error":"#DIV/0!"},{"$error":"#DIV/0!"},{"$error":"#DIV/0!"},{"$error":"#DIV/0!"},{"$error":"#DIV/0!"},{"$error":"#DIV/0!"},{"$error":"#DIV/0!"},{"$error":"#DIV/0!"},{"$error":"#DIV/0!"},{"$error":"#DIV/0!"},{"$error":"#DIV/0!"},{"$error":"#DIV/0!"},{"$error":"#DIV/0!"},{"$error":"#DIV/0!"},{"$error":"#DIV/0!"},{"$error":"#DIV/0!"},{"$error":"#DIV/0!"},{"$error":"#DIV/0!"},{"$error":"#DIV/0!"},{"$error":"#DIV/0!"},{"$error":"#DIV/0!"},{"$error":"#DIV/0!"},{"$error":"#DIV/0!"},{"$error":"#DIV/0!"},{"$error":"#DIV/0!"},{"$error":"#DIV/0!"},{"$error":"#DIV/0!"},{"$f":"((DO68/$CG68))*($CG24/1000)","v":{"$error":"#DIV/0!"}},{"$error":"#DIV/0!"},{"$error":"#DIV/0!"},{"$error":"#DIV/0!"},{"$error":"#DIV/0!"},{"$error":"#DIV/0!"},{"$error":"#DIV/0!"},{"$error":"#DIV/0!"},{"$error":"#DIV/0!"},{"$error":"#DIV/0!"},{"$error":"#DIV/0!"},{"$error":"#DIV/0!"},{"$error":"#DIV/0!"},{"$error":"#DIV/0!"},{"$error":"#DIV/0!"},{"$error":"#DIV/0!"},{"$error":"#DIV/0!"},{"$error":"#DIV/0!"},{"$error":"#DIV/0!"},{"$error":"#DIV/0!"},{"$error":"#DIV/0!"},{"$error":"#DIV/0!"},{"$error":"#DIV/0!"},{"$error":"#DIV/0!"},{"$error":"#DIV/0!"},{"$error":"#DIV/0!"},{"$error":"#DIV/0!"},{"$error":"#DIV/0!"},{"$error":"#DIV/0!"},{"$error":"#DIV/0!"},{"$error":"#DIV/0!"},{"$error":"#DIV/0!"},{"$error":"#DIV/0!"},{"$f":"((EV68/$CG68))*($CG24/1000)","v":{"$error":"#DIV/0!"}},{"$error":"#DIV/0!"},{"$error":"#DIV/0!"},{"$f":"((EY68/$CG68))*($CG24/1000)","v":{"$error":"#DIV/0!"}},{"$error":"#DIV/0!"},{"$error":"#DIV/0!"}]
[{"$f":"+A24+2","v":20220323},2022,3,23,{"$f":"+FEB!F25+1","v":"2022-03-01"},{"$f":"DATE(A1,A2,31)","v":"2022-03-31"},31,{"$f":"+E25-FEB!F25","v":1},null,null,23,0,0,0,0,0,0,0,0,0,0,0,0,0,0,0,0,0,0,0,0,0,0,0,0,0,0,0,0,0,0,0,0,1,1,1,1,1,1,1,1,1,1,1,1,1,1,1,1,1,1,1,1,1,1,1,1,1,1,1,1,1,1,1,0,0,0,0,0,0,0,0,null,{"$f":"SUM(CI25:FA25)-CG25/1000","v":{"$error":"#DIV/0!"}},104322836,23,{"$f":"((CI69/$CG69))*($CG25/1000)","v":{"$error":"#DIV/0!"}},{"$f":"((CJ69/$CG69))*($CG25/1000)","v":{"$error":"#DIV/0!"}},{"$error":"#DIV/0!"},{"$error":"#DIV/0!"},{"$error":"#DIV/0!"},{"$error":"#DIV/0!"},{"$error":"#DIV/0!"},{"$error":"#DIV/0!"},{"$error":"#DIV/0!"},{"$error":"#DIV/0!"},{"$error":"#DIV/0!"},{"$error":"#DIV/0!"},{"$error":"#DIV/0!"},{"$error":"#DIV/0!"},{"$error":"#DIV/0!"},{"$error":"#DIV/0!"},{"$error":"#DIV/0!"},{"$error":"#DIV/0!"},{"$error":"#DIV/0!"},{"$error":"#DIV/0!"},{"$error":"#DIV/0!"},{"$error":"#DIV/0!"},{"$error":"#DIV/0!"},{"$error":"#DIV/0!"},{"$error":"#DIV/0!"},{"$error":"#DIV/0!"},{"$error":"#DIV/0!"},{"$error":"#DIV/0!"},{"$error":"#DIV/0!"},{"$error":"#DIV/0!"},{"$error":"#DIV/0!"},{"$error":"#DIV/0!"},{"$f":"((DO69/$CG69))*($CG25/1000)","v":{"$error":"#DIV/0!"}},{"$error":"#DIV/0!"},{"$error":"#DIV/0!"},{"$error":"#DIV/0!"},{"$error":"#DIV/0!"},{"$error":"#DIV/0!"},{"$error":"#DIV/0!"},{"$error":"#DIV/0!"},{"$error":"#DIV/0!"},{"$error":"#DIV/0!"},{"$error":"#DIV/0!"},{"$error":"#DIV/0!"},{"$error":"#DIV/0!"},{"$error":"#DIV/0!"},{"$error":"#DIV/0!"},{"$error":"#DIV/0!"},{"$error":"#DIV/0!"},{"$error":"#DIV/0!"},{"$error":"#DIV/0!"},{"$error":"#DIV/0!"},{"$error":"#DIV/0!"},{"$error":"#DIV/0!"},{"$error":"#DIV/0!"},{"$error":"#DIV/0!"},{"$error":"#DIV/0!"},{"$error":"#DIV/0!"},{"$error":"#DIV/0!"},{"$error":"#DIV/0!"},{"$error":"#DIV/0!"},{"$error":"#DIV/0!"},{"$error":"#DIV/0!"},{"$error":"#DIV/0!"},{"$error":"#DIV/0!"},{"$f":"((EV69/$CG69))*($CG25/1000)","v":{"$error":"#DIV/0!"}},{"$error":"#DIV/0!"},{"$error":"#DIV/0!"},{"$f":"((EY69/$CG69))*($CG25/1000)","v":{"$error":"#DIV/0!"}},{"$error":"#DIV/0!"},{"$error":"#DIV/0!"}]
[null,null,null,null,null,null,{"$f":"AVERAGE(G4:G25)","v":29.454545454545453},null,null,null,"Cnt",{"$f":"SUM(L4:L25)","v":1},{"$f":"SUM(M4:M25)","v":2},{"$f":"SUM(N4:N25)","v":2},2,3,4,5,6,7,7,7,8,9,10,11,12,12,12,13,14,15,16,17,17,17,18,19,20,21,20,20,20,20,19,18,17,16,16,16,15,14,13,12,11,11,11,10,9,8,7,6,6,6,5,4,3,2,1,1,1,1,1,1,0,0,{"$f":"SUM(BY4:BY25)","v":0},0,0,0,0,0,null,{"$f":"SUM(CI26:FA26)-CG26/1000","v":{"$error":"#DIV/0!"}},{"$f":"SUM(CG4:CG25)","v":1370566750},{"$f":"SUM(CI26:FA26)","v":{"$error":"#DIV/0!"}},{"$f":"SUM(CI4:CI25)","v":{"$error":"#DIV/0!"}},{"$f":"SUM(CJ4:CJ25)","v":{"$error":"#DIV/0!"}},{"$error":"#DIV/0!"},{"$error":"#DIV/0!"},{"$error":"#DIV/0!"},{"$error":"#DIV/0!"},{"$error":"#DIV/0!"},{"$error":"#DIV/0!"},{"$error":"#DIV/0!"},{"$error":"#DIV/0!"},{"$error":"#DIV/0!"},{"$error":"#DIV/0!"},{"$error":"#DIV/0!"},{"$error":"#DIV/0!"},{"$error":"#DIV/0!"},{"$error":"#DIV/0!"},{"$error":"#DIV/0!"},{"$error":"#DIV/0!"},{"$error":"#DIV/0!"},{"$error":"#DIV/0!"},{"$error":"#DIV/0!"},{"$error":"#DIV/0!"},{"$error":"#DIV/0!"},{"$error":"#DIV/0!"},{"$error":"#DIV/0!"},{"$error":"#DIV/0!"},{"$error":"#DIV/0!"},{"$error":"#DIV/0!"},{"$error":"#DIV/0!"},{"$error":"#DIV/0!"},{"$error":"#DIV/0!"},{"$error":"#DIV/0!"},{"$error":"#DIV/0!"},{"$error":"#DIV/0!"},{"$error":"#DIV/0!"},{"$error":"#DIV/0!"},{"$error":"#DIV/0!"},{"$error":"#DIV/0!"},{"$error":"#DIV/0!"},{"$error":"#DIV/0!"},{"$error":"#DIV/0!"},{"$error":"#DIV/0!"},{"$error":"#DIV/0!"},{"$error":"#DIV/0!"},{"$error":"#DIV/0!"},{"$error":"#DIV/0!"},{"$error":"#DIV/0!"},{"$error":"#DIV/0!"},{"$error":"#DIV/0!"},{"$error":"#DIV/0!"},{"$error":"#DIV/0!"},{"$error":"#DIV/0!"},{"$error":"#DIV/0!"},{"$error":"#DIV/0!"},{"$error":"#DIV/0!"},{"$error":"#DIV/0!"},{"$error":"#DIV/0!"},{"$error":"#DIV/0!"},{"$error":"#DIV/0!"},{"$error":"#DIV/0!"},{"$error":"#DIV/0!"},{"$error":"#DIV/0!"},{"$error":"#DIV/0!"},{"$error":"#DIV/0!"},{"$error":"#DIV/0!"},{"$f":"SUM(EV4:EV25)","v":{"$error":"#DIV/0!"}},{"$error":"#DIV/0!"},{"$error":"#DIV/0!"},{"$f":"SUM(EY4:EY25)","v":{"$error":"#DIV/0!"}},{"$error":"#DIV/0!"},{"$error":"#DIV/0!"}]
[null,null,null,null,null,"Check",{"$f":"+CD3","v":"2022-04-08"},null,{"$f":"SUM(L27:CD27)","v":29.45454545454546},null,"PctOn",{"$f":"+L26/22","v":4.5454545454545456E-2},{"$f":"+M26/22","v":9.0909090909090912E-2},9.0909090909090912E-2,9.0909090909090912E-2,0.13636363636363635,0.18181818181818182,0.22727272727272727,0.27272727272727271,0.31818181818181818,0.31818181818181818,0.31818181818181818,0.36363636363636365,0.40909090909090912,0.45454545454545453,0.5,0.54545454545454541,0.54545454545454541,0.54545454545454541,0.59090909090909094,0.63636363636363635,0.68181818181818177,0.72727272727272729,0.77272727272727271,0.77272727272727271,0.77272727272727271,0.81818181818181823,0.86363636363636365,0.90909090909090906,0.95454545454545459,0.90909090909090906,0.90909090909090906,0.90909090909090906,0.90909090909090906,0.86363636363636365,0.81818181818181823,0.77272727272727271,0.72727272727272729,0.72727272727272729,0.72727272727272729,0.68181818181818177,0.63636363636363635,0.59090909090909094,0.54545454545454541,0.5,0.5,0.5,0.45454545454545453,0.40909090909090912,0.36363636363636365,0.31818181818181818,0.27272727272727271,0.27272727272727271,0.27272727272727271,0.22727272727272727,0.18181818181818182,0.13636363636363635,9.0909090909090912E-2,4.5454545454545456E-2,4.5454545454545456E-2,4.5454545454545456E-2,4.5454545454545456E-2,4.5454545454545456E-2,4.5454545454545456E-2,0,0,{"$f":"+BY26/22","v":0},0,0,0,0,0,null,null,null,"NEL---->>>",{"$f":"VLOOKUP(CI3,Daily!$A$2:$H$459,8)","v":0},{"$f":"VLOOKUP(CJ3,Daily!$A$2:$H$459,8)","v":0},{"$f":"VLOOKUP(CK3,Daily!$A$2:$H$459,8)","v":0},{"$f":"VLOOKUP(CL3,Daily!$A$2:$H$459,8)","v":0},{"$f":"VLOOKUP(CM3,Daily!$A$2:$H$459,8)","v":0},{"$f":"VLOOKUP(CN3,Daily!$A$2:$H$459,8)","v":0},{"$f":"VLOOKUP(CO3,Daily!$A$2:$H$459,8)","v":0},{"$f":"VLOOKUP(CP3,Daily!$A$2:$H$459,8)","v":0},{"$f":"VLOOKUP(CQ3,Daily!$A$2:$H$459,8)","v":0},{"$f":"VLOOKUP(CR3,Daily!$A$2:$H$459,8)","v":0},{"$f":"VLOOKUP(CS3,Daily!$A$2:$H$459,8)","v":0},{"$f":"VLOOKUP(CT3,Daily!$A$2:$H$459,8)","v":0},{"$f":"VLOOKUP(CU3,Daily!$A$2:$H$459,8)","v":0},{"$f":"VLOOKUP(CV3,Daily!$A$2:$H$459,8)","v":0},{"$f":"VLOOKUP(CW3,Daily!$A$2:$H$459,8)","v":0},{"$f":"VLOOKUP(CX3,Daily!$A$2:$H$459,8)","v":0},{"$f":"VLOOKUP(CY3,Daily!$A$2:$H$459,8)","v":0},{"$f":"VLOOKUP(CZ3,Daily!$A$2:$H$459,8)","v":0},{"$f":"VLOOKUP(DA3,Daily!$A$2:$H$459,8)","v":0},{"$f":"VLOOKUP(DB3,Daily!$A$2:$H$459,8)","v":0},{"$f":"VLOOKUP(DC3,Daily!$A$2:$H$459,8)","v":0},{"$f":"VLOOKUP(DD3,Daily!$A$2:$H$459,8)","v":0},{"$f":"VLOOKUP(DE3,Daily!$A$2:$H$459,8)","v":0},{"$f":"VLOOKUP(DF3,Daily!$A$2:$H$459,8)","v":0},{"$f":"VLOOKUP(DG3,Daily!$A$2:$H$459,8)","v":0},{"$f":"VLOOKUP(DH3,Daily!$A$2:$H$459,8)","v":0},{"$f":"VLOOKUP(DI3,Daily!$A$2:$H$459,8)","v":0},{"$f":"VLOOKUP(DJ3,Daily!$A$2:$H$459,8)","v":0},{"$f":"VLOOKUP(DK3,Daily!$A$2:$H$459,8)","v":0},{"$f":"VLOOKUP(DL3,Daily!$A$2:$H$459,8)","v":0},{"$f":"VLOOKUP(DM3,Daily!$A$2:$H$459,8)","v":0},{"$f":"VLOOKUP(DN3,Daily!$A$2:$H$459,8)","v":0},{"$f":"VLOOKUP(DO3,Daily!$A$2:$H$459,8)","v":0},{"$f":"VLOOKUP(DP3,Daily!$A$2:$H$459,8)","v":0},{"$f":"VLOOKUP(DQ3,Daily!$A$2:$H$459,8)","v":0},{"$f":"VLOOKUP(DR3,Daily!$A$2:$H$459,8)","v":0},{"$f":"VLOOKUP(DS3,Daily!$A$2:$H$459,8)","v":0},{"$f":"VLOOKUP(DT3,Daily!$A$2:$H$459,8)","v":0},{"$f":"VLOOKUP(DU3,Daily!$A$2:$H$459,8)","v":0},{"$f":"VLOOKUP(DV3,Daily!$A$2:$H$459,8)","v":0},{"$f":"VLOOKUP(DW3,Daily!$A$2:$H$459,8)","v":0},{"$f":"VLOOKUP(DX3,Daily!$A$2:$H$459,8)","v":0},{"$f":"VLOOKUP(DY3,Daily!$A$2:$H$459,8)","v":0},{"$f":"VLOOKUP(DZ3,Daily!$A$2:$H$459,8)","v":0},{"$f":"VLOOKUP(EA3,Daily!$A$2:$H$459,8)","v":0},{"$f":"VLOOKUP(EB3,Daily!$A$2:$H$459,8)","v":0},{"$f":"VLOOKUP(EC3,Daily!$A$2:$H$459,8)","v":0},{"$f":"VLOOKUP(ED3,Daily!$A$2:$H$459,8)","v":0},{"$f":"VLOOKUP(EE3,Daily!$A$2:$H$459,8)","v":0},{"$f":"VLOOKUP(EF3,Daily!$A$2:$H$459,8)","v":0},{"$f":"VLOOKUP(EG3,Daily!$A$2:$H$459,8)","v":0},{"$f":"VLOOKUP(EH3,Daily!$A$2:$H$459,8)","v":0},{"$f":"VLOOKUP(EI3,Daily!$A$2:$H$459,8)","v":0},{"$f":"VLOOKUP(EJ3,Daily!$A$2:$H$459,8)","v":0},{"$f":"VLOOKUP(EK3,Daily!$A$2:$H$459,8)","v":0},{"$f":"VLOOKUP(EL3,Daily!$A$2:$H$459,8)","v":0},{"$f":"VLOOKUP(EM3,Daily!$A$2:$H$459,8)","v":0},{"$f":"VLOOKUP(EN3,Daily!$A$2:$H$459,8)","v":0},{"$f":"VLOOKUP(EO3,Daily!$A$2:$H$459,8)","v":0},{"$f":"VLOOKUP(EP3,Daily!$A$2:$H$459,8)","v":0},{"$f":"VLOOKUP(EQ3,Daily!$A$2:$H$459,8)","v":0},{"$f":"VLOOKUP(ER3,Daily!$A$2:$H$459,8)","v":0},{"$f":"VLOOKUP(ES3,Daily!$A$2:$H$459,8)","v":0},{"$f":"VLOOKUP(ET3,Daily!$A$2:$H$459,8)","v":0},{"$f":"VLOOKUP(EU3,Daily!$A$2:$H$459,8)","v":0},{"$f":"VLOOKUP(EV3,Daily!$A$2:$H$459,8)","v":0},{"$f":"VLOOKUP(EW3,Daily!$A$2:$H$459,8)","v":0},{"$f":"VLOOKUP(EX3,Daily!$A$2:$H$459,8)","v":0},{"$f":"VLOOKUP(EY3,Daily!$A$2:$H$459,8)","v":0},{"$f":"VLOOKUP(EZ3,Daily!$A$2:$H$459,8)","v":0},{"$f":"VLOOKUP(FA3,Daily!$A$2:$H$459,8)","v":0}]
[null,null,null,null,null,null,null,null,null,null,"PctOff",{"$f":"1-L27","v":0.95454545454545459},{"$f":"1-M27","v":0.90909090909090906},0.90909090909090906,0.90909090909090906,0.86363636363636365,0.81818181818181812,0.77272727272727271,0.72727272727272729,0.68181818181818188,0.68181818181818188,0.68181818181818188,0.63636363636363635,0.59090909090909083,0.54545454545454541,0.5,0.45454545454545459,0.45454545454545459,0.45454545454545459,0.40909090909090906,0.36363636363636365,0.31818181818181823,0.27272727272727271,0.22727272727272729,0.22727272727272729,0.22727272727272729,0.18181818181818177,0.13636363636363635,9.0909090909090939E-2,4.5454545454545414E-2,9.0909090909090939E-2,9.0909090909090939E-2,9.0909090909090939E-2,9.0909090909090939E-2,0.13636363636363635,0.18181818181818177,0.22727272727272729,0.27272727272727271,0.27272727272727271,0.27272727272727271,0.31818181818181823,0.36363636363636365,0.40909090909090906,0.45454545454545459,0.5,0.5,0.5,0.54545454545454541,0.59090909090909083,0.63636363636363635,0.68181818181818188,0.72727272727272729,0.72727272727272729,0.72727272727272729,0.77272727272727271,0.81818181818181812,0.86363636363636365,0.90909090909090906,0.95454545454545459,0.95454545454545459,0.95454545454545459,0.95454545454545459,0.95454545454545459,0.95454545454545459,{"$f":"1-BW27","v":1},{"$f":"1-BX27","v":1},{"$f":"1-BY27","v":1},1,1,{"$f":"1-CB27","v":1},1,1,null,null,"January:"]
[null,null,null,null,null,null,null,null,null,"Average","Temp",{"$f":"VLOOKUP(L3,Daily!$A:$D,4)","v":60.5},{"$f":"VLOOKUP(M3,Daily!$A:$D,4)","v":48},{"$f":"VLOOKUP(N3,Daily!$A:$D,4)","v":47},{"$f":"VLOOKUP(O3,Daily!$A:$D,4)","v":54},{"$f":"VLOOKUP(P3,Daily!$A:$D,4)","v":62.5},{"$f":"VLOOKUP(Q3,Daily!$A:$D,4)","v":69.5},{"$f":"VLOOKUP(R3,Daily!$A:$D,4)","v":75.5},{"$f":"VLOOKUP(S3,Daily!$A:$D,4)","v":75},{"$f":"VLOOKUP(T3,Daily!$A:$D,4)","v":63},{"$f":"VLOOKUP(U3,Daily!$A:$D,4)","v":59},{"$f":"VLOOKUP(V3,Daily!$A:$D,4)","v":62},{"$f":"VLOOKUP(W3,Daily!$A:$D,4)","v":54.5},{"$f":"VLOOKUP(X3,Daily!$A:$D,4)","v":59},{"$f":"VLOOKUP(Y3,Daily!$A:$D,4)","v":59.5},{"$f":"VLOOKUP(Z3,Daily!$A:$D,4)","v":65},{"$f":"VLOOKUP(AA3,Daily!$A:$D,4)","v":67.5},{"$f":"VLOOKUP(AB3,Daily!$A:$D,4)","v":66},{"$f":"VLOOKUP(AC3,Daily!$A:$D,4)","v":57},{"$f":"VLOOKUP(AD3,Daily!$A:$D,4)","v":61},{"$f":"VLOOKUP(AE3,Daily!$A:$D,4)","v":71.5},{"$f":"VLOOKUP(AF3,Daily!$A:$D,4)","v":76.5},{"$f":"VLOOKUP(AG3,Daily!$A:$D,4)","v":74.5},{"$f":"VLOOKUP(AH3,Daily!$A:$D,4)","v":68.5},{"$f":"VLOOKUP(AI3,Daily!$A:$D,4)","v":68},{"$f":"VLOOKUP(AJ3,Daily!$A:$D,4)","v":74.5},{"$f":"VLOOKUP(AK3,Daily!$A:$D,4)","v":77},{"$f":"VLOOKUP(AL3,Daily!$A:$D,4)","v":78},{"$f":"VLOOKUP(AM3,Daily!$A:$D,4)","v":77},{"$f":"VLOOKUP(AN3,Daily!$A:$D,4)","v":76},{"$f":"VLOOKUP(AO3,Daily!$A:$D,4)","v":76},{"$f":"VLOOKUP(AP3,Daily!$A:$D,4)","v":75.5},{"$f":"VLOOKUP(AQ3,Daily!$A:$D,4)","v":72},{"$f":"VLOOKUP(AR3,Daily!$A:$D,4)","v":69.5},{"$f":"VLOOKUP(AS3,Daily!$A:$D,4)","v":68},{"$f":"VLOOKUP(AT3,Daily!$A:$D,4)","v":71},{"$f":"VLOOKUP(AU3,Daily!$A:$D,4)","v":77},{"$f":"VLOOKUP(AV3,Daily!$A:$D,4)","v":76},{"$f":"VLOOKUP(AW3,Daily!$A:$D,4)","v":77.5},{"$f":"VLOOKUP(AX3,Daily!$A:$D,4)","v":79.5},{"$f":"VLOOKUP(AY3,Daily!$A:$D,4)","v":80},{"$f":"VLOOKUP(AZ3,Daily!$A:$D,4)","v":80.5},{"$f":"VLOOKUP(BA3,Daily!$A:$D,4)","v":78},{"$f":"VLOOKUP(BB3,Daily!$A:$D,4)","v":79},{"$f":"VLOOKUP(BC3,Daily!$A:$D,4)","v":63.5},{"$f":"VLOOKUP(BD3,Daily!$A:$D,4)","v":55.5},{"$f":"VLOOKUP(BE3,Daily!$A:$D,4)","v":67.5},{"$f":"VLOOKUP(BF3,Daily!$A:$D,4)","v":75.5},{"$f":"VLOOKUP(BG3,Daily!$A:$D,4)","v":74},{"$f":"VLOOKUP(BH3,Daily!$A:$D,4)","v":72},{"$f":"VLOOKUP(BI3,Daily!$A:$D,4)","v":76},{"$f":"VLOOKUP(BJ3,Daily!$A:$D,4)","v":77.5},{"$f":"VLOOKUP(BK3,Daily!$A:$D,4)","v":74.5},{"$f":"VLOOKUP(BL3,Daily!$A:$D,4)","v":71},{"$f":"VLOOKUP(BM3,Daily!$A:$D,4)","v":77},{"$f":"VLOOKUP(BN3,Daily!$A:$D,4)","v":80},{"$f":"VLOOKUP(BO3,Daily!$A:$D,4)","v":70},{"$f":"VLOOKUP(BP3,Daily!$A:$D,4)","v":71},{"$f":"VLOOKUP(BQ3,Daily!$A:$D,4)","v":70.5},{"$f":"VLOOKUP(BR3,Daily!$A:$D,4)","v":72},{"$f":"VLOOKUP(BS3,Daily!$A:$D,4)","v":75},{"$f":"VLOOKUP(BT3,Daily!$A:$D,4)","v":75},{"$f":"VLOOKUP(BU3,Daily!$A:$D,4)","v":78.5},{"$f":"VLOOKUP(BV3,Daily!$A:$D,4)","v":79.5},{"$f":"VLOOKUP(BW3,Daily!$A:$D,4)","v":75.5},{"$f":"VLOOKUP(BX3,Daily!$A:$D,4)","v":74},{"$f":"VLOOKUP(BY3,Daily!$A:$D,4)","v":74},{"$f":"VLOOKUP(BZ3,Daily!$A:$D,4)","v":75},{"$f":"VLOOKUP(CA3,Daily!$A:$D,4)","v":80},{"$f":"VLOOKUP(CB3,Daily!$A:$D,4)","v":82},{"$f":"VLOOKUP(CC3,Daily!$A:$D,4)","v":76},{"$f":"VLOOKUP(CD3,Daily!$A:$D,4)","v":71},null,null,"Billed",{"$f":"SUM(CI29:FA29)","v":{"$error":"#DIV/0!"}},{"$f":"IF(CI2=$A$2,CI26,0)","v":0},0,0,0,0,0,0,0,0,0,0,0,0,0,0,0,0,0,0,0,0,0,0,0,0,0,0,0,0,0,0,0,{"$f":"IF(DO2=$A$2,DO26,0)","v":{"$error":"#DIV/0!"}},{"$f":"IF(DP2=$A$2,DP26,0)","v":{"$error":"#DIV/0!"}},{"$error":"#DIV/0!"},{"$error":"#DIV/0!"},{"$error":"#DIV/0!"},{"$error":"#DIV/0!"},{"$error":"#DIV/0!"},{"$error":"#DIV/0!"},{"$error":"#DIV/0!"},{"$error":"#DIV/0!"},{"$error":"#DIV/0!"},{"$error":"#DIV/0!"},{"$error":"#DIV/0!"},{"$error":"#DIV/0!"},{"$error":"#DIV/0!"},{"$error":"#DIV/0!"},{"$error":"#DIV/0!"},{"$error":"#DIV/0!"},{"$error":"#DIV/0!"},{"$error":"#DIV/0!"},{"$error":"#DIV/0!"},{"$error":"#DIV/0!"},{"$error":"#DIV/0!"},{"$error":"#DIV/0!"},{"$error":"#DIV/0!"},{"$error":"#DIV/0!"},{"$error":"#DIV/0!"},{"$error":"#DIV/0!"},{"$error":"#DIV/0!"},{"$error":"#DIV/0!"},{"$error":"#DIV/0!"},0,0,{"$f":"IF(EV2=$A$2,EV26,0)","v":0},0,0,{"$f":"IF(EY2=$A$2,EY26,0)","v":0},0,0]
[null,null,null,null,null,null,null,null,{"$f":"SUM(L30:CD30)","v":11},"Calendar","HDD",{"$f":"IF((L3>=DATE($A$1,$A$2,1))*(L3<=DATE($A$1,$A$2,DAY(EOMONTH(DATE($A$1,$A$2,1),0)))), IF(L29<65,65-L29,0),0)","v":0},{"$f":"IF((M3>=DATE($A$1,$A$2,1))*(M3<=DATE($A$1,$A$2,DAY(EOMONTH(DATE($A$1,$A$2,1),0)))), IF(M29<65,65-M29,0),0)","v":0},0,0,0,0,0,0,0,0,0,0,0,0,0,0,0,0,0,0,0,0,0,0,0,0,0,0,0,0,0,0,0,0,0,0,0,0,0,0,0,0,0,1.5,9.5,0,0,0,0,0,0,0,0,0,0,0,0,0,0,0,0,0,0,0,0,{"$f":"IF((BY3>=DATE($A$1,$A$2,1))*(BY3<=DATE($A$1,$A$2,DAY(EOMONTH(DATE($A$1,$A$2,1),0)))), IF(BY29<65,65-BY29,0),0)","v":0},0,0,0,0,0,null,null,"Unbilled1",{"$f":"SUM(CI30:FA30)","v":0},{"$f":"IFERROR(IF(CI2=$A$2,HLOOKUP(CI3,APR!$CI$3:$ET$26,24),0),0)","v":0},{"$f":"IFERROR(IF(CJ2=$A$2,HLOOKUP(CJ3,APR!$CI$3:$ET$26,24),0),0)","v":0},{"$f":"IFERROR(IF(CK2=$A$2,HLOOKUP(CK3,APR!$CI$3:$ET$26,24),0),0)","v":0},{"$f":"IFERROR(IF(CL2=$A$2,HLOOKUP(CL3,APR!$CI$3:$ET$26,24),0),0)","v":0},{"$f":"IFERROR(IF(CM2=$A$2,HLOOKUP(CM3,APR!$CI$3:$ET$26,24),0),0)","v":0},{"$f":"IFERROR(IF(CN2=$A$2,HLOOKUP(CN3,APR!$CI$3:$ET$26,24),0),0)","v":0},{"$f":"IFERROR(IF(CO2=$A$2,HLOOKUP(CO3,APR!$CI$3:$ET$26,24),0),0)","v":0},{"$f":"IFERROR(IF(CP2=$A$2,HLOOKUP(CP3,APR!$CI$3:$ET$26,24),0),0)","v":0},{"$f":"IFERROR(IF(CQ2=$A$2,HLOOKUP(CQ3,APR!$CI$3:$ET$26,24),0),0)","v":0},{"$f":"IFERROR(IF(CR2=$A$2,HLOOKUP(CR3,APR!$CI$3:$ET$26,24),0),0)","v":0},{"$f":"IFERROR(IF(CS2=$A$2,HLOOKUP(CS3,APR!$CI$3:$ET$26,24),0),0)","v":0},{"$f":"IFERROR(IF(CT2=$A$2,HLOOKUP(CT3,APR!$CI$3:$ET$26,24),0),0)","v":0},{"$f":"IFERROR(IF(CU2=$A$2,HLOOKUP(CU3,APR!$CI$3:$ET$26,24),0),0)","v":0},{"$f":"IFERROR(IF(CV2=$A$2,HLOOKUP(CV3,APR!$CI$3:$ET$26,24),0),0)","v":0},{"$f":"IFERROR(IF(CW2=$A$2,HLOOKUP(CW3,APR!$CI$3:$ET$26,24),0),0)","v":0},{"$f":"IFERROR(IF(CX2=$A$2,HLOOKUP(CX3,APR!$CI$3:$ET$26,24),0),0)","v":0},{"$f":"IFERROR(IF(CY2=$A$2,HLOOKUP(CY3,APR!$CI$3:$ET$26,24),0),0)","v":0},{"$f":"IFERROR(IF(CZ2=$A$2,HLOOKUP(CZ3,APR!$CI$3:$ET$26,24),0),0)","v":0},{"$f":"IFERROR(IF(DA2=$A$2,HLOOKUP(DA3,APR!$CI$3:$ET$26,24),0),0)","v":0},{"$f":"IFERROR(IF(DB2=$A$2,HLOOKUP(DB3,APR!$CI$3:$ET$26,24),0),0)","v":0},{"$f":"IFERROR(IF(DC2=$A$2,HLOOKUP(DC3,APR!$CI$3:$ET$26,24),0),0)","v":0},{"$f":"IFERROR(IF(DD2=$A$2,HLOOKUP(DD3,APR!$CI$3:$ET$26,24),0),0)","v":0},{"$f":"IFERROR(IF(DE2=$A$2,HLOOKUP(DE3,APR!$CI$3:$ET$26,24),0),0)","v":0},{"$f":"IFERROR(IF(DF2=$A$2,HLOOKUP(DF3,APR!$CI$3:$ET$26,24),0),0)","v":0},{"$f":"IFERROR(IF(DG2=$A$2,HLOOKUP(DG3,APR!$CI$3:$ET$26,24),0),0)","v":0},{"$f":"IFERROR(IF(DH2=$A$2,HLOOKUP(DH3,APR!$CI$3:$ET$26,24),0),0)","v":0},{"$f":"IFERROR(IF(DI2=$A$2,HLOOKUP(DI3,APR!$CI$3:$ET$26,24),0),0)","v":0},{"$f":"IFERROR(IF(DJ2=$A$2,HLOOKUP(DJ3,APR!$CI$3:$ET$26,24),0),0)","v":0},{"$f":"IFERROR(IF(DK2=$A$2,HLOOKUP(DK3,APR!$CI$3:$ET$26,24),0),0)","v":0},{"$f":"IFERROR(IF(DL2=$A$2,HLOOKUP(DL3,APR!$CI$3:$ET$26,24),0),0)","v":0},{"$f":"IFERROR(IF(DM2=$A$2,HLOOKUP(DM3,APR!$CI$3:$ET$26,24),0),0)","v":0},{"$f":"IFERROR(IF(DN2=$A$2,HLOOKUP(DN3,APR!$CI$3:$ET$26,24),0),0)","v":0},{"$f":"IFERROR(IF(DO2=$A$2,HLOOKUP(DO3,APR!$CI$3:$ET$26,24),0),0)","v":0},{"$f":"IFERROR(IF(DP2=$A$2,HLOOKUP(DP3,APR!$CI$3:$ET$26,24),0),0)","v":0},{"$f":"IFERROR(IF(DQ2=$A$2,HLOOKUP(DQ3,APR!$CI$3:$ET$26,24),0),0)","v":0},{"$f":"IFERROR(IF(DR2=$A$2,HLOOKUP(DR3,APR!$CI$3:$ET$26,24),0),0)","v":0},{"$f":"IFERROR(IF(DS2=$A$2,HLOOKUP(DS3,APR!$CI$3:$ET$26,24),0),0)","v":0},{"$f":"IFERROR(IF(DT2=$A$2,HLOOKUP(DT3,APR!$CI$3:$ET$26,24),0),0)","v":0},{"$f":"IFERROR(IF(DU2=$A$2,HLOOKUP(DU3,APR!$CI$3:$ET$26,24),0),0)","v":0},{"$f":"IFERROR(IF(DV2=$A$2,HLOOKUP(DV3,APR!$CI$3:$ET$26,24),0),0)","v":0},{"$f":"IFERROR(IF(DW2=$A$2,HLOOKUP(DW3,APR!$CI$3:$ET$26,24),0),0)","v":0},{"$f":"IFERROR(IF(DX2=$A$2,HLOOKUP(DX3,APR!$CI$3:$ET$26,24),0),0)","v":0},{"$f":"IFERROR(IF(DY2=$A$2,HLOOKUP(DY3,APR!$CI$3:$ET$26,24),0),0)","v":0},{"$f":"IFERROR(IF(DZ2=$A$2,HLOOKUP(DZ3,APR!$CI$3:$ET$26,24),0),0)","v":0},{"$f":"IFERROR(IF(EA2=$A$2,HLOOKUP(EA3,APR!$CI$3:$ET$26,24),0),0)","v":0},{"$f":"IFERROR(IF(EB2=$A$2,HLOOKUP(EB3,APR!$CI$3:$ET$26,24),0),0)","v":0},{"$f":"IFERROR(IF(EC2=$A$2,HLOOKUP(EC3,APR!$CI$3:$ET$26,24),0),0)","v":0},{"$f":"IFERROR(IF(ED2=$A$2,HLOOKUP(ED3,APR!$CI$3:$ET$26,24),0),0)","v":0},{"$f":"IFERROR(IF(EE2=$A$2,HLOOKUP(EE3,APR!$CI$3:$ET$26,24),0),0)","v":0},{"$f":"IFERROR(IF(EF2=$A$2,HLOOKUP(EF3,APR!$CI$3:$ET$26,24),0),0)","v":0},{"$f":"IFERROR(IF(EG2=$A$2,HLOOKUP(EG3,APR!$CI$3:$ET$26,24),0),0)","v":0},{"$f":"IFERROR(IF(EH2=$A$2,HLOOKUP(EH3,APR!$CI$3:$ET$26,24),0),0)","v":0},{"$f":"IFERROR(IF(EI2=$A$2,HLOOKUP(EI3,APR!$CI$3:$ET$26,24),0),0)","v":0},{"$f":"IFERROR(IF(EJ2=$A$2,HLOOKUP(EJ3,APR!$CI$3:$ET$26,24),0),0)","v":0},{"$f":"IFERROR(IF(EK2=$A$2,HLOOKUP(EK3,APR!$CI$3:$ET$26,24),0),0)","v":0},{"$f":"IFERROR(IF(EL2=$A$2,HLOOKUP(EL3,APR!$CI$3:$ET$26,24),0),0)","v":0},{"$f":"IFERROR(IF(EM2=$A$2,HLOOKUP(EM3,APR!$CI$3:$ET$26,24),0),0)","v":0},{"$f":"IFERROR(IF(EN2=$A$2,HLOOKUP(EN3,APR!$CI$3:$ET$26,24),0),0)","v":0},{"$f":"IFERROR(IF(EO2=$A$2,HLOOKUP(EO3,APR!$CI$3:$ET$26,24),0),0)","v":0},{"$f":"IFERROR(IF(EP2=$A$2,HLOOKUP(EP3,APR!$CI$3:$ET$26,24),0),0)","v":0},{"$f":"IFERROR(IF(EQ2=$A$2,HLOOKUP(EQ3,APR!$CI$3:$ET$26,24),0),0)","v":0},{"$f":"IFERROR(IF(ER2=$A$2,HLOOKUP(ER3,APR!$CI$3:$ET$26,24),0),0)","v":0},{"$f":"IFERROR(IF(ES2=$A$2,HLOOKUP(ES3,APR!$CI$3:$ET$26,24),0),0)","v":0},{"$f":"IFERROR(IF(ET2=$A$2,HLOOKUP(ET3,APR!$CI$3:$ET$26,24),0),0)","v":0},{"$f":"IFERROR(IF(EU2=$A$2,HLOOKUP(EU3,APR!$CI$3:$ET$26,24),0),0)","v":0},{"$f":"IFERROR(IF(EV2=$A$2,HLOOKUP(EV3,APR!$CI$3:$ET$26,24),0),0)","v":0},{"$f":"IFERROR(IF(EW2=$A$2,HLOOKUP(EW3,APR!$CI$3:$ET$26,24),0),0)","v":0},{"$f":"IFERROR(IF(EX2=$A$2,HLOOKUP(EX3,APR!$CI$3:$ET$26,24),0),0)","v":0},{"$f":"IFERROR(IF(EY2=$A$2,HLOOKUP(EY3,APR!$CI$3:$ET$26,24),0),0)","v":0},{"$f":"IFERROR(IF(EZ2=$A$2,HLOOKUP(EZ3,APR!$CI$3:$ET$26,24),0),0)","v":0},{"$f":"IFERROR(IF(FA2=$A$2,HLOOKUP(FA3,APR!$CI$3:$ET$26,24),0),0)","v":0}]
[null,null,null,null,null,null,null,null,287.5,"Calendar","CDD",{"$f":"IF((L3>=DATE($A$1,$A$2,1))*(L3<=DATE($A$1,$A$2,DAY(EOMONTH(DATE($A$1,$A$2,1),0)))), IF(L29>65,L29-65,0),0)","v":0},{"$f":"IF((M3>=DATE($A$1,$A$2,1))*(M3<=DATE($A$1,$A$2,DAY(EOMONTH(DATE($A$1,$A$2,1),0)))), IF(M29>65,M29-65,0),0)","v":0},0,0,0,0,0,0,0,0,0,0,0,0,0,0,0,0,0,0,0,0,0,0,0,0,0,0,0,0,0,0,4.5,3,6,12,11,12.5,14.5,15,15.5,13,14,0,0,2.5,10.5,9,7,11,12.5,9.5,6,12,15,5,6,5.5,7,10,10,13.5,14.5,0,0,{"$f":"IF((BY3>=DATE($A$1,$A$2,1))*(BY3<=DATE($A$1,$A$2,DAY(EOMONTH(DATE($A$1,$A$2,1),0)))), IF(BY29>65,BY29-65,0),0)","v":0},0,0,0,0,0,null,null,"Unbilled2",0,{"$f":"IFERROR(IF(CI2=$A$2,HLOOKUP(CI3,#REF!,24),0),0)","v":0},{"$f":"IFERROR(IF(CJ2=$A$2,HLOOKUP(CJ3,#REF!,24),0),0)","v":0},{"$f":"IFERROR(IF(CK2=$A$2,HLOOKUP(CK3,#REF!,24),0),0)","v":0},{"$f":"IFERROR(IF(CL2=$A$2,HLOOKUP(CL3,#REF!,24),0),0)","v":0},{"$f":"IFERROR(IF(CM2=$A$2,HLOOKUP(CM3,#REF!,24),0),0)","v":0},{"$f":"IFERROR(IF(CN2=$A$2,HLOOKUP(CN3,#REF!,24),0),0)","v":0},{"$f":"IFERROR(IF(CO2=$A$2,HLOOKUP(CO3,#REF!,24),0),0)","v":0},{"$f":"IFERROR(IF(CP2=$A$2,HLOOKUP(CP3,#REF!,24),0),0)","v":0},{"$f":"IFERROR(IF(CQ2=$A$2,HLOOKUP(CQ3,#REF!,24),0),0)","v":0},{"$f":"IFERROR(IF(CR2=$A$2,HLOOKUP(CR3,#REF!,24),0),0)","v":0},{"$f":"IFERROR(IF(CS2=$A$2,HLOOKUP(CS3,#REF!,24),0),0)","v":0},{"$f":"IFERROR(IF(CT2=$A$2,HLOOKUP(CT3,#REF!,24),0),0)","v":0},{"$f":"IFERROR(IF(CU2=$A$2,HLOOKUP(CU3,#REF!,24),0),0)","v":0},{"$f":"IFERROR(IF(CV2=$A$2,HLOOKUP(CV3,#REF!,24),0),0)","v":0},{"$f":"IFERROR(IF(CW2=$A$2,HLOOKUP(CW3,#REF!,24),0),0)","v":0},{"$f":"IFERROR(IF(CX2=$A$2,HLOOKUP(CX3,#REF!,24),0),0)","v":0},{"$f":"IFERROR(IF(CY2=$A$2,HLOOKUP(CY3,#REF!,24),0),0)","v":0},{"$f":"IFERROR(IF(CZ2=$A$2,HLOOKUP(CZ3,#REF!,24),0),0)","v":0},{"$f":"IFERROR(IF(DA2=$A$2,HLOOKUP(DA3,#REF!,24),0),0)","v":0},{"$f":"IFERROR(IF(DB2=$A$2,HLOOKUP(DB3,#REF!,24),0),0)","v":0},{"$f":"IFERROR(IF(DC2=$A$2,HLOOKUP(DC3,#REF!,24),0),0)","v":0},{"$f":"IFERROR(IF(DD2=$A$2,HLOOKUP(DD3,#REF!,24),0),0)","v":0},{"$f":"IFERROR(IF(DE2=$A$2,HLOOKUP(DE3,#REF!,24),0),0)","v":0},{"$f":"IFERROR(IF(DF2=$A$2,HLOOKUP(DF3,#REF!,24),0),0)","v":0},{"$f":"IFERROR(IF(DG2=$A$2,HLOOKUP(DG3,#REF!,24),0),0)","v":0},{"$f":"IFERROR(IF(DH2=$A$2,HLOOKUP(DH3,#REF!,24),0),0)","v":0},{"$f":"IFERROR(IF(DI2=$A$2,HLOOKUP(DI3,#REF!,24),0),0)","v":0},{"$f":"IFERROR(IF(DJ2=$A$2,HLOOKUP(DJ3,#REF!,24),0),0)","v":0},{"$f":"IFERROR(IF(DK2=$A$2,HLOOKUP(DK3,#REF!,24),0),0)","v":0},{"$f":"IFERROR(IF(DL2=$A$2,HLOOKUP(DL3,#REF!,24),0),0)","v":0},{"$f":"IFERROR(IF(DM2=$A$2,HLOOKUP(DM3,#REF!,24),0),0)","v":0},{"$f":"IFERROR(IF(DN2=$A$2,HLOOKUP(DN3,#REF!,24),0),0)","v":0},{"$f":"IFERROR(IF(DO2=$A$2,HLOOKUP(DO3,#REF!,24),0),0)","v":0},{"$f":"IFERROR(IF(DP2=$A$2,HLOOKUP(DP3,#REF!,24),0),0)","v":0},{"$f":"IFERROR(IF(DQ2=$A$2,HLOOKUP(DQ3,#REF!,24),0),0)","v":0},{"$f":"IFERROR(IF(DR2=$A$2,HLOOKUP(DR3,#REF!,24),0),0)","v":0},{"$f":"IFERROR(IF(DS2=$A$2,HLOOKUP(DS3,#REF!,24),0),0)","v":0},{"$f":"IFERROR(IF(DT2=$A$2,HLOOKUP(DT3,#REF!,24),0),0)","v":0},{"$f":"IFERROR(IF(DU2=$A$2,HLOOKUP(DU3,#REF!,24),0),0)","v":0},{"$f":"IFERROR(IF(DV2=$A$2,HLOOKUP(DV3,#REF!,24),0),0)","v":0},{"$f":"IFERROR(IF(DW2=$A$2,HLOOKUP(DW3,#REF!,24),0),0)","v":0},{"$f":"IFERROR(IF(DX2=$A$2,HLOOKUP(DX3,#REF!,24),0),0)","v":0},{"$f":"IFERROR(IF(DY2=$A$2,HLOOKUP(DY3,#REF!,24),0),0)","v":0},{"$f":"IFERROR(IF(DZ2=$A$2,HLOOKUP(DZ3,#REF!,24),0),0)","v":0},{"$f":"IFERROR(IF(EA2=$A$2,HLOOKUP(EA3,#REF!,24),0),0)","v":0},{"$f":"IFERROR(IF(EB2=$A$2,HLOOKUP(EB3,#REF!,24),0),0)","v":0},{"$f":"IFERROR(IF(EC2=$A$2,HLOOKUP(EC3,#REF!,24),0),0)","v":0},{"$f":"IFERROR(IF(ED2=$A$2,HLOOKUP(ED3,#REF!,24),0),0)","v":0},{"$f":"IFERROR(IF(EE2=$A$2,HLOOKUP(EE3,#REF!,24),0),0)","v":0},{"$f":"IFERROR(IF(EF2=$A$2,HLOOKUP(EF3,#REF!,24),0),0)","v":0},{"$f":"IFERROR(IF(EG2=$A$2,HLOOKUP(EG3,#REF!,24),0),0)","v":0},{"$f":"IFERROR(IF(EH2=$A$2,HLOOKUP(EH3,#REF!,24),0),0)","v":0},{"$f":"IFERROR(IF(EI2=$A$2,HLOOKUP(EI3,#REF!,24),0),0)","v":0},{"$f":"IFERROR(IF(EJ2=$A$2,HLOOKUP(EJ3,#REF!,24),0),0)","v":0},{"$f":"IFERROR(IF(EK2=$A$2,HLOOKUP(EK3,#REF!,24),0),0)","v":0},{"$f":"IFERROR(IF(EL2=$A$2,HLOOKUP(EL3,#REF!,24),0),0)","v":0},{"$f":"IFERROR(IF(EM2=$A$2,HLOOKUP(EM3,#REF!,24),0),0)","v":0},{"$f":"IFERROR(IF(EN2=$A$2,HLOOKUP(EN3,#REF!,24),0),0)","v":0},{"$f":"IFERROR(IF(EO2=$A$2,HLOOKUP(EO3,#REF!,24),0),0)","v":0},{"$f":"IFERROR(IF(EP2=$A$2,HLOOKUP(EP3,#REF!,24),0),0)","v":0},{"$f":"IFERROR(IF(EQ2=$A$2,HLOOKUP(EQ3,#REF!,24),0),0)","v":0},{"$f":"IFERROR(IF(ER2=$A$2,HLOOKUP(ER3,#REF!,24),0),0)","v":0},{"$f":"IFERROR(IF(ES2=$A$2,HLOOKUP(ES3,#REF!,24),0),0)","v":0},{"$f":"IFERROR(IF(ET2=$A$2,HLOOKUP(ET3,#REF!,24),0),0)","v":0},{"$f":"IFERROR(IF(EU2=$A$2,HLOOKUP(EU3,#REF!,24),0),0)","v":0},{"$f":"IFERROR(IF(EV2=$A$2,HLOOKUP(EV3,#REF!,24),0),0)","v":0},{"$f":"IFERROR(IF(EW2=$A$2,HLOOKUP(EW3,#REF!,24),0),0)","v":0},{"$f":"IFERROR(IF(EX2=$A$2,HLOOKUP(EX3,#REF!,24),0),0)","v":0},{"$f":"IFERROR(IF(EY2=$A$2,HLOOKUP(EY3,#REF!,24),0),0)","v":0},{"$f":"IFERROR(IF(EZ2=$A$2,HLOOKUP(EZ3,#REF!,24),0),0)","v":0},{"$f":"IFERROR(IF(FA2=$A$2,HLOOKUP(FA3,#REF!,24),0),0)","v":0}]
[null,null,null,null,null,null,null,null,29.227272727272727,"Billing","HDD",{"$f":"IF(L29<65, (65-L29)*L27,0)","v":0.20454545454545456},{"$f":"IF(M29<65, (65-M29)*M27,0)","v":1.5454545454545454},1.6363636363636365,1,0.34090909090909088,0,0,0,0.63636363636363635,1.9090909090909092,0.95454545454545459,3.8181818181818183,2.4545454545454546,2.5,0,0,0,4.3636363636363633,2.3636363636363638,0,0,0,0,0,0,0,0,0,0,0,0,0,0,0,0,0,0,0,0,0,0,0,0,0.75,4.75,0,0,0,0,0,0,0,0,0,0,0,0,0,0,0,0,0,0,0,0,{"$f":"IF(BY29<65, (65-BY29)*BY27,0)","v":0},0,0,0,0,0,null,null,"Calendar",{"$error":"#DIV/0!"},{"$f":"+CI29+CI30+CI31","v":0},{"$f":"+CJ29+CJ30+CJ31","v":0},0,0,0,0,0,0,0,0,0,0,0,0,0,0,0,0,0,0,0,0,0,0,0,0,0,0,0,0,0,0,{"$error":"#DIV/0!"},{"$error":"#DIV/0!"},{"$error":"#DIV/0!"},{"$error":"#DIV/0!"},{"$error":"#DIV/0!"},{"$error":"#DIV/0!"},{"$error":"#DIV/0!"},{"$error":"#DIV/0!"},{"$error":"#DIV/0!"},{"$error":"#DIV/0!"},{"$error":"#DIV/0!"},{"$error":"#DIV/0!"},{"$error":"#DIV/0!"},{"$error":"#DIV/0!"},{"$error":"#DIV/0!"},{"$error":"#DIV/0!"},{"$error":"#DIV/0!"},{"$error":"#DIV/0!"},{"$error":"#DIV/0!"},{"$error":"#DIV/0!"},{"$error":"#DIV/0!"},{"$error":"#DIV/0!"},{"$error":"#DIV/0!"},{"$error":"#DIV/0!"},{"$error":"#DIV/0!"},{"$error":"#DIV/0!"},{"$error":"#DIV/0!"},{"$error":"#DIV/0!"},{"$error":"#DIV/0!"},{"$error":"#DIV/0!"},{"$error":"#DIV/0!"},0,0,{"$f":"+EV29+EV30+EV31","v":0},0,0,{"$f":"+EY29+EY30+EY31","v":0},0,0]
[null,null,null,null,null,null,null,null,224.18181818181816,"Billing","CDD",{"$f":"IF(L29>65, (L29-65)*L27,0)","v":0},{"$f":"IF(M29>65, (M29-65)*M27,0)","v":0},0,0,0,0.81818181818181823,2.3863636363636362,2.7272727272727271,0,0,0,0,0,0,0,1.3636363636363635,0.54545454545454541,0,0,4.1363636363636367,7.8409090909090899,6.9090909090909092,2.7045454545454546,2.3181818181818183,7.3409090909090908,9.8181818181818183,11.227272727272727,10.909090909090908,10.5,10,9.545454545454545,6.3636363636363633,4.0909090909090908,2.5909090909090908,4.9090909090909092,9.2727272727272734,8,9.0909090909090917,10.545454545454545,10.227272727272727,9.8636363636363633,7.6818181818181825,7.6363636363636358,0,0,1.25,4.7727272727272725,3.6818181818181821,2.5454545454545454,3.5,3.4090909090909087,2.5909090909090908,1.6363636363636362,2.7272727272727271,2.7272727272727275,0.68181818181818177,0.54545454545454541,0.25,0.31818181818181818,0.45454545454545459,0.45454545454545459,0.61363636363636365,0.65909090909090906,0,0,{"$f":"IF(BY29>65, (BY29-65)*BY27,0)","v":0},0,0,0,0,0,null,null,"Check",{"$f":"+CH32-CH29-CH30-CH31","v":{"$error":"#DIV/0!"}}]
[null,null,null,null,null,null,null,null,3.7149999999999999,"Calendar","Rainfall",{"$f":"VLOOKUP(L3,Daily!$A:$I,9)","v":1E-3},{"$f":"VLOOKUP(M3,Daily!$A:$I,9)","v":0},{"$f":"VLOOKUP(N3,Daily!$A:$I,9)","v":0},{"$f":"VLOOKUP(O3,Daily!$A:$I,9)","v":0},{"$f":"VLOOKUP(P3,Daily!$A:$I,9)","v":0},{"$f":"VLOOKUP(Q3,Daily!$A:$I,9)","v":0},{"$f":"VLOOKUP(R3,Daily!$A:$I,9)","v":0},{"$f":"VLOOKUP(S3,Daily!$A:$I,9)","v":0},{"$f":"VLOOKUP(T3,Daily!$A:$I,9)","v":0.02},{"$f":"VLOOKUP(U3,Daily!$A:$I,9)","v":0.02},{"$f":"VLOOKUP(V3,Daily!$A:$I,9)","v":0},{"$f":"VLOOKUP(W3,Daily!$A:$I,9)","v":0.35},{"$f":"VLOOKUP(X3,Daily!$A:$I,9)","v":1E-3},{"$f":"VLOOKUP(Y3,Daily!$A:$I,9)","v":0},{"$f":"VLOOKUP(Z3,Daily!$A:$I,9)","v":0},{"$f":"VLOOKUP(AA3,Daily!$A:$I,9)","v":1E-3},{"$f":"VLOOKUP(AB3,Daily!$A:$I,9)","v":0.1},{"$f":"VLOOKUP(AC3,Daily!$A:$I,9)","v":0},{"$f":"VLOOKUP(AD3,Daily!$A:$I,9)","v":0},{"$f":"VLOOKUP(AE3,Daily!$A:$I,9)","v":0},{"$f":"VLOOKUP(AF3,Daily!$A:$I,9)","v":0},{"$f":"VLOOKUP(AG3,Daily!$A:$I,9)","v":0},{"$f":"VLOOKUP(AH3,Daily!$A:$I,9)","v":0.13},{"$f":"VLOOKUP(AI3,Daily!$A:$I,9)","v":0},{"$f":"VLOOKUP(AJ3,Daily!$A:$I,9)","v":0},{"$f":"VLOOKUP(AK3,Daily!$A:$I,9)","v":0},{"$f":"VLOOKUP(AL3,Daily!$A:$I,9)","v":0},{"$f":"VLOOKUP(AM3,Daily!$A:$I,9)","v":0},{"$f":"VLOOKUP(AN3,Daily!$A:$I,9)","v":0},{"$f":"VLOOKUP(AO3,Daily!$A:$I,9)","v":0},{"$f":"VLOOKUP(AP3,Daily!$A:$I,9)","v":0},{"$f":"VLOOKUP(AQ3,Daily!$A:$I,9)","v":0},{"$f":"VLOOKUP(AR3,Daily!$A:$I,9)","v":0},{"$f":"VLOOKUP(AS3,Daily!$A:$I,9)","v":0},{"$f":"VLOOKUP(AT3,Daily!$A:$I,9)","v":0},{"$f":"VLOOKUP(AU3,Daily!$A:$I,9)","v":0},{"$f":"VLOOKUP(AV3,Daily!$A:$I,9)","v":0},{"$f":"VLOOKUP(AW3,Daily!$A:$I,9)","v":0},{"$f":"VLOOKUP(AX3,Daily!$A:$I,9)","v":0},{"$f":"VLOOKUP(AY3,Daily!$A:$I,9)","v":0},{"$f":"VLOOKUP(AZ3,Daily!$A:$I,9)","v":0},{"$f":"VLOOKUP(BA3,Daily!$A:$I,9)","v":1E-3},{"$f":"VLOOKUP(BB3,Daily!$A:$I,9)","v":0},{"$f":"VLOOKUP(BC3,Daily!$A:$I,9)","v":0.41},{"$f":"VLOOKUP(BD3,Daily!$A:$I,9)","v":0},{"$f":"VLOOKUP(BE3,Daily!$A:$I,9)","v":0},{"$f":"VLOOKUP(BF3,Daily!$A:$I,9)","v":1.04},{"$f":"VLOOKUP(BG3,Daily!$A:$I,9)","v":1E-3},{"$f":"VLOOKUP(BH3,Daily!$A:$I,9)","v":0},{"$f":"VLOOKUP(BI3,Daily!$A:$I,9)","v":0},{"$f":"VLOOKUP(BJ3,Daily!$A:$I,9)","v":0},{"$f":"VLOOKUP(BK3,Daily!$A:$I,9)","v":0},{"$f":"VLOOKUP(BL3,Daily!$A:$I,9)","v":0},{"$f":"VLOOKUP(BM3,Daily!$A:$I,9)","v":0},{"$f":"VLOOKUP(BN3,Daily!$A:$I,9)","v":0},{"$f":"VLOOKUP(BO3,Daily!$A:$I,9)","v":1.42},{"$f":"VLOOKUP(BP3,Daily!$A:$I,9)","v":0},{"$f":"VLOOKUP(BQ3,Daily!$A:$I,9)","v":0},{"$f":"VLOOKUP(BR3,Daily!$A:$I,9)","v":0},{"$f":"VLOOKUP(BS3,Daily!$A:$I,9)","v":0},{"$f":"VLOOKUP(BT3,Daily!$A:$I,9)","v":0},{"$f":"VLOOKUP(BU3,Daily!$A:$I,9)","v":0},{"$f":"VLOOKUP(BV3,Daily!$A:$I,9)","v":0.04},{"$f":"VLOOKUP(BW3,Daily!$A:$I,9)","v":0.18},{"$f":"VLOOKUP(BX3,Daily!$A:$I,9)","v":0},{"$f":"VLOOKUP(BY3,Daily!$A:$I,9)","v":0},{"$f":"VLOOKUP(BZ3,Daily!$A:$I,9)","v":0},{"$f":"VLOOKUP(CA3,Daily!$A:$I,9)","v":0},{"$f":"VLOOKUP(CB3,Daily!$A:$I,9)","v":0},{"$f":"VLOOKUP(CC3,Daily!$A:$I,9)","v":0},{"$f":"VLOOKUP(CD3,Daily!$A:$I,9)","v":0},null,null,"Calendar Rainfall",{"$error":"#DIV/0!"},{"$f":"IF(CI32>0,L34,0)","v":0},0,0,0,0,0,0,0,0,0,0,0,0,0,0,0,0,0,0,0,0,0,0,0,0,0,0,0,0,0,0,0,{"$f":"IF(DO32>0,AR34,0)","v":{"$error":"#DIV/0!"}},{"$error":"#DIV/0!"},{"$error":"#DIV/0!"},{"$error":"#DIV/0!"},{"$error":"#DIV/0!"},{"$error":"#DIV/0!"},{"$error":"#DIV/0!"},{"$error":"#DIV/0!"},{"$error":"#DIV/0!"},{"$error":"#DIV/0!"},{"$error":"#DIV/0!"},{"$error":"#DIV/0!"},{"$error":"#DIV/0!"},{"$error":"#DIV/0!"},{"$error":"#DIV/0!"},{"$error":"#DIV/0!"},{"$error":"#DIV/0!"},{"$error":"#DIV/0!"},{"$error":"#DIV/0!"},{"$error":"#DIV/0!"},{"$error":"#DIV/0!"},{"$error":"#DIV/0!"},{"$error":"#DIV/0!"},{"$error":"#DIV/0!"},{"$error":"#DIV/0!"},{"$error":"#DIV/0!"},{"$error":"#DIV/0!"},{"$error":"#DIV/0!"},{"$error":"#DIV/0!"},{"$error":"#DIV/0!"},{"$error":"#DIV/0!"},0,{"$f":"IF(EU32>0,BX34,0)","v":0},0,0,0,{"$f":"IF(EY32>0,CB34,0)","v":0},0,0]
[null,null,null,null,null,null,null,null,1.170181818181818,"Billing","Rainfall",{"$f":"+L34*L27","v":4.5454545454545459E-5},{"$f":"+M34*M27","v":0},0,0,0,0,0,0,6.3636363636363638E-3,6.3636363636363638E-3,0,0.12727272727272726,4.0909090909090913E-4,0,0,5.4545454545454548E-4,5.4545454545454543E-2,0,0,0,0,0,0.10045454545454545,0,0,0,0,0,0,0,0,0,0,0,0,0,0,0,0,0,0,5.9090909090909094E-4,0,0.20499999999999999,0,0,0.47272727272727272,4.0909090909090913E-4,0,0,0,0,0,0,0,0.19363636363636361,0,0,0,0,0,0,1.8181818181818182E-3,{"$f":"+BW34*BW27","v":0},{"$f":"+BX34*BX27","v":0},{"$f":"+BY34*BY27","v":0},0,0,{"$f":"+CB34*CB27","v":0},0,0,null,null,"Calendar HDD",{"$error":"#DIV/0!"},{"$f":"IF(CI32>0,L30,0)","v":0},0,0,0,0,0,0,0,0,0,0,0,0,0,0,0,0,0,0,0,0,0,0,0,0,0,0,0,0,0,0,0,{"$f":"IF(DO32>0,AR30,0)","v":{"$error":"#DIV/0!"}},{"$error":"#DIV/0!"},{"$error":"#DIV/0!"},{"$error":"#DIV/0!"},{"$error":"#DIV/0!"},{"$error":"#DIV/0!"},{"$error":"#DIV/0!"},{"$error":"#DIV/0!"},{"$error":"#DIV/0!"},{"$error":"#DIV/0!"},{"$error":"#DIV/0!"},{"$error":"#DIV/0!"},{"$error":"#DIV/0!"},{"$error":"#DIV/0!"},{"$error":"#DIV/0!"},{"$error":"#DIV/0!"},{"$error":"#DIV/0!"},{"$error":"#DIV/0!"},{"$error":"#DIV/0!"},{"$error":"#DIV/0!"},{"$error":"#DIV/0!"},{"$error":"#DIV/0!"},{"$error":"#DIV/0!"},{"$error":"#DIV/0!"},{"$error":"#DIV/0!"},{"$error":"#DIV/0!"},{"$error":"#DIV/0!"},{"$error":"#DIV/0!"},{"$error":"#DIV/0!"},{"$error":"#DIV/0!"},{"$error":"#DIV/0!"},0,{"$f":"IF(EU32>0,BX30,0)","v":0},0,0,0,{"$f":"IF(EY32>0,CB30,0)","v":0},0,0]
[null,null,null,null,null,null,null,null,null,null,null,null,null,null,null,null,null,null,null,null,null,null,null,null,null,null,null,null,null,null,null,null,null,null,null,null,null,null,null,null,null,null,null,null,null,null,null,null,null,null,null,null,null,null,null,null,null,null,null,null,null,null,null,null,null,null,null,null,null,null,null,null,null,null,null,null,null,null,null,null,null,null,null,null,"Calendar CDD",{"$error":"#DIV/0!"},{"$f":"IF(CI32>0,L31,0)","v":0},0,0,0,0,0,0,0,0,0,0,0,0,0,0,0,0,0,0,0,0,0,0,0,0,0,0,0,0,0,0,0,{"$f":"IF(DO32>0,AR31,0)","v":{"$error":"#DIV/0!"}},{"$error":"#DIV/0!"},{"$error":"#DIV/0!"},{"$error":"#DIV/0!"},{"$error":"#DIV/0!"},{"$error":"#DIV/0!"},{"$error":"#DIV/0!"},{"$error":"#DIV/0!"},{"$error":"#DIV/0!"},{"$error":"#DIV/0!"},{"$error":"#DIV/0!"},{"$error":"#DIV/0!"},{"$error":"#DIV/0!"},{"$error":"#DIV/0!"},{"$error":"#DIV/0!"},{"$error":"#DIV/0!"},{"$error":"#DIV/0!"},{"$error":"#DIV/0!"},{"$error":"#DIV/0!"},{"$error":"#DIV/0!"},{"$error":"#DIV/0!"},{"$error":"#DIV/0!"},{"$error":"#DIV/0!"},{"$error":"#DIV/0!"},{"$error":"#DIV/0!"},{"$error":"#DIV/0!"},{"$error":"#DIV/0!"},{"$error":"#DIV/0!"},{"$error":"#DIV/0!"},{"$error":"#DIV/0!"},{"$error":"#DIV/0!"},0,{"$f":"IF(EU32>0,BX31,0)","v":0},0,0,0,{"$f":"IF(EY32>0,CB31,0)","v":0},0,0]
[]
[null,null,null,null,null,null,null,null,null,null,null,null,null,null,null,null,null,null,null,null,null,null,null,null,{"$f":"TEXT(DATE(A1,A2,1),\"mmm yyyy\")&\" - Billing Cycle Temperatures\"","v":"Mar 2022 - Billing Cycle Temperatures"}]
[]
[]
[null,null,null,null,null,null,"Actual","Budget","Variance","Var %"]
[null,null,null,null,"Calendar","HDD",{"$f":"I30","v":11},{"$f":"VLOOKUP($A$2,Daily!$AB$2:$AF$13,4)","v":46},{"$f":"G42-H42","v":-35},{"$f":"G42/H42-1","v":-0.76086956521739135}]
[null,null,null,null,"Calendar","CDD",{"$f":"I31","v":287.5},{"$f":"VLOOKUP($A$2,Daily!$AB$2:$AF$13,5)","v":156.65},{"$f":"G43-H43","v":130.85},{"$f":"G43/H43-1","v":0.83530162783274808}]
[null,null,null,null,"Billing","HDD",{"$f":"I32","v":29.227272727272727},{"$f":"VLOOKUP($A$2,Daily!$AB$2:$AF$13,2)","v":65},-35.772727272727273,-0.55034965034965033]
[null,null,null,null,"Billing","CDD",{"$f":"I33","v":224.18181818181816},{"$f":"VLOOKUP($A$2,Daily!$AB$2:$AF$13,3)","v":111},113.18181818181816,1.0196560196560194,null,null,null,null,null,null,null,null,null,null,null,null,null,null,null,null,null,null,null,null,null,null,null,null,null,null,null,null,null,null,null,null,null,null,null,null,null,null,null,null,null,null,null,null,null,null,null,null,null,null,null,null,null,null,null,null,null,null,null,null,null,null,null,null,null,null,null,null,null,null,null,null,null,null,null,null,{"$f":"+CI1","v":2022},2022,2022,2022,2022,2022,2022,2022,2022,2022,2022,2022,2022,2022,2022,2022,2022,2022,2022,2022,2022,2022,2022,2022,2022,2022,2022,2022,2022,2022,2022,2022,{"$f":"+DO1","v":2022},2022,2022,2022,2022,2022,2022,2022,2022,2022,2022,2022,2022,2022,2022,2022,2022,2022,2022,2022,2022,2022,2022,2022,2022,2022,2022,2022,2022,2022,2022,2022,2022,{"$f":"+EV1","v":2022},2022,2022,{"$f":"+EY1","v":2022},2022,2022]
[null,null,null,null,null,null,null,null,null,null,null,null,null,null,null,null,null,null,null,null,null,null,null,null,null,null,null,null,null,null,null,null,null,null,null,null,null,null,null,null,null,null,null,null,null,null,null,null,null,null,null,null,null,null,null,null,null,null,null,null,null,null,null,null,null,null,null,null,null,null,null,null,null,null,null,null,null,null,null,null,null,null,null,null,null,null,{"$f":"+CI2","v":1},1,1,1,2,2,2,2,2,2,2,2,2,2,2,2,2,2,2,2,2,2,2,2,2,2,2,2,2,2,2,2,{"$f":"+DO2","v":3},3,3,3,3,3,3,3,3,3,3,3,3,3,3,3,3,3,3,3,3,3,3,3,3,3,3,3,3,3,3,4,4,{"$f":"+EV2","v":4},4,4,{"$f":"+EY2","v":4},4,4]
[null,null,null,null,null,null,null,null,null,null,null,null,null,null,null,null,null,null,null,null,null,null,null,null,null,null,null,null,null,null,null,null,null,null,null,null,null,null,null,null,null,null,null,null,null,null,null,null,null,null,null,null,null,null,null,null,null,null,null,null,null,null,null,null,null,null,null,null,null,null,null,null,null,null,null,null,null,null,null,null,null,null,null,null,null,"Cycle",{"$f":"+CI3","v":"2022-01-28"},"2022-01-29","2022-01-30","2022-01-31","2022-02-01","2022-02-02","2022-02-03","2022-02-04","2022-02-05","2022-02-06","2022-02-07","2022-02-08","2022-02-09","2022-02-10","2022-02-11","2022-02-12","2022-02-13","2022-02-14","2022-02-15","2022-02-16","2022-02-17","2022-02-18","2022-02-19","2022-02-20","2022-02-21","2022-02-22","2022-02-23","2022-02-24","2022-02-25","2022-02-26","2022-02-27","2022-02-28",{"$f":"+DO3","v":"2022-03-01"},"2022-03-02","2022-03-03","2022-03-04","2022-03-05","2022-03-06","2022-03-07","2022-03-08","2022-03-09","2022-03-10","2022-03-11","2022-03-12","2022-03-13","2022-03-14","2022-03-15","2022-03-16","2022-03-17","2022-03-18","2022-03-19","2022-03-20","2022-03-21","2022-03-22","2022-03-23","2022-03-24","2022-03-25","2022-03-26","2022-03-27","2022-03-28","2022-03-29","2022-03-30","2022-03-31","2022-04-01","2022-04-02",{"$f":"+EV3","v":"2022-04-03"},"2022-04-04","2022-04-05",{"$f":"+EY3","v":"2022-04-06"},"2022-04-07","2022-04-08"]
[null,null,null,null,null,null,"Actual","Budget","Variance","Var %",null,null,null,null,null,null,null,null,null,null,null,null,null,null,null,null,null,null,null,null,null,null,null,null,null,null,null,null,null,null,null,null,null,null,null,null,null,null,null,null,null,null,null,null,null,null,null,null,null,null,null,null,null,null,null,null,null,null,null,null,null,null,null,null,null,null,null,null,null,null,null,null,null,null,{"$f":"SUM(CI48:FA48)","v":0},1,{"$f":"IF(L4=1,CI$71,0)","v":0},{"$f":"IF(M4=1,CJ$71,0)","v":0},{"$f":"IF(N4=1,CK$71,0)","v":0},{"$f":"IF(O4=1,CL$71,0)","v":0},{"$f":"IF(P4=1,CM$71,0)","v":0},{"$f":"IF(Q4=1,CN$71,0)","v":0},{"$f":"IF(R4=1,CO$71,0)","v":0},{"$f":"IF(S4=1,CP$71,0)","v":0},{"$f":"IF(T4=1,CQ$71,0)","v":0},{"$f":"IF(U4=1,CR$71,0)","v":0},{"$f":"IF(V4=1,CS$71,0)","v":0},{"$f":"IF(W4=1,CT$71,0)","v":0},{"$f":"IF(X4=1,CU$71,0)","v":0},{"$f":"IF(Y4=1,CV$71,0)","v":0},{"$f":"IF(Z4=1,CW$71,0)","v":0},{"$f":"IF(AA4=1,CX$71,0)","v":0},{"$f":"IF(AB4=1,CY$71,0)","v":0},{"$f":"IF(AC4=1,CZ$71,0)","v":0},{"$f":"IF(AD4=1,DA$71,0)","v":0},{"$f":"IF(AE4=1,DB$71,0)","v":0},{"$f":"IF(AF4=1,DC$71,0)","v":0},{"$f":"IF(AG4=1,DD$71,0)","v":0},{"$f":"IF(AH4=1,DE$71,0)","v":0},{"$f":"IF(AI4=1,DF$71,0)","v":0},{"$f":"IF(AJ4=1,DG$71,0)","v":0},{"$f":"IF(AK4=1,DH$71,0)","v":0},{"$f":"IF(AL4=1,DI$71,0)","v":0},{"$f":"IF(AM4=1,DJ$71,0)","v":0},{"$f":"IF(AN4=1,DK$71,0)","v":0},{"$f":"IF(AO4=1,DL$71,0)","v":0},{"$f":"IF(AP4=1,DM$71,0)","v":0},{"$f":"IF(AQ4=1,DN$71,0)","v":0},{"$f":"IF(AR4=1,DO$71,0)","v":0},{"$f":"IF(AS4=1,DP$71,0)","v":0},{"$f":"IF(AT4=1,DQ$71,0)","v":0},{"$f":"IF(AU4=1,DR$71,0)","v":0},{"$f":"IF(AV4=1,DS$71,0)","v":0},{"$f":"IF(AW4=1,DT$71,0)","v":0},{"$f":"IF(AX4=1,DU$71,0)","v":0},{"$f":"IF(AY4=1,DV$71,0)","v":0},{"$f":"IF(AZ4=1,DW$71,0)","v":0},{"$f":"IF(BA4=1,DX$71,0)","v":0},{"$f":"IF(BB4=1,DY$71,0)","v":0},{"$f":"IF(BC4=1,DZ$71,0)","v":0},{"$f":"IF(BD4=1,EA$71,0)","v":0},{"$f":"IF(BE4=1,EB$71,0)","v":0},{"$f":"IF(BF4=1,EC$71,0)","v":0},{"$f":"IF(BG4=1,ED$71,0)","v":0},{"$f":"IF(BH4=1,EE$71,0)","v":0},{"$f":"IF(BI4=1,EF$71,0)","v":0},{"$f":"IF(BJ4=1,EG$71,0)","v":0},{"$f":"IF(BK4=1,EH$71,0)","v":0},{"$f":"IF(BL4=1,EI$71,0)","v":0},{"$f":"IF(BM4=1,EJ$71,0)","v":0},{"$f":"IF(BN4=1,EK$71,0)","v":0},{"$f":"IF(BO4=1,EL$71,0)","v":0},{"$f":"IF(BP4=1,EM$71,0)","v":0},{"$f":"IF(BQ4=1,EN$71,0)","v":0},{"$f":"IF(BR4=1,EO$71,0)","v":0},{"$f":"IF(BS4=1,EP$71,0)","v":0},{"$f":"IF(BT4=1,EQ$71,0)","v":0},{"$f":"IF(BU4=1,ER$71,0)","v":0},{"$f":"IF(BV4=1,ES$71,0)","v":0},{"$f":"IF(BW4=1,ET$71,0)","v":0},{"$f":"IF(BX4=1,EU$71,0)","v":0},{"$f":"IF(BY4=1,EV$71,0)","v":0},{"$f":"IF(BZ4=1,EW$71,0)","v":0},{"$f":"IF(CA4=1,EX$71,0)","v":0},{"$f":"IF(CB4=1,EY$71,0)","v":0},{"$f":"IF(CC4=1,EZ$71,0)","v":0},{"$f":"IF(CD4=1,FA$71,0)","v":0}]
[null,null,null,null,"Calendar","Total DD",{"$f":"G42+G43","v":298.5},{"$f":"H42+H43","v":202.65},{"$f":"G49-H49","v":95.85},{"$f":"G49/H49-1","v":0.47298297557364921},null,null,null,null,null,null,null,null,null,null,null,null,null,null,null,null,null,null,null,null,null,null,null,null,null,null,null,null,null,null,null,null,null,null,null,null,null,null,null,null,null,null,null,null,null,null,null,null,null,null,null,null,null,null,null,null,null,null,null,null,null,null,null,null,null,null,null,null,null,null,null,null,null,null,{"$f":"SUM(CI49:FA49)","v":0},2,0,0,0,0,0,0,0,0,0,0,0,0,0,0,0,0,0,0,0,0,0,0,0,0,0,0,0,0,0,0,0,0,0,0,0,0,0,0,0,0,0,0,0,0,0,0,0,0,0,0,0,0,0,0,0,0,0,0,0,0,0,0,0,0,0,0,0,0,0,0,0]
[null,null,null,null,"Billing","Total DD",{"$f":"G44+G45","v":253.40909090909088},{"$f":"H44+H45","v":176},{"$f":"G50-H50","v":77.409090909090878},{"$f":"G50/H50-1","v":0.43982438016528902},null,null,null,null,null,null,null,null,null,null,null,null,null,null,null,null,null,null,null,null,null,null,null,null,null,null,null,null,null,null,null,null,null,null,null,null,null,null,null,null,null,null,null,null,null,null,null,null,null,null,null,null,null,null,null,null,null,null,null,null,null,null,null,null,null,null,null,null,null,null,null,null,null,null,0,3,0,0,0,0,0,0,0,0,0,0,0,0,0,0,0,0,0,0,0,0,0,0,0,0,0,0,0,0,0,0,0,0,0,0,0,0,0,0,0,0,0,0,0,0,0,0,0,0,0,0,0,0,0,0,0,0,0,0,0,0,0,0,0,0,0,0,0,0,0,0,0]
[null,null,null,null,null,null,null,null,null,null,null,null,null,null,null,null,null,null,null,null,null,null,null,null,null,null,null,null,null,null,null,null,null,null,null,null,null,null,null,null,null,null,null,null,null,null,null,null,null,null,null,null,null,null,null,null,null,null,null,null,null,null,null,null,null,null,null,null,null,null,null,null,null,null,null,null,null,null,null,null,null,null,null,null,0,4,0,0,0,0,0,0,0,0,0,0,0,0,0,0,0,0,0,0,0,0,0,0,0,0,0,0,0,0,0,0,0,0,0,0,0,0,0,0,0,0,0,0,0,0,0,0,0,0,0,0,0,0,0,0,0,0,0,0,0,0,0,0,0,0,0,0,0,0,0,0,0]
[null,null,null,null,null,null,null,null,null,null,null,null,null,null,null,null,null,null,null,null,null,null,null,null,null,null,null,null,null,null,null,null,null,null,null,null,null,null,null,null,null,null,null,null,null,null,null,null,null,null,null,null,null,null,null,null,null,null,null,null,null,null,null,null,null,null,null,null,null,null,null,null,null,null,null,null,null,null,null,null,null,null,null,null,0,5,0,0,0,0,0,0,0,0,0,0,0,0,0,0,0,0,0,0,0,0,0,0,0,0,0,0,0,0,0,0,0,0,0,0,0,0,0,0,0,0,0,0,0,0,0,0,0,0,0,0,0,0,0,0,0,0,0,0,0,0,0,0,0,0,0,0,0,0,0,0,0]
[null,null,null,null,null,null,null,null,null,null,null,null,null,null,null,null,null,null,null,null,null,null,null,null,null,null,null,null,null,null,null,null,null,null,null,null,null,null,null,null,null,null,null,null,null,null,null,null,null,null,null,null,null,null,null,null,null,null,null,null,null,null,null,null,null,null,null,null,null,null,null,null,null,null,null,null,null,null,null,null,null,null,null,null,0,6,0,0,0,0,0,0,0,0,0,0,0,0,0,0,0,0,0,0,0,0,0,0,0,0,0,0,0,0,0,0,0,0,0,0,0,0,0,0,0,0,0,0,0,0,0,0,0,0,0,0,0,0,0,0,0,0,0,0,0,0,0,0,0,0,0,0,0,0,0,0,0]
[null,null,null,null,null,null,null,null,null,null,null,null,null,null,null,null,null,null,null,null,null,null,null,null,null,null,null,null,null,null,null,null,null,null,null,null,null,null,null,null,null,null,null,null,null,null,null,null,null,null,null,null,null,null,null,null,null,null,null,null,null,null,null,null,null,null,null,null,null,null,null,null,null,null,null,null,null,null,null,null,null,null,null,null,0,7,0,0,0,0,0,0,0,0,0,0,0,0,0,0,0,0,0,0,0,0,0,0,0,0,0,0,0,0,0,0,0,0,0,0,0,0,0,0,0,0,0,0,0,0,0,0,0,0,0,0,0,0,0,0,0,0,0,0,0,0,0,0,0,0,0,0,0,0,0,0,0]
[null,null,null,null,null,null,null,null,null,null,null,null,null,null,null,null,null,null,null,null,null,null,null,null,null,null,null,null,null,null,null,null,null,null,null,null,null,null,null,null,null,null,null,null,null,null,null,null,null,null,null,null,null,null,null,null,null,null,null,null,null,null,null,null,null,null,null,null,null,null,null,null,null,null,null,null,null,null,null,null,null,null,null,null,0,8,0,0,0,0,0,0,0,0,0,0,0,0,0,0,0,0,0,0,0,0,0,0,0,0,0,0,0,0,0,0,0,0,0,0,0,0,0,0,0,0,0,0,0,0,0,0,0,0,0,0,0,0,0,0,0,0,0,0,0,0,0,0,0,0,0,0,0,0,0,0,0]
[null,null,null,null,null,null,null,null,null,null,null,null,null,null,null,null,null,null,null,null,null,null,null,null,null,null,null,null,null,null,null,null,null,null,null,null,null,null,null,null,null,null,null,null,null,null,null,null,null,null,null,null,null,null,null,null,null,null,null,null,null,null,null,null,null,null,null,null,null,null,null,null,null,null,null,null,null,null,null,null,null,null,null,null,0,9,0,0,0,0,0,0,0,0,0,0,0,0,0,0,0,0,0,0,0,0,0,0,0,0,0,0,0,0,0,0,0,0,0,0,0,0,0,0,0,0,0,0,0,0,0,0,0,0,0,0,0,0,0,0,0,0,0,0,0,0,0,0,0,0,0,0,0,0,0,0,0]
[null,null,null,null,null,null,null,null,null,null,null,null,null,null,null,null,null,null,null,null,null,null,null,null,null,null,null,null,null,null,null,null,null,null,null,null,null,null,null,null,null,null,null,null,null,null,null,null,null,null,null,null,null,null,null,null,null,null,null,null,null,null,null,null,null,null,null,null,null,null,null,null,null,null,null,null,null,null,null,null,null,null,null,null,0,10,0,0,0,0,0,0,0,0,0,0,0,0,0,0,0,0,0,0,0,0,0,0,0,0,0,0,0,0,0,0,0,0,0,0,0,0,0,0,0,0,0,0,0,0,0,0,0,0,0,0,0,0,0,0,0,0,0,0,0,0,0,0,0,0,0,0,0,0,0,0,0]
[null,null,null,null,null,null,null,null,null,null,null,null,null,null,null,null,null,null,null,null,null,null,null,null,null,null,null,null,null,null,null,null,null,null,null,null,null,null,null,null,null,null,null,null,null,null,null,null,null,null,null,null,null,null,null,null,null,null,null,null,null,null,null,null,null,null,null,null,null,null,null,null,null,null,null,null,null,null,null,null,null,null,null,null,0,11,0,0,0,0,0,0,0,0,0,0,0,0,0,0,0,0,0,0,0,0,0,0,0,0,0,0,0,0,0,0,0,0,0,0,0,0,0,0,0,0,0,0,0,0,0,0,0,0,0,0,0,0,0,0,0,0,0,0,0,0,0,0,0,0,0,0,0,0,0,0,0]
[null,null,null,null,null,null,null,null,null,null,null,null,null,null,null,null,null,null,null,null,null,null,null,null,{"$f":"TEXT(DATE(A1,A2,1),\"mmm yyyy\")&\" - Billing Cycle Rainfall\"","v":"Mar 2022 - Billing Cycle Rainfall"},null,null,null,null,null,null,null,null,null,null,null,null,null,null,null,null,null,null,null,null,null,null,null,null,null,null,null,null,null,null,null,null,null,null,null,null,null,null,null,null,null,null,null,null,null,null,null,null,null,null,null,null,null,null,null,null,null,null,null,0,12,0,0,0,0,0,0,0,0,0,0,0,0,0,0,0,0,0,0,0,0,0,0,0,0,0,0,0,0,0,0,0,0,0,0,0,0,0,0,0,0,0,0,0,0,0,0,0,0,0,0,0,0,0,0,0,0,0,0,0,0,0,0,0,0,0,0,0,0,0,0,0]
[null,null,null,null,null,null,null,null,null,null,null,null,null,null,null,null,null,null,null,null,null,null,null,null,null,null,null,null,null,null,null,null,null,null,null,null,null,null,null,null,null,null,null,null,null,null,null,null,null,null,null,null,null,null,null,null,null,null,null,null,null,null,null,null,null,null,null,null,null,null,null,null,null,null,null,null,null,null,null,null,null,null,null,null,0,13,0,0,0,0,0,0,0,0,0,0,0,0,0,0,0,0,0,0,0,0,0,0,0,0,0,0,0,0,0,0,0,0,0,0,0,0,0,0,0,0,0,0,0,0,0,0,0,0,0,0,0,0,0,0,0,0,0,0,0,0,0,0,0,0,0,0,0,0,0,0,0]
[null,null,null,null,null,null,null,null,null,null,null,null,null,null,null,null,null,null,null,null,null,null,null,null,null,null,null,null,null,null,null,null,null,null,null,null,null,null,null,null,null,null,null,null,null,null,null,null,null,null,null,null,null,null,null,null,null,null,null,null,null,null,null,null,null,null,null,null,null,null,null,null,null,null,null,null,null,null,null,null,null,null,null,null,0,14,0,0,0,0,0,0,0,0,0,0,0,0,0,0,0,0,0,0,0,0,0,0,0,0,0,0,0,0,0,0,0,0,0,0,0,0,0,0,0,0,0,0,0,0,0,0,0,0,0,0,0,0,0,0,0,0,0,0,0,0,0,0,0,0,0,0,0,0,0,0,0]
[null,null,null,null,null,null,null,null,null,null,null,null,null,null,null,null,null,null,null,null,null,null,null,null,null,null,null,null,null,null,null,null,null,null,null,null,null,null,null,null,null,null,null,null,null,null,null,null,null,null,null,null,null,null,null,null,null,null,null,null,null,null,null,null,null,null,null,null,null,null,null,null,null,null,null,null,null,null,null,null,null,null,null,null,0,15,0,0,0,0,0,0,0,0,0,0,0,0,0,0,0,0,0,0,0,0,0,0,0,0,0,0,0,0,0,0,0,0,0,0,0,0,0,0,0,0,0,0,0,0,0,0,0,0,0,0,0,0,0,0,0,0,0,0,0,0,0,0,0,0,0,0,0,0,0,0,0]
[null,null,null,null,null,null,null,null,null,null,null,null,null,null,null,null,null,null,null,null,null,null,null,null,null,null,null,null,null,null,null,null,null,null,null,null,null,null,null,null,null,null,null,null,null,null,null,null,null,null,null,null,null,null,null,null,null,null,null,null,null,null,null,null,null,null,null,null,null,null,null,null,null,null,null,null,null,null,null,null,null,null,null,null,0,16,0,0,0,0,0,0,0,0,0,0,0,0,0,0,0,0,0,0,0,0,0,0,0,0,0,0,0,0,0,0,0,0,0,0,0,0,0,0,0,0,0,0,0,0,0,0,0,0,0,0,0,0,0,0,0,0,0,0,0,0,0,0,0,0,0,0,0,0,0,0,0]
[null,null,null,null,null,null,null,null,null,null,null,null,null,null,null,null,null,null,null,null,null,null,null,null,null,null,null,null,null,null,null,null,null,null,null,null,null,null,null,null,null,null,null,null,null,null,null,null,null,null,null,null,null,null,null,null,null,null,null,null,null,null,null,null,null,null,null,null,null,null,null,null,null,null,null,null,null,null,null,null,null,null,null,null,0,17,0,0,0,0,0,0,0,0,0,0,0,0,0,0,0,0,0,0,0,0,0,0,0,0,0,0,0,0,0,0,0,0,0,0,0,0,0,0,0,0,0,0,0,0,0,0,0,0,0,0,0,0,0,0,0,0,0,0,0,0,0,0,0,0,0,0,0,0,0,0,0]
[null,null,null,null,null,null,null,null,null,null,null,null,null,null,null,null,null,null,null,null,null,null,null,null,null,null,null,null,null,null,null,null,null,null,null,null,null,null,null,null,null,null,null,null,null,null,null,null,null,null,null,null,null,null,null,null,null,null,null,null,null,null,null,null,null,null,null,null,null,null,null,null,null,null,null,null,null,null,null,null,null,null,null,null,0,18,0,0,0,0,0,0,0,0,0,0,0,0,0,0,0,0,0,0,0,0,0,0,0,0,0,0,0,0,0,0,0,0,0,0,0,0,0,0,0,0,0,0,0,0,0,0,0,0,0,0,0,0,0,0,0,0,0,0,0,0,0,0,0,0,0,0,0,0,0,0,0]
[null,null,null,null,null,null,null,null,null,null,null,null,null,null,null,null,null,null,null,null,null,null,null,null,null,null,null,null,null,null,null,null,null,null,null,null,null,null,null,null,null,null,null,null,null,null,null,null,null,null,null,null,null,null,null,null,null,null,null,null,null,null,null,null,null,null,null,null,null,null,null,null,null,null,null,null,null,null,null,null,null,null,null,null,0,19,0,0,0,0,0,0,0,0,0,0,0,0,0,0,0,0,0,0,0,0,0,0,0,0,0,0,0,0,0,0,0,0,0,0,0,0,0,0,0,0,0,0,0,0,0,0,0,0,0,0,0,0,0,0,0,0,0,0,0,0,0,0,0,0,0,0,0,0,0,0,0]
[null,null,null,null,null,null,null,null,null,null,null,null,null,null,null,null,null,null,null,null,null,null,null,null,null,null,null,null,null,null,null,null,null,null,null,null,null,null,null,null,null,null,null,null,null,null,null,null,null,null,null,null,null,null,null,null,null,null,null,null,null,null,null,null,null,null,null,null,null,null,null,null,null,null,null,null,null,null,null,null,null,null,null,null,0,20,0,0,0,0,0,0,0,0,0,0,0,0,0,0,0,0,0,0,0,0,0,0,0,0,0,0,0,0,0,0,0,0,0,0,0,0,0,0,0,0,0,0,0,0,0,0,0,0,0,0,0,0,0,0,0,0,0,0,0,0,0,0,0,0,0,0,0,0,0,0,0]
[null,null,null,null,null,null,null,null,null,null,null,null,null,null,null,null,null,null,null,null,null,null,null,null,null,null,null,null,null,null,null,null,null,null,null,null,null,null,null,null,null,null,null,null,null,null,null,null,null,null,null,null,null,null,null,null,null,null,null,null,null,null,null,null,null,null,null,null,null,null,null,null,null,null,null,null,null,null,null,null,null,null,null,null,0,21,0,0,0,0,0,0,0,0,0,0,0,0,0,0,0,0,0,0,0,0,0,0,0,0,0,0,0,0,0,0,0,0,0,0,0,0,0,0,0,0,0,0,0,0,0,0,0,0,0,0,0,0,0,0,0,0,0,0,0,0,0,0,0,0,0,0,0,0,0,0,0]
[null,null,null,null,null,null,null,null,null,null,null,null,null,null,null,null,null,null,null,null,null,null,null,null,null,null,null,null,null,null,null,null,null,null,null,null,null,null,null,null,null,null,null,null,null,null,null,null,null,null,null,null,null,null,null,null,null,null,null,null,null,null,null,null,null,null,null,null,null,null,null,null,null,null,null,null,null,null,null,null,null,null,null,null,0,23,{"$f":"IF(L25=1,CI$71,0)","v":0},0,0,0,0,0,0,0,0,0,0,0,0,0,0,0,0,0,0,0,0,0,0,0,0,0,0,0,{"$f":"IF(AN25=1,DK$71,0)","v":0},0,0,0,0,0,0,0,0,0,0,0,0,0,0,0,0,0,0,0,0,0,0,0,0,0,0,0,0,0,0,0,0,0,0,0,0,0,0,0,0,0,0]
[null,null,null,null,null,null,null,null,null,null,null,null,null,null,null,null,null,null,null,null,null,null,null,null,null,null,null,null,null,null,null,null,null,null,null,null,null,null,null,null,null,null,null,null,null,null,null,null,null,null,null,null,null,null,null,null,null,null,null,null,null,null,null,null,null,null,null,null,null,null,null,null,null,null,null,null,null,null,null,null,null,null,null,null,null,{"$f":"SUM(CI70:EX70)","v":0},{"$f":"SUM(CI48:CI69)","v":0},{"$f":"SUM(CJ48:CJ69)","v":0},0,0,0,0,0,0,0,0,0,0,0,0,0,0,0,0,0,0,0,0,0,0,0,0,0,0,0,0,0,0,0,0,0,0,0,0,0,0,0,0,0,0,0,0,0,0,0,0,0,0,0,0,0,0,0,0,0,0,0,0,0,0,0,{"$f":"SUM(EV48:EV69)","v":0},0,0,0,0,0]
[null,null,null,null,null,null,null,null,null,null,null,null,null,null,null,null,null,null,null,null,null,null,null,null,null,null,null,null,null,null,null,null,null,null,null,null,null,null,null,null,null,null,null,null,null,null,null,null,null,null,null,null,null,null,null,null,null,null,null,null,null,null,null,null,null,null,null,null,null,null,null,null,null,null,null,null,null,null,null,null,null,null,null,null,null,{"$f":"SUM(CI71:EU71)","v":0},{"$f":"VLOOKUP(CI47,Daily!$A$2:$H$459,8)","v":0},{"$f":"VLOOKUP(CJ47,Daily!$A$2:$H$459,8)","v":0},{"$f":"VLOOKUP(CK47,Daily!$A$2:$H$459,8)","v":0},{"$f":"VLOOKUP(CL47,Daily!$A$2:$H$459,8)","v":0},{"$f":"VLOOKUP(CM47,Daily!$A$2:$H$459,8)","v":0},{"$f":"VLOOKUP(CN47,Daily!$A$2:$H$459,8)","v":0},{"$f":"VLOOKUP(CO47,Daily!$A$2:$H$459,8)","v":0},{"$f":"VLOOKUP(CP47,Daily!$A$2:$H$459,8)","v":0},{"$f":"VLOOKUP(CQ47,Daily!$A$2:$H$459,8)","v":0},{"$f":"VLOOKUP(CR47,Daily!$A$2:$H$459,8)","v":0},{"$f":"VLOOKUP(CS47,Daily!$A$2:$H$459,8)","v":0},{"$f":"VLOOKUP(CT47,Daily!$A$2:$H$459,8)","v":0},{"$f":"VLOOKUP(CU47,Daily!$A$2:$H$459,8)","v":0},{"$f":"VLOOKUP(CV47,Daily!$A$2:$H$459,8)","v":0},{"$f":"VLOOKUP(CW47,Daily!$A$2:$H$459,8)","v":0},{"$f":"VLOOKUP(CX47,Daily!$A$2:$H$459,8)","v":0},{"$f":"VLOOKUP(CY47,Daily!$A$2:$H$459,8)","v":0},{"$f":"VLOOKUP(CZ47,Daily!$A$2:$H$459,8)","v":0},{"$f":"VLOOKUP(DA47,Daily!$A$2:$H$459,8)","v":0},{"$f":"VLOOKUP(DB47,Daily!$A$2:$H$459,8)","v":0},{"$f":"VLOOKUP(DC47,Daily!$A$2:$H$459,8)","v":0},{"$f":"VLOOKUP(DD47,Daily!$A$2:$H$459,8)","v":0},{"$f":"VLOOKUP(DE47,Daily!$A$2:$H$459,8)","v":0},{"$f":"VLOOKUP(DF47,Daily!$A$2:$H$459,8)","v":0},{"$f":"VLOOKUP(DG47,Daily!$A$2:$H$459,8)","v":0},{"$f":"VLOOKUP(DH47,Daily!$A$2:$H$459,8)","v":0},{"$f":"VLOOKUP(DI47,Daily!$A$2:$H$459,8)","v":0},{"$f":"VLOOKUP(DJ47,Daily!$A$2:$H$459,8)","v":0},{"$f":"VLOOKUP(DK47,Daily!$A$2:$H$459,8)","v":0},{"$f":"VLOOKUP(DL47,Daily!$A$2:$H$459,8)","v":0},{"$f":"VLOOKUP(DM47,Daily!$A$2:$H$459,8)","v":0},{"$f":"VLOOKUP(DN47,Daily!$A$2:$H$459,8)","v":0},{"$f":"VLOOKUP(DO47,Daily!$A$2:$H$459,8)","v":0},{"$f":"VLOOKUP(DP47,Daily!$A$2:$H$459,8)","v":0},{"$f":"VLOOKUP(DQ47,Daily!$A$2:$H$459,8)","v":0},{"$f":"VLOOKUP(DR47,Daily!$A$2:$H$459,8)","v":0},{"$f":"VLOOKUP(DS47,Daily!$A$2:$H$459,8)","v":0},{"$f":"VLOOKUP(DT47,Daily!$A$2:$H$459,8)","v":0},{"$f":"VLOOKUP(DU47,Daily!$A$2:$H$459,8)","v":0},{"$f":"VLOOKUP(DV47,Daily!$A$2:$H$459,8)","v":0},{"$f":"VLOOKUP(DW47,Daily!$A$2:$H$459,8)","v":0},{"$f":"VLOOKUP(DX47,Daily!$A$2:$H$459,8)","v":0},{"$f":"VLOOKUP(DY47,Daily!$A$2:$H$459,8)","v":0},{"$f":"VLOOKUP(DZ47,Daily!$A$2:$H$459,8)","v":0},{"$f":"VLOOKUP(EA47,Daily!$A$2:$H$459,8)","v":0},{"$f":"VLOOKUP(EB47,Daily!$A$2:$H$459,8)","v":0},{"$f":"VLOOKUP(EC47,Daily!$A$2:$H$459,8)","v":0},{"$f":"VLOOKUP(ED47,Daily!$A$2:$H$459,8)","v":0},{"$f":"VLOOKUP(EE47,Daily!$A$2:$H$459,8)","v":0},{"$f":"VLOOKUP(EF47,Daily!$A$2:$H$459,8)","v":0},{"$f":"VLOOKUP(EG47,Daily!$A$2:$H$459,8)","v":0},{"$f":"VLOOKUP(EH47,Daily!$A$2:$H$459,8)","v":0},{"$f":"VLOOKUP(EI47,Daily!$A$2:$H$459,8)","v":0},{"$f":"VLOOKUP(EJ47,Daily!$A$2:$H$459,8)","v":0},{"$f":"VLOOKUP(EK47,Daily!$A$2:$H$459,8)","v":0},{"$f":"VLOOKUP(EL47,Daily!$A$2:$H$459,8)","v":0},{"$f":"VLOOKUP(EM47,Daily!$A$2:$H$459,8)","v":0},{"$f":"VLOOKUP(EN47,Daily!$A$2:$H$459,8)","v":0},{"$f":"VLOOKUP(EO47,Daily!$A$2:$H$459,8)","v":0},{"$f":"VLOOKUP(EP47,Daily!$A$2:$H$459,8)","v":0},{"$f":"VLOOKUP(EQ47,Daily!$A$2:$H$459,8)","v":0},{"$f":"VLOOKUP(ER47,Daily!$A$2:$H$459,8)","v":0},{"$f":"VLOOKUP(ES47,Daily!$A$2:$H$459,8)","v":0},{"$f":"VLOOKUP(ET47,Daily!$A$2:$H$459,8)","v":0},{"$f":"VLOOKUP(EU47,Daily!$A$2:$H$459,8)","v":0},{"$f":"VLOOKUP(EV47,Daily!$A$2:$H$459,8)","v":0},{"$f":"VLOOKUP(EW47,Daily!$A$2:$H$459,8)","v":0},{"$f":"VLOOKUP(EX47,Daily!$A$2:$H$459,8)","v":0},{"$f":"VLOOKUP(EY47,Daily!$A$2:$H$459,8)","v":0},{"$f":"VLOOKUP(EZ47,Daily!$A$2:$H$459,8)","v":0},{"$f":"VLOOKUP(FA47,Daily!$A$2:$H$459,8)","v":0}]
[null,null,null,null,null,null,null,null,null,null,null,null,null,null,null,null,null,null,null,null,null,null,null,null,null,null,null,null,null,null,null,null,null,null,null,null,null,null,null,null,null,null,null,null,null,null,null,null,null,null,null,null,null,null,null,null,null,null,null,null,null,null,null,null,null,null,null,null,null,null,null,null,null,null,null,null,null,null,null,null,null,null,null,null,null,null,{"$f":"+CI71/$CH71","v":{"$error":"#DIV/0!"}},{"$error":"#DIV/0!"},{"$error":"#DIV/0!"},{"$error":"#DIV/0!"},{"$error":"#DIV/0!"},{"$error":"#DIV/0!"},{"$error":"#DIV/0!"},{"$error":"#DIV/0!"},{"$error":"#DIV/0!"},{"$error":"#DIV/0!"},{"$error":"#DIV/0!"},{"$error":"#DIV/0!"},{"$error":"#DIV/0!"},{"$error":"#DIV/0!"},{"$error":"#DIV/0!"},{"$error":"#DIV/0!"},{"$error":"#DIV/0!"},{"$error":"#DIV/0!"},{"$error":"#DIV/0!"},{"$error":"#DIV/0!"},{"$error":"#DIV/0!"},{"$error":"#DIV/0!"},{"$error":"#DIV/0!"},{"$error":"#DIV/0!"},{"$error":"#DIV/0!"},{"$error":"#DIV/0!"},{"$error":"#DIV/0!"},{"$error":"#DIV/0!"},{"$error":"#DIV/0!"},{"$error":"#DIV/0!"},{"$error":"#DIV/0!"},{"$error":"#DIV/0!"},{"$f":"+DO71/$CH71","v":{"$error":"#DIV/0!"}},{"$error":"#DIV/0!"},{"$error":"#DIV/0!"},{"$error":"#DIV/0!"},{"$error":"#DIV/0!"},{"$error":"#DIV/0!"},{"$error":"#DIV/0!"},{"$error":"#DIV/0!"},{"$error":"#DIV/0!"},{"$error":"#DIV/0!"},{"$error":"#DIV/0!"},{"$error":"#DIV/0!"},{"$error":"#DIV/0!"},{"$error":"#DIV/0!"},{"$error":"#DIV/0!"},{"$error":"#DIV/0!"},{"$error":"#DIV/0!"},{"$error":"#DIV/0!"},{"$error":"#DIV/0!"},{"$error":"#DIV/0!"},{"$error":"#DIV/0!"},{"$error":"#DIV/0!"},{"$error":"#DIV/0!"},{"$error":"#DIV/0!"},{"$error":"#DIV/0!"},{"$error":"#DIV/0!"},{"$error":"#DIV/0!"},{"$error":"#DIV/0!"},{"$error":"#DIV/0!"},{"$error":"#DIV/0!"},{"$error":"#DIV/0!"},{"$error":"#DIV/0!"},{"$f":"+EU71/$CH71","v":{"$error":"#DIV/0!"}},{"$error":"#DIV/0!"},{"$error":"#DIV/0!"},{"$error":"#DIV/0!"},{"$f":"+EY71/$CH71","v":{"$error":"#DIV/0!"}},{"$error":"#DIV/0!"},{"$error":"#DIV/0!"}]

{"sheet":"APR","index":4,"n_rows":72,"n_cols":157,"rows_kept":72,"cut":false,"hidden":false,"merged":[[1,1,1,6],[3,9,23,9]]}
[{"$f":"+JAN!A1","v":2022},null,null,null,null,null,null,null,null,null,null,null,null,null,null,null,null,null,null,null,null,null,null,null,null,null,null,null,null,null,null,null,null,null,null,null,null,null,null,null,null,null,null,null,null,null,null,null,null,null,null,null,null,null,null,null,null,null,null,null,null,null,null,null,null,null,null,null,null,null,null,null,null,null,null,null,null,null,null,null,null,null,null,null,null,null,{"$f":"YEAR(CI3)","v":2022},{"$f":"YEAR(CJ3)","v":2022},2022,2022,2022,2022,2022,2022,2022,2022,2022,2022,2022,2022,2022,2022,2022,2022,2022,2022,2022,2022,2022,2022,2022,2022,2022,2022,2022,2022,2022,2022,2022,2022,2022,2022,2022,2022,2022,2022,2022,2022,2022,2022,2022,2022,2022,2022,2022,2022,2022,2022,2022,2022,2022,2022,2022,2022,2022,2022,2022,2022,2022,2022,{"$f":"YEAR(EU3)","v":2022},{"$f":"YEAR(EV3)","v":2022},2022,2022,{"$f":"YEAR(EY3)","v":2022},2022,2022]
[4,"Published Billing Schedule",null,null,null,null,null,null,null,null,null,null,null,null,null,null,null,null,null,null,null,null,null,null,null,null,null,null,null,null,null,null,null,null,null,null,null,null,null,null,null,null,null,null,null,null,null,null,null,null,null,null,null,null,null,null,null,null,null,null,null,null,null,null,null,null,null,null,null,null,null,null,null,null,null,null,null,null,null,null,null,null,null,null,null,null,{"$f":"MONTH(CI3)","v":2},{"$f":"MONTH(CJ3)","v":2},2,3,3,3,3,3,3,3,3,3,3,3,3,3,3,3,3,3,3,3,3,3,3,3,3,3,3,3,3,3,3,3,4,4,4,4,4,4,4,4,4,4,4,4,4,4,4,4,4,4,4,4,4,4,4,4,4,4,4,4,4,4,5,5,{"$f":"MONTH(EW3)","v":5},5,5,5,5]
["Lookup","Year","Month","Cycle","StartBilling","EndBilling","No.Days",null,null,null,"Date",{"$f":"+E4","v":"2022-02-26"},{"$f":"+L3+1","v":"2022-02-27"},{"$f":"+M3+1","v":"2022-02-28"},"2022-03-01","2022-03-02","2022-03-03","2022-03-04","2022-03-05","2022-03-06","2022-03-07","2022-03-08","2022-03-09","2022-03-10","2022-03-11","2022-03-12","2022-03-13","2022-03-14","2022-03-15","2022-03-16","2022-03-17","2022-03-18","2022-03-19","2022-03-20","2022-03-21","2022-03-22","2022-03-23","2022-03-24","2022-03-25","2022-03-26","2022-03-27","2022-03-28","2022-03-29","2022-03-30","2022-03-31","2022-04-01","2022-04-02","2022-04-03","2022-04-04","2022-04-05","2022-04-06","2022-04-07","2022-04-08","2022-04-09","2022-04-10","2022-04-11","2022-04-12","2022-04-13","2022-04-14","2022-04-15","2022-04-16","2022-04-17","2022-04-18","2022-04-19","2022-04-20","2022-04-21","2022-04-22","2022-04-23","2022-04-24","2022-04-25","2022-04-26","2022-04-27","2022-04-28","2022-04-29",{"$f":"+BV3+1","v":"2022-04-30"},{"$f":"+BW3+1","v":"2022-05-01"},{"$f":"+BX3+1","v":"2022-05-02"},"2022-05-03","2022-05-04",{"$f":"+CA3+1","v":"2022-05-05"},{"$f":"+CB3+1","v":"2022-05-06"},{"$f":"+CC3+1","v":"2022-05-07"},null,null,null,"Cycle",{"$f":"+L3","v":"2022-02-26"},"2022-02-27","2022-02-28","2022-03-01","2022-03-02","2022-03-03","2022-03-04","2022-03-05","2022-03-06","2022-03-07","2022-03-08","2022-03-09","2022-03-10","2022-03-11","2022-03-12","2022-03-13","2022-03-14","2022-03-15","2022-03-16","2022-03-17","2022-03-18","2022-03-19","2022-03-20","2022-03-21","2022-03-22","2022-03-23","2022-03-24","2022-03-25","2022-03-26","2022-03-27","2022-03-28","2022-03-29",{"$f":"+AR3","v":"2022-03-30"},"2022-03-31","2022-04-01","2022-04-02","2022-04-03","2022-04-04","2022-04-05","2022-04-06","2022-04-07","2022-04-08","2022-04-09","2022-04-10","2022-04-11","2022-04-12","2022-04-13","2022-04-14","2022-04-15","2022-04-16","2022-04-17","2022-04-18","2022-04-19","2022-04-20","2022-04-21","2022-04-22","2022-04-23","2022-04-24","2022-04-25","2022-04-26","2022-04-27","2022-04-28","2022-04-29","2022-04-30",{"$f":"+BX3","v":"2022-05-01"},{"$f":"+BY3","v":"2022-05-02"},{"$f":"+BZ3","v":"2022-05-03"},{"$f":"+CA3","v":"2022-05-04"},{"$f":"+CB3","v":"2022-05-05"},"2022-05-06","2022-05-07"]
[{"$f":"+$A$1*10000+A2*100+1","v":20220401},{"$f":"+A1","v":2022},{"$f":"+A2","v":4},1,{"$f":"+MAR!F4+1","v":"2022-02-26"},"2022-03-28",{"$f":"+F4-E4+1","v":31},{"$f":"+E4-MAR!F4","v":1},null,"Billing Cycles",1,{"$f":"IF(AND(L$3>=$E4,L$3<=$F4),1,0)","v":1},{"$f":"IF(AND(M$3>=$E4,M$3<=$F4),1,0)","v":1},1,1,1,1,1,1,1,1,1,1,1,1,1,1,1,1,1,1,1,1,1,1,1,1,1,1,1,1,1,0,0,0,0,0,0,0,0,0,0,0,0,0,0,0,0,0,0,0,0,0,0,0,0,0,0,0,0,0,0,0,0,0,0,{"$f":"IF(AND(BY$3>=$E4,BY$3<=$F4),1,0)","v":0},0,0,0,0,0,null,{"$f":"SUM(CI4:FA4)-CG4/1000","v":{"$error":"#DIV/0!"}},35012535,1,{"$f":"((CI48/$CG48))*($CG4/1000)","v":{"$error":"#DIV/0!"}},{"$f":"((CJ48/$CG48))*($CG4/1000)","v":{"$error":"#DIV/0!"}},{"$error":"#DIV/0!"},{"$error":"#DIV/0!"},{"$error":"#DIV/0!"},{"$error":"#DIV/0!"},{"$error":"#DIV/0!"},{"$error":"#DIV/0!"},{"$error":"#DIV/0!"},{"$error":"#DIV/0!"},{"$error":"#DIV/0!"},{"$error":"#DIV/0!"},{"$error":"#DIV/0!"},{"$error":"#DIV/0!"},{"$error":"#DIV/0!"},{"$error":"#DIV/0!"},{"$error":"#DIV/0!"},{"$error":"#DIV/0!"},{"$error":"#DIV/0!"},{"$error":"#DIV/0!"},{"$error":"#DIV/0!"},{"$error":"#DIV/0!"},{"$error":"#DIV/0!"},{"$error":"#DIV/0!"},{"$error":"#DIV/0!"},{"$error":"#DIV/0!"},{"$error":"#DIV/0!"},{"$error":"#DIV/0!"},{"$error":"#DIV/0!"},{"$f":"((DL48/$CG48))*($CG4/1000)","v":{"$error":"#DIV/0!"}},{"$error":"#DIV/0!"},{"$error":"#DIV/0!"},{"$f":"((DO48/$CG48))*($CG4/1000)","v":{"$error":"#DIV/0!"}},{"$error":"#DIV/0!"},{"$error":"#DIV/0!"},{"$error":"#DIV/0!"},{"$error":"#DIV/0!"},{"$error":"#DIV/0!"},{"$error":"#DIV/0!"},{"$error":"#DIV/0!"},{"$error":"#DIV/0!"},{"$error":"#DIV/0!"},{"$error":"#DIV/0!"},{"$error":"#DIV/0!"},{"$error":"#DIV/0!"},{"$error":"#DIV/0!"},{"$error":"#DIV/0!"},{"$error":"#DIV/0!"},{"$error":"#DIV/0!"},{"$error":"#DIV/0!"},{"$error":"#DIV/0!"},{"$error":"#DIV/0!"},{"$error":"#DIV/0!"},{"$error":"#DIV/0!"},{"$error":"#DIV/0!"},{"$error":"#DIV/0!"},{"$error":"#DIV/0!"},{"$error":"#DIV/0!"},{"$error":"#DIV/0!"},{"$error":"#DIV/0!"},{"$error":"#DIV/0!"},{"$error":"#DIV/0!"},{"$error":"#DIV/0!"},{"$error":"#DIV/0!"},{"$error":"#DIV/0!"},{"$f":"((EV48/$CG48))*($CG4/1000)","v":{"$error":"#DIV/0!"}},{"$error":"#DIV/0!"},{"$error":"#DIV/0!"},{"$f":"((EY48/$CG48))*($CG4/1000)","v":{"$error":"#DIV/0!"}},{"$error":"#DIV/0!"},{"$error":"#DIV/0!"}]
[{"$f":"+A4+1","v":20220402},{"$f":"+B4","v":2022},{"$f":"+C4","v":4},{"$f":"+D4+1","v":2},{"$f":"+MAR!F5+1","v":"2022-03-01"},"2022-03-29",{"$f":"+F5-E5+1","v":29},{"$f":"+E5-MAR!F5","v":1},null,null,2,{"$f":"IF(AND(L$3>=$E5,L$3<=$F5),1,0)","v":0},0,0,1,1,1,1,1,1,1,1,1,1,1,1,1,1,1,1,1,1,1,1,1,1,1,1,1,1,1,1,1,0,0,0,0,0,0,0,0,0,0,0,0,0,0,0,0,0,0,0,0,0,0,0,0,0,0,0,0,0,0,0,0,0,0,0,0,0,0,0,null,{"$error":"#DIV/0!"},75486230,2,{"$f":"((CI49/$CG49))*($CG5/1000)","v":{"$error":"#DIV/0!"}},{"$error":"#DIV/0!"},{"$error":"#DIV/0!"},{"$error":"#DIV/0!"},{"$error":"#DIV/0!"},{"$error":"#DIV/0!"},{"$error":"#DIV/0!"},{"$error":"#DIV/0!"},{"$error":"#DIV/0!"},{"$error":"#DIV/0!"},{"$error":"#DIV/0!"},{"$error":"#DIV/0!"},{"$error":"#DIV/0!"},{"$error":"#DIV/0!"},{"$error":"#DIV/0!"},{"$error":"#DIV/0!"},{"$error":"#DIV/0!"},{"$error":"#DIV/0!"},{"$error":"#DIV/0!"},{"$error":"#DIV/0!"},{"$error":"#DIV/0!"},{"$error":"#DIV/0!"},{"$error":"#DIV/0!"},{"$error":"#DIV/0!"},{"$error":"#DIV/0!"},{"$error":"#DIV/0!"},{"$error":"#DIV/0!"},{"$error":"#DIV/0!"},{"$error":"#DIV/0!"},{"$error":"#DIV/0!"},{"$error":"#DIV/0!"},{"$error":"#DIV/0!"},{"$f":"((DO49/$CG49))*($CG5/1000)","v":{"$error":"#DIV/0!"}},{"$error":"#DIV/0!"},{"$error":"#DIV/0!"},{"$error":"#DIV/0!"},{"$error":"#DIV/0!"},{"$error":"#DIV/0!"},{"$error":"#DIV/0!"},{"$error":"#DIV/0!"},{"$error":"#DIV/0!"},{"$error":"#DIV/0!"},{"$error":"#DIV/0!"},{"$error":"#DIV/0!"},{"$error":"#DIV/0!"},{"$error":"#DIV/0!"},{"$error":"#DIV/0!"},{"$error":"#DIV/0!"},{"$error":"#DIV/0!"},{"$error":"#DIV/0!"},{"$error":"#DIV/0!"},{"$error":"#DIV/0!"},{"$error":"#DIV/0!"},{"$error":"#DIV/0!"},{"$error":"#DIV/0!"},{"$error":"#DIV/0!"},{"$error":"#DIV/0!"},{"$error":"#DIV/0!"},{"$error":"#DIV/0!"},{"$error":"#DIV/0!"},{"$error":"#DIV/0!"},{"$error":"#DIV/0!"},{"$error":"#DIV/0!"},{"$error":"#DIV/0!"},{"$error":"#DIV/0!"},{"$f":"((EV49/$CG49))*($CG5/1000)","v":{"$error":"#DIV/0!"}},{"$error":"#DIV/0!"},{"$error":"#DIV/0!"},{"$f":"((EY49/$CG49))*($CG5/1000)","v":{"$error":"#DIV/0!"}},{"$error":"#DIV/0!"},{"$error":"#DIV/0!"}]
[{"$f":"+A5+1","v":20220403},{"$f":"+B5","v":2022},4,{"$f":"+D5+1","v":3},{"$f":"+MAR!F6+1","v":"2022-03-02"},"2022-03-30",29,{"$f":"+E6-MAR!F6","v":1},null,null,3,0,0,0,0,1,1,1,1,1,1,1,1,1,1,1,1,1,1,1,1,1,1,1,1,1,1,1,1,1,1,1,1,1,0,0,0,0,0,0,0,0,0,0,0,0,0,0,0,0,0,0,0,0,0,0,0,0,0,0,0,0,0,0,0,0,0,0,0,0,0,0,null,{"$error":"#DIV/0!"},45206443,3,{"$f":"((CI50/$CG50))*($CG6/1000)","v":{"$error":"#DIV/0!"}},{"$error":"#DIV/0!"},{"$error":"#DIV/0!"},{"$error":"#DIV/0!"},{"$error":"#DIV/0!"},{"$error":"#DIV/0!"},{"$error":"#DIV/0!"},{"$error":"#DIV/0!"},{"$error":"#DIV/0!"},{"$error":"#DIV/0!"},{"$error":"#DIV/0!"},{"$error":"#DIV/0!"},{"$error":"#DIV/0!"},{"$error":"#DIV/0!"},{"$error":"#DIV/0!"},{"$error":"#DIV/0!"},{"$error":"#DIV/0!"},{"$error":"#DIV/0!"},{"$error":"#DIV/0!"},{"$error":"#DIV/0!"},{"$error":"#DIV/0!"},{"$error":"#DIV/0!"},{"$error":"#DIV/0!"},{"$error":"#DIV/0!"},{"$error":"#DIV/0!"},{"$error":"#DIV/0!"},{"$error":"#DIV/0!"},{"$error":"#DIV/0!"},{"$error":"#DIV/0!"},{"$error":"#DIV/0!"},{"$error":"#DIV/0!"},{"$error":"#DIV/0!"},{"$f":"((DO50/$CG50))*($CG6/1000)","v":{"$error":"#DIV/0!"}},{"$error":"#DIV/0!"},{"$error":"#DIV/0!"},{"$error":"#DIV/0!"},{"$error":"#DIV/0!"},{"$error":"#DIV/0!"},{"$error":"#DIV/0!"},{"$error":"#DIV/0!"},{"$error":"#DIV/0!"},{"$error":"#DIV/0!"},{"$error":"#DIV/0!"},{"$error":"#DIV/0!"},{"$error":"#DIV/0!"},{"$error":"#DIV/0!"},{"$error":"#DIV/0!"},{"$error":"#DIV/0!"},{"$error":"#DIV/0!"},{"$error":"#DIV/0!"},{"$error":"#DIV/0!"},{"$error":"#DIV/0!"},{"$error":"#DIV/0!"},{"$error":"#DIV/0!"},{"$error":"#DIV/0!"},{"$error":"#DIV/0!"},{"$error":"#DIV/0!"},{"$error":"#DIV/0!"},{"$error":"#DIV/0!"},{"$error":"#DIV/0!"},{"$error":"#DIV/0!"},{"$error":"#DIV/0!"},{"$error":"#DIV/0!"},{"$error":"#DIV/0!"},{"$error":"#DIV/0!"},{"$f":"((EV50/$CG50))*($CG6/1000)","v":{"$error":"#DIV/0!"}},{"$error":"#DIV/0!"},{"$error":"#DIV/0!"},{"$f":"((EY50/$CG50))*($CG6/1000)","v":{"$error":"#DIV/0!"}},{"$error":"#DIV/0!"},{"$error":"#DIV/0!"}]
[20220404,2022,4,4,{"$f":"+MAR!F7+1","v":"2022-03-03"},"2022-03-31",29,{"$f":"+E7-MAR!F7","v":1},null,null,4,0,0,0,0,0,1,1,1,1,1,1,1,1,1,1,1,1,1,1,1,1,1,1,1,1,1,1,1,1,1,1,1,1,1,0,0,0,0,0,0,0,0,0,0,0,0,0,0,0,0,0,0,0,0,0,0,0,0,0,0,0,0,0,0,0,0,0,0,0,0,0,null,{"$error":"#DIV/0!"},66594169,4,{"$f":"((CI51/$CG51))*($CG7/1000)","v":{"$error":"#DIV/0!"}},{"$error":"#DIV/0!"},{"$error":"#DIV/0!"},{"$error":"#DIV/0!"},{"$error":"#DIV/0!"},{"$error":"#DIV/0!"},{"$error":"#DIV/0!"},{"$error":"#DIV/0!"},{"$error":"#DIV/0!"},{"$error":"#DIV/0!"},{"$error":"#DIV/0!"},{"$error":"#DIV/0!"},{"$error":"#DIV/0!"},{"$error":"#DIV/0!"},{"$error":"#DIV/0!"},{"$error":"#DIV/0!"},{"$error":"#DIV/0!"},{"$error":"#DIV/0!"},{"$error":"#DIV/0!"},{"$error":"#DIV/0!"},{"$error":"#DIV/0!"},{"$error":"#DIV/0!"},{"$error":"#DIV/0!"},{"$error":"#DIV/0!"},{"$error":"#DIV/0!"},{"$error":"#DIV/0!"},{"$error":"#DIV/0!"},{"$error":"#DIV/0!"},{"$error":"#DIV/0!"},{"$error":"#DIV/0!"},{"$error":"#DIV/0!"},{"$error":"#DIV/0!"},{"$f":"((DO51/$CG51))*($CG7/1000)","v":{"$error":"#DIV/0!"}},{"$error":"#DIV/0!"},{"$error":"#DIV/0!"},{"$error":"#DIV/0!"},{"$error":"#DIV/0!"},{"$error":"#DIV/0!"},{"$error":"#DIV/0!"},{"$error":"#DIV/0!"},{"$error":"#DIV/0!"},{"$error":"#DIV/0!"},{"$error":"#DIV/0!"},{"$error":"#DIV/0!"},{"$error":"#DIV/0!"},{"$error":"#DIV/0!"},{"$error":"#DIV/0!"},{"$error":"#DIV/0!"},{"$error":"#DIV/0!"},{"$error":"#DIV/0!"},{"$error":"#DIV/0!"},{"$error":"#DIV/0!"},{"$error":"#DIV/0!"},{"$error":"#DIV/0!"},{"$error":"#DIV/0!"},{"$error":"#DIV/0!"},{"$error":"#DIV/0!"},{"$error":"#DIV/0!"},{"$error":"#DIV/0!"},{"$error":"#DIV/0!"},{"$error":"#DIV/0!"},{"$error":"#DIV/0!"},{"$error":"#DIV/0!"},{"$error":"#DIV/0!"},{"$error":"#DIV/0!"},{"$f":"((EV51/$CG51))*($CG7/1000)","v":{"$error":"#DIV/0!"}},{"$error":"#DIV/0!"},{"$error":"#DIV/0!"},{"$f":"((EY51/$CG51))*($CG7/1000)","v":{"$error":"#DIV/0!"}},{"$error":"#DIV/0!"},{"$error":"#DIV/0!"}]
[20220405,2022,4,5,{"$f":"+MAR!F8+1","v":"2022-03-04"},"2022-04-01",29,{"$f":"+E8-MAR!F8","v":1},null,null,5,0,0,0,0,0,0,1,1,1,1,1,1,1,1,1,{"$f":"IF(AND(AA$3>=$E8,AA$3<=$F8),1,0)","v":1},1,1,1,1,1,1,1,1,1,1,1,1,1,1,1,1,1,1,1,0,0,0,0,0,0,0,0,0,0,0,0,0,0,0,0,0,0,0,0,0,0,0,0,0,0,0,0,0,0,0,0,0,0,0,0,null,{"$error":"#DIV/0!"},109741696,5,{"$f":"((CI52/$CG52))*($CG8/1000)","v":{"$error":"#DIV/0!"}},{"$error":"#DIV/0!"},{"$error":"#DIV/0!"},{"$error":"#DIV/0!"},{"$error":"#DIV/0!"},{"$error":"#DIV/0!"},{"$error":"#DIV/0!"},{"$error":"#DIV/0!"},{"$error":"#DIV/0!"},{"$error":"#DIV/0!"},{"$error":"#DIV/0!"},{"$error":"#DIV/0!"},{"$error":"#DIV/0!"},{"$error":"#DIV/0!"},{"$error":"#DIV/0!"},{"$error":"#DIV/0!"},{"$error":"#DIV/0!"},{"$error":"#DIV/0!"},{"$error":"#DIV/0!"},{"$error":"#DIV/0!"},{"$error":"#DIV/0!"},{"$error":"#DIV/0!"},{"$error":"#DIV/0!"},{"$error":"#DIV/0!"},{"$error":"#DIV/0!"},{"$error":"#DIV/0!"},{"$error":"#DIV/0!"},{"$error":"#DIV/0!"},{"$error":"#DIV/0!"},{"$error":"#DIV/0!"},{"$error":"#DIV/0!"},{"$error":"#DIV/0!"},{"$f":"((DO52/$CG52))*($CG8/1000)","v":{"$error":"#DIV/0!"}},{"$error":"#DIV/0!"},{"$error":"#DIV/0!"},{"$error":"#DIV/0!"},{"$error":"#DIV/0!"},{"$error":"#DIV/0!"},{"$error":"#DIV/0!"},{"$error":"#DIV/0!"},{"$error":"#DIV/0!"},{"$error":"#DIV/0!"},{"$error":"#DIV/0!"},{"$error":"#DIV/0!"},{"$error":"#DIV/0!"},{"$error":"#DIV/0!"},{"$error":"#DIV/0!"},{"$error":"#DIV/0!"},{"$error":"#DIV/0!"},{"$error":"#DIV/0!"},{"$error":"#DIV/0!"},{"$error":"#DIV/0!"},{"$error":"#DIV/0!"},{"$error":"#DIV/0!"},{"$error":"#DIV/0!"},{"$error":"#DIV/0!"},{"$error":"#DIV/0!"},{"$error":"#DIV/0!"},{"$error":"#DIV/0!"},{"$error":"#DIV/0!"},{"$error":"#DIV/0!"},{"$error":"#DIV/0!"},{"$error":"#DIV/0!"},{"$error":"#DIV/0!"},{"$error":"#DIV/0!"},{"$f":"((EV52/$CG52))*($CG8/1000)","v":{"$error":"#DIV/0!"}},{"$error":"#DIV/0!"},{"$error":"#DIV/0!"},{"$f":"((EY52/$CG52))*($CG8/1000)","v":{"$error":"#DIV/0!"}},{"$error":"#DIV/0!"},{"$error":"#DIV/0!"}]
[20220406,2022,4,6,{"$f":"+MAR!F9+1","v":"2022-03-05"},"2022-04-04",31,{"$f":"+E9-MAR!F9","v":1},null,null,6,0,0,0,0,0,0,0,1,1,1,1,1,1,1,1,1,1,1,1,1,1,1,1,1,1,1,1,1,1,1,1,1,1,1,1,1,1,1,0,0,0,0,0,0,0,0,0,0,0,0,0,0,0,0,0,0,0,0,0,0,0,0,0,0,0,0,0,0,0,0,0,null,{"$error":"#DIV/0!"},44246283,6,{"$f":"((CI53/$CG53))*($CG9/1000)","v":{"$error":"#DIV/0!"}},{"$error":"#DIV/0!"},{"$error":"#DIV/0!"},{"$error":"#DIV/0!"},{"$error":"#DIV/0!"},{"$error":"#DIV/0!"},{"$error":"#DIV/0!"},{"$error":"#DIV/0!"},{"$error":"#DIV/0!"},{"$error":"#DIV/0!"},{"$error":"#DIV/0!"},{"$error":"#DIV/0!"},{"$error":"#DIV/0!"},{"$error":"#DIV/0!"},{"$error":"#DIV/0!"},{"$error":"#DIV/0!"},{"$error":"#DIV/0!"},{"$error":"#DIV/0!"},{"$error":"#DIV/0!"},{"$error":"#DIV/0!"},{"$error":"#DIV/0!"},{"$error":"#DIV/0!"},{"$error":"#DIV/0!"},{"$error":"#DIV/0!"},{"$error":"#DIV/0!"},{"$error":"#DIV/0!"},{"$error":"#DIV/0!"},{"$error":"#DIV/0!"},{"$error":"#DIV/0!"},{"$error":"#DIV/0!"},{"$error":"#DIV/0!"},{"$error":"#DIV/0!"},{"$f":"((DO53/$CG53))*($CG9/1000)","v":{"$error":"#DIV/0!"}},{"$error":"#DIV/0!"},{"$error":"#DIV/0!"},{"$error":"#DIV/0!"},{"$error":"#DIV/0!"},{"$error":"#DIV/0!"},{"$error":"#DIV/0!"},{"$error":"#DIV/0!"},{"$error":"#DIV/0!"},{"$error":"#DIV/0!"},{"$error":"#DIV/0!"},{"$error":"#DIV/0!"},{"$error":"#DIV/0!"},{"$error":"#DIV/0!"},{"$error":"#DIV/0!"},{"$error":"#DIV/0!"},{"$error":"#DIV/0!"},{"$error":"#DIV/0!"},{"$error":"#DIV/0!"},{"$error":"#DIV/0!"},{"$error":"#DIV/0!"},{"$error":"#DIV/0!"},{"$error":"#DIV/0!"},{"$error":"#DIV/0!"},{"$error":"#DIV/0!"},{"$error":"#DIV/0!"},{"$error":"#DIV/0!"},{"$error":"#DIV/0!"},{"$error":"#DIV/0!"},{"$error":"#DIV/0!"},{"$error":"#DIV/0!"},{"$error":"#DIV/0!"},{"$error":"#DIV/0!"},{"$f":"((EV53/$CG53))*($CG9/1000)","v":{"$error":"#DIV/0!"}},{"$error":"#DIV/0!"},{"$error":"#DIV/0!"},{"$f":"((EY53/$CG53))*($CG9/1000)","v":{"$error":"#DIV/0!"}},{"$error":"#DIV/0!"},{"$error":"#DIV/0!"}]
[20220407,2022,4,7,{"$f":"+MAR!F10+1","v":"2022-03-08"},"2022-04-05",29,{"$f":"+E10-MAR!F10","v":1},null,null,7,0,0,0,0,0,0,0,0,0,0,1,1,1,1,1,1,1,1,1,1,1,1,1,1,1,1,1,1,1,1,1,1,1,1,1,1,1,1,1,0,0,0,0,0,0,0,0,0,0,0,0,0,0,0,0,0,0,0,0,0,0,0,0,0,0,0,0,0,0,0,0,null,{"$error":"#DIV/0!"},47179245,7,{"$f":"((CI54/$CG54))*($CG10/1000)","v":{"$error":"#DIV/0!"}},{"$error":"#DIV/0!"},{"$error":"#DIV/0!"},{"$error":"#DIV/0!"},{"$error":"#DIV/0!"},{"$error":"#DIV/0!"},{"$error":"#DIV/0!"},{"$error":"#DIV/0!"},{"$error":"#DIV/0!"},{"$error":"#DIV/0!"},{"$error":"#DIV/0!"},{"$error":"#DIV/0!"},{"$error":"#DIV/0!"},{"$error":"#DIV/0!"},{"$error":"#DIV/0!"},{"$error":"#DIV/0!"},{"$error":"#DIV/0!"},{"$error":"#DIV/0!"},{"$error":"#DIV/0!"},{"$error":"#DIV/0!"},{"$error":"#DIV/0!"},{"$error":"#DIV/0!"},{"$error":"#DIV/0!"},{"$error":"#DIV/0!"},{"$error":"#DIV/0!"},{"$error":"#DIV/0!"},{"$error":"#DIV/0!"},{"$error":"#DIV/0!"},{"$error":"#DIV/0!"},{"$error":"#DIV/0!"},{"$error":"#DIV/0!"},{"$error":"#DIV/0!"},{"$f":"((DO54/$CG54))*($CG10/1000)","v":{"$error":"#DIV/0!"}},{"$error":"#DIV/0!"},{"$error":"#DIV/0!"},{"$error":"#DIV/0!"},{"$error":"#DIV/0!"},{"$error":"#DIV/0!"},{"$error":"#DIV/0!"},{"$error":"#DIV/0!"},{"$error":"#DIV/0!"},{"$error":"#DIV/0!"},{"$error":"#DIV/0!"},{"$error":"#DIV/0!"},{"$error":"#DIV/0!"},{"$error":"#DIV/0!"},{"$error":"#DIV/0!"},{"$error":"#DIV/0!"},{"$error":"#DIV/0!"},{"$error":"#DIV/0!"},{"$error":"#DIV/0!"},{"$error":"#DIV/0!"},{"$error":"#DIV/0!"},{"$error":"#DIV/0!"},{"$error":"#DIV/0!"},{"$error":"#DIV/0!"},{"$error":"#DIV/0!"},{"$error":"#DIV/0!"},{"$error":"#DIV/0!"},{"$error":"#DIV/0!"},{"$error":"#DIV/0!"},{"$error":"#DIV/0!"},{"$error":"#DIV/0!"},{"$error":"#DIV/0!"},{"$error":"#DIV/0!"},{"$f":"((EV54/$CG54))*($CG10/1000)","v":{"$error":"#DIV/0!"}},{"$error":"#DIV/0!"},{"$error":"#DIV/0!"},{"$f":"((EY54/$CG54))*($CG10/1000)","v":{"$error":"#DIV/0!"}},{"$error":"#DIV/0!"},{"$error":"#DIV/0!"}]
[20220408,2022,4,8,{"$f":"+MAR!F11+1","v":"2022-03-09"},"2022-04-06",29,{"$f":"+E11-MAR!F11","v":1},null,null,8,0,0,0,0,0,0,0,0,0,0,0,1,1,1,1,1,1,1,1,1,1,1,1,1,1,1,1,1,1,1,1,1,1,1,1,1,1,1,1,1,0,0,0,0,0,0,0,0,0,0,0,0,0,0,0,0,0,0,0,0,0,0,0,0,0,0,0,0,0,0,0,null,{"$error":"#DIV/0!"},63051536,8,{"$f":"((CI55/$CG55))*($CG11/1000)","v":{"$error":"#DIV/0!"}},{"$error":"#DIV/0!"},{"$error":"#DIV/0!"},{"$error":"#DIV/0!"},{"$error":"#DIV/0!"},{"$error":"#DIV/0!"},{"$error":"#DIV/0!"},{"$error":"#DIV/0!"},{"$error":"#DIV/0!"},{"$error":"#DIV/0!"},{"$error":"#DIV/0!"},{"$error":"#DIV/0!"},{"$error":"#DIV/0!"},{"$error":"#DIV/0!"},{"$error":"#DIV/0!"},{"$error":"#DIV/0!"},{"$error":"#DIV/0!"},{"$error":"#DIV/0!"},{"$error":"#DIV/0!"},{"$error":"#DIV/0!"},{"$error":"#DIV/0!"},{"$error":"#DIV/0!"},{"$error":"#DIV/0!"},{"$error":"#DIV/0!"},{"$error":"#DIV/0!"},{"$error":"#DIV/0!"},{"$error":"#DIV/0!"},{"$error":"#DIV/0!"},{"$error":"#DIV/0!"},{"$error":"#DIV/0!"},{"$error":"#DIV/0!"},{"$error":"#DIV/0!"},{"$f":"((DO55/$CG55))*($CG11/1000)","v":{"$error":"#DIV/0!"}},{"$error":"#DIV/0!"},{"$error":"#DIV/0!"},{"$error":"#DIV/0!"},{"$error":"#DIV/0!"},{"$error":"#DIV/0!"},{"$error":"#DIV/0!"},{"$error":"#DIV/0!"},{"$error":"#DIV/0!"},{"$error":"#DIV/0!"},{"$error":"#DIV/0!"},{"$error":"#DIV/0!"},{"$error":"#DIV/0!"},{"$error":"#DIV/0!"},{"$error":"#DIV/0!"},{"$error":"#DIV/0!"},{"$error":"#DIV/0!"},{"$error":"#DIV/0!"},{"$error":"#DIV/0!"},{"$error":"#DIV/0!"},{"$error":"#DIV/0!"},{"$error":"#DIV/0!"},{"$error":"#DIV/0!"},{"$error":"#DIV/0!"},{"$error":"#DIV/0!"},{"$error":"#DIV/0!"},{"$error":"#DIV/0!"},{"$error":"#DIV/0!"},{"$error":"#DIV/0!"},{"$error":"#DIV/0!"},{"$error":"#DIV/0!"},{"$error":"#DIV/0!"},{"$error":"#DIV/0!"},{"$f":"((EV55/$CG55))*($CG11/1000)","v":{"$error":"#DIV/0!"}},{"$error":"#DIV/0!"},{"$error":"#DIV/0!"},{"$f":"((EY55/$CG55))*($CG11/1000)","v":{"$error":"#DIV/0!"}},{"$error":"#DIV/0!"},{"$error":"#DIV/0!"}]
[20220409,2022,4,9,{"$f":"+MAR!F12+1","v":"2022-03-10"},"2022-04-07",29,{"$f":"+E12-MAR!F12","v":1},null,null,9,0,0,0,0,0,0,0,0,0,0,0,0,1,1,1,1,1,1,1,1,1,1,1,1,1,1,1,1,1,1,1,1,1,1,1,1,1,1,1,1,1,0,0,0,0,0,0,0,0,0,0,0,0,0,0,0,0,0,0,0,0,0,0,0,0,0,0,0,0,0,0,null,{"$error":"#DIV/0!"},51333429,9,{"$f":"((CI56/$CG56))*($CG12/1000)","v":{"$error":"#DIV/0!"}},{"$error":"#DIV/0!"},{"$error":"#DIV/0!"},{"$error":"#DIV/0!"},{"$error":"#DIV/0!"},{"$error":"#DIV/0!"},{"$error":"#DIV/0!"},{"$error":"#DIV/0!"},{"$error":"#DIV/0!"},{"$error":"#DIV/0!"},{"$error":"#DIV/0!"},{"$error":"#DIV/0!"},{"$error":"#DIV/0!"},{"$error":"#DIV/0!"},{"$error":"#DIV/0!"},{"$error":"#DIV/0!"},{"$error":"#DIV/0!"},{"$error":"#DIV/0!"},{"$error":"#DIV/0!"},{"$error":"#DIV/0!"},{"$error":"#DIV/0!"},{"$error":"#DIV/0!"},{"$error":"#DIV/0!"},{"$error":"#DIV/0!"},{"$error":"#DIV/0!"},{"$error":"#DIV/0!"},{"$error":"#DIV/0!"},{"$error":"#DIV/0!"},{"$error":"#DIV/0!"},{"$error":"#DIV/0!"},{"$error":"#DIV/0!"},{"$error":"#DIV/0!"},{"$f":"((DO56/$CG56))*($CG12/1000)","v":{"$error":"#DIV/0!"}},{"$error":"#DIV/0!"},{"$error":"#DIV/0!"},{"$error":"#DIV/0!"},{"$error":"#DIV/0!"},{"$error":"#DIV/0!"},{"$error":"#DIV/0!"},{"$error":"#DIV/0!"},{"$error":"#DIV/0!"},{"$error":"#DIV/0!"},{"$error":"#DIV/0!"},{"$error":"#DIV/0!"},{"$error":"#DIV/0!"},{"$error":"#DIV/0!"},{"$error":"#DIV/0!"},{"$error":"#DIV/0!"},{"$error":"#DIV/0!"},{"$error":"#DIV/0!"},{"$error":"#DIV/0!"},{"$error":"#DIV/0!"},{"$error":"#DIV/0!"},{"$error":"#DIV/0!"},{"$error":"#DIV/0!"},{"$error":"#DIV/0!"},{"$error":"#DIV/0!"},{"$error":"#DIV/0!"},{"$error":"#DIV/0!"},{"$error":"#DIV/0!"},{"$error":"#DIV/0!"},{"$error":"#DIV/0!"},{"$error":"#DIV/0!"},{"$error":"#DIV/0!"},{"$error":"#DIV/0!"},{"$f":"((EV56/$CG56))*($CG12/1000)","v":{"$error":"#DIV/0!"}},{"$error":"#DIV/0!"},{"$error":"#DIV/0!"},{"$f":"((EY56/$CG56))*($CG12/1000)","v":{"$error":"#DIV/0!"}},{"$error":"#DIV/0!"},{"$error":"#DIV/0!"}]
[20220410,2022,4,10,{"$f":"+MAR!F13+1","v":"2022-03-11"},"2022-04-08",29,{"$f":"+E13-MAR!F13","v":1},null,null,10,0,0,0,0,0,0,0,0,0,0,0,0,0,1,1,1,1,1,1,1,1,1,1,1,1,{"$f":"IF(AND(AK$3>=$E13,AK$3<=$F13),1,0)","v":1},1,1,1,1,1,1,1,1,1,1,1,1,1,1,1,1,0,0,0,0,0,0,0,0,0,0,0,0,0,0,0,0,0,0,0,0,0,0,0,0,0,0,0,0,0,null,{"$error":"#DIV/0!"},119618125,10,{"$f":"((CI57/$CG57))*($CG13/1000)","v":{"$error":"#DIV/0!"}},{"$error":"#DIV/0!"},{"$error":"#DIV/0!"},{"$error":"#DIV/0!"},{"$error":"#DIV/0!"},{"$error":"#DIV/0!"},{"$error":"#DIV/0!"},{"$error":"#DIV/0!"},{"$error":"#DIV/0!"},{"$error":"#DIV/0!"},{"$error":"#DIV/0!"},{"$error":"#DIV/0!"},{"$error":"#DIV/0!"},{"$error":"#DIV/0!"},{"$error":"#DIV/0!"},{"$error":"#DIV/0!"},{"$error":"#DIV/0!"},{"$error":"#DIV/0!"},{"$error":"#DIV/0!"},{"$error":"#DIV/0!"},{"$error":"#DIV/0!"},{"$error":"#DIV/0!"},{"$error":"#DIV/0!"},{"$error":"#DIV/0!"},{"$error":"#DIV/0!"},{"$error":"#DIV/0!"},{"$error":"#DIV/0!"},{"$error":"#DIV/0!"},{"$error":"#DIV/0!"},{"$error":"#DIV/0!"},{"$error":"#DIV/0!"},{"$error":"#DIV/0!"},{"$f":"((DO57/$CG57))*($CG13/1000)","v":{"$error":"#DIV/0!"}},{"$error":"#DIV/0!"},{"$error":"#DIV/0!"},{"$error":"#DIV/0!"},{"$error":"#DIV/0!"},{"$error":"#DIV/0!"},{"$error":"#DIV/0!"},{"$error":"#DIV/0!"},{"$error":"#DIV/0!"},{"$error":"#DIV/0!"},{"$error":"#DIV/0!"},{"$error":"#DIV/0!"},{"$error":"#DIV/0!"},{"$error":"#DIV/0!"},{"$error":"#DIV/0!"},{"$error":"#DIV/0!"},{"$error":"#DIV/0!"},{"$error":"#DIV/0!"},{"$error":"#DIV/0!"},{"$error":"#DIV/0!"},{"$error":"#DIV/0!"},{"$error":"#DIV/0!"},{"$error":"#DIV/0!"},{"$error":"#DIV/0!"},{"$error":"#DIV/0!"},{"$error":"#DIV/0!"},{"$error":"#DIV/0!"},{"$error":"#DIV/0!"},{"$error":"#DIV/0!"},{"$error":"#DIV/0!"},{"$error":"#DIV/0!"},{"$error":"#DIV/0!"},{"$error":"#DIV/0!"},{"$f":"((EV57/$CG57))*($CG13/1000)","v":{"$error":"#DIV/0!"}},{"$error":"#DIV/0!"},{"$error":"#DIV/0!"},{"$f":"((EY57/$CG57))*($CG13/1000)","v":{"$error":"#DIV/0!"}},{"$error":"#DIV/0!"},{"$error":"#DIV/0!"}]
[20220411,2022,4,11,{"$f":"+MAR!F14+1","v":"2022-03-12"},"2022-04-11",31,{"$f":"+E14-MAR!F14","v":1},null,null,11,0,0,0,0,0,0,0,0,0,0,0,0,0,0,1,1,{"$f":"IF(AND(AB$3>=$E14,AB$3<=$F14),1,0)","v":1},1,1,1,1,1,1,1,1,1,1,1,1,1,1,1,1,1,1,1,1,1,1,1,1,1,1,1,1,0,0,0,0,0,0,0,0,0,0,0,0,0,0,0,0,0,0,0,0,0,0,0,0,0,0,null,{"$error":"#DIV/0!"},49925684,11,{"$f":"((CI58/$CG58))*($CG14/1000)","v":{"$error":"#DIV/0!"}},{"$error":"#DIV/0!"},{"$error":"#DIV/0!"},{"$error":"#DIV/0!"},{"$error":"#DIV/0!"},{"$error":"#DIV/0!"},{"$error":"#DIV/0!"},{"$error":"#DIV/0!"},{"$error":"#DIV/0!"},{"$error":"#DIV/0!"},{"$error":"#DIV/0!"},{"$error":"#DIV/0!"},{"$error":"#DIV/0!"},{"$error":"#DIV/0!"},{"$error":"#DIV/0!"},{"$error":"#DIV/0!"},{"$error":"#DIV/0!"},{"$error":"#DIV/0!"},{"$error":"#DIV/0!"},{"$error":"#DIV/0!"},{"$error":"#DIV/0!"},{"$error":"#DIV/0!"},{"$error":"#DIV/0!"},{"$error":"#DIV/0!"},{"$error":"#DIV/0!"},{"$error":"#DIV/0!"},{"$error":"#DIV/0!"},{"$error":"#DIV/0!"},{"$error":"#DIV/0!"},{"$error":"#DIV/0!"},{"$error":"#DIV/0!"},{"$error":"#DIV/0!"},{"$f":"((DO58/$CG58))*($CG14/1000)","v":{"$error":"#DIV/0!"}},{"$error":"#DIV/0!"},{"$error":"#DIV/0!"},{"$error":"#DIV/0!"},{"$error":"#DIV/0!"},{"$error":"#DIV/0!"},{"$error":"#DIV/0!"},{"$error":"#DIV/0!"},{"$error":"#DIV/0!"},{"$error":"#DIV/0!"},{"$error":"#DIV/0!"},{"$error":"#DIV/0!"},{"$error":"#DIV/0!"},{"$error":"#DIV/0!"},{"$error":"#DIV/0!"},{"$error":"#DIV/0!"},{"$error":"#DIV/0!"},{"$error":"#DIV/0!"},{"$error":"#DIV/0!"},{"$error":"#DIV/0!"},{"$error":"#DIV/0!"},{"$error":"#DIV/0!"},{"$error":"#DIV/0!"},{"$error":"#DIV/0!"},{"$error":"#DIV/0!"},{"$error":"#DIV/0!"},{"$error":"#DIV/0!"},{"$error":"#DIV/0!"},{"$error":"#DIV/0!"},{"$error":"#DIV/0!"},{"$error":"#DIV/0!"},{"$error":"#DIV/0!"},{"$error":"#DIV/0!"},{"$f":"((EV58/$CG58))*($CG14/1000)","v":{"$error":"#DIV/0!"}},{"$error":"#DIV/0!"},{"$error":"#DIV/0!"},{"$f":"((EY58/$CG58))*($CG14/1000)","v":{"$error":"#DIV/0!"}},{"$error":"#DIV/0!"},{"$error":"#DIV/0!"}]
[20220412,2022,4,12,{"$f":"+MAR!F15+1","v":"2022-03-15"},"2022-04-12",29,{"$f":"+E15-MAR!F15","v":1},null,null,12,0,0,0,0,0,0,0,0,0,0,0,0,0,0,0,0,0,1,1,1,1,1,1,1,1,1,1,1,1,1,1,1,1,1,1,1,1,1,1,1,1,1,1,1,1,1,0,0,0,0,0,0,0,0,0,0,0,0,0,0,0,0,0,0,0,0,0,0,0,0,0,null,{"$error":"#DIV/0!"},47049285,12,{"$f":"((CI59/$CG59))*($CG15/1000)","v":{"$error":"#DIV/0!"}},{"$error":"#DIV/0!"},{"$error":"#DIV/0!"},{"$error":"#DIV/0!"},{"$error":"#DIV/0!"},{"$error":"#DIV/0!"},{"$error":"#DIV/0!"},{"$error":"#DIV/0!"},{"$error":"#DIV/0!"},{"$error":"#DIV/0!"},{"$error":"#DIV/0!"},{"$error":"#DIV/0!"},{"$error":"#DIV/0!"},{"$error":"#DIV/0!"},{"$error":"#DIV/0!"},{"$error":"#DIV/0!"},{"$error":"#DIV/0!"},{"$error":"#DIV/0!"},{"$error":"#DIV/0!"},{"$error":"#DIV/0!"},{"$error":"#DIV/0!"},{"$error":"#DIV/0!"},{"$error":"#DIV/0!"},{"$error":"#DIV/0!"},{"$error":"#DIV/0!"},{"$error":"#DIV/0!"},{"$error":"#DIV/0!"},{"$error":"#DIV/0!"},{"$error":"#DIV/0!"},{"$error":"#DIV/0!"},{"$error":"#DIV/0!"},{"$error":"#DIV/0!"},{"$f":"((DO59/$CG59))*($CG15/1000)","v":{"$error":"#DIV/0!"}},{"$error":"#DIV/0!"},{"$error":"#DIV/0!"},{"$error":"#DIV/0!"},{"$error":"#DIV/0!"},{"$error":"#DIV/0!"},{"$error":"#DIV/0!"},{"$error":"#DIV/0!"},{"$error":"#DIV/0!"},{"$error":"#DIV/0!"},{"$error":"#DIV/0!"},{"$error":"#DIV/0!"},{"$error":"#DIV/0!"},{"$error":"#DIV/0!"},{"$error":"#DIV/0!"},{"$error":"#DIV/0!"},{"$error":"#DIV/0!"},{"$error":"#DIV/0!"},{"$error":"#DIV/0!"},{"$error":"#DIV/0!"},{"$error":"#DIV/0!"},{"$error":"#DIV/0!"},{"$error":"#DIV/0!"},{"$error":"#DIV/0!"},{"$error":"#DIV/0!"},{"$error":"#DIV/0!"},{"$error":"#DIV/0!"},{"$error":"#DIV/0!"},{"$error":"#DIV/0!"},{"$error":"#DIV/0!"},{"$error":"#DIV/0!"},{"$error":"#DIV/0!"},{"$error":"#DIV/0!"},{"$f":"((EV59/$CG59))*($CG15/1000)","v":{"$error":"#DIV/0!"}},{"$error":"#DIV/0!"},{"$error":"#DIV/0!"},{"$f":"((EY59/$CG59))*($CG15/1000)","v":{"$error":"#DIV/0!"}},{"$error":"#DIV/0!"},{"$error":"#DIV/0!"}]
[20220413,2022,4,13,{"$f":"+MAR!F16+1","v":"2022-03-16"},"2022-04-13",29,{"$f":"+E16-MAR!F16","v":1},null,null,13,0,0,0,0,0,0,0,0,0,0,0,0,0,0,0,0,0,0,1,1,1,1,1,1,1,1,1,1,1,1,1,1,1,1,1,1,1,1,1,1,1,1,1,1,1,1,1,0,0,0,0,0,0,0,0,0,0,0,0,0,0,0,0,0,0,0,0,0,0,0,0,null,{"$error":"#DIV/0!"},50435441,13,{"$f":"((CI60/$CG60))*($CG16/1000)","v":{"$error":"#DIV/0!"}},{"$error":"#DIV/0!"},{"$error":"#DIV/0!"},{"$error":"#DIV/0!"},{"$error":"#DIV/0!"},{"$error":"#DIV/0!"},{"$error":"#DIV/0!"},{"$error":"#DIV/0!"},{"$error":"#DIV/0!"},{"$error":"#DIV/0!"},{"$error":"#DIV/0!"},{"$error":"#DIV/0!"},{"$error":"#DIV/0!"},{"$error":"#DIV/0!"},{"$error":"#DIV/0!"},{"$error":"#DIV/0!"},{"$error":"#DIV/0!"},{"$error":"#DIV/0!"},{"$error":"#DIV/0!"},{"$error":"#DIV/0!"},{"$error":"#DIV/0!"},{"$error":"#DIV/0!"},{"$error":"#DIV/0!"},{"$error":"#DIV/0!"},{"$error":"#DIV/0!"},{"$error":"#DIV/0!"},{"$error":"#DIV/0!"},{"$error":"#DIV/0!"},{"$error":"#DIV/0!"},{"$error":"#DIV/0!"},{"$error":"#DIV/0!"},{"$error":"#DIV/0!"},{"$f":"((DO60/$CG60))*($CG16/1000)","v":{"$error":"#DIV/0!"}},{"$error":"#DIV/0!"},{"$error":"#DIV/0!"},{"$error":"#DIV/0!"},{"$error":"#DIV/0!"},{"$error":"#DIV/0!"},{"$error":"#DIV/0!"},{"$error":"#DIV/0!"},{"$error":"#DIV/0!"},{"$error":"#DIV/0!"},{"$error":"#DIV/0!"},{"$error":"#DIV/0!"},{"$error":"#DIV/0!"},{"$error":"#DIV/0!"},{"$error":"#DIV/0!"},{"$error":"#DIV/0!"},{"$error":"#DIV/0!"},{"$error":"#DIV/0!"},{"$error":"#DIV/0!"},{"$error":"#DIV/0!"},{"$error":"#DIV/0!"},{"$error":"#DIV/0!"},{"$error":"#DIV/0!"},{"$error":"#DIV/0!"},{"$error":"#DIV/0!"},{"$error":"#DIV/0!"},{"$error":"#DIV/0!"},{"$error":"#DIV/0!"},{"$error":"#DIV/0!"},{"$error":"#DIV/0!"},{"$error":"#DIV/0!"},{"$error":"#DIV/0!"},{"$error":"#DIV/0!"},{"$f":"((EV60/$CG60))*($CG16/1000)","v":{"$error":"#DIV/0!"}},{"$error":"#DIV/0!"},{"$error":"#DIV/0!"},{"$f":"((EY60/$CG60))*($CG16/1000)","v":{"$error":"#DIV/0!"}},{"$error":"#DIV/0!"},{"$error":"#DIV/0!"}]
[20220414,2022,4,14,{"$f":"+MAR!F17+1","v":"2022-03-17"},"2022-04-14",29,{"$f":"+E17-MAR!F17","v":1},null,null,14,0,0,0,0,0,0,0,0,0,0,0,0,0,0,0,0,0,0,0,1,1,1,1,1,1,1,1,1,1,1,1,1,1,1,1,1,1,1,1,1,1,1,1,1,1,1,1,1,0,0,0,0,0,0,0,0,0,0,0,0,0,0,0,0,0,0,0,0,0,0,0,null,{"$error":"#DIV/0!"},68811539,14,{"$f":"((CI61/$CG61))*($CG17/1000)","v":{"$error":"#DIV/0!"}},{"$error":"#DIV/0!"},{"$error":"#DIV/0!"},{"$error":"#DIV/0!"},{"$error":"#DIV/0!"},{"$error":"#DIV/0!"},{"$error":"#DIV/0!"},{"$error":"#DIV/0!"},{"$error":"#DIV/0!"},{"$error":"#DIV/0!"},{"$error":"#DIV/0!"},{"$error":"#DIV/0!"},{"$error":"#DIV/0!"},{"$error":"#DIV/0!"},{"$error":"#DIV/0!"},{"$error":"#DIV/0!"},{"$error":"#DIV/0!"},{"$error":"#DIV/0!"},{"$error":"#DIV/0!"},{"$error":"#DIV/0!"},{"$error":"#DIV/0!"},{"$error":"#DIV/0!"},{"$error":"#DIV/0!"},{"$error":"#DIV/0!"},{"$error":"#DIV/0!"},{"$error":"#DIV/0!"},{"$error":"#DIV/0!"},{"$error":"#DIV/0!"},{"$error":"#DIV/0!"},{"$error":"#DIV/0!"},{"$error":"#DIV/0!"},{"$error":"#DIV/0!"},{"$f":"((DO61/$CG61))*($CG17/1000)","v":{"$error":"#DIV/0!"}},{"$error":"#DIV/0!"},{"$error":"#DIV/0!"},{"$error":"#DIV/0!"},{"$error":"#DIV/0!"},{"$error":"#DIV/0!"},{"$error":"#DIV/0!"},{"$error":"#DIV/0!"},{"$error":"#DIV/0!"},{"$error":"#DIV/0!"},{"$error":"#DIV/0!"},{"$error":"#DIV/0!"},{"$error":"#DIV/0!"},{"$error":"#DIV/0!"},{"$error":"#DIV/0!"},{"$error":"#DIV/0!"},{"$error":"#DIV/0!"},{"$error":"#DIV/0!"},{"$error":"#DIV/0!"},{"$error":"#DIV/0!"},{"$error":"#DIV/0!"},{"$error":"#DIV/0!"},{"$error":"#DIV/0!"},{"$error":"#DIV/0!"},{"$error":"#DIV/0!"},{"$error":"#DIV/0!"},{"$error":"#DIV/0!"},{"$error":"#DIV/0!"},{"$error":"#DIV/0!"},{"$error":"#DIV/0!"},{"$error":"#DIV/0!"},{"$error":"#DIV/0!"},{"$error":"#DIV/0!"},{"$f":"((EV61/$CG61))*($CG17/1000)","v":{"$error":"#DIV/0!"}},{"$error":"#DIV/0!"},{"$error":"#DIV/0!"},{"$f":"((EY61/$CG61))*($CG17/1000)","v":{"$error":"#DIV/0!"}},{"$error":"#DIV/0!"},{"$error":"#DIV/0!"}]
[20220415,2022,4,15,{"$f":"+MAR!F18+1","v":"2022-03-18"},"2022-04-18",32,{"$f":"+E18-MAR!F18","v":1},null,null,15,0,0,0,0,0,0,0,0,0,0,0,0,0,0,0,0,0,0,0,0,1,1,1,1,1,1,1,1,1,1,1,1,1,1,1,1,1,1,1,1,1,1,1,1,1,1,1,1,1,1,1,1,0,0,0,0,0,0,0,0,0,0,0,0,0,0,0,0,0,0,0,null,{"$error":"#DIV/0!"},100417837,15,{"$f":"((CI62/$CG62))*($CG18/1000)","v":{"$error":"#DIV/0!"}},{"$error":"#DIV/0!"},{"$error":"#DIV/0!"},{"$error":"#DIV/0!"},{"$error":"#DIV/0!"},{"$error":"#DIV/0!"},{"$error":"#DIV/0!"},{"$error":"#DIV/0!"},{"$error":"#DIV/0!"},{"$error":"#DIV/0!"},{"$error":"#DIV/0!"},{"$error":"#DIV/0!"},{"$error":"#DIV/0!"},{"$error":"#DIV/0!"},{"$error":"#DIV/0!"},{"$error":"#DIV/0!"},{"$error":"#DIV/0!"},{"$error":"#DIV/0!"},{"$error":"#DIV/0!"},{"$error":"#DIV/0!"},{"$error":"#DIV/0!"},{"$error":"#DIV/0!"},{"$error":"#DIV/0!"},{"$error":"#DIV/0!"},{"$error":"#DIV/0!"},{"$error":"#DIV/0!"},{"$error":"#DIV/0!"},{"$error":"#DIV/0!"},{"$error":"#DIV/0!"},{"$error":"#DIV/0!"},{"$error":"#DIV/0!"},{"$error":"#DIV/0!"},{"$f":"((DO62/$CG62))*($CG18/1000)","v":{"$error":"#DIV/0!"}},{"$error":"#DIV/0!"},{"$error":"#DIV/0!"},{"$error":"#DIV/0!"},{"$error":"#DIV/0!"},{"$error":"#DIV/0!"},{"$error":"#DIV/0!"},{"$error":"#DIV/0!"},{"$error":"#DIV/0!"},{"$error":"#DIV/0!"},{"$error":"#DIV/0!"},{"$error":"#DIV/0!"},{"$error":"#DIV/0!"},{"$error":"#DIV/0!"},{"$error":"#DIV/0!"},{"$error":"#DIV/0!"},{"$error":"#DIV/0!"},{"$error":"#DIV/0!"},{"$error":"#DIV/0!"},{"$error":"#DIV/0!"},{"$error":"#DIV/0!"},{"$error":"#DIV/0!"},{"$error":"#DIV/0!"},{"$error":"#DIV/0!"},{"$error":"#DIV/0!"},{"$error":"#DIV/0!"},{"$error":"#DIV/0!"},{"$error":"#DIV/0!"},{"$error":"#DIV/0!"},{"$error":"#DIV/0!"},{"$error":"#DIV/0!"},{"$error":"#DIV/0!"},{"$error":"#DIV/0!"},{"$f":"((EV62/$CG62))*($CG18/1000)","v":{"$error":"#DIV/0!"}},{"$error":"#DIV/0!"},{"$error":"#DIV/0!"},{"$f":"((EY62/$CG62))*($CG18/1000)","v":{"$error":"#DIV/0!"}},{"$error":"#DIV/0!"},{"$error":"#DIV/0!"}]
[20220416,2022,4,16,{"$f":"+MAR!F19+1","v":"2022-03-19"},"2022-04-19",32,{"$f":"+E19-MAR!F19","v":1},null,null,16,0,0,0,0,0,0,0,0,0,0,0,0,0,0,0,0,0,0,0,0,0,1,1,1,1,1,{"$f":"IF(AND(AL$3>=$E19,AL$3<=$F19),1,0)","v":1},1,1,1,1,1,1,1,1,1,1,1,1,1,1,1,1,1,1,1,1,1,1,1,1,1,1,0,0,0,0,0,0,0,0,0,0,0,0,0,0,0,0,0,0,null,{"$error":"#DIV/0!"},55808498,16,{"$f":"((CI63/$CG63))*($CG19/1000)","v":{"$error":"#DIV/0!"}},{"$error":"#DIV/0!"},{"$error":"#DIV/0!"},{"$error":"#DIV/0!"},{"$error":"#DIV/0!"},{"$error":"#DIV/0!"},{"$error":"#DIV/0!"},{"$error":"#DIV/0!"},{"$error":"#DIV/0!"},{"$error":"#DIV/0!"},{"$error":"#DIV/0!"},{"$error":"#DIV/0!"},{"$error":"#DIV/0!"},{"$error":"#DIV/0!"},{"$error":"#DIV/0!"},{"$error":"#DIV/0!"},{"$error":"#DIV/0!"},{"$error":"#DIV/0!"},{"$error":"#DIV/0!"},{"$error":"#DIV/0!"},{"$error":"#DIV/0!"},{"$error":"#DIV/0!"},{"$error":"#DIV/0!"},{"$error":"#DIV/0!"},{"$error":"#DIV/0!"},{"$error":"#DIV/0!"},{"$error":"#DIV/0!"},{"$error":"#DIV/0!"},{"$error":"#DIV/0!"},{"$error":"#DIV/0!"},{"$error":"#DIV/0!"},{"$error":"#DIV/0!"},{"$f":"((DO63/$CG63))*($CG19/1000)","v":{"$error":"#DIV/0!"}},{"$error":"#DIV/0!"},{"$error":"#DIV/0!"},{"$error":"#DIV/0!"},{"$error":"#DIV/0!"},{"$error":"#DIV/0!"},{"$error":"#DIV/0!"},{"$error":"#DIV/0!"},{"$error":"#DIV/0!"},{"$error":"#DIV/0!"},{"$error":"#DIV/0!"},{"$error":"#DIV/0!"},{"$error":"#DIV/0!"},{"$error":"#DIV/0!"},{"$error":"#DIV/0!"},{"$error":"#DIV/0!"},{"$error":"#DIV/0!"},{"$error":"#DIV/0!"},{"$error":"#DIV/0!"},{"$error":"#DIV/0!"},{"$error":"#DIV/0!"},{"$error":"#DIV/0!"},{"$error":"#DIV/0!"},{"$error":"#DIV/0!"},{"$error":"#DIV/0!"},{"$error":"#DIV/0!"},{"$error":"#DIV/0!"},{"$error":"#DIV/0!"},{"$error":"#DIV/0!"},{"$error":"#DIV/0!"},{"$error":"#DIV/0!"},{"$error":"#DIV/0!"},{"$error":"#DIV/0!"},{"$f":"((EV63/$CG63))*($CG19/1000)","v":{"$error":"#DIV/0!"}},{"$error":"#DIV/0!"},{"$error":"#DIV/0!"},{"$f":"((EY63/$CG63))*($CG19/1000)","v":{"$error":"#DIV/0!"}},{"$error":"#DIV/0!"},{"$error":"#DIV/0!"}]
[20220417,2022,4,17,{"$f":"+MAR!F20+1","v":"2022-03-22"},"2022-04-20",30,{"$f":"+E20-MAR!F20","v":1},null,null,17,0,0,0,0,0,0,0,0,0,0,0,0,0,0,0,0,{"$f":"IF(AND(AB$3>=$E20,AB$3<=$F20),1,0)","v":0},0,0,0,0,0,0,0,1,1,1,1,1,1,1,1,1,1,1,1,1,1,1,1,1,1,1,1,1,1,1,1,1,1,1,1,1,1,0,0,0,0,0,0,0,0,0,0,0,0,0,0,{"$f":"IF(AND(CB$3>=$E20,CB$3<=$F20),1,0)","v":0},0,0,null,{"$error":"#DIV/0!"},40440956,17,{"$f":"((CI64/$CG64))*($CG20/1000)","v":{"$error":"#DIV/0!"}},{"$error":"#DIV/0!"},{"$error":"#DIV/0!"},{"$error":"#DIV/0!"},{"$error":"#DIV/0!"},{"$error":"#DIV/0!"},{"$error":"#DIV/0!"},{"$error":"#DIV/0!"},{"$error":"#DIV/0!"},{"$error":"#DIV/0!"},{"$error":"#DIV/0!"},{"$error":"#DIV/0!"},{"$error":"#DIV/0!"},{"$error":"#DIV/0!"},{"$error":"#DIV/0!"},{"$error":"#DIV/0!"},{"$error":"#DIV/0!"},{"$error":"#DIV/0!"},{"$error":"#DIV/0!"},{"$error":"#DIV/0!"},{"$error":"#DIV/0!"},{"$error":"#DIV/0!"},{"$error":"#DIV/0!"},{"$error":"#DIV/0!"},{"$error":"#DIV/0!"},{"$error":"#DIV/0!"},{"$error":"#DIV/0!"},{"$error":"#DIV/0!"},{"$error":"#DIV/0!"},{"$error":"#DIV/0!"},{"$error":"#DIV/0!"},{"$error":"#DIV/0!"},{"$f":"((DO64/$CG64))*($CG20/1000)","v":{"$error":"#DIV/0!"}},{"$error":"#DIV/0!"},{"$error":"#DIV/0!"},{"$error":"#DIV/0!"},{"$error":"#DIV/0!"},{"$error":"#DIV/0!"},{"$error":"#DIV/0!"},{"$error":"#DIV/0!"},{"$error":"#DIV/0!"},{"$error":"#DIV/0!"},{"$error":"#DIV/0!"},{"$error":"#DIV/0!"},{"$error":"#DIV/0!"},{"$error":"#DIV/0!"},{"$error":"#DIV/0!"},{"$error":"#DIV/0!"},{"$error":"#DIV/0!"},{"$error":"#DIV/0!"},{"$error":"#DIV/0!"},{"$error":"#DIV/0!"},{"$error":"#DIV/0!"},{"$error":"#DIV/0!"},{"$error":"#DIV/0!"},{"$error":"#DIV/0!"},{"$error":"#DIV/0!"},{"$error":"#DIV/0!"},{"$error":"#DIV/0!"},{"$error":"#DIV/0!"},{"$error":"#DIV/0!"},{"$error":"#DIV/0!"},{"$error":"#DIV/0!"},{"$error":"#DIV/0!"},{"$error":"#DIV/0!"},{"$f":"((EV64/$CG64))*($CG20/1000)","v":{"$error":"#DIV/0!"}},{"$error":"#DIV/0!"},{"$error":"#DIV/0!"},{"$f":"((EY64/$CG64))*($CG20/1000)","v":{"$error":"#DIV/0!"}},{"$error":"#DIV/0!"},{"$error":"#DIV/0!"}]
[20220418,2022,4,18,{"$f":"+MAR!F21+1","v":"2022-03-23"},"2022-04-21",30,{"$f":"+E21-MAR!F21","v":1},null,null,18,0,0,0,0,0,0,0,0,0,0,0,0,0,0,0,0,0,0,0,0,0,0,0,0,0,1,1,1,1,1,1,1,1,1,1,1,1,1,1,1,1,1,1,1,1,1,1,1,1,1,1,1,1,1,1,0,0,0,0,0,0,0,0,0,0,0,0,0,0,0,0,null,{"$error":"#DIV/0!"},106864802,18,{"$f":"((CI65/$CG65))*($CG21/1000)","v":{"$error":"#DIV/0!"}},{"$error":"#DIV/0!"},{"$error":"#DIV/0!"},{"$error":"#DIV/0!"},{"$error":"#DIV/0!"},{"$error":"#DIV/0!"},{"$error":"#DIV/0!"},{"$error":"#DIV/0!"},{"$error":"#DIV/0!"},{"$error":"#DIV/0!"},{"$error":"#DIV/0!"},{"$error":"#DIV/0!"},{"$error":"#DIV/0!"},{"$error":"#DIV/0!"},{"$error":"#DIV/0!"},{"$error":"#DIV/0!"},{"$error":"#DIV/0!"},{"$error":"#DIV/0!"},{"$error":"#DIV/0!"},{"$error":"#DIV/0!"},{"$error":"#DIV/0!"},{"$error":"#DIV/0!"},{"$error":"#DIV/0!"},{"$error":"#DIV/0!"},{"$error":"#DIV/0!"},{"$error":"#DIV/0!"},{"$error":"#DIV/0!"},{"$error":"#DIV/0!"},{"$error":"#DIV/0!"},{"$error":"#DIV/0!"},{"$error":"#DIV/0!"},{"$error":"#DIV/0!"},{"$f":"((DO65/$CG65))*($CG21/1000)","v":{"$error":"#DIV/0!"}},{"$error":"#DIV/0!"},{"$error":"#DIV/0!"},{"$error":"#DIV/0!"},{"$error":"#DIV/0!"},{"$error":"#DIV/0!"},{"$error":"#DIV/0!"},{"$error":"#DIV/0!"},{"$error":"#DIV/0!"},{"$error":"#DIV/0!"},{"$error":"#DIV/0!"},{"$error":"#DIV/0!"},{"$error":"#DIV/0!"},{"$error":"#DIV/0!"},{"$error":"#DIV/0!"},{"$error":"#DIV/0!"},{"$error":"#DIV/0!"},{"$error":"#DIV/0!"},{"$error":"#DIV/0!"},{"$error":"#DIV/0!"},{"$error":"#DIV/0!"},{"$error":"#DIV/0!"},{"$error":"#DIV/0!"},{"$error":"#DIV/0!"},{"$error":"#DIV/0!"},{"$error":"#DIV/0!"},{"$error":"#DIV/0!"},{"$error":"#DIV/0!"},{"$error":"#DIV/0!"},{"$error":"#DIV/0!"},{"$error":"#DIV/0!"},{"$error":"#DIV/0!"},{"$error":"#DIV/0!"},{"$f":"((EV65/$CG65))*($CG21/1000)","v":{"$error":"#DIV/0!"}},{"$error":"#DIV/0!"},{"$error":"#DIV/0!"},{"$f":"((EY65/$CG65))*($CG21/1000)","v":{"$error":"#DIV/0!"}},{"$error":"#DIV/0!"},{"$error":"#DIV/0!"}]
[20220419,2022,4,19,{"$f":"+MAR!F22+1","v":"2022-03-24"},"2022-04-22",30,{"$f":"+E22-MAR!F22","v":1},null,null,19,0,0,0,0,0,0,0,0,0,0,0,0,0,0,0,0,0,0,0,0,0,0,0,0,0,0,1,1,1,1,1,1,1,1,1,1,1,1,1,1,1,1,1,1,1,1,1,1,1,1,1,1,1,1,1,1,0,0,0,0,0,0,0,0,0,0,0,0,0,0,0,null,{"$error":"#DIV/0!"},52039244,19,{"$f":"((CI66/$CG66))*($CG22/1000)","v":{"$error":"#DIV/0!"}},{"$error":"#DIV/0!"},{"$error":"#DIV/0!"},{"$error":"#DIV/0!"},{"$error":"#DIV/0!"},{"$error":"#DIV/0!"},{"$error":"#DIV/0!"},{"$error":"#DIV/0!"},{"$error":"#DIV/0!"},{"$error":"#DIV/0!"},{"$error":"#DIV/0!"},{"$error":"#DIV/0!"},{"$error":"#DIV/0!"},{"$error":"#DIV/0!"},{"$error":"#DIV/0!"},{"$error":"#DIV/0!"},{"$error":"#DIV/0!"},{"$error":"#DIV/0!"},{"$error":"#DIV/0!"},{"$error":"#DIV/0!"},{"$error":"#DIV/0!"},{"$error":"#DIV/0!"},{"$error":"#DIV/0!"},{"$error":"#DIV/0!"},{"$error":"#DIV/0!"},{"$error":"#DIV/0!"},{"$error":"#DIV/0!"},{"$error":"#DIV/0!"},{"$error":"#DIV/0!"},{"$error":"#DIV/0!"},{"$error":"#DIV/0!"},{"$error":"#DIV/0!"},{"$f":"((DO66/$CG66))*($CG22/1000)","v":{"$error":"#DIV/0!"}},{"$error":"#DIV/0!"},{"$error":"#DIV/0!"},{"$error":"#DIV/0!"},{"$error":"#DIV/0!"},{"$error":"#DIV/0!"},{"$error":"#DIV/0!"},{"$error":"#DIV/0!"},{"$error":"#DIV/0!"},{"$error":"#DIV/0!"},{"$error":"#DIV/0!"},{"$error":"#DIV/0!"},{"$error":"#DIV/0!"},{"$error":"#DIV/0!"},{"$error":"#DIV/0!"},{"$error":"#DIV/0!"},{"$error":"#DIV/0!"},{"$error":"#DIV/0!"},{"$error":"#DIV/0!"},{"$error":"#DIV/0!"},{"$error":"#DIV/0!"},{"$error":"#DIV/0!"},{"$error":"#DIV/0!"},{"$error":"#DIV/0!"},{"$error":"#DIV/0!"},{"$error":"#DIV/0!"},{"$error":"#DIV/0!"},{"$error":"#DIV/0!"},{"$error":"#DIV/0!"},{"$error":"#DIV/0!"},{"$error":"#DIV/0!"},{"$error":"#DIV/0!"},{"$error":"#DIV/0!"},{"$f":"((EV66/$CG66))*($CG22/1000)","v":{"$error":"#DIV/0!"}},{"$error":"#DIV/0!"},{"$error":"#DIV/0!"},{"$f":"((EY66/$CG66))*($CG22/1000)","v":{"$error":"#DIV/0!"}},{"$error":"#DIV/0!"},{"$error":"#DIV/0!"}]
[20220420,2022,4,20,{"$f":"+MAR!F23+1","v":"2022-03-25"},"2022-04-25",32,{"$f":"+E23-MAR!F23","v":1},null,null,20,0,0,0,0,0,0,0,0,0,0,0,0,{"$f":"IF(AND(X$3>=$E23,X$3<=$F23),1,0)","v":0},0,0,0,0,0,0,0,0,0,0,0,0,0,0,1,1,1,1,1,1,1,1,1,1,1,1,1,1,1,1,1,1,1,1,1,1,1,1,1,1,1,1,1,1,1,1,0,0,0,0,0,0,0,0,0,0,0,0,null,{"$error":"#DIV/0!"},46449636,20,{"$f":"((CI67/$CG67))*($CG23/1000)","v":{"$error":"#DIV/0!"}},{"$error":"#DIV/0!"},{"$error":"#DIV/0!"},{"$error":"#DIV/0!"},{"$error":"#DIV/0!"},{"$error":"#DIV/0!"},{"$error":"#DIV/0!"},{"$error":"#DIV/0!"},{"$error":"#DIV/0!"},{"$error":"#DIV/0!"},{"$error":"#DIV/0!"},{"$error":"#DIV/0!"},{"$error":"#DIV/0!"},{"$error":"#DIV/0!"},{"$error":"#DIV/0!"},{"$error":"#DIV/0!"},{"$error":"#DIV/0!"},{"$error":"#DIV/0!"},{"$error":"#DIV/0!"},{"$error":"#DIV/0!"},{"$error":"#DIV/0!"},{"$error":"#DIV/0!"},{"$error":"#DIV/0!"},{"$error":"#DIV/0!"},{"$error":"#DIV/0!"},{"$error":"#DIV/0!"},{"$error":"#DIV/0!"},{"$error":"#DIV/0!"},{"$error":"#DIV/0!"},{"$error":"#DIV/0!"},{"$error":"#DIV/0!"},{"$error":"#DIV/0!"},{"$f":"((DO67/$CG67))*($CG23/1000)","v":{"$error":"#DIV/0!"}},{"$error":"#DIV/0!"},{"$error":"#DIV/0!"},{"$error":"#DIV/0!"},{"$error":"#DIV/0!"},{"$error":"#DIV/0!"},{"$error":"#DIV/0!"},{"$error":"#DIV/0!"},{"$error":"#DIV/0!"},{"$error":"#DIV/0!"},{"$error":"#DIV/0!"},{"$error":"#DIV/0!"},{"$error":"#DIV/0!"},{"$error":"#DIV/0!"},{"$error":"#DIV/0!"},{"$error":"#DIV/0!"},{"$error":"#DIV/0!"},{"$error":"#DIV/0!"},{"$error":"#DIV/0!"},{"$error":"#DIV/0!"},{"$error":"#DIV/0!"},{"$error":"#DIV/0!"},{"$error":"#DIV/0!"},{"$error":"#DIV/0!"},{"$error":"#DIV/0!"},{"$error":"#DIV/0!"},{"$error":"#DIV/0!"},{"$error":"#DIV/0!"},{"$error":"#DIV/0!"},{"$error":"#DIV/0!"},{"$error":"#DIV/0!"},{"$error":"#DIV/0!"},{"$error":"#DIV/0!"},{"$f":"((EV67/$CG67))*($CG23/1000)","v":{"$error":"#DIV/0!"}},{"$error":"#DIV/0!"},{"$error":"#DIV/0!"},{"$f":"((EY67/$CG67))*($CG23/1000)","v":{"$error":"#DIV/0!"}},{"$error":"#DIV/0!"},{"$error":"#DIV/0!"}]
[20220421,2022,4,21,{"$f":"+MAR!F24+1","v":"2022-03-26"},"2022-04-26",32,{"$f":"+E24-MAR!F24","v":1},null,null,21,{"$f":"IF(AND(L$3>=$E24,L$3<=$F24),1,0)","v":0},0,0,0,0,0,0,0,0,0,0,0,0,0,0,0,0,0,0,0,0,0,0,0,0,0,0,0,1,1,1,1,1,1,1,1,1,1,1,1,1,1,1,1,1,1,1,1,1,1,1,1,1,1,1,1,1,1,1,1,0,0,0,0,0,0,0,0,0,0,0,null,{"$error":"#DIV/0!"},89301312,21,{"$f":"((CI68/$CG68))*($CG24/1000)","v":{"$error":"#DIV/0!"}},{"$error":"#DIV/0!"},{"$error":"#DIV/0!"},{"$error":"#DIV/0!"},{"$error":"#DIV/0!"},{"$error":"#DIV/0!"},{"$error":"#DIV/0!"},{"$error":"#DIV/0!"},{"$error":"#DIV/0!"},{"$error":"#DIV/0!"},{"$error":"#DIV/0!"},{"$error":"#DIV/0!"},{"$error":"#DIV/0!"},{"$error":"#DIV/0!"},{"$error":"#DIV/0!"},{"$error":"#DIV/0!"},{"$error":"#DIV/0!"},{"$error":"#DIV/0!"},{"$error":"#DIV/0!"},{"$error":"#DIV/0!"},{"$error":"#DIV/0!"},{"$error":"#DIV/0!"},{"$error":"#DIV/0!"},{"$error":"#DIV/0!"},{"$error":"#DIV/0!"},{"$error":"#DIV/0!"},{"$error":"#DIV/0!"},{"$error":"#DIV/0!"},{"$error":"#DIV/0!"},{"$error":"#DIV/0!"},{"$error":"#DIV/0!"},{"$error":"#DIV/0!"},{"$f":"((DO68/$CG68))*($CG24/1000)","v":{"$error":"#DIV/0!"}},{"$error":"#DIV/0!"},{"$error":"#DIV/0!"},{"$error":"#DIV/0!"},{"$error":"#DIV/0!"},{"$error":"#DIV/0!"},{"$error":"#DIV/0!"},{"$error":"#DIV/0!"},{"$error":"#DIV/0!"},{"$error":"#DIV/0!"},{"$error":"#DIV/0!"},{"$error":"#DIV/0!"},{"$error":"#DIV/0!"},{"$error":"#DIV/0!"},{"$error":"#DIV/0!"},{"$error":"#DIV/0!"},{"$error":"#DIV/0!"},{"$error":"#DIV/0!"},{"$error":"#DIV/0!"},{"$error":"#DIV/0!"},{"$error":"#DIV/0!"},{"$error":"#DIV/0!"},{"$error":"#DIV/0!"},{"$error":"#DIV/0!"},{"$error":"#DIV/0!"},{"$error":"#DIV/0!"},{"$error":"#DIV/0!"},{"$error":"#DIV/0!"},{"$error":"#DIV/0!"},{"$error":"#DIV/0!"},{"$error":"#DIV/0!"},{"$error":"#DIV/0!"},{"$error":"#DIV/0!"},{"$f":"((EV68/$CG68))*($CG24/1000)","v":{"$error":"#DIV/0!"}},{"$error":"#DIV/0!"},{"$error":"#DIV/0!"},{"$f":"((EY68/$CG68))*($CG24/1000)","v":{"$error":"#DIV/0!"}},{"$error":"#DIV/0!"},{"$error":"#DIV/0!"}]
[{"$f":"+A24+2","v":20220423},2022,4,23,{"$f":"+MAR!F25+1","v":"2022-04-01"},{"$f":"DATE(A1,A2,30)","v":"2022-04-30"},30,{"$f":"+E25-MAR!F25","v":1},null,null,23,0,0,0,0,0,0,0,0,0,0,0,0,0,0,0,0,0,0,0,0,0,0,0,0,0,0,0,0,0,0,0,0,0,0,1,1,1,1,1,1,1,1,1,1,1,1,1,1,1,1,1,1,1,1,1,1,1,1,1,1,1,1,1,1,0,0,0,0,0,0,0,null,{"$f":"SUM(CI25:FA25)-CG25/1000","v":{"$error":"#DIV/0!"}},125194297,23,{"$f":"((CI69/$CG69))*($CG25/1000)","v":{"$error":"#DIV/0!"}},{"$f":"((CJ69/$CG69))*($CG25/1000)","v":{"$error":"#DIV/0!"}},{"$error":"#DIV/0!"},{"$error":"#DIV/0!"},{"$error":"#DIV/0!"},{"$error":"#DIV/0!"},{"$error":"#DIV/0!"},{"$error":"#DIV/0!"},{"$error":"#DIV/0!"},{"$error":"#DIV/0!"},{"$error":"#DIV/0!"},{"$error":"#DIV/0!"},{"$error":"#DIV/0!"},{"$error":"#DIV/0!"},{"$error":"#DIV/0!"},{"$error":"#DIV/0!"},{"$error":"#DIV/0!"},{"$error":"#DIV/0!"},{"$error":"#DIV/0!"},{"$error":"#DIV/0!"},{"$error":"#DIV/0!"},{"$error":"#DIV/0!"},{"$error":"#DIV/0!"},{"$error":"#DIV/0!"},{"$error":"#DIV/0!"},{"$error":"#DIV/0!"},{"$error":"#DIV/0!"},{"$error":"#DIV/0!"},{"$error":"#DIV/0!"},{"$error":"#DIV/0!"},{"$error":"#DIV/0!"},{"$error":"#DIV/0!"},{"$f":"((DO69/$CG69))*($CG25/1000)","v":{"$error":"#DIV/0!"}},{"$error":"#DIV/0!"},{"$error":"#DIV/0!"},{"$error":"#DIV/0!"},{"$error":"#DIV/0!"},{"$error":"#DIV/0!"},{"$error":"#DIV/0!"},{"$error":"#DIV/0!"},{"$error":"#DIV/0!"},{"$error":"#DIV/0!"},{"$error":"#DIV/0!"},{"$error":"#DIV/0!"},{"$error":"#DIV/0!"},{"$error":"#DIV/0!"},{"$error":"#DIV/0!"},{"$error":"#DIV/0!"},{"$error":"#DIV/0!"},{"$error":"#DIV/0!"},{"$error":"#DIV/0!"},{"$error":"#DIV/0!"},{"$error":"#DIV/0!"},{"$error":"#DIV/0!"},{"$error":"#DIV/0!"},{"$error":"#DIV/0!"},{"$error":"#DIV/0!"},{"$error":"#DIV/0!"},{"$error":"#DIV/0!"},{"$error":"#DIV/0!"},{"$error":"#DIV/0!"},{"$error":"#DIV/0!"},{"$error":"#DIV/0!"},{"$error":"#DIV/0!"},{"$error":"#DIV/0!"},{"$f":"((EV69/$CG69))*($CG25/1000)","v":{"$error":"#DIV/0!"}},{"$error":"#DIV/0!"},{"$error":"#DIV/0!"},{"$f":"((EY69/$CG69))*($CG25/1000)","v":{"$error":"#DIV/0!"}},{"$error":"#DIV/0!"},{"$error":"#DIV/0!"}]
[null,null,null,null,null,null,{"$f":"AVERAGE(G4:G25)","v":30},null,null,null,"Cnt",{"$f":"SUM(L4:L25)","v":1},{"$f":"SUM(M4:M25)","v":1},{"$f":"SUM(N4:N25)","v":1},2,3,4,5,6,6,6,7,8,9,10,11,11,11,12,13,14,15,16,16,16,17,18,19,20,21,21,21,20,19,18,18,17,17,17,16,15,14,13,12,12,12,11,10,9,8,8,8,8,7,6,5,4,3,3,3,2,1,1,1,1,0,{"$f":"SUM(BY4:BY25)","v":0},0,0,0,0,0,null,{"$f":"SUM(CI26:FA26)-CG26/1000","v":{"$error":"#DIV/0!"}},{"$f":"SUM(CG4:CG25)","v":1490208222},{"$f":"SUM(CI26:FA26)","v":{"$error":"#DIV/0!"}},{"$f":"SUM(CI4:CI25)","v":{"$error":"#DIV/0!"}},{"$f":"SUM(CJ4:CJ25)","v":{"$error":"#DIV/0!"}},{"$error":"#DIV/0!"},{"$error":"#DIV/0!"},{"$error":"#DIV/0!"},{"$error":"#DIV/0!"},{"$error":"#DIV/0!"},{"$error":"#DIV/0!"},{"$error":"#DIV/0!"},{"$error":"#DIV/0!"},{"$error":"#DIV/0!"},{"$error":"#DIV/0!"},{"$error":"#DIV/0!"},{"$error":"#DIV/0!"},{"$error":"#DIV/0!"},{"$error":"#DIV/0!"},{"$error":"#DIV/0!"},{"$error":"#DIV/0!"},{"$error":"#DIV/0!"},{"$error":"#DIV/0!"},{"$error":"#DIV/0!"},{"$error":"#DIV/0!"},{"$error":"#DIV/0!"},{"$error":"#DIV/0!"},{"$error":"#DIV/0!"},{"$error":"#DIV/0!"},{"$error":"#DIV/0!"},{"$error":"#DIV/0!"},{"$error":"#DIV/0!"},{"$f":"SUM(DL4:DL25)","v":{"$error":"#DIV/0!"}},{"$error":"#DIV/0!"},{"$error":"#DIV/0!"},{"$error":"#DIV/0!"},{"$error":"#DIV/0!"},{"$error":"#DIV/0!"},{"$error":"#DIV/0!"},{"$error":"#DIV/0!"},{"$error":"#DIV/0!"},{"$error":"#DIV/0!"},{"$error":"#DIV/0!"},{"$error":"#DIV/0!"},{"$error":"#DIV/0!"},{"$error":"#DIV/0!"},{"$error":"#DIV/0!"},{"$error":"#DIV/0!"},{"$error":"#DIV/0!"},{"$error":"#DIV/0!"},{"$error":"#DIV/0!"},{"$error":"#DIV/0!"},{"$error":"#DIV/0!"},{"$error":"#DIV/0!"},{"$error":"#DIV/0!"},{"$error":"#DIV/0!"},{"$error":"#DIV/0!"},{"$error":"#DIV/0!"},{"$error":"#DIV/0!"},{"$error":"#DIV/0!"},{"$error":"#DIV/0!"},{"$error":"#DIV/0!"},{"$error":"#DIV/0!"},{"$error":"#DIV/0!"},{"$error":"#DIV/0!"},{"$error":"#DIV/0!"},{"$error":"#DIV/0!"},{"$error":"#DIV/0!"},{"$f":"SUM(EV4:EV25)","v":{"$error":"#DIV/0!"}},{"$error":"#DIV/0!"},{"$error":"#DIV/0!"},{"$f":"SUM(EY4:EY25)","v":{"$error":"#DIV/0!"}},{"$error":"#DIV/0!"},{"$error":"#DIV/0!"}]
[null,null,null,null,null,"Check",{"$f":"+CD3","v":"2022-05-07"},null,{"$f":"SUM(L27:CD27)","v":30.000000000000007},null,"PctOn",{"$f":"+L26/22","v":4.5454545454545456E-2},{"$f":"+M26/22","v":4.5454545454545456E-2},4.5454545454545456E-2,9.0909090909090912E-2,0.13636363636363635,0.18181818181818182,0.22727272727272727,0.27272727272727271,0.27272727272727271,0.27272727272727271,0.31818181818181818,0.36363636363636365,0.40909090909090912,0.45454545454545453,0.5,0.5,0.5,0.54545454545454541,0.59090909090909094,0.63636363636363635,0.68181818181818177,0.72727272727272729,0.72727272727272729,0.72727272727272729,0.77272727272727271,0.81818181818181823,0.86363636363636365,0.90909090909090906,0.95454545454545459,0.95454545454545459,0.95454545454545459,0.90909090909090906,0.86363636363636365,0.81818181818181823,0.81818181818181823,0.77272727272727271,0.77272727272727271,0.77272727272727271,0.72727272727272729,0.68181818181818177,0.63636363636363635,0.59090909090909094,0.54545454545454541,0.54545454545454541,0.54545454545454541,0.5,0.45454545454545453,0.40909090909090912,0.36363636363636365,0.36363636363636365,0.36363636363636365,0.36363636363636365,0.31818181818181818,0.27272727272727271,0.22727272727272727,0.18181818181818182,0.13636363636363635,0.13636363636363635,0.13636363636363635,9.0909090909090912E-2,4.5454545454545456E-2,4.5454545454545456E-2,4.5454545454545456E-2,4.5454545454545456E-2,0,{"$f":"+BY26/22","v":0},0,0,0,0,0,null,null,null,"NEL---->>>",{"$f":"VLOOKUP(CI3,Daily!$A$2:$H$459,8)","v":0},{"$f":"VLOOKUP(CJ3,Daily!$A$2:$H$459,8)","v":0},{"$f":"VLOOKUP(CK3,Daily!$A$2:$H$459,8)","v":0},{"$f":"VLOOKUP(CL3,Daily!$A$2:$H$459,8)","v":0},{"$f":"VLOOKUP(CM3,Daily!$A$2:$H$459,8)","v":0},{"$f":"VLOOKUP(CN3,Daily!$A$2:$H$459,8)","v":0},{"$f":"VLOOKUP(CO3,Daily!$A$2:$H$459,8)","v":0},{"$f":"VLOOKUP(CP3,Daily!$A$2:$H$459,8)","v":0},{"$f":"VLOOKUP(CQ3,Daily!$A$2:$H$459,8)","v":0},{"$f":"VLOOKUP(CR3,Daily!$A$2:$H$459,8)","v":0},{"$f":"VLOOKUP(CS3,Daily!$A$2:$H$459,8)","v":0},{"$f":"VLOOKUP(CT3,Daily!$A$2:$H$459,8)","v":0},{"$f":"VLOOKUP(CU3,Daily!$A$2:$H$459,8)","v":0},{"$f":"VLOOKUP(CV3,Daily!$A$2:$H$459,8)","v":0},{"$f":"VLOOKUP(CW3,Daily!$A$2:$H$459,8)","v":0},{"$f":"VLOOKUP(CX3,Daily!$A$2:$H$459,8)","v":0},{"$f":"VLOOKUP(CY3,Daily!$A$2:$H$459,8)","v":0},{"$f":"VLOOKUP(CZ3,Daily!$A$2:$H$459,8)","v":0},{"$f":"VLOOKUP(DA3,Daily!$A$2:$H$459,8)","v":0},{"$f":"VLOOKUP(DB3,Daily!$A$2:$H$459,8)","v":0},{"$f":"VLOOKUP(DC3,Daily!$A$2:$H$459,8)","v":0},{"$f":"VLOOKUP(DD3,Daily!$A$2:$H$459,8)","v":0},{"$f":"VLOOKUP(DE3,Daily!$A$2:$H$459,8)","v":0},{"$f":"VLOOKUP(DF3,Daily!$A$2:$H$459,8)","v":0},{"$f":"VLOOKUP(DG3,Daily!$A$2:$H$459,8)","v":0},{"$f":"VLOOKUP(DH3,Daily!$A$2:$H$459,8)","v":0},{"$f":"VLOOKUP(DI3,Daily!$A$2:$H$459,8)","v":0},{"$f":"VLOOKUP(DJ3,Daily!$A$2:$H$459,8)","v":0},{"$f":"VLOOKUP(DK3,Daily!$A$2:$H$459,8)","v":0},{"$f":"VLOOKUP(DL3,Daily!$A$2:$H$459,8)","v":0},{"$f":"VLOOKUP(DM3,Daily!$A$2:$H$459,8)","v":0},{"$f":"VLOOKUP(DN3,Daily!$A$2:$H$459,8)","v":0},{"$f":"VLOOKUP(DO3,Daily!$A$2:$H$459,8)","v":0},{"$f":"VLOOKUP(DP3,Daily!$A$2:$H$459,8)","v":0},{"$f":"VLOOKUP(DQ3,Daily!$A$2:$H$459,8)","v":0},{"$f":"VLOOKUP(DR3,Daily!$A$2:$H$459,8)","v":0},{"$f":"VLOOKUP(DS3,Daily!$A$2:$H$459,8)","v":0},{"$f":"VLOOKUP(DT3,Daily!$A$2:$H$459,8)","v":0},{"$f":"VLOOKUP(DU3,Daily!$A$2:$H$459,8)","v":0},{"$f":"VLOOKUP(DV3,Daily!$A$2:$H$459,8)","v":0},{"$f":"VLOOKUP(DW3,Daily!$A$2:$H$459,8)","v":0},{"$f":"VLOOKUP(DX3,Daily!$A$2:$H$459,8)","v":0},{"$f":"VLOOKUP(DY3,Daily!$A$2:$H$459,8)","v":0},{"$f":"VLOOKUP(DZ3,Daily!$A$2:$H$459,8)","v":0},{"$f":"VLOOKUP(EA3,Daily!$A$2:$H$459,8)","v":0},{"$f":"VLOOKUP(EB3,Daily!$A$2:$H$459,8)","v":0},{"$f":"VLOOKUP(EC3,Daily!$A$2:$H$459,8)","v":0},{"$f":"VLOOKUP(ED3,Daily!$A$2:$H$459,8)","v":0},{"$f":"VLOOKUP(EE3,Daily!$A$2:$H$459,8)","v":0},{"$f":"VLOOKUP(EF3,Daily!$A$2:$H$459,8)","v":0},{"$f":"VLOOKUP(EG3,Daily!$A$2:$H$459,8)","v":0},{"$f":"VLOOKUP(EH3,Daily!$A$2:$H$459,8)","v":0},{"$f":"VLOOKUP(EI3,Daily!$A$2:$H$459,8)","v":0},{"$f":"VLOOKUP(EJ3,Daily!$A$2:$H$459,8)","v":0},{"$f":"VLOOKUP(EK3,Daily!$A$2:$H$459,8)","v":0},{"$f":"VLOOKUP(EL3,Daily!$A$2:$H$459,8)","v":0},{"$f":"VLOOKUP(EM3,Daily!$A$2:$H$459,8)","v":0},{"$f":"VLOOKUP(EN3,Daily!$A$2:$H$459,8)","v":0},{"$f":"VLOOKUP(EO3,Daily!$A$2:$H$459,8)","v":0},{"$f":"VLOOKUP(EP3,Daily!$A$2:$H$459,8)","v":0},{"$f":"VLOOKUP(EQ3,Daily!$A$2:$H$459,8)","v":0},{"$f":"VLOOKUP(ER3,Daily!$A$2:$H$459,8)","v":0},{"$f":"VLOOKUP(ES3,Daily!$A$2:$H$459,8)","v":0},{"$f":"VLOOKUP(ET3,Daily!$A$2:$H$459,8)","v":0},{"$f":"VLOOKUP(EU3,Daily!$A$2:$H$459,8)","v":0},{"$f":"VLOOKUP(EV3,Daily!$A$2:$H$459,8)","v":0},{"$f":"VLOOKUP(EW3,Daily!$A$2:$H$459,8)","v":0},{"$f":"VLOOKUP(EX3,Daily!$A$2:$H$459,8)","v":0},{"$f":"VLOOKUP(EY3,Daily!$A$2:$H$459,8)","v":0},{"$f":"VLOOKUP(EZ3,Daily!$A$2:$H$459,8)","v":0},{"$f":"VLOOKUP(FA3,Daily!$A$2:$H$459,8)","v":0}]
[null,null,null,null,null,null,null,null,null,null,"PctOff",{"$f":"1-L27","v":0.95454545454545459},{"$f":"1-M27","v":0.95454545454545459},0.95454545454545459,0.90909090909090906,0.86363636363636365,0.81818181818181812,0.77272727272727271,0.72727272727272729,0.72727272727272729,0.72727272727272729,0.68181818181818188,0.63636363636363635,0.59090909090909083,0.54545454545454541,0.5,0.5,0.5,0.45454545454545459,0.40909090909090906,0.36363636363636365,0.31818181818181823,0.27272727272727271,0.27272727272727271,0.27272727272727271,0.22727272727272729,0.18181818181818177,0.13636363636363635,9.0909090909090939E-2,4.5454545454545414E-2,4.5454545454545414E-2,4.5454545454545414E-2,9.0909090909090939E-2,0.13636363636363635,0.18181818181818177,0.18181818181818177,0.22727272727272729,0.22727272727272729,0.22727272727272729,0.27272727272727271,0.31818181818181823,0.36363636363636365,0.40909090909090906,0.45454545454545459,0.45454545454545459,0.45454545454545459,0.5,0.54545454545454541,0.59090909090909083,0.63636363636363635,0.63636363636363635,0.63636363636363635,0.63636363636363635,0.68181818181818188,0.72727272727272729,0.77272727272727271,0.81818181818181812,0.86363636363636365,0.86363636363636365,0.86363636363636365,0.90909090909090906,0.95454545454545459,0.95454545454545459,0.95454545454545459,{"$f":"1-BW27","v":0.95454545454545459},{"$f":"1-BX27","v":1},{"$f":"1-BY27","v":1},1,1,{"$f":"1-CB27","v":1},1,1,null,null,"April:"]
[null,null,null,null,null,null,null,null,null,"Average","Temp",{"$f":"VLOOKUP(L3,Daily!$A:$D,4)","v":76},{"$f":"VLOOKUP(M3,Daily!$A:$D,4)","v":75.5},{"$f":"VLOOKUP(N3,Daily!$A:$D,4)","v":72},{"$f":"VLOOKUP(O3,Daily!$A:$D,4)","v":69.5},{"$f":"VLOOKUP(P3,Daily!$A:$D,4)","v":68},{"$f":"VLOOKUP(Q3,Daily!$A:$D,4)","v":71},{"$f":"VLOOKUP(R3,Daily!$A:$D,4)","v":77},{"$f":"VLOOKUP(S3,Daily!$A:$D,4)","v":76},{"$f":"VLOOKUP(T3,Daily!$A:$D,4)","v":77.5},{"$f":"VLOOKUP(U3,Daily!$A:$D,4)","v":79.5},{"$f":"VLOOKUP(V3,Daily!$A:$D,4)","v":80},{"$f":"VLOOKUP(W3,Daily!$A:$D,4)","v":80.5},{"$f":"VLOOKUP(X3,Daily!$A:$D,4)","v":78},{"$f":"VLOOKUP(Y3,Daily!$A:$D,4)","v":79},{"$f":"VLOOKUP(Z3,Daily!$A:$D,4)","v":63.5},{"$f":"VLOOKUP(AA3,Daily!$A:$D,4)","v":55.5},{"$f":"VLOOKUP(AB3,Daily!$A:$D,4)","v":67.5},{"$f":"VLOOKUP(AC3,Daily!$A:$D,4)","v":75.5},{"$f":"VLOOKUP(AD3,Daily!$A:$D,4)","v":74},{"$f":"VLOOKUP(AE3,Daily!$A:$D,4)","v":72},{"$f":"VLOOKUP(AF3,Daily!$A:$D,4)","v":76},{"$f":"VLOOKUP(AG3,Daily!$A:$D,4)","v":77.5},{"$f":"VLOOKUP(AH3,Daily!$A:$D,4)","v":74.5},{"$f":"VLOOKUP(AI3,Daily!$A:$D,4)","v":71},{"$f":"VLOOKUP(AJ3,Daily!$A:$D,4)","v":77},{"$f":"VLOOKUP(AK3,Daily!$A:$D,4)","v":80},{"$f":"VLOOKUP(AL3,Daily!$A:$D,4)","v":70},{"$f":"VLOOKUP(AM3,Daily!$A:$D,4)","v":71},{"$f":"VLOOKUP(AN3,Daily!$A:$D,4)","v":70.5},{"$f":"VLOOKUP(AO3,Daily!$A:$D,4)","v":72},{"$f":"VLOOKUP(AP3,Daily!$A:$D,4)","v":75},{"$f":"VLOOKUP(AQ3,Daily!$A:$D,4)","v":75},{"$f":"VLOOKUP(AR3,Daily!$A:$D,4)","v":78.5},{"$f":"VLOOKUP(AS3,Daily!$A:$D,4)","v":79.5},{"$f":"VLOOKUP(AT3,Daily!$A:$D,4)","v":75.5},{"$f":"VLOOKUP(AU3,Daily!$A:$D,4)","v":74},{"$f":"VLOOKUP(AV3,Daily!$A:$D,4)","v":74},{"$f":"VLOOKUP(AW3,Daily!$A:$D,4)","v":75},{"$f":"VLOOKUP(AX3,Daily!$A:$D,4)","v":80},{"$f":"VLOOKUP(AY3,Daily!$A:$D,4)","v":82},{"$f":"VLOOKUP(AZ3,Daily!$A:$D,4)","v":76},{"$f":"VLOOKUP(BA3,Daily!$A:$D,4)","v":71},{"$f":"VLOOKUP(BB3,Daily!$A:$D,4)","v":67},{"$f":"VLOOKUP(BC3,Daily!$A:$D,4)","v":66.5},{"$f":"VLOOKUP(BD3,Daily!$A:$D,4)","v":73.5},{"$f":"VLOOKUP(BE3,Daily!$A:$D,4)","v":77},{"$f":"VLOOKUP(BF3,Daily!$A:$D,4)","v":78},{"$f":"VLOOKUP(BG3,Daily!$A:$D,4)","v":80.5},{"$f":"VLOOKUP(BH3,Daily!$A:$D,4)","v":80},{"$f":"VLOOKUP(BI3,Daily!$A:$D,4)","v":80.5},{"$f":"VLOOKUP(BJ3,Daily!$A:$D,4)","v":81.5},{"$f":"VLOOKUP(BK3,Daily!$A:$D,4)","v":82},{"$f":"VLOOKUP(BL3,Daily!$A:$D,4)","v":75},{"$f":"VLOOKUP(BM3,Daily!$A:$D,4)","v":73},{"$f":"VLOOKUP(BN3,Daily!$A:$D,4)","v":77},{"$f":"VLOOKUP(BO3,Daily!$A:$D,4)","v":77},{"$f":"VLOOKUP(BP3,Daily!$A:$D,4)","v":78},{"$f":"VLOOKUP(BQ3,Daily!$A:$D,4)","v":79.5},{"$f":"VLOOKUP(BR3,Daily!$A:$D,4)","v":80.5},{"$f":"VLOOKUP(BS3,Daily!$A:$D,4)","v":79.5},{"$f":"VLOOKUP(BT3,Daily!$A:$D,4)","v":77},{"$f":"VLOOKUP(BU3,Daily!$A:$D,4)","v":79},{"$f":"VLOOKUP(BV3,Daily!$A:$D,4)","v":79},{"$f":"VLOOKUP(BW3,Daily!$A:$D,4)","v":77},{"$f":"VLOOKUP(BX3,Daily!$A:$D,4)","v":77.5},{"$f":"VLOOKUP(BY3,Daily!$A:$D,4)","v":79},{"$f":"VLOOKUP(BZ3,Daily!$A:$D,4)","v":79.5},{"$f":"VLOOKUP(CA3,Daily!$A:$D,4)","v":80.5},{"$f":"VLOOKUP(CB3,Daily!$A:$D,4)","v":83},{"$f":"VLOOKUP(CC3,Daily!$A:$D,4)","v":82.5},{"$f":"VLOOKUP(CD3,Daily!$A:$D,4)","v":80.5},null,null,"Billed",{"$f":"SUM(CI29:FA29)","v":{"$error":"#DIV/0!"}},{"$f":"IF(CI2=$A$2,CI26,0)","v":0},0,0,0,0,0,0,0,0,0,0,0,0,0,0,0,0,0,0,0,0,0,0,0,0,0,0,0,0,0,0,0,{"$f":"IF(DO2=$A$2,DO26,0)","v":0},{"$f":"IF(DP2=$A$2,DP26,0)","v":0},{"$error":"#DIV/0!"},{"$error":"#DIV/0!"},{"$error":"#DIV/0!"},{"$error":"#DIV/0!"},{"$error":"#DIV/0!"},{"$error":"#DIV/0!"},{"$error":"#DIV/0!"},{"$error":"#DIV/0!"},{"$error":"#DIV/0!"},{"$error":"#DIV/0!"},{"$error":"#DIV/0!"},{"$error":"#DIV/0!"},{"$error":"#DIV/0!"},{"$error":"#DIV/0!"},{"$error":"#DIV/0!"},{"$error":"#DIV/0!"},{"$error":"#DIV/0!"},{"$error":"#DIV/0!"},{"$error":"#DIV/0!"},{"$error":"#DIV/0!"},{"$error":"#DIV/0!"},{"$error":"#DIV/0!"},{"$error":"#DIV/0!"},{"$error":"#DIV/0!"},{"$error":"#DIV/0!"},{"$error":"#DIV/0!"},{"$error":"#DIV/0!"},{"$error":"#DIV/0!"},{"$f":"IF(ES2=$A$2,ES26,0)","v":{"$error":"#DIV/0!"}},{"$error":"#DIV/0!"},0,{"$f":"IF(EV2=$A$2,EV26,0)","v":0},0,0,{"$f":"IF(EY2=$A$2,EY26,0)","v":0},0,0]
[null,null,null,null,null,null,null,null,{"$f":"SUM(L30:CD30)","v":0},"Calendar","HDD",{"$f":"IF((L3>=DATE($A$1,$A$2,1))*(L3<=DATE($A$1,$A$2,DAY(EOMONTH(DATE($A$1,$A$2,1),0)))), IF(L29<65,65-L29,0),0)","v":0},{"$f":"IF((M3>=DATE($A$1,$A$2,1))*(M3<=DATE($A$1,$A$2,DAY(EOMONTH(DATE($A$1,$A$2,1),0)))), IF(M29<65,65-M29,0),0)","v":0},0,0,0,0,0,0,0,0,0,0,0,0,0,0,0,0,0,0,0,0,0,0,0,0,0,0,0,0,0,0,0,0,0,0,0,0,0,0,0,0,0,0,0,0,0,0,0,0,0,0,0,0,0,0,0,0,0,0,0,0,0,0,0,{"$f":"IF((BY3>=DATE($A$1,$A$2,1))*(BY3<=DATE($A$1,$A$2,DAY(EOMONTH(DATE($A$1,$A$2,1),0)))), IF(BY29<65,65-BY29,0),0)","v":0},0,0,0,0,0,null,null,"Unbilled1",{"$f":"SUM(CI30:FA30)","v":0},{"$f":"IFERROR(IF(CI2=$A$2,HLOOKUP(CI3,#REF!,24),0),0)","v":0},{"$f":"IFERROR(IF(CJ2=$A$2,HLOOKUP(CJ3,#REF!,24),0),0)","v":0},{"$f":"IFERROR(IF(CK2=$A$2,HLOOKUP(CK3,#REF!,24),0),0)","v":0},{"$f":"IFERROR(IF(CL2=$A$2,HLOOKUP(CL3,#REF!,24),0),0)","v":0},{"$f":"IFERROR(IF(CM2=$A$2,HLOOKUP(CM3,#REF!,24),0),0)","v":0},{"$f":"IFERROR(IF(CN2=$A$2,HLOOKUP(CN3,#REF!,24),0),0)","v":0},{"$f":"IFERROR(IF(CO2=$A$2,HLOOKUP(CO3,#REF!,24),0),0)","v":0},{"$f":"IFERROR(IF(CP2=$A$2,HLOOKUP(CP3,#REF!,24),0),0)","v":0},{"$f":"IFERROR(IF(CQ2=$A$2,HLOOKUP(CQ3,#REF!,24),0),0)","v":0},{"$f":"IFERROR(IF(CR2=$A$2,HLOOKUP(CR3,#REF!,24),0),0)","v":0},{"$f":"IFERROR(IF(CS2=$A$2,HLOOKUP(CS3,#REF!,24),0),0)","v":0},{"$f":"IFERROR(IF(CT2=$A$2,HLOOKUP(CT3,#REF!,24),0),0)","v":0},{"$f":"IFERROR(IF(CU2=$A$2,HLOOKUP(CU3,#REF!,24),0),0)","v":0},{"$f":"IFERROR(IF(CV2=$A$2,HLOOKUP(CV3,#REF!,24),0),0)","v":0},{"$f":"IFERROR(IF(CW2=$A$2,HLOOKUP(CW3,#REF!,24),0),0)","v":0},{"$f":"IFERROR(IF(CX2=$A$2,HLOOKUP(CX3,#REF!,24),0),0)","v":0},{"$f":"IFERROR(IF(CY2=$A$2,HLOOKUP(CY3,#REF!,24),0),0)","v":0},{"$f":"IFERROR(IF(CZ2=$A$2,HLOOKUP(CZ3,#REF!,24),0),0)","v":0},{"$f":"IFERROR(IF(DA2=$A$2,HLOOKUP(DA3,#REF!,24),0),0)","v":0},{"$f":"IFERROR(IF(DB2=$A$2,HLOOKUP(DB3,#REF!,24),0),0)","v":0},{"$f":"IFERROR(IF(DC2=$A$2,HLOOKUP(DC3,#REF!,24),0),0)","v":0},{"$f":"IFERROR(IF(DD2=$A$2,HLOOKUP(DD3,#REF!,24),0),0)","v":0},{"$f":"IFERROR(IF(DE2=$A$2,HLOOKUP(DE3,#REF!,24),0),0)","v":0},{"$f":"IFERROR(IF(DF2=$A$2,HLOOKUP(DF3,#REF!,24),0),0)","v":0},{"$f":"IFERROR(IF(DG2=$A$2,HLOOKUP(DG3,#REF!,24),0),0)","v":0},{"$f":"IFERROR(IF(DH2=$A$2,HLOOKUP(DH3,#REF!,24),0),0)","v":0},{"$f":"IFERROR(IF(DI2=$A$2,HLOOKUP(DI3,#REF!,24),0),0)","v":0},{"$f":"IFERROR(IF(DJ2=$A$2,HLOOKUP(DJ3,#REF!,24),0),0)","v":0},{"$f":"IFERROR(IF(DK2=$A$2,HLOOKUP(DK3,#REF!,24),0),0)","v":0},{"$f":"IFERROR(IF(DL2=$A$2,HLOOKUP(DL3,#REF!,24),0),0)","v":0},{"$f":"IFERROR(IF(DM2=$A$2,HLOOKUP(DM3,#REF!,24),0),0)","v":0},{"$f":"IFERROR(IF(DN2=$A$2,HLOOKUP(DN3,#REF!,24),0),0)","v":0},{"$f":"IFERROR(IF(DO2=$A$2,HLOOKUP(DO3,#REF!,24),0),0)","v":0},{"$f":"IFERROR(IF(DP2=$A$2,HLOOKUP(DP3,#REF!,24),0),0)","v":0},{"$f":"IFERROR(IF(DQ2=$A$2,HLOOKUP(DQ3,#REF!,24),0),0)","v":0},{"$f":"IFERROR(IF(DR2=$A$2,HLOOKUP(DR3,#REF!,24),0),0)","v":0},{"$f":"IFERROR(IF(DS2=$A$2,HLOOKUP(DS3,#REF!,24),0),0)","v":0},{"$f":"IFERROR(IF(DT2=$A$2,HLOOKUP(DT3,#REF!,24),0),0)","v":0},{"$f":"IFERROR(IF(DU2=$A$2,HLOOKUP(DU3,#REF!,24),0),0)","v":0},{"$f":"IFERROR(IF(DV2=$A$2,HLOOKUP(DV3,#REF!,24),0),0)","v":0},{"$f":"IFERROR(IF(DW2=$A$2,HLOOKUP(DW3,#REF!,24),0),0)","v":0},{"$f":"IFERROR(IF(DX2=$A$2,HLOOKUP(DX3,#REF!,24),0),0)","v":0},{"$f":"IFERROR(IF(DY2=$A$2,HLOOKUP(DY3,#REF!,24),0),0)","v":0},{"$f":"IFERROR(IF(DZ2=$A$2,HLOOKUP(DZ3,#REF!,24),0),0)","v":0},{"$f":"IFERROR(IF(EA2=$A$2,HLOOKUP(EA3,#REF!,24),0),0)","v":0},{"$f":"IFERROR(IF(EB2=$A$2,HLOOKUP(EB3,#REF!,24),0),0)","v":0},{"$f":"IFERROR(IF(EC2=$A$2,HLOOKUP(EC3,#REF!,24),0),0)","v":0},{"$f":"IFERROR(IF(ED2=$A$2,HLOOKUP(ED3,#REF!,24),0),0)","v":0},{"$f":"IFERROR(IF(EE2=$A$2,HLOOKUP(EE3,#REF!,24),0),0)","v":0},{"$f":"IFERROR(IF(EF2=$A$2,HLOOKUP(EF3,#REF!,24),0),0)","v":0},{"$f":"IFERROR(IF(EG2=$A$2,HLOOKUP(EG3,#REF!,24),0),0)","v":0},{"$f":"IFERROR(IF(EH2=$A$2,HLOOKUP(EH3,#REF!,24),0),0)","v":0},{"$f":"IFERROR(IF(EI2=$A$2,HLOOKUP(EI3,#REF!,24),0),0)","v":0},{"$f":"IFERROR(IF(EJ2=$A$2,HLOOKUP(EJ3,#REF!,24),0),0)","v":0},{"$f":"IFERROR(IF(EK2=$A$2,HLOOKUP(EK3,#REF!,24),0),0)","v":0},{"$f":"IFERROR(IF(EL2=$A$2,HLOOKUP(EL3,#REF!,24),0),0)","v":0},{"$f":"IFERROR(IF(EM2=$A$2,HLOOKUP(EM3,#REF!,24),0),0)","v":0},{"$f":"IFERROR(IF(EN2=$A$2,HLOOKUP(EN3,#REF!,24),0),0)","v":0},{"$f":"IFERROR(IF(EO2=$A$2,HLOOKUP(EO3,#REF!,24),0),0)","v":0},{"$f":"IFERROR(IF(EP2=$A$2,HLOOKUP(EP3,#REF!,24),0),0)","v":0},{"$f":"IFERROR(IF(EQ2=$A$2,HLOOKUP(EQ3,#REF!,24),0),0)","v":0},{"$f":"IFERROR(IF(ER2=$A$2,HLOOKUP(ER3,#REF!,24),0),0)","v":0},{"$f":"IFERROR(IF(ES2=$A$2,HLOOKUP(ES3,#REF!,24),0),0)","v":0},{"$f":"IFERROR(IF(ET2=$A$2,HLOOKUP(ET3,#REF!,24),0),0)","v":0},{"$f":"IFERROR(IF(EU2=$A$2,HLOOKUP(EU3,#REF!,24),0),0)","v":0},{"$f":"IFERROR(IF(EV2=$A$2,HLOOKUP(EV3,#REF!,24),0),0)","v":0},{"$f":"IFERROR(IF(EW2=$A$2,HLOOKUP(EW3,#REF!,24),0),0)","v":0},{"$f":"IFERROR(IF(EX2=$A$2,HLOOKUP(EX3,#REF!,24),0),0)","v":0},{"$f":"IFERROR(IF(EY2=$A$2,HLOOKUP(EY3,#REF!,24),0),0)","v":0},{"$f":"IFERROR(IF(EZ2=$A$2,HLOOKUP(EZ3,#REF!,24),0),0)","v":0},{"$f":"IFERROR(IF(FA2=$A$2,HLOOKUP(FA3,#REF!,24),0),0)","v":0}]
[null,null,null,null,null,null,null,null,355.5,"Calendar","CDD",{"$f":"IF((L3>=DATE($A$1,$A$2,1))*(L3<=DATE($A$1,$A$2,DAY(EOMONTH(DATE($A$1,$A$2,1),0)))), IF(L29>65,L29-65,0),0)","v":0},{"$f":"IF((M3>=DATE($A$1,$A$2,1))*(M3<=DATE($A$1,$A$2,DAY(EOMONTH(DATE($A$1,$A$2,1),0)))), IF(M29>65,M29-65,0),0)","v":0},0,0,0,0,0,0,0,0,0,0,0,0,0,0,0,0,0,0,0,0,0,0,0,0,0,0,0,0,0,0,0,0,10.5,9,9,10,15,17,11,6,2,1.5,8.5,12,13,15.5,15,15.5,16.5,17,10,8,12,12,13,14.5,15.5,14.5,12,14,14,12,0,{"$f":"IF((BY3>=DATE($A$1,$A$2,1))*(BY3<=DATE($A$1,$A$2,DAY(EOMONTH(DATE($A$1,$A$2,1),0)))), IF(BY29>65,BY29-65,0),0)","v":0},0,0,0,0,0,null,null,"Unbilled2",0,{"$f":"IFERROR(IF(CI2=$A$2,HLOOKUP(CI3,#REF!,24),0),0)","v":0},{"$f":"IFERROR(IF(CJ2=$A$2,HLOOKUP(CJ3,#REF!,24),0),0)","v":0},{"$f":"IFERROR(IF(CK2=$A$2,HLOOKUP(CK3,#REF!,24),0),0)","v":0},{"$f":"IFERROR(IF(CL2=$A$2,HLOOKUP(CL3,#REF!,24),0),0)","v":0},{"$f":"IFERROR(IF(CM2=$A$2,HLOOKUP(CM3,#REF!,24),0),0)","v":0},{"$f":"IFERROR(IF(CN2=$A$2,HLOOKUP(CN3,#REF!,24),0),0)","v":0},{"$f":"IFERROR(IF(CO2=$A$2,HLOOKUP(CO3,#REF!,24),0),0)","v":0},{"$f":"IFERROR(IF(CP2=$A$2,HLOOKUP(CP3,#REF!,24),0),0)","v":0},{"$f":"IFERROR(IF(CQ2=$A$2,HLOOKUP(CQ3,#REF!,24),0),0)","v":0},{"$f":"IFERROR(IF(CR2=$A$2,HLOOKUP(CR3,#REF!,24),0),0)","v":0},{"$f":"IFERROR(IF(CS2=$A$2,HLOOKUP(CS3,#REF!,24),0),0)","v":0},{"$f":"IFERROR(IF(CT2=$A$2,HLOOKUP(CT3,#REF!,24),0),0)","v":0},{"$f":"IFERROR(IF(CU2=$A$2,HLOOKUP(CU3,#REF!,24),0),0)","v":0},{"$f":"IFERROR(IF(CV2=$A$2,HLOOKUP(CV3,#REF!,24),0),0)","v":0},{"$f":"IFERROR(IF(CW2=$A$2,HLOOKUP(CW3,#REF!,24),0),0)","v":0},{"$f":"IFERROR(IF(CX2=$A$2,HLOOKUP(CX3,#REF!,24),0),0)","v":0},{"$f":"IFERROR(IF(CY2=$A$2,HLOOKUP(CY3,#REF!,24),0),0)","v":0},{"$f":"IFERROR(IF(CZ2=$A$2,HLOOKUP(CZ3,#REF!,24),0),0)","v":0},{"$f":"IFERROR(IF(DA2=$A$2,HLOOKUP(DA3,#REF!,24),0),0)","v":0},{"$f":"IFERROR(IF(DB2=$A$2,HLOOKUP(DB3,#REF!,24),0),0)","v":0},{"$f":"IFERROR(IF(DC2=$A$2,HLOOKUP(DC3,#REF!,24),0),0)","v":0},{"$f":"IFERROR(IF(DD2=$A$2,HLOOKUP(DD3,#REF!,24),0),0)","v":0},{"$f":"IFERROR(IF(DE2=$A$2,HLOOKUP(DE3,#REF!,24),0),0)","v":0},{"$f":"IFERROR(IF(DF2=$A$2,HLOOKUP(DF3,#REF!,24),0),0)","v":0},{"$f":"IFERROR(IF(DG2=$A$2,HLOOKUP(DG3,#REF!,24),0),0)","v":0},{"$f":"IFERROR(IF(DH2=$A$2,HLOOKUP(DH3,#REF!,24),0),0)","v":0},{"$f":"IFERROR(IF(DI2=$A$2,HLOOKUP(DI3,#REF!,24),0),0)","v":0},{"$f":"IFERROR(IF(DJ2=$A$2,HLOOKUP(DJ3,#REF!,24),0),0)","v":0},{"$f":"IFERROR(IF(DK2=$A$2,HLOOKUP(DK3,#REF!,24),0),0)","v":0},{"$f":"IFERROR(IF(DL2=$A$2,HLOOKUP(DL3,#REF!,24),0),0)","v":0},{"$f":"IFERROR(IF(DM2=$A$2,HLOOKUP(DM3,#REF!,24),0),0)","v":0},{"$f":"IFERROR(IF(DN2=$A$2,HLOOKUP(DN3,#REF!,24),0),0)","v":0},{"$f":"IFERROR(IF(DO2=$A$2,HLOOKUP(DO3,#REF!,24),0),0)","v":0},{"$f":"IFERROR(IF(DP2=$A$2,HLOOKUP(DP3,#REF!,24),0),0)","v":0},{"$f":"IFERROR(IF(DQ2=$A$2,HLOOKUP(DQ3,#REF!,24),0),0)","v":0},{"$f":"IFERROR(IF(DR2=$A$2,HLOOKUP(DR3,#REF!,24),0),0)","v":0},{"$f":"IFERROR(IF(DS2=$A$2,HLOOKUP(DS3,#REF!,24),0),0)","v":0},{"$f":"IFERROR(IF(DT2=$A$2,HLOOKUP(DT3,#REF!,24),0),0)","v":0},{"$f":"IFERROR(IF(DU2=$A$2,HLOOKUP(DU3,#REF!,24),0),0)","v":0},{"$f":"IFERROR(IF(DV2=$A$2,HLOOKUP(DV3,#REF!,24),0),0)","v":0},{"$f":"IFERROR(IF(DW2=$A$2,HLOOKUP(DW3,#REF!,24),0),0)","v":0},{"$f":"IFERROR(IF(DX2=$A$2,HLOOKUP(DX3,#REF!,24),0),0)","v":0},{"$f":"IFERROR(IF(DY2=$A$2,HLOOKUP(DY3,#REF!,24),0),0)","v":0},{"$f":"IFERROR(IF(DZ2=$A$2,HLOOKUP(DZ3,#REF!,24),0),0)","v":0},{"$f":"IFERROR(IF(EA2=$A$2,HLOOKUP(EA3,#REF!,24),0),0)","v":0},{"$f":"IFERROR(IF(EB2=$A$2,HLOOKUP(EB3,#REF!,24),0),0)","v":0},{"$f":"IFERROR(IF(EC2=$A$2,HLOOKUP(EC3,#REF!,24),0),0)","v":0},{"$f":"IFERROR(IF(ED2=$A$2,HLOOKUP(ED3,#REF!,24),0),0)","v":0},{"$f":"IFERROR(IF(EE2=$A$2,HLOOKUP(EE3,#REF!,24),0),0)","v":0},{"$f":"IFERROR(IF(EF2=$A$2,HLOOKUP(EF3,#REF!,24),0),0)","v":0},{"$f":"IFERROR(IF(EG2=$A$2,HLOOKUP(EG3,#REF!,24),0),0)","v":0},{"$f":"IFERROR(IF(EH2=$A$2,HLOOKUP(EH3,#REF!,24),0),0)","v":0},{"$f":"IFERROR(IF(EI2=$A$2,HLOOKUP(EI3,#REF!,24),0),0)","v":0},{"$f":"IFERROR(IF(EJ2=$A$2,HLOOKUP(EJ3,#REF!,24),0),0)","v":0},{"$f":"IFERROR(IF(EK2=$A$2,HLOOKUP(EK3,#REF!,24),0),0)","v":0},{"$f":"IFERROR(IF(EL2=$A$2,HLOOKUP(EL3,#REF!,24),0),0)","v":0},{"$f":"IFERROR(IF(EM2=$A$2,HLOOKUP(EM3,#REF!,24),0),0)","v":0},{"$f":"IFERROR(IF(EN2=$A$2,HLOOKUP(EN3,#REF!,24),0),0)","v":0},{"$f":"IFERROR(IF(EO2=$A$2,HLOOKUP(EO3,#REF!,24),0),0)","v":0},{"$f":"IFERROR(IF(EP2=$A$2,HLOOKUP(EP3,#REF!,24),0),0)","v":0},{"$f":"IFERROR(IF(EQ2=$A$2,HLOOKUP(EQ3,#REF!,24),0),0)","v":0},{"$f":"IFERROR(IF(ER2=$A$2,HLOOKUP(ER3,#REF!,24),0),0)","v":0},{"$f":"IFERROR(IF(ES2=$A$2,HLOOKUP(ES3,#REF!,24),0),0)","v":0},{"$f":"IFERROR(IF(ET2=$A$2,HLOOKUP(ET3,#REF!,24),0),0)","v":0},{"$f":"IFERROR(IF(EU2=$A$2,HLOOKUP(EU3,#REF!,24),0),0)","v":0},{"$f":"IFERROR(IF(EV2=$A$2,HLOOKUP(EV3,#REF!,24),0),0)","v":0},{"$f":"IFERROR(IF(EW2=$A$2,HLOOKUP(EW3,#REF!,24),0),0)","v":0},{"$f":"IFERROR(IF(EX2=$A$2,HLOOKUP(EX3,#REF!,24),0),0)","v":0},{"$f":"IFERROR(IF(EY2=$A$2,HLOOKUP(EY3,#REF!,24),0),0)","v":0},{"$f":"IFERROR(IF(EZ2=$A$2,HLOOKUP(EZ3,#REF!,24),0),0)","v":0},{"$f":"IFERROR(IF(FA2=$A$2,HLOOKUP(FA3,#REF!,24),0),0)","v":0}]
[null,null,null,null,null,null,null,null,5.5,"Billing","HDD",{"$f":"IF(L29<65, (65-L29)*L27,0)","v":0},{"$f":"IF(M29<65, (65-M29)*M27,0)","v":0},0,0,0,0,0,0,0,0,0,0,0,0,0.75,4.75,0,0,0,0,0,0,0,0,0,0,0,0,0,0,0,0,0,0,0,0,0,0,0,0,0,0,0,0,0,0,0,0,0,0,0,0,0,0,0,0,0,0,0,0,0,0,0,0,0,{"$f":"IF(BY29<65, (65-BY29)*BY27,0)","v":0},0,0,0,0,0,null,null,"Calendar",{"$error":"#DIV/0!"},{"$f":"+CI29+CI30+CI31","v":0},{"$f":"+CJ29+CJ30+CJ31","v":0},0,0,0,0,0,0,0,0,0,0,0,0,0,0,0,0,0,0,0,0,0,0,0,0,0,0,0,0,0,0,0,0,{"$error":"#DIV/0!"},{"$error":"#DIV/0!"},{"$error":"#DIV/0!"},{"$error":"#DIV/0!"},{"$error":"#DIV/0!"},{"$error":"#DIV/0!"},{"$error":"#DIV/0!"},{"$error":"#DIV/0!"},{"$error":"#DIV/0!"},{"$error":"#DIV/0!"},{"$error":"#DIV/0!"},{"$error":"#DIV/0!"},{"$error":"#DIV/0!"},{"$error":"#DIV/0!"},{"$error":"#DIV/0!"},{"$error":"#DIV/0!"},{"$error":"#DIV/0!"},{"$error":"#DIV/0!"},{"$error":"#DIV/0!"},{"$error":"#DIV/0!"},{"$error":"#DIV/0!"},{"$error":"#DIV/0!"},{"$error":"#DIV/0!"},{"$error":"#DIV/0!"},{"$error":"#DIV/0!"},{"$error":"#DIV/0!"},{"$error":"#DIV/0!"},{"$error":"#DIV/0!"},{"$error":"#DIV/0!"},{"$error":"#DIV/0!"},0,{"$f":"+EV29+EV30+EV31","v":0},0,0,{"$f":"+EY29+EY30+EY31","v":0},0,0]
[null,null,null,null,null,null,null,null,299.56818181818187,"Billing","CDD",{"$f":"IF(L29>65, (L29-65)*L27,0)","v":0.5},{"$f":"IF(M29>65, (M29-65)*M27,0)","v":0.47727272727272729},0.31818181818181818,0.40909090909090912,0.40909090909090906,1.0909090909090908,2.7272727272727271,3,3.4090909090909087,3.9545454545454541,4.7727272727272725,5.6363636363636367,5.3181818181818183,6.3636363636363633,0,0,1.25,5.7272727272727266,5.3181818181818183,4.4545454545454541,7.4999999999999991,9.0909090909090917,6.9090909090909092,4.3636363636363633,9.2727272727272734,12.272727272727273,4.3181818181818183,5.4545454545454541,5.25,6.6818181818181817,9.5454545454545467,9.0909090909090899,11.65909090909091,11.863636363636365,8.5909090909090917,6.9545454545454541,6.9545454545454541,7.7272727272727266,10.90909090909091,11.59090909090909,7,3.5454545454545459,1.0909090909090908,0.81818181818181812,4.6363636363636358,6,5.9090909090909092,6.3409090909090917,5.454545454545455,5.6363636363636367,6,6.1818181818181817,3.1818181818181817,2.1818181818181817,2.7272727272727271,2.1818181818181817,1.7727272727272725,1.9772727272727271,2.1136363636363633,1.3181818181818181,0.54545454545454541,0.63636363636363635,0.63636363636363635,0.54545454545454541,0,{"$f":"IF(BY29>65, (BY29-65)*BY27,0)","v":0},0,0,0,0,0,null,null,"Check",{"$f":"+CH32-CH29-CH30-CH31","v":{"$error":"#DIV/0!"}}]
[null,null,null,null,null,null,null,null,6.4219999999999997,"Calendar","Rainfall",{"$f":"VLOOKUP(L3,Daily!$A:$I,9)","v":0},{"$f":"VLOOKUP(M3,Daily!$A:$I,9)","v":0},{"$f":"VLOOKUP(N3,Daily!$A:$I,9)","v":0},{"$f":"VLOOKUP(O3,Daily!$A:$I,9)","v":0},{"$f":"VLOOKUP(P3,Daily!$A:$I,9)","v":0},{"$f":"VLOOKUP(Q3,Daily!$A:$I,9)","v":0},{"$f":"VLOOKUP(R3,Daily!$A:$I,9)","v":0},{"$f":"VLOOKUP(S3,Daily!$A:$I,9)","v":0},{"$f":"VLOOKUP(T3,Daily!$A:$I,9)","v":0},{"$f":"VLOOKUP(U3,Daily!$A:$I,9)","v":0},{"$f":"VLOOKUP(V3,Daily!$A:$I,9)","v":0},{"$f":"VLOOKUP(W3,Daily!$A:$I,9)","v":0},{"$f":"VLOOKUP(X3,Daily!$A:$I,9)","v":1E-3},{"$f":"VLOOKUP(Y3,Daily!$A:$I,9)","v":0},{"$f":"VLOOKUP(Z3,Daily!$A:$I,9)","v":0.41},{"$f":"VLOOKUP(AA3,Daily!$A:$I,9)","v":0},{"$f":"VLOOKUP(AB3,Daily!$A:$I,9)","v":0},{"$f":"VLOOKUP(AC3,Daily!$A:$I,9)","v":1.04},{"$f":"VLOOKUP(AD3,Daily!$A:$I,9)","v":1E-3},{"$f":"VLOOKUP(AE3,Daily!$A:$I,9)","v":0},{"$f":"VLOOKUP(AF3,Daily!$A:$I,9)","v":0},{"$f":"VLOOKUP(AG3,Daily!$A:$I,9)","v":0},{"$f":"VLOOKUP(AH3,Daily!$A:$I,9)","v":0},{"$f":"VLOOKUP(AI3,Daily!$A:$I,9)","v":0},{"$f":"VLOOKUP(AJ3,Daily!$A:$I,9)","v":0},{"$f":"VLOOKUP(AK3,Daily!$A:$I,9)","v":0},{"$f":"VLOOKUP(AL3,Daily!$A:$I,9)","v":1.42},{"$f":"VLOOKUP(AM3,Daily!$A:$I,9)","v":0},{"$f":"VLOOKUP(AN3,Daily!$A:$I,9)","v":0},{"$f":"VLOOKUP(AO3,Daily!$A:$I,9)","v":0},{"$f":"VLOOKUP(AP3,Daily!$A:$I,9)","v":0},{"$f":"VLOOKUP(AQ3,Daily!$A:$I,9)","v":0},{"$f":"VLOOKUP(AR3,Daily!$A:$I,9)","v":0},{"$f":"VLOOKUP(AS3,Daily!$A:$I,9)","v":0.04},{"$f":"VLOOKUP(AT3,Daily!$A:$I,9)","v":0.18},{"$f":"VLOOKUP(AU3,Daily!$A:$I,9)","v":0},{"$f":"VLOOKUP(AV3,Daily!$A:$I,9)","v":0},{"$f":"VLOOKUP(AW3,Daily!$A:$I,9)","v":0},{"$f":"VLOOKUP(AX3,Daily!$A:$I,9)","v":0},{"$f":"VLOOKUP(AY3,Daily!$A:$I,9)","v":0},{"$f":"VLOOKUP(AZ3,Daily!$A:$I,9)","v":0},{"$f":"VLOOKUP(BA3,Daily!$A:$I,9)","v":0},{"$f":"VLOOKUP(BB3,Daily!$A:$I,9)","v":0},{"$f":"VLOOKUP(BC3,Daily!$A:$I,9)","v":0.54},{"$f":"VLOOKUP(BD3,Daily!$A:$I,9)","v":2.02},{"$f":"VLOOKUP(BE3,Daily!$A:$I,9)","v":0.04},{"$f":"VLOOKUP(BF3,Daily!$A:$I,9)","v":0},{"$f":"VLOOKUP(BG3,Daily!$A:$I,9)","v":0},{"$f":"VLOOKUP(BH3,Daily!$A:$I,9)","v":0},{"$f":"VLOOKUP(BI3,Daily!$A:$I,9)","v":0},{"$f":"VLOOKUP(BJ3,Daily!$A:$I,9)","v":0},{"$f":"VLOOKUP(BK3,Daily!$A:$I,9)","v":0.35},{"$f":"VLOOKUP(BL3,Daily!$A:$I,9)","v":0.08},{"$f":"VLOOKUP(BM3,Daily!$A:$I,9)","v":0.14000000000000001},{"$f":"VLOOKUP(BN3,Daily!$A:$I,9)","v":0},{"$f":"VLOOKUP(BO3,Daily!$A:$I,9)","v":0},{"$f":"VLOOKUP(BP3,Daily!$A:$I,9)","v":0},{"$f":"VLOOKUP(BQ3,Daily!$A:$I,9)","v":0},{"$f":"VLOOKUP(BR3,Daily!$A:$I,9)","v":0},{"$f":"VLOOKUP(BS3,Daily!$A:$I,9)","v":0},{"$f":"VLOOKUP(BT3,Daily!$A:$I,9)","v":0},{"$f":"VLOOKUP(BU3,Daily!$A:$I,9)","v":0},{"$f":"VLOOKUP(BV3,Daily!$A:$I,9)","v":0},{"$f":"VLOOKUP(BW3,Daily!$A:$I,9)","v":0},{"$f":"VLOOKUP(BX3,Daily!$A:$I,9)","v":0},{"$f":"VLOOKUP(BY3,Daily!$A:$I,9)","v":0},{"$f":"VLOOKUP(BZ3,Daily!$A:$I,9)","v":0},{"$f":"VLOOKUP(CA3,Daily!$A:$I,9)","v":0},{"$f":"VLOOKUP(CB3,Daily!$A:$I,9)","v":0},{"$f":"VLOOKUP(CC3,Daily!$A:$I,9)","v":0.16},{"$f":"VLOOKUP(CD3,Daily!$A:$I,9)","v":0},null,null,"Calendar Rainfall",{"$error":"#DIV/0!"},{"$f":"IF(CI32>0,L34,0)","v":0},0,0,0,0,0,0,0,0,0,0,0,0,0,0,0,0,0,0,0,0,0,0,0,0,0,0,0,0,0,0,0,{"$f":"IF(DO32>0,AR34,0)","v":0},0,{"$error":"#DIV/0!"},{"$error":"#DIV/0!"},{"$error":"#DIV/0!"},{"$error":"#DIV/0!"},{"$error":"#DIV/0!"},{"$error":"#DIV/0!"},{"$error":"#DIV/0!"},{"$error":"#DIV/0!"},{"$error":"#DIV/0!"},{"$error":"#DIV/0!"},{"$error":"#DIV/0!"},{"$error":"#DIV/0!"},{"$error":"#DIV/0!"},{"$error":"#DIV/0!"},{"$error":"#DIV/0!"},{"$error":"#DIV/0!"},{"$error":"#DIV/0!"},{"$error":"#DIV/0!"},{"$error":"#DIV/0!"},{"$error":"#DIV/0!"},{"$error":"#DIV/0!"},{"$error":"#DIV/0!"},{"$error":"#DIV/0!"},{"$error":"#DIV/0!"},{"$error":"#DIV/0!"},{"$error":"#DIV/0!"},{"$error":"#DIV/0!"},{"$error":"#DIV/0!"},{"$error":"#DIV/0!"},{"$error":"#DIV/0!"},{"$f":"IF(EU32>0,BX34,0)","v":0},0,0,0,{"$f":"IF(EY32>0,CB34,0)","v":0},0,0]
[null,null,null,null,null,null,null,null,3.7869090909090906,"Billing","Rainfall",{"$f":"+L34*L27","v":0},{"$f":"+M34*M27","v":0},0,0,0,0,0,0,0,0,0,0,4.0909090909090913E-4,0,0.20499999999999999,0,0,0.56727272727272726,5.9090909090909094E-4,0,0,0,0,0,0,0,1.2263636363636363,0,0,0,0,0,0,3.272727272727273E-2,0.14727272727272728,0,0,0,0,0,0,0,0,0.29454545454545455,1.1018181818181818,0.02,0,0,0,0,0,0.12727272727272726,2.5454545454545455E-2,3.8181818181818185E-2,0,0,0,0,0,0,0,0,0,{"$f":"+BW34*BW27","v":0},{"$f":"+BX34*BX27","v":0},{"$f":"+BY34*BY27","v":0},0,0,{"$f":"+CB34*CB27","v":0},0,0,null,null,"Calendar HDD",{"$error":"#DIV/0!"},{"$f":"IF(CI32>0,L30,0)","v":0},0,0,0,0,0,0,0,0,0,0,0,0,0,0,0,0,0,0,0,0,0,0,0,0,0,0,0,0,0,0,0,{"$f":"IF(DO32>0,AR30,0)","v":0},0,{"$error":"#DIV/0!"},{"$error":"#DIV/0!"},{"$error":"#DIV/0!"},{"$error":"#DIV/0!"},{"$error":"#DIV/0!"},{"$error":"#DIV/0!"},{"$error":"#DIV/0!"},{"$error":"#DIV/0!"},{"$error":"#DIV/0!"},{"$error":"#DIV/0!"},{"$error":"#DIV/0!"},{"$error":"#DIV/0!"},{"$error":"#DIV/0!"},{"$error":"#DIV/0!"},{"$error":"#DIV/0!"},{"$error":"#DIV/0!"},{"$error":"#DIV/0!"},{"$error":"#DIV/0!"},{"$error":"#DIV/0!"},{"$error":"#DIV/0!"},{"$error":"#DIV/0!"},{"$error":"#DIV/0!"},{"$error":"#DIV/0!"},{"$error":"#DIV/0!"},{"$error":"#DIV/0!"},{"$error":"#DIV/0!"},{"$error":"#DIV/0!"},{"$error":"#DIV/0!"},{"$error":"#DIV/0!"},{"$error":"#DIV/0!"},{"$f":"IF(EU32>0,BX30,0)","v":0},0,0,0,{"$f":"IF(EY32>0,CB30,0)","v":0},0,0]
[null,null,null,null,null,null,null,null,null,null,null,null,null,null,null,null,null,null,null,null,null,null,null,null,null,null,null,null,null,null,null,null,null,null,null,null,null,null,null,null,null,null,null,null,null,null,null,null,null,null,null,null,null,null,null,null,null,null,null,null,null,null,null,null,null,null,null,null,null,null,null,null,null,null,null,null,null,null,null,null,null,null,null,null,"Calendar CDD",{"$error":"#DIV/0!"},{"$f":"IF(CI32>0,L31,0)","v":0},0,0,0,0,0,0,0,0,0,0,0,0,0,0,0,0,0,0,0,0,0,0,0,0,0,0,0,0,0,0,0,{"$f":"IF(DO32>0,AR31,0)","v":0},0,{"$error":"#DIV/0!"},{"$error":"#DIV/0!"},{"$error":"#DIV/0!"},{"$error":"#DIV/0!"},{"$error":"#DIV/0!"},{"$error":"#DIV/0!"},{"$error":"#DIV/0!"},{"$error":"#DIV/0!"},{"$error":"#DIV/0!"},{"$error":"#DIV/0!"},{"$error":"#DIV/0!"},{"$error":"#DIV/0!"},{"$error":"#DIV/0!"},{"$error":"#DIV/0!"},{"$error":"#DIV/0!"},{"$error":"#DIV/0!"},{"$error":"#DIV/0!"},{"$error":"#DIV/0!"},{"$error":"#DIV/0!"},{"$error":"#DIV/0!"},{"$error":"#DIV/0!"},{"$error":"#DIV/0!"},{"$error":"#DIV/0!"},{"$error":"#DIV/0!"},{"$error":"#DIV/0!"},{"$error":"#DIV/0!"},{"$error":"#DIV/0!"},{"$error":"#DIV/0!"},{"$error":"#DIV/0!"},{"$error":"#DIV/0!"},{"$f":"IF(EU32>0,BX31,0)","v":0},0,0,0,{"$f":"IF(EY32>0,CB31,0)","v":0},0,0]
[]
[null,null,null,null,null,null,null,null,null,null,null,null,null,null,null,null,null,null,null,null,null,null,null,null,{"$f":"TEXT(DATE(A1,A2,1),\"mmm yyyy\")&\" - Billing Cycle Temperatures\"","v":"Apr 2022 - Billing Cycle Temperatures"}]
[]
[]
[null,null,null,null,null,null,"Actual","Budget","Variance","Var %"]
[null,null,null,null,"Calendar","HDD",{"$f":"I30","v":0},{"$f":"VLOOKUP($A$2,Daily!$AB$2:$AF$13,4)","v":4.8499999999999996},{"$f":"G42-H42","v":-4.8499999999999996},{"$f":"G42/H42-1","v":-1}]
[null,null,null,null,"Calendar","CDD",{"$f":"I31","v":355.5},{"$f":"VLOOKUP($A$2,Daily!$AB$2:$AF$13,5)","v":272},{"$f":"G43-H43","v":83.5},{"$f":"G43/H43-1","v":0.30698529411764697}]
[null,null,null,null,"Billing","HDD",{"$f":"I32","v":5.5},{"$f":"VLOOKUP($A$2,Daily!$AB$2:$AF$13,2)","v":22},-16.5,-0.75]
[null,null,null,null,"Billing","CDD",{"$f":"I33","v":299.56818181818187},{"$f":"VLOOKUP($A$2,Daily!$AB$2:$AF$13,3)","v":200},99.56818181818187,0.49784090909090928,null,null,null,null,null,null,null,null,null,null,null,null,null,null,null,null,null,null,null,null,null,null,null,null,null,null,null,null,null,null,null,null,null,null,null,null,null,null,null,null,null,null,null,null,null,null,null,null,null,null,null,null,null,null,null,null,null,null,null,null,null,null,null,null,null,null,null,null,null,null,null,null,null,null,null,null,{"$f":"+CI1","v":2022},2022,2022,2022,2022,2022,2022,2022,2022,2022,2022,2022,2022,2022,2022,2022,2022,2022,2022,2022,2022,2022,2022,2022,2022,2022,2022,2022,2022,2022,2022,2022,{"$f":"+DO1","v":2022},2022,2022,2022,2022,2022,2022,2022,2022,2022,2022,2022,2022,2022,2022,2022,2022,2022,2022,2022,2022,2022,2022,2022,2022,2022,2022,2022,2022,2022,2022,2022,2022,{"$f":"+EV1","v":2022},2022,2022,{"$f":"+EY1","v":2022},2022,2022]
[null,null,null,null,null,null,null,null,null,null,null,null,null,null,null,null,null,null,null,null,null,null,null,null,null,null,null,null,null,null,null,null,null,null,null,null,null,null,null,null,null,null,null,null,null,null,null,null,null,null,null,null,null,null,null,null,null,null,null,null,null,null,null,null,null,null,null,null,null,null,null,null,null,null,null,null,null,null,null,null,null,null,null,null,null,null,{"$f":"+CI2","v":2},2,2,3,3,3,3,3,3,3,3,3,3,3,3,3,3,3,3,3,3,3,3,3,3,3,3,3,3,3,3,3,{"$f":"+DO2","v":3},3,4,4,4,4,4,4,4,4,4,4,4,4,4,4,4,4,4,4,4,4,4,4,4,4,4,4,4,4,4,4,5,{"$f":"+EV2","v":5},5,5,{"$f":"+EY2","v":5},5,5]
[null,null,null,null,null,null,null,null,null,null,null,null,null,null,null,null,null,null,null,null,null,null,null,null,null,null,null,null,null,null,null,null,null,null,null,null,null,null,null,null,null,null,null,null,null,null,null,null,null,null,null,null,null,null,null,null,null,null,null,null,null,null,null,null,null,null,null,null,null,null,null,null,null,null,null,null,null,null,null,null,null,null,null,null,null,"Cycle",{"$f":"+CI3","v":"2022-02-26"},"2022-02-27","2022-02-28","2022-03-01","2022-03-02","2022-03-03","2022-03-04","2022-03-05","2022-03-06","2022-03-07","2022-03-08","2022-03-09","2022-03-10","2022-03-11","2022-03-12","2022-03-13","2022-03-14","2022-03-15","2022-03-16","2022-03-17","2022-03-18","2022-03-19","2022-03-20","2022-03-21","2022-03-22","2022-03-23","2022-03-24","2022-03-25","2022-03-26","2022-03-27","2022-03-28","2022-03-29",{"$f":"+DO3","v":"2022-03-30"},"2022-03-31","2022-04-01","2022-04-02","2022-04-03","2022-04-04","2022-04-05","2022-04-06","2022-04-07","2022-04-08","2022-04-09","2022-04-10","2022-04-11","2022-04-12","2022-04-13","2022-04-14","2022-04-15","2022-04-16","2022-04-17","2022-04-18","2022-04-19","2022-04-20","2022-04-21","2022-04-22","2022-04-23","2022-04-24","2022-04-25","2022-04-26","2022-04-27","2022-04-28","2022-04-29","2022-04-30","2022-05-01",{"$f":"+EV3","v":"2022-05-02"},"2022-05-03","2022-05-04",{"$f":"+EY3","v":"2022-05-05"},"2022-05-06","2022-05-07"]
[null,null,null,null,null,null,"Actual","Budget","Variance","Var %",null,null,null,null,null,null,null,null,null,null,null,null,null,null,null,null,null,null,null,null,null,null,null,null,null,null,null,null,null,null,null,null,null,null,null,null,null,null,null,null,null,null,null,null,null,null,null,null,null,null,null,null,null,null,null,null,null,null,null,null,null,null,null,null,null,null,null,null,null,null,null,null,null,null,{"$f":"SUM(CI48:FA48)","v":0},1,{"$f":"IF(L4=1,CI$71,0)","v":0},{"$f":"IF(M4=1,CJ$71,0)","v":0},{"$f":"IF(N4=1,CK$71,0)","v":0},{"$f":"IF(O4=1,CL$71,0)","v":0},{"$f":"IF(P4=1,CM$71,0)","v":0},{"$f":"IF(Q4=1,CN$71,0)","v":0},{"$f":"IF(R4=1,CO$71,0)","v":0},{"$f":"IF(S4=1,CP$71,0)","v":0},{"$f":"IF(T4=1,CQ$71,0)","v":0},{"$f":"IF(U4=1,CR$71,0)","v":0},{"$f":"IF(V4=1,CS$71,0)","v":0},{"$f":"IF(W4=1,CT$71,0)","v":0},{"$f":"IF(X4=1,CU$71,0)","v":0},{"$f":"IF(Y4=1,CV$71,0)","v":0},{"$f":"IF(Z4=1,CW$71,0)","v":0},{"$f":"IF(AA4=1,CX$71,0)","v":0},{"$f":"IF(AB4=1,CY$71,0)","v":0},{"$f":"IF(AC4=1,CZ$71,0)","v":0},{"$f":"IF(AD4=1,DA$71,0)","v":0},{"$f":"IF(AE4=1,DB$71,0)","v":0},{"$f":"IF(AF4=1,DC$71,0)","v":0},{"$f":"IF(AG4=1,DD$71,0)","v":0},{"$f":"IF(AH4=1,DE$71,0)","v":0},{"$f":"IF(AI4=1,DF$71,0)","v":0},{"$f":"IF(AJ4=1,DG$71,0)","v":0},{"$f":"IF(AK4=1,DH$71,0)","v":0},{"$f":"IF(AL4=1,DI$71,0)","v":0},{"$f":"IF(AM4=1,DJ$71,0)","v":0},{"$f":"IF(AN4=1,DK$71,0)","v":0},{"$f":"IF(AO4=1,DL$71,0)","v":0},{"$f":"IF(AP4=1,DM$71,0)","v":0},{"$f":"IF(AQ4=1,DN$71,0)","v":0},{"$f":"IF(AR4=1,DO$71,0)","v":0},{"$f":"IF(AS4=1,DP$71,0)","v":0},{"$f":"IF(AT4=1,DQ$71,0)","v":0},{"$f":"IF(AU4=1,DR$71,0)","v":0},{"$f":"IF(AV4=1,DS$71,0)","v":0},{"$f":"IF(AW4=1,DT$71,0)","v":0},{"$f":"IF(AX4=1,DU$71,0)","v":0},{"$f":"IF(AY4=1,DV$71,0)","v":0},{"$f":"IF(AZ4=1,DW$71,0)","v":0},{"$f":"IF(BA4=1,DX$71,0)","v":0},{"$f":"IF(BB4=1,DY$71,0)","v":0},{"$f":"IF(BC4=1,DZ$71,0)","v":0},{"$f":"IF(BD4=1,EA$71,0)","v":0},{"$f":"IF(BE4=1,EB$71,0)","v":0},{"$f":"IF(BF4=1,EC$71,0)","v":0},{"$f":"IF(BG4=1,ED$71,0)","v":0},{"$f":"IF(BH4=1,EE$71,0)","v":0},{"$f":"IF(BI4=1,EF$71,0)","v":0},{"$f":"IF(BJ4=1,EG$71,0)","v":0},{"$f":"IF(BK4=1,EH$71,0)","v":0},{"$f":"IF(BL4=1,EI$71,0)","v":0},{"$f":"IF(BM4=1,EJ$71,0)","v":0},{"$f":"IF(BN4=1,EK$71,0)","v":0},{"$f":"IF(BO4=1,EL$71,0)","v":0},{"$f":"IF(BP4=1,EM$71,0)","v":0},{"$f":"IF(BQ4=1,EN$71,0)","v":0},{"$f":"IF(BR4=1,EO$71,0)","v":0},{"$f":"IF(BS4=1,EP$71,0)","v":0},{"$f":"IF(BT4=1,EQ$71,0)","v":0},{"$f":"IF(BU4=1,ER$71,0)","v":0},{"$f":"IF(BV4=1,ES$71,0)","v":0},{"$f":"IF(BW4=1,ET$71,0)","v":0},{"$f":"IF(BX4=1,EU$71,0)","v":0},{"$f":"IF(BY4=1,EV$71,0)","v":0},{"$f":"IF(BZ4=1,EW$71,0)","v":0},{"$f":"IF(CA4=1,EX$71,0)","v":0},{"$f":"IF(CB4=1,EY$71,0)","v":0},{"$f":"IF(CC4=1,EZ$71,0)","v":0},{"$f":"IF(CD4=1,FA$71,0)","v":0}]
[null,null,null,null,"Calendar","Total DD",{"$f":"G42+G43","v":355.5},{"$f":"H42+H43","v":276.85000000000002},{"$f":"G49-H49","v":78.649999999999977},{"$f":"G49/H49-1","v":0.28408885678165063},null,null,null,null,null,null,null,null,null,null,null,null,null,null,null,null,null,null,null,null,null,null,null,null,null,null,null,null,null,null,null,null,null,null,null,null,null,null,null,null,null,null,null,null,null,null,null,null,null,null,null,null,null,null,null,null,null,null,null,null,null,null,null,null,null,null,null,null,null,null,null,null,null,null,{"$f":"SUM(CI49:FA49)","v":0},2,0,0,0,0,0,0,0,0,0,0,0,0,0,0,0,0,0,0,0,0,0,0,0,0,0,0,0,0,0,0,0,0,0,0,0,0,0,0,0,0,0,0,0,0,0,0,0,0,0,0,0,0,0,0,0,0,0,0,0,0,0,0,0,0,0,0,0,0,0,0,0]
[null,null,null,null,"Billing","Total DD",{"$f":"G44+G45","v":305.06818181818187},{"$f":"H44+H45","v":222},{"$f":"G50-H50","v":83.06818181818187},{"$f":"G50/H50-1","v":0.37418099918099945},null,null,null,null,null,null,null,null,null,null,null,null,null,null,null,null,null,null,null,null,null,null,null,null,null,null,null,null,null,null,null,null,null,null,null,null,null,null,null,null,null,null,null,null,null,null,null,null,null,null,null,null,null,null,null,null,null,null,null,null,null,null,null,null,null,null,null,null,null,null,null,null,null,null,0,3,0,0,0,0,0,0,0,0,0,0,0,0,0,0,0,0,0,0,0,0,0,0,0,0,0,0,0,0,0,0,0,0,0,0,0,0,0,0,0,0,0,0,0,0,0,0,0,0,0,0,0,0,0,0,0,0,0,0,0,0,0,0,0,0,0,0,0,0,0,0,0]
[null,null,null,null,null,null,null,null,null,null,null,null,null,null,null,null,null,null,null,null,null,null,null,null,null,null,null,null,null,null,null,null,null,null,null,null,null,null,null,null,null,null,null,null,null,null,null,null,null,null,null,null,null,null,null,null,null,null,null,null,null,null,null,null,null,null,null,null,null,null,null,null,null,null,null,null,null,null,null,null,null,null,null,null,0,4,0,0,0,0,0,0,0,0,0,0,0,0,0,0,0,0,0,0,0,0,0,0,0,0,0,0,0,0,0,0,0,0,0,0,0,0,0,0,0,0,0,0,0,0,0,0,0,0,0,0,0,0,0,0,0,0,0,0,0,0,0,0,0,0,0,0,0,0,0,0,0]
[null,null,null,null,null,null,null,null,null,null,null,null,null,null,null,null,null,null,null,null,null,null,null,null,null,null,null,null,null,null,null,null,null,null,null,null,null,null,null,null,null,null,null,null,null,null,null,null,null,null,null,null,null,null,null,null,null,null,null,null,null,null,null,null,null,null,null,null,null,null,null,null,null,null,null,null,null,null,null,null,null,null,null,null,0,5,0,0,0,0,0,0,0,0,0,0,0,0,0,0,0,0,0,0,0,0,0,0,0,0,0,0,0,0,0,0,0,0,0,0,0,0,0,0,0,0,0,0,0,0,0,0,0,0,0,0,0,0,0,0,0,0,0,0,0,0,0,0,0,0,0,0,0,0,0,0,0]
[null,null,null,null,null,null,null,null,null,null,null,null,null,null,null,null,null,null,null,null,null,null,null,null,null,null,null,null,null,null,null,null,null,null,null,null,null,null,null,null,null,null,null,null,null,null,null,null,null,null,null,null,null,null,null,null,null,null,null,null,null,null,null,null,null,null,null,null,null,null,null,null,null,null,null,null,null,null,null,null,null,null,null,null,0,6,0,0,0,0,0,0,0,0,0,0,0,0,0,0,0,0,0,0,0,0,0,0,0,0,0,0,0,0,0,0,0,0,0,0,0,0,0,0,0,0,0,0,0,0,0,0,0,0,0,0,0,0,0,0,0,0,0,0,0,0,0,0,0,0,0,0,0,0,0,0,0]
[null,null,null,null,null,null,null,null,null,null,null,null,null,null,null,null,null,null,null,null,null,null,null,null,null,null,null,null,null,null,null,null,null,null,null,null,null,null,null,null,null,null,null,null,null,null,null,null,null,null,null,null,null,null,null,null,null,null,null,null,null,null,null,null,null,null,null,null,null,null,null,null,null,null,null,null,null,null,null,null,null,null,null,null,0,7,0,0,0,0,0,0,0,0,0,0,0,0,0,0,0,0,0,0,0,0,0,0,0,0,0,0,0,0,0,0,0,0,0,0,0,0,0,0,0,0,0,0,0,0,0,0,0,0,0,0,0,0,0,0,0,0,0,0,0,0,0,0,0,0,0,0,0,0,0,0,0]
[null,null,null,null,null,null,null,null,null,null,null,null,null,null,null,null,null,null,null,null,null,null,null,null,null,null,null,null,null,null,null,null,null,null,null,null,null,null,null,null,null,null,null,null,null,null,null,null,null,null,null,null,null,null,null,null,null,null,null,null,null,null,null,null,null,null,null,null,null,null,null,null,null,null,null,null,null,null,null,null,null,null,null,null,0,8,0,0,0,0,0,0,0,0,0,0,0,0,0,0,0,0,0,0,0,0,0,0,0,0,0,0,0,0,0,0,0,0,0,0,0,0,0,0,0,0,0,0,0,0,0,0,0,0,0,0,0,0,0,0,0,0,0,0,0,0,0,0,0,0,0,0,0,0,0,0,0]
[null,null,null,null,null,null,null,null,null,null,null,null,null,null,null,null,null,null,null,null,null,null,null,null,null,null,null,null,null,null,null,null,null,null,null,null,null,null,null,null,null,null,null,null,null,null,null,null,null,null,null,null,null,null,null,null,null,null,null,null,null,null,null,null,null,null,null,null,null,null,null,null,null,null,null,null,null,null,null,null,null,null,null,null,0,9,0,0,0,0,0,0,0,0,0,0,0,0,0,0,0,0,0,0,0,0,0,0,0,0,0,0,0,0,0,0,0,0,0,0,0,0,0,0,0,0,0,0,0,0,0,0,0,0,0,0,0,0,0,0,0,0,0,0,0,0,0,0,0,0,0,0,0,0,0,0,0]
[null,null,null,null,null,null,null,null,null,null,null,null,null,null,null,null,null,null,null,null,null,null,null,null,null,null,null,null,null,null,null,null,null,null,null,null,null,null,null,null,null,null,null,null,null,null,null,null,null,null,null,null,null,null,null,null,null,null,null,null,null,null,null,null,null,null,null,null,null,null,null,null,null,null,null,null,null,null,null,null,null,null,null,null,0,10,0,0,0,0,0,0,0,0,0,0,0,0,0,0,0,0,0,0,0,0,0,0,0,0,0,0,0,0,0,0,0,0,0,0,0,0,0,0,0,0,0,0,0,0,0,0,0,0,0,0,0,0,0,0,0,0,0,0,0,0,0,0,0,0,0,0,0,0,0,0,0]
[null,null,null,null,null,null,null,null,null,null,null,null,null,null,null,null,null,null,null,null,null,null,null,null,null,null,null,null,null,null,null,null,null,null,null,null,null,null,null,null,null,null,null,null,null,null,null,null,null,null,null,null,null,null,null,null,null,null,null,null,null,null,null,null,null,null,null,null,null,null,null,null,null,null,null,null,null,null,null,null,null,null,null,null,0,11,0,0,0,0,0,0,0,0,0,0,0,0,0,0,0,0,0,0,0,0,0,0,0,0,0,0,0,0,0,0,0,0,0,0,0,0,0,0,0,0,0,0,0,0,0,0,0,0,0,0,0,0,0,0,0,0,0,0,0,0,0,0,0,0,0,0,0,0,0,0,0]
[null,null,null,null,null,null,null,null,null,null,null,null,null,null,null,null,null,null,null,null,null,null,null,null,{"$f":"TEXT(DATE(A1,A2,1),\"mmm yyyy\")&\" - Billing Cycle Rainfall\"","v":"Apr 2022 - Billing Cycle Rainfall"},null,null,null,null,null,null,null,null,null,null,null,null,null,null,null,null,null,null,null,null,null,null,null,null,null,null,null,null,null,null,null,null,null,null,null,null,null,null,null,null,null,null,null,null,null,null,null,null,null,null,null,null,null,null,null,null,null,null,null,0,12,0,0,0,0,0,0,0,0,0,0,0,0,0,0,0,0,0,0,0,0,0,0,0,0,0,0,0,0,0,0,0,0,0,0,0,0,0,0,0,0,0,0,0,0,0,0,0,0,0,0,0,0,0,0,0,0,0,0,0,0,0,0,0,0,0,0,0,0,0,0,0]
[null,null,null,null,null,null,null,null,null,null,null,null,null,null,null,null,null,null,null,null,null,null,null,null,null,null,null,null,null,null,null,null,null,null,null,null,null,null,null,null,null,null,null,null,null,null,null,null,null,null,null,null,null,null,null,null,null,null,null,null,null,null,null,null,null,null,null,null,null,null,null,null,null,null,null,null,null,null,null,null,null,null,null,null,0,13,0,0,0,0,0,0,0,0,0,0,0,0,0,0,0,0,0,0,0,0,0,0,0,0,0,0,0,0,0,0,0,0,0,0,0,0,0,0,0,0,0,0,0,0,0,0,0,0,0,0,0,0,0,0,0,0,0,0,0,0,0,0,0,0,0,0,0,0,0,0,0]
[null,null,null,null,null,null,null,null,null,null,null,null,null,null,null,null,null,null,null,null,null,null,null,null,null,null,null,null,null,null,null,null,null,null,null,null,null,null,null,null,null,null,null,null,null,null,null,null,null,null,null,null,null,null,null,null,null,null,null,null,null,null,null,null,null,null,null,null,null,null,null,null,null,null,null,null,null,null,null,null,null,null,null,null,0,14,0,0,0,0,0,0,0,0,0,0,0,0,0,0,0,0,0,0,0,0,0,0,0,0,0,0,0,0,0,0,0,0,0,0,0,0,0,0,0,0,0,0,0,0,0,0,0,0,0,0,0,0,0,0,0,0,0,0,0,0,0,0,0,0,0,0,0,0,0,0,0]
[null,null,null,null,null,null,null,null,null,null,null,null,null,null,null,null,null,null,null,null,null,null,null,null,null,null,null,null,null,null,null,null,null,null,null,null,null,null,null,null,null,null,null,null,null,null,null,null,null,null,null,null,null,null,null,null,null,null,null,null,null,null,null,null,null,null,null,null,null,null,null,null,null,null,null,null,null,null,null,null,null,null,null,null,0,15,0,0,0,0,0,0,0,0,0,0,0,0,0,0,0,0,0,0,0,0,0,0,0,0,0,0,0,0,0,0,0,0,0,0,0,0,0,0,0,0,0,0,0,0,0,0,0,0,0,0,0,0,0,0,0,0,0,0,0,0,0,0,0,0,0,0,0,0,0,0,0]
[null,null,null,null,null,null,null,null,null,null,null,null,null,null,null,null,null,null,null,null,null,null,null,null,null,null,null,null,null,null,null,null,null,null,null,null,null,null,null,null,null,null,null,null,null,null,null,null,null,null,null,null,null,null,null,null,null,null,null,null,null,null,null,null,null,null,null,null,null,null,null,null,null,null,null,null,null,null,null,null,null,null,null,null,0,16,0,0,0,0,0,0,0,0,0,0,0,0,0,0,0,0,0,0,0,0,0,0,0,0,0,0,0,0,0,0,0,0,0,0,0,0,0,0,0,0,0,0,0,0,0,0,0,0,0,0,0,0,0,0,0,0,0,0,0,0,0,0,0,0,0,0,0,0,0,0,0]
[null,null,null,null,null,null,null,null,null,null,null,null,null,null,null,null,null,null,null,null,null,null,null,null,null,null,null,null,null,null,null,null,null,null,null,null,null,null,null,null,null,null,null,null,null,null,null,null,null,null,null,null,null,null,null,null,null,null,null,null,null,null,null,null,null,null,null,null,null,null,null,null,null,null,null,null,null,null,null,null,null,null,null,null,0,17,0,0,0,0,0,0,0,0,0,0,0,0,0,0,0,0,0,0,0,0,0,0,0,0,0,0,0,0,0,0,0,0,0,0,0,0,0,0,0,0,0,0,0,0,0,0,0,0,0,0,0,0,0,0,0,0,0,0,0,0,0,0,0,0,0,0,0,0,0,0,0]
[null,null,null,null,null,null,null,null,null,null,null,null,null,null,null,null,null,null,null,null,null,null,null,null,null,null,null,null,null,null,null,null,null,null,null,null,null,null,null,null,null,null,null,null,null,null,null,null,null,null,null,null,null,null,null,null,null,null,null,null,null,null,null,null,null,null,null,null,null,null,null,null,null,null,null,null,null,null,null,null,null,null,null,null,0,18,0,0,0,0,0,0,0,0,0,0,0,0,0,0,0,0,0,0,0,0,0,0,0,0,0,0,0,0,0,0,0,0,0,0,0,0,0,0,0,0,0,0,0,0,0,0,0,0,0,0,0,0,0,0,0,0,0,0,0,0,0,0,0,0,0,0,0,0,0,0,0]
[null,null,null,null,null,null,null,null,null,null,null,null,null,null,null,null,null,null,null,null,null,null,null,null,null,null,null,null,null,null,null,null,null,null,null,null,null,null,null,null,null,null,null,null,null,null,null,null,null,null,null,null,null,null,null,null,null,null,null,null,null,null,null,null,null,null,null,null,null,null,null,null,null,null,null,null,null,null,null,null,null,null,null,null,0,19,0,0,0,0,0,0,0,0,0,0,0,0,0,0,0,0,0,0,0,0,0,0,0,0,0,0,0,0,0,0,0,0,0,0,0,0,0,0,0,0,0,0,0,0,0,0,0,0,0,0,0,0,0,0,0,0,0,0,0,0,0,0,0,0,0,0,0,0,0,0,0]
[null,null,null,null,null,null,null,null,null,null,null,null,null,null,null,null,null,null,null,null,null,null,null,null,null,null,null,null,null,null,null,null,null,null,null,null,null,null,null,null,null,null,null,null,null,null,null,null,null,null,null,null,null,null,null,null,null,null,null,null,null,null,null,null,null,null,null,null,null,null,null,null,null,null,null,null,null,null,null,null,null,null,null,null,0,20,0,0,0,0,0,0,0,0,0,0,0,0,0,0,0,0,0,0,0,0,0,0,0,0,0,0,0,0,0,0,0,0,0,0,0,0,0,0,0,0,0,0,0,0,0,0,0,0,0,0,0,0,0,0,0,0,0,0,0,0,0,0,0,0,0,0,0,0,0,0,0]
[null,null,null,null,null,null,null,null,null,null,null,null,null,null,null,null,null,null,null,null,null,null,null,null,null,null,null,null,null,null,null,null,null,null,null,null,null,null,null,null,null,null,null,null,null,null,null,null,null,null,null,null,null,null,null,null,null,null,null,null,null,null,null,null,null,null,null,null,null,null,null,null,null,null,null,null,null,null,null,null,null,null,null,null,0,21,0,0,0,0,0,0,0,0,0,0,0,0,0,0,0,0,0,0,0,0,0,0,0,0,0,0,0,0,0,0,0,0,0,0,0,0,0,0,0,0,0,0,0,0,0,0,0,0,0,0,0,0,0,0,0,0,0,0,0,0,0,0,0,0,0,0,0,0,0,0,0]
[null,null,null,null,null,null,null,null,null,null,null,null,null,null,null,null,null,null,null,null,null,null,null,null,null,null,null,null,null,null,null,null,null,null,null,null,null,null,null,null,null,null,null,null,null,null,null,null,null,null,null,null,null,null,null,null,null,null,null,null,null,null,null,null,null,null,null,null,null,null,null,null,null,null,null,null,null,null,null,null,null,null,null,null,0,23,0,0,0,0,0,0,0,0,0,0,0,0,0,0,0,0,0,0,0,0,0,0,0,0,0,0,0,0,0,0,0,0,0,0,0,0,0,0,0,0,0,0,0,0,0,0,0,0,0,0,0,0,0,0,0,0,0,0,0,0,0,0,0,0,0,0,0,0,0,0,0]
[null,null,null,null,null,null,null,null,null,null,null,null,null,null,null,null,null,null,null,null,null,null,null,null,null,null,null,null,null,null,null,null,null,null,null,null,null,null,null,null,null,null,null,null,null,null,null,null,null,null,null,null,null,null,null,null,null,null,null,null,null,null,null,null,null,null,null,null,null,null,null,null,null,null,null,null,null,null,null,null,null,null,null,null,null,{"$f":"SUM(CI70:EX70)","v":0},{"$f":"SUM(CI48:CI69)","v":0},{"$f":"SUM(CJ48:CJ69)","v":0},0,0,0,0,0,0,0,0,0,0,0,0,0,0,0,0,0,0,0,0,0,0,0,0,0,0,0,0,0,0,0,0,0,0,0,0,0,0,0,0,0,0,0,0,0,0,0,0,0,0,0,0,0,0,0,0,0,0,0,0,0,0,0,{"$f":"SUM(EV48:EV69)","v":0},0,0,0,0,0]
[null,null,null,null,null,null,null,null,null,null,null,null,null,null,null,null,null,null,null,null,null,null,null,null,null,null,null,null,null,null,null,null,null,null,null,null,null,null,null,null,null,null,null,null,null,null,null,null,null,null,null,null,null,null,null,null,null,null,null,null,null,null,null,null,null,null,null,null,null,null,null,null,null,null,null,null,null,null,null,null,null,null,null,null,null,{"$f":"SUM(CI71:EU71)","v":0},{"$f":"VLOOKUP(CI47,Daily!$A$2:$H$459,8)","v":0},{"$f":"VLOOKUP(CJ47,Daily!$A$2:$H$459,8)","v":0},{"$f":"VLOOKUP(CK47,Daily!$A$2:$H$459,8)","v":0},{"$f":"VLOOKUP(CL47,Daily!$A$2:$H$459,8)","v":0},{"$f":"VLOOKUP(CM47,Daily!$A$2:$H$459,8)","v":0},{"$f":"VLOOKUP(CN47,Daily!$A$2:$H$459,8)","v":0},{"$f":"VLOOKUP(CO47,Daily!$A$2:$H$459,8)","v":0},{"$f":"VLOOKUP(CP47,Daily!$A$2:$H$459,8)","v":0},{"$f":"VLOOKUP(CQ47,Daily!$A$2:$H$459,8)","v":0},{"$f":"VLOOKUP(CR47,Daily!$A$2:$H$459,8)","v":0},{"$f":"VLOOKUP(CS47,Daily!$A$2:$H$459,8)","v":0},{"$f":"VLOOKUP(CT47,Daily!$A$2:$H$459,8)","v":0},{"$f":"VLOOKUP(CU47,Daily!$A$2:$H$459,8)","v":0},{"$f":"VLOOKUP(CV47,Daily!$A$2:$H$459,8)","v":0},{"$f":"VLOOKUP(CW47,Daily!$A$2:$H$459,8)","v":0},{"$f":"VLOOKUP(CX47,Daily!$A$2:$H$459,8)","v":0},{"$f":"VLOOKUP(CY47,Daily!$A$2:$H$459,8)","v":0},{"$f":"VLOOKUP(CZ47,Daily!$A$2:$H$459,8)","v":0},{"$f":"VLOOKUP(DA47,Daily!$A$2:$H$459,8)","v":0},{"$f":"VLOOKUP(DB47,Daily!$A$2:$H$459,8)","v":0},{"$f":"VLOOKUP(DC47,Daily!$A$2:$H$459,8)","v":0},{"$f":"VLOOKUP(DD47,Daily!$A$2:$H$459,8)","v":0},{"$f":"VLOOKUP(DE47,Daily!$A$2:$H$459,8)","v":0},{"$f":"VLOOKUP(DF47,Daily!$A$2:$H$459,8)","v":0},{"$f":"VLOOKUP(DG47,Daily!$A$2:$H$459,8)","v":0},{"$f":"VLOOKUP(DH47,Daily!$A$2:$H$459,8)","v":0},{"$f":"VLOOKUP(DI47,Daily!$A$2:$H$459,8)","v":0},{"$f":"VLOOKUP(DJ47,Daily!$A$2:$H$459,8)","v":0},{"$f":"VLOOKUP(DK47,Daily!$A$2:$H$459,8)","v":0},{"$f":"VLOOKUP(DL47,Daily!$A$2:$H$459,8)","v":0},{"$f":"VLOOKUP(DM47,Daily!$A$2:$H$459,8)","v":0},{"$f":"VLOOKUP(DN47,Daily!$A$2:$H$459,8)","v":0},{"$f":"VLOOKUP(DO47,Daily!$A$2:$H$459,8)","v":0},{"$f":"VLOOKUP(DP47,Daily!$A$2:$H$459,8)","v":0},{"$f":"VLOOKUP(DQ47,Daily!$A$2:$H$459,8)","v":0},{"$f":"VLOOKUP(DR47,Daily!$A$2:$H$459,8)","v":0},{"$f":"VLOOKUP(DS47,Daily!$A$2:$H$459,8)","v":0},{"$f":"VLOOKUP(DT47,Daily!$A$2:$H$459,8)","v":0},{"$f":"VLOOKUP(DU47,Daily!$A$2:$H$459,8)","v":0},{"$f":"VLOOKUP(DV47,Daily!$A$2:$H$459,8)","v":0},{"$f":"VLOOKUP(DW47,Daily!$A$2:$H$459,8)","v":0},{"$f":"VLOOKUP(DX47,Daily!$A$2:$H$459,8)","v":0},{"$f":"VLOOKUP(DY47,Daily!$A$2:$H$459,8)","v":0},{"$f":"VLOOKUP(DZ47,Daily!$A$2:$H$459,8)","v":0},{"$f":"VLOOKUP(EA47,Daily!$A$2:$H$459,8)","v":0},{"$f":"VLOOKUP(EB47,Daily!$A$2:$H$459,8)","v":0},{"$f":"VLOOKUP(EC47,Daily!$A$2:$H$459,8)","v":0},{"$f":"VLOOKUP(ED47,Daily!$A$2:$H$459,8)","v":0},{"$f":"VLOOKUP(EE47,Daily!$A$2:$H$459,8)","v":0},{"$f":"VLOOKUP(EF47,Daily!$A$2:$H$459,8)","v":0},{"$f":"VLOOKUP(EG47,Daily!$A$2:$H$459,8)","v":0},{"$f":"VLOOKUP(EH47,Daily!$A$2:$H$459,8)","v":0},{"$f":"VLOOKUP(EI47,Daily!$A$2:$H$459,8)","v":0},{"$f":"VLOOKUP(EJ47,Daily!$A$2:$H$459,8)","v":0},{"$f":"VLOOKUP(EK47,Daily!$A$2:$H$459,8)","v":0},{"$f":"VLOOKUP(EL47,Daily!$A$2:$H$459,8)","v":0},{"$f":"VLOOKUP(EM47,Daily!$A$2:$H$459,8)","v":0},{"$f":"VLOOKUP(EN47,Daily!$A$2:$H$459,8)","v":0},{"$f":"VLOOKUP(EO47,Daily!$A$2:$H$459,8)","v":0},{"$f":"VLOOKUP(EP47,Daily!$A$2:$H$459,8)","v":0},{"$f":"VLOOKUP(EQ47,Daily!$A$2:$H$459,8)","v":0},{"$f":"VLOOKUP(ER47,Daily!$A$2:$H$459,8)","v":0},{"$f":"VLOOKUP(ES47,Daily!$A$2:$H$459,8)","v":0},{"$f":"VLOOKUP(ET47,Daily!$A$2:$H$459,8)","v":0},{"$f":"VLOOKUP(EU47,Daily!$A$2:$H$459,8)","v":0},{"$f":"VLOOKUP(EV47,Daily!$A$2:$H$459,8)","v":0},{"$f":"VLOOKUP(EW47,Daily!$A$2:$H$459,8)","v":0},{"$f":"VLOOKUP(EX47,Daily!$A$2:$H$459,8)","v":0},{"$f":"VLOOKUP(EY47,Daily!$A$2:$H$459,8)","v":0},{"$f":"VLOOKUP(EZ47,Daily!$A$2:$H$459,8)","v":0},{"$f":"VLOOKUP(FA47,Daily!$A$2:$H$459,8)","v":0}]
[null,null,null,null,null,null,null,null,null,null,null,null,null,null,null,null,null,null,null,null,null,null,null,null,null,null,null,null,null,null,null,null,null,null,null,null,null,null,null,null,null,null,null,null,null,null,null,null,null,null,null,null,null,null,null,null,null,null,null,null,null,null,null,null,null,null,null,null,null,null,null,null,null,null,null,null,null,null,null,null,null,null,null,null,null,null,{"$f":"+CI71/$CH71","v":{"$error":"#DIV/0!"}},{"$error":"#DIV/0!"},{"$error":"#DIV/0!"},{"$error":"#DIV/0!"},{"$error":"#DIV/0!"},{"$error":"#DIV/0!"},{"$error":"#DIV/0!"},{"$error":"#DIV/0!"},{"$error":"#DIV/0!"},{"$error":"#DIV/0!"},{"$error":"#DIV/0!"},{"$error":"#DIV/0!"},{"$error":"#DIV/0!"},{"$error":"#DIV/0!"},{"$error":"#DIV/0!"},{"$error":"#DIV/0!"},{"$error":"#DIV/0!"},{"$error":"#DIV/0!"},{"$error":"#DIV/0!"},{"$error":"#DIV/0!"},{"$error":"#DIV/0!"},{"$error":"#DIV/0!"},{"$error":"#DIV/0!"},{"$error":"#DIV/0!"},{"$error":"#DIV/0!"},{"$error":"#DIV/0!"},{"$error":"#DIV/0!"},{"$error":"#DIV/0!"},{"$error":"#DIV/0!"},{"$error":"#DIV/0!"},{"$error":"#DIV/0!"},{"$error":"#DIV/0!"},{"$f":"+DO71/$CH71","v":{"$error":"#DIV/0!"}},{"$error":"#DIV/0!"},{"$error":"#DIV/0!"},{"$error":"#DIV/0!"},{"$error":"#DIV/0!"},{"$error":"#DIV/0!"},{"$error":"#DIV/0!"},{"$error":"#DIV/0!"},{"$error":"#DIV/0!"},{"$error":"#DIV/0!"},{"$error":"#DIV/0!"},{"$error":"#DIV/0!"},{"$error":"#DIV/0!"},{"$error":"#DIV/0!"},{"$error":"#DIV/0!"},{"$error":"#DIV/0!"},{"$error":"#DIV/0!"},{"$error":"#DIV/0!"},{"$error":"#DIV/0!"},{"$error":"#DIV/0!"},{"$error":"#DIV/0!"},{"$error":"#DIV/0!"},{"$error":"#DIV/0!"},{"$error":"#DIV/0!"},{"$error":"#DIV/0!"},{"$error":"#DIV/0!"},{"$error":"#DIV/0!"},{"$error":"#DIV/0!"},{"$error":"#DIV/0!"},{"$error":"#DIV/0!"},{"$error":"#DIV/0!"},{"$error":"#DIV/0!"},{"$f":"+EU71/$CH71","v":{"$error":"#DIV/0!"}},{"$error":"#DIV/0!"},{"$error":"#DIV/0!"},{"$error":"#DIV/0!"},{"$f":"+EY71/$CH71","v":{"$error":"#DIV/0!"}},{"$error":"#DIV/0!"},{"$error":"#DIV/0!"}]