{"text_format":"1","workbook":"xlsx","n_sheets":13,"sheets":["Version History","Assumptions","Chart","MASTER","Crystal River 4 & 5","Coal Price Inputs","CSX Rate Inputs","Barge Rate Inputs","Transportation Rate assumptions","Coal Price Inputs_Chart","Coal Fall 2017 Price Inputs","Coal Fall 2018 Price Inputs ","Coal Spring 2019 Price Inputs"],"not_rendered":{"charts":4,"images":0,"macros":0,"external_links":1,"defined_names":9,"comments":3,"pivot_tables":0},"unopened":[{"sheet":"Chart","index":2,"reason":"not_a_worksheet"},{"sheet":"Coal Price Inputs_Chart","index":9,"reason":"not_a_worksheet"}],"bounds":{"document_bytes":16777216,"sheet_cells":100000,"rows_first":2000,"rows_last":500,"rows_between":2000,"halvings":0,"cell_chars":16384,"cell_head_chars":4096},"cells_cut":0,"cells_raw":0,"read":"whole","date_system":"1900"}

{"sheet":"Version History","index":0,"n_rows":11,"n_cols":3,"rows_kept":11,"cut":false,"hidden":false,"merged":[]}
["Florida- 2019 IRP Fall Refresh Update - Coal - "]
["Version History"]
[]
[null,"File Preparer:",{"$f":"'Coal Price Inputs'!M2","v":"Michael Quinto"}]
[null," Date Prepared:","2019-10-07"]
[null,"Concurring Manager:","Brett Phipps"]
[null,"Date Approved:"]
[null,"Updates to File:","Coal Fundamental Prices"]
[null,null,"Rail Rates"]
[null,null,"Barge Rates"]
[null,null,"Assumptions"]

{"sheet":"Assumptions","index":1,"n_rows":18,"n_cols":3,"rows_kept":18,"cut":false,"hidden":false,"merged":[[14,1,14,2],[15,1,15,2],[17,1,17,2],[13,1,13,2],[5,1,5,2],[10,1,10,2],[11,1,11,2],[12,1,12,2],[9,1,9,2],[16,1,16,2]]}
["Florida- Fall 2019 IRP Refresh Update - Coal"]
[null,"No Carbon"]
[]
[null,"***************  Key Assumptions - PLEASE READ  ***************"]
[]
["1.","Using the following CERA fundamental price forecast in Nominal dollars (see the \"Coal Price Inputs\" sheet):"]
[null,"Source File:  ",{"$f":"'Coal Price Inputs'!D3","v":"Base, Low High Commodity Coal Curves_FL"}]
[null,"Source Tab:",{"$f":"'Coal Price Inputs'!I3","v":"Fundamentals - Ratio Method"}]
[null,"From:",{"$f":"'Coal Price Inputs'!D4","v":"Michael Quinto "}]
["2.","Vendors for the fundemental price curves changed in 2017 from EVA to CERA. With this change there was a reduction in the number of coal prices forecasts provided for each region. However, where transportation rates provided alternative delivery methods for the same coal price forecast a delivered price was calculated. "]
["3.","This is an evaluation of the delivered cost per mmbtu only (coal price plus transportation cost).  See the \"Master\" sheet for the overall summary of the lowest cost alternatives by station by year (including cost and quality).  Additional cost adjustments for scrubber costs, O&M, etc. could be added upon request."]
["4.","The delivered cost per mmbtu was calculated for all coal alternatives that can be transported to each station (see the sheets for each station).  The coal alternative with the lowest delivered cost was then able to be identified and chosen for each year.  This format allows the reviewer to see the delivered costs for all alternatives, regardless of whether or not they were not chosen (enables quick review of cost deltas for the next lowest cost alternatives).  Where the station cannot burn the  single lowest cost alternative at 100%, the lowest cost blend was determined."]
["5.","This update incorporates unit capability constraints (Min BTU, Max SO2, Max Ash, Max Chlorine, and Max Mercury) and current capacity for on-site blending as we know them today.  "]
["6.","Does not include any other adders for sulfur removal costs, O&M impacts or anything else.  However, please note these additional cost impacts can be incorporated into the analysis upon request."]
["7.","The CSX rail transportation rates assume the current proposed rates based off of Aug. 2019 CSX rate proposal (with Fuel Surcharge calculations based on COB 9/12/2019 WTI fuel pricing and AII-LF based on the actual index numbers through Q3 2019). The rates are escalated at 2.0% annually for 2020 through 2050.  "]
[8,"For additional rail and barge assumptions see tab \" Transportation Rate assumptions\"."]
[9,"Crystal River Units 1&2 retirement occurred 12/31/18"]
[10,"This IRP is for planning purposes only. Using fundamental pricing for coal and market estimates for transportation rates.  This evaluation does not include the modeling of the existing contractual commitments for coal, transportation and trans-loading."]

{"sheet":"MASTER","index":3,"n_rows":33,"n_cols":34,"rows_kept":33,"cut":false,"hidden":false,"merged":[]}
[{"$f":"Assumptions!A1","v":"Florida- Fall 2019 IRP Refresh Update - Coal"},null,{"$f":"Assumptions!B2","v":"No Carbon"},null,"High Commodity Price"]
[]
[null,"**","Indicates unit capability constraints prevented selection of 100% of the lowest cost alternative"]
["DELIVERED COST ($/MMBTU)"]
["Station","Lowest Cost Alternatives",{"$f":"'Coal Price Inputs'!K7","v":2019},{"$f":"'Coal Price Inputs'!L7","v":2020},{"$f":"'Coal Price Inputs'!M7","v":2021},{"$f":"'Coal Price Inputs'!N7","v":2022},{"$f":"'Coal Price Inputs'!O7","v":2023},{"$f":"'Coal Price Inputs'!P7","v":2024},{"$f":"'Coal Price Inputs'!Q7","v":2025},{"$f":"'Coal Price Inputs'!R7","v":2026},{"$f":"'Coal Price Inputs'!S7","v":2027},{"$f":"'Coal Price Inputs'!T7","v":2028},{"$f":"'Coal Price Inputs'!U7","v":2029},{"$f":"'Coal Price Inputs'!V7","v":2030},{"$f":"'Coal Price Inputs'!W7","v":2031},{"$f":"'Coal Price Inputs'!X7","v":2032},{"$f":"'Coal Price Inputs'!Y7","v":2033},{"$f":"'Coal Price Inputs'!Z7","v":2034},{"$f":"'Coal Price Inputs'!AA7","v":2035},{"$f":"'Coal Price Inputs'!AB7","v":2036},{"$f":"'Coal Price Inputs'!AC7","v":2037},{"$f":"'Coal Price Inputs'!AD7","v":2038},{"$f":"'Coal Price Inputs'!AE7","v":2039},{"$f":"'Coal Price Inputs'!AF7","v":2040},{"$f":"'Coal Price Inputs'!AG7","v":2041},{"$f":"'Coal Price Inputs'!AH7","v":2042},{"$f":"'Coal Price Inputs'!AI7","v":2043},{"$f":"'Coal Price Inputs'!AJ7","v":2044},{"$f":"'Coal Price Inputs'!AK7","v":2045},{"$f":"'Coal Price Inputs'!AL7","v":2046},{"$f":"'Coal Price Inputs'!AM7","v":2047},{"$f":"'Coal Price Inputs'!AN7","v":2048},{"$f":"'Coal Price Inputs'!AO7","v":2049},{"$f":"'Coal Price Inputs'!AP7","v":2050}]
[{"$f":"'Crystal River 4 & 5'!A5","v":"Crystal River 4 & 5"},{"$f":"'Crystal River 4 & 5'!B5","v":"A 50%/50% blend of IL-OH Rvr 11,500 5# & IL-OH Rvr 11,000 6# 2019-2030, and a 30%/60%/10% blend of IL-OH Rvr 11,500 5#, IL-OH Rvr 11,000 6#, & NAPP Rail 113,0004# coal 2031-2050**"},{"$f":"'Crystal River 4 & 5'!J4","v":2.272161254819705},{"$f":"'Crystal River 4 & 5'!K4","v":2.3003409135327768},{"$f":"'Crystal River 4 & 5'!L4","v":2.5245691004697211},{"$f":"'Crystal River 4 & 5'!M4","v":2.585462264166976},{"$f":"'Crystal River 4 & 5'!N4","v":2.7197009930533786},{"$f":"'Crystal River 4 & 5'!O4","v":2.8425643071238893},{"$f":"'Crystal River 4 & 5'!P4","v":3.1761490022553236},{"$f":"'Crystal River 4 & 5'!Q4","v":3.2855967844336691},{"$f":"'Crystal River 4 & 5'!R4","v":3.3770457762908572},{"$f":"'Crystal River 4 & 5'!S4","v":3.4740442587173428},{"$f":"'Crystal River 4 & 5'!T4","v":3.5133475386675874},{"$f":"'Crystal River 4 & 5'!U4","v":3.6476524700004549},{"$f":"'Crystal River 4 & 5'!V4","v":4.0371396431151521},{"$f":"'Crystal River 4 & 5'!W4","v":4.1834409467580915},{"$f":"'Crystal River 4 & 5'!X4","v":4.3301555282940214},{"$f":"'Crystal River 4 & 5'!Y4","v":4.4672846745371997},{"$f":"'Crystal River 4 & 5'!Z4","v":4.511705618896019},{"$f":"'Crystal River 4 & 5'!AA4","v":4.6114264214870051},{"$f":"'Crystal River 4 & 5'!AB4","v":4.768655818610406},{"$f":"'Crystal River 4 & 5'!AC4","v":4.9133021423905161},{"$f":"'Crystal River 4 & 5'!AD4","v":5.0930074454727556},{"$f":"'Crystal River 4 & 5'!AE4","v":5.2607854849208255},{"$f":"'Crystal River 4 & 5'!AF4","v":5.420174389518297},{"$f":"'Crystal River 4 & 5'!AG4","v":5.5750637824876872},{"$f":"'Crystal River 4 & 5'!AH4","v":5.7459546314030803},{"$f":"'Crystal River 4 & 5'!AI4","v":5.9170802332524932},{"$f":"'Crystal River 4 & 5'!AJ4","v":6.0380052538813214},{"$f":"'Crystal River 4 & 5'!AK4","v":6.2078918659293905},{"$f":"'Crystal River 4 & 5'!AL4","v":6.4006578341926552},{"$f":"'Crystal River 4 & 5'!AM4","v":6.5555901020196963},{"$f":"'Crystal River 4 & 5'!AN4","v":6.7152269656922545},{"$f":"'Crystal River 4 & 5'!AO4","v":6.8842748293207876}]
[]
[]
["BTU","Minimum BTU Limit",{"$f":"C5","v":2019},2020,2021,2022,2023,2024,2025,2026,2027,2028,2029,2030,2031,2032,2033,2034,2035,2036,2037,2038,2039,2040,2041,{"$f":"Z5","v":2042},2043,2044,2045,2046,2047,2048,2049,{"$f":"AH5","v":2050}]
[{"$f":"A6","v":"Crystal River 4 & 5"},{"$f":"'Crystal River 4 & 5'!D5","v":10700},{"$f":"'Crystal River 4 & 5'!J5","v":11250},{"$f":"'Crystal River 4 & 5'!K5","v":11250},{"$f":"'Crystal River 4 & 5'!L5","v":11250},{"$f":"'Crystal River 4 & 5'!M5","v":11250},{"$f":"'Crystal River 4 & 5'!N5","v":11250},{"$f":"'Crystal River 4 & 5'!O5","v":11250},{"$f":"'Crystal River 4 & 5'!P5","v":11250},{"$f":"'Crystal River 4 & 5'!Q5","v":11250},{"$f":"'Crystal River 4 & 5'!R5","v":11250},{"$f":"'Crystal River 4 & 5'!S5","v":11250},{"$f":"'Crystal River 4 & 5'!T5","v":11250},{"$f":"'Crystal River 4 & 5'!U5","v":11250},{"$f":"'Crystal River 4 & 5'!V5","v":11350},{"$f":"'Crystal River 4 & 5'!W5","v":11350},{"$f":"'Crystal River 4 & 5'!X5","v":11350},{"$f":"'Crystal River 4 & 5'!Y5","v":11350},{"$f":"'Crystal River 4 & 5'!Z5","v":11350},{"$f":"'Crystal River 4 & 5'!AA5","v":11350},{"$f":"'Crystal River 4 & 5'!AB5","v":11350},{"$f":"'Crystal River 4 & 5'!AC5","v":11350},{"$f":"'Crystal River 4 & 5'!AD5","v":11350},{"$f":"'Crystal River 4 & 5'!AE5","v":11350},{"$f":"'Crystal River 4 & 5'!AF5","v":11350},{"$f":"'Crystal River 4 & 5'!AG5","v":11350},{"$f":"'Crystal River 4 & 5'!AH5","v":11350},{"$f":"'Crystal River 4 & 5'!AI5","v":11350},{"$f":"'Crystal River 4 & 5'!AJ5","v":11350},{"$f":"'Crystal River 4 & 5'!AK5","v":11350},{"$f":"'Crystal River 4 & 5'!AL5","v":11350},{"$f":"'Crystal River 4 & 5'!AM5","v":11350},{"$f":"'Crystal River 4 & 5'!AN5","v":11350},{"$f":"'Crystal River 4 & 5'!AO5","v":11350}]
[]
["SO2 (#/mmbtu)","Max SO2 Limit",{"$f":"C5","v":2019},2020,2021,2022,2023,2024,2025,2026,2027,2028,2029,2030,2031,2032,2033,2034,2035,2036,2037,2038,2039,2040,2041,{"$f":"Z5","v":2042},2043,2044,2045,2046,2047,2048,2049,{"$f":"AH5","v":2050}]
[{"$f":"A10","v":"Crystal River 4 & 5"},{"$f":"'Crystal River 4 & 5'!E5","v":5.5},{"$f":"'Crystal River 4 & 5'!J6","v":5.4888888888888889},{"$f":"'Crystal River 4 & 5'!K6","v":5.4888888888888889},{"$f":"'Crystal River 4 & 5'!L6","v":5.4888888888888889},{"$f":"'Crystal River 4 & 5'!M6","v":5.4888888888888889},{"$f":"'Crystal River 4 & 5'!N6","v":5.4888888888888889},{"$f":"'Crystal River 4 & 5'!O6","v":5.4888888888888889},{"$f":"'Crystal River 4 & 5'!P6","v":5.4888888888888889},{"$f":"'Crystal River 4 & 5'!Q6","v":5.4888888888888889},{"$f":"'Crystal River 4 & 5'!R6","v":5.4888888888888889},{"$f":"'Crystal River 4 & 5'!S6","v":5.4888888888888889},{"$f":"'Crystal River 4 & 5'!T6","v":5.4888888888888889},{"$f":"'Crystal River 4 & 5'!U6","v":5.4888888888888889},{"$f":"'Crystal River 4 & 5'!V6","v":5.4669603524229071},{"$f":"'Crystal River 4 & 5'!W6","v":5.4669603524229071},{"$f":"'Crystal River 4 & 5'!X6","v":5.4669603524229071},{"$f":"'Crystal River 4 & 5'!Y6","v":5.4669603524229071},{"$f":"'Crystal River 4 & 5'!Z6","v":5.4669603524229071},{"$f":"'Crystal River 4 & 5'!AA6","v":5.4669603524229071},{"$f":"'Crystal River 4 & 5'!AB6","v":5.4669603524229071},{"$f":"'Crystal River 4 & 5'!AC6","v":5.4669603524229071},{"$f":"'Crystal River 4 & 5'!AD6","v":5.4669603524229071},{"$f":"'Crystal River 4 & 5'!AE6","v":5.4669603524229071},{"$f":"'Crystal River 4 & 5'!AF6","v":5.4669603524229071},{"$f":"'Crystal River 4 & 5'!AG6","v":5.4669603524229071},{"$f":"'Crystal River 4 & 5'!AH6","v":5.4669603524229071},{"$f":"'Crystal River 4 & 5'!AI6","v":5.4669603524229071},{"$f":"'Crystal River 4 & 5'!AJ6","v":5.4669603524229071},{"$f":"'Crystal River 4 & 5'!AK6","v":5.4669603524229071},{"$f":"'Crystal River 4 & 5'!AL6","v":5.4669603524229071},{"$f":"'Crystal River 4 & 5'!AM6","v":5.4669603524229071},{"$f":"'Crystal River 4 & 5'!AN6","v":5.4669603524229071},{"$f":"'Crystal River 4 & 5'!AO6","v":5.4669603524229071}]
[]
["ASH","Max Ash Limit",{"$f":"C5","v":2019},2020,2021,2022,2023,2024,2025,2026,2027,2028,2029,2030,2031,2032,2033,2034,2035,2036,2037,2038,2039,2040,2041,{"$f":"Z5","v":2042},2043,2044,2045,2046,2047,2048,2049,{"$f":"AH5","v":2050}]
[{"$f":"A13","v":"Crystal River 4 & 5"},{"$f":"'Crystal River 4 & 5'!F5","v":0.13},{"$f":"'Crystal River 4 & 5'!J7","v":10},{"$f":"'Crystal River 4 & 5'!K7","v":10},{"$f":"'Crystal River 4 & 5'!L7","v":10},{"$f":"'Crystal River 4 & 5'!M7","v":10},{"$f":"'Crystal River 4 & 5'!N7","v":10},{"$f":"'Crystal River 4 & 5'!O7","v":10},{"$f":"'Crystal River 4 & 5'!P7","v":10},{"$f":"'Crystal River 4 & 5'!Q7","v":10},{"$f":"'Crystal River 4 & 5'!R7","v":10},{"$f":"'Crystal River 4 & 5'!S7","v":10},{"$f":"'Crystal River 4 & 5'!T7","v":10},{"$f":"'Crystal River 4 & 5'!U7","v":10},{"$f":"'Crystal River 4 & 5'!V7","v":9.8000000000000007},{"$f":"'Crystal River 4 & 5'!W7","v":9.8000000000000007},{"$f":"'Crystal River 4 & 5'!X7","v":9.8000000000000007},{"$f":"'Crystal River 4 & 5'!Y7","v":9.8000000000000007},{"$f":"'Crystal River 4 & 5'!Z7","v":9.8000000000000007},{"$f":"'Crystal River 4 & 5'!AA7","v":9.8000000000000007},{"$f":"'Crystal River 4 & 5'!AB7","v":9.8000000000000007},{"$f":"'Crystal River 4 & 5'!AC7","v":9.8000000000000007},{"$f":"'Crystal River 4 & 5'!AD7","v":9.8000000000000007},{"$f":"'Crystal River 4 & 5'!AE7","v":9.8000000000000007},{"$f":"'Crystal River 4 & 5'!AF7","v":9.8000000000000007},{"$f":"'Crystal River 4 & 5'!AG7","v":9.8000000000000007},{"$f":"'Crystal River 4 & 5'!AH7","v":9.8000000000000007},{"$f":"'Crystal River 4 & 5'!AI7","v":9.8000000000000007},{"$f":"'Crystal River 4 & 5'!AJ7","v":9.8000000000000007},{"$f":"'Crystal River 4 & 5'!AK7","v":9.8000000000000007},{"$f":"'Crystal River 4 & 5'!AL7","v":9.8000000000000007},{"$f":"'Crystal River 4 & 5'!AM7","v":9.8000000000000007},{"$f":"'Crystal River 4 & 5'!AN7","v":9.8000000000000007},{"$f":"'Crystal River 4 & 5'!AO7","v":9.8000000000000007}]
[]
["MERCURY (Hg) - ppm dry","Max Mercury (Hg) Limit",{"$f":"C5","v":2019},2020,2021,2022,2023,2024,2025,2026,2027,2028,2029,2030,2031,2032,2033,2034,2035,2036,2037,2038,2039,2040,2041,{"$f":"Z5","v":2042},2043,2044,2045,2046,2047,2048,2049,{"$f":"AH5","v":2050}]
[{"$f":"A16","v":"Crystal River 4 & 5"},"NA",{"$f":"'Crystal River 4 & 5'!J8","v":0.10199999999999999},{"$f":"'Crystal River 4 & 5'!K8","v":0.10199999999999999},{"$f":"'Crystal River 4 & 5'!L8","v":0.10199999999999999},{"$f":"'Crystal River 4 & 5'!M8","v":0.10199999999999999},{"$f":"'Crystal River 4 & 5'!N8","v":0.10199999999999999},{"$f":"'Crystal River 4 & 5'!O8","v":0.10199999999999999},{"$f":"'Crystal River 4 & 5'!P8","v":0.10199999999999999},{"$f":"'Crystal River 4 & 5'!Q8","v":0.10199999999999999},{"$f":"'Crystal River 4 & 5'!R8","v":0.10199999999999999},{"$f":"'Crystal River 4 & 5'!S8","v":0.10199999999999999},{"$f":"'Crystal River 4 & 5'!T8","v":0.10199999999999999},{"$f":"'Crystal River 4 & 5'!U8","v":0.10199999999999999},{"$f":"'Crystal River 4 & 5'!V8","v":0.10399999999999998},{"$f":"'Crystal River 4 & 5'!W8","v":0.10399999999999998},{"$f":"'Crystal River 4 & 5'!X8","v":0.10399999999999998},{"$f":"'Crystal River 4 & 5'!Y8","v":0.10399999999999998},{"$f":"'Crystal River 4 & 5'!Z8","v":0.10399999999999998},{"$f":"'Crystal River 4 & 5'!AA8","v":0.10399999999999998},{"$f":"'Crystal River 4 & 5'!AB8","v":0.10399999999999998},{"$f":"'Crystal River 4 & 5'!AC8","v":0.10399999999999998},{"$f":"'Crystal River 4 & 5'!AD8","v":0.10399999999999998},{"$f":"'Crystal River 4 & 5'!AE8","v":0.10399999999999998},{"$f":"'Crystal River 4 & 5'!AF8","v":0.10399999999999998},{"$f":"'Crystal River 4 & 5'!AG8","v":0.10399999999999998},{"$f":"'Crystal River 4 & 5'!AH8","v":0.10399999999999998},{"$f":"'Crystal River 4 & 5'!AI8","v":0.10399999999999998},{"$f":"'Crystal River 4 & 5'!AJ8","v":0.10399999999999998},{"$f":"'Crystal River 4 & 5'!AK8","v":0.10399999999999998},{"$f":"'Crystal River 4 & 5'!AL8","v":0.10399999999999998},{"$f":"'Crystal River 4 & 5'!AM8","v":0.10399999999999998},{"$f":"'Crystal River 4 & 5'!AN8","v":0.10399999999999998},{"$f":"'Crystal River 4 & 5'!AO8","v":0.10399999999999998}]
[]
["CHLORINE % AR","Max Chlorine Limit - ppm",{"$f":"C5","v":2019},2020,2021,2022,2023,2024,2025,2026,2027,2028,2029,2030,2031,2032,2033,2034,2035,2036,2037,2038,2039,2040,2041,{"$f":"Z5","v":2042},2043,2044,2045,2046,2047,2048,2049,{"$f":"AH5","v":2050}]
[{"$f":"A19","v":"Crystal River 4 & 5"},{"$f":"'Crystal River 4 & 5'!G5","v":2.5000000000000001E-3},{"$f":"'Crystal River 4 & 5'!J9","v":1.25E-3},{"$f":"'Crystal River 4 & 5'!K9","v":1.25E-3},{"$f":"'Crystal River 4 & 5'!L9","v":1.25E-3},{"$f":"'Crystal River 4 & 5'!M9","v":1.25E-3},{"$f":"'Crystal River 4 & 5'!N9","v":1.25E-3},{"$f":"'Crystal River 4 & 5'!O9","v":1.25E-3},{"$f":"'Crystal River 4 & 5'!P9","v":1.25E-3},{"$f":"'Crystal River 4 & 5'!Q9","v":1.25E-3},{"$f":"'Crystal River 4 & 5'!R9","v":1.25E-3},{"$f":"'Crystal River 4 & 5'!S9","v":1.25E-3},{"$f":"'Crystal River 4 & 5'!T9","v":1.25E-3},{"$f":"'Crystal River 4 & 5'!U9","v":1.25E-3},{"$f":"'Crystal River 4 & 5'!V9","v":1.15E-3},{"$f":"'Crystal River 4 & 5'!W9","v":1.15E-3},{"$f":"'Crystal River 4 & 5'!X9","v":1.15E-3},{"$f":"'Crystal River 4 & 5'!Y9","v":1.15E-3},{"$f":"'Crystal River 4 & 5'!Z9","v":1.15E-3},{"$f":"'Crystal River 4 & 5'!AA9","v":1.15E-3},{"$f":"'Crystal River 4 & 5'!AB9","v":1.15E-3},{"$f":"'Crystal River 4 & 5'!AC9","v":1.15E-3},{"$f":"'Crystal River 4 & 5'!AD9","v":1.15E-3},{"$f":"'Crystal River 4 & 5'!AE9","v":1.15E-3},{"$f":"'Crystal River 4 & 5'!AF9","v":1.15E-3},{"$f":"'Crystal River 4 & 5'!AG9","v":1.15E-3},{"$f":"'Crystal River 4 & 5'!AH9","v":1.15E-3},{"$f":"'Crystal River 4 & 5'!AI9","v":1.15E-3},{"$f":"'Crystal River 4 & 5'!AJ9","v":1.15E-3},{"$f":"'Crystal River 4 & 5'!AK9","v":1.15E-3},{"$f":"'Crystal River 4 & 5'!AL9","v":1.15E-3},{"$f":"'Crystal River 4 & 5'!AM9","v":1.15E-3},{"$f":"'Crystal River 4 & 5'!AN9","v":1.15E-3},{"$f":"'Crystal River 4 & 5'!AO9","v":1.15E-3}]
[]
[]
["Market - COB 10/16/2019",null,null,null,null,null,null,null,null,null,"esc@2.5%"]
["CRN",null,2.0312949476727189,2.1186920574326327,2.1782094659102369,2.2592625161115598,2.4266411933281593,2.4967423830669095,2.5616611732874435,2.5618725144332473,{"$f":"J26*1.025","v":2.6259193272940782},{"$f":"K26*1.025","v":2.6915673104764299}]
[]
["Blend"]
["Market",null,1,1,1,1,1,0.89,0.69,0.49,0.28999999999999998,0.09,0,0,0,0,0,0,0,0,0,0,0,0,0,0,0,0,0,0,0,0,0,0]
["Fundamentals",null,{"$f":"1-C29","v":0},{"$f":"1-D29","v":0},0,0,0,0.10999999999999999,0.31000000000000005,0.51,0.71,0.91,{"$f":"1-M29","v":1},{"$f":"1-N29","v":1},{"$f":"1-O29","v":1},{"$f":"1-P29","v":1},{"$f":"1-Q29","v":1},{"$f":"1-R29","v":1},{"$f":"1-S29","v":1},{"$f":"1-T29","v":1},{"$f":"1-U29","v":1},{"$f":"1-V29","v":1},{"$f":"1-W29","v":1},{"$f":"1-X29","v":1},{"$f":"1-Y29","v":1},1,1,1,1,1,1,1,1,1]
[]
["Final Forecast"]
["CRN",null,{"$f":"C26*C29+C30*C6","v":2.0312949476727189},2.1186920574326327,2.1782094659102369,2.2592625161115598,2.4266411933281593,2.5347827947131774,2.7521524002674864,2.9309718921334627,3.1592191060817911,3.4036213333756611,3.5133475386675874,3.6476524700004549,4.0371396431151521,4.1834409467580915,4.3301555282940214,4.4672846745371997,4.511705618896019,4.6114264214870051,4.768655818610406,4.9133021423905161,5.0930074454727556,5.2607854849208255,5.420174389518297,5.5750637824876872,5.7459546314030803,5.9170802332524932,6.0380052538813214,6.2078918659293905,6.4006578341926552,6.5555901020196963,6.7152269656922545,6.8842748293207876]

{"sheet":"Crystal River 4 & 5","index":4,"n_rows":107,"n_cols":41,"rows_kept":107,"cut":false,"hidden":false,"merged":[[4,1,4,2]]}
[null,null,{"$f":"Assumptions!$A$1","v":"Florida- Fall 2019 IRP Refresh Update - Coal"},{"$f":"Assumptions!B2","v":"No Carbon"}]
[]
["LOWEST COST ALTERNATIVE (Delivered $/mmbtu)",null,null,null,null,null,null,null,null,{"$f":"Start_Year","v":2019},{"$f":"J3+1","v":2020},{"$f":"K3+1","v":2021},2022,2023,2024,2025,2026,2027,2028,2029,2030,2031,2032,2033,2034,2035,2036,2037,2038,2039,2040,2041,{"$f":"AF3+1","v":2042},{"$f":"AG3+1","v":2043},{"$f":"AH3+1","v":2044},{"$f":"AI3+1","v":2045},{"$f":"AJ3+1","v":2046},{"$f":"AK3+1","v":2047},{"$f":"AL3+1","v":2048},{"$f":"AM3+1","v":2049},2050]
[null,null,"Limits:","Min BTU","Max SO2","Max Ash","Max Cl","Cost ($/mmbtu):",null,{"$f":"SUMPRODUCT(J14:J29,J34:J49)","v":2.272161254819705},2.3003409135327768,2.5245691004697211,2.585462264166976,2.7197009930533786,2.8425643071238893,3.1761490022553236,3.2855967844336691,3.3770457762908572,3.4740442587173428,3.5133475386675874,3.6476524700004549,4.0371396431151521,4.1834409467580915,4.3301555282940214,4.4672846745371997,4.511705618896019,4.6114264214870051,4.768655818610406,4.9133021423905161,5.0930074454727556,5.2607854849208255,5.420174389518297,5.5750637824876872,5.7459546314030803,5.9170802332524932,6.0380052538813214,6.2078918659293905,6.4006578341926552,6.5555901020196963,6.7152269656922545,6.8842748293207876]
["Crystal River 4 & 5","A 50%/50% blend of IL-OH Rvr 11,500 5# & IL-OH Rvr 11,000 6# 2019-2030, and a 30%/60%/10% blend of IL-OH Rvr 11,500 5#, IL-OH Rvr 11,000 6#, & NAPP Rail 113,0004# coal 2031-2050**",null,10700,5.5,0.13,{"$f":"2500/1000000","v":2.5000000000000001E-3},"BTU/lb:",null,{"$f":"SUMPRODUCT(J14:J29,$E14:$E29)","v":11250},11250,11250,11250,11250,11250,11250,11250,11250,11250,11250,11250,11350,11350,11350,11350,11350,11350,11350,11350,11350,11350,11350,11350,11350,11350,11350,11350,11350,11350,11350,11350]
[null," ",null,null,null,null,null,"SO2 (#/mmbtu):",null,{"$f":"SUMPRODUCT(J14:J29,$E14:$E29,$F14:$F29)/J5","v":5.4888888888888889},5.4888888888888889,5.4888888888888889,5.4888888888888889,5.4888888888888889,5.4888888888888889,5.4888888888888889,5.4888888888888889,5.4888888888888889,5.4888888888888889,5.4888888888888889,5.4888888888888889,5.4669603524229071,5.4669603524229071,5.4669603524229071,5.4669603524229071,5.4669603524229071,5.4669603524229071,5.4669603524229071,5.4669603524229071,5.4669603524229071,5.4669603524229071,5.4669603524229071,5.4669603524229071,5.4669603524229071,5.4669603524229071,5.4669603524229071,5.4669603524229071,5.4669603524229071,5.4669603524229071,5.4669603524229071,5.4669603524229071]
[null,null,null,null,null,null,null,"Ash (%):",null,{"$f":"SUMPRODUCT(J14:J29,$G14:$G29)","v":10},10,10,10,10,10,10,10,10,10,10,10,9.8000000000000007,9.8000000000000007,9.8000000000000007,9.8000000000000007,9.8000000000000007,9.8000000000000007,9.8000000000000007,9.8000000000000007,9.8000000000000007,9.8000000000000007,9.8000000000000007,9.8000000000000007,9.8000000000000007,9.8000000000000007,9.8000000000000007,9.8000000000000007,9.8000000000000007,9.8000000000000007,9.8000000000000007,9.8000000000000007]
[null,null,null,null,null,null,null,"Hg (ppm - dry):",null,{"$f":"SUMPRODUCT(J14:J29,$H14:$H29)","v":0.10199999999999999},0.10199999999999999,0.10199999999999999,0.10199999999999999,0.10199999999999999,0.10199999999999999,0.10199999999999999,0.10199999999999999,0.10199999999999999,0.10199999999999999,0.10199999999999999,0.10199999999999999,0.10399999999999998,0.10399999999999998,0.10399999999999998,0.10399999999999998,0.10399999999999998,0.10399999999999998,0.10399999999999998,0.10399999999999998,0.10399999999999998,0.10399999999999998,0.10399999999999998,0.10399999999999998,0.10399999999999998,0.10399999999999998,0.10399999999999998,0.10399999999999998,0.10399999999999998,0.10399999999999998,0.10399999999999998,0.10399999999999998]
[null,null,null,null,null,null,null,"Chlorine %AR",null,{"$f":"SUMPRODUCT(J14:J29,$I14:$I29)","v":1.25E-3},1.25E-3,1.25E-3,1.25E-3,1.25E-3,1.25E-3,1.25E-3,1.25E-3,1.25E-3,1.25E-3,1.25E-3,1.25E-3,1.15E-3,1.15E-3,1.15E-3,1.15E-3,1.15E-3,1.15E-3,1.15E-3,1.15E-3,1.15E-3,1.15E-3,1.15E-3,1.15E-3,1.15E-3,1.15E-3,1.15E-3,1.15E-3,1.15E-3,1.15E-3,1.15E-3,1.15E-3]
[]
[null,null,null,null,null,null,null,"Delta to Single Lowest Cost Alternative:",null,{"$f":"J4-J32","v":2.6177218926786594E-2},2.9518481252385431E-2,3.4811457425592884E-2,3.5739028502382642E-2,3.33634472911295E-2,3.5670637003341721E-2,3.0903621725398178E-2,3.2916763869710319E-2,3.3391486080526445E-2,3.4518397919916843E-2,3.4198068733822584E-2,0.12849600362608005,0.25640108131419481,0.26722818971009632,0.26675868082229393,0.27244256734728722,0.28818385062045948,0.27582647364240831,0.27494621292294852,0.28401327350647421,0.2875707631756006,0.29407710458546088,0.29652529974941277,0.30202680662700931,0.30766348118839115,0.31215412293847855,0.31859107786352325,0.32041618664694749,0.3280506645660255,0.33534930078211556,0.33689132078152095,0.3445841610746605]
["SELECTED PERCENTAGES"]
[{"$f":"A33","v":"Station"},"Basin","Coal Type","FOB Point","Btu/lb","#SO2/MMBtu","%Ash","Hg (ppm - dry)","Chlorine % AR",{"$f":"J3","v":2019},2020,2021,2022,2023,2024,2025,2026,2027,2028,2029,2030,2031,2032,2033,2034,2035,2036,2037,2038,2039,2040,2041,2042,2043,2044,2045,2046,2047,2048,2049,2050]
["Crystal River 4&5 ",{"$f":"B34","v":"NAPP"},"Pittsburgh Seam","Rail",13000,4,8,{"$f":"'Coal Price Inputs'!H10","v":0.122},{"$f":"'Coal Price Inputs'!I10","v":1E-3},0,0,0,0,0,0,0,0,0,0,0,0,0.1,0.1,0.1,0.1,0.1,0.1,0.1,0.1,0.1,0.1,0.1,0.1,0.1,0.1,0.1,0.1,0.1,0.1,0.1,0.1]
[{"$f":"$A$14","v":"Crystal River 4&5 "},{"$f":"B35","v":"NAPP"},"Pittsburgh Seam","Barge",13000,4,8,{"$f":"'Coal Price Inputs'!H11","v":0.122},{"$f":"'Coal Price Inputs'!I11","v":1E-3},0,0,0,0,0,0,0,0,0,0,0,0,0,0,0,0,0,0,0,0,0,0,0,0,0,0,0,0,0,0,0,0]
[{"$f":"$A$14","v":"Crystal River 4&5 "},{"$f":"B36","v":"CAPP"},"Low-Sulfur","Rail",12500,1.6,10,{"$f":"'Coal Price Inputs'!H12","v":0.11},{"$f":"'Coal Price Inputs'!I12","v":1E-3},0,0,0,0,0,0,0,0,0,0,0,0,0,0,0,0,0,0,0,0,0,0,0,0,0,0,0,0,0,0,0,0]
["Crystal River 4&5 ","CAPP","Low-Sulfur","Barge",12500,1.67,10,{"$f":"'Coal Price Inputs'!H13","v":0.11},{"$f":"'Coal Price Inputs'!I13","v":1E-3},0,0,0,0,0,0,0,0,0,0,0,0,0,0,0,0,0,0,0,0,0,0,0,0,0,0,0,0,0,0,0,0]
["Crystal River 4&5 ",{"$f":"B38","v":"ILB"},"Illinois","Rail",11500,5,10,{"$f":"'Coal Price Inputs'!H14","v":0.10199999999999999},{"$f":"'Coal Price Inputs'!I14","v":3.0000000000000001E-3},0,0,0,0,0,0,0,0,0,0,0,0,0,0,0,0,0,0,0,0,0,0,0,0,0,0,0,0,0,0,0,0]
["Crystal River 4&5 ","ILB","Illinois","Barge",11500,5,10,{"$f":"'Coal Price Inputs'!H15","v":0.10199999999999999},{"$f":"'Coal Price Inputs'!I15","v":1.5E-3},0.5,0.5,0.5,0.5,0.5,0.5,0.5,0.5,0.5,0.5,0.5,0.5,0.3,0.3,0.3,0.3,0.3,0.3,0.3,0.3,0.3,0.3,0.3,0.3,0.3,0.3,0.3,0.3,0.3,0.3,0.3,0.3]
["Crystal River 4&5 ",{"$f":"B40","v":"ILB"},"Illinois","Rail",11500,5,10,{"$f":"'Coal Price Inputs'!H16","v":0.10199999999999999},{"$f":"'Coal Price Inputs'!I16","v":1.1999999999999999E-3},0,0,0,0,0,0,0,0,0,0,0,0,0,0,0,0,0,0,0,0,0,0,0,0,0,0,0,0,0,0,0,0]
["Crystal River 4&5 ",{"$f":"B41","v":"ILB"},"Illinois","Barge",11000,6,10,{"$f":"'Coal Price Inputs'!H17","v":0.10199999999999999},{"$f":"'Coal Price Inputs'!I17","v":1E-3},0.5,0.5,0.5,0.5,0.5,0.5,0.5,0.5,0.5,0.5,0.5,0.5,0.6,0.6,0.6,0.6,0.6,0.6,0.6,0.6,0.6,0.6,0.6,0.6,0.6,0.6,0.6,0.6,0.6,0.6,0.6,0.6]
["Crystal River 4&5 ",{"$f":"B42","v":"ILB"},"Illinois","Rail",11000,6,10,{"$f":"'Coal Price Inputs'!H18","v":0.10199999999999999},{"$f":"'Coal Price Inputs'!I18","v":1.5E-3},0,0,0,0,0,0,0,0,0,0,0,0,0,0,0,0,0,0,0,0,0,0,0,0,0,0,0,0,0,0,0,0]
["Crystal River 4&5 ",{"$f":"B43","v":"ILB"},"Illinois","Barge",11800,4.5,10,{"$f":"'Coal Price Inputs'!H20","v":0.10199999999999999},{"$f":"'Coal Price Inputs'!I20","v":2E-3},0,0,0,0,0,0,0,0,0,0,0,0,0,0,0,0,0,0,0,0,0,0,0,0,0,0,0,0,0,0,0,0]
["Crystal River 4&5 ",{"$f":"B44","v":"ILB"},"Illinois","Barge",11800,4.5,10,{"$f":"'Coal Price Inputs'!H21","v":0.10199999999999999},{"$f":"'Coal Price Inputs'!I21","v":2E-3},0,0,0,0,0,0,0,0,0,0,0,0,0,0,0,0,0,0,0,0,0,0,0,0,0,0,0,0,0,0,0,0]
["Crystal River 4&5 ",{"$f":"B45","v":"ILB"},"Low Chlorine","Barge",11500,5.2,10,{"$f":"'Coal Price Inputs'!H22","v":0.10199999999999999},{"$f":"'Coal Price Inputs'!I22","v":8.0000000000000004E-4},0,0,0,0,0,0,0,0,0,0,0,0,0,0,0,0,0,0,0,0,0,0,0,0,0,0,0,0,0,0,0,0]
["Crystal River 4&5 ",{"$f":"B46","v":"ILB"},"Low Chlorine","Rail",11500,5.2,10,{"$f":"'Coal Price Inputs'!H23","v":0.10199999999999999},{"$f":"'Coal Price Inputs'!I23","v":8.0000000000000004E-4},0,0,0,0,0,0,0,0,0,0,0,0,0,0,0,0,0,0,0,0,0,0,0,0,0,0,0,0,0,0,0,0]
["Crystal River 4&5 ",{"$f":"B47","v":"PRB"},"High-Btu Gillette","Rail",8800,0.8,5,{"$f":"'Coal Price Inputs'!H24","v":0.06},{"$f":"'Coal Price Inputs'!I24","v":1E-4},0,0,0,0,0,0,0,0,0,0,0,0,0,0,0,0,0,0,0,0,0,0,0,0,0,0,0,0,0,0,0,0]
["Crystal River 4&5 ","RM","Rockies","Rail",11700,0.8,8,{"$f":"'Coal Price Inputs'!H25","v":0.04},{"$f":"'Coal Price Inputs'!I25","v":2.0000000000000001E-4},0,0,0,0,0,0,0,0,0,0,0,0,0,0,0,0,0,0,0,0,0,0,0,0,0,0,0,0,0,0,0,0]
["Crystal River 4&5 ","RM","Rockies","Barge",11700,0.8,8,{"$f":"'Coal Price Inputs'!H26","v":0.04},{"$f":"'Coal Price Inputs'!I26","v":2.0000000000000001E-4},0,0,0,0,0,0,0,0,0,0,0,0,0,0,0,0,0,0,0,0,0,0,0,0,0,0,0,0,0,0,0,0]
[null,null,null,null,null,null,null,null,null,{"$f":"SUM(J14:J29)","v":1},1,1,1,1,1,1,1,1,1,1,1,1,1,1,1,1,1,1,1,1,1,1,1,1,1,1,1,1,1,1,1]
[]
["DELIVERED COST ($/MMBTU)",null,null,null,null,null,null,"Single Lowest Cost Alternative:",null,{"$f":"MIN(J34:J49)","v":2.2459840358929184},2.2708224322803914,2.4897576430441282,2.5497232356645934,2.6863375457622491,2.8068936701205476,3.1452453805299254,3.2526800205639588,3.3436542902103308,3.4395258607974259,3.4791494699337648,3.5191564663743748,3.7807385618009572,3.9162127570479952,4.0633968474717275,4.1948421071899125,4.2235217682755595,4.3355999478445968,4.4937096056874575,4.6292888688840419,4.805436682297155,4.9667083803353647,5.1236490897688842,5.2730369758606779,5.4382911502146891,5.6049261103140147,5.7194141760177981,5.887475679282443,6.0726071696266297,6.2202408012375807,6.3783356449107336,6.5396906682461271]
[{"$f":"A52","v":"Station"},"Basin","Coal Type","FOB Point","Btu/lb","#SO2/MMBtu","%Ash","Hg (ppm - dry)","Chlorine % AR",{"$f":"J3","v":2019},2020,2021,2022,2023,2024,2025,2026,2027,2028,2029,2030,2031,2032,2033,2034,2035,2036,2037,2038,2039,2040,2041,2042,2043,2044,2045,2046,2047,2048,2049,2050]
[{"$f":"$A$14","v":"Crystal River 4&5 "},{"$f":"B53","v":"NAPP"},"Pittsburgh Seam","Rail",13000,4,8,{"$f":"H14","v":0.122},1E-3,{"$f":"IF(J92=\"n/a\",\"n/a\",J53/($E34/500))","v":2.8427521504758602},2.8868602820361522,3.246453589331229,3.2698049332590795,3.3783910625259832,3.4283009793970125,3.5203941796411109,3.6783407457367372,3.7735598054377482,3.8565217583032187,3.9606311369348921,4.0420960173358589,4.1330965256193082,4.298317098045457,4.3868995035616658,4.5229267280871861,4.6413576247922625,4.5804717953397169,4.6694587930800147,4.8039493125804302,4.9504277575386526,5.1127022149670029,5.2455568881248906,5.3819011682243607,5.5311746011820748,5.6852898862336199,5.7849940884425735,5.9396068393458865,6.1108432316198957,6.2460867742548674,6.3915554959061005,6.5408926561392731]
["Crystal River 4&5 ",{"$f":"B54","v":"NAPP"},"Pittsburgh Seam","Barge",13000,{"$f":"F54","v":4},{"$f":"G54","v":8},0.122,1E-3,{"$f":"IF(J93=\"n/a\",\"n/a\",J54/($E35/500))","v":2.6267928562095544},2.6817634069011906,3.0210653065061996,3.0393436054449703,3.2329665908297303,3.2747823984574755,3.5858213096576708,3.7356096032099071,3.8498316315315986,3.9426826769886265,4.056990303706935,4.1466477679188394,4.497885807665404,4.6731594757713006,4.7695588129976638,4.9135752194779849,5.0429572542380363,4.9901805523952083,5.0879793119172341,5.2347514070551551,5.3905156986113196,5.5623096205393914,5.6999287669274388,5.8468597712712365,6.0070912132991987,6.1672187087281873,6.2794872120434642,6.4376682344410092,6.6216352541603722,6.7697928742096627,6.9186362155720778,7.0812377977117213]
["Crystal River 4&5 ","CAPP","Low-Sulfur","Rail",12500,{"$f":"F55","v":1.6},{"$f":"G55","v":10},0.11,1E-3,{"$f":"IF(J94=\"n/a\",\"n/a\",J55/($E36/500))","v":3.2649223410590902},2.9459689304992516,3.5349807038251115,3.7718590944032333,3.8012247994987525,3.9799461948688837,4.1076213883707009,4.2717893564265417,4.4122981419040119,4.5314167654058428,4.6287071508000714,4.752849599420701,4.9110636087278206,4.915287052107292,5.1137928541176247,5.2768405622668411,5.4508843307505277,5.6590516042852821,5.8789028976911641,6.1118673469005271,6.1095801727271057,6.3361855909748774,6.5044779184753114,6.6511943903769453,6.7960441851816578,6.9799107265469216,7.0820347497748584,7.2548219625344386,7.4502846822186379,7.6013799713355441,7.7648012097797441,7.9330910649763702]
["Crystal River 4&5 ","CAPP","Low-Sulfur","Barge",12500,1.67,{"$f":"G56","v":10},0.11,1E-3,{"$f":"IF(J95=\"n/a\",\"n/a\",J56/($E37/500))","v":3.0026661411626514},2.6926678292863482,3.2623811840944357,3.4941065009903864,3.611411660337295,3.7810993188315205,4.1360078457135732,4.2909577255180764,4.4489785761485319,4.5757256535150637,4.6808888762469145,4.8112400409996541,5.2388512755902319,5.2523160582917994,5.4576138488859316,5.627602502631416,5.8116863173473279,6.0269077518089844,6.2543998277964556,6.498563062004231,6.5043227089694788,6.7391753734626025,6.9125352663457988,7.0683949566956175,7.2227023647021165,7.4127348492943863,7.5259272689030468,7.7023809279990658,7.9090778693527488,8.0715733994424426,8.2385458065384718,8.4185551864123642]
["Crystal River 4&5 ",{"$f":"B57","v":"ILB"},"Illinois","Rail",11500,5,{"$f":"G57","v":10},0.10199999999999999,3.0000000000000001E-3,{"$f":"IF(J96=\"n/a\",\"n/a\",J57/($E38/500))","v":2.7409015689667973},2.76536858058547,3.0159416145836788,3.0876745556133587,3.1270572581558862,3.2648895329401624,3.3500022913705236,3.4755200915143405,3.5535303025915779,3.6489781122682321,3.6851561613777251,3.6415374232105733,3.9152061360648172,4.0563874024925415,4.2098464472464592,4.3467503105907879,4.3756844475022572,4.4921976821107412,4.6570386964872696,4.798188691522431,4.9819271513778283,5.1500137482268693,5.3135247091647306,5.4690752495254813,5.6412645823066843,5.8148763935261005,5.9336839300104289,6.1087366801905292,6.3016903480368356,6.4552255421952607,6.6197185109957966,6.7876045767349487]
["Crystal River 4&5 ","ILB","Illinois","Barge",11500,5,{"$f":"G58","v":10},0.10199999999999999,1.5E-3,{"$f":"IF(J97=\"n/a\",\"n/a\",J58/($E39/500))","v":2.2983384737464916},2.3298593947851627,2.5593805578953139,2.6212012926693586,2.7530644403445086,2.8782349441272315,3.2070526239807213,3.3185135483033794,3.4104372623713837,3.5085626566372601,3.5475456074014096,3.6839103399419821,4.0675591832714346,4.2145093086607357,4.370881529450557,4.5107673709839471,4.54601071428623,4.6654920683549852,4.8337185183527511,4.9820011200889107,5.1693400007004673,5.3411307526555278,5.5067342509737527,5.6665907448821198,5.8432778242113708,6.0197435090615405,6.1445861638526331,6.3196700208763437,6.5186765937470588,6.6783386183861868,6.8425916819884574,7.0167385903647315]
["Crystal River 4&5 ",{"$f":"B59","v":"ILB"},"Illinois","Rail",11500,5,10,0.10199999999999999,1.1999999999999999E-3,{"$f":"IF(J98=\"n/a\",\"n/a\",J59/($E40/500))","v":2.6275231786267974},2.7164342204447069,2.9651388957375202,3.0370974478856376,3.0749143185903041,3.2107343289261618,3.2942850798333838,3.4184099496887717,3.4952779579294981,3.5895607207129103,3.6245504219912967,3.5797195690364165,3.8521519248071772,3.9920721070097485,4.1442448458540113,4.2798366771704899,4.3074325414135544,4.4225807379002644,4.5860294133925832,4.7257592227658503,4.9080490932461149,5.0746581289325228,5.2366619774844967,5.3906752632116426,5.5612965962665699,5.733309047765184,5.8504852373342926,6.0238740136608699,6.2151304281765842,6.3669344239378027,6.5296615703731913,6.6957464972998899]
["Crystal River 4&5 ",{"$f":"B60","v":"ILB"},"Illinois","Barge",11000,6,10,0.10199999999999999,1E-3,{"$f":"IF(J99=\"n/a\",\"n/a\",J60/($E41/500))","v":2.2459840358929184},2.2708224322803914,2.4897576430441282,2.5497232356645934,2.6863375457622491,2.8068936701205476,3.1452453805299254,3.2526800205639588,3.3436542902103308,3.4395258607974259,3.4791494699337648,3.6113946000589277,4.0059370592863175,4.1487607405922091,4.30033519850448,4.4362696507221617,4.4729444035515398,4.589552702410896,4.7526573063276327,4.8971781251763327,5.0786044491812499,5.2452933960457786,5.4059973756894699,5.5614940703343585,5.7330897067024358,5.9043803198511151,6.0268833264687904,6.1967169595531653,6.3899508881775802,6.5457997317972563,6.7054898525085118,6.8752733109957349]
["Crystal River 4&5 ",{"$f":"B61","v":"ILB"},"Illinois","Rail",11000,6,10,0.10199999999999999,1.5E-3,{"$f":"IF(J100=\"n/a\",\"n/a\",J61/($E42/500))","v":2.5901316819041464},2.6749688409244605,2.9139595416973436,2.9845237615725213,3.022816963928308,3.1545066633194296,3.2364429480122539,3.3571171674668689,3.4323513810210859,3.5242056550583327,3.5596545033686469,3.5191564663743748,3.7807385618009572,3.9162127570479952,4.0633968474717275,4.1948421071899125,4.2235217682755595,4.3355999478445968,4.4937096056874575,4.6292888688840419,4.805436682297155,4.9667083803353647,5.1236490897688842,5.2730369758606779,5.4382911502146891,5.6049261103140147,5.7194141760177981,5.887475679282443,6.0726071696266297,6.2202408012375807,6.3783356449107336,6.5396906682461271]
["Crystal River 4&5 ",{"$f":"B62","v":"ILB"},"Illinois","Barge",11800,4.5,10,0.10199999999999999,2E-3,{"$f":"IF(J101=\"n/a\",\"n/a\",J62/($E43/500))","v":2.2873504128729767},2.3124012313992708,2.5372266530937351,2.6967667153160488,2.8509872941161998,2.9888470448187046,3.3142250672755633,3.43111816513913,3.5253663795783705,3.6271006442821205,3.6661209327118618,3.6191817971039368,4.1882435055234151,4.3412810575231982,4.5045007738688101,4.6502025977032115,4.6847049759901793,4.8086976405367086,4.9842546578617641,5.1383143657332431,5.3340064735756956,5.5131662386998919,5.6858564931569475,5.852217733688188,6.0363422471085899,6.2203178710570777,6.3492721629027864,6.5319123099219327,6.7393304100738911,6.9049971733974926,7.0760095519758002,7.2568917118975005]
["Crystal River 4&5 ",{"$f":"B63","v":"ILB"},"Illinois","Barge",11800,4.5,10,0.10199999999999999,2E-3,{"$f":"IF(J102=\"n/a\",\"n/a\",J63/($E44/500))","v":2.6108002392261347},2.6399598138477947,2.8390508445439693,2.9842006307490556,3.1445908155003055,3.2887508034676927,3.6205560421974585,3.7447095723970718,3.8473056684930573,3.9580728658426678,4.0063412902231121,3.9681498947865403,4.5445404365202124,4.7049657595908689,4.8758640803603148,5.0294030159953778,5.0718330446976942,5.203916532723051,5.3878938213367915,5.5505711703167568,5.7550603561539768,5.9432079982289032,6.1224786266532707,6.2984025984855778,6.492330585403332,6.6835859115489189,6.822713033305253,7.0128612361592282,7.230757296732226,7.4070895072587906,7.5859416869653389,7.7778670200795226]
["Crystal River 4&5 ",{"$f":"B64","v":"ILB"},"Low Chlorine","Barge",11500,5.2,10,0.10199999999999999,8.0000000000000004E-4,{"$f":"IF(J103=\"n/a\",\"n/a\",J64/($E45/500))","v":2.3779394403443899},2.4387532878178568,2.677701130057955,2.8469473198358988,3.0066401715639288,3.1527181193136138,3.4888838944780618,3.6126898192348609,3.7115754590559082,3.8188164377855918,3.8593353283227665,3.80846486281468,4.4022434864633793,4.5638647396249015,4.7364009919846186,4.8902843346827067,4.9257592454286261,5.056514843245929,5.2420768864376752,5.4046177522402674,5.6115452449114995,5.800864344183335,5.9833397153249006,6.1589806492177921,6.3534841739910517,6.5478661827968958,6.6835897445773416,6.876606681933648,7.0957319573564508,7.2704242858237276,7.4510089194039981,7.6418271272661329]
["Crystal River 4&5 ",{"$f":"B65","v":"ILB"},"Low Chlorine","Rail",11500,5.2,10,0.10199999999999999,8.0000000000000004E-4,{"$f":"IF(J104=\"n/a\",\"n/a\",J65/($E46/500))","v":2.5932111017464345},2.6539563024138162,2.9071961165561935,3.0838913247343225,3.1448342165161649,3.2963008140326546,3.3823528386384396,3.513978621135661,3.593836403139739,3.6931831553574725,3.725576169478809,3.6678807992469431,3.9675573900385497,4.1177631232541314,4.2816266053738925,4.4266531837947882,4.4498266063399976,4.5715019572509377,4.7474441948264312,4.896493396533109,5.0933342299053663,5.2723332107575152,5.445967761938773,5.6104194940525067,5.7934043590815447,5.9777711627965404,6.1001550481809215,6.2856902294425332,6.4911629376048214,6.6519767801105658,6.8248946302986591,7.0013871731614179]
["Crystal River 4&5 ",{"$f":"B66","v":"PRB"},"High-Btu Gillette","Rail",8800,0.8,5,0.06,1E-4,{"$f":"IF(J105=\"n/a\",\"n/a\",J66/($E47/500))","v":3.0788025629321276},3.1272341521360958,3.2175717159908657,3.3317395912190864,3.3922710967347287,3.4884604247667461,3.5786774268548638,3.685869527185377,3.7759383949054555,3.8621309136260766,3.9573892863190041,4.0638730858679288,4.1569855786244805,4.2609000597631184,4.3762094277664092,4.4917058322376748,4.6019706347413925,4.697171552749956,4.8241623090443193,4.9544619244613042,5.0920017687756101,5.2381897934316743,5.3713465062125811,5.5056617337052396,5.6495602350683338,5.7997972269051985,5.928921648839359,6.0870443787520632,6.2574200354478178,6.4147441378101782,6.5813149688794788,6.7540953877721606]
["Crystal River 4&5 ","RM","Rockies","Rail",11700,0.8,8,0.04,2.0000000000000001E-4,{"$f":"IF(J106=\"n/a\",\"n/a\",J67/($E48/500))","v":3.9069055405601474},4.0287366658552957,4.2141462214203029,4.3131795184424382,4.4277165354689556,4.5924561827901149,4.7224786900998907,4.7938970653538417,4.9178026937216464,5.0337373967094665,5.1675096728055872,5.2856589331467259,5.4120969413109261,5.5586241465307804,5.5833079119577809,5.7337308286419617,5.882861359209052,6.0524838699966761,6.0357863030784218,6.2123082836871788,6.4008419367539027,6.6046657739473531,6.7462815425435654,6.9202123394279145,7.103253453613199,7.2882280324132251,7.4270931585319824,7.6151611882066312,7.8165262800105824,7.989509216926888,8.171451095181137,8.3581896392570645]
["Crystal River 4&5 ","RM","Rockies","Barge",11700,0.8,8,{"$f":"H30","v":0},{"$f":"I30","v":0},{"$f":"IF(J107=\"n/a\",\"n/a\",J68/($E49/500))","v":3.6096102042539417},3.7743677464282674,3.9452209900377726,4.0206403142121037,4.1171806758755354,4.2660217601111405,4.6312079300000883,4.6825241263601178,4.816668092321339,4.9306149750760246,5.0623160847907576,5.1782917297818569,5.5880117262331463,5.7403747436256536,5.7676684127253095,5.920613943976111,6.0759472003893702,6.248295716295182,6.2341781617769696,6.4171054770857445,6.608301580181676,6.8150154753792753,6.9635007233761836,7.1402756596849732,7.3263224114678041,7.5184455804559907,7.6619586472791914,7.8547937303185273,8.0610212165544599,8.2389376419452347,8.4258593707511285,8.617598900851279]
[]
["DELIVERED COST ($/TON)"]
[{"$f":"A71","v":"Station"},"Basin","Coal Type","FOB Point","Btu/lb","#SO2/MMBtu","%Ash",null,null,{"$f":"J3","v":2019},2020,2021,2022,2023,2024,2025,2026,2027,2028,2029,2030,2031,2032,2033,2034,2035,2036,2037,2038,2039,2040,2041,2042,2043,2044,2045,2046,2047,2048,2049,2050]
[{"$f":"$A$14","v":"Crystal River 4&5 "},{"$f":"B72","v":"NAPP"},"Pittsburgh Seam","Rail",13000,4,8,null,null,{"$f":"IF(J92=\"n/a\",\"n/a\",J72+J92)","v":73.911555912372364},75.058367332939952,84.407793322611951,85.014928264736071,87.838167625675567,89.135825464322323,91.530248670668882,95.636859389155163,98.112554941381447,100.26956571588369,102.97640956030719,105.09449645073234,107.46050966610201,111.75624454918189,114.05938709260332,117.59609493026683,120.67529824459882,119.09226667883263,121.40592862008039,124.9026821270912,128.71112169600497,132.93025758914209,136.38447909124716,{"$f":"IF(AG92=\"n/a\",\"n/a\",AG72+AG92)","v":139.92943037383338},143.81053963073396,147.81753704207412,150.40984629950691,154.42977782299306,158.88192402211729,162.39825613062655,166.18044289355862,{"$f":"IF(AO92=\"n/a\",\"n/a\",AO72+AO92)","v":170.0632090596211}]
["Crystal River 4&5 ",{"$f":"B73","v":"NAPP"},"Pittsburgh Seam","Barge",13000,{"$f":"F73","v":4},{"$f":"G73","v":8},null,null,{"$f":"IF(J93=\"n/a\",\"n/a\",J73+J93)","v":68.296614261448411},69.725848579430959,78.547697969161192,79.022933741569233,84.057131361572985,85.144342359894367,93.231354051099444,97.125849683457588,100.09562241982157,102.50974960170429,105.48174789638031,107.81284196588982,116.94503099930051,121.50214637005382,124.00852913793926,127.7529557064276,131.11688861018894,129.74469436227542,132.28746210984809,136.10353658343402,140.15340816389431,144.62005013402418,148.19814794011342,{"$f":"IF(AG93=\"n/a\",\"n/a\",AG73+AG93)","v":152.01835405305215},156.18437154577916,160.34768642693288,163.26666751313007,167.37937409546623,172.16251660816968,176.01461472945124,179.88454160487402,184.11218274050475]
["Crystal River 4&5 ","CAPP","Low-Sulfur","Rail",12500,{"$f":"F74","v":1.6},{"$f":"G74","v":10},null,null,{"$f":"IF(J94=\"n/a\",\"n/a\",J74+J94)","v":81.623058526477251},73.649223262481286,88.374517595627793,94.296477360080829,95.03061998746881,99.498654871722096,102.69053470926752,106.79473391066355,110.30745354760029,113.28541913514607,115.71767877000178,118.82123998551752,122.77659021819551,122.8821763026823,127.84482135294061,131.92101405667103,136.27210826876319,141.47629010713206,146.9725724422791,152.79668367251318,152.73950431817764,158.40463977437193,162.61194796188278,{"$f":"IF(AG94=\"n/a\",\"n/a\",AG74+AG94)","v":166.27985975942363},169.90110462954144,174.49776816367304,177.05086874437146,181.37054906336095,186.25711705546595,190.03449928338861,194.12003024449359,198.32727662440925]
["Crystal River 4&5 ","CAPP","Low-Sulfur","Barge",12500,1.67,{"$f":"G75","v":10},null,null,{"$f":"IF(J95=\"n/a\",\"n/a\",J75+J95)","v":75.066653529066286},67.316695732158706,81.559529602360897,87.352662524759666,90.28529150843238,94.527482970788014,103.40019614283932,107.27394313795192,111.2244644037133,114.39314133787659,117.02222190617286,120.28100102499135,130.9712818897558,131.30790145729497,136.44034622214829,140.69006256578541,145.2921579336832,150.6726937952246,156.35999569491139,162.46407655010577,162.60806772423697,168.47938433656506,172.81338165864497,{"$f":"IF(AG95=\"n/a\",\"n/a\",AG75+AG95)","v":176.70987391739044},180.56755911755292,185.31837123235965,188.14818172257617,192.55952319997664,197.72694673381872,201.78933498606105,205.96364516346179,210.46387966030909]
["Crystal River 4&5 ",{"$f":"B76","v":"ILB"},{"$f":"C76","v":"Illinois"},{"$f":"D76","v":"Rail"},{"$f":"E76","v":11500},{"$f":"F76","v":5},{"$f":"G76","v":10},null,null,{"$f":"IF(J96=\"n/a\",\"n/a\",J76+J96)","v":63.040736086236336},63.603477353465806,69.366657135424617,71.016514779107254,71.922316937585379,75.09245925762373,77.050052701522048,79.936962104829831,81.731196959606294,83.926496582169335,84.758591711687671,83.75536073384319,90.049741129490798,93.296910257328449,96.826468286668558,99.975257143588124,100.64074229255192,103.32054668854705,107.11189001920721,110.35833990501591,114.58432448169005,118.450316209218,122.2110683107888,{"$f":"IF(AG96=\"n/a\",\"n/a\",AG76+AG96)","v":125.78873073908608},129.74908539305375,133.74215705110032,136.47473039023987,140.50094364438218,144.93887800484723,148.470187470491,152.25352575290333,156.11490526490383]
["Crystal River 4&5 ",{"$f":"B77","v":"ILB"},"Illinois","Barge",11500,5,10,null,null,{"$f":"IF(J97=\"n/a\",\"n/a\",J77+J97)","v":52.861784896169311},53.586766080058737,58.865752831592225,60.287629731395249,63.320482127923697,66.199403714926319,{"$f":"IF(P97=\"n/a\",\"n/a\",P77+P97)","v":73.76221035155659},76.325811610977723,78.440057034541823,80.696941102656979,81.593548970232419,84.72993781866559,93.553861215243003,96.933714099196919,100.53027517736281,103.74764953263077,104.55824642858329,107.30631757216466,111.17552592211327,114.58602576204494,118.89482001611076,122.84600731107713,126.65488777239631,{"$f":"IF(AG97=\"n/a\",\"n/a\",AG77+AG97)","v":130.33158713228875},134.39538995686152,138.45410070841544,141.32548176861056,145.3524104801559,149.92956165618236,153.60178822288231,157.37960868573452,161.38498757838883]
["Crystal River 4&5 ",{"$f":"B78","v":"ILB"},"Illinois","Rail",11500,5,10,null,null,{"$f":"IF(J98=\"n/a\",\"n/a\",J78+J98)","v":60.433033108416339},62.477987070228259,68.198194601962967,69.853241301369664,70.723029327576995,73.846889565301723,75.768556836167832,78.623428842841747,80.39139303237846,82.559896576396937,83.364659705799824,82.33355008783758,88.599494270565074,91.817658461224212,95.317631454642253,98.436243574921264,99.070948452511743,101.71935697170608,105.47867650802941,108.69246212361455,112.88512914466065,116.71713696544802,120.44322548214342,{"$f":"IF(AG98=\"n/a\",\"n/a\",AG78+AG98)","v":123.98553105386779},127.90982171413111,131.86610809859923,134.56116045868873,138.54910231420001,142.94799984806144,146.43949175056946,150.1822161185834,154.00216943789746]
["Crystal River 4&5 ",{"$f":"B79","v":"ILB"},"Illinois","Barge",11000,6,10,null,null,{"$f":"IF(J99=\"n/a\",\"n/a\",J79+J99)","v":49.411648789644204},49.958093510168609,54.774668146970818,56.093911184621057,59.099426006769477,61.751660742652049,{"$f":"IF(P99=\"n/a\",\"n/a\",P79+P99)","v":69.195398371658356},71.558960452407092,73.560394384627273,75.669568937543374,76.541288338542827,79.450681201296405,88.130615304298985,91.272736293028601,94.607374367098558,97.597932315887562,98.404776878133873,{"$f":"IF(AA99=\"n/a\",\"n/a\",AA79+AA99)","v":100.97015945303971},104.55846073920792,107.73791875387931,111.72929788198749,115.39645471300713,118.93194226516835,{"$f":"IF(AG99=\"n/a\",\"n/a\",AG79+AG99)","v":122.35286954735588},126.12797354745358,129.89636703672454,132.59143318231338,136.32777311016963,140.57891953990676,144.00759409953963,147.52077675518726,151.25601284190617]
["Crystal River 4&5 ",{"$f":"B80","v":"ILB"},"Illinois","Rail",11000,6,10,null,null,{"$f":"IF(J100=\"n/a\",\"n/a\",J80+J100)","v":56.982897001891224},58.849314500338131,64.10710991734156,65.659522754595471,66.501973206422775,69.399146593027453,{"$f":"IF(P100=\"n/a\",\"n/a\",P80+P100)","v":71.201744856269585},{"$f":"IF(Q100=\"n/a\",\"n/a\",Q80+Q100)","v":73.856577684271116},75.511730382463895,77.532524411283319,78.312399074110232,77.421442260236248,83.176248359621056,86.156680655055894,89.394730644378001,92.286526358178065,92.917478902062314,{"$f":"IF(AA100=\"n/a\",\"n/a\",AA80+AA100)","v":95.383198852581131},{"$f":"IF(AB100=\"n/a\",\"n/a\",AB80+AB100)","v":98.861611325124059},101.84435511544892,105.7196070105374,109.26758436737802,112.72027997491546,{"$f":"IF(AG100=\"n/a\",\"n/a\",AG80+AG100)","v":116.00681346893492},119.64240530472317,123.30837442690833,125.82711187239155,129.52446494421375,133.59735773178585,136.84529762722678,140.32338418803613,143.8731947014148]
["Crystal River 4&5 ",{"$f":"B82","v":"ILB"},"Illinois","Barge",11800,4.5,10,null,null,{"$f":"IF(J101=\"n/a\",\"n/a\",J82+J101)","v":53.981469743802251},54.572669061022793,59.878549013012147,63.643694481458759,67.28330014114232,70.536790257721435,78.215711587703296,80.974388697283473,83.198646558049546,85.599575205058045,86.520454011999945,85.412690411652918,98.842546730352609,102.45423295754748,106.30621826330393,109.7447813057958,110.55903743336823,113.48526431666633,117.62840992553764,121.26421903130453,125.88255277638643,130.11072323331746,134.18621323850397,138.11233851504124,142.45767703176273,146.79950175694705,149.84282304450576,154.15313051415762,159.04819767774384,162.95793329218083,166.99382542662889,171.26264440078103]
["Crystal River 4&5 ",{"$f":"B83","v":"ILB"},"Illinois","Barge",11800,4.5,10,null,null,{"$f":"IF(J102=\"n/a\",\"n/a\",J83+J102)","v":61.614885645736784},62.303051606807955,67.001599931237678,70.427134885677717,74.212343245807219,77.614518961837547,85.445122595860028,88.3751459085709,90.796413776436154,93.410519633886963,94.549654449265461,93.648337516962357,107.25115430187702,111.03719192634452,115.07039229650343,118.69391117749092,119.69525985486558,122.81243017226402,127.15429418354829,130.99347961947547,135.81942440523386,140.25970875820212,144.4904955890172,148.64230132425965,153.21900181551865,157.7326275125545,161.01602758600399,165.50352517335779,170.64587220288055,174.80731237130746,179.02822381238201,183.55766167387674]
["Crystal River 4&5 ",{"$f":"B84","v":"ILB"},{"$f":"C84","v":"Low Chlorine"},"Barge",11500,5.2,10,null,null,{"$f":"IF(J103=\"n/a\",\"n/a\",J84+J103)","v":54.692607127920965},56.091325619810704,61.587125991332961,65.479788356225669,69.152723945970365,72.512516744213116,80.244329572995426,83.091865842401802,85.366235558285894,87.83277806906861,88.764712551423628,87.594691844737639,101.25160018865773,104.96888901137274,108.93722281564622,112.47653969770226,113.2924626448584,116.29984139465637,120.56776838806654,124.30620830152615,129.06554063296448,133.4198799162167,137.61681345247271,141.65655493200921,146.1301360017942,150.60092220432861,153.72256412527886,158.1619536844739,163.20183501919837,167.21975857394574,171.37320514629195,175.76202392712105]
["Crystal River 4&5 ",{"$f":"B85","v":"ILB"},"Low Chlorine","Rail",11500,5.2,10,null,null,{"$f":"IF(J104=\"n/a\",\"n/a\",J85+J104)","v":59.643855340167995},61.040994955517775,66.865510680792454,70.929500468889415,72.331186979871788,75.814918722751059,77.794115288684111,80.821508286120206,82.658237272213995,84.943212573221871,85.688251898012609,84.361258382679694,91.253819970886639,94.708551834845025,98.477411923599533,101.81302322728013,102.34601194581995,105.14454501677156,109.19121648100793,112.61934812026151,117.14668728782343,121.26366384742285,125.25725852459178,129.03964836320765,133.24830025887553,137.48873674432042,140.30356610816119,144.57087527717826,149.2967475649109,152.99546594254301,156.97257649686915,161.0319049827126]
["Crystal River 4&5 ",{"$f":"B86","v":"PRB"},"High-Btu Gillette","Rail",8800,0.8,5,null,null,{"$f":"IF(J105=\"n/a\",\"n/a\",J86+J105)","v":54.186925107605447},55.039321077595289,56.629262201439239,58.638616805455925,59.70397130253123,61.396903475894739,62.984722712645606,64.871303678462638,66.456515750336024,67.973504079818952,69.650051439214479,71.52416631127555,73.162946183790865,74.991841051830889,77.021285928688812,79.054022647383078,80.994683171448514,82.670219328399227,84.905256639180024,87.198529870518968,89.619231130450743,92.192140364397474,94.535698509341429,96.899646513212218,99.43226013720269,102.0764311935315,104.34902101957273,107.13198106603632,110.1305926238816,112.89949682545914,115.83114345227884,118.87207882479004]
["Crystal River 4&5 ","RM","Rockies","Rail",11700,0.8,8,null,null,{"$f":"IF(J106=\"n/a\",\"n/a\",J87+J106)","v":91.421589649107446},94.272437981013923,98.611021581235079,100.92840073155304,103.60856692997356,107.46347467728869,110.50600134833743,112.17719132927989,115.07658303308652,117.7894550830015,120.91972634365072,123.68441903563337,126.64306842667565,130.07180502882025,130.64940513981207,134.1693013902219,137.65895580549181,141.62812255792221,141.23739949203505,145.36801383827998,149.77970132004131,154.54917911036804,157.86298809551943,161.93296874261318,166.21613081454885,170.54453595846945,173.79397990964839,178.19477180403516,182.90671495224763,186.95451567608916,191.21195562723858,195.58163755861528]
["Crystal River 4&5 ","RM","Rockies","Barge",11700,0.8,8,null,null,{"$f":"IF(J107=\"n/a\",\"n/a\",J88+J107)","v":84.464878779542232},88.320205266421453,92.318171166883872,94.082983352563218,96.342027815487512,99.824909186600678,108.37026556200206,109.57106455682674,112.71003336031933,115.37639041677896,118.45819638410373,121.17202647689544,130.75947439385561,134.32476900084029,134.96344085777224,138.54236628904098,142.17716448911125,146.21011976130725,145.87976898558108,150.16026816380642,154.63425697625121,159.47136212387502,162.94591692700268,167.08245043662836,171.4359444283466,175.93162658267016,179.28983234633307,183.80217328945352,188.62789646737434,192.79114082151847,197.16510927557641,201.65181427991993]
[]
["COAL PRICING ($/TON)"]
["Station",{"$f":"'Coal Price Inputs'!B7","v":"Basin"},{"$f":"'Coal Price Inputs'!C7","v":"Coal Type"},{"$f":"'Coal Price Inputs'!D7","v":"FOB Point"},{"$f":"'Coal Price Inputs'!E7","v":"Btu/lb"},{"$f":"'Coal Price Inputs'!F7","v":"#SO2/MMBtu"},{"$f":"'Coal Price Inputs'!G7","v":"%Ash"},{"$f":"'Coal Price Inputs'!J7","v":"INDEX"},null,{"$f":"J3","v":2019},2020,2021,2022,2023,2024,2025,2026,2027,2028,2029,2030,2031,2032,2033,2034,2035,2036,2037,2038,2039,2040,2041,2042,2043,2044,2045,2046,2047,2048,2049,2050]
[{"$f":"$A$14","v":"Crystal River 4&5 "},{"$f":"'Coal Price Inputs'!B10","v":"NAPP"},{"$f":"'Coal Price Inputs'!C10","v":"Pittsburgh Seam"},{"$f":"'Coal Price Inputs'!D10","v":"Rail"},{"$f":"'Coal Price Inputs'!E10","v":13000},{"$f":"'Coal Price Inputs'!F10","v":4},{"$f":"'Coal Price Inputs'!G10","v":8},{"$f":"'Coal Price Inputs'!J10","v":"NAPP-Pitt-CSX/NS-MGA-13000-HS-4.0"},null,{"$f":"'Coal Price Inputs'!K10","v":46.001808221448421},{"$f":"'Coal Price Inputs'!L10","v":47.148619642016016},{"$f":"'Coal Price Inputs'!M10","v":55.781823493138084},{"$f":"'Coal Price Inputs'!N10","v":55.78166655488139},{"$f":"'Coal Price Inputs'!O10","v":57.876838443065573},{"$f":"'Coal Price Inputs'!P10","v":58.404683340348122},{"$f":"'Coal Price Inputs'!Q10","v":60.040105694572716},{"$f":"'Coal Price Inputs'!R10","v":63.35946283865659},{"$f":"'Coal Price Inputs'!S10","v":65.18961045987291},{"$f":"'Coal Price Inputs'!T10","v":66.688162344744967},{"$f":"'Coal Price Inputs'!U10","v":68.723378121745711},{"$f":"'Coal Price Inputs'!V10","v":70.156404383399618},{"$f":"'Coal Price Inputs'!W10","v":71.823655757422628},{"$f":"'Coal Price Inputs'!X10","v":75.406653562328927},{"$f":"'Coal Price Inputs'!Y10","v":76.982804286013291},{"$f":"'Coal Price Inputs'!Z10","v":79.777980467545007},{"$f":"'Coal Price Inputs'!AA10","v":82.100821492622558},{"$f":"'Coal Price Inputs'!AB10","v":79.746300391816845},{"$f":"'Coal Price Inputs'!AC10","v":81.27304300732429},{"$f":"'Coal Price Inputs'!AD10","v":83.967138802079972},{"$f":"'Coal Price Inputs'!AE10","v":86.956867504493516},{"$f":"'Coal Price Inputs'!AF10","v":90.340918313800415},{"$f":"'Coal Price Inputs'!AG10","v":92.94335303039864},{"$f":"'Coal Price Inputs'!AH10","v":95.61948179176791},{"$f":"'Coal Price Inputs'!AI10","v":98.614392077027148},{"$f":"'Coal Price Inputs'!AJ10","v":101.71746653729319},{"$f":"'Coal Price Inputs'!AK10","v":103.38777438463035},{"$f":"'Coal Price Inputs'!AL10","v":106.46726446981899},{"$f":"'Coal Price Inputs'!AM10","v":109.96016040187972},{"$f":"'Coal Price Inputs'!AN10","v":112.49805723798424},{"$f":"'Coal Price Inputs'!AO10","v":115.28224002306345},{"$f":"'Coal Price Inputs'!AP10","v":118.14704213171605}]
["Crystal River 4&5 ",{"$f":"'Coal Price Inputs'!B11","v":"NAPP"},{"$f":"'Coal Price Inputs'!C11","v":"Pittsburgh Seam"},{"$f":"'Coal Price Inputs'!D11","v":"Barge"},{"$f":"'Coal Price Inputs'!E11","v":13000},{"$f":"'Coal Price Inputs'!F11","v":4},{"$f":"'Coal Price Inputs'!G11","v":8},{"$f":"'Coal Price Inputs'!J11","v":"NAPP-Pitt-Barge-MonR-13000-HS-4.0"},null,{"$f":"'Coal Price Inputs'!K11","v":46.001808221448421},{"$f":"'Coal Price Inputs'!L11","v":47.148619642016016},{"$f":"'Coal Price Inputs'!M11","v":55.781823493138084},{"$f":"'Coal Price Inputs'!N11","v":55.78166655488139},{"$f":"'Coal Price Inputs'!O11","v":57.876838443065573},{"$f":"'Coal Price Inputs'!P11","v":58.404683340348122},{"$f":"'Coal Price Inputs'!Q11","v":60.040105694572716},{"$f":"'Coal Price Inputs'!R11","v":63.35946283865659},{"$f":"'Coal Price Inputs'!S11","v":65.18961045987291},{"$f":"'Coal Price Inputs'!T11","v":66.688162344744967},{"$f":"'Coal Price Inputs'!U11","v":68.723378121745711},{"$f":"'Coal Price Inputs'!V11","v":70.156404383399618},{"$f":"'Coal Price Inputs'!W11","v":71.823655757422628},{"$f":"'Coal Price Inputs'!X11","v":75.406653562328927},{"$f":"'Coal Price Inputs'!Y11","v":76.982804286013291},{"$f":"'Coal Price Inputs'!Z11","v":79.777980467545007},{"$f":"'Coal Price Inputs'!AA11","v":82.100821492622558},{"$f":"'Coal Price Inputs'!AB11","v":79.746300391816845},{"$f":"'Coal Price Inputs'!AC11","v":81.27304300732429},{"$f":"'Coal Price Inputs'!AD11","v":83.967138802079972},{"$f":"'Coal Price Inputs'!AE11","v":86.956867504493516},{"$f":"'Coal Price Inputs'!AF11","v":90.340918313800415},{"$f":"'Coal Price Inputs'!AG11","v":92.94335303039864},{"$f":"'Coal Price Inputs'!AH11","v":95.61948179176791},{"$f":"'Coal Price Inputs'!AI11","v":98.614392077027148},{"$f":"'Coal Price Inputs'!AJ11","v":101.71746653729319},{"$f":"'Coal Price Inputs'!AK11","v":103.38777438463035},{"$f":"'Coal Price Inputs'!AL11","v":106.46726446981899},{"$f":"'Coal Price Inputs'!AM11","v":109.96016040187972},{"$f":"'Coal Price Inputs'!AN11","v":112.49805723798424},{"$f":"'Coal Price Inputs'!AO11","v":115.28224002306345},{"$f":"'Coal Price Inputs'!AP11","v":118.14704213171605}]
["Crystal River 4&5 ",{"$f":"'Coal Price Inputs'!B12","v":"CAPP"},{"$f":"'Coal Price Inputs'!C12","v":"Low-Sulfur"},{"$f":"'Coal Price Inputs'!D12","v":"Rail"},{"$f":"'Coal Price Inputs'!E12","v":12500},{"$f":"'Coal Price Inputs'!F12","v":1.6},{"$f":"'Coal Price Inputs'!G12","v":10},{"$f":"'Coal Price Inputs'!J12","v":"CAPP-EKY-CSX-Big Sandy-12500-LS-1.6"},null,{"$f":"'Coal Price Inputs'!K12","v":57.393547393024619},{"$f":"'Coal Price Inputs'!L12","v":49.41971212902866},{"$f":"'Coal Price Inputs'!M12","v":63.512999665138167},{"$f":"'Coal Price Inputs'!N12","v":68.92928877849387},{"$f":"'Coal Price Inputs'!O12","v":69.026538535128239},{"$f":"'Coal Price Inputs'!P12","v":72.815208603844255},{"$f":"'Coal Price Inputs'!Q12","v":75.344310423283474},{"$f":"'Coal Price Inputs'!R12","v":78.764854017529885},{"$f":"'Coal Price Inputs'!S12","v":81.716976056603954},{"$f":"'Coal Price Inputs'!T12","v":84.123132094329819},{"$f":"'Coal Price Inputs'!U12","v":85.972145988369192},{"$f":"'Coal Price Inputs'!V12","v":88.480796548252286},{"$f":"'Coal Price Inputs'!W12","v":91.829337912184968},{"$f":"'Coal Price Inputs'!X12","v":91.315978950551539},{"$f":"'Coal Price Inputs'!Y12","v":95.647300053767239},{"$f":"'Coal Price Inputs'!Z12","v":99.079542331514176},{"$f":"'Coal Price Inputs'!AA12","v":102.77380710910322},{"$f":"'Coal Price Inputs'!AB12","v":107.30802292427889},{"$f":"'Coal Price Inputs'!AC12","v":112.12093991576884},{"$f":"'Coal Price Inputs'!AD12","v":117.24801849547273},{"$f":"'Coal Price Inputs'!AE12","v":116.47986583759639},{"$f":"'Coal Price Inputs'!AF12","v":121.41980852417905},{"$f":"'Coal Price Inputs'!AG12","v":124.88742008668603},{"$f":"'Coal Price Inputs'!AH12","v":127.80084132672295},{"$f":"'Coal Price Inputs'!AI12","v":130.65250582818675},{"$f":"'Coal Price Inputs'!AJ12","v":134.46419738629126},{"$f":"'Coal Price Inputs'!AK12","v":136.21662655144203},{"$f":"'Coal Price Inputs'!AL12","v":139.71962202657295},{"$f":"'Coal Price Inputs'!AM12","v":143.77317147794218},{"$f":"'Coal Price Inputs'!AN12","v":146.70087479431436},{"$f":"'Coal Price Inputs'!AO12","v":149.91973326563786},{"$f":"'Coal Price Inputs'!AP12","v":153.2429737059764}]
["Crystal River 4&5 ",{"$f":"'Coal Price Inputs'!B13","v":"CAPP"},{"$f":"'Coal Price Inputs'!C13","v":"Low-Sulfur"},{"$f":"'Coal Price Inputs'!D13","v":"Barge"},{"$f":"'Coal Price Inputs'!E13","v":12500},1.67,{"$f":"'Coal Price Inputs'!G13","v":10},{"$f":"'Coal Price Inputs'!J13","v":"CAPP-EKY-Barge-BSR-12000-LS-1.6"},null,{"$f":"'Coal Price Inputs'!K13","v":57.393547393024619},{"$f":"'Coal Price Inputs'!L13","v":49.41971212902866},{"$f":"'Coal Price Inputs'!M13","v":63.512999665138167},{"$f":"'Coal Price Inputs'!N13","v":68.92928877849387},{"$f":"'Coal Price Inputs'!O13","v":69.026538535128239},{"$f":"'Coal Price Inputs'!P13","v":72.815208603844255},{"$f":"'Coal Price Inputs'!Q13","v":75.344310423283474},{"$f":"'Coal Price Inputs'!R13","v":78.764854017529885},{"$f":"'Coal Price Inputs'!S13","v":81.716976056603954},{"$f":"'Coal Price Inputs'!T13","v":84.123132094329819},{"$f":"'Coal Price Inputs'!U13","v":85.972145988369192},{"$f":"'Coal Price Inputs'!V13","v":88.480796548252286},{"$f":"'Coal Price Inputs'!W13","v":91.829337912184968},{"$f":"'Coal Price Inputs'!X13","v":91.315978950551539},{"$f":"'Coal Price Inputs'!Y13","v":95.647300053767239},{"$f":"'Coal Price Inputs'!Z13","v":99.079542331514176},{"$f":"'Coal Price Inputs'!AA13","v":102.77380710910322},{"$f":"'Coal Price Inputs'!AB13","v":107.30802292427889},{"$f":"'Coal Price Inputs'!AC13","v":112.12093991576884},{"$f":"'Coal Price Inputs'!AD13","v":117.24801849547273},{"$f":"'Coal Price Inputs'!AE13","v":116.47986583759639},{"$f":"'Coal Price Inputs'!AF13","v":121.41980852417905},{"$f":"'Coal Price Inputs'!AG13","v":124.88742008668603},{"$f":"'Coal Price Inputs'!AH13","v":127.80084132672295},{"$f":"'Coal Price Inputs'!AI13","v":130.65250582818675},{"$f":"'Coal Price Inputs'!AJ13","v":134.46419738629126},{"$f":"'Coal Price Inputs'!AK13","v":136.21662655144203},{"$f":"'Coal Price Inputs'!AL13","v":139.71962202657295},{"$f":"'Coal Price Inputs'!AM13","v":143.77317147794218},{"$f":"'Coal Price Inputs'!AN13","v":146.70087479431436},{"$f":"'Coal Price Inputs'!AO13","v":149.91973326563786},{"$f":"'Coal Price Inputs'!AP13","v":153.2429737059764}]
["Crystal River 4&5 ",{"$f":"'Coal Price Inputs'!B14","v":"ILB"},{"$f":"'Coal Price Inputs'!C14","v":"Illinois"},{"$f":"'Coal Price Inputs'!D14","v":"Rail"},{"$f":"'Coal Price Inputs'!E14","v":11500},{"$f":"'Coal Price Inputs'!F14","v":5},{"$f":"'Coal Price Inputs'!G14","v":10},{"$f":"'Coal Price Inputs'!J14","v":"ILLB-IL-Rail-South IL-11500-VH-5"},null,{"$f":"'Coal Price Inputs'!K14","v":40.03303310841634},{"$f":"'Coal Price Inputs'!L14","v":40.595774375645803},{"$f":"'Coal Price Inputs'!M14","v":45.769009909201934},{"$f":"'Coal Price Inputs'!N14","v":46.917226242036229},{"$f":"'Coal Price Inputs'!O14","v":47.223065355413013},{"$f":"'Coal Price Inputs'!P14","v":49.7591245023184},{"$f":"'Coal Price Inputs'!Q14","v":51.09120902511156},{"$f":"'Coal Price Inputs'!R14","v":53.329147336509074},{"$f":"'Coal Price Inputs'!S14","v":54.591225895919123},{"$f":"'Coal Price Inputs'!T14","v":56.243726097208416},{"$f":"'Coal Price Inputs'!U14","v":56.522165817027542},{"$f":"'Coal Price Inputs'!V14","v":54.954206321289853},{"$f":"'Coal Price Inputs'!W14","v":60.672563628686397},{"$f":"'Coal Price Inputs'!X14","v":63.332189206507955},{"$f":"'Coal Price Inputs'!Y14","v":66.262452814831661},{"$f":"'Coal Price Inputs'!Z14","v":68.799961362314477},{"$f":"'Coal Price Inputs'!AA14","v":68.841940595652801},{"$f":"'Coal Price Inputs'!AB14","v":70.885768957709956},{"$f":"'Coal Price Inputs'!AC14","v":74.028416733753375},{"$f":"'Coal Price Inputs'!AD14","v":76.613197153852994},{"$f":"'Coal Price Inputs'!AE14","v":80.164278875503868},{"$f":"'Coal Price Inputs'!AF14","v":83.341869690908098},{"$f":"'Coal Price Inputs'!AG14","v":86.400452862112701},{"$f":"'Coal Price Inputs'!AH14","v":89.26190298143645},{"$f":"'Coal Price Inputs'!AI14","v":92.491721080251139},{"$f":"'Coal Price Inputs'!AJ14","v":95.739645452041657},{"$f":"'Coal Price Inputs'!AK14","v":97.712168559200009},{"$f":"'Coal Price Inputs'!AL14","v":100.96313057672151},{"$f":"'Coal Price Inputs'!AM14","v":104.61030867583337},{"$f":"'Coal Price Inputs'!AN14","v":107.33504675489684},{"$f":"'Coal Price Inputs'!AO14","v":110.29568222299731},{"$f":"'Coal Price Inputs'!AP14","v":113.31790486439967}]
["Crystal River 4&5 ",{"$f":"'Coal Price Inputs'!B15","v":"ILB"},{"$f":"'Coal Price Inputs'!C15","v":"Illinois"},{"$f":"'Coal Price Inputs'!D15","v":"Barge"},{"$f":"'Coal Price Inputs'!E15","v":11500},{"$f":"'Coal Price Inputs'!F15","v":5},{"$f":"'Coal Price Inputs'!G15","v":10},{"$f":"'Coal Price Inputs'!J15","v":"ILLB-IL-Barge-OhioR-11500-XH-5"},null,{"$f":"'Coal Price Inputs'!K15","v":40.03303310841634},{"$f":"'Coal Price Inputs'!L15","v":40.595774375645803},{"$f":"'Coal Price Inputs'!M15","v":45.769009909201934},{"$f":"'Coal Price Inputs'!N15","v":46.917226242036229},{"$f":"'Coal Price Inputs'!O15","v":47.223065355413013},{"$f":"'Coal Price Inputs'!P15","v":49.7591245023184},{"$f":"'Coal Price Inputs'!Q15","v":51.09120902511156},{"$f":"'Coal Price Inputs'!R15","v":53.329147336509074},{"$f":"'Coal Price Inputs'!S15","v":54.591225895919123},{"$f":"'Coal Price Inputs'!T15","v":56.243726097208416},{"$f":"'Coal Price Inputs'!U15","v":56.522165817027542},{"$f":"'Coal Price Inputs'!V15","v":59.06168340681792},{"$f":"'Coal Price Inputs'!W15","v":60.672563628686397},{"$f":"'Coal Price Inputs'!X15","v":63.332189206507955},{"$f":"'Coal Price Inputs'!Y15","v":66.262452814831661},{"$f":"'Coal Price Inputs'!Z15","v":68.799961362314477},{"$f":"'Coal Price Inputs'!AA15","v":68.841940595652801},{"$f":"'Coal Price Inputs'!AB15","v":70.885768957709956},{"$f":"'Coal Price Inputs'!AC15","v":74.028416733753375},{"$f":"'Coal Price Inputs'!AD15","v":76.613197153852994},{"$f":"'Coal Price Inputs'!AE15","v":80.164278875503868},{"$f":"'Coal Price Inputs'!AF15","v":83.341869690908098},{"$f":"'Coal Price Inputs'!AG15","v":86.400452862112701},{"$f":"'Coal Price Inputs'!AH15","v":89.26190298143645},{"$f":"'Coal Price Inputs'!AI15","v":92.491721080251139},{"$f":"'Coal Price Inputs'!AJ15","v":95.739645452041657},{"$f":"'Coal Price Inputs'!AK15","v":97.712168559200009},{"$f":"'Coal Price Inputs'!AL15","v":100.96313057672151},{"$f":"'Coal Price Inputs'!AM15","v":104.61030867583337},{"$f":"'Coal Price Inputs'!AN15","v":107.33504675489684},{"$f":"'Coal Price Inputs'!AO15","v":110.29568222299731},{"$f":"'Coal Price Inputs'!AP15","v":113.31790486439967}]
["Crystal River 4&5 ",{"$f":"'Coal Price Inputs'!B16","v":"ILB"},{"$f":"'Coal Price Inputs'!C16","v":"Illinois"},{"$f":"'Coal Price Inputs'!D16","v":"Rail"},{"$f":"'Coal Price Inputs'!E16","v":11500},{"$f":"'Coal Price Inputs'!F16","v":5},{"$f":"'Coal Price Inputs'!G16","v":10},{"$f":"'Coal Price Inputs'!J16","v":"ILLB-IN-Rail-Sullivan-11500-VH-5"},null,{"$f":"'Coal Price Inputs'!K16","v":40.03303310841634},{"$f":"'Coal Price Inputs'!L16","v":40.595774375645803},{"$f":"'Coal Price Inputs'!M16","v":45.769009909201934},{"$f":"'Coal Price Inputs'!N16","v":46.917226242036229},{"$f":"'Coal Price Inputs'!O16","v":47.223065355413013},{"$f":"'Coal Price Inputs'!P16","v":49.7591245023184},{"$f":"'Coal Price Inputs'!Q16","v":51.09120902511156},{"$f":"'Coal Price Inputs'!R16","v":53.329147336509074},{"$f":"'Coal Price Inputs'!S16","v":54.591225895919123},{"$f":"'Coal Price Inputs'!T16","v":56.243726097208416},{"$f":"'Coal Price Inputs'!U16","v":56.522165817027542},{"$f":"'Coal Price Inputs'!V16","v":54.954206321289853},{"$f":"'Coal Price Inputs'!W16","v":60.672563628686397},{"$f":"'Coal Price Inputs'!X16","v":63.332189206507955},{"$f":"'Coal Price Inputs'!Y16","v":66.262452814831661},{"$f":"'Coal Price Inputs'!Z16","v":68.799961362314477},{"$f":"'Coal Price Inputs'!AA16","v":68.841940595652801},{"$f":"'Coal Price Inputs'!AB16","v":70.885768957709956},{"$f":"'Coal Price Inputs'!AC16","v":74.028416733753375},{"$f":"'Coal Price Inputs'!AD16","v":76.613197153852994},{"$f":"'Coal Price Inputs'!AE16","v":80.164278875503868},{"$f":"'Coal Price Inputs'!AF16","v":83.341869690908098},{"$f":"'Coal Price Inputs'!AG16","v":86.400452862112701},{"$f":"'Coal Price Inputs'!AH16","v":89.26190298143645},{"$f":"'Coal Price Inputs'!AI16","v":92.491721080251139},{"$f":"'Coal Price Inputs'!AJ16","v":95.739645452041657},{"$f":"'Coal Price Inputs'!AK16","v":97.712168559200009},{"$f":"'Coal Price Inputs'!AL16","v":100.96313057672151},{"$f":"'Coal Price Inputs'!AM16","v":104.61030867583337},{"$f":"'Coal Price Inputs'!AN16","v":107.33504675489684},{"$f":"'Coal Price Inputs'!AO16","v":110.29568222299731},{"$f":"'Coal Price Inputs'!AP16","v":113.31790486439967}]
["Crystal River 4&5 ",{"$f":"'Coal Price Inputs'!B17","v":"ILB"},{"$f":"'Coal Price Inputs'!C17","v":"Illinois"},{"$f":"'Coal Price Inputs'!D17","v":"Barge"},{"$f":"'Coal Price Inputs'!E17","v":11000},{"$f":"'Coal Price Inputs'!F17","v":6},{"$f":"'Coal Price Inputs'!G17","v":10},{"$f":"'Coal Price Inputs'!J17","v":"ILLB-WKY-Barge-OhioR-11000-XH-6"},null,{"$f":"'Coal Price Inputs'!K17","v":36.582897001891226},{"$f":"'Coal Price Inputs'!L17","v":36.967101805755675},{"$f":"'Coal Price Inputs'!M17","v":41.677925224580527},{"$f":"'Coal Price Inputs'!N17","v":42.723507695262036},{"$f":"'Coal Price Inputs'!O17","v":43.002009234258793},{"$f":"'Coal Price Inputs'!P17","v":45.31138153004413},{"$f":"'Coal Price Inputs'!Q17","v":46.52439704521332},{"$f":"'Coal Price Inputs'!R17","v":48.562296177938443},{"$f":"'Coal Price Inputs'!S17","v":49.711563246004573},{"$f":"'Coal Price Inputs'!T17","v":51.216353932094805},{"$f":"'Coal Price Inputs'!U17","v":51.469905185337957},{"$f":"'Coal Price Inputs'!V17","v":53.782426789448742},{"$f":"'Coal Price Inputs'!W17","v":55.249317717742379},{"$f":"'Coal Price Inputs'!X17","v":57.671211400339637},{"$f":"'Coal Price Inputs'!Y17","v":60.339552004567409},{"$f":"'Coal Price Inputs'!Z17","v":62.650244145571271},{"$f":"'Coal Price Inputs'!AA17","v":62.688471045203379},{"$f":"'Coal Price Inputs'!AB17","v":64.549610838585011},{"$f":"'Coal Price Inputs'!AC17","v":67.411351550848025},{"$f":"'Coal Price Inputs'!AD17","v":69.765090145687367},{"$f":"'Coal Price Inputs'!AE17","v":72.998756741380603},{"$f":"'Coal Price Inputs'!AF17","v":75.892317092838098},{"$f":"'Coal Price Inputs'!AG17","v":78.677507354884739},{"$f":"'Coal Price Inputs'!AH17","v":81.283185396503583},{"$f":"'Coal Price Inputs'!AI17","v":84.224304670843196},{"$f":"'Coal Price Inputs'!AJ17","v":87.181911780350759},{"$f":"'Coal Price Inputs'!AK17","v":88.978119972902832},{"$f":"'Coal Price Inputs'!AL17","v":91.938493206735245},{"$f":"'Coal Price Inputs'!AM17","v":95.259666559557786},{"$f":"'Coal Price Inputs'!AN17","v":97.740852631554148},{"$f":"'Coal Price Inputs'!AO17","v":100.43685029245006},{"$f":"'Coal Price Inputs'!AP17","v":103.188930127917}]
["Crystal River 4&5 ",{"$f":"'Coal Price Inputs'!B18","v":"ILB"},{"$f":"'Coal Price Inputs'!C18","v":"Illinois"},{"$f":"'Coal Price Inputs'!D18","v":"Rail"},{"$f":"'Coal Price Inputs'!E18","v":11000},{"$f":"'Coal Price Inputs'!F18","v":6},{"$f":"'Coal Price Inputs'!G18","v":10},{"$f":"'Coal Price Inputs'!J18","v":"ILLB-IN-Rail-Sullivan-11000-XH-6"},null,{"$f":"'Coal Price Inputs'!K18","v":36.582897001891226},{"$f":"'Coal Price Inputs'!L18","v":36.967101805755675},{"$f":"'Coal Price Inputs'!M18","v":41.677925224580527},{"$f":"'Coal Price Inputs'!N18","v":42.723507695262036},{"$f":"'Coal Price Inputs'!O18","v":43.002009234258793},{"$f":"'Coal Price Inputs'!P18","v":45.31138153004413},{"$f":"'Coal Price Inputs'!Q18","v":46.52439704521332},{"$f":"'Coal Price Inputs'!R18","v":48.562296177938443},{"$f":"'Coal Price Inputs'!S18","v":49.711563246004573},{"$f":"'Coal Price Inputs'!T18","v":51.216353932094805},{"$f":"'Coal Price Inputs'!U18","v":51.469905185337957},{"$f":"'Coal Price Inputs'!V18","v":50.042098493688513},{"$f":"'Coal Price Inputs'!W18","v":55.249317717742379},{"$f":"'Coal Price Inputs'!X18","v":57.671211400339637},{"$f":"'Coal Price Inputs'!Y18","v":60.339552004567409},{"$f":"'Coal Price Inputs'!Z18","v":62.650244145571271},{"$f":"'Coal Price Inputs'!AA18","v":62.688471045203379},{"$f":"'Coal Price Inputs'!AB18","v":64.549610838585011},{"$f":"'Coal Price Inputs'!AC18","v":67.411351550848025},{"$f":"'Coal Price Inputs'!AD18","v":69.765090145687367},{"$f":"'Coal Price Inputs'!AE18","v":72.998756741380603},{"$f":"'Coal Price Inputs'!AF18","v":75.892317092838098},{"$f":"'Coal Price Inputs'!AG18","v":78.677507354884739},{"$f":"'Coal Price Inputs'!AH18","v":81.283185396503583},{"$f":"'Coal Price Inputs'!AI18","v":84.224304670843196},{"$f":"'Coal Price Inputs'!AJ18","v":87.181911780350759},{"$f":"'Coal Price Inputs'!AK18","v":88.978119972902832},{"$f":"'Coal Price Inputs'!AL18","v":91.938493206735245},{"$f":"'Coal Price Inputs'!AM18","v":95.259666559557786},{"$f":"'Coal Price Inputs'!AN18","v":97.740852631554148},{"$f":"'Coal Price Inputs'!AO18","v":100.43685029245006},{"$f":"'Coal Price Inputs'!AP18","v":103.188930127917}]
["Crystal River 4&5 ",{"$f":"'Coal Price Inputs'!B19","v":"ILB"},{"$f":"'Coal Price Inputs'!C19","v":"Illinois"},{"$f":"'Coal Price Inputs'!D19","v":"Rail"},{"$f":"'Coal Price Inputs'!E19","v":11000},{"$f":"'Coal Price Inputs'!F19","v":6},{"$f":"'Coal Price Inputs'!G19","v":10},{"$f":"'Coal Price Inputs'!J19","v":"ILLB-IL-Rail-Central IL-11000-XH-6"},null,{"$f":"'Coal Price Inputs'!K19","v":36.582897001891226},{"$f":"'Coal Price Inputs'!L19","v":36.967101805755675},{"$f":"'Coal Price Inputs'!M19","v":41.677925224580527},{"$f":"'Coal Price Inputs'!N19","v":42.723507695262036},{"$f":"'Coal Price Inputs'!O19","v":43.002009234258793},{"$f":"'Coal Price Inputs'!P19","v":45.31138153004413},{"$f":"'Coal Price Inputs'!Q19","v":46.52439704521332},{"$f":"'Coal Price Inputs'!R19","v":48.562296177938443},{"$f":"'Coal Price Inputs'!S19","v":49.711563246004573},{"$f":"'Coal Price Inputs'!T19","v":51.216353932094805},{"$f":"'Coal Price Inputs'!U19","v":51.469905185337957},{"$f":"'Coal Price Inputs'!V19","v":50.042098493688513},{"$f":"'Coal Price Inputs'!W19","v":55.249317717742379},{"$f":"'Coal Price Inputs'!X19","v":57.671211400339637},{"$f":"'Coal Price Inputs'!Y19","v":60.339552004567409},{"$f":"'Coal Price Inputs'!Z19","v":62.650244145571271},{"$f":"'Coal Price Inputs'!AA19","v":62.688471045203379},{"$f":"'Coal Price Inputs'!AB19","v":64.549610838585011},{"$f":"'Coal Price Inputs'!AC19","v":67.411351550848025},{"$f":"'Coal Price Inputs'!AD19","v":69.765090145687367},{"$f":"'Coal Price Inputs'!AE19","v":72.998756741380603},{"$f":"'Coal Price Inputs'!AF19","v":75.892317092838098},{"$f":"'Coal Price Inputs'!AG19","v":78.677507354884739},{"$f":"'Coal Price Inputs'!AH19","v":81.283185396503583},{"$f":"'Coal Price Inputs'!AI19","v":84.224304670843196},{"$f":"'Coal Price Inputs'!AJ19","v":87.181911780350759},{"$f":"'Coal Price Inputs'!AK19","v":88.978119972902832},{"$f":"'Coal Price Inputs'!AL19","v":91.938493206735245},{"$f":"'Coal Price Inputs'!AM19","v":95.259666559557786},{"$f":"'Coal Price Inputs'!AN19","v":97.740852631554148},{"$f":"'Coal Price Inputs'!AO19","v":100.43685029245006},{"$f":"'Coal Price Inputs'!AP19","v":103.188930127917}]
["Crystal River 4&5 ",{"$f":"'Coal Price Inputs'!B18","v":"ILB"},{"$f":"'Coal Price Inputs'!C18","v":"Illinois"},{"$f":"'Coal Price Inputs'!D20","v":"Barge"},{"$f":"'Coal Price Inputs'!E20","v":11800},{"$f":"'Coal Price Inputs'!F20","v":4.5},{"$f":"'Coal Price Inputs'!G20","v":10},{"$f":"'Coal Price Inputs'!J20","v":"ILLB-WKY-Barge-Green River-11800-XH-4.5"},null,{"$f":"'Coal Price Inputs'!K20","v":41.15271795604928},{"$f":"'Coal Price Inputs'!L20","v":41.581677356609859},{"$f":"'Coal Price Inputs'!M20","v":46.781806090621856},{"$f":"'Coal Price Inputs'!N20","v":50.273290992099739},{"$f":"'Coal Price Inputs'!O20","v":51.185883368631636},{"$f":"'Coal Price Inputs'!P20","v":54.096511045113516},{"$f":"'Coal Price Inputs'!Q20","v":55.544710261258267},{"$f":"'Coal Price Inputs'!R20","v":57.977724422814816},{"$f":"'Coal Price Inputs'!S20","v":59.349815419426854},{"$f":"'Coal Price Inputs'!T20","v":61.146360199609482},{"$f":"'Coal Price Inputs'!U20","v":61.449070858795068},{"$f":"'Coal Price Inputs'!V20","v":59.744435999805255},{"$f":"'Coal Price Inputs'!W20","v":65.961249143795996},{"$f":"'Coal Price Inputs'!X20","v":68.852708064858518},{"$f":"'Coal Price Inputs'!Y20","v":72.038395900772784},{"$f":"'Coal Price Inputs'!Z20","v":74.7970931354795},{"$f":"'Coal Price Inputs'!AA20","v":74.842731600437745},{"$f":"'Coal Price Inputs'!AB20","v":77.064715702211643},{"$f":"'Coal Price Inputs'!AC20","v":80.481300737177747},{"$f":"'Coal Price Inputs'!AD20","v":83.291390423112588},{"$f":"'Coal Price Inputs'!AE20","v":87.152011635779544},{"$f":"'Coal Price Inputs'!AF20","v":90.606585613148425},{"$f":"'Coal Price Inputs'!AG20","v":93.931778328220361},{"$f":"'Coal Price Inputs'!AH20","v":97.042654364188948},{"$f":"'Coal Price Inputs'!AI20","v":100.55400815515233},{"$f":"'Coal Price Inputs'!AJ20","v":104.08504650057326},{"$f":"'Coal Price Inputs'!AK20","v":106.22950983509523},{"$f":"'Coal Price Inputs'!AL20","v":109.76385061072324},{"$f":"'Coal Price Inputs'!AM20","v":113.72894469739487},{"$f":"'Coal Price Inputs'!AN20","v":116.69119182419534},{"$f":"'Coal Price Inputs'!AO20","v":119.90989896389168},{"$f":"'Coal Price Inputs'!AP20","v":123.19556168679186}]
["Crystal River 4&5 ",{"$f":"'Coal Price Inputs'!B21","v":"ILB"},{"$f":"'Coal Price Inputs'!C21","v":"Illinois"},{"$f":"'Coal Price Inputs'!D21","v":"Barge"},{"$f":"'Coal Price Inputs'!E21","v":11800},{"$f":"'Coal Price Inputs'!F21","v":4.5},{"$f":"'Coal Price Inputs'!G21","v":10},{"$f":"'Coal Price Inputs'!J21","v":"ILLB-WKY-Barge-OhioR-11800-XH-4.5"},null,{"$f":"'Coal Price Inputs'!K21","v":41.15271795604928},{"$f":"'Coal Price Inputs'!L21","v":41.581677356609859},{"$f":"'Coal Price Inputs'!M21","v":46.781806090621856},{"$f":"'Coal Price Inputs'!N21","v":50.273290992099739},{"$f":"'Coal Price Inputs'!O21","v":51.185883368631636},{"$f":"'Coal Price Inputs'!P21","v":54.096511045113516},{"$f":"'Coal Price Inputs'!Q21","v":55.544710261258267},{"$f":"'Coal Price Inputs'!R21","v":57.977724422814816},{"$f":"'Coal Price Inputs'!S21","v":59.349815419426854},{"$f":"'Coal Price Inputs'!T21","v":61.146360199609482},{"$f":"'Coal Price Inputs'!U21","v":61.449070858795068},{"$f":"'Coal Price Inputs'!V21","v":59.744435999805255},{"$f":"'Coal Price Inputs'!W21","v":65.961249143795996},{"$f":"'Coal Price Inputs'!X21","v":68.852708064858518},{"$f":"'Coal Price Inputs'!Y21","v":72.038395900772784},{"$f":"'Coal Price Inputs'!Z21","v":74.7970931354795},{"$f":"'Coal Price Inputs'!AA21","v":74.842731600437745},{"$f":"'Coal Price Inputs'!AB21","v":77.064715702211643},{"$f":"'Coal Price Inputs'!AC21","v":80.481300737177747},{"$f":"'Coal Price Inputs'!AD21","v":83.291390423112588},{"$f":"'Coal Price Inputs'!AE21","v":87.152011635779544},{"$f":"'Coal Price Inputs'!AF21","v":90.606585613148425},{"$f":"'Coal Price Inputs'!AG21","v":93.931778328220361},{"$f":"'Coal Price Inputs'!AH21","v":97.042654364188948},{"$f":"'Coal Price Inputs'!AI21","v":100.55400815515233},{"$f":"'Coal Price Inputs'!AJ21","v":104.08504650057326},{"$f":"'Coal Price Inputs'!AK21","v":106.22950983509523},{"$f":"'Coal Price Inputs'!AL21","v":109.76385061072324},{"$f":"'Coal Price Inputs'!AM21","v":113.72894469739487},{"$f":"'Coal Price Inputs'!AN21","v":116.69119182419534},{"$f":"'Coal Price Inputs'!AO21","v":119.90989896389168},{"$f":"'Coal Price Inputs'!AP21","v":123.19556168679186}]
["Crystal River 4&5 ",{"$f":"'Coal Price Inputs'!B22","v":"ILB"},{"$f":"'Coal Price Inputs'!C22","v":"Low Chlorine"},{"$f":"'Coal Price Inputs'!D22","v":"Barge"},{"$f":"'Coal Price Inputs'!E22","v":11500},{"$f":"'Coal Price Inputs'!F22","v":5.2},{"$f":"'Coal Price Inputs'!G22","v":10},{"$f":"'Coal Price Inputs'!J22","v":"ILLB-WKY-Barge-OhioR-11500-VH-5.2-LC-.8"},null,{"$f":"'Coal Price Inputs'!K22","v":41.863855340167994},{"$f":"'Coal Price Inputs'!L22","v":43.100333915397769},{"$f":"'Coal Price Inputs'!M22","v":48.49038306894267},{"$f":"'Coal Price Inputs'!N22","v":52.109384866866655},{"$f":"'Coal Price Inputs'!O22","v":53.055307173459688},{"$f":"'Coal Price Inputs'!P22","v":56.072237531605197},{"$f":"'Coal Price Inputs'!Q22","v":57.573328246550396},{"$f":"'Coal Price Inputs'!R22","v":60.095201567933152},{"$f":"'Coal Price Inputs'!S22","v":61.517404419663201},{"$f":"'Coal Price Inputs'!T22","v":63.379563063620047},{"$f":"'Coal Price Inputs'!U22","v":63.693329398218758},{"$f":"'Coal Price Inputs'!V22","v":61.926437432889969},{"$f":"'Coal Price Inputs'!W22","v":68.37030260210112},{"$f":"'Coal Price Inputs'!X22","v":71.367364118683781},{"$f":"'Coal Price Inputs'!Y22","v":74.669400453115074},{"$f":"'Coal Price Inputs'!Z22","v":77.528851527385967},{"$f":"'Coal Price Inputs'!AA22","v":77.576156811927916},{"$f":"'Coal Price Inputs'!AB22","v":79.879292780201681},{"$f":"'Coal Price Inputs'!AC22","v":83.420659199706648},{"$f":"'Coal Price Inputs'!AD22","v":86.333379693334209},{"$f":"'Coal Price Inputs'!AE22","v":90.334999492357582},{"$f":"'Coal Price Inputs'!AF22","v":93.915742296047682},{"$f":"'Coal Price Inputs'!AG22","v":97.362378542189106},{"$f":"'Coal Price Inputs'!AH22","v":100.58687078115693},{"$f":"'Coal Price Inputs'!AI22","v":104.2264671251838},{"$f":"'Coal Price Inputs'!AJ22","v":107.88646694795483},{"$f":"'Coal Price Inputs'!AK22","v":110.10925091586832},{"$f":"'Coal Price Inputs'!AL22","v":113.77267378103952},{"$f":"'Coal Price Inputs'!AM22","v":117.88258203884939},{"$f":"'Coal Price Inputs'!AN22","v":120.95301710596026},{"$f":"'Coal Price Inputs'!AO22","v":124.28927868355476},{"$f":"'Coal Price Inputs'!AP22","v":127.6949412131319}]
["Crystal River 4&5 ",{"$f":"'Coal Price Inputs'!B23","v":"ILB"},{"$f":"'Coal Price Inputs'!C23","v":"Low Chlorine"},{"$f":"'Coal Price Inputs'!D23","v":"Rail"},{"$f":"'Coal Price Inputs'!E23","v":11500},{"$f":"'Coal Price Inputs'!F23","v":5.2},{"$f":"'Coal Price Inputs'!G23","v":10},{"$f":"'Coal Price Inputs'!J23","v":"ILLB-WKY-CSX-WKY-11500-VH-5.2-LC-.8"},null,{"$f":"'Coal Price Inputs'!K23","v":41.863855340167994},{"$f":"'Coal Price Inputs'!L23","v":43.100333915397769},{"$f":"'Coal Price Inputs'!M23","v":48.49038306894267},{"$f":"'Coal Price Inputs'!N23","v":52.109384866866655},{"$f":"'Coal Price Inputs'!O23","v":53.055307173459688},{"$f":"'Coal Price Inputs'!P23","v":56.072237531605197},{"$f":"'Coal Price Inputs'!Q23","v":57.573328246550396},{"$f":"'Coal Price Inputs'!R23","v":60.095201567933152},{"$f":"'Coal Price Inputs'!S23","v":61.517404419663201},{"$f":"'Coal Price Inputs'!T23","v":63.379563063620047},{"$f":"'Coal Price Inputs'!U23","v":63.693329398218758},{"$f":"'Coal Price Inputs'!V23","v":61.926437432889969},{"$f":"'Coal Price Inputs'!W23","v":68.37030260210112},{"$f":"'Coal Price Inputs'!X23","v":71.367364118683781},{"$f":"'Coal Price Inputs'!Y23","v":74.669400453115074},{"$f":"'Coal Price Inputs'!Z23","v":77.528851527385967},{"$f":"'Coal Price Inputs'!AA23","v":77.576156811927916},{"$f":"'Coal Price Inputs'!AB23","v":79.879292780201681},{"$f":"'Coal Price Inputs'!AC23","v":83.420659199706648},{"$f":"'Coal Price Inputs'!AD23","v":86.333379693334209},{"$f":"'Coal Price Inputs'!AE23","v":90.334999492357582},{"$f":"'Coal Price Inputs'!AF23","v":93.915742296047682},{"$f":"'Coal Price Inputs'!AG23","v":97.362378542189106},{"$f":"'Coal Price Inputs'!AH23","v":100.58687078115693},{"$f":"'Coal Price Inputs'!AI23","v":104.2264671251838},{"$f":"'Coal Price Inputs'!AJ23","v":107.88646694795483},{"$f":"'Coal Price Inputs'!AK23","v":110.10925091586832},{"$f":"'Coal Price Inputs'!AL23","v":113.77267378103952},{"$f":"'Coal Price Inputs'!AM23","v":117.88258203884939},{"$f":"'Coal Price Inputs'!AN23","v":120.95301710596026},{"$f":"'Coal Price Inputs'!AO23","v":124.28927868355476},{"$f":"'Coal Price Inputs'!AP23","v":127.6949412131319}]
["Crystal River 4&5 ",{"$f":"'Coal Price Inputs'!B24","v":"PRB"},{"$f":"'Coal Price Inputs'!C24","v":"High-Btu Gillette"},{"$f":"'Coal Price Inputs'!D24","v":"Rail"},{"$f":"'Coal Price Inputs'!E24","v":8800},{"$f":"'Coal Price Inputs'!F24","v":0.8},{"$f":"'Coal Price Inputs'!G24","v":5},{"$f":"'Coal Price Inputs'!J24","v":"PRB-WY-BN/UP-Gillette-8800-CS-0.8"},null,{"$f":"'Coal Price Inputs'!K24","v":12.206925107605448},{"$f":"'Coal Price Inputs'!L24","v":12.679987530675302},{"$f":"'Coal Price Inputs'!M24","v":13.244118379985139},{"$f":"'Coal Price Inputs'!N24","v":14.202820800230093},{"$f":"'Coal Price Inputs'!O24","v":14.192079611126299},{"$f":"'Coal Price Inputs'!P24","v":14.78285643403291},{"$f":"'Coal Price Inputs'!Q24","v":15.241829572669607},{"$f":"'Coal Price Inputs'!R24","v":15.934838209987253},{"$f":"'Coal Price Inputs'!S24","v":16.541320972491132},{"$f":"'Coal Price Inputs'!T24","v":17.060005406417162},{"$f":"'Coal Price Inputs'!U24","v":17.718282792344645},{"$f":"'Coal Price Inputs'!V24","v":18.553762291468317},{"$f":"'Coal Price Inputs'!W24","v":19.133134083587493},{"$f":"'Coal Price Inputs'!X24","v":19.881432709623436},{"$f":"'Coal Price Inputs'!Y24","v":20.808669419637212},{"$f":"'Coal Price Inputs'!Z24","v":21.717153808150449},{"$f":"'Coal Price Inputs'!AA24","v":22.511076955431228},{"$f":"'Coal Price Inputs'!AB24","v":23.016940988061588},{"$f":"'Coal Price Inputs'!AC24","v":24.058912732035626},{"$f":"'Coal Price Inputs'!AD24","v":25.135259085231681},{"$f":"'Coal Price Inputs'!AE24","v":26.314694929457723},{"$f":"'Coal Price Inputs'!AF24","v":27.621513439384582},{"$f":"'Coal Price Inputs'!AG24","v":28.673659045828291},{"$f":"'Coal Price Inputs'!AH24","v":29.720366260428822},{"$f":"'Coal Price Inputs'!AI24","v":30.909394279363628},{"$f":"'Coal Price Inputs'!AJ24","v":32.183108018535656},{"$f":"'Coal Price Inputs'!AK24","v":33.057831381076966},{"$f":"'Coal Price Inputs'!AL24","v":34.414967634770633},{"$f":"'Coal Price Inputs'!AM24","v":35.95923892399059},{"$f":"'Coal Price Inputs'!AN24","v":37.244716051570322},{"$f":"'Coal Price Inputs'!AO24","v":38.66326706291224},{"$f":"'Coal Price Inputs'!AP24","v":40.160844907636111}]
["Crystal River 4&5 ",{"$f":"'Coal Price Inputs'!B25","v":"RM"},{"$f":"'Coal Price Inputs'!C25","v":"Rockies"},{"$f":"'Coal Price Inputs'!D25","v":"Rail"},{"$f":"'Coal Price Inputs'!E25","v":11700},{"$f":"'Coal Price Inputs'!F25","v":0.8},{"$f":"'Coal Price Inputs'!G25","v":8},{"$f":"'Coal Price Inputs'!J25","v":"Rockies-CO-UP-North Fork-11700-CS-.8"},null,{"$f":"'Coal Price Inputs'!K25","v":32.541589649107443},{"$f":"'Coal Price Inputs'!L25","v":34.860395121493909},{"$f":"'Coal Price Inputs'!M25","v":37.7602052828259},{"$f":"'Coal Price Inputs'!N25","v":38.60396841169365},{"$f":"'Coal Price Inputs'!O25","v":39.774832227974464},{"$f":"'Coal Price Inputs'!P25","v":42.083887020670687},{"$f":"'Coal Price Inputs'!Q25","v":43.543125024331111},{"$f":"'Coal Price Inputs'!R25","v":43.54024309717343},{"$f":"'Coal Price Inputs'!S25","v":45.066895836337935},{"$f":"'Coal Price Inputs'!T25","v":46.379574142317935},{"$f":"'Coal Price Inputs'!U25","v":48.081647784153496},{"$f":"'Coal Price Inputs'!V25","v":49.389578904946198},{"$f":"'Coal Price Inputs'!W25","v":50.862331493374725},{"$f":"'Coal Price Inputs'!X25","v":52.775453356853298},{"$f":"'Coal Price Inputs'!Y25","v":51.807126434405802},{"$f":"'Coal Price Inputs'!Z25","v":53.750177110707483},{"$f":"'Coal Price Inputs'!AA25","v":55.631449040387096},{"$f":"'Coal Price Inputs'!AB25","v":57.960065657515408},{"$f":"'Coal Price Inputs'!AC25","v":55.895981453620124},{"$f":"'Coal Price Inputs'!AD25","v":58.319767439096744},{"$f":"'Coal Price Inputs'!AE25","v":60.990489992874416},{"$f":"'Coal Price Inputs'!AF25","v":63.984183556657804},{"$f":"'Coal Price Inputs'!AG25","v":65.486692630735007},{"$f":"'Coal Price Inputs'!AH25","v":67.709147368533067},{"$f":"'Coal Price Inputs'!AI25","v":70.107833012987129},{"$f":"'Coal Price Inputs'!AJ25","v":72.514072200876512},{"$f":"'Coal Price Inputs'!AK25","v":73.802906876903549},{"$f":"'Coal Price Inputs'!AL25","v":76.20387731063542},{"$f":"'Coal Price Inputs'!AM25","v":78.876002568979899},{"$f":"'Coal Price Inputs'!AN25","v":80.843189045156095},{"$f":"'Coal Price Inputs'!AO25","v":82.978402463686834},{"$f":"'Coal Price Inputs'!AP25","v":85.183413331792536}]
["Crystal River 4&5 ",{"$f":"'Coal Price Inputs'!B26","v":"RM"},{"$f":"'Coal Price Inputs'!C26","v":"Rockies"},{"$f":"'Coal Price Inputs'!D26","v":"Barge"},{"$f":"'Coal Price Inputs'!E26","v":11700},{"$f":"'Coal Price Inputs'!F26","v":0.8},{"$f":"'Coal Price Inputs'!G26","v":8},{"$f":"'Coal Price Inputs'!J26","v":"Rockies-CO-UP-North Fork-11700-CS-.8"},null,{"$f":"'Coal Price Inputs'!K26","v":32.541589649107443},{"$f":"'Coal Price Inputs'!L26","v":34.860395121493909},{"$f":"'Coal Price Inputs'!M26","v":37.7602052828259},{"$f":"'Coal Price Inputs'!N26","v":38.60396841169365},{"$f":"'Coal Price Inputs'!O26","v":39.774832227974464},{"$f":"'Coal Price Inputs'!P26","v":42.083887020670687},{"$f":"'Coal Price Inputs'!Q26","v":43.543125024331111},{"$f":"'Coal Price Inputs'!R26","v":43.54024309717343},{"$f":"'Coal Price Inputs'!S26","v":45.066895836337935},{"$f":"'Coal Price Inputs'!T26","v":46.379574142317935},{"$f":"'Coal Price Inputs'!U26","v":48.081647784153496},{"$f":"'Coal Price Inputs'!V26","v":49.389578904946198},{"$f":"'Coal Price Inputs'!W26","v":50.862331493374725},{"$f":"'Coal Price Inputs'!X26","v":52.775453356853298},{"$f":"'Coal Price Inputs'!Y26","v":51.807126434405802},{"$f":"'Coal Price Inputs'!Z26","v":53.750177110707483},{"$f":"'Coal Price Inputs'!AA26","v":55.631449040387096},{"$f":"'Coal Price Inputs'!AB26","v":57.960065657515408},{"$f":"'Coal Price Inputs'!AC26","v":55.895981453620124},{"$f":"'Coal Price Inputs'!AD26","v":58.319767439096744},{"$f":"'Coal Price Inputs'!AE26","v":60.990489992874416},{"$f":"'Coal Price Inputs'!AF26","v":63.984183556657804},{"$f":"'Coal Price Inputs'!AG26","v":65.486692630735007},{"$f":"'Coal Price Inputs'!AH26","v":67.709147368533067},{"$f":"'Coal Price Inputs'!AI26","v":70.107833012987129},{"$f":"'Coal Price Inputs'!AJ26","v":72.514072200876512},{"$f":"'Coal Price Inputs'!AK26","v":73.802906876903549},{"$f":"'Coal Price Inputs'!AL26","v":76.20387731063542},{"$f":"'Coal Price Inputs'!AM26","v":78.876002568979899},{"$f":"'Coal Price Inputs'!AN26","v":80.843189045156095},{"$f":"'Coal Price Inputs'!AO26","v":82.978402463686834},{"$f":"'Coal Price Inputs'!AP26","v":85.183413331792536}]
[]
["TRANSPORTATION RATES ($/TON)"]
[{"$f":"A71","v":"Station"},"Basin","Coal Type","FOB Point","Btu/lb","#SO2/MMBtu","%Ash","Transportation",null,{"$f":"J3","v":2019},2020,2021,2022,2023,2024,2025,2026,2027,2028,2029,2030,2031,2032,2033,2034,2035,2036,2037,2038,2039,2040,2041,2042,2043,2044,2045,2046,2047,2048,2049,2050]
[{"$f":"$A$14","v":"Crystal River 4&5 "},{"$f":"B72","v":"NAPP"},"Pittsburgh Seam","Rail",13000,4,8,"CSX NAPP Basin",null,{"$f":"IF(LEFT($H92,5)=\"Barge\",VLOOKUP($A92&J$91,Barge_Rate_Master,MATCH($H92,'Barge Rate Inputs'!$A$4:$AD$4,0),FALSE),IF(LEFT($H92,3)=\"CSX\",VLOOKUP($A92&J$91,CSX_Rate_Master,MATCH($H92,'CSX Rate Inputs'!$A$4:$Z$4,0),FALSE),\"n/a\"))","v":27.909747690923943},{"$f":"IF(LEFT($H92,5)=\"Barge\",VLOOKUP($A92&K$91,Barge_Rate_Master,MATCH($H92,'Barge Rate Inputs'!$A$4:$AD$4,0),FALSE),IF(LEFT($H92,3)=\"CSX\",VLOOKUP($A92&K$91,CSX_Rate_Master,MATCH($H92,'CSX Rate Inputs'!$A$4:$Z$4,0),FALSE),\"n/a\"))","v":27.909747690923943},{"$f":"IF(LEFT($H92,5)=\"Barge\",VLOOKUP($A92&L$91,Barge_Rate_Master,MATCH($H92,'Barge Rate Inputs'!$A$4:$AD$4,0),FALSE),IF(LEFT($H92,3)=\"CSX\",VLOOKUP($A92&L$91,CSX_Rate_Master,MATCH($H92,'CSX Rate Inputs'!$A$4:$Z$4,0),FALSE),\"n/a\"))","v":28.625969829473863},{"$f":"IF(LEFT($H92,5)=\"Barge\",VLOOKUP($A92&M$91,Barge_Rate_Master,MATCH($H92,'Barge Rate Inputs'!$A$4:$AD$4,0),FALSE),IF(LEFT($H92,3)=\"CSX\",VLOOKUP($A92&M$91,CSX_Rate_Master,MATCH($H92,'CSX Rate Inputs'!$A$4:$Z$4,0),FALSE),\"n/a\"))","v":29.233261709854684},{"$f":"IF(LEFT($H92,5)=\"Barge\",VLOOKUP($A92&N$91,Barge_Rate_Master,MATCH($H92,'Barge Rate Inputs'!$A$4:$AD$4,0),FALSE),IF(LEFT($H92,3)=\"CSX\",VLOOKUP($A92&N$91,CSX_Rate_Master,MATCH($H92,'CSX Rate Inputs'!$A$4:$Z$4,0),FALSE),\"n/a\"))","v":29.961329182609994},{"$f":"IF(LEFT($H92,5)=\"Barge\",VLOOKUP($A92&O$91,Barge_Rate_Master,MATCH($H92,'Barge Rate Inputs'!$A$4:$AD$4,0),FALSE),IF(LEFT($H92,3)=\"CSX\",VLOOKUP($A92&O$91,CSX_Rate_Master,MATCH($H92,'CSX Rate Inputs'!$A$4:$Z$4,0),FALSE),\"n/a\"))","v":30.731142123974198},{"$f":"IF(LEFT($H92,5)=\"Barge\",VLOOKUP($A92&P$91,Barge_Rate_Master,MATCH($H92,'Barge Rate Inputs'!$A$4:$AD$4,0),FALSE),IF(LEFT($H92,3)=\"CSX\",VLOOKUP($A92&P$91,CSX_Rate_Master,MATCH($H92,'CSX Rate Inputs'!$A$4:$Z$4,0),FALSE),\"n/a\"))","v":31.49014297609617},{"$f":"IF(LEFT($H92,5)=\"Barge\",VLOOKUP($A92&Q$91,Barge_Rate_Master,MATCH($H92,'Barge Rate Inputs'!$A$4:$AD$4,0),FALSE),IF(LEFT($H92,3)=\"CSX\",VLOOKUP($A92&Q$91,CSX_Rate_Master,MATCH($H92,'CSX Rate Inputs'!$A$4:$Z$4,0),FALSE),\"n/a\"))","v":32.277396550498572},{"$f":"IF(LEFT($H92,5)=\"Barge\",VLOOKUP($A92&R$91,Barge_Rate_Master,MATCH($H92,'Barge Rate Inputs'!$A$4:$AD$4,0),FALSE),IF(LEFT($H92,3)=\"CSX\",VLOOKUP($A92&R$91,CSX_Rate_Master,MATCH($H92,'CSX Rate Inputs'!$A$4:$Z$4,0),FALSE),\"n/a\"))","v":32.922944481508537},{"$f":"IF(LEFT($H92,5)=\"Barge\",VLOOKUP($A92&S$91,Barge_Rate_Master,MATCH($H92,'Barge Rate Inputs'!$A$4:$AD$4,0),FALSE),IF(LEFT($H92,3)=\"CSX\",VLOOKUP($A92&S$91,CSX_Rate_Master,MATCH($H92,'CSX Rate Inputs'!$A$4:$Z$4,0),FALSE),\"n/a\"))","v":33.581403371138713},{"$f":"IF(LEFT($H92,5)=\"Barge\",VLOOKUP($A92&T$91,Barge_Rate_Master,MATCH($H92,'Barge Rate Inputs'!$A$4:$AD$4,0),FALSE),IF(LEFT($H92,3)=\"CSX\",VLOOKUP($A92&T$91,CSX_Rate_Master,MATCH($H92,'CSX Rate Inputs'!$A$4:$Z$4,0),FALSE),\"n/a\"))","v":34.253031438561486},{"$f":"IF(LEFT($H92,5)=\"Barge\",VLOOKUP($A92&U$91,Barge_Rate_Master,MATCH($H92,'Barge Rate Inputs'!$A$4:$AD$4,0),FALSE),IF(LEFT($H92,3)=\"CSX\",VLOOKUP($A92&U$91,CSX_Rate_Master,MATCH($H92,'CSX Rate Inputs'!$A$4:$Z$4,0),FALSE),\"n/a\"))","v":34.938092067332718},{"$f":"IF(LEFT($H92,5)=\"Barge\",VLOOKUP($A92&V$91,Barge_Rate_Master,MATCH($H92,'Barge Rate Inputs'!$A$4:$AD$4,0),FALSE),IF(LEFT($H92,3)=\"CSX\",VLOOKUP($A92&V$91,CSX_Rate_Master,MATCH($H92,'CSX Rate Inputs'!$A$4:$Z$4,0),FALSE),\"n/a\"))","v":35.636853908679377},{"$f":"IF(LEFT($H92,5)=\"Barge\",VLOOKUP($A92&W$91,Barge_Rate_Master,MATCH($H92,'Barge Rate Inputs'!$A$4:$AD$4,0),FALSE),IF(LEFT($H92,3)=\"CSX\",VLOOKUP($A92&W$91,CSX_Rate_Master,MATCH($H92,'CSX Rate Inputs'!$A$4:$Z$4,0),FALSE),\"n/a\"))","v":36.349590986852959},{"$f":"IF(LEFT($H92,5)=\"Barge\",VLOOKUP($A92&X$91,Barge_Rate_Master,MATCH($H92,'Barge Rate Inputs'!$A$4:$AD$4,0),FALSE),IF(LEFT($H92,3)=\"CSX\",VLOOKUP($A92&X$91,CSX_Rate_Master,MATCH($H92,'CSX Rate Inputs'!$A$4:$Z$4,0),FALSE),\"n/a\"))","v":37.076582806590018},{"$f":"IF(LEFT($H92,5)=\"Barge\",VLOOKUP($A92&Y$91,Barge_Rate_Master,MATCH($H92,'Barge Rate Inputs'!$A$4:$AD$4,0),FALSE),IF(LEFT($H92,3)=\"CSX\",VLOOKUP($A92&Y$91,CSX_Rate_Master,MATCH($H92,'CSX Rate Inputs'!$A$4:$Z$4,0),FALSE),\"n/a\"))","v":37.818114462721823},{"$f":"IF(LEFT($H92,5)=\"Barge\",VLOOKUP($A92&Z$91,Barge_Rate_Master,MATCH($H92,'Barge Rate Inputs'!$A$4:$AD$4,0),FALSE),IF(LEFT($H92,3)=\"CSX\",VLOOKUP($A92&Z$91,CSX_Rate_Master,MATCH($H92,'CSX Rate Inputs'!$A$4:$Z$4,0),FALSE),\"n/a\"))","v":38.574476751976263},{"$f":"IF(LEFT($H92,5)=\"Barge\",VLOOKUP($A92&AA$91,Barge_Rate_Master,MATCH($H92,'Barge Rate Inputs'!$A$4:$AD$4,0),FALSE),IF(LEFT($H92,3)=\"CSX\",VLOOKUP($A92&AA$91,CSX_Rate_Master,MATCH($H92,'CSX Rate Inputs'!$A$4:$Z$4,0),FALSE),\"n/a\"))","v":39.345966287015784},{"$f":"IF(LEFT($H92,5)=\"Barge\",VLOOKUP($A92&AB$91,Barge_Rate_Master,MATCH($H92,'Barge Rate Inputs'!$A$4:$AD$4,0),FALSE),IF(LEFT($H92,3)=\"CSX\",VLOOKUP($A92&AB$91,CSX_Rate_Master,MATCH($H92,'CSX Rate Inputs'!$A$4:$Z$4,0),FALSE),\"n/a\"))","v":40.132885612756098},{"$f":"IF(LEFT($H92,5)=\"Barge\",VLOOKUP($A92&AC$91,Barge_Rate_Master,MATCH($H92,'Barge Rate Inputs'!$A$4:$AD$4,0),FALSE),IF(LEFT($H92,3)=\"CSX\",VLOOKUP($A92&AC$91,CSX_Rate_Master,MATCH($H92,'CSX Rate Inputs'!$A$4:$Z$4,0),FALSE),\"n/a\"))","v":40.935543325011224},{"$f":"IF(LEFT($H92,5)=\"Barge\",VLOOKUP($A92&AD$91,Barge_Rate_Master,MATCH($H92,'Barge Rate Inputs'!$A$4:$AD$4,0),FALSE),IF(LEFT($H92,3)=\"CSX\",VLOOKUP($A92&AD$91,CSX_Rate_Master,MATCH($H92,'CSX Rate Inputs'!$A$4:$Z$4,0),FALSE),\"n/a\"))","v":41.754254191511457},{"$f":"IF(LEFT($H92,5)=\"Barge\",VLOOKUP($A92&AE$91,Barge_Rate_Master,MATCH($H92,'Barge Rate Inputs'!$A$4:$AD$4,0),FALSE),IF(LEFT($H92,3)=\"CSX\",VLOOKUP($A92&AE$91,CSX_Rate_Master,MATCH($H92,'CSX Rate Inputs'!$A$4:$Z$4,0),FALSE),\"n/a\"))","v":42.589339275341679},{"$f":"IF(LEFT($H92,5)=\"Barge\",VLOOKUP($A92&AF$91,Barge_Rate_Master,MATCH($H92,'Barge Rate Inputs'!$A$4:$AD$4,0),FALSE),IF(LEFT($H92,3)=\"CSX\",VLOOKUP($A92&AF$91,CSX_Rate_Master,MATCH($H92,'CSX Rate Inputs'!$A$4:$Z$4,0),FALSE),\"n/a\"))","v":43.441126060848518},{"$f":"IF(LEFT($H92,5)=\"Barge\",VLOOKUP($A92&AG$91,Barge_Rate_Master,MATCH($H92,'Barge Rate Inputs'!$A$4:$AD$4,0),FALSE),IF(LEFT($H92,3)=\"CSX\",VLOOKUP($A92&AG$91,CSX_Rate_Master,MATCH($H92,'CSX Rate Inputs'!$A$4:$Z$4,0),FALSE),\"n/a\"))","v":44.309948582065488},{"$f":"IF(LEFT($H92,5)=\"Barge\",VLOOKUP($A92&AH$91,Barge_Rate_Master,MATCH($H92,'Barge Rate Inputs'!$A$4:$AD$4,0),FALSE),IF(LEFT($H92,3)=\"CSX\",VLOOKUP($A92&AH$91,CSX_Rate_Master,MATCH($H92,'CSX Rate Inputs'!$A$4:$Z$4,0),FALSE),\"n/a\"))","v":45.196147553706794},{"$f":"IF(LEFT($H92,5)=\"Barge\",VLOOKUP($A92&AI$91,Barge_Rate_Master,MATCH($H92,'Barge Rate Inputs'!$A$4:$AD$4,0),FALSE),IF(LEFT($H92,3)=\"CSX\",VLOOKUP($A92&AI$91,CSX_Rate_Master,MATCH($H92,'CSX Rate Inputs'!$A$4:$Z$4,0),FALSE),\"n/a\"))","v":46.10007050478093},{"$f":"IF(LEFT($H92,5)=\"Barge\",VLOOKUP($A92&AJ$91,Barge_Rate_Master,MATCH($H92,'Barge Rate Inputs'!$A$4:$AD$4,0),FALSE),IF(LEFT($H92,3)=\"CSX\",VLOOKUP($A92&AJ$91,CSX_Rate_Master,MATCH($H92,'CSX Rate Inputs'!$A$4:$Z$4,0),FALSE),\"n/a\"))","v":47.022071914876555},{"$f":"IF(LEFT($H92,5)=\"Barge\",VLOOKUP($A92&AK$91,Barge_Rate_Master,MATCH($H92,'Barge Rate Inputs'!$A$4:$AD$4,0),FALSE),IF(LEFT($H92,3)=\"CSX\",VLOOKUP($A92&AK$91,CSX_Rate_Master,MATCH($H92,'CSX Rate Inputs'!$A$4:$Z$4,0),FALSE),\"n/a\"))","v":47.962513353174081},{"$f":"IF(LEFT($H92,5)=\"Barge\",VLOOKUP($A92&AL$91,Barge_Rate_Master,MATCH($H92,'Barge Rate Inputs'!$A$4:$AD$4,0),FALSE),IF(LEFT($H92,3)=\"CSX\",VLOOKUP($A92&AL$91,CSX_Rate_Master,MATCH($H92,'CSX Rate Inputs'!$A$4:$Z$4,0),FALSE),\"n/a\"))","v":48.921763620237563},{"$f":"IF(LEFT($H92,5)=\"Barge\",VLOOKUP($A92&AM$91,Barge_Rate_Master,MATCH($H92,'Barge Rate Inputs'!$A$4:$AD$4,0),FALSE),IF(LEFT($H92,3)=\"CSX\",VLOOKUP($A92&AM$91,CSX_Rate_Master,MATCH($H92,'CSX Rate Inputs'!$A$4:$Z$4,0),FALSE),\"n/a\"))","v":49.900198892642315},{"$f":"IF(LEFT($H92,5)=\"Barge\",VLOOKUP($A92&AN$91,Barge_Rate_Master,MATCH($H92,'Barge Rate Inputs'!$A$4:$AD$4,0),FALSE),IF(LEFT($H92,3)=\"CSX\",VLOOKUP($A92&AN$91,CSX_Rate_Master,MATCH($H92,'CSX Rate Inputs'!$A$4:$Z$4,0),FALSE),\"n/a\"))","v":50.898202870495155},{"$f":"IF(LEFT($H92,5)=\"Barge\",VLOOKUP($A92&AO$91,Barge_Rate_Master,MATCH($H92,'Barge Rate Inputs'!$A$4:$AD$4,0),FALSE),IF(LEFT($H92,3)=\"CSX\",VLOOKUP($A92&AO$91,CSX_Rate_Master,MATCH($H92,'CSX Rate Inputs'!$A$4:$Z$4,0),FALSE),\"n/a\"))","v":51.916166927905067}]
["Crystal River 4&5 ","NAPP","Pittsburgh Seam","Barge",13000,4,8,"Barge NAPP Pitt 8",null,{"$f":"IF(LEFT($H93,5)=\"Barge\",VLOOKUP($A93&J$91,Barge_Rate_Master,MATCH($H93,'Barge Rate Inputs'!$A$4:$AD$4,0),FALSE),IF(LEFT($H93,3)=\"CSX\",VLOOKUP($A93&J$91,CSX_Rate_Master,MATCH($H93,'CSX Rate Inputs'!$A$4:$Z$4,0),FALSE),\"n/a\"))","v":22.294806039999997},{"$f":"IF(LEFT($H93,5)=\"Barge\",VLOOKUP($A93&K$91,Barge_Rate_Master,MATCH($H93,'Barge Rate Inputs'!$A$4:$AD$4,0),FALSE),IF(LEFT($H93,3)=\"CSX\",VLOOKUP($A93&K$91,CSX_Rate_Master,MATCH($H93,'CSX Rate Inputs'!$A$4:$Z$4,0),FALSE),\"n/a\"))","v":22.57722893741494},{"$f":"IF(LEFT($H93,5)=\"Barge\",VLOOKUP($A93&L$91,Barge_Rate_Master,MATCH($H93,'Barge Rate Inputs'!$A$4:$AD$4,0),FALSE),IF(LEFT($H93,3)=\"CSX\",VLOOKUP($A93&L$91,CSX_Rate_Master,MATCH($H93,'CSX Rate Inputs'!$A$4:$Z$4,0),FALSE),\"n/a\"))","v":22.765874476023114},{"$f":"IF(LEFT($H93,5)=\"Barge\",VLOOKUP($A93&M$91,Barge_Rate_Master,MATCH($H93,'Barge Rate Inputs'!$A$4:$AD$4,0),FALSE),IF(LEFT($H93,3)=\"CSX\",VLOOKUP($A93&M$91,CSX_Rate_Master,MATCH($H93,'CSX Rate Inputs'!$A$4:$Z$4,0),FALSE),\"n/a\"))","v":23.241267186687839},{"$f":"IF(LEFT($H93,5)=\"Barge\",VLOOKUP($A93&N$91,Barge_Rate_Master,MATCH($H93,'Barge Rate Inputs'!$A$4:$AD$4,0),FALSE),IF(LEFT($H93,3)=\"CSX\",VLOOKUP($A93&N$91,CSX_Rate_Master,MATCH($H93,'CSX Rate Inputs'!$A$4:$Z$4,0),FALSE),\"n/a\"))","v":26.180292918507416},{"$f":"IF(LEFT($H93,5)=\"Barge\",VLOOKUP($A93&O$91,Barge_Rate_Master,MATCH($H93,'Barge Rate Inputs'!$A$4:$AD$4,0),FALSE),IF(LEFT($H93,3)=\"CSX\",VLOOKUP($A93&O$91,CSX_Rate_Master,MATCH($H93,'CSX Rate Inputs'!$A$4:$Z$4,0),FALSE),\"n/a\"))","v":26.739659019546242},{"$f":"IF(LEFT($H93,5)=\"Barge\",VLOOKUP($A93&P$91,Barge_Rate_Master,MATCH($H93,'Barge Rate Inputs'!$A$4:$AD$4,0),FALSE),IF(LEFT($H93,3)=\"CSX\",VLOOKUP($A93&P$91,CSX_Rate_Master,MATCH($H93,'CSX Rate Inputs'!$A$4:$Z$4,0),FALSE),\"n/a\"))","v":33.191248356526728},{"$f":"IF(LEFT($H93,5)=\"Barge\",VLOOKUP($A93&Q$91,Barge_Rate_Master,MATCH($H93,'Barge Rate Inputs'!$A$4:$AD$4,0),FALSE),IF(LEFT($H93,3)=\"CSX\",VLOOKUP($A93&Q$91,CSX_Rate_Master,MATCH($H93,'CSX Rate Inputs'!$A$4:$Z$4,0),FALSE),\"n/a\"))","v":33.766386844800998},{"$f":"IF(LEFT($H93,5)=\"Barge\",VLOOKUP($A93&R$91,Barge_Rate_Master,MATCH($H93,'Barge Rate Inputs'!$A$4:$AD$4,0),FALSE),IF(LEFT($H93,3)=\"CSX\",VLOOKUP($A93&R$91,CSX_Rate_Master,MATCH($H93,'CSX Rate Inputs'!$A$4:$Z$4,0),FALSE),\"n/a\"))","v":34.906011959948657},{"$f":"IF(LEFT($H93,5)=\"Barge\",VLOOKUP($A93&S$91,Barge_Rate_Master,MATCH($H93,'Barge Rate Inputs'!$A$4:$AD$4,0),FALSE),IF(LEFT($H93,3)=\"CSX\",VLOOKUP($A93&S$91,CSX_Rate_Master,MATCH($H93,'CSX Rate Inputs'!$A$4:$Z$4,0),FALSE),\"n/a\"))","v":35.821587256959319},{"$f":"IF(LEFT($H93,5)=\"Barge\",VLOOKUP($A93&T$91,Barge_Rate_Master,MATCH($H93,'Barge Rate Inputs'!$A$4:$AD$4,0),FALSE),IF(LEFT($H93,3)=\"CSX\",VLOOKUP($A93&T$91,CSX_Rate_Master,MATCH($H93,'CSX Rate Inputs'!$A$4:$Z$4,0),FALSE),\"n/a\"))","v":36.758369774634602},{"$f":"IF(LEFT($H93,5)=\"Barge\",VLOOKUP($A93&U$91,Barge_Rate_Master,MATCH($H93,'Barge Rate Inputs'!$A$4:$AD$4,0),FALSE),IF(LEFT($H93,3)=\"CSX\",VLOOKUP($A93&U$91,CSX_Rate_Master,MATCH($H93,'CSX Rate Inputs'!$A$4:$Z$4,0),FALSE),\"n/a\"))","v":37.656437582490192},{"$f":"IF(LEFT($H93,5)=\"Barge\",VLOOKUP($A93&V$91,Barge_Rate_Master,MATCH($H93,'Barge Rate Inputs'!$A$4:$AD$4,0),FALSE),IF(LEFT($H93,3)=\"CSX\",VLOOKUP($A93&V$91,CSX_Rate_Master,MATCH($H93,'CSX Rate Inputs'!$A$4:$Z$4,0),FALSE),\"n/a\"))","v":45.121375241877892},{"$f":"IF(LEFT($H93,5)=\"Barge\",VLOOKUP($A93&W$91,Barge_Rate_Master,MATCH($H93,'Barge Rate Inputs'!$A$4:$AD$4,0),FALSE),IF(LEFT($H93,3)=\"CSX\",VLOOKUP($A93&W$91,CSX_Rate_Master,MATCH($H93,'CSX Rate Inputs'!$A$4:$Z$4,0),FALSE),\"n/a\"))","v":46.095492807724888},{"$f":"IF(LEFT($H93,5)=\"Barge\",VLOOKUP($A93&X$91,Barge_Rate_Master,MATCH($H93,'Barge Rate Inputs'!$A$4:$AD$4,0),FALSE),IF(LEFT($H93,3)=\"CSX\",VLOOKUP($A93&X$91,CSX_Rate_Master,MATCH($H93,'CSX Rate Inputs'!$A$4:$Z$4,0),FALSE),\"n/a\"))","v":47.025724851925972},{"$f":"IF(LEFT($H93,5)=\"Barge\",VLOOKUP($A93&Y$91,Barge_Rate_Master,MATCH($H93,'Barge Rate Inputs'!$A$4:$AD$4,0),FALSE),IF(LEFT($H93,3)=\"CSX\",VLOOKUP($A93&Y$91,CSX_Rate_Master,MATCH($H93,'CSX Rate Inputs'!$A$4:$Z$4,0),FALSE),\"n/a\"))","v":47.974975238882585},{"$f":"IF(LEFT($H93,5)=\"Barge\",VLOOKUP($A93&Z$91,Barge_Rate_Master,MATCH($H93,'Barge Rate Inputs'!$A$4:$AD$4,0),FALSE),IF(LEFT($H93,3)=\"CSX\",VLOOKUP($A93&Z$91,CSX_Rate_Master,MATCH($H93,'CSX Rate Inputs'!$A$4:$Z$4,0),FALSE),\"n/a\"))","v":49.016067117566379},{"$f":"IF(LEFT($H93,5)=\"Barge\",VLOOKUP($A93&AA$91,Barge_Rate_Master,MATCH($H93,'Barge Rate Inputs'!$A$4:$AD$4,0),FALSE),IF(LEFT($H93,3)=\"CSX\",VLOOKUP($A93&AA$91,CSX_Rate_Master,MATCH($H93,'CSX Rate Inputs'!$A$4:$Z$4,0),FALSE),\"n/a\"))","v":49.998393970458586},{"$f":"IF(LEFT($H93,5)=\"Barge\",VLOOKUP($A93&AB$91,Barge_Rate_Master,MATCH($H93,'Barge Rate Inputs'!$A$4:$AD$4,0),FALSE),IF(LEFT($H93,3)=\"CSX\",VLOOKUP($A93&AB$91,CSX_Rate_Master,MATCH($H93,'CSX Rate Inputs'!$A$4:$Z$4,0),FALSE),\"n/a\"))","v":51.014419102523789},{"$f":"IF(LEFT($H93,5)=\"Barge\",VLOOKUP($A93&AC$91,Barge_Rate_Master,MATCH($H93,'Barge Rate Inputs'!$A$4:$AD$4,0),FALSE),IF(LEFT($H93,3)=\"CSX\",VLOOKUP($A93&AC$91,CSX_Rate_Master,MATCH($H93,'CSX Rate Inputs'!$A$4:$Z$4,0),FALSE),\"n/a\"))","v":52.136397781354056},{"$f":"IF(LEFT($H93,5)=\"Barge\",VLOOKUP($A93&AD$91,Barge_Rate_Master,MATCH($H93,'Barge Rate Inputs'!$A$4:$AD$4,0),FALSE),IF(LEFT($H93,3)=\"CSX\",VLOOKUP($A93&AD$91,CSX_Rate_Master,MATCH($H93,'CSX Rate Inputs'!$A$4:$Z$4,0),FALSE),\"n/a\"))","v":53.19654065940081},{"$f":"IF(LEFT($H93,5)=\"Barge\",VLOOKUP($A93&AE$91,Barge_Rate_Master,MATCH($H93,'Barge Rate Inputs'!$A$4:$AD$4,0),FALSE),IF(LEFT($H93,3)=\"CSX\",VLOOKUP($A93&AE$91,CSX_Rate_Master,MATCH($H93,'CSX Rate Inputs'!$A$4:$Z$4,0),FALSE),\"n/a\"))","v":54.279131820223775},{"$f":"IF(LEFT($H93,5)=\"Barge\",VLOOKUP($A93&AF$91,Barge_Rate_Master,MATCH($H93,'Barge Rate Inputs'!$A$4:$AD$4,0),FALSE),IF(LEFT($H93,3)=\"CSX\",VLOOKUP($A93&AF$91,CSX_Rate_Master,MATCH($H93,'CSX Rate Inputs'!$A$4:$Z$4,0),FALSE),\"n/a\"))","v":55.254794909714782},{"$f":"IF(LEFT($H93,5)=\"Barge\",VLOOKUP($A93&AG$91,Barge_Rate_Master,MATCH($H93,'Barge Rate Inputs'!$A$4:$AD$4,0),FALSE),IF(LEFT($H93,3)=\"CSX\",VLOOKUP($A93&AG$91,CSX_Rate_Master,MATCH($H93,'CSX Rate Inputs'!$A$4:$Z$4,0),FALSE),\"n/a\"))","v":56.398872261284239},{"$f":"IF(LEFT($H93,5)=\"Barge\",VLOOKUP($A93&AH$91,Barge_Rate_Master,MATCH($H93,'Barge Rate Inputs'!$A$4:$AD$4,0),FALSE),IF(LEFT($H93,3)=\"CSX\",VLOOKUP($A93&AH$91,CSX_Rate_Master,MATCH($H93,'CSX Rate Inputs'!$A$4:$Z$4,0),FALSE),\"n/a\"))","v":57.569979468752003},{"$f":"IF(LEFT($H93,5)=\"Barge\",VLOOKUP($A93&AI$91,Barge_Rate_Master,MATCH($H93,'Barge Rate Inputs'!$A$4:$AD$4,0),FALSE),IF(LEFT($H93,3)=\"CSX\",VLOOKUP($A93&AI$91,CSX_Rate_Master,MATCH($H93,'CSX Rate Inputs'!$A$4:$Z$4,0),FALSE),\"n/a\"))","v":58.63021988963969},{"$f":"IF(LEFT($H93,5)=\"Barge\",VLOOKUP($A93&AJ$91,Barge_Rate_Master,MATCH($H93,'Barge Rate Inputs'!$A$4:$AD$4,0),FALSE),IF(LEFT($H93,3)=\"CSX\",VLOOKUP($A93&AJ$91,CSX_Rate_Master,MATCH($H93,'CSX Rate Inputs'!$A$4:$Z$4,0),FALSE),\"n/a\"))","v":59.878893128499733},{"$f":"IF(LEFT($H93,5)=\"Barge\",VLOOKUP($A93&AK$91,Barge_Rate_Master,MATCH($H93,'Barge Rate Inputs'!$A$4:$AD$4,0),FALSE),IF(LEFT($H93,3)=\"CSX\",VLOOKUP($A93&AK$91,CSX_Rate_Master,MATCH($H93,'CSX Rate Inputs'!$A$4:$Z$4,0),FALSE),\"n/a\"))","v":60.912109625647247},{"$f":"IF(LEFT($H93,5)=\"Barge\",VLOOKUP($A93&AL$91,Barge_Rate_Master,MATCH($H93,'Barge Rate Inputs'!$A$4:$AD$4,0),FALSE),IF(LEFT($H93,3)=\"CSX\",VLOOKUP($A93&AL$91,CSX_Rate_Master,MATCH($H93,'CSX Rate Inputs'!$A$4:$Z$4,0),FALSE),\"n/a\"))","v":62.20235620628997},{"$f":"IF(LEFT($H93,5)=\"Barge\",VLOOKUP($A93&AM$91,Barge_Rate_Master,MATCH($H93,'Barge Rate Inputs'!$A$4:$AD$4,0),FALSE),IF(LEFT($H93,3)=\"CSX\",VLOOKUP($A93&AM$91,CSX_Rate_Master,MATCH($H93,'CSX Rate Inputs'!$A$4:$Z$4,0),FALSE),\"n/a\"))","v":63.51655749146699},{"$f":"IF(LEFT($H93,5)=\"Barge\",VLOOKUP($A93&AN$91,Barge_Rate_Master,MATCH($H93,'Barge Rate Inputs'!$A$4:$AD$4,0),FALSE),IF(LEFT($H93,3)=\"CSX\",VLOOKUP($A93&AN$91,CSX_Rate_Master,MATCH($H93,'CSX Rate Inputs'!$A$4:$Z$4,0),FALSE),\"n/a\"))","v":64.602301581810579},{"$f":"IF(LEFT($H93,5)=\"Barge\",VLOOKUP($A93&AO$91,Barge_Rate_Master,MATCH($H93,'Barge Rate Inputs'!$A$4:$AD$4,0),FALSE),IF(LEFT($H93,3)=\"CSX\",VLOOKUP($A93&AO$91,CSX_Rate_Master,MATCH($H93,'CSX Rate Inputs'!$A$4:$Z$4,0),FALSE),\"n/a\"))","v":65.965140608788701}]
["Crystal River 4&5 ","CAPP","Low-Sulfur","Rail",12500,1.6,10,"CSX CAPP Basin",null,{"$f":"IF(LEFT($H94,5)=\"Barge\",VLOOKUP($A94&J$91,Barge_Rate_Master,MATCH($H94,'Barge Rate Inputs'!$A$4:$AD$4,0),FALSE),IF(LEFT($H94,3)=\"CSX\",VLOOKUP($A94&J$91,CSX_Rate_Master,MATCH($H94,'CSX Rate Inputs'!$A$4:$Z$4,0),FALSE),\"n/a\"))","v":24.229511133452629},{"$f":"IF(LEFT($H94,5)=\"Barge\",VLOOKUP($A94&K$91,Barge_Rate_Master,MATCH($H94,'Barge Rate Inputs'!$A$4:$AD$4,0),FALSE),IF(LEFT($H94,3)=\"CSX\",VLOOKUP($A94&K$91,CSX_Rate_Master,MATCH($H94,'CSX Rate Inputs'!$A$4:$Z$4,0),FALSE),\"n/a\"))","v":24.229511133452629},{"$f":"IF(LEFT($H94,5)=\"Barge\",VLOOKUP($A94&L$91,Barge_Rate_Master,MATCH($H94,'Barge Rate Inputs'!$A$4:$AD$4,0),FALSE),IF(LEFT($H94,3)=\"CSX\",VLOOKUP($A94&L$91,CSX_Rate_Master,MATCH($H94,'CSX Rate Inputs'!$A$4:$Z$4,0),FALSE),\"n/a\"))","v":24.861517930489622},{"$f":"IF(LEFT($H94,5)=\"Barge\",VLOOKUP($A94&M$91,Barge_Rate_Master,MATCH($H94,'Barge Rate Inputs'!$A$4:$AD$4,0),FALSE),IF(LEFT($H94,3)=\"CSX\",VLOOKUP($A94&M$91,CSX_Rate_Master,MATCH($H94,'CSX Rate Inputs'!$A$4:$Z$4,0),FALSE),\"n/a\"))","v":25.367188581586959},{"$f":"IF(LEFT($H94,5)=\"Barge\",VLOOKUP($A94&N$91,Barge_Rate_Master,MATCH($H94,'Barge Rate Inputs'!$A$4:$AD$4,0),FALSE),IF(LEFT($H94,3)=\"CSX\",VLOOKUP($A94&N$91,CSX_Rate_Master,MATCH($H94,'CSX Rate Inputs'!$A$4:$Z$4,0),FALSE),\"n/a\"))","v":26.004081452340568},{"$f":"IF(LEFT($H94,5)=\"Barge\",VLOOKUP($A94&O$91,Barge_Rate_Master,MATCH($H94,'Barge Rate Inputs'!$A$4:$AD$4,0),FALSE),IF(LEFT($H94,3)=\"CSX\",VLOOKUP($A94&O$91,CSX_Rate_Master,MATCH($H94,'CSX Rate Inputs'!$A$4:$Z$4,0),FALSE),\"n/a\"))","v":26.683446267877834},{"$f":"IF(LEFT($H94,5)=\"Barge\",VLOOKUP($A94&P$91,Barge_Rate_Master,MATCH($H94,'Barge Rate Inputs'!$A$4:$AD$4,0),FALSE),IF(LEFT($H94,3)=\"CSX\",VLOOKUP($A94&P$91,CSX_Rate_Master,MATCH($H94,'CSX Rate Inputs'!$A$4:$Z$4,0),FALSE),\"n/a\"))","v":27.346224285984057},{"$f":"IF(LEFT($H94,5)=\"Barge\",VLOOKUP($A94&Q$91,Barge_Rate_Master,MATCH($H94,'Barge Rate Inputs'!$A$4:$AD$4,0),FALSE),IF(LEFT($H94,3)=\"CSX\",VLOOKUP($A94&Q$91,CSX_Rate_Master,MATCH($H94,'CSX Rate Inputs'!$A$4:$Z$4,0),FALSE),\"n/a\"))","v":28.029879893133661},{"$f":"IF(LEFT($H94,5)=\"Barge\",VLOOKUP($A94&R$91,Barge_Rate_Master,MATCH($H94,'Barge Rate Inputs'!$A$4:$AD$4,0),FALSE),IF(LEFT($H94,3)=\"CSX\",VLOOKUP($A94&R$91,CSX_Rate_Master,MATCH($H94,'CSX Rate Inputs'!$A$4:$Z$4,0),FALSE),\"n/a\"))","v":28.590477490996328},{"$f":"IF(LEFT($H94,5)=\"Barge\",VLOOKUP($A94&S$91,Barge_Rate_Master,MATCH($H94,'Barge Rate Inputs'!$A$4:$AD$4,0),FALSE),IF(LEFT($H94,3)=\"CSX\",VLOOKUP($A94&S$91,CSX_Rate_Master,MATCH($H94,'CSX Rate Inputs'!$A$4:$Z$4,0),FALSE),\"n/a\"))","v":29.162287040816256},{"$f":"IF(LEFT($H94,5)=\"Barge\",VLOOKUP($A94&T$91,Barge_Rate_Master,MATCH($H94,'Barge Rate Inputs'!$A$4:$AD$4,0),FALSE),IF(LEFT($H94,3)=\"CSX\",VLOOKUP($A94&T$91,CSX_Rate_Master,MATCH($H94,'CSX Rate Inputs'!$A$4:$Z$4,0),FALSE),\"n/a\"))","v":29.745532781632583},{"$f":"IF(LEFT($H94,5)=\"Barge\",VLOOKUP($A94&U$91,Barge_Rate_Master,MATCH($H94,'Barge Rate Inputs'!$A$4:$AD$4,0),FALSE),IF(LEFT($H94,3)=\"CSX\",VLOOKUP($A94&U$91,CSX_Rate_Master,MATCH($H94,'CSX Rate Inputs'!$A$4:$Z$4,0),FALSE),\"n/a\"))","v":30.340443437265236},{"$f":"IF(LEFT($H94,5)=\"Barge\",VLOOKUP($A94&V$91,Barge_Rate_Master,MATCH($H94,'Barge Rate Inputs'!$A$4:$AD$4,0),FALSE),IF(LEFT($H94,3)=\"CSX\",VLOOKUP($A94&V$91,CSX_Rate_Master,MATCH($H94,'CSX Rate Inputs'!$A$4:$Z$4,0),FALSE),\"n/a\"))","v":30.94725230601054},{"$f":"IF(LEFT($H94,5)=\"Barge\",VLOOKUP($A94&W$91,Barge_Rate_Master,MATCH($H94,'Barge Rate Inputs'!$A$4:$AD$4,0),FALSE),IF(LEFT($H94,3)=\"CSX\",VLOOKUP($A94&W$91,CSX_Rate_Master,MATCH($H94,'CSX Rate Inputs'!$A$4:$Z$4,0),FALSE),\"n/a\"))","v":31.56619735213075},{"$f":"IF(LEFT($H94,5)=\"Barge\",VLOOKUP($A94&X$91,Barge_Rate_Master,MATCH($H94,'Barge Rate Inputs'!$A$4:$AD$4,0),FALSE),IF(LEFT($H94,3)=\"CSX\",VLOOKUP($A94&X$91,CSX_Rate_Master,MATCH($H94,'CSX Rate Inputs'!$A$4:$Z$4,0),FALSE),\"n/a\"))","v":32.197521299173374},{"$f":"IF(LEFT($H94,5)=\"Barge\",VLOOKUP($A94&Y$91,Barge_Rate_Master,MATCH($H94,'Barge Rate Inputs'!$A$4:$AD$4,0),FALSE),IF(LEFT($H94,3)=\"CSX\",VLOOKUP($A94&Y$91,CSX_Rate_Master,MATCH($H94,'CSX Rate Inputs'!$A$4:$Z$4,0),FALSE),\"n/a\"))","v":32.841471725156836},{"$f":"IF(LEFT($H94,5)=\"Barge\",VLOOKUP($A94&Z$91,Barge_Rate_Master,MATCH($H94,'Barge Rate Inputs'!$A$4:$AD$4,0),FALSE),IF(LEFT($H94,3)=\"CSX\",VLOOKUP($A94&Z$91,CSX_Rate_Master,MATCH($H94,'CSX Rate Inputs'!$A$4:$Z$4,0),FALSE),\"n/a\"))","v":33.498301159659974},{"$f":"IF(LEFT($H94,5)=\"Barge\",VLOOKUP($A94&AA$91,Barge_Rate_Master,MATCH($H94,'Barge Rate Inputs'!$A$4:$AD$4,0),FALSE),IF(LEFT($H94,3)=\"CSX\",VLOOKUP($A94&AA$91,CSX_Rate_Master,MATCH($H94,'CSX Rate Inputs'!$A$4:$Z$4,0),FALSE),\"n/a\"))","v":34.168267182853171},{"$f":"IF(LEFT($H94,5)=\"Barge\",VLOOKUP($A94&AB$91,Barge_Rate_Master,MATCH($H94,'Barge Rate Inputs'!$A$4:$AD$4,0),FALSE),IF(LEFT($H94,3)=\"CSX\",VLOOKUP($A94&AB$91,CSX_Rate_Master,MATCH($H94,'CSX Rate Inputs'!$A$4:$Z$4,0),FALSE),\"n/a\"))","v":34.851632526510244},{"$f":"IF(LEFT($H94,5)=\"Barge\",VLOOKUP($A94&AC$91,Barge_Rate_Master,MATCH($H94,'Barge Rate Inputs'!$A$4:$AD$4,0),FALSE),IF(LEFT($H94,3)=\"CSX\",VLOOKUP($A94&AC$91,CSX_Rate_Master,MATCH($H94,'CSX Rate Inputs'!$A$4:$Z$4,0),FALSE),\"n/a\"))","v":35.548665177040448},{"$f":"IF(LEFT($H94,5)=\"Barge\",VLOOKUP($A94&AD$91,Barge_Rate_Master,MATCH($H94,'Barge Rate Inputs'!$A$4:$AD$4,0),FALSE),IF(LEFT($H94,3)=\"CSX\",VLOOKUP($A94&AD$91,CSX_Rate_Master,MATCH($H94,'CSX Rate Inputs'!$A$4:$Z$4,0),FALSE),\"n/a\"))","v":36.259638480581252},{"$f":"IF(LEFT($H94,5)=\"Barge\",VLOOKUP($A94&AE$91,Barge_Rate_Master,MATCH($H94,'Barge Rate Inputs'!$A$4:$AD$4,0),FALSE),IF(LEFT($H94,3)=\"CSX\",VLOOKUP($A94&AE$91,CSX_Rate_Master,MATCH($H94,'CSX Rate Inputs'!$A$4:$Z$4,0),FALSE),\"n/a\"))","v":36.984831250192883},{"$f":"IF(LEFT($H94,5)=\"Barge\",VLOOKUP($A94&AF$91,Barge_Rate_Master,MATCH($H94,'Barge Rate Inputs'!$A$4:$AD$4,0),FALSE),IF(LEFT($H94,3)=\"CSX\",VLOOKUP($A94&AF$91,CSX_Rate_Master,MATCH($H94,'CSX Rate Inputs'!$A$4:$Z$4,0),FALSE),\"n/a\"))","v":37.724527875196735},{"$f":"IF(LEFT($H94,5)=\"Barge\",VLOOKUP($A94&AG$91,Barge_Rate_Master,MATCH($H94,'Barge Rate Inputs'!$A$4:$AD$4,0),FALSE),IF(LEFT($H94,3)=\"CSX\",VLOOKUP($A94&AG$91,CSX_Rate_Master,MATCH($H94,'CSX Rate Inputs'!$A$4:$Z$4,0),FALSE),\"n/a\"))","v":38.479018432700677},{"$f":"IF(LEFT($H94,5)=\"Barge\",VLOOKUP($A94&AH$91,Barge_Rate_Master,MATCH($H94,'Barge Rate Inputs'!$A$4:$AD$4,0),FALSE),IF(LEFT($H94,3)=\"CSX\",VLOOKUP($A94&AH$91,CSX_Rate_Master,MATCH($H94,'CSX Rate Inputs'!$A$4:$Z$4,0),FALSE),\"n/a\"))","v":39.248598801354689},{"$f":"IF(LEFT($H94,5)=\"Barge\",VLOOKUP($A94&AI$91,Barge_Rate_Master,MATCH($H94,'Barge Rate Inputs'!$A$4:$AD$4,0),FALSE),IF(LEFT($H94,3)=\"CSX\",VLOOKUP($A94&AI$91,CSX_Rate_Master,MATCH($H94,'CSX Rate Inputs'!$A$4:$Z$4,0),FALSE),\"n/a\"))","v":40.033570777381783},{"$f":"IF(LEFT($H94,5)=\"Barge\",VLOOKUP($A94&AJ$91,Barge_Rate_Master,MATCH($H94,'Barge Rate Inputs'!$A$4:$AD$4,0),FALSE),IF(LEFT($H94,3)=\"CSX\",VLOOKUP($A94&AJ$91,CSX_Rate_Master,MATCH($H94,'CSX Rate Inputs'!$A$4:$Z$4,0),FALSE),\"n/a\"))","v":40.834242192929423},{"$f":"IF(LEFT($H94,5)=\"Barge\",VLOOKUP($A94&AK$91,Barge_Rate_Master,MATCH($H94,'Barge Rate Inputs'!$A$4:$AD$4,0),FALSE),IF(LEFT($H94,3)=\"CSX\",VLOOKUP($A94&AK$91,CSX_Rate_Master,MATCH($H94,'CSX Rate Inputs'!$A$4:$Z$4,0),FALSE),\"n/a\"))","v":41.650927036788012},{"$f":"IF(LEFT($H94,5)=\"Barge\",VLOOKUP($A94&AL$91,Barge_Rate_Master,MATCH($H94,'Barge Rate Inputs'!$A$4:$AD$4,0),FALSE),IF(LEFT($H94,3)=\"CSX\",VLOOKUP($A94&AL$91,CSX_Rate_Master,MATCH($H94,'CSX Rate Inputs'!$A$4:$Z$4,0),FALSE),\"n/a\"))","v":42.48394557752377},{"$f":"IF(LEFT($H94,5)=\"Barge\",VLOOKUP($A94&AM$91,Barge_Rate_Master,MATCH($H94,'Barge Rate Inputs'!$A$4:$AD$4,0),FALSE),IF(LEFT($H94,3)=\"CSX\",VLOOKUP($A94&AM$91,CSX_Rate_Master,MATCH($H94,'CSX Rate Inputs'!$A$4:$Z$4,0),FALSE),\"n/a\"))","v":43.333624489074246},{"$f":"IF(LEFT($H94,5)=\"Barge\",VLOOKUP($A94&AN$91,Barge_Rate_Master,MATCH($H94,'Barge Rate Inputs'!$A$4:$AD$4,0),FALSE),IF(LEFT($H94,3)=\"CSX\",VLOOKUP($A94&AN$91,CSX_Rate_Master,MATCH($H94,'CSX Rate Inputs'!$A$4:$Z$4,0),FALSE),\"n/a\"))","v":44.200296978855732},{"$f":"IF(LEFT($H94,5)=\"Barge\",VLOOKUP($A94&AO$91,Barge_Rate_Master,MATCH($H94,'Barge Rate Inputs'!$A$4:$AD$4,0),FALSE),IF(LEFT($H94,3)=\"CSX\",VLOOKUP($A94&AO$91,CSX_Rate_Master,MATCH($H94,'CSX Rate Inputs'!$A$4:$Z$4,0),FALSE),\"n/a\"))","v":45.084302918432847}]
["Crystal River 4&5 ",{"$f":"B75","v":"CAPP"},"Low-Sulfur","Barge",12500,1.67,{"$f":"G75","v":10},"Barge CAPP Basin",null,{"$f":"IF(LEFT($H95,5)=\"Barge\",VLOOKUP($A95&J$91,Barge_Rate_Master,MATCH($H95,'Barge Rate Inputs'!$A$4:$AD$4,0),FALSE),IF(LEFT($H95,3)=\"CSX\",VLOOKUP($A95&J$91,CSX_Rate_Master,MATCH($H95,'CSX Rate Inputs'!$A$4:$Z$4,0),FALSE),\"n/a\"))","v":17.673106136041664},{"$f":"IF(LEFT($H95,5)=\"Barge\",VLOOKUP($A95&K$91,Barge_Rate_Master,MATCH($H95,'Barge Rate Inputs'!$A$4:$AD$4,0),FALSE),IF(LEFT($H95,3)=\"CSX\",VLOOKUP($A95&K$91,CSX_Rate_Master,MATCH($H95,'CSX Rate Inputs'!$A$4:$Z$4,0),FALSE),\"n/a\"))","v":17.896983603130046},{"$f":"IF(LEFT($H95,5)=\"Barge\",VLOOKUP($A95&L$91,Barge_Rate_Master,MATCH($H95,'Barge Rate Inputs'!$A$4:$AD$4,0),FALSE),IF(LEFT($H95,3)=\"CSX\",VLOOKUP($A95&L$91,CSX_Rate_Master,MATCH($H95,'CSX Rate Inputs'!$A$4:$Z$4,0),FALSE),\"n/a\"))","v":18.046529937222733},{"$f":"IF(LEFT($H95,5)=\"Barge\",VLOOKUP($A95&M$91,Barge_Rate_Master,MATCH($H95,'Barge Rate Inputs'!$A$4:$AD$4,0),FALSE),IF(LEFT($H95,3)=\"CSX\",VLOOKUP($A95&M$91,CSX_Rate_Master,MATCH($H95,'CSX Rate Inputs'!$A$4:$Z$4,0),FALSE),\"n/a\"))","v":18.423373746265796},{"$f":"IF(LEFT($H95,5)=\"Barge\",VLOOKUP($A95&N$91,Barge_Rate_Master,MATCH($H95,'Barge Rate Inputs'!$A$4:$AD$4,0),FALSE),IF(LEFT($H95,3)=\"CSX\",VLOOKUP($A95&N$91,CSX_Rate_Master,MATCH($H95,'CSX Rate Inputs'!$A$4:$Z$4,0),FALSE),\"n/a\"))","v":21.258752973304144},{"$f":"IF(LEFT($H95,5)=\"Barge\",VLOOKUP($A95&O$91,Barge_Rate_Master,MATCH($H95,'Barge Rate Inputs'!$A$4:$AD$4,0),FALSE),IF(LEFT($H95,3)=\"CSX\",VLOOKUP($A95&O$91,CSX_Rate_Master,MATCH($H95,'CSX Rate Inputs'!$A$4:$Z$4,0),FALSE),\"n/a\"))","v":21.712274366943756},{"$f":"IF(LEFT($H95,5)=\"Barge\",VLOOKUP($A95&P$91,Barge_Rate_Master,MATCH($H95,'Barge Rate Inputs'!$A$4:$AD$4,0),FALSE),IF(LEFT($H95,3)=\"CSX\",VLOOKUP($A95&P$91,CSX_Rate_Master,MATCH($H95,'CSX Rate Inputs'!$A$4:$Z$4,0),FALSE),\"n/a\"))","v":28.055885719555842},{"$f":"IF(LEFT($H95,5)=\"Barge\",VLOOKUP($A95&Q$91,Barge_Rate_Master,MATCH($H95,'Barge Rate Inputs'!$A$4:$AD$4,0),FALSE),IF(LEFT($H95,3)=\"CSX\",VLOOKUP($A95&Q$91,CSX_Rate_Master,MATCH($H95,'CSX Rate Inputs'!$A$4:$Z$4,0),FALSE),\"n/a\"))","v":28.509089120422036},{"$f":"IF(LEFT($H95,5)=\"Barge\",VLOOKUP($A95&R$91,Barge_Rate_Master,MATCH($H95,'Barge Rate Inputs'!$A$4:$AD$4,0),FALSE),IF(LEFT($H95,3)=\"CSX\",VLOOKUP($A95&R$91,CSX_Rate_Master,MATCH($H95,'CSX Rate Inputs'!$A$4:$Z$4,0),FALSE),\"n/a\"))","v":29.507488347109348},{"$f":"IF(LEFT($H95,5)=\"Barge\",VLOOKUP($A95&S$91,Barge_Rate_Master,MATCH($H95,'Barge Rate Inputs'!$A$4:$AD$4,0),FALSE),IF(LEFT($H95,3)=\"CSX\",VLOOKUP($A95&S$91,CSX_Rate_Master,MATCH($H95,'CSX Rate Inputs'!$A$4:$Z$4,0),FALSE),\"n/a\"))","v":30.270009243546763},{"$f":"IF(LEFT($H95,5)=\"Barge\",VLOOKUP($A95&T$91,Barge_Rate_Master,MATCH($H95,'Barge Rate Inputs'!$A$4:$AD$4,0),FALSE),IF(LEFT($H95,3)=\"CSX\",VLOOKUP($A95&T$91,CSX_Rate_Master,MATCH($H95,'CSX Rate Inputs'!$A$4:$Z$4,0),FALSE),\"n/a\"))","v":31.050075917803667},{"$f":"IF(LEFT($H95,5)=\"Barge\",VLOOKUP($A95&U$91,Barge_Rate_Master,MATCH($H95,'Barge Rate Inputs'!$A$4:$AD$4,0),FALSE),IF(LEFT($H95,3)=\"CSX\",VLOOKUP($A95&U$91,CSX_Rate_Master,MATCH($H95,'CSX Rate Inputs'!$A$4:$Z$4,0),FALSE),\"n/a\"))","v":31.800204476739072},{"$f":"IF(LEFT($H95,5)=\"Barge\",VLOOKUP($A95&V$91,Barge_Rate_Master,MATCH($H95,'Barge Rate Inputs'!$A$4:$AD$4,0),FALSE),IF(LEFT($H95,3)=\"CSX\",VLOOKUP($A95&V$91,CSX_Rate_Master,MATCH($H95,'CSX Rate Inputs'!$A$4:$Z$4,0),FALSE),\"n/a\"))","v":39.141943977570847},{"$f":"IF(LEFT($H95,5)=\"Barge\",VLOOKUP($A95&W$91,Barge_Rate_Master,MATCH($H95,'Barge Rate Inputs'!$A$4:$AD$4,0),FALSE),IF(LEFT($H95,3)=\"CSX\",VLOOKUP($A95&W$91,CSX_Rate_Master,MATCH($H95,'CSX Rate Inputs'!$A$4:$Z$4,0),FALSE),\"n/a\"))","v":39.991922506743428},{"$f":"IF(LEFT($H95,5)=\"Barge\",VLOOKUP($A95&X$91,Barge_Rate_Master,MATCH($H95,'Barge Rate Inputs'!$A$4:$AD$4,0),FALSE),IF(LEFT($H95,3)=\"CSX\",VLOOKUP($A95&X$91,CSX_Rate_Master,MATCH($H95,'CSX Rate Inputs'!$A$4:$Z$4,0),FALSE),\"n/a\"))","v":40.793046168381061},{"$f":"IF(LEFT($H95,5)=\"Barge\",VLOOKUP($A95&Y$91,Barge_Rate_Master,MATCH($H95,'Barge Rate Inputs'!$A$4:$AD$4,0),FALSE),IF(LEFT($H95,3)=\"CSX\",VLOOKUP($A95&Y$91,CSX_Rate_Master,MATCH($H95,'CSX Rate Inputs'!$A$4:$Z$4,0),FALSE),\"n/a\"))","v":41.610520234271235},{"$f":"IF(LEFT($H95,5)=\"Barge\",VLOOKUP($A95&Z$91,Barge_Rate_Master,MATCH($H95,'Barge Rate Inputs'!$A$4:$AD$4,0),FALSE),IF(LEFT($H95,3)=\"CSX\",VLOOKUP($A95&Z$91,CSX_Rate_Master,MATCH($H95,'CSX Rate Inputs'!$A$4:$Z$4,0),FALSE),\"n/a\"))","v":42.518350824579976},{"$f":"IF(LEFT($H95,5)=\"Barge\",VLOOKUP($A95&AA$91,Barge_Rate_Master,MATCH($H95,'Barge Rate Inputs'!$A$4:$AD$4,0),FALSE),IF(LEFT($H95,3)=\"CSX\",VLOOKUP($A95&AA$91,CSX_Rate_Master,MATCH($H95,'CSX Rate Inputs'!$A$4:$Z$4,0),FALSE),\"n/a\"))","v":43.364670870945723},{"$f":"IF(LEFT($H95,5)=\"Barge\",VLOOKUP($A95&AB$91,Barge_Rate_Master,MATCH($H95,'Barge Rate Inputs'!$A$4:$AD$4,0),FALSE),IF(LEFT($H95,3)=\"CSX\",VLOOKUP($A95&AB$91,CSX_Rate_Master,MATCH($H95,'CSX Rate Inputs'!$A$4:$Z$4,0),FALSE),\"n/a\"))","v":44.239055779142561},{"$f":"IF(LEFT($H95,5)=\"Barge\",VLOOKUP($A95&AC$91,Barge_Rate_Master,MATCH($H95,'Barge Rate Inputs'!$A$4:$AD$4,0),FALSE),IF(LEFT($H95,3)=\"CSX\",VLOOKUP($A95&AC$91,CSX_Rate_Master,MATCH($H95,'CSX Rate Inputs'!$A$4:$Z$4,0),FALSE),\"n/a\"))","v":45.216058054633031},{"$f":"IF(LEFT($H95,5)=\"Barge\",VLOOKUP($A95&AD$91,Barge_Rate_Master,MATCH($H95,'Barge Rate Inputs'!$A$4:$AD$4,0),FALSE),IF(LEFT($H95,3)=\"CSX\",VLOOKUP($A95&AD$91,CSX_Rate_Master,MATCH($H95,'CSX Rate Inputs'!$A$4:$Z$4,0),FALSE),\"n/a\"))","v":46.128201886640582},{"$f":"IF(LEFT($H95,5)=\"Barge\",VLOOKUP($A95&AE$91,Barge_Rate_Master,MATCH($H95,'Barge Rate Inputs'!$A$4:$AD$4,0),FALSE),IF(LEFT($H95,3)=\"CSX\",VLOOKUP($A95&AE$91,CSX_Rate_Master,MATCH($H95,'CSX Rate Inputs'!$A$4:$Z$4,0),FALSE),\"n/a\"))","v":47.059575812386008},{"$f":"IF(LEFT($H95,5)=\"Barge\",VLOOKUP($A95&AF$91,Barge_Rate_Master,MATCH($H95,'Barge Rate Inputs'!$A$4:$AD$4,0),FALSE),IF(LEFT($H95,3)=\"CSX\",VLOOKUP($A95&AF$91,CSX_Rate_Master,MATCH($H95,'CSX Rate Inputs'!$A$4:$Z$4,0),FALSE),\"n/a\"))","v":47.925961571958929},{"$f":"IF(LEFT($H95,5)=\"Barge\",VLOOKUP($A95&AG$91,Barge_Rate_Master,MATCH($H95,'Barge Rate Inputs'!$A$4:$AD$4,0),FALSE),IF(LEFT($H95,3)=\"CSX\",VLOOKUP($A95&AG$91,CSX_Rate_Master,MATCH($H95,'CSX Rate Inputs'!$A$4:$Z$4,0),FALSE),\"n/a\"))","v":48.909032590667501},{"$f":"IF(LEFT($H95,5)=\"Barge\",VLOOKUP($A95&AH$91,Barge_Rate_Master,MATCH($H95,'Barge Rate Inputs'!$A$4:$AD$4,0),FALSE),IF(LEFT($H95,3)=\"CSX\",VLOOKUP($A95&AH$91,CSX_Rate_Master,MATCH($H95,'CSX Rate Inputs'!$A$4:$Z$4,0),FALSE),\"n/a\"))","v":49.915053289366178},{"$f":"IF(LEFT($H95,5)=\"Barge\",VLOOKUP($A95&AI$91,Barge_Rate_Master,MATCH($H95,'Barge Rate Inputs'!$A$4:$AD$4,0),FALSE),IF(LEFT($H95,3)=\"CSX\",VLOOKUP($A95&AI$91,CSX_Rate_Master,MATCH($H95,'CSX Rate Inputs'!$A$4:$Z$4,0),FALSE),\"n/a\"))","v":50.854173846068392},{"$f":"IF(LEFT($H95,5)=\"Barge\",VLOOKUP($A95&AJ$91,Barge_Rate_Master,MATCH($H95,'Barge Rate Inputs'!$A$4:$AD$4,0),FALSE),IF(LEFT($H95,3)=\"CSX\",VLOOKUP($A95&AJ$91,CSX_Rate_Master,MATCH($H95,'CSX Rate Inputs'!$A$4:$Z$4,0),FALSE),\"n/a\"))","v":51.931555171134121},{"$f":"IF(LEFT($H95,5)=\"Barge\",VLOOKUP($A95&AK$91,Barge_Rate_Master,MATCH($H95,'Barge Rate Inputs'!$A$4:$AD$4,0),FALSE),IF(LEFT($H95,3)=\"CSX\",VLOOKUP($A95&AK$91,CSX_Rate_Master,MATCH($H95,'CSX Rate Inputs'!$A$4:$Z$4,0),FALSE),\"n/a\"))","v":52.839901173403703},{"$f":"IF(LEFT($H95,5)=\"Barge\",VLOOKUP($A95&AL$91,Barge_Rate_Master,MATCH($H95,'Barge Rate Inputs'!$A$4:$AD$4,0),FALSE),IF(LEFT($H95,3)=\"CSX\",VLOOKUP($A95&AL$91,CSX_Rate_Master,MATCH($H95,'CSX Rate Inputs'!$A$4:$Z$4,0),FALSE),\"n/a\"))","v":53.953775255876529},{"$f":"IF(LEFT($H95,5)=\"Barge\",VLOOKUP($A95&AM$91,Barge_Rate_Master,MATCH($H95,'Barge Rate Inputs'!$A$4:$AD$4,0),FALSE),IF(LEFT($H95,3)=\"CSX\",VLOOKUP($A95&AM$91,CSX_Rate_Master,MATCH($H95,'CSX Rate Inputs'!$A$4:$Z$4,0),FALSE),\"n/a\"))","v":55.088460191746684},{"$f":"IF(LEFT($H95,5)=\"Barge\",VLOOKUP($A95&AN$91,Barge_Rate_Master,MATCH($H95,'Barge Rate Inputs'!$A$4:$AD$4,0),FALSE),IF(LEFT($H95,3)=\"CSX\",VLOOKUP($A95&AN$91,CSX_Rate_Master,MATCH($H95,'CSX Rate Inputs'!$A$4:$Z$4,0),FALSE),\"n/a\"))","v":56.043911897823925},{"$f":"IF(LEFT($H95,5)=\"Barge\",VLOOKUP($A95&AO$91,Barge_Rate_Master,MATCH($H95,'Barge Rate Inputs'!$A$4:$AD$4,0),FALSE),IF(LEFT($H95,3)=\"CSX\",VLOOKUP($A95&AO$91,CSX_Rate_Master,MATCH($H95,'CSX Rate Inputs'!$A$4:$Z$4,0),FALSE),\"n/a\"))","v":57.220905954332693}]
["Crystal River 4&5 ","ILB","Illinois","Rail",11500,{"$f":"F76","v":5},{"$f":"G76","v":10},"CSX CN Galatia",null,{"$f":"IF(LEFT($H96,5)=\"Barge\",VLOOKUP($A96&J$91,Barge_Rate_Master,MATCH($H96,'Barge Rate Inputs'!$A$4:$AD$4,0),FALSE),IF(LEFT($H96,3)=\"CSX\",VLOOKUP($A96&J$91,CSX_Rate_Master,MATCH($H96,'CSX Rate Inputs'!$A$4:$Z$4,0),FALSE),\"n/a\"))","v":23.007702977819999},{"$f":"IF(LEFT($H96,5)=\"Barge\",VLOOKUP($A96&K$91,Barge_Rate_Master,MATCH($H96,'Barge Rate Inputs'!$A$4:$AD$4,0),FALSE),IF(LEFT($H96,3)=\"CSX\",VLOOKUP($A96&K$91,CSX_Rate_Master,MATCH($H96,'CSX Rate Inputs'!$A$4:$Z$4,0),FALSE),\"n/a\"))","v":23.007702977819999},{"$f":"IF(LEFT($H96,5)=\"Barge\",VLOOKUP($A96&L$91,Barge_Rate_Master,MATCH($H96,'Barge Rate Inputs'!$A$4:$AD$4,0),FALSE),IF(LEFT($H96,3)=\"CSX\",VLOOKUP($A96&L$91,CSX_Rate_Master,MATCH($H96,'CSX Rate Inputs'!$A$4:$Z$4,0),FALSE),\"n/a\"))","v":23.597647226222691},{"$f":"IF(LEFT($H96,5)=\"Barge\",VLOOKUP($A96&M$91,Barge_Rate_Master,MATCH($H96,'Barge Rate Inputs'!$A$4:$AD$4,0),FALSE),IF(LEFT($H96,3)=\"CSX\",VLOOKUP($A96&M$91,CSX_Rate_Master,MATCH($H96,'CSX Rate Inputs'!$A$4:$Z$4,0),FALSE),\"n/a\"))","v":24.099288537071022},{"$f":"IF(LEFT($H96,5)=\"Barge\",VLOOKUP($A96&N$91,Barge_Rate_Master,MATCH($H96,'Barge Rate Inputs'!$A$4:$AD$4,0),FALSE),IF(LEFT($H96,3)=\"CSX\",VLOOKUP($A96&N$91,CSX_Rate_Master,MATCH($H96,'CSX Rate Inputs'!$A$4:$Z$4,0),FALSE),\"n/a\"))","v":24.699251582172362},{"$f":"IF(LEFT($H96,5)=\"Barge\",VLOOKUP($A96&O$91,Barge_Rate_Master,MATCH($H96,'Barge Rate Inputs'!$A$4:$AD$4,0),FALSE),IF(LEFT($H96,3)=\"CSX\",VLOOKUP($A96&O$91,CSX_Rate_Master,MATCH($H96,'CSX Rate Inputs'!$A$4:$Z$4,0),FALSE),\"n/a\"))","v":25.33333475530533},{"$f":"IF(LEFT($H96,5)=\"Barge\",VLOOKUP($A96&P$91,Barge_Rate_Master,MATCH($H96,'Barge Rate Inputs'!$A$4:$AD$4,0),FALSE),IF(LEFT($H96,3)=\"CSX\",VLOOKUP($A96&P$91,CSX_Rate_Master,MATCH($H96,'CSX Rate Inputs'!$A$4:$Z$4,0),FALSE),\"n/a\"))","v":25.958843676410492},{"$f":"IF(LEFT($H96,5)=\"Barge\",VLOOKUP($A96&Q$91,Barge_Rate_Master,MATCH($H96,'Barge Rate Inputs'!$A$4:$AD$4,0),FALSE),IF(LEFT($H96,3)=\"CSX\",VLOOKUP($A96&Q$91,CSX_Rate_Master,MATCH($H96,'CSX Rate Inputs'!$A$4:$Z$4,0),FALSE),\"n/a\"))","v":26.60781476832075},{"$f":"IF(LEFT($H96,5)=\"Barge\",VLOOKUP($A96&R$91,Barge_Rate_Master,MATCH($H96,'Barge Rate Inputs'!$A$4:$AD$4,0),FALSE),IF(LEFT($H96,3)=\"CSX\",VLOOKUP($A96&R$91,CSX_Rate_Master,MATCH($H96,'CSX Rate Inputs'!$A$4:$Z$4,0),FALSE),\"n/a\"))","v":27.139971063687167},{"$f":"IF(LEFT($H96,5)=\"Barge\",VLOOKUP($A96&S$91,Barge_Rate_Master,MATCH($H96,'Barge Rate Inputs'!$A$4:$AD$4,0),FALSE),IF(LEFT($H96,3)=\"CSX\",VLOOKUP($A96&S$91,CSX_Rate_Master,MATCH($H96,'CSX Rate Inputs'!$A$4:$Z$4,0),FALSE),\"n/a\"))","v":27.682770484960912},{"$f":"IF(LEFT($H96,5)=\"Barge\",VLOOKUP($A96&T$91,Barge_Rate_Master,MATCH($H96,'Barge Rate Inputs'!$A$4:$AD$4,0),FALSE),IF(LEFT($H96,3)=\"CSX\",VLOOKUP($A96&T$91,CSX_Rate_Master,MATCH($H96,'CSX Rate Inputs'!$A$4:$Z$4,0),FALSE),\"n/a\"))","v":28.23642589466013},{"$f":"IF(LEFT($H96,5)=\"Barge\",VLOOKUP($A96&U$91,Barge_Rate_Master,MATCH($H96,'Barge Rate Inputs'!$A$4:$AD$4,0),FALSE),IF(LEFT($H96,3)=\"CSX\",VLOOKUP($A96&U$91,CSX_Rate_Master,MATCH($H96,'CSX Rate Inputs'!$A$4:$Z$4,0),FALSE),\"n/a\"))","v":28.801154412553334},{"$f":"IF(LEFT($H96,5)=\"Barge\",VLOOKUP($A96&V$91,Barge_Rate_Master,MATCH($H96,'Barge Rate Inputs'!$A$4:$AD$4,0),FALSE),IF(LEFT($H96,3)=\"CSX\",VLOOKUP($A96&V$91,CSX_Rate_Master,MATCH($H96,'CSX Rate Inputs'!$A$4:$Z$4,0),FALSE),\"n/a\"))","v":29.3771775008044},{"$f":"IF(LEFT($H96,5)=\"Barge\",VLOOKUP($A96&W$91,Barge_Rate_Master,MATCH($H96,'Barge Rate Inputs'!$A$4:$AD$4,0),FALSE),IF(LEFT($H96,3)=\"CSX\",VLOOKUP($A96&W$91,CSX_Rate_Master,MATCH($H96,'CSX Rate Inputs'!$A$4:$Z$4,0),FALSE),\"n/a\"))","v":29.96472105082049},{"$f":"IF(LEFT($H96,5)=\"Barge\",VLOOKUP($A96&X$91,Barge_Rate_Master,MATCH($H96,'Barge Rate Inputs'!$A$4:$AD$4,0),FALSE),IF(LEFT($H96,3)=\"CSX\",VLOOKUP($A96&X$91,CSX_Rate_Master,MATCH($H96,'CSX Rate Inputs'!$A$4:$Z$4,0),FALSE),\"n/a\"))","v":30.5640154718369},{"$f":"IF(LEFT($H96,5)=\"Barge\",VLOOKUP($A96&Y$91,Barge_Rate_Master,MATCH($H96,'Barge Rate Inputs'!$A$4:$AD$4,0),FALSE),IF(LEFT($H96,3)=\"CSX\",VLOOKUP($A96&Y$91,CSX_Rate_Master,MATCH($H96,'CSX Rate Inputs'!$A$4:$Z$4,0),FALSE),\"n/a\"))","v":31.17529578127364},{"$f":"IF(LEFT($H96,5)=\"Barge\",VLOOKUP($A96&Z$91,Barge_Rate_Master,MATCH($H96,'Barge Rate Inputs'!$A$4:$AD$4,0),FALSE),IF(LEFT($H96,3)=\"CSX\",VLOOKUP($A96&Z$91,CSX_Rate_Master,MATCH($H96,'CSX Rate Inputs'!$A$4:$Z$4,0),FALSE),\"n/a\"))","v":31.798801696899112},{"$f":"IF(LEFT($H96,5)=\"Barge\",VLOOKUP($A96&AA$91,Barge_Rate_Master,MATCH($H96,'Barge Rate Inputs'!$A$4:$AD$4,0),FALSE),IF(LEFT($H96,3)=\"CSX\",VLOOKUP($A96&AA$91,CSX_Rate_Master,MATCH($H96,'CSX Rate Inputs'!$A$4:$Z$4,0),FALSE),\"n/a\"))","v":32.434777730837098},{"$f":"IF(LEFT($H96,5)=\"Barge\",VLOOKUP($A96&AB$91,Barge_Rate_Master,MATCH($H96,'Barge Rate Inputs'!$A$4:$AD$4,0),FALSE),IF(LEFT($H96,3)=\"CSX\",VLOOKUP($A96&AB$91,CSX_Rate_Master,MATCH($H96,'CSX Rate Inputs'!$A$4:$Z$4,0),FALSE),\"n/a\"))","v":33.083473285453842},{"$f":"IF(LEFT($H96,5)=\"Barge\",VLOOKUP($A96&AC$91,Barge_Rate_Master,MATCH($H96,'Barge Rate Inputs'!$A$4:$AD$4,0),FALSE),IF(LEFT($H96,3)=\"CSX\",VLOOKUP($A96&AC$91,CSX_Rate_Master,MATCH($H96,'CSX Rate Inputs'!$A$4:$Z$4,0),FALSE),\"n/a\"))","v":33.745142751162916},{"$f":"IF(LEFT($H96,5)=\"Barge\",VLOOKUP($A96&AD$91,Barge_Rate_Master,MATCH($H96,'Barge Rate Inputs'!$A$4:$AD$4,0),FALSE),IF(LEFT($H96,3)=\"CSX\",VLOOKUP($A96&AD$91,CSX_Rate_Master,MATCH($H96,'CSX Rate Inputs'!$A$4:$Z$4,0),FALSE),\"n/a\"))","v":34.420045606186179},{"$f":"IF(LEFT($H96,5)=\"Barge\",VLOOKUP($A96&AE$91,Barge_Rate_Master,MATCH($H96,'Barge Rate Inputs'!$A$4:$AD$4,0),FALSE),IF(LEFT($H96,3)=\"CSX\",VLOOKUP($A96&AE$91,CSX_Rate_Master,MATCH($H96,'CSX Rate Inputs'!$A$4:$Z$4,0),FALSE),\"n/a\"))","v":35.108446518309904},{"$f":"IF(LEFT($H96,5)=\"Barge\",VLOOKUP($A96&AF$91,Barge_Rate_Master,MATCH($H96,'Barge Rate Inputs'!$A$4:$AD$4,0),FALSE),IF(LEFT($H96,3)=\"CSX\",VLOOKUP($A96&AF$91,CSX_Rate_Master,MATCH($H96,'CSX Rate Inputs'!$A$4:$Z$4,0),FALSE),\"n/a\"))","v":35.810615448676103},{"$f":"IF(LEFT($H96,5)=\"Barge\",VLOOKUP($A96&AG$91,Barge_Rate_Master,MATCH($H96,'Barge Rate Inputs'!$A$4:$AD$4,0),FALSE),IF(LEFT($H96,3)=\"CSX\",VLOOKUP($A96&AG$91,CSX_Rate_Master,MATCH($H96,'CSX Rate Inputs'!$A$4:$Z$4,0),FALSE),\"n/a\"))","v":36.526827757649627},{"$f":"IF(LEFT($H96,5)=\"Barge\",VLOOKUP($A96&AH$91,Barge_Rate_Master,MATCH($H96,'Barge Rate Inputs'!$A$4:$AD$4,0),FALSE),IF(LEFT($H96,3)=\"CSX\",VLOOKUP($A96&AH$91,CSX_Rate_Master,MATCH($H96,'CSX Rate Inputs'!$A$4:$Z$4,0),FALSE),\"n/a\"))","v":37.257364312802622},{"$f":"IF(LEFT($H96,5)=\"Barge\",VLOOKUP($A96&AI$91,Barge_Rate_Master,MATCH($H96,'Barge Rate Inputs'!$A$4:$AD$4,0),FALSE),IF(LEFT($H96,3)=\"CSX\",VLOOKUP($A96&AI$91,CSX_Rate_Master,MATCH($H96,'CSX Rate Inputs'!$A$4:$Z$4,0),FALSE),\"n/a\"))","v":38.002511599058678},{"$f":"IF(LEFT($H96,5)=\"Barge\",VLOOKUP($A96&AJ$91,Barge_Rate_Master,MATCH($H96,'Barge Rate Inputs'!$A$4:$AD$4,0),FALSE),IF(LEFT($H96,3)=\"CSX\",VLOOKUP($A96&AJ$91,CSX_Rate_Master,MATCH($H96,'CSX Rate Inputs'!$A$4:$Z$4,0),FALSE),\"n/a\"))","v":38.762561831039854},{"$f":"IF(LEFT($H96,5)=\"Barge\",VLOOKUP($A96&AK$91,Barge_Rate_Master,MATCH($H96,'Barge Rate Inputs'!$A$4:$AD$4,0),FALSE),IF(LEFT($H96,3)=\"CSX\",VLOOKUP($A96&AK$91,CSX_Rate_Master,MATCH($H96,'CSX Rate Inputs'!$A$4:$Z$4,0),FALSE),\"n/a\"))","v":39.53781306766065},{"$f":"IF(LEFT($H96,5)=\"Barge\",VLOOKUP($A96&AL$91,Barge_Rate_Master,MATCH($H96,'Barge Rate Inputs'!$A$4:$AD$4,0),FALSE),IF(LEFT($H96,3)=\"CSX\",VLOOKUP($A96&AL$91,CSX_Rate_Master,MATCH($H96,'CSX Rate Inputs'!$A$4:$Z$4,0),FALSE),\"n/a\"))","v":40.328569329013867},{"$f":"IF(LEFT($H96,5)=\"Barge\",VLOOKUP($A96&AM$91,Barge_Rate_Master,MATCH($H96,'Barge Rate Inputs'!$A$4:$AD$4,0),FALSE),IF(LEFT($H96,3)=\"CSX\",VLOOKUP($A96&AM$91,CSX_Rate_Master,MATCH($H96,'CSX Rate Inputs'!$A$4:$Z$4,0),FALSE),\"n/a\"))","v":41.135140715594147},{"$f":"IF(LEFT($H96,5)=\"Barge\",VLOOKUP($A96&AN$91,Barge_Rate_Master,MATCH($H96,'Barge Rate Inputs'!$A$4:$AD$4,0),FALSE),IF(LEFT($H96,3)=\"CSX\",VLOOKUP($A96&AN$91,CSX_Rate_Master,MATCH($H96,'CSX Rate Inputs'!$A$4:$Z$4,0),FALSE),\"n/a\"))","v":41.957843529906029},{"$f":"IF(LEFT($H96,5)=\"Barge\",VLOOKUP($A96&AO$91,Barge_Rate_Master,MATCH($H96,'Barge Rate Inputs'!$A$4:$AD$4,0),FALSE),IF(LEFT($H96,3)=\"CSX\",VLOOKUP($A96&AO$91,CSX_Rate_Master,MATCH($H96,'CSX Rate Inputs'!$A$4:$Z$4,0),FALSE),\"n/a\"))","v":42.797000400504153}]
["Crystal River 4&5 ","ILB","Illinois","Barge",11500,{"$f":"F77","v":5},{"$f":"G77","v":10},"Barge ILB OH River",null,{"$f":"IF(LEFT($H97,5)=\"Barge\",VLOOKUP($A97&J$91,Barge_Rate_Master,MATCH($H97,'Barge Rate Inputs'!$A$4:$AD$4,0),FALSE),IF(LEFT($H97,3)=\"CSX\",VLOOKUP($A97&J$91,CSX_Rate_Master,MATCH($H97,'CSX Rate Inputs'!$A$4:$Z$4,0),FALSE),\"n/a\"))","v":12.828751787752974},{"$f":"IF(LEFT($H97,5)=\"Barge\",VLOOKUP($A97&K$91,Barge_Rate_Master,MATCH($H97,'Barge Rate Inputs'!$A$4:$AD$4,0),FALSE),IF(LEFT($H97,3)=\"CSX\",VLOOKUP($A97&K$91,CSX_Rate_Master,MATCH($H97,'CSX Rate Inputs'!$A$4:$Z$4,0),FALSE),\"n/a\"))","v":12.990991704412933},{"$f":"IF(LEFT($H97,5)=\"Barge\",VLOOKUP($A97&L$91,Barge_Rate_Master,MATCH($H97,'Barge Rate Inputs'!$A$4:$AD$4,0),FALSE),IF(LEFT($H97,3)=\"CSX\",VLOOKUP($A97&L$91,CSX_Rate_Master,MATCH($H97,'CSX Rate Inputs'!$A$4:$Z$4,0),FALSE),\"n/a\"))","v":13.096742922390293},{"$f":"IF(LEFT($H97,5)=\"Barge\",VLOOKUP($A97&M$91,Barge_Rate_Master,MATCH($H97,'Barge Rate Inputs'!$A$4:$AD$4,0),FALSE),IF(LEFT($H97,3)=\"CSX\",VLOOKUP($A97&M$91,CSX_Rate_Master,MATCH($H97,'CSX Rate Inputs'!$A$4:$Z$4,0),FALSE),\"n/a\"))","v":13.37040348935902},{"$f":"IF(LEFT($H97,5)=\"Barge\",VLOOKUP($A97&N$91,Barge_Rate_Master,MATCH($H97,'Barge Rate Inputs'!$A$4:$AD$4,0),FALSE),IF(LEFT($H97,3)=\"CSX\",VLOOKUP($A97&N$91,CSX_Rate_Master,MATCH($H97,'CSX Rate Inputs'!$A$4:$Z$4,0),FALSE),\"n/a\"))","v":16.09741677251068},{"$f":"IF(LEFT($H97,5)=\"Barge\",VLOOKUP($A97&O$91,Barge_Rate_Master,MATCH($H97,'Barge Rate Inputs'!$A$4:$AD$4,0),FALSE),IF(LEFT($H97,3)=\"CSX\",VLOOKUP($A97&O$91,CSX_Rate_Master,MATCH($H97,'CSX Rate Inputs'!$A$4:$Z$4,0),FALSE),\"n/a\"))","v":16.440279212607923},{"$f":"IF(LEFT($H97,5)=\"Barge\",VLOOKUP($A97&P$91,Barge_Rate_Master,MATCH($H97,'Barge Rate Inputs'!$A$4:$AD$4,0),FALSE),IF(LEFT($H97,3)=\"CSX\",VLOOKUP($A97&P$91,CSX_Rate_Master,MATCH($H97,'CSX Rate Inputs'!$A$4:$Z$4,0),FALSE),\"n/a\"))","v":22.671001326445033},{"$f":"IF(LEFT($H97,5)=\"Barge\",VLOOKUP($A97&Q$91,Barge_Rate_Master,MATCH($H97,'Barge Rate Inputs'!$A$4:$AD$4,0),FALSE),IF(LEFT($H97,3)=\"CSX\",VLOOKUP($A97&Q$91,CSX_Rate_Master,MATCH($H97,'CSX Rate Inputs'!$A$4:$Z$4,0),FALSE),\"n/a\"))","v":22.99666427446865},{"$f":"IF(LEFT($H97,5)=\"Barge\",VLOOKUP($A97&R$91,Barge_Rate_Master,MATCH($H97,'Barge Rate Inputs'!$A$4:$AD$4,0),FALSE),IF(LEFT($H97,3)=\"CSX\",VLOOKUP($A97&R$91,CSX_Rate_Master,MATCH($H97,'CSX Rate Inputs'!$A$4:$Z$4,0),FALSE),\"n/a\"))","v":23.8488311386227},{"$f":"IF(LEFT($H97,5)=\"Barge\",VLOOKUP($A97&S$91,Barge_Rate_Master,MATCH($H97,'Barge Rate Inputs'!$A$4:$AD$4,0),FALSE),IF(LEFT($H97,3)=\"CSX\",VLOOKUP($A97&S$91,CSX_Rate_Master,MATCH($H97,'CSX Rate Inputs'!$A$4:$Z$4,0),FALSE),\"n/a\"))","v":24.453215005448566},{"$f":"IF(LEFT($H97,5)=\"Barge\",VLOOKUP($A97&T$91,Barge_Rate_Master,MATCH($H97,'Barge Rate Inputs'!$A$4:$AD$4,0),FALSE),IF(LEFT($H97,3)=\"CSX\",VLOOKUP($A97&T$91,CSX_Rate_Master,MATCH($H97,'CSX Rate Inputs'!$A$4:$Z$4,0),FALSE),\"n/a\"))","v":25.071383153204874},{"$f":"IF(LEFT($H97,5)=\"Barge\",VLOOKUP($A97&U$91,Barge_Rate_Master,MATCH($H97,'Barge Rate Inputs'!$A$4:$AD$4,0),FALSE),IF(LEFT($H97,3)=\"CSX\",VLOOKUP($A97&U$91,CSX_Rate_Master,MATCH($H97,'CSX Rate Inputs'!$A$4:$Z$4,0),FALSE),\"n/a\"))","v":25.668254411847666},{"$f":"IF(LEFT($H97,5)=\"Barge\",VLOOKUP($A97&V$91,Barge_Rate_Master,MATCH($H97,'Barge Rate Inputs'!$A$4:$AD$4,0),FALSE),IF(LEFT($H97,3)=\"CSX\",VLOOKUP($A97&V$91,CSX_Rate_Master,MATCH($H97,'CSX Rate Inputs'!$A$4:$Z$4,0),FALSE),\"n/a\"))","v":32.881297586556606},{"$f":"IF(LEFT($H97,5)=\"Barge\",VLOOKUP($A97&W$91,Barge_Rate_Master,MATCH($H97,'Barge Rate Inputs'!$A$4:$AD$4,0),FALSE),IF(LEFT($H97,3)=\"CSX\",VLOOKUP($A97&W$91,CSX_Rate_Master,MATCH($H97,'CSX Rate Inputs'!$A$4:$Z$4,0),FALSE),\"n/a\"))","v":33.601524892688964},{"$f":"IF(LEFT($H97,5)=\"Barge\",VLOOKUP($A97&X$91,Barge_Rate_Master,MATCH($H97,'Barge Rate Inputs'!$A$4:$AD$4,0),FALSE),IF(LEFT($H97,3)=\"CSX\",VLOOKUP($A97&X$91,CSX_Rate_Master,MATCH($H97,'CSX Rate Inputs'!$A$4:$Z$4,0),FALSE),\"n/a\"))","v":34.267822362531149},{"$f":"IF(LEFT($H97,5)=\"Barge\",VLOOKUP($A97&Y$91,Barge_Rate_Master,MATCH($H97,'Barge Rate Inputs'!$A$4:$AD$4,0),FALSE),IF(LEFT($H97,3)=\"CSX\",VLOOKUP($A97&Y$91,CSX_Rate_Master,MATCH($H97,'CSX Rate Inputs'!$A$4:$Z$4,0),FALSE),\"n/a\"))","v":34.947688170316297},{"$f":"IF(LEFT($H97,5)=\"Barge\",VLOOKUP($A97&Z$91,Barge_Rate_Master,MATCH($H97,'Barge Rate Inputs'!$A$4:$AD$4,0),FALSE),IF(LEFT($H97,3)=\"CSX\",VLOOKUP($A97&Z$91,CSX_Rate_Master,MATCH($H97,'CSX Rate Inputs'!$A$4:$Z$4,0),FALSE),\"n/a\"))","v":35.716305832930487},{"$f":"IF(LEFT($H97,5)=\"Barge\",VLOOKUP($A97&AA$91,Barge_Rate_Master,MATCH($H97,'Barge Rate Inputs'!$A$4:$AD$4,0),FALSE),IF(LEFT($H97,3)=\"CSX\",VLOOKUP($A97&AA$91,CSX_Rate_Master,MATCH($H97,'CSX Rate Inputs'!$A$4:$Z$4,0),FALSE),\"n/a\"))","v":36.420548614454695},{"$f":"IF(LEFT($H97,5)=\"Barge\",VLOOKUP($A97&AB$91,Barge_Rate_Master,MATCH($H97,'Barge Rate Inputs'!$A$4:$AD$4,0),FALSE),IF(LEFT($H97,3)=\"CSX\",VLOOKUP($A97&AB$91,CSX_Rate_Master,MATCH($H97,'CSX Rate Inputs'!$A$4:$Z$4,0),FALSE),\"n/a\"))","v":37.147109188359892},{"$f":"IF(LEFT($H97,5)=\"Barge\",VLOOKUP($A97&AC$91,Barge_Rate_Master,MATCH($H97,'Barge Rate Inputs'!$A$4:$AD$4,0),FALSE),IF(LEFT($H97,3)=\"CSX\",VLOOKUP($A97&AC$91,CSX_Rate_Master,MATCH($H97,'CSX Rate Inputs'!$A$4:$Z$4,0),FALSE),\"n/a\"))","v":37.972828608191946},{"$f":"IF(LEFT($H97,5)=\"Barge\",VLOOKUP($A97&AD$91,Barge_Rate_Master,MATCH($H97,'Barge Rate Inputs'!$A$4:$AD$4,0),FALSE),IF(LEFT($H97,3)=\"CSX\",VLOOKUP($A97&AD$91,CSX_Rate_Master,MATCH($H97,'CSX Rate Inputs'!$A$4:$Z$4,0),FALSE),\"n/a\"))","v":38.730541140606888},{"$f":"IF(LEFT($H97,5)=\"Barge\",VLOOKUP($A97&AE$91,Barge_Rate_Master,MATCH($H97,'Barge Rate Inputs'!$A$4:$AD$4,0),FALSE),IF(LEFT($H97,3)=\"CSX\",VLOOKUP($A97&AE$91,CSX_Rate_Master,MATCH($H97,'CSX Rate Inputs'!$A$4:$Z$4,0),FALSE),\"n/a\"))","v":39.504137620169026},{"$f":"IF(LEFT($H97,5)=\"Barge\",VLOOKUP($A97&AF$91,Barge_Rate_Master,MATCH($H97,'Barge Rate Inputs'!$A$4:$AD$4,0),FALSE),IF(LEFT($H97,3)=\"CSX\",VLOOKUP($A97&AF$91,CSX_Rate_Master,MATCH($H97,'CSX Rate Inputs'!$A$4:$Z$4,0),FALSE),\"n/a\"))","v":40.254434910283599},{"$f":"IF(LEFT($H97,5)=\"Barge\",VLOOKUP($A97&AG$91,Barge_Rate_Master,MATCH($H97,'Barge Rate Inputs'!$A$4:$AD$4,0),FALSE),IF(LEFT($H97,3)=\"CSX\",VLOOKUP($A97&AG$91,CSX_Rate_Master,MATCH($H97,'CSX Rate Inputs'!$A$4:$Z$4,0),FALSE),\"n/a\"))","v":41.069684150852289},{"$f":"IF(LEFT($H97,5)=\"Barge\",VLOOKUP($A97&AH$91,Barge_Rate_Master,MATCH($H97,'Barge Rate Inputs'!$A$4:$AD$4,0),FALSE),IF(LEFT($H97,3)=\"CSX\",VLOOKUP($A97&AH$91,CSX_Rate_Master,MATCH($H97,'CSX Rate Inputs'!$A$4:$Z$4,0),FALSE),\"n/a\"))","v":41.903668876610382},{"$f":"IF(LEFT($H97,5)=\"Barge\",VLOOKUP($A97&AI$91,Barge_Rate_Master,MATCH($H97,'Barge Rate Inputs'!$A$4:$AD$4,0),FALSE),IF(LEFT($H97,3)=\"CSX\",VLOOKUP($A97&AI$91,CSX_Rate_Master,MATCH($H97,'CSX Rate Inputs'!$A$4:$Z$4,0),FALSE),\"n/a\"))","v":42.714455256373782},{"$f":"IF(LEFT($H97,5)=\"Barge\",VLOOKUP($A97&AJ$91,Barge_Rate_Master,MATCH($H97,'Barge Rate Inputs'!$A$4:$AD$4,0),FALSE),IF(LEFT($H97,3)=\"CSX\",VLOOKUP($A97&AJ$91,CSX_Rate_Master,MATCH($H97,'CSX Rate Inputs'!$A$4:$Z$4,0),FALSE),\"n/a\"))","v":43.613313209410542},{"$f":"IF(LEFT($H97,5)=\"Barge\",VLOOKUP($A97&AK$91,Barge_Rate_Master,MATCH($H97,'Barge Rate Inputs'!$A$4:$AD$4,0),FALSE),IF(LEFT($H97,3)=\"CSX\",VLOOKUP($A97&AK$91,CSX_Rate_Master,MATCH($H97,'CSX Rate Inputs'!$A$4:$Z$4,0),FALSE),\"n/a\"))","v":44.389279903434385},{"$f":"IF(LEFT($H97,5)=\"Barge\",VLOOKUP($A97&AL$91,Barge_Rate_Master,MATCH($H97,'Barge Rate Inputs'!$A$4:$AD$4,0),FALSE),IF(LEFT($H97,3)=\"CSX\",VLOOKUP($A97&AL$91,CSX_Rate_Master,MATCH($H97,'CSX Rate Inputs'!$A$4:$Z$4,0),FALSE),\"n/a\"))","v":45.319252980348985},{"$f":"IF(LEFT($H97,5)=\"Barge\",VLOOKUP($A97&AM$91,Barge_Rate_Master,MATCH($H97,'Barge Rate Inputs'!$A$4:$AD$4,0),FALSE),IF(LEFT($H97,3)=\"CSX\",VLOOKUP($A97&AM$91,CSX_Rate_Master,MATCH($H97,'CSX Rate Inputs'!$A$4:$Z$4,0),FALSE),\"n/a\"))","v":46.266741467985469},{"$f":"IF(LEFT($H97,5)=\"Barge\",VLOOKUP($A97&AN$91,Barge_Rate_Master,MATCH($H97,'Barge Rate Inputs'!$A$4:$AD$4,0),FALSE),IF(LEFT($H97,3)=\"CSX\",VLOOKUP($A97&AN$91,CSX_Rate_Master,MATCH($H97,'CSX Rate Inputs'!$A$4:$Z$4,0),FALSE),\"n/a\"))","v":47.083926462737203},{"$f":"IF(LEFT($H97,5)=\"Barge\",VLOOKUP($A97&AO$91,Barge_Rate_Master,MATCH($H97,'Barge Rate Inputs'!$A$4:$AD$4,0),FALSE),IF(LEFT($H97,3)=\"CSX\",VLOOKUP($A97&AO$91,CSX_Rate_Master,MATCH($H97,'CSX Rate Inputs'!$A$4:$Z$4,0),FALSE),\"n/a\"))","v":48.067082713989159}]
["Crystal River 4&5 ","ILB","Illinois","Rail",11500,{"$f":"F78","v":5},{"$f":"G78","v":10},"CSX Sullivan",null,{"$f":"IF(LEFT($H98,5)=\"Barge\",VLOOKUP($A98&J$91,Barge_Rate_Master,MATCH($H98,'Barge Rate Inputs'!$A$4:$AD$4,0),FALSE),IF(LEFT($H98,3)=\"CSX\",VLOOKUP($A98&J$91,CSX_Rate_Master,MATCH($H98,'CSX Rate Inputs'!$A$4:$Z$4,0),FALSE),\"n/a\"))","v":20.399999999999999},{"$f":"IF(LEFT($H98,5)=\"Barge\",VLOOKUP($A98&K$91,Barge_Rate_Master,MATCH($H98,'Barge Rate Inputs'!$A$4:$AD$4,0),FALSE),IF(LEFT($H98,3)=\"CSX\",VLOOKUP($A98&K$91,CSX_Rate_Master,MATCH($H98,'CSX Rate Inputs'!$A$4:$Z$4,0),FALSE),\"n/a\"))","v":21.882212694582456},{"$f":"IF(LEFT($H98,5)=\"Barge\",VLOOKUP($A98&L$91,Barge_Rate_Master,MATCH($H98,'Barge Rate Inputs'!$A$4:$AD$4,0),FALSE),IF(LEFT($H98,3)=\"CSX\",VLOOKUP($A98&L$91,CSX_Rate_Master,MATCH($H98,'CSX Rate Inputs'!$A$4:$Z$4,0),FALSE),\"n/a\"))","v":22.42918469276103},{"$f":"IF(LEFT($H98,5)=\"Barge\",VLOOKUP($A98&M$91,Barge_Rate_Master,MATCH($H98,'Barge Rate Inputs'!$A$4:$AD$4,0),FALSE),IF(LEFT($H98,3)=\"CSX\",VLOOKUP($A98&M$91,CSX_Rate_Master,MATCH($H98,'CSX Rate Inputs'!$A$4:$Z$4,0),FALSE),\"n/a\"))","v":22.936015059333439},{"$f":"IF(LEFT($H98,5)=\"Barge\",VLOOKUP($A98&N$91,Barge_Rate_Master,MATCH($H98,'Barge Rate Inputs'!$A$4:$AD$4,0),FALSE),IF(LEFT($H98,3)=\"CSX\",VLOOKUP($A98&N$91,CSX_Rate_Master,MATCH($H98,'CSX Rate Inputs'!$A$4:$Z$4,0),FALSE),\"n/a\"))","v":23.499963972163989},{"$f":"IF(LEFT($H98,5)=\"Barge\",VLOOKUP($A98&O$91,Barge_Rate_Master,MATCH($H98,'Barge Rate Inputs'!$A$4:$AD$4,0),FALSE),IF(LEFT($H98,3)=\"CSX\",VLOOKUP($A98&O$91,CSX_Rate_Master,MATCH($H98,'CSX Rate Inputs'!$A$4:$Z$4,0),FALSE),\"n/a\"))","v":24.087765062983319},{"$f":"IF(LEFT($H98,5)=\"Barge\",VLOOKUP($A98&P$91,Barge_Rate_Master,MATCH($H98,'Barge Rate Inputs'!$A$4:$AD$4,0),FALSE),IF(LEFT($H98,3)=\"CSX\",VLOOKUP($A98&P$91,CSX_Rate_Master,MATCH($H98,'CSX Rate Inputs'!$A$4:$Z$4,0),FALSE),\"n/a\"))","v":24.677347811056269},{"$f":"IF(LEFT($H98,5)=\"Barge\",VLOOKUP($A98&Q$91,Barge_Rate_Master,MATCH($H98,'Barge Rate Inputs'!$A$4:$AD$4,0),FALSE),IF(LEFT($H98,3)=\"CSX\",VLOOKUP($A98&Q$91,CSX_Rate_Master,MATCH($H98,'CSX Rate Inputs'!$A$4:$Z$4,0),FALSE),\"n/a\"))","v":25.294281506332673},{"$f":"IF(LEFT($H98,5)=\"Barge\",VLOOKUP($A98&R$91,Barge_Rate_Master,MATCH($H98,'Barge Rate Inputs'!$A$4:$AD$4,0),FALSE),IF(LEFT($H98,3)=\"CSX\",VLOOKUP($A98&R$91,CSX_Rate_Master,MATCH($H98,'CSX Rate Inputs'!$A$4:$Z$4,0),FALSE),\"n/a\"))","v":25.800167136459329},{"$f":"IF(LEFT($H98,5)=\"Barge\",VLOOKUP($A98&S$91,Barge_Rate_Master,MATCH($H98,'Barge Rate Inputs'!$A$4:$AD$4,0),FALSE),IF(LEFT($H98,3)=\"CSX\",VLOOKUP($A98&S$91,CSX_Rate_Master,MATCH($H98,'CSX Rate Inputs'!$A$4:$Z$4,0),FALSE),\"n/a\"))","v":26.316170479188514},{"$f":"IF(LEFT($H98,5)=\"Barge\",VLOOKUP($A98&T$91,Barge_Rate_Master,MATCH($H98,'Barge Rate Inputs'!$A$4:$AD$4,0),FALSE),IF(LEFT($H98,3)=\"CSX\",VLOOKUP($A98&T$91,CSX_Rate_Master,MATCH($H98,'CSX Rate Inputs'!$A$4:$Z$4,0),FALSE),\"n/a\"))","v":26.842493888772282},{"$f":"IF(LEFT($H98,5)=\"Barge\",VLOOKUP($A98&U$91,Barge_Rate_Master,MATCH($H98,'Barge Rate Inputs'!$A$4:$AD$4,0),FALSE),IF(LEFT($H98,3)=\"CSX\",VLOOKUP($A98&U$91,CSX_Rate_Master,MATCH($H98,'CSX Rate Inputs'!$A$4:$Z$4,0),FALSE),\"n/a\"))","v":27.379343766547731},{"$f":"IF(LEFT($H98,5)=\"Barge\",VLOOKUP($A98&V$91,Barge_Rate_Master,MATCH($H98,'Barge Rate Inputs'!$A$4:$AD$4,0),FALSE),IF(LEFT($H98,3)=\"CSX\",VLOOKUP($A98&V$91,CSX_Rate_Master,MATCH($H98,'CSX Rate Inputs'!$A$4:$Z$4,0),FALSE),\"n/a\"))","v":27.92693064187868},{"$f":"IF(LEFT($H98,5)=\"Barge\",VLOOKUP($A98&W$91,Barge_Rate_Master,MATCH($H98,'Barge Rate Inputs'!$A$4:$AD$4,0),FALSE),IF(LEFT($H98,3)=\"CSX\",VLOOKUP($A98&W$91,CSX_Rate_Master,MATCH($H98,'CSX Rate Inputs'!$A$4:$Z$4,0),FALSE),\"n/a\"))","v":28.485469254716257},{"$f":"IF(LEFT($H98,5)=\"Barge\",VLOOKUP($A98&X$91,Barge_Rate_Master,MATCH($H98,'Barge Rate Inputs'!$A$4:$AD$4,0),FALSE),IF(LEFT($H98,3)=\"CSX\",VLOOKUP($A98&X$91,CSX_Rate_Master,MATCH($H98,'CSX Rate Inputs'!$A$4:$Z$4,0),FALSE),\"n/a\"))","v":29.055178639810585},{"$f":"IF(LEFT($H98,5)=\"Barge\",VLOOKUP($A98&Y$91,Barge_Rate_Master,MATCH($H98,'Barge Rate Inputs'!$A$4:$AD$4,0),FALSE),IF(LEFT($H98,3)=\"CSX\",VLOOKUP($A98&Y$91,CSX_Rate_Master,MATCH($H98,'CSX Rate Inputs'!$A$4:$Z$4,0),FALSE),\"n/a\"))","v":29.636282212606794},{"$f":"IF(LEFT($H98,5)=\"Barge\",VLOOKUP($A98&Z$91,Barge_Rate_Master,MATCH($H98,'Barge Rate Inputs'!$A$4:$AD$4,0),FALSE),IF(LEFT($H98,3)=\"CSX\",VLOOKUP($A98&Z$91,CSX_Rate_Master,MATCH($H98,'CSX Rate Inputs'!$A$4:$Z$4,0),FALSE),\"n/a\"))","v":30.229007856858935},{"$f":"IF(LEFT($H98,5)=\"Barge\",VLOOKUP($A98&AA$91,Barge_Rate_Master,MATCH($H98,'Barge Rate Inputs'!$A$4:$AD$4,0),FALSE),IF(LEFT($H98,3)=\"CSX\",VLOOKUP($A98&AA$91,CSX_Rate_Master,MATCH($H98,'CSX Rate Inputs'!$A$4:$Z$4,0),FALSE),\"n/a\"))","v":30.833588013996113},{"$f":"IF(LEFT($H98,5)=\"Barge\",VLOOKUP($A98&AB$91,Barge_Rate_Master,MATCH($H98,'Barge Rate Inputs'!$A$4:$AD$4,0),FALSE),IF(LEFT($H98,3)=\"CSX\",VLOOKUP($A98&AB$91,CSX_Rate_Master,MATCH($H98,'CSX Rate Inputs'!$A$4:$Z$4,0),FALSE),\"n/a\"))","v":31.450259774276038},{"$f":"IF(LEFT($H98,5)=\"Barge\",VLOOKUP($A98&AC$91,Barge_Rate_Master,MATCH($H98,'Barge Rate Inputs'!$A$4:$AD$4,0),FALSE),IF(LEFT($H98,3)=\"CSX\",VLOOKUP($A98&AC$91,CSX_Rate_Master,MATCH($H98,'CSX Rate Inputs'!$A$4:$Z$4,0),FALSE),\"n/a\"))","v":32.079264969761553},{"$f":"IF(LEFT($H98,5)=\"Barge\",VLOOKUP($A98&AD$91,Barge_Rate_Master,MATCH($H98,'Barge Rate Inputs'!$A$4:$AD$4,0),FALSE),IF(LEFT($H98,3)=\"CSX\",VLOOKUP($A98&AD$91,CSX_Rate_Master,MATCH($H98,'CSX Rate Inputs'!$A$4:$Z$4,0),FALSE),\"n/a\"))","v":32.720850269156792},{"$f":"IF(LEFT($H98,5)=\"Barge\",VLOOKUP($A98&AE$91,Barge_Rate_Master,MATCH($H98,'Barge Rate Inputs'!$A$4:$AD$4,0),FALSE),IF(LEFT($H98,3)=\"CSX\",VLOOKUP($A98&AE$91,CSX_Rate_Master,MATCH($H98,'CSX Rate Inputs'!$A$4:$Z$4,0),FALSE),\"n/a\"))","v":33.375267274539929},{"$f":"IF(LEFT($H98,5)=\"Barge\",VLOOKUP($A98&AF$91,Barge_Rate_Master,MATCH($H98,'Barge Rate Inputs'!$A$4:$AD$4,0),FALSE),IF(LEFT($H98,3)=\"CSX\",VLOOKUP($A98&AF$91,CSX_Rate_Master,MATCH($H98,'CSX Rate Inputs'!$A$4:$Z$4,0),FALSE),\"n/a\"))","v":34.042772620030725},{"$f":"IF(LEFT($H98,5)=\"Barge\",VLOOKUP($A98&AG$91,Barge_Rate_Master,MATCH($H98,'Barge Rate Inputs'!$A$4:$AD$4,0),FALSE),IF(LEFT($H98,3)=\"CSX\",VLOOKUP($A98&AG$91,CSX_Rate_Master,MATCH($H98,'CSX Rate Inputs'!$A$4:$Z$4,0),FALSE),\"n/a\"))","v":34.723628072431339},{"$f":"IF(LEFT($H98,5)=\"Barge\",VLOOKUP($A98&AH$91,Barge_Rate_Master,MATCH($H98,'Barge Rate Inputs'!$A$4:$AD$4,0),FALSE),IF(LEFT($H98,3)=\"CSX\",VLOOKUP($A98&AH$91,CSX_Rate_Master,MATCH($H98,'CSX Rate Inputs'!$A$4:$Z$4,0),FALSE),\"n/a\"))","v":35.418100633879973},{"$f":"IF(LEFT($H98,5)=\"Barge\",VLOOKUP($A98&AI$91,Barge_Rate_Master,MATCH($H98,'Barge Rate Inputs'!$A$4:$AD$4,0),FALSE),IF(LEFT($H98,3)=\"CSX\",VLOOKUP($A98&AI$91,CSX_Rate_Master,MATCH($H98,'CSX Rate Inputs'!$A$4:$Z$4,0),FALSE),\"n/a\"))","v":36.126462646557563},{"$f":"IF(LEFT($H98,5)=\"Barge\",VLOOKUP($A98&AJ$91,Barge_Rate_Master,MATCH($H98,'Barge Rate Inputs'!$A$4:$AD$4,0),FALSE),IF(LEFT($H98,3)=\"CSX\",VLOOKUP($A98&AJ$91,CSX_Rate_Master,MATCH($H98,'CSX Rate Inputs'!$A$4:$Z$4,0),FALSE),\"n/a\"))","v":36.848991899488723},{"$f":"IF(LEFT($H98,5)=\"Barge\",VLOOKUP($A98&AK$91,Barge_Rate_Master,MATCH($H98,'Barge Rate Inputs'!$A$4:$AD$4,0),FALSE),IF(LEFT($H98,3)=\"CSX\",VLOOKUP($A98&AK$91,CSX_Rate_Master,MATCH($H98,'CSX Rate Inputs'!$A$4:$Z$4,0),FALSE),\"n/a\"))","v":37.585971737478495},{"$f":"IF(LEFT($H98,5)=\"Barge\",VLOOKUP($A98&AL$91,Barge_Rate_Master,MATCH($H98,'Barge Rate Inputs'!$A$4:$AD$4,0),FALSE),IF(LEFT($H98,3)=\"CSX\",VLOOKUP($A98&AL$91,CSX_Rate_Master,MATCH($H98,'CSX Rate Inputs'!$A$4:$Z$4,0),FALSE),\"n/a\"))","v":38.33769117222807},{"$f":"IF(LEFT($H98,5)=\"Barge\",VLOOKUP($A98&AM$91,Barge_Rate_Master,MATCH($H98,'Barge Rate Inputs'!$A$4:$AD$4,0),FALSE),IF(LEFT($H98,3)=\"CSX\",VLOOKUP($A98&AM$91,CSX_Rate_Master,MATCH($H98,'CSX Rate Inputs'!$A$4:$Z$4,0),FALSE),\"n/a\"))","v":39.10444499567263},{"$f":"IF(LEFT($H98,5)=\"Barge\",VLOOKUP($A98&AN$91,Barge_Rate_Master,MATCH($H98,'Barge Rate Inputs'!$A$4:$AD$4,0),FALSE),IF(LEFT($H98,3)=\"CSX\",VLOOKUP($A98&AN$91,CSX_Rate_Master,MATCH($H98,'CSX Rate Inputs'!$A$4:$Z$4,0),FALSE),\"n/a\"))","v":39.886533895586084},{"$f":"IF(LEFT($H98,5)=\"Barge\",VLOOKUP($A98&AO$91,Barge_Rate_Master,MATCH($H98,'Barge Rate Inputs'!$A$4:$AD$4,0),FALSE),IF(LEFT($H98,3)=\"CSX\",VLOOKUP($A98&AO$91,CSX_Rate_Master,MATCH($H98,'CSX Rate Inputs'!$A$4:$Z$4,0),FALSE),\"n/a\"))","v":40.684264573497806}]
["Crystal River 4&5 ",{"$f":"B79","v":"ILB"},"Illinois","Barge",11000,6,10,"Barge ILB OH River",null,{"$f":"IF(LEFT($H99,5)=\"Barge\",VLOOKUP($A99&J$91,Barge_Rate_Master,MATCH($H99,'Barge Rate Inputs'!$A$4:$AD$4,0),FALSE),IF(LEFT($H99,3)=\"CSX\",VLOOKUP($A99&J$91,CSX_Rate_Master,MATCH($H99,'CSX Rate Inputs'!$A$4:$Z$4,0),FALSE),\"n/a\"))","v":12.828751787752974},{"$f":"IF(LEFT($H99,5)=\"Barge\",VLOOKUP($A99&K$91,Barge_Rate_Master,MATCH($H99,'Barge Rate Inputs'!$A$4:$AD$4,0),FALSE),IF(LEFT($H99,3)=\"CSX\",VLOOKUP($A99&K$91,CSX_Rate_Master,MATCH($H99,'CSX Rate Inputs'!$A$4:$Z$4,0),FALSE),\"n/a\"))","v":12.990991704412933},{"$f":"IF(LEFT($H99,5)=\"Barge\",VLOOKUP($A99&L$91,Barge_Rate_Master,MATCH($H99,'Barge Rate Inputs'!$A$4:$AD$4,0),FALSE),IF(LEFT($H99,3)=\"CSX\",VLOOKUP($A99&L$91,CSX_Rate_Master,MATCH($H99,'CSX Rate Inputs'!$A$4:$Z$4,0),FALSE),\"n/a\"))","v":13.096742922390293},{"$f":"IF(LEFT($H99,5)=\"Barge\",VLOOKUP($A99&M$91,Barge_Rate_Master,MATCH($H99,'Barge Rate Inputs'!$A$4:$AD$4,0),FALSE),IF(LEFT($H99,3)=\"CSX\",VLOOKUP($A99&M$91,CSX_Rate_Master,MATCH($H99,'CSX Rate Inputs'!$A$4:$Z$4,0),FALSE),\"n/a\"))","v":13.37040348935902},{"$f":"IF(LEFT($H99,5)=\"Barge\",VLOOKUP($A99&N$91,Barge_Rate_Master,MATCH($H99,'Barge Rate Inputs'!$A$4:$AD$4,0),FALSE),IF(LEFT($H99,3)=\"CSX\",VLOOKUP($A99&N$91,CSX_Rate_Master,MATCH($H99,'CSX Rate Inputs'!$A$4:$Z$4,0),FALSE),\"n/a\"))","v":16.09741677251068},{"$f":"IF(LEFT($H99,5)=\"Barge\",VLOOKUP($A99&O$91,Barge_Rate_Master,MATCH($H99,'Barge Rate Inputs'!$A$4:$AD$4,0),FALSE),IF(LEFT($H99,3)=\"CSX\",VLOOKUP($A99&O$91,CSX_Rate_Master,MATCH($H99,'CSX Rate Inputs'!$A$4:$Z$4,0),FALSE),\"n/a\"))","v":16.440279212607923},{"$f":"IF(LEFT($H99,5)=\"Barge\",VLOOKUP($A99&P$91,Barge_Rate_Master,MATCH($H99,'Barge Rate Inputs'!$A$4:$AD$4,0),FALSE),IF(LEFT($H99,3)=\"CSX\",VLOOKUP($A99&P$91,CSX_Rate_Master,MATCH($H99,'CSX Rate Inputs'!$A$4:$Z$4,0),FALSE),\"n/a\"))","v":22.671001326445033},{"$f":"IF(LEFT($H99,5)=\"Barge\",VLOOKUP($A99&Q$91,Barge_Rate_Master,MATCH($H99,'Barge Rate Inputs'!$A$4:$AD$4,0),FALSE),IF(LEFT($H99,3)=\"CSX\",VLOOKUP($A99&Q$91,CSX_Rate_Master,MATCH($H99,'CSX Rate Inputs'!$A$4:$Z$4,0),FALSE),\"n/a\"))","v":22.99666427446865},{"$f":"IF(LEFT($H99,5)=\"Barge\",VLOOKUP($A99&R$91,Barge_Rate_Master,MATCH($H99,'Barge Rate Inputs'!$A$4:$AD$4,0),FALSE),IF(LEFT($H99,3)=\"CSX\",VLOOKUP($A99&R$91,CSX_Rate_Master,MATCH($H99,'CSX Rate Inputs'!$A$4:$Z$4,0),FALSE),\"n/a\"))","v":23.8488311386227},{"$f":"IF(LEFT($H99,5)=\"Barge\",VLOOKUP($A99&S$91,Barge_Rate_Master,MATCH($H99,'Barge Rate Inputs'!$A$4:$AD$4,0),FALSE),IF(LEFT($H99,3)=\"CSX\",VLOOKUP($A99&S$91,CSX_Rate_Master,MATCH($H99,'CSX Rate Inputs'!$A$4:$Z$4,0),FALSE),\"n/a\"))","v":24.453215005448566},{"$f":"IF(LEFT($H99,5)=\"Barge\",VLOOKUP($A99&T$91,Barge_Rate_Master,MATCH($H99,'Barge Rate Inputs'!$A$4:$AD$4,0),FALSE),IF(LEFT($H99,3)=\"CSX\",VLOOKUP($A99&T$91,CSX_Rate_Master,MATCH($H99,'CSX Rate Inputs'!$A$4:$Z$4,0),FALSE),\"n/a\"))","v":25.071383153204874},{"$f":"IF(LEFT($H99,5)=\"Barge\",VLOOKUP($A99&U$91,Barge_Rate_Master,MATCH($H99,'Barge Rate Inputs'!$A$4:$AD$4,0),FALSE),IF(LEFT($H99,3)=\"CSX\",VLOOKUP($A99&U$91,CSX_Rate_Master,MATCH($H99,'CSX Rate Inputs'!$A$4:$Z$4,0),FALSE),\"n/a\"))","v":25.668254411847666},{"$f":"IF(LEFT($H99,5)=\"Barge\",VLOOKUP($A99&V$91,Barge_Rate_Master,MATCH($H99,'Barge Rate Inputs'!$A$4:$AD$4,0),FALSE),IF(LEFT($H99,3)=\"CSX\",VLOOKUP($A99&V$91,CSX_Rate_Master,MATCH($H99,'CSX Rate Inputs'!$A$4:$Z$4,0),FALSE),\"n/a\"))","v":32.881297586556606},{"$f":"IF(LEFT($H99,5)=\"Barge\",VLOOKUP($A99&W$91,Barge_Rate_Master,MATCH($H99,'Barge Rate Inputs'!$A$4:$AD$4,0),FALSE),IF(LEFT($H99,3)=\"CSX\",VLOOKUP($A99&W$91,CSX_Rate_Master,MATCH($H99,'CSX Rate Inputs'!$A$4:$Z$4,0),FALSE),\"n/a\"))","v":33.601524892688964},{"$f":"IF(LEFT($H99,5)=\"Barge\",VLOOKUP($A99&X$91,Barge_Rate_Master,MATCH($H99,'Barge Rate Inputs'!$A$4:$AD$4,0),FALSE),IF(LEFT($H99,3)=\"CSX\",VLOOKUP($A99&X$91,CSX_Rate_Master,MATCH($H99,'CSX Rate Inputs'!$A$4:$Z$4,0),FALSE),\"n/a\"))","v":34.267822362531149},{"$f":"IF(LEFT($H99,5)=\"Barge\",VLOOKUP($A99&Y$91,Barge_Rate_Master,MATCH($H99,'Barge Rate Inputs'!$A$4:$AD$4,0),FALSE),IF(LEFT($H99,3)=\"CSX\",VLOOKUP($A99&Y$91,CSX_Rate_Master,MATCH($H99,'CSX Rate Inputs'!$A$4:$Z$4,0),FALSE),\"n/a\"))","v":34.947688170316297},{"$f":"IF(LEFT($H99,5)=\"Barge\",VLOOKUP($A99&Z$91,Barge_Rate_Master,MATCH($H99,'Barge Rate Inputs'!$A$4:$AD$4,0),FALSE),IF(LEFT($H99,3)=\"CSX\",VLOOKUP($A99&Z$91,CSX_Rate_Master,MATCH($H99,'CSX Rate Inputs'!$A$4:$Z$4,0),FALSE),\"n/a\"))","v":35.716305832930487},{"$f":"IF(LEFT($H99,5)=\"Barge\",VLOOKUP($A99&AA$91,Barge_Rate_Master,MATCH($H99,'Barge Rate Inputs'!$A$4:$AD$4,0),FALSE),IF(LEFT($H99,3)=\"CSX\",VLOOKUP($A99&AA$91,CSX_Rate_Master,MATCH($H99,'CSX Rate Inputs'!$A$4:$Z$4,0),FALSE),\"n/a\"))","v":36.420548614454695},{"$f":"IF(LEFT($H99,5)=\"Barge\",VLOOKUP($A99&AB$91,Barge_Rate_Master,MATCH($H99,'Barge Rate Inputs'!$A$4:$AD$4,0),FALSE),IF(LEFT($H99,3)=\"CSX\",VLOOKUP($A99&AB$91,CSX_Rate_Master,MATCH($H99,'CSX Rate Inputs'!$A$4:$Z$4,0),FALSE),\"n/a\"))","v":37.147109188359892},{"$f":"IF(LEFT($H99,5)=\"Barge\",VLOOKUP($A99&AC$91,Barge_Rate_Master,MATCH($H99,'Barge Rate Inputs'!$A$4:$AD$4,0),FALSE),IF(LEFT($H99,3)=\"CSX\",VLOOKUP($A99&AC$91,CSX_Rate_Master,MATCH($H99,'CSX Rate Inputs'!$A$4:$Z$4,0),FALSE),\"n/a\"))","v":37.972828608191946},{"$f":"IF(LEFT($H99,5)=\"Barge\",VLOOKUP($A99&AD$91,Barge_Rate_Master,MATCH($H99,'Barge Rate Inputs'!$A$4:$AD$4,0),FALSE),IF(LEFT($H99,3)=\"CSX\",VLOOKUP($A99&AD$91,CSX_Rate_Master,MATCH($H99,'CSX Rate Inputs'!$A$4:$Z$4,0),FALSE),\"n/a\"))","v":38.730541140606888},{"$f":"IF(LEFT($H99,5)=\"Barge\",VLOOKUP($A99&AE$91,Barge_Rate_Master,MATCH($H99,'Barge Rate Inputs'!$A$4:$AD$4,0),FALSE),IF(LEFT($H99,3)=\"CSX\",VLOOKUP($A99&AE$91,CSX_Rate_Master,MATCH($H99,'CSX Rate Inputs'!$A$4:$Z$4,0),FALSE),\"n/a\"))","v":39.504137620169026},{"$f":"IF(LEFT($H99,5)=\"Barge\",VLOOKUP($A99&AF$91,Barge_Rate_Master,MATCH($H99,'Barge Rate Inputs'!$A$4:$AD$4,0),FALSE),IF(LEFT($H99,3)=\"CSX\",VLOOKUP($A99&AF$91,CSX_Rate_Master,MATCH($H99,'CSX Rate Inputs'!$A$4:$Z$4,0),FALSE),\"n/a\"))","v":40.254434910283599},{"$f":"IF(LEFT($H99,5)=\"Barge\",VLOOKUP($A99&AG$91,Barge_Rate_Master,MATCH($H99,'Barge Rate Inputs'!$A$4:$AD$4,0),FALSE),IF(LEFT($H99,3)=\"CSX\",VLOOKUP($A99&AG$91,CSX_Rate_Master,MATCH($H99,'CSX Rate Inputs'!$A$4:$Z$4,0),FALSE),\"n/a\"))","v":41.069684150852289},{"$f":"IF(LEFT($H99,5)=\"Barge\",VLOOKUP($A99&AH$91,Barge_Rate_Master,MATCH($H99,'Barge Rate Inputs'!$A$4:$AD$4,0),FALSE),IF(LEFT($H99,3)=\"CSX\",VLOOKUP($A99&AH$91,CSX_Rate_Master,MATCH($H99,'CSX Rate Inputs'!$A$4:$Z$4,0),FALSE),\"n/a\"))","v":41.903668876610382},{"$f":"IF(LEFT($H99,5)=\"Barge\",VLOOKUP($A99&AI$91,Barge_Rate_Master,MATCH($H99,'Barge Rate Inputs'!$A$4:$AD$4,0),FALSE),IF(LEFT($H99,3)=\"CSX\",VLOOKUP($A99&AI$91,CSX_Rate_Master,MATCH($H99,'CSX Rate Inputs'!$A$4:$Z$4,0),FALSE),\"n/a\"))","v":42.714455256373782},{"$f":"IF(LEFT($H99,5)=\"Barge\",VLOOKUP($A99&AJ$91,Barge_Rate_Master,MATCH($H99,'Barge Rate Inputs'!$A$4:$AD$4,0),FALSE),IF(LEFT($H99,3)=\"CSX\",VLOOKUP($A99&AJ$91,CSX_Rate_Master,MATCH($H99,'CSX Rate Inputs'!$A$4:$Z$4,0),FALSE),\"n/a\"))","v":43.613313209410542},{"$f":"IF(LEFT($H99,5)=\"Barge\",VLOOKUP($A99&AK$91,Barge_Rate_Master,MATCH($H99,'Barge Rate Inputs'!$A$4:$AD$4,0),FALSE),IF(LEFT($H99,3)=\"CSX\",VLOOKUP($A99&AK$91,CSX_Rate_Master,MATCH($H99,'CSX Rate Inputs'!$A$4:$Z$4,0),FALSE),\"n/a\"))","v":44.389279903434385},{"$f":"IF(LEFT($H99,5)=\"Barge\",VLOOKUP($A99&AL$91,Barge_Rate_Master,MATCH($H99,'Barge Rate Inputs'!$A$4:$AD$4,0),FALSE),IF(LEFT($H99,3)=\"CSX\",VLOOKUP($A99&AL$91,CSX_Rate_Master,MATCH($H99,'CSX Rate Inputs'!$A$4:$Z$4,0),FALSE),\"n/a\"))","v":45.319252980348985},{"$f":"IF(LEFT($H99,5)=\"Barge\",VLOOKUP($A99&AM$91,Barge_Rate_Master,MATCH($H99,'Barge Rate Inputs'!$A$4:$AD$4,0),FALSE),IF(LEFT($H99,3)=\"CSX\",VLOOKUP($A99&AM$91,CSX_Rate_Master,MATCH($H99,'CSX Rate Inputs'!$A$4:$Z$4,0),FALSE),\"n/a\"))","v":46.266741467985469},{"$f":"IF(LEFT($H99,5)=\"Barge\",VLOOKUP($A99&AN$91,Barge_Rate_Master,MATCH($H99,'Barge Rate Inputs'!$A$4:$AD$4,0),FALSE),IF(LEFT($H99,3)=\"CSX\",VLOOKUP($A99&AN$91,CSX_Rate_Master,MATCH($H99,'CSX Rate Inputs'!$A$4:$Z$4,0),FALSE),\"n/a\"))","v":47.083926462737203},{"$f":"IF(LEFT($H99,5)=\"Barge\",VLOOKUP($A99&AO$91,Barge_Rate_Master,MATCH($H99,'Barge Rate Inputs'!$A$4:$AD$4,0),FALSE),IF(LEFT($H99,3)=\"CSX\",VLOOKUP($A99&AO$91,CSX_Rate_Master,MATCH($H99,'CSX Rate Inputs'!$A$4:$Z$4,0),FALSE),\"n/a\"))","v":48.067082713989159}]
["Crystal River 4&5 ",{"$f":"B80","v":"ILB"},"Illinois","Rail",11000,6,10,"CSX Sullivan",null,{"$f":"IF(LEFT($H100,5)=\"Barge\",VLOOKUP($A100&J$91,Barge_Rate_Master,MATCH($H100,'Barge Rate Inputs'!$A$4:$AD$4,0),FALSE),IF(LEFT($H100,3)=\"CSX\",VLOOKUP($A100&J$91,CSX_Rate_Master,MATCH($H100,'CSX Rate Inputs'!$A$4:$Z$4,0),FALSE),\"n/a\"))","v":20.399999999999999},{"$f":"IF(LEFT($H100,5)=\"Barge\",VLOOKUP($A100&K$91,Barge_Rate_Master,MATCH($H100,'Barge Rate Inputs'!$A$4:$AD$4,0),FALSE),IF(LEFT($H100,3)=\"CSX\",VLOOKUP($A100&K$91,CSX_Rate_Master,MATCH($H100,'CSX Rate Inputs'!$A$4:$Z$4,0),FALSE),\"n/a\"))","v":21.882212694582456},{"$f":"IF(LEFT($H100,5)=\"Barge\",VLOOKUP($A100&L$91,Barge_Rate_Master,MATCH($H100,'Barge Rate Inputs'!$A$4:$AD$4,0),FALSE),IF(LEFT($H100,3)=\"CSX\",VLOOKUP($A100&L$91,CSX_Rate_Master,MATCH($H100,'CSX Rate Inputs'!$A$4:$Z$4,0),FALSE),\"n/a\"))","v":22.42918469276103},{"$f":"IF(LEFT($H100,5)=\"Barge\",VLOOKUP($A100&M$91,Barge_Rate_Master,MATCH($H100,'Barge Rate Inputs'!$A$4:$AD$4,0),FALSE),IF(LEFT($H100,3)=\"CSX\",VLOOKUP($A100&M$91,CSX_Rate_Master,MATCH($H100,'CSX Rate Inputs'!$A$4:$Z$4,0),FALSE),\"n/a\"))","v":22.936015059333439},{"$f":"IF(LEFT($H100,5)=\"Barge\",VLOOKUP($A100&N$91,Barge_Rate_Master,MATCH($H100,'Barge Rate Inputs'!$A$4:$AD$4,0),FALSE),IF(LEFT($H100,3)=\"CSX\",VLOOKUP($A100&N$91,CSX_Rate_Master,MATCH($H100,'CSX Rate Inputs'!$A$4:$Z$4,0),FALSE),\"n/a\"))","v":23.499963972163989},{"$f":"IF(LEFT($H100,5)=\"Barge\",VLOOKUP($A100&O$91,Barge_Rate_Master,MATCH($H100,'Barge Rate Inputs'!$A$4:$AD$4,0),FALSE),IF(LEFT($H100,3)=\"CSX\",VLOOKUP($A100&O$91,CSX_Rate_Master,MATCH($H100,'CSX Rate Inputs'!$A$4:$Z$4,0),FALSE),\"n/a\"))","v":24.087765062983319},{"$f":"IF(LEFT($H100,5)=\"Barge\",VLOOKUP($A100&P$91,Barge_Rate_Master,MATCH($H100,'Barge Rate Inputs'!$A$4:$AD$4,0),FALSE),IF(LEFT($H100,3)=\"CSX\",VLOOKUP($A100&P$91,CSX_Rate_Master,MATCH($H100,'CSX Rate Inputs'!$A$4:$Z$4,0),FALSE),\"n/a\"))","v":24.677347811056269},{"$f":"IF(LEFT($H100,5)=\"Barge\",VLOOKUP($A100&Q$91,Barge_Rate_Master,MATCH($H100,'Barge Rate Inputs'!$A$4:$AD$4,0),FALSE),IF(LEFT($H100,3)=\"CSX\",VLOOKUP($A100&Q$91,CSX_Rate_Master,MATCH($H100,'CSX Rate Inputs'!$A$4:$Z$4,0),FALSE),\"n/a\"))","v":25.294281506332673},{"$f":"IF(LEFT($H100,5)=\"Barge\",VLOOKUP($A100&R$91,Barge_Rate_Master,MATCH($H100,'Barge Rate Inputs'!$A$4:$AD$4,0),FALSE),IF(LEFT($H100,3)=\"CSX\",VLOOKUP($A100&R$91,CSX_Rate_Master,MATCH($H100,'CSX Rate Inputs'!$A$4:$Z$4,0),FALSE),\"n/a\"))","v":25.800167136459329},{"$f":"IF(LEFT($H100,5)=\"Barge\",VLOOKUP($A100&S$91,Barge_Rate_Master,MATCH($H100,'Barge Rate Inputs'!$A$4:$AD$4,0),FALSE),IF(LEFT($H100,3)=\"CSX\",VLOOKUP($A100&S$91,CSX_Rate_Master,MATCH($H100,'CSX Rate Inputs'!$A$4:$Z$4,0),FALSE),\"n/a\"))","v":26.316170479188514},{"$f":"IF(LEFT($H100,5)=\"Barge\",VLOOKUP($A100&T$91,Barge_Rate_Master,MATCH($H100,'Barge Rate Inputs'!$A$4:$AD$4,0),FALSE),IF(LEFT($H100,3)=\"CSX\",VLOOKUP($A100&T$91,CSX_Rate_Master,MATCH($H100,'CSX Rate Inputs'!$A$4:$Z$4,0),FALSE),\"n/a\"))","v":26.842493888772282},{"$f":"IF(LEFT($H100,5)=\"Barge\",VLOOKUP($A100&U$91,Barge_Rate_Master,MATCH($H100,'Barge Rate Inputs'!$A$4:$AD$4,0),FALSE),IF(LEFT($H100,3)=\"CSX\",VLOOKUP($A100&U$91,CSX_Rate_Master,MATCH($H100,'CSX Rate Inputs'!$A$4:$Z$4,0),FALSE),\"n/a\"))","v":27.379343766547731},{"$f":"IF(LEFT($H100,5)=\"Barge\",VLOOKUP($A100&V$91,Barge_Rate_Master,MATCH($H100,'Barge Rate Inputs'!$A$4:$AD$4,0),FALSE),IF(LEFT($H100,3)=\"CSX\",VLOOKUP($A100&V$91,CSX_Rate_Master,MATCH($H100,'CSX Rate Inputs'!$A$4:$Z$4,0),FALSE),\"n/a\"))","v":27.92693064187868},{"$f":"IF(LEFT($H100,5)=\"Barge\",VLOOKUP($A100&W$91,Barge_Rate_Master,MATCH($H100,'Barge Rate Inputs'!$A$4:$AD$4,0),FALSE),IF(LEFT($H100,3)=\"CSX\",VLOOKUP($A100&W$91,CSX_Rate_Master,MATCH($H100,'CSX Rate Inputs'!$A$4:$Z$4,0),FALSE),\"n/a\"))","v":28.485469254716257},{"$f":"IF(LEFT($H100,5)=\"Barge\",VLOOKUP($A100&X$91,Barge_Rate_Master,MATCH($H100,'Barge Rate Inputs'!$A$4:$AD$4,0),FALSE),IF(LEFT($H100,3)=\"CSX\",VLOOKUP($A100&X$91,CSX_Rate_Master,MATCH($H100,'CSX Rate Inputs'!$A$4:$Z$4,0),FALSE),\"n/a\"))","v":29.055178639810585},{"$f":"IF(LEFT($H100,5)=\"Barge\",VLOOKUP($A100&Y$91,Barge_Rate_Master,MATCH($H100,'Barge Rate Inputs'!$A$4:$AD$4,0),FALSE),IF(LEFT($H100,3)=\"CSX\",VLOOKUP($A100&Y$91,CSX_Rate_Master,MATCH($H100,'CSX Rate Inputs'!$A$4:$Z$4,0),FALSE),\"n/a\"))","v":29.636282212606794},{"$f":"IF(LEFT($H100,5)=\"Barge\",VLOOKUP($A100&Z$91,Barge_Rate_Master,MATCH($H100,'Barge Rate Inputs'!$A$4:$AD$4,0),FALSE),IF(LEFT($H100,3)=\"CSX\",VLOOKUP($A100&Z$91,CSX_Rate_Master,MATCH($H100,'CSX Rate Inputs'!$A$4:$Z$4,0),FALSE),\"n/a\"))","v":30.229007856858935},{"$f":"IF(LEFT($H100,5)=\"Barge\",VLOOKUP($A100&AA$91,Barge_Rate_Master,MATCH($H100,'Barge Rate Inputs'!$A$4:$AD$4,0),FALSE),IF(LEFT($H100,3)=\"CSX\",VLOOKUP($A100&AA$91,CSX_Rate_Master,MATCH($H100,'CSX Rate Inputs'!$A$4:$Z$4,0),FALSE),\"n/a\"))","v":30.833588013996113},{"$f":"IF(LEFT($H100,5)=\"Barge\",VLOOKUP($A100&AB$91,Barge_Rate_Master,MATCH($H100,'Barge Rate Inputs'!$A$4:$AD$4,0),FALSE),IF(LEFT($H100,3)=\"CSX\",VLOOKUP($A100&AB$91,CSX_Rate_Master,MATCH($H100,'CSX Rate Inputs'!$A$4:$Z$4,0),FALSE),\"n/a\"))","v":31.450259774276038},{"$f":"IF(LEFT($H100,5)=\"Barge\",VLOOKUP($A100&AC$91,Barge_Rate_Master,MATCH($H100,'Barge Rate Inputs'!$A$4:$AD$4,0),FALSE),IF(LEFT($H100,3)=\"CSX\",VLOOKUP($A100&AC$91,CSX_Rate_Master,MATCH($H100,'CSX Rate Inputs'!$A$4:$Z$4,0),FALSE),\"n/a\"))","v":32.079264969761553},{"$f":"IF(LEFT($H100,5)=\"Barge\",VLOOKUP($A100&AD$91,Barge_Rate_Master,MATCH($H100,'Barge Rate Inputs'!$A$4:$AD$4,0),FALSE),IF(LEFT($H100,3)=\"CSX\",VLOOKUP($A100&AD$91,CSX_Rate_Master,MATCH($H100,'CSX Rate Inputs'!$A$4:$Z$4,0),FALSE),\"n/a\"))","v":32.720850269156792},{"$f":"IF(LEFT($H100,5)=\"Barge\",VLOOKUP($A100&AE$91,Barge_Rate_Master,MATCH($H100,'Barge Rate Inputs'!$A$4:$AD$4,0),FALSE),IF(LEFT($H100,3)=\"CSX\",VLOOKUP($A100&AE$91,CSX_Rate_Master,MATCH($H100,'CSX Rate Inputs'!$A$4:$Z$4,0),FALSE),\"n/a\"))","v":33.375267274539929},{"$f":"IF(LEFT($H100,5)=\"Barge\",VLOOKUP($A100&AF$91,Barge_Rate_Master,MATCH($H100,'Barge Rate Inputs'!$A$4:$AD$4,0),FALSE),IF(LEFT($H100,3)=\"CSX\",VLOOKUP($A100&AF$91,CSX_Rate_Master,MATCH($H100,'CSX Rate Inputs'!$A$4:$Z$4,0),FALSE),\"n/a\"))","v":34.042772620030725},{"$f":"IF(LEFT($H100,5)=\"Barge\",VLOOKUP($A100&AG$91,Barge_Rate_Master,MATCH($H100,'Barge Rate Inputs'!$A$4:$AD$4,0),FALSE),IF(LEFT($H100,3)=\"CSX\",VLOOKUP($A100&AG$91,CSX_Rate_Master,MATCH($H100,'CSX Rate Inputs'!$A$4:$Z$4,0),FALSE),\"n/a\"))","v":34.723628072431339},{"$f":"IF(LEFT($H100,5)=\"Barge\",VLOOKUP($A100&AH$91,Barge_Rate_Master,MATCH($H100,'Barge Rate Inputs'!$A$4:$AD$4,0),FALSE),IF(LEFT($H100,3)=\"CSX\",VLOOKUP($A100&AH$91,CSX_Rate_Master,MATCH($H100,'CSX Rate Inputs'!$A$4:$Z$4,0),FALSE),\"n/a\"))","v":35.418100633879973},{"$f":"IF(LEFT($H100,5)=\"Barge\",VLOOKUP($A100&AI$91,Barge_Rate_Master,MATCH($H100,'Barge Rate Inputs'!$A$4:$AD$4,0),FALSE),IF(LEFT($H100,3)=\"CSX\",VLOOKUP($A100&AI$91,CSX_Rate_Master,MATCH($H100,'CSX Rate Inputs'!$A$4:$Z$4,0),FALSE),\"n/a\"))","v":36.126462646557563},{"$f":"IF(LEFT($H100,5)=\"Barge\",VLOOKUP($A100&AJ$91,Barge_Rate_Master,MATCH($H100,'Barge Rate Inputs'!$A$4:$AD$4,0),FALSE),IF(LEFT($H100,3)=\"CSX\",VLOOKUP($A100&AJ$91,CSX_Rate_Master,MATCH($H100,'CSX Rate Inputs'!$A$4:$Z$4,0),FALSE),\"n/a\"))","v":36.848991899488723},{"$f":"IF(LEFT($H100,5)=\"Barge\",VLOOKUP($A100&AK$91,Barge_Rate_Master,MATCH($H100,'Barge Rate Inputs'!$A$4:$AD$4,0),FALSE),IF(LEFT($H100,3)=\"CSX\",VLOOKUP($A100&AK$91,CSX_Rate_Master,MATCH($H100,'CSX Rate Inputs'!$A$4:$Z$4,0),FALSE),\"n/a\"))","v":37.585971737478495},{"$f":"IF(LEFT($H100,5)=\"Barge\",VLOOKUP($A100&AL$91,Barge_Rate_Master,MATCH($H100,'Barge Rate Inputs'!$A$4:$AD$4,0),FALSE),IF(LEFT($H100,3)=\"CSX\",VLOOKUP($A100&AL$91,CSX_Rate_Master,MATCH($H100,'CSX Rate Inputs'!$A$4:$Z$4,0),FALSE),\"n/a\"))","v":38.33769117222807},{"$f":"IF(LEFT($H100,5)=\"Barge\",VLOOKUP($A100&AM$91,Barge_Rate_Master,MATCH($H100,'Barge Rate Inputs'!$A$4:$AD$4,0),FALSE),IF(LEFT($H100,3)=\"CSX\",VLOOKUP($A100&AM$91,CSX_Rate_Master,MATCH($H100,'CSX Rate Inputs'!$A$4:$Z$4,0),FALSE),\"n/a\"))","v":39.10444499567263},{"$f":"IF(LEFT($H100,5)=\"Barge\",VLOOKUP($A100&AN$91,Barge_Rate_Master,MATCH($H100,'Barge Rate Inputs'!$A$4:$AD$4,0),FALSE),IF(LEFT($H100,3)=\"CSX\",VLOOKUP($A100&AN$91,CSX_Rate_Master,MATCH($H100,'CSX Rate Inputs'!$A$4:$Z$4,0),FALSE),\"n/a\"))","v":39.886533895586084},{"$f":"IF(LEFT($H100,5)=\"Barge\",VLOOKUP($A100&AO$91,Barge_Rate_Master,MATCH($H100,'Barge Rate Inputs'!$A$4:$AD$4,0),FALSE),IF(LEFT($H100,3)=\"CSX\",VLOOKUP($A100&AO$91,CSX_Rate_Master,MATCH($H100,'CSX Rate Inputs'!$A$4:$Z$4,0),FALSE),\"n/a\"))","v":40.684264573497806}]
["Crystal River 4&5 ",{"$f":"B82","v":"ILB"},"Illinois",{"$f":"D82","v":"Barge"},11800,4.5,10,"Barge ILB OH River",null,{"$f":"IF(LEFT($H101,5)=\"Barge\",VLOOKUP($A101&J$91,Barge_Rate_Master,MATCH($H101,'Barge Rate Inputs'!$A$4:$AD$4,0),FALSE),IF(LEFT($H101,3)=\"CSX\",VLOOKUP($A101&J$91,CSX_Rate_Master,MATCH($H101,'CSX Rate Inputs'!$A$4:$Z$4,0),FALSE),\"n/a\"))","v":12.828751787752974},{"$f":"IF(LEFT($H101,5)=\"Barge\",VLOOKUP($A101&K$91,Barge_Rate_Master,MATCH($H101,'Barge Rate Inputs'!$A$4:$AD$4,0),FALSE),IF(LEFT($H101,3)=\"CSX\",VLOOKUP($A101&K$91,CSX_Rate_Master,MATCH($H101,'CSX Rate Inputs'!$A$4:$Z$4,0),FALSE),\"n/a\"))","v":12.990991704412933},{"$f":"IF(LEFT($H101,5)=\"Barge\",VLOOKUP($A101&L$91,Barge_Rate_Master,MATCH($H101,'Barge Rate Inputs'!$A$4:$AD$4,0),FALSE),IF(LEFT($H101,3)=\"CSX\",VLOOKUP($A101&L$91,CSX_Rate_Master,MATCH($H101,'CSX Rate Inputs'!$A$4:$Z$4,0),FALSE),\"n/a\"))","v":13.096742922390293},{"$f":"IF(LEFT($H101,5)=\"Barge\",VLOOKUP($A101&M$91,Barge_Rate_Master,MATCH($H101,'Barge Rate Inputs'!$A$4:$AD$4,0),FALSE),IF(LEFT($H101,3)=\"CSX\",VLOOKUP($A101&M$91,CSX_Rate_Master,MATCH($H101,'CSX Rate Inputs'!$A$4:$Z$4,0),FALSE),\"n/a\"))","v":13.37040348935902},{"$f":"IF(LEFT($H101,5)=\"Barge\",VLOOKUP($A101&N$91,Barge_Rate_Master,MATCH($H101,'Barge Rate Inputs'!$A$4:$AD$4,0),FALSE),IF(LEFT($H101,3)=\"CSX\",VLOOKUP($A101&N$91,CSX_Rate_Master,MATCH($H101,'CSX Rate Inputs'!$A$4:$Z$4,0),FALSE),\"n/a\"))","v":16.09741677251068},{"$f":"IF(LEFT($H101,5)=\"Barge\",VLOOKUP($A101&O$91,Barge_Rate_Master,MATCH($H101,'Barge Rate Inputs'!$A$4:$AD$4,0),FALSE),IF(LEFT($H101,3)=\"CSX\",VLOOKUP($A101&O$91,CSX_Rate_Master,MATCH($H101,'CSX Rate Inputs'!$A$4:$Z$4,0),FALSE),\"n/a\"))","v":16.440279212607923},{"$f":"IF(LEFT($H101,5)=\"Barge\",VLOOKUP($A101&P$91,Barge_Rate_Master,MATCH($H101,'Barge Rate Inputs'!$A$4:$AD$4,0),FALSE),IF(LEFT($H101,3)=\"CSX\",VLOOKUP($A101&P$91,CSX_Rate_Master,MATCH($H101,'CSX Rate Inputs'!$A$4:$Z$4,0),FALSE),\"n/a\"))","v":22.671001326445033},{"$f":"IF(LEFT($H101,5)=\"Barge\",VLOOKUP($A101&Q$91,Barge_Rate_Master,MATCH($H101,'Barge Rate Inputs'!$A$4:$AD$4,0),FALSE),IF(LEFT($H101,3)=\"CSX\",VLOOKUP($A101&Q$91,CSX_Rate_Master,MATCH($H101,'CSX Rate Inputs'!$A$4:$Z$4,0),FALSE),\"n/a\"))","v":22.99666427446865},{"$f":"IF(LEFT($H101,5)=\"Barge\",VLOOKUP($A101&R$91,Barge_Rate_Master,MATCH($H101,'Barge Rate Inputs'!$A$4:$AD$4,0),FALSE),IF(LEFT($H101,3)=\"CSX\",VLOOKUP($A101&R$91,CSX_Rate_Master,MATCH($H101,'CSX Rate Inputs'!$A$4:$Z$4,0),FALSE),\"n/a\"))","v":23.8488311386227},{"$f":"IF(LEFT($H101,5)=\"Barge\",VLOOKUP($A101&S$91,Barge_Rate_Master,MATCH($H101,'Barge Rate Inputs'!$A$4:$AD$4,0),FALSE),IF(LEFT($H101,3)=\"CSX\",VLOOKUP($A101&S$91,CSX_Rate_Master,MATCH($H101,'CSX Rate Inputs'!$A$4:$Z$4,0),FALSE),\"n/a\"))","v":24.453215005448566},{"$f":"IF(LEFT($H101,5)=\"Barge\",VLOOKUP($A101&T$91,Barge_Rate_Master,MATCH($H101,'Barge Rate Inputs'!$A$4:$AD$4,0),FALSE),IF(LEFT($H101,3)=\"CSX\",VLOOKUP($A101&T$91,CSX_Rate_Master,MATCH($H101,'CSX Rate Inputs'!$A$4:$Z$4,0),FALSE),\"n/a\"))","v":25.071383153204874},{"$f":"IF(LEFT($H101,5)=\"Barge\",VLOOKUP($A101&U$91,Barge_Rate_Master,MATCH($H101,'Barge Rate Inputs'!$A$4:$AD$4,0),FALSE),IF(LEFT($H101,3)=\"CSX\",VLOOKUP($A101&U$91,CSX_Rate_Master,MATCH($H101,'CSX Rate Inputs'!$A$4:$Z$4,0),FALSE),\"n/a\"))","v":25.668254411847666},{"$f":"IF(LEFT($H101,5)=\"Barge\",VLOOKUP($A101&V$91,Barge_Rate_Master,MATCH($H101,'Barge Rate Inputs'!$A$4:$AD$4,0),FALSE),IF(LEFT($H101,3)=\"CSX\",VLOOKUP($A101&V$91,CSX_Rate_Master,MATCH($H101,'CSX Rate Inputs'!$A$4:$Z$4,0),FALSE),\"n/a\"))","v":32.881297586556606},{"$f":"IF(LEFT($H101,5)=\"Barge\",VLOOKUP($A101&W$91,Barge_Rate_Master,MATCH($H101,'Barge Rate Inputs'!$A$4:$AD$4,0),FALSE),IF(LEFT($H101,3)=\"CSX\",VLOOKUP($A101&W$91,CSX_Rate_Master,MATCH($H101,'CSX Rate Inputs'!$A$4:$Z$4,0),FALSE),\"n/a\"))","v":33.601524892688964},{"$f":"IF(LEFT($H101,5)=\"Barge\",VLOOKUP($A101&X$91,Barge_Rate_Master,MATCH($H101,'Barge Rate Inputs'!$A$4:$AD$4,0),FALSE),IF(LEFT($H101,3)=\"CSX\",VLOOKUP($A101&X$91,CSX_Rate_Master,MATCH($H101,'CSX Rate Inputs'!$A$4:$Z$4,0),FALSE),\"n/a\"))","v":34.267822362531149},{"$f":"IF(LEFT($H101,5)=\"Barge\",VLOOKUP($A101&Y$91,Barge_Rate_Master,MATCH($H101,'Barge Rate Inputs'!$A$4:$AD$4,0),FALSE),IF(LEFT($H101,3)=\"CSX\",VLOOKUP($A101&Y$91,CSX_Rate_Master,MATCH($H101,'CSX Rate Inputs'!$A$4:$Z$4,0),FALSE),\"n/a\"))","v":34.947688170316297},{"$f":"IF(LEFT($H101,5)=\"Barge\",VLOOKUP($A101&Z$91,Barge_Rate_Master,MATCH($H101,'Barge Rate Inputs'!$A$4:$AD$4,0),FALSE),IF(LEFT($H101,3)=\"CSX\",VLOOKUP($A101&Z$91,CSX_Rate_Master,MATCH($H101,'CSX Rate Inputs'!$A$4:$Z$4,0),FALSE),\"n/a\"))","v":35.716305832930487},{"$f":"IF(LEFT($H101,5)=\"Barge\",VLOOKUP($A101&AA$91,Barge_Rate_Master,MATCH($H101,'Barge Rate Inputs'!$A$4:$AD$4,0),FALSE),IF(LEFT($H101,3)=\"CSX\",VLOOKUP($A101&AA$91,CSX_Rate_Master,MATCH($H101,'CSX Rate Inputs'!$A$4:$Z$4,0),FALSE),\"n/a\"))","v":36.420548614454695},{"$f":"IF(LEFT($H101,5)=\"Barge\",VLOOKUP($A101&AB$91,Barge_Rate_Master,MATCH($H101,'Barge Rate Inputs'!$A$4:$AD$4,0),FALSE),IF(LEFT($H101,3)=\"CSX\",VLOOKUP($A101&AB$91,CSX_Rate_Master,MATCH($H101,'CSX Rate Inputs'!$A$4:$Z$4,0),FALSE),\"n/a\"))","v":37.147109188359892},{"$f":"IF(LEFT($H101,5)=\"Barge\",VLOOKUP($A101&AC$91,Barge_Rate_Master,MATCH($H101,'Barge Rate Inputs'!$A$4:$AD$4,0),FALSE),IF(LEFT($H101,3)=\"CSX\",VLOOKUP($A101&AC$91,CSX_Rate_Master,MATCH($H101,'CSX Rate Inputs'!$A$4:$Z$4,0),FALSE),\"n/a\"))","v":37.972828608191946},{"$f":"IF(LEFT($H101,5)=\"Barge\",VLOOKUP($A101&AD$91,Barge_Rate_Master,MATCH($H101,'Barge Rate Inputs'!$A$4:$AD$4,0),FALSE),IF(LEFT($H101,3)=\"CSX\",VLOOKUP($A101&AD$91,CSX_Rate_Master,MATCH($H101,'CSX Rate Inputs'!$A$4:$Z$4,0),FALSE),\"n/a\"))","v":38.730541140606888},{"$f":"IF(LEFT($H101,5)=\"Barge\",VLOOKUP($A101&AE$91,Barge_Rate_Master,MATCH($H101,'Barge Rate Inputs'!$A$4:$AD$4,0),FALSE),IF(LEFT($H101,3)=\"CSX\",VLOOKUP($A101&AE$91,CSX_Rate_Master,MATCH($H101,'CSX Rate Inputs'!$A$4:$Z$4,0),FALSE),\"n/a\"))","v":39.504137620169026},{"$f":"IF(LEFT($H101,5)=\"Barge\",VLOOKUP($A101&AF$91,Barge_Rate_Master,MATCH($H101,'Barge Rate Inputs'!$A$4:$AD$4,0),FALSE),IF(LEFT($H101,3)=\"CSX\",VLOOKUP($A101&AF$91,CSX_Rate_Master,MATCH($H101,'CSX Rate Inputs'!$A$4:$Z$4,0),FALSE),\"n/a\"))","v":40.254434910283599},{"$f":"IF(LEFT($H101,5)=\"Barge\",VLOOKUP($A101&AG$91,Barge_Rate_Master,MATCH($H101,'Barge Rate Inputs'!$A$4:$AD$4,0),FALSE),IF(LEFT($H101,3)=\"CSX\",VLOOKUP($A101&AG$91,CSX_Rate_Master,MATCH($H101,'CSX Rate Inputs'!$A$4:$Z$4,0),FALSE),\"n/a\"))","v":41.069684150852289},{"$f":"IF(LEFT($H101,5)=\"Barge\",VLOOKUP($A101&AH$91,Barge_Rate_Master,MATCH($H101,'Barge Rate Inputs'!$A$4:$AD$4,0),FALSE),IF(LEFT($H101,3)=\"CSX\",VLOOKUP($A101&AH$91,CSX_Rate_Master,MATCH($H101,'CSX Rate Inputs'!$A$4:$Z$4,0),FALSE),\"n/a\"))","v":41.903668876610382},{"$f":"IF(LEFT($H101,5)=\"Barge\",VLOOKUP($A101&AI$91,Barge_Rate_Master,MATCH($H101,'Barge Rate Inputs'!$A$4:$AD$4,0),FALSE),IF(LEFT($H101,3)=\"CSX\",VLOOKUP($A101&AI$91,CSX_Rate_Master,MATCH($H101,'CSX Rate Inputs'!$A$4:$Z$4,0),FALSE),\"n/a\"))","v":42.714455256373782},{"$f":"IF(LEFT($H101,5)=\"Barge\",VLOOKUP($A101&AJ$91,Barge_Rate_Master,MATCH($H101,'Barge Rate Inputs'!$A$4:$AD$4,0),FALSE),IF(LEFT($H101,3)=\"CSX\",VLOOKUP($A101&AJ$91,CSX_Rate_Master,MATCH($H101,'CSX Rate Inputs'!$A$4:$Z$4,0),FALSE),\"n/a\"))","v":43.613313209410542},{"$f":"IF(LEFT($H101,5)=\"Barge\",VLOOKUP($A101&AK$91,Barge_Rate_Master,MATCH($H101,'Barge Rate Inputs'!$A$4:$AD$4,0),FALSE),IF(LEFT($H101,3)=\"CSX\",VLOOKUP($A101&AK$91,CSX_Rate_Master,MATCH($H101,'CSX Rate Inputs'!$A$4:$Z$4,0),FALSE),\"n/a\"))","v":44.389279903434385},{"$f":"IF(LEFT($H101,5)=\"Barge\",VLOOKUP($A101&AL$91,Barge_Rate_Master,MATCH($H101,'Barge Rate Inputs'!$A$4:$AD$4,0),FALSE),IF(LEFT($H101,3)=\"CSX\",VLOOKUP($A101&AL$91,CSX_Rate_Master,MATCH($H101,'CSX Rate Inputs'!$A$4:$Z$4,0),FALSE),\"n/a\"))","v":45.319252980348985},{"$f":"IF(LEFT($H101,5)=\"Barge\",VLOOKUP($A101&AM$91,Barge_Rate_Master,MATCH($H101,'Barge Rate Inputs'!$A$4:$AD$4,0),FALSE),IF(LEFT($H101,3)=\"CSX\",VLOOKUP($A101&AM$91,CSX_Rate_Master,MATCH($H101,'CSX Rate Inputs'!$A$4:$Z$4,0),FALSE),\"n/a\"))","v":46.266741467985469},{"$f":"IF(LEFT($H101,5)=\"Barge\",VLOOKUP($A101&AN$91,Barge_Rate_Master,MATCH($H101,'Barge Rate Inputs'!$A$4:$AD$4,0),FALSE),IF(LEFT($H101,3)=\"CSX\",VLOOKUP($A101&AN$91,CSX_Rate_Master,MATCH($H101,'CSX Rate Inputs'!$A$4:$Z$4,0),FALSE),\"n/a\"))","v":47.083926462737203},{"$f":"IF(LEFT($H101,5)=\"Barge\",VLOOKUP($A101&AO$91,Barge_Rate_Master,MATCH($H101,'Barge Rate Inputs'!$A$4:$AD$4,0),FALSE),IF(LEFT($H101,3)=\"CSX\",VLOOKUP($A101&AO$91,CSX_Rate_Master,MATCH($H101,'CSX Rate Inputs'!$A$4:$Z$4,0),FALSE),\"n/a\"))","v":48.067082713989159}]
["Crystal River 4&5 ",{"$f":"B83","v":"ILB"},"Illinois",{"$f":"D83","v":"Barge"},11800,4.5,{"$f":"G83","v":10},"Barge ILB Green River",null,{"$f":"IF(LEFT($H102,5)=\"Barge\",VLOOKUP($A102&J$91,Barge_Rate_Master,MATCH($H102,'Barge Rate Inputs'!$A$4:$AD$4,0),FALSE),IF(LEFT($H102,3)=\"CSX\",VLOOKUP($A102&J$91,CSX_Rate_Master,MATCH($H102,'CSX Rate Inputs'!$A$4:$Z$4,0),FALSE),\"n/a\"))","v":20.462167689687504},{"$f":"IF(LEFT($H102,5)=\"Barge\",VLOOKUP($A102&K$91,Barge_Rate_Master,MATCH($H102,'Barge Rate Inputs'!$A$4:$AD$4,0),FALSE),IF(LEFT($H102,3)=\"CSX\",VLOOKUP($A102&K$91,CSX_Rate_Master,MATCH($H102,'CSX Rate Inputs'!$A$4:$Z$4,0),FALSE),\"n/a\"))","v":20.721374250198096},{"$f":"IF(LEFT($H102,5)=\"Barge\",VLOOKUP($A102&L$91,Barge_Rate_Master,MATCH($H102,'Barge Rate Inputs'!$A$4:$AD$4,0),FALSE),IF(LEFT($H102,3)=\"CSX\",VLOOKUP($A102&L$91,CSX_Rate_Master,MATCH($H102,'CSX Rate Inputs'!$A$4:$Z$4,0),FALSE),\"n/a\"))","v":20.219793840615825},{"$f":"IF(LEFT($H102,5)=\"Barge\",VLOOKUP($A102&M$91,Barge_Rate_Master,MATCH($H102,'Barge Rate Inputs'!$A$4:$AD$4,0),FALSE),IF(LEFT($H102,3)=\"CSX\",VLOOKUP($A102&M$91,CSX_Rate_Master,MATCH($H102,'CSX Rate Inputs'!$A$4:$Z$4,0),FALSE),\"n/a\"))","v":20.153843893577974},{"$f":"IF(LEFT($H102,5)=\"Barge\",VLOOKUP($A102&N$91,Barge_Rate_Master,MATCH($H102,'Barge Rate Inputs'!$A$4:$AD$4,0),FALSE),IF(LEFT($H102,3)=\"CSX\",VLOOKUP($A102&N$91,CSX_Rate_Master,MATCH($H102,'CSX Rate Inputs'!$A$4:$Z$4,0),FALSE),\"n/a\"))","v":23.026459877175579},{"$f":"IF(LEFT($H102,5)=\"Barge\",VLOOKUP($A102&O$91,Barge_Rate_Master,MATCH($H102,'Barge Rate Inputs'!$A$4:$AD$4,0),FALSE),IF(LEFT($H102,3)=\"CSX\",VLOOKUP($A102&O$91,CSX_Rate_Master,MATCH($H102,'CSX Rate Inputs'!$A$4:$Z$4,0),FALSE),\"n/a\"))","v":23.518007916724031},{"$f":"IF(LEFT($H102,5)=\"Barge\",VLOOKUP($A102&P$91,Barge_Rate_Master,MATCH($H102,'Barge Rate Inputs'!$A$4:$AD$4,0),FALSE),IF(LEFT($H102,3)=\"CSX\",VLOOKUP($A102&P$91,CSX_Rate_Master,MATCH($H102,'CSX Rate Inputs'!$A$4:$Z$4,0),FALSE),\"n/a\"))","v":29.900412334601754},{"$f":"IF(LEFT($H102,5)=\"Barge\",VLOOKUP($A102&Q$91,Barge_Rate_Master,MATCH($H102,'Barge Rate Inputs'!$A$4:$AD$4,0),FALSE),IF(LEFT($H102,3)=\"CSX\",VLOOKUP($A102&Q$91,CSX_Rate_Master,MATCH($H102,'CSX Rate Inputs'!$A$4:$Z$4,0),FALSE),\"n/a\"))","v":30.397421485756084},{"$f":"IF(LEFT($H102,5)=\"Barge\",VLOOKUP($A102&R$91,Barge_Rate_Master,MATCH($H102,'Barge Rate Inputs'!$A$4:$AD$4,0),FALSE),IF(LEFT($H102,3)=\"CSX\",VLOOKUP($A102&R$91,CSX_Rate_Master,MATCH($H102,'CSX Rate Inputs'!$A$4:$Z$4,0),FALSE),\"n/a\"))","v":31.4465983570093},{"$f":"IF(LEFT($H102,5)=\"Barge\",VLOOKUP($A102&S$91,Barge_Rate_Master,MATCH($H102,'Barge Rate Inputs'!$A$4:$AD$4,0),FALSE),IF(LEFT($H102,3)=\"CSX\",VLOOKUP($A102&S$91,CSX_Rate_Master,MATCH($H102,'CSX Rate Inputs'!$A$4:$Z$4,0),FALSE),\"n/a\"))","v":32.264159434277474},{"$f":"IF(LEFT($H102,5)=\"Barge\",VLOOKUP($A102&T$91,Barge_Rate_Master,MATCH($H102,'Barge Rate Inputs'!$A$4:$AD$4,0),FALSE),IF(LEFT($H102,3)=\"CSX\",VLOOKUP($A102&T$91,CSX_Rate_Master,MATCH($H102,'CSX Rate Inputs'!$A$4:$Z$4,0),FALSE),\"n/a\"))","v":33.100583590470393},{"$f":"IF(LEFT($H102,5)=\"Barge\",VLOOKUP($A102&U$91,Barge_Rate_Master,MATCH($H102,'Barge Rate Inputs'!$A$4:$AD$4,0),FALSE),IF(LEFT($H102,3)=\"CSX\",VLOOKUP($A102&U$91,CSX_Rate_Master,MATCH($H102,'CSX Rate Inputs'!$A$4:$Z$4,0),FALSE),\"n/a\"))","v":33.903901517157095},{"$f":"IF(LEFT($H102,5)=\"Barge\",VLOOKUP($A102&V$91,Barge_Rate_Master,MATCH($H102,'Barge Rate Inputs'!$A$4:$AD$4,0),FALSE),IF(LEFT($H102,3)=\"CSX\",VLOOKUP($A102&V$91,CSX_Rate_Master,MATCH($H102,'CSX Rate Inputs'!$A$4:$Z$4,0),FALSE),\"n/a\"))","v":41.289905158081027},{"$f":"IF(LEFT($H102,5)=\"Barge\",VLOOKUP($A102&W$91,Barge_Rate_Master,MATCH($H102,'Barge Rate Inputs'!$A$4:$AD$4,0),FALSE),IF(LEFT($H102,3)=\"CSX\",VLOOKUP($A102&W$91,CSX_Rate_Master,MATCH($H102,'CSX Rate Inputs'!$A$4:$Z$4,0),FALSE),\"n/a\"))","v":42.184483861486001},{"$f":"IF(LEFT($H102,5)=\"Barge\",VLOOKUP($A102&X$91,Barge_Rate_Master,MATCH($H102,'Barge Rate Inputs'!$A$4:$AD$4,0),FALSE),IF(LEFT($H102,3)=\"CSX\",VLOOKUP($A102&X$91,CSX_Rate_Master,MATCH($H102,'CSX Rate Inputs'!$A$4:$Z$4,0),FALSE),\"n/a\"))","v":43.031996395730637},{"$f":"IF(LEFT($H102,5)=\"Barge\",VLOOKUP($A102&Y$91,Barge_Rate_Master,MATCH($H102,'Barge Rate Inputs'!$A$4:$AD$4,0),FALSE),IF(LEFT($H102,3)=\"CSX\",VLOOKUP($A102&Y$91,CSX_Rate_Master,MATCH($H102,'CSX Rate Inputs'!$A$4:$Z$4,0),FALSE),\"n/a\"))","v":43.896818042011418},{"$f":"IF(LEFT($H102,5)=\"Barge\",VLOOKUP($A102&Z$91,Barge_Rate_Master,MATCH($H102,'Barge Rate Inputs'!$A$4:$AD$4,0),FALSE),IF(LEFT($H102,3)=\"CSX\",VLOOKUP($A102&Z$91,CSX_Rate_Master,MATCH($H102,'CSX Rate Inputs'!$A$4:$Z$4,0),FALSE),\"n/a\"))","v":44.852528254427845},{"$f":"IF(LEFT($H102,5)=\"Barge\",VLOOKUP($A102&AA$91,Barge_Rate_Master,MATCH($H102,'Barge Rate Inputs'!$A$4:$AD$4,0),FALSE),IF(LEFT($H102,3)=\"CSX\",VLOOKUP($A102&AA$91,CSX_Rate_Master,MATCH($H102,'CSX Rate Inputs'!$A$4:$Z$4,0),FALSE),\"n/a\"))","v":45.747714470052379},{"$f":"IF(LEFT($H102,5)=\"Barge\",VLOOKUP($A102&AB$91,Barge_Rate_Master,MATCH($H102,'Barge Rate Inputs'!$A$4:$AD$4,0),FALSE),IF(LEFT($H102,3)=\"CSX\",VLOOKUP($A102&AB$91,CSX_Rate_Master,MATCH($H102,'CSX Rate Inputs'!$A$4:$Z$4,0),FALSE),\"n/a\"))","v":46.67299344637054},{"$f":"IF(LEFT($H102,5)=\"Barge\",VLOOKUP($A102&AC$91,Barge_Rate_Master,MATCH($H102,'Barge Rate Inputs'!$A$4:$AD$4,0),FALSE),IF(LEFT($H102,3)=\"CSX\",VLOOKUP($A102&AC$91,CSX_Rate_Master,MATCH($H102,'CSX Rate Inputs'!$A$4:$Z$4,0),FALSE),\"n/a\"))","v":47.702089196362877},{"$f":"IF(LEFT($H102,5)=\"Barge\",VLOOKUP($A102&AD$91,Barge_Rate_Master,MATCH($H102,'Barge Rate Inputs'!$A$4:$AD$4,0),FALSE),IF(LEFT($H102,3)=\"CSX\",VLOOKUP($A102&AD$91,CSX_Rate_Master,MATCH($H102,'CSX Rate Inputs'!$A$4:$Z$4,0),FALSE),\"n/a\"))","v":48.667412769454316},{"$f":"IF(LEFT($H102,5)=\"Barge\",VLOOKUP($A102&AE$91,Barge_Rate_Master,MATCH($H102,'Barge Rate Inputs'!$A$4:$AD$4,0),FALSE),IF(LEFT($H102,3)=\"CSX\",VLOOKUP($A102&AE$91,CSX_Rate_Master,MATCH($H102,'CSX Rate Inputs'!$A$4:$Z$4,0),FALSE),\"n/a\"))","v":49.653123145053705},{"$f":"IF(LEFT($H102,5)=\"Barge\",VLOOKUP($A102&AF$91,Barge_Rate_Master,MATCH($H102,'Barge Rate Inputs'!$A$4:$AD$4,0),FALSE),IF(LEFT($H102,3)=\"CSX\",VLOOKUP($A102&AF$91,CSX_Rate_Master,MATCH($H102,'CSX Rate Inputs'!$A$4:$Z$4,0),FALSE),\"n/a\"))","v":50.558717260796826},{"$f":"IF(LEFT($H102,5)=\"Barge\",VLOOKUP($A102&AG$91,Barge_Rate_Master,MATCH($H102,'Barge Rate Inputs'!$A$4:$AD$4,0),FALSE),IF(LEFT($H102,3)=\"CSX\",VLOOKUP($A102&AG$91,CSX_Rate_Master,MATCH($H102,'CSX Rate Inputs'!$A$4:$Z$4,0),FALSE),\"n/a\"))","v":51.5996469600707},{"$f":"IF(LEFT($H102,5)=\"Barge\",VLOOKUP($A102&AH$91,Barge_Rate_Master,MATCH($H102,'Barge Rate Inputs'!$A$4:$AD$4,0),FALSE),IF(LEFT($H102,3)=\"CSX\",VLOOKUP($A102&AH$91,CSX_Rate_Master,MATCH($H102,'CSX Rate Inputs'!$A$4:$Z$4,0),FALSE),\"n/a\"))","v":52.664993660366321},{"$f":"IF(LEFT($H102,5)=\"Barge\",VLOOKUP($A102&AI$91,Barge_Rate_Master,MATCH($H102,'Barge Rate Inputs'!$A$4:$AD$4,0),FALSE),IF(LEFT($H102,3)=\"CSX\",VLOOKUP($A102&AI$91,CSX_Rate_Master,MATCH($H102,'CSX Rate Inputs'!$A$4:$Z$4,0),FALSE),\"n/a\"))","v":53.647581011981245},{"$f":"IF(LEFT($H102,5)=\"Barge\",VLOOKUP($A102&AJ$91,Barge_Rate_Master,MATCH($H102,'Barge Rate Inputs'!$A$4:$AD$4,0),FALSE),IF(LEFT($H102,3)=\"CSX\",VLOOKUP($A102&AJ$91,CSX_Rate_Master,MATCH($H102,'CSX Rate Inputs'!$A$4:$Z$4,0),FALSE),\"n/a\"))","v":54.786517750908743},{"$f":"IF(LEFT($H102,5)=\"Barge\",VLOOKUP($A102&AK$91,Barge_Rate_Master,MATCH($H102,'Barge Rate Inputs'!$A$4:$AD$4,0),FALSE),IF(LEFT($H102,3)=\"CSX\",VLOOKUP($A102&AK$91,CSX_Rate_Master,MATCH($H102,'CSX Rate Inputs'!$A$4:$Z$4,0),FALSE),\"n/a\"))","v":55.739674562634534},{"$f":"IF(LEFT($H102,5)=\"Barge\",VLOOKUP($A102&AL$91,Barge_Rate_Master,MATCH($H102,'Barge Rate Inputs'!$A$4:$AD$4,0),FALSE),IF(LEFT($H102,3)=\"CSX\",VLOOKUP($A102&AL$91,CSX_Rate_Master,MATCH($H102,'CSX Rate Inputs'!$A$4:$Z$4,0),FALSE),\"n/a\"))","v":56.916927505485688},{"$f":"IF(LEFT($H102,5)=\"Barge\",VLOOKUP($A102&AM$91,Barge_Rate_Master,MATCH($H102,'Barge Rate Inputs'!$A$4:$AD$4,0),FALSE),IF(LEFT($H102,3)=\"CSX\",VLOOKUP($A102&AM$91,CSX_Rate_Master,MATCH($H102,'CSX Rate Inputs'!$A$4:$Z$4,0),FALSE),\"n/a\"))","v":58.116120547112111},{"$f":"IF(LEFT($H102,5)=\"Barge\",VLOOKUP($A102&AN$91,Barge_Rate_Master,MATCH($H102,'Barge Rate Inputs'!$A$4:$AD$4,0),FALSE),IF(LEFT($H102,3)=\"CSX\",VLOOKUP($A102&AN$91,CSX_Rate_Master,MATCH($H102,'CSX Rate Inputs'!$A$4:$Z$4,0),FALSE),\"n/a\"))","v":59.118324848490339},{"$f":"IF(LEFT($H102,5)=\"Barge\",VLOOKUP($A102&AO$91,Barge_Rate_Master,MATCH($H102,'Barge Rate Inputs'!$A$4:$AD$4,0),FALSE),IF(LEFT($H102,3)=\"CSX\",VLOOKUP($A102&AO$91,CSX_Rate_Master,MATCH($H102,'CSX Rate Inputs'!$A$4:$Z$4,0),FALSE),\"n/a\"))","v":60.362099987084875}]
["Crystal River 4&5 ","ILB","Low Chlorine","Barge",11500,5.2,{"$f":"G84","v":10},"Barge ILB OH River",null,{"$f":"IF(LEFT($H103,5)=\"Barge\",VLOOKUP($A103&J$91,Barge_Rate_Master,MATCH($H103,'Barge Rate Inputs'!$A$4:$AD$4,0),FALSE),IF(LEFT($H103,3)=\"CSX\",VLOOKUP($A103&J$91,CSX_Rate_Master,MATCH($H103,'CSX Rate Inputs'!$A$4:$Z$4,0),FALSE),\"n/a\"))","v":12.828751787752974},{"$f":"IF(LEFT($H103,5)=\"Barge\",VLOOKUP($A103&K$91,Barge_Rate_Master,MATCH($H103,'Barge Rate Inputs'!$A$4:$AD$4,0),FALSE),IF(LEFT($H103,3)=\"CSX\",VLOOKUP($A103&K$91,CSX_Rate_Master,MATCH($H103,'CSX Rate Inputs'!$A$4:$Z$4,0),FALSE),\"n/a\"))","v":12.990991704412933},{"$f":"IF(LEFT($H103,5)=\"Barge\",VLOOKUP($A103&L$91,Barge_Rate_Master,MATCH($H103,'Barge Rate Inputs'!$A$4:$AD$4,0),FALSE),IF(LEFT($H103,3)=\"CSX\",VLOOKUP($A103&L$91,CSX_Rate_Master,MATCH($H103,'CSX Rate Inputs'!$A$4:$Z$4,0),FALSE),\"n/a\"))","v":13.096742922390293},{"$f":"IF(LEFT($H103,5)=\"Barge\",VLOOKUP($A103&M$91,Barge_Rate_Master,MATCH($H103,'Barge Rate Inputs'!$A$4:$AD$4,0),FALSE),IF(LEFT($H103,3)=\"CSX\",VLOOKUP($A103&M$91,CSX_Rate_Master,MATCH($H103,'CSX Rate Inputs'!$A$4:$Z$4,0),FALSE),\"n/a\"))","v":13.37040348935902},{"$f":"IF(LEFT($H103,5)=\"Barge\",VLOOKUP($A103&N$91,Barge_Rate_Master,MATCH($H103,'Barge Rate Inputs'!$A$4:$AD$4,0),FALSE),IF(LEFT($H103,3)=\"CSX\",VLOOKUP($A103&N$91,CSX_Rate_Master,MATCH($H103,'CSX Rate Inputs'!$A$4:$Z$4,0),FALSE),\"n/a\"))","v":16.09741677251068},{"$f":"IF(LEFT($H103,5)=\"Barge\",VLOOKUP($A103&O$91,Barge_Rate_Master,MATCH($H103,'Barge Rate Inputs'!$A$4:$AD$4,0),FALSE),IF(LEFT($H103,3)=\"CSX\",VLOOKUP($A103&O$91,CSX_Rate_Master,MATCH($H103,'CSX Rate Inputs'!$A$4:$Z$4,0),FALSE),\"n/a\"))","v":16.440279212607923},{"$f":"IF(LEFT($H103,5)=\"Barge\",VLOOKUP($A103&P$91,Barge_Rate_Master,MATCH($H103,'Barge Rate Inputs'!$A$4:$AD$4,0),FALSE),IF(LEFT($H103,3)=\"CSX\",VLOOKUP($A103&P$91,CSX_Rate_Master,MATCH($H103,'CSX Rate Inputs'!$A$4:$Z$4,0),FALSE),\"n/a\"))","v":22.671001326445033},{"$f":"IF(LEFT($H103,5)=\"Barge\",VLOOKUP($A103&Q$91,Barge_Rate_Master,MATCH($H103,'Barge Rate Inputs'!$A$4:$AD$4,0),FALSE),IF(LEFT($H103,3)=\"CSX\",VLOOKUP($A103&Q$91,CSX_Rate_Master,MATCH($H103,'CSX Rate Inputs'!$A$4:$Z$4,0),FALSE),\"n/a\"))","v":22.99666427446865},{"$f":"IF(LEFT($H103,5)=\"Barge\",VLOOKUP($A103&R$91,Barge_Rate_Master,MATCH($H103,'Barge Rate Inputs'!$A$4:$AD$4,0),FALSE),IF(LEFT($H103,3)=\"CSX\",VLOOKUP($A103&R$91,CSX_Rate_Master,MATCH($H103,'CSX Rate Inputs'!$A$4:$Z$4,0),FALSE),\"n/a\"))","v":23.8488311386227},{"$f":"IF(LEFT($H103,5)=\"Barge\",VLOOKUP($A103&S$91,Barge_Rate_Master,MATCH($H103,'Barge Rate Inputs'!$A$4:$AD$4,0),FALSE),IF(LEFT($H103,3)=\"CSX\",VLOOKUP($A103&S$91,CSX_Rate_Master,MATCH($H103,'CSX Rate Inputs'!$A$4:$Z$4,0),FALSE),\"n/a\"))","v":24.453215005448566},{"$f":"IF(LEFT($H103,5)=\"Barge\",VLOOKUP($A103&T$91,Barge_Rate_Master,MATCH($H103,'Barge Rate Inputs'!$A$4:$AD$4,0),FALSE),IF(LEFT($H103,3)=\"CSX\",VLOOKUP($A103&T$91,CSX_Rate_Master,MATCH($H103,'CSX Rate Inputs'!$A$4:$Z$4,0),FALSE),\"n/a\"))","v":25.071383153204874},{"$f":"IF(LEFT($H103,5)=\"Barge\",VLOOKUP($A103&U$91,Barge_Rate_Master,MATCH($H103,'Barge Rate Inputs'!$A$4:$AD$4,0),FALSE),IF(LEFT($H103,3)=\"CSX\",VLOOKUP($A103&U$91,CSX_Rate_Master,MATCH($H103,'CSX Rate Inputs'!$A$4:$Z$4,0),FALSE),\"n/a\"))","v":25.668254411847666},{"$f":"IF(LEFT($H103,5)=\"Barge\",VLOOKUP($A103&V$91,Barge_Rate_Master,MATCH($H103,'Barge Rate Inputs'!$A$4:$AD$4,0),FALSE),IF(LEFT($H103,3)=\"CSX\",VLOOKUP($A103&V$91,CSX_Rate_Master,MATCH($H103,'CSX Rate Inputs'!$A$4:$Z$4,0),FALSE),\"n/a\"))","v":32.881297586556606},{"$f":"IF(LEFT($H103,5)=\"Barge\",VLOOKUP($A103&W$91,Barge_Rate_Master,MATCH($H103,'Barge Rate Inputs'!$A$4:$AD$4,0),FALSE),IF(LEFT($H103,3)=\"CSX\",VLOOKUP($A103&W$91,CSX_Rate_Master,MATCH($H103,'CSX Rate Inputs'!$A$4:$Z$4,0),FALSE),\"n/a\"))","v":33.601524892688964},{"$f":"IF(LEFT($H103,5)=\"Barge\",VLOOKUP($A103&X$91,Barge_Rate_Master,MATCH($H103,'Barge Rate Inputs'!$A$4:$AD$4,0),FALSE),IF(LEFT($H103,3)=\"CSX\",VLOOKUP($A103&X$91,CSX_Rate_Master,MATCH($H103,'CSX Rate Inputs'!$A$4:$Z$4,0),FALSE),\"n/a\"))","v":34.267822362531149},{"$f":"IF(LEFT($H103,5)=\"Barge\",VLOOKUP($A103&Y$91,Barge_Rate_Master,MATCH($H103,'Barge Rate Inputs'!$A$4:$AD$4,0),FALSE),IF(LEFT($H103,3)=\"CSX\",VLOOKUP($A103&Y$91,CSX_Rate_Master,MATCH($H103,'CSX Rate Inputs'!$A$4:$Z$4,0),FALSE),\"n/a\"))","v":34.947688170316297},{"$f":"IF(LEFT($H103,5)=\"Barge\",VLOOKUP($A103&Z$91,Barge_Rate_Master,MATCH($H103,'Barge Rate Inputs'!$A$4:$AD$4,0),FALSE),IF(LEFT($H103,3)=\"CSX\",VLOOKUP($A103&Z$91,CSX_Rate_Master,MATCH($H103,'CSX Rate Inputs'!$A$4:$Z$4,0),FALSE),\"n/a\"))","v":35.716305832930487},{"$f":"IF(LEFT($H103,5)=\"Barge\",VLOOKUP($A103&AA$91,Barge_Rate_Master,MATCH($H103,'Barge Rate Inputs'!$A$4:$AD$4,0),FALSE),IF(LEFT($H103,3)=\"CSX\",VLOOKUP($A103&AA$91,CSX_Rate_Master,MATCH($H103,'CSX Rate Inputs'!$A$4:$Z$4,0),FALSE),\"n/a\"))","v":36.420548614454695},{"$f":"IF(LEFT($H103,5)=\"Barge\",VLOOKUP($A103&AB$91,Barge_Rate_Master,MATCH($H103,'Barge Rate Inputs'!$A$4:$AD$4,0),FALSE),IF(LEFT($H103,3)=\"CSX\",VLOOKUP($A103&AB$91,CSX_Rate_Master,MATCH($H103,'CSX Rate Inputs'!$A$4:$Z$4,0),FALSE),\"n/a\"))","v":37.147109188359892},{"$f":"IF(LEFT($H103,5)=\"Barge\",VLOOKUP($A103&AC$91,Barge_Rate_Master,MATCH($H103,'Barge Rate Inputs'!$A$4:$AD$4,0),FALSE),IF(LEFT($H103,3)=\"CSX\",VLOOKUP($A103&AC$91,CSX_Rate_Master,MATCH($H103,'CSX Rate Inputs'!$A$4:$Z$4,0),FALSE),\"n/a\"))","v":37.972828608191946},{"$f":"IF(LEFT($H103,5)=\"Barge\",VLOOKUP($A103&AD$91,Barge_Rate_Master,MATCH($H103,'Barge Rate Inputs'!$A$4:$AD$4,0),FALSE),IF(LEFT($H103,3)=\"CSX\",VLOOKUP($A103&AD$91,CSX_Rate_Master,MATCH($H103,'CSX Rate Inputs'!$A$4:$Z$4,0),FALSE),\"n/a\"))","v":38.730541140606888},{"$f":"IF(LEFT($H103,5)=\"Barge\",VLOOKUP($A103&AE$91,Barge_Rate_Master,MATCH($H103,'Barge Rate Inputs'!$A$4:$AD$4,0),FALSE),IF(LEFT($H103,3)=\"CSX\",VLOOKUP($A103&AE$91,CSX_Rate_Master,MATCH($H103,'CSX Rate Inputs'!$A$4:$Z$4,0),FALSE),\"n/a\"))","v":39.504137620169026},{"$f":"IF(LEFT($H103,5)=\"Barge\",VLOOKUP($A103&AF$91,Barge_Rate_Master,MATCH($H103,'Barge Rate Inputs'!$A$4:$AD$4,0),FALSE),IF(LEFT($H103,3)=\"CSX\",VLOOKUP($A103&AF$91,CSX_Rate_Master,MATCH($H103,'CSX Rate Inputs'!$A$4:$Z$4,0),FALSE),\"n/a\"))","v":40.254434910283599},{"$f":"IF(LEFT($H103,5)=\"Barge\",VLOOKUP($A103&AG$91,Barge_Rate_Master,MATCH($H103,'Barge Rate Inputs'!$A$4:$AD$4,0),FALSE),IF(LEFT($H103,3)=\"CSX\",VLOOKUP($A103&AG$91,CSX_Rate_Master,MATCH($H103,'CSX Rate Inputs'!$A$4:$Z$4,0),FALSE),\"n/a\"))","v":41.069684150852289},{"$f":"IF(LEFT($H103,5)=\"Barge\",VLOOKUP($A103&AH$91,Barge_Rate_Master,MATCH($H103,'Barge Rate Inputs'!$A$4:$AD$4,0),FALSE),IF(LEFT($H103,3)=\"CSX\",VLOOKUP($A103&AH$91,CSX_Rate_Master,MATCH($H103,'CSX Rate Inputs'!$A$4:$Z$4,0),FALSE),\"n/a\"))","v":41.903668876610382},{"$f":"IF(LEFT($H103,5)=\"Barge\",VLOOKUP($A103&AI$91,Barge_Rate_Master,MATCH($H103,'Barge Rate Inputs'!$A$4:$AD$4,0),FALSE),IF(LEFT($H103,3)=\"CSX\",VLOOKUP($A103&AI$91,CSX_Rate_Master,MATCH($H103,'CSX Rate Inputs'!$A$4:$Z$4,0),FALSE),\"n/a\"))","v":42.714455256373782},{"$f":"IF(LEFT($H103,5)=\"Barge\",VLOOKUP($A103&AJ$91,Barge_Rate_Master,MATCH($H103,'Barge Rate Inputs'!$A$4:$AD$4,0),FALSE),IF(LEFT($H103,3)=\"CSX\",VLOOKUP($A103&AJ$91,CSX_Rate_Master,MATCH($H103,'CSX Rate Inputs'!$A$4:$Z$4,0),FALSE),\"n/a\"))","v":43.613313209410542},{"$f":"IF(LEFT($H103,5)=\"Barge\",VLOOKUP($A103&AK$91,Barge_Rate_Master,MATCH($H103,'Barge Rate Inputs'!$A$4:$AD$4,0),FALSE),IF(LEFT($H103,3)=\"CSX\",VLOOKUP($A103&AK$91,CSX_Rate_Master,MATCH($H103,'CSX Rate Inputs'!$A$4:$Z$4,0),FALSE),\"n/a\"))","v":44.389279903434385},{"$f":"IF(LEFT($H103,5)=\"Barge\",VLOOKUP($A103&AL$91,Barge_Rate_Master,MATCH($H103,'Barge Rate Inputs'!$A$4:$AD$4,0),FALSE),IF(LEFT($H103,3)=\"CSX\",VLOOKUP($A103&AL$91,CSX_Rate_Master,MATCH($H103,'CSX Rate Inputs'!$A$4:$Z$4,0),FALSE),\"n/a\"))","v":45.319252980348985},{"$f":"IF(LEFT($H103,5)=\"Barge\",VLOOKUP($A103&AM$91,Barge_Rate_Master,MATCH($H103,'Barge Rate Inputs'!$A$4:$AD$4,0),FALSE),IF(LEFT($H103,3)=\"CSX\",VLOOKUP($A103&AM$91,CSX_Rate_Master,MATCH($H103,'CSX Rate Inputs'!$A$4:$Z$4,0),FALSE),\"n/a\"))","v":46.266741467985469},{"$f":"IF(LEFT($H103,5)=\"Barge\",VLOOKUP($A103&AN$91,Barge_Rate_Master,MATCH($H103,'Barge Rate Inputs'!$A$4:$AD$4,0),FALSE),IF(LEFT($H103,3)=\"CSX\",VLOOKUP($A103&AN$91,CSX_Rate_Master,MATCH($H103,'CSX Rate Inputs'!$A$4:$Z$4,0),FALSE),\"n/a\"))","v":47.083926462737203},{"$f":"IF(LEFT($H103,5)=\"Barge\",VLOOKUP($A103&AO$91,Barge_Rate_Master,MATCH($H103,'Barge Rate Inputs'!$A$4:$AD$4,0),FALSE),IF(LEFT($H103,3)=\"CSX\",VLOOKUP($A103&AO$91,CSX_Rate_Master,MATCH($H103,'CSX Rate Inputs'!$A$4:$Z$4,0),FALSE),\"n/a\"))","v":48.067082713989159}]
["Crystal River 4&5 ","ILB","Low Chlorine","Rail",11500,5.2,{"$f":"G85","v":10},"CSX Western KY",null,{"$f":"IF(LEFT($H104,5)=\"Barge\",VLOOKUP($A104&J$91,Barge_Rate_Master,MATCH($H104,'Barge Rate Inputs'!$A$4:$AD$4,0),FALSE),IF(LEFT($H104,3)=\"CSX\",VLOOKUP($A104&J$91,CSX_Rate_Master,MATCH($H104,'CSX Rate Inputs'!$A$4:$Z$4,0),FALSE),\"n/a\"))","v":17.78},{"$f":"IF(LEFT($H104,5)=\"Barge\",VLOOKUP($A104&K$91,Barge_Rate_Master,MATCH($H104,'Barge Rate Inputs'!$A$4:$AD$4,0),FALSE),IF(LEFT($H104,3)=\"CSX\",VLOOKUP($A104&K$91,CSX_Rate_Master,MATCH($H104,'CSX Rate Inputs'!$A$4:$Z$4,0),FALSE),\"n/a\"))","v":17.940661040120002},{"$f":"IF(LEFT($H104,5)=\"Barge\",VLOOKUP($A104&L$91,Barge_Rate_Master,MATCH($H104,'Barge Rate Inputs'!$A$4:$AD$4,0),FALSE),IF(LEFT($H104,3)=\"CSX\",VLOOKUP($A104&L$91,CSX_Rate_Master,MATCH($H104,'CSX Rate Inputs'!$A$4:$Z$4,0),FALSE),\"n/a\"))","v":18.375127611849781},{"$f":"IF(LEFT($H104,5)=\"Barge\",VLOOKUP($A104&M$91,Barge_Rate_Master,MATCH($H104,'Barge Rate Inputs'!$A$4:$AD$4,0),FALSE),IF(LEFT($H104,3)=\"CSX\",VLOOKUP($A104&M$91,CSX_Rate_Master,MATCH($H104,'CSX Rate Inputs'!$A$4:$Z$4,0),FALSE),\"n/a\"))","v":18.82011560202276},{"$f":"IF(LEFT($H104,5)=\"Barge\",VLOOKUP($A104&N$91,Barge_Rate_Master,MATCH($H104,'Barge Rate Inputs'!$A$4:$AD$4,0),FALSE),IF(LEFT($H104,3)=\"CSX\",VLOOKUP($A104&N$91,CSX_Rate_Master,MATCH($H104,'CSX Rate Inputs'!$A$4:$Z$4,0),FALSE),\"n/a\"))","v":19.275879806412096},{"$f":"IF(LEFT($H104,5)=\"Barge\",VLOOKUP($A104&O$91,Barge_Rate_Master,MATCH($H104,'Barge Rate Inputs'!$A$4:$AD$4,0),FALSE),IF(LEFT($H104,3)=\"CSX\",VLOOKUP($A104&O$91,CSX_Rate_Master,MATCH($H104,'CSX Rate Inputs'!$A$4:$Z$4,0),FALSE),\"n/a\"))","v":19.742681191145866},{"$f":"IF(LEFT($H104,5)=\"Barge\",VLOOKUP($A104&P$91,Barge_Rate_Master,MATCH($H104,'Barge Rate Inputs'!$A$4:$AD$4,0),FALSE),IF(LEFT($H104,3)=\"CSX\",VLOOKUP($A104&P$91,CSX_Rate_Master,MATCH($H104,'CSX Rate Inputs'!$A$4:$Z$4,0),FALSE),\"n/a\"))","v":20.220787042133718},{"$f":"IF(LEFT($H104,5)=\"Barge\",VLOOKUP($A104&Q$91,Barge_Rate_Master,MATCH($H104,'Barge Rate Inputs'!$A$4:$AD$4,0),FALSE),IF(LEFT($H104,3)=\"CSX\",VLOOKUP($A104&Q$91,CSX_Rate_Master,MATCH($H104,'CSX Rate Inputs'!$A$4:$Z$4,0),FALSE),\"n/a\"))","v":20.726306718187061},{"$f":"IF(LEFT($H104,5)=\"Barge\",VLOOKUP($A104&R$91,Barge_Rate_Master,MATCH($H104,'Barge Rate Inputs'!$A$4:$AD$4,0),FALSE),IF(LEFT($H104,3)=\"CSX\",VLOOKUP($A104&R$91,CSX_Rate_Master,MATCH($H104,'CSX Rate Inputs'!$A$4:$Z$4,0),FALSE),\"n/a\"))","v":21.140832852550801},{"$f":"IF(LEFT($H104,5)=\"Barge\",VLOOKUP($A104&S$91,Barge_Rate_Master,MATCH($H104,'Barge Rate Inputs'!$A$4:$AD$4,0),FALSE),IF(LEFT($H104,3)=\"CSX\",VLOOKUP($A104&S$91,CSX_Rate_Master,MATCH($H104,'CSX Rate Inputs'!$A$4:$Z$4,0),FALSE),\"n/a\"))","v":21.563649509601817},{"$f":"IF(LEFT($H104,5)=\"Barge\",VLOOKUP($A104&T$91,Barge_Rate_Master,MATCH($H104,'Barge Rate Inputs'!$A$4:$AD$4,0),FALSE),IF(LEFT($H104,3)=\"CSX\",VLOOKUP($A104&T$91,CSX_Rate_Master,MATCH($H104,'CSX Rate Inputs'!$A$4:$Z$4,0),FALSE),\"n/a\"))","v":21.994922499793855},{"$f":"IF(LEFT($H104,5)=\"Barge\",VLOOKUP($A104&U$91,Barge_Rate_Master,MATCH($H104,'Barge Rate Inputs'!$A$4:$AD$4,0),FALSE),IF(LEFT($H104,3)=\"CSX\",VLOOKUP($A104&U$91,CSX_Rate_Master,MATCH($H104,'CSX Rate Inputs'!$A$4:$Z$4,0),FALSE),\"n/a\"))","v":22.434820949789732},{"$f":"IF(LEFT($H104,5)=\"Barge\",VLOOKUP($A104&V$91,Barge_Rate_Master,MATCH($H104,'Barge Rate Inputs'!$A$4:$AD$4,0),FALSE),IF(LEFT($H104,3)=\"CSX\",VLOOKUP($A104&V$91,CSX_Rate_Master,MATCH($H104,'CSX Rate Inputs'!$A$4:$Z$4,0),FALSE),\"n/a\"))","v":22.883517368785526},{"$f":"IF(LEFT($H104,5)=\"Barge\",VLOOKUP($A104&W$91,Barge_Rate_Master,MATCH($H104,'Barge Rate Inputs'!$A$4:$AD$4,0),FALSE),IF(LEFT($H104,3)=\"CSX\",VLOOKUP($A104&W$91,CSX_Rate_Master,MATCH($H104,'CSX Rate Inputs'!$A$4:$Z$4,0),FALSE),\"n/a\"))","v":23.341187716161237},{"$f":"IF(LEFT($H104,5)=\"Barge\",VLOOKUP($A104&X$91,Barge_Rate_Master,MATCH($H104,'Barge Rate Inputs'!$A$4:$AD$4,0),FALSE),IF(LEFT($H104,3)=\"CSX\",VLOOKUP($A104&X$91,CSX_Rate_Master,MATCH($H104,'CSX Rate Inputs'!$A$4:$Z$4,0),FALSE),\"n/a\"))","v":23.808011470484463},{"$f":"IF(LEFT($H104,5)=\"Barge\",VLOOKUP($A104&Y$91,Barge_Rate_Master,MATCH($H104,'Barge Rate Inputs'!$A$4:$AD$4,0),FALSE),IF(LEFT($H104,3)=\"CSX\",VLOOKUP($A104&Y$91,CSX_Rate_Master,MATCH($H104,'CSX Rate Inputs'!$A$4:$Z$4,0),FALSE),\"n/a\"))","v":24.284171699894152},{"$f":"IF(LEFT($H104,5)=\"Barge\",VLOOKUP($A104&Z$91,Barge_Rate_Master,MATCH($H104,'Barge Rate Inputs'!$A$4:$AD$4,0),FALSE),IF(LEFT($H104,3)=\"CSX\",VLOOKUP($A104&Z$91,CSX_Rate_Master,MATCH($H104,'CSX Rate Inputs'!$A$4:$Z$4,0),FALSE),\"n/a\"))","v":24.769855133892037},{"$f":"IF(LEFT($H104,5)=\"Barge\",VLOOKUP($A104&AA$91,Barge_Rate_Master,MATCH($H104,'Barge Rate Inputs'!$A$4:$AD$4,0),FALSE),IF(LEFT($H104,3)=\"CSX\",VLOOKUP($A104&AA$91,CSX_Rate_Master,MATCH($H104,'CSX Rate Inputs'!$A$4:$Z$4,0),FALSE),\"n/a\"))","v":25.265252236569879},{"$f":"IF(LEFT($H104,5)=\"Barge\",VLOOKUP($A104&AB$91,Barge_Rate_Master,MATCH($H104,'Barge Rate Inputs'!$A$4:$AD$4,0),FALSE),IF(LEFT($H104,3)=\"CSX\",VLOOKUP($A104&AB$91,CSX_Rate_Master,MATCH($H104,'CSX Rate Inputs'!$A$4:$Z$4,0),FALSE),\"n/a\"))","v":25.770557281301276},{"$f":"IF(LEFT($H104,5)=\"Barge\",VLOOKUP($A104&AC$91,Barge_Rate_Master,MATCH($H104,'Barge Rate Inputs'!$A$4:$AD$4,0),FALSE),IF(LEFT($H104,3)=\"CSX\",VLOOKUP($A104&AC$91,CSX_Rate_Master,MATCH($H104,'CSX Rate Inputs'!$A$4:$Z$4,0),FALSE),\"n/a\"))","v":26.285968426927301},{"$f":"IF(LEFT($H104,5)=\"Barge\",VLOOKUP($A104&AD$91,Barge_Rate_Master,MATCH($H104,'Barge Rate Inputs'!$A$4:$AD$4,0),FALSE),IF(LEFT($H104,3)=\"CSX\",VLOOKUP($A104&AD$91,CSX_Rate_Master,MATCH($H104,'CSX Rate Inputs'!$A$4:$Z$4,0),FALSE),\"n/a\"))","v":26.811687795465847},{"$f":"IF(LEFT($H104,5)=\"Barge\",VLOOKUP($A104&AE$91,Barge_Rate_Master,MATCH($H104,'Barge Rate Inputs'!$A$4:$AD$4,0),FALSE),IF(LEFT($H104,3)=\"CSX\",VLOOKUP($A104&AE$91,CSX_Rate_Master,MATCH($H104,'CSX Rate Inputs'!$A$4:$Z$4,0),FALSE),\"n/a\"))","v":27.347921551375165},{"$f":"IF(LEFT($H104,5)=\"Barge\",VLOOKUP($A104&AF$91,Barge_Rate_Master,MATCH($H104,'Barge Rate Inputs'!$A$4:$AD$4,0),FALSE),IF(LEFT($H104,3)=\"CSX\",VLOOKUP($A104&AF$91,CSX_Rate_Master,MATCH($H104,'CSX Rate Inputs'!$A$4:$Z$4,0),FALSE),\"n/a\"))","v":27.894879982402671},{"$f":"IF(LEFT($H104,5)=\"Barge\",VLOOKUP($A104&AG$91,Barge_Rate_Master,MATCH($H104,'Barge Rate Inputs'!$A$4:$AD$4,0),FALSE),IF(LEFT($H104,3)=\"CSX\",VLOOKUP($A104&AG$91,CSX_Rate_Master,MATCH($H104,'CSX Rate Inputs'!$A$4:$Z$4,0),FALSE),\"n/a\"))","v":28.452777582050725},{"$f":"IF(LEFT($H104,5)=\"Barge\",VLOOKUP($A104&AH$91,Barge_Rate_Master,MATCH($H104,'Barge Rate Inputs'!$A$4:$AD$4,0),FALSE),IF(LEFT($H104,3)=\"CSX\",VLOOKUP($A104&AH$91,CSX_Rate_Master,MATCH($H104,'CSX Rate Inputs'!$A$4:$Z$4,0),FALSE),\"n/a\"))","v":29.021833133691739},{"$f":"IF(LEFT($H104,5)=\"Barge\",VLOOKUP($A104&AI$91,Barge_Rate_Master,MATCH($H104,'Barge Rate Inputs'!$A$4:$AD$4,0),FALSE),IF(LEFT($H104,3)=\"CSX\",VLOOKUP($A104&AI$91,CSX_Rate_Master,MATCH($H104,'CSX Rate Inputs'!$A$4:$Z$4,0),FALSE),\"n/a\"))","v":29.602269796365576},{"$f":"IF(LEFT($H104,5)=\"Barge\",VLOOKUP($A104&AJ$91,Barge_Rate_Master,MATCH($H104,'Barge Rate Inputs'!$A$4:$AD$4,0),FALSE),IF(LEFT($H104,3)=\"CSX\",VLOOKUP($A104&AJ$91,CSX_Rate_Master,MATCH($H104,'CSX Rate Inputs'!$A$4:$Z$4,0),FALSE),\"n/a\"))","v":30.194315192292887},{"$f":"IF(LEFT($H104,5)=\"Barge\",VLOOKUP($A104&AK$91,Barge_Rate_Master,MATCH($H104,'Barge Rate Inputs'!$A$4:$AD$4,0),FALSE),IF(LEFT($H104,3)=\"CSX\",VLOOKUP($A104&AK$91,CSX_Rate_Master,MATCH($H104,'CSX Rate Inputs'!$A$4:$Z$4,0),FALSE),\"n/a\"))","v":30.798201496138745},{"$f":"IF(LEFT($H104,5)=\"Barge\",VLOOKUP($A104&AL$91,Barge_Rate_Master,MATCH($H104,'Barge Rate Inputs'!$A$4:$AD$4,0),FALSE),IF(LEFT($H104,3)=\"CSX\",VLOOKUP($A104&AL$91,CSX_Rate_Master,MATCH($H104,'CSX Rate Inputs'!$A$4:$Z$4,0),FALSE),\"n/a\"))","v":31.41416552606152},{"$f":"IF(LEFT($H104,5)=\"Barge\",VLOOKUP($A104&AM$91,Barge_Rate_Master,MATCH($H104,'Barge Rate Inputs'!$A$4:$AD$4,0),FALSE),IF(LEFT($H104,3)=\"CSX\",VLOOKUP($A104&AM$91,CSX_Rate_Master,MATCH($H104,'CSX Rate Inputs'!$A$4:$Z$4,0),FALSE),\"n/a\"))","v":32.04244883658275},{"$f":"IF(LEFT($H104,5)=\"Barge\",VLOOKUP($A104&AN$91,Barge_Rate_Master,MATCH($H104,'Barge Rate Inputs'!$A$4:$AD$4,0),FALSE),IF(LEFT($H104,3)=\"CSX\",VLOOKUP($A104&AN$91,CSX_Rate_Master,MATCH($H104,'CSX Rate Inputs'!$A$4:$Z$4,0),FALSE),\"n/a\"))","v":32.683297813314404},{"$f":"IF(LEFT($H104,5)=\"Barge\",VLOOKUP($A104&AO$91,Barge_Rate_Master,MATCH($H104,'Barge Rate Inputs'!$A$4:$AD$4,0),FALSE),IF(LEFT($H104,3)=\"CSX\",VLOOKUP($A104&AO$91,CSX_Rate_Master,MATCH($H104,'CSX Rate Inputs'!$A$4:$Z$4,0),FALSE),\"n/a\"))","v":33.336963769580692}]
["Crystal River 4&5 ",{"$f":"B86","v":"PRB"},"High-Btu Gillette","Rail",8800,0.8,5,"CSX PRB",null,{"$f":"IF(LEFT($H105,5)=\"Barge\",VLOOKUP($A105&J$91,Barge_Rate_Master,MATCH($H105,'Barge Rate Inputs'!$A$4:$AD$4,0),FALSE),IF(LEFT($H105,3)=\"CSX\",VLOOKUP($A105&J$91,CSX_Rate_Master,MATCH($H105,'CSX Rate Inputs'!$A$4:$Z$4,0),FALSE),\"n/a\"))","v":41.98},{"$f":"IF(LEFT($H105,5)=\"Barge\",VLOOKUP($A105&K$91,Barge_Rate_Master,MATCH($H105,'Barge Rate Inputs'!$A$4:$AD$4,0),FALSE),IF(LEFT($H105,3)=\"CSX\",VLOOKUP($A105&K$91,CSX_Rate_Master,MATCH($H105,'CSX Rate Inputs'!$A$4:$Z$4,0),FALSE),\"n/a\"))","v":42.359333546919991},{"$f":"IF(LEFT($H105,5)=\"Barge\",VLOOKUP($A105&L$91,Barge_Rate_Master,MATCH($H105,'Barge Rate Inputs'!$A$4:$AD$4,0),FALSE),IF(LEFT($H105,3)=\"CSX\",VLOOKUP($A105&L$91,CSX_Rate_Master,MATCH($H105,'CSX Rate Inputs'!$A$4:$Z$4,0),FALSE),\"n/a\"))","v":43.385143821454101},{"$f":"IF(LEFT($H105,5)=\"Barge\",VLOOKUP($A105&M$91,Barge_Rate_Master,MATCH($H105,'Barge Rate Inputs'!$A$4:$AD$4,0),FALSE),IF(LEFT($H105,3)=\"CSX\",VLOOKUP($A105&M$91,CSX_Rate_Master,MATCH($H105,'CSX Rate Inputs'!$A$4:$Z$4,0),FALSE),\"n/a\"))","v":44.435796005225832},{"$f":"IF(LEFT($H105,5)=\"Barge\",VLOOKUP($A105&N$91,Barge_Rate_Master,MATCH($H105,'Barge Rate Inputs'!$A$4:$AD$4,0),FALSE),IF(LEFT($H105,3)=\"CSX\",VLOOKUP($A105&N$91,CSX_Rate_Master,MATCH($H105,'CSX Rate Inputs'!$A$4:$Z$4,0),FALSE),\"n/a\"))","v":45.511891691404934},{"$f":"IF(LEFT($H105,5)=\"Barge\",VLOOKUP($A105&O$91,Barge_Rate_Master,MATCH($H105,'Barge Rate Inputs'!$A$4:$AD$4,0),FALSE),IF(LEFT($H105,3)=\"CSX\",VLOOKUP($A105&O$91,CSX_Rate_Master,MATCH($H105,'CSX Rate Inputs'!$A$4:$Z$4,0),FALSE),\"n/a\"))","v":46.614047041861831},{"$f":"IF(LEFT($H105,5)=\"Barge\",VLOOKUP($A105&P$91,Barge_Rate_Master,MATCH($H105,'Barge Rate Inputs'!$A$4:$AD$4,0),FALSE),IF(LEFT($H105,3)=\"CSX\",VLOOKUP($A105&P$91,CSX_Rate_Master,MATCH($H105,'CSX Rate Inputs'!$A$4:$Z$4,0),FALSE),\"n/a\"))","v":47.742893139975997},{"$f":"IF(LEFT($H105,5)=\"Barge\",VLOOKUP($A105&Q$91,Barge_Rate_Master,MATCH($H105,'Barge Rate Inputs'!$A$4:$AD$4,0),FALSE),IF(LEFT($H105,3)=\"CSX\",VLOOKUP($A105&Q$91,CSX_Rate_Master,MATCH($H105,'CSX Rate Inputs'!$A$4:$Z$4,0),FALSE),\"n/a\"))","v":48.93646546847539},{"$f":"IF(LEFT($H105,5)=\"Barge\",VLOOKUP($A105&R$91,Barge_Rate_Master,MATCH($H105,'Barge Rate Inputs'!$A$4:$AD$4,0),FALSE),IF(LEFT($H105,3)=\"CSX\",VLOOKUP($A105&R$91,CSX_Rate_Master,MATCH($H105,'CSX Rate Inputs'!$A$4:$Z$4,0),FALSE),\"n/a\"))","v":49.915194777844896},{"$f":"IF(LEFT($H105,5)=\"Barge\",VLOOKUP($A105&S$91,Barge_Rate_Master,MATCH($H105,'Barge Rate Inputs'!$A$4:$AD$4,0),FALSE),IF(LEFT($H105,3)=\"CSX\",VLOOKUP($A105&S$91,CSX_Rate_Master,MATCH($H105,'CSX Rate Inputs'!$A$4:$Z$4,0),FALSE),\"n/a\"))","v":50.913498673401797},{"$f":"IF(LEFT($H105,5)=\"Barge\",VLOOKUP($A105&T$91,Barge_Rate_Master,MATCH($H105,'Barge Rate Inputs'!$A$4:$AD$4,0),FALSE),IF(LEFT($H105,3)=\"CSX\",VLOOKUP($A105&T$91,CSX_Rate_Master,MATCH($H105,'CSX Rate Inputs'!$A$4:$Z$4,0),FALSE),\"n/a\"))","v":51.931768646869834},{"$f":"IF(LEFT($H105,5)=\"Barge\",VLOOKUP($A105&U$91,Barge_Rate_Master,MATCH($H105,'Barge Rate Inputs'!$A$4:$AD$4,0),FALSE),IF(LEFT($H105,3)=\"CSX\",VLOOKUP($A105&U$91,CSX_Rate_Master,MATCH($H105,'CSX Rate Inputs'!$A$4:$Z$4,0),FALSE),\"n/a\"))","v":52.970404019807233},{"$f":"IF(LEFT($H105,5)=\"Barge\",VLOOKUP($A105&V$91,Barge_Rate_Master,MATCH($H105,'Barge Rate Inputs'!$A$4:$AD$4,0),FALSE),IF(LEFT($H105,3)=\"CSX\",VLOOKUP($A105&V$91,CSX_Rate_Master,MATCH($H105,'CSX Rate Inputs'!$A$4:$Z$4,0),FALSE),\"n/a\"))","v":54.02981210020338},{"$f":"IF(LEFT($H105,5)=\"Barge\",VLOOKUP($A105&W$91,Barge_Rate_Master,MATCH($H105,'Barge Rate Inputs'!$A$4:$AD$4,0),FALSE),IF(LEFT($H105,3)=\"CSX\",VLOOKUP($A105&W$91,CSX_Rate_Master,MATCH($H105,'CSX Rate Inputs'!$A$4:$Z$4,0),FALSE),\"n/a\"))","v":55.11040834220745},{"$f":"IF(LEFT($H105,5)=\"Barge\",VLOOKUP($A105&X$91,Barge_Rate_Master,MATCH($H105,'Barge Rate Inputs'!$A$4:$AD$4,0),FALSE),IF(LEFT($H105,3)=\"CSX\",VLOOKUP($A105&X$91,CSX_Rate_Master,MATCH($H105,'CSX Rate Inputs'!$A$4:$Z$4,0),FALSE),\"n/a\"))","v":56.2126165090516},{"$f":"IF(LEFT($H105,5)=\"Barge\",VLOOKUP($A105&Y$91,Barge_Rate_Master,MATCH($H105,'Barge Rate Inputs'!$A$4:$AD$4,0),FALSE),IF(LEFT($H105,3)=\"CSX\",VLOOKUP($A105&Y$91,CSX_Rate_Master,MATCH($H105,'CSX Rate Inputs'!$A$4:$Z$4,0),FALSE),\"n/a\"))","v":57.336868839232636},{"$f":"IF(LEFT($H105,5)=\"Barge\",VLOOKUP($A105&Z$91,Barge_Rate_Master,MATCH($H105,'Barge Rate Inputs'!$A$4:$AD$4,0),FALSE),IF(LEFT($H105,3)=\"CSX\",VLOOKUP($A105&Z$91,CSX_Rate_Master,MATCH($H105,'CSX Rate Inputs'!$A$4:$Z$4,0),FALSE),\"n/a\"))","v":58.483606216017293},{"$f":"IF(LEFT($H105,5)=\"Barge\",VLOOKUP($A105&AA$91,Barge_Rate_Master,MATCH($H105,'Barge Rate Inputs'!$A$4:$AD$4,0),FALSE),IF(LEFT($H105,3)=\"CSX\",VLOOKUP($A105&AA$91,CSX_Rate_Master,MATCH($H105,'CSX Rate Inputs'!$A$4:$Z$4,0),FALSE),\"n/a\"))","v":59.653278340337643},{"$f":"IF(LEFT($H105,5)=\"Barge\",VLOOKUP($A105&AB$91,Barge_Rate_Master,MATCH($H105,'Barge Rate Inputs'!$A$4:$AD$4,0),FALSE),IF(LEFT($H105,3)=\"CSX\",VLOOKUP($A105&AB$91,CSX_Rate_Master,MATCH($H105,'CSX Rate Inputs'!$A$4:$Z$4,0),FALSE),\"n/a\"))","v":60.846343907144394},{"$f":"IF(LEFT($H105,5)=\"Barge\",VLOOKUP($A105&AC$91,Barge_Rate_Master,MATCH($H105,'Barge Rate Inputs'!$A$4:$AD$4,0),FALSE),IF(LEFT($H105,3)=\"CSX\",VLOOKUP($A105&AC$91,CSX_Rate_Master,MATCH($H105,'CSX Rate Inputs'!$A$4:$Z$4,0),FALSE),\"n/a\"))","v":62.06327078528728},{"$f":"IF(LEFT($H105,5)=\"Barge\",VLOOKUP($A105&AD$91,Barge_Rate_Master,MATCH($H105,'Barge Rate Inputs'!$A$4:$AD$4,0),FALSE),IF(LEFT($H105,3)=\"CSX\",VLOOKUP($A105&AD$91,CSX_Rate_Master,MATCH($H105,'CSX Rate Inputs'!$A$4:$Z$4,0),FALSE),\"n/a\"))","v":63.304536200993027},{"$f":"IF(LEFT($H105,5)=\"Barge\",VLOOKUP($A105&AE$91,Barge_Rate_Master,MATCH($H105,'Barge Rate Inputs'!$A$4:$AD$4,0),FALSE),IF(LEFT($H105,3)=\"CSX\",VLOOKUP($A105&AE$91,CSX_Rate_Master,MATCH($H105,'CSX Rate Inputs'!$A$4:$Z$4,0),FALSE),\"n/a\"))","v":64.570626925012888},{"$f":"IF(LEFT($H105,5)=\"Barge\",VLOOKUP($A105&AF$91,Barge_Rate_Master,MATCH($H105,'Barge Rate Inputs'!$A$4:$AD$4,0),FALSE),IF(LEFT($H105,3)=\"CSX\",VLOOKUP($A105&AF$91,CSX_Rate_Master,MATCH($H105,'CSX Rate Inputs'!$A$4:$Z$4,0),FALSE),\"n/a\"))","v":65.862039463513142},{"$f":"IF(LEFT($H105,5)=\"Barge\",VLOOKUP($A105&AG$91,Barge_Rate_Master,MATCH($H105,'Barge Rate Inputs'!$A$4:$AD$4,0),FALSE),IF(LEFT($H105,3)=\"CSX\",VLOOKUP($A105&AG$91,CSX_Rate_Master,MATCH($H105,'CSX Rate Inputs'!$A$4:$Z$4,0),FALSE),\"n/a\"))","v":67.1792802527834},{"$f":"IF(LEFT($H105,5)=\"Barge\",VLOOKUP($A105&AH$91,Barge_Rate_Master,MATCH($H105,'Barge Rate Inputs'!$A$4:$AD$4,0),FALSE),IF(LEFT($H105,3)=\"CSX\",VLOOKUP($A105&AH$91,CSX_Rate_Master,MATCH($H105,'CSX Rate Inputs'!$A$4:$Z$4,0),FALSE),\"n/a\"))","v":68.522865857839065},{"$f":"IF(LEFT($H105,5)=\"Barge\",VLOOKUP($A105&AI$91,Barge_Rate_Master,MATCH($H105,'Barge Rate Inputs'!$A$4:$AD$4,0),FALSE),IF(LEFT($H105,3)=\"CSX\",VLOOKUP($A105&AI$91,CSX_Rate_Master,MATCH($H105,'CSX Rate Inputs'!$A$4:$Z$4,0),FALSE),\"n/a\"))","v":69.893323174995842},{"$f":"IF(LEFT($H105,5)=\"Barge\",VLOOKUP($A105&AJ$91,Barge_Rate_Master,MATCH($H105,'Barge Rate Inputs'!$A$4:$AD$4,0),FALSE),IF(LEFT($H105,3)=\"CSX\",VLOOKUP($A105&AJ$91,CSX_Rate_Master,MATCH($H105,'CSX Rate Inputs'!$A$4:$Z$4,0),FALSE),\"n/a\"))","v":71.291189638495766},{"$f":"IF(LEFT($H105,5)=\"Barge\",VLOOKUP($A105&AK$91,Barge_Rate_Master,MATCH($H105,'Barge Rate Inputs'!$A$4:$AD$4,0),FALSE),IF(LEFT($H105,3)=\"CSX\",VLOOKUP($A105&AK$91,CSX_Rate_Master,MATCH($H105,'CSX Rate Inputs'!$A$4:$Z$4,0),FALSE),\"n/a\"))","v":72.717013431265684},{"$f":"IF(LEFT($H105,5)=\"Barge\",VLOOKUP($A105&AL$91,Barge_Rate_Master,MATCH($H105,'Barge Rate Inputs'!$A$4:$AD$4,0),FALSE),IF(LEFT($H105,3)=\"CSX\",VLOOKUP($A105&AL$91,CSX_Rate_Master,MATCH($H105,'CSX Rate Inputs'!$A$4:$Z$4,0),FALSE),\"n/a\"))","v":74.171353699891},{"$f":"IF(LEFT($H105,5)=\"Barge\",VLOOKUP($A105&AM$91,Barge_Rate_Master,MATCH($H105,'Barge Rate Inputs'!$A$4:$AD$4,0),FALSE),IF(LEFT($H105,3)=\"CSX\",VLOOKUP($A105&AM$91,CSX_Rate_Master,MATCH($H105,'CSX Rate Inputs'!$A$4:$Z$4,0),FALSE),\"n/a\"))","v":75.654780773888817},{"$f":"IF(LEFT($H105,5)=\"Barge\",VLOOKUP($A105&AN$91,Barge_Rate_Master,MATCH($H105,'Barge Rate Inputs'!$A$4:$AD$4,0),FALSE),IF(LEFT($H105,3)=\"CSX\",VLOOKUP($A105&AN$91,CSX_Rate_Master,MATCH($H105,'CSX Rate Inputs'!$A$4:$Z$4,0),FALSE),\"n/a\"))","v":77.167876389366597},{"$f":"IF(LEFT($H105,5)=\"Barge\",VLOOKUP($A105&AO$91,Barge_Rate_Master,MATCH($H105,'Barge Rate Inputs'!$A$4:$AD$4,0),FALSE),IF(LEFT($H105,3)=\"CSX\",VLOOKUP($A105&AO$91,CSX_Rate_Master,MATCH($H105,'CSX Rate Inputs'!$A$4:$Z$4,0),FALSE),\"n/a\"))","v":78.711233917153933}]
["Crystal River 4&5 ",{"$f":"B87","v":"RM"},"Rockies","Rail",11700,0.8,8,"CSX UP",null,{"$f":"IF(LEFT($H106,5)=\"Barge\",VLOOKUP($A106&J$91,Barge_Rate_Master,MATCH($H106,'Barge Rate Inputs'!$A$4:$AD$4,0),FALSE),IF(LEFT($H106,3)=\"CSX\",VLOOKUP($A106&J$91,CSX_Rate_Master,MATCH($H106,'CSX Rate Inputs'!$A$4:$Z$4,0),FALSE),\"n/a\"))","v":58.88},{"$f":"IF(LEFT($H106,5)=\"Barge\",VLOOKUP($A106&K$91,Barge_Rate_Master,MATCH($H106,'Barge Rate Inputs'!$A$4:$AD$4,0),FALSE),IF(LEFT($H106,3)=\"CSX\",VLOOKUP($A106&K$91,CSX_Rate_Master,MATCH($H106,'CSX Rate Inputs'!$A$4:$Z$4,0),FALSE),\"n/a\"))","v":59.412042859520007},{"$f":"IF(LEFT($H106,5)=\"Barge\",VLOOKUP($A106&L$91,Barge_Rate_Master,MATCH($H106,'Barge Rate Inputs'!$A$4:$AD$4,0),FALSE),IF(LEFT($H106,3)=\"CSX\",VLOOKUP($A106&L$91,CSX_Rate_Master,MATCH($H106,'CSX Rate Inputs'!$A$4:$Z$4,0),FALSE),\"n/a\"))","v":60.850816298409178},{"$f":"IF(LEFT($H106,5)=\"Barge\",VLOOKUP($A106&M$91,Barge_Rate_Master,MATCH($H106,'Barge Rate Inputs'!$A$4:$AD$4,0),FALSE),IF(LEFT($H106,3)=\"CSX\",VLOOKUP($A106&M$91,CSX_Rate_Master,MATCH($H106,'CSX Rate Inputs'!$A$4:$Z$4,0),FALSE),\"n/a\"))","v":62.32443231985939},{"$f":"IF(LEFT($H106,5)=\"Barge\",VLOOKUP($A106&N$91,Barge_Rate_Master,MATCH($H106,'Barge Rate Inputs'!$A$4:$AD$4,0),FALSE),IF(LEFT($H106,3)=\"CSX\",VLOOKUP($A106&N$91,CSX_Rate_Master,MATCH($H106,'CSX Rate Inputs'!$A$4:$Z$4,0),FALSE),\"n/a\"))","v":63.833734701999099},{"$f":"IF(LEFT($H106,5)=\"Barge\",VLOOKUP($A106&O$91,Barge_Rate_Master,MATCH($H106,'Barge Rate Inputs'!$A$4:$AD$4,0),FALSE),IF(LEFT($H106,3)=\"CSX\",VLOOKUP($A106&O$91,CSX_Rate_Master,MATCH($H106,'CSX Rate Inputs'!$A$4:$Z$4,0),FALSE),\"n/a\"))","v":65.379587656618},{"$f":"IF(LEFT($H106,5)=\"Barge\",VLOOKUP($A106&P$91,Barge_Rate_Master,MATCH($H106,'Barge Rate Inputs'!$A$4:$AD$4,0),FALSE),IF(LEFT($H106,3)=\"CSX\",VLOOKUP($A106&P$91,CSX_Rate_Master,MATCH($H106,'CSX Rate Inputs'!$A$4:$Z$4,0),FALSE),\"n/a\"))","v":66.962876324006317},{"$f":"IF(LEFT($H106,5)=\"Barge\",VLOOKUP($A106&Q$91,Barge_Rate_Master,MATCH($H106,'Barge Rate Inputs'!$A$4:$AD$4,0),FALSE),IF(LEFT($H106,3)=\"CSX\",VLOOKUP($A106&Q$91,CSX_Rate_Master,MATCH($H106,'CSX Rate Inputs'!$A$4:$Z$4,0),FALSE),\"n/a\"))","v":68.636948232106462},{"$f":"IF(LEFT($H106,5)=\"Barge\",VLOOKUP($A106&R$91,Barge_Rate_Master,MATCH($H106,'Barge Rate Inputs'!$A$4:$AD$4,0),FALSE),IF(LEFT($H106,3)=\"CSX\",VLOOKUP($A106&R$91,CSX_Rate_Master,MATCH($H106,'CSX Rate Inputs'!$A$4:$Z$4,0),FALSE),\"n/a\"))","v":70.009687196748587},{"$f":"IF(LEFT($H106,5)=\"Barge\",VLOOKUP($A106&S$91,Barge_Rate_Master,MATCH($H106,'Barge Rate Inputs'!$A$4:$AD$4,0),FALSE),IF(LEFT($H106,3)=\"CSX\",VLOOKUP($A106&S$91,CSX_Rate_Master,MATCH($H106,'CSX Rate Inputs'!$A$4:$Z$4,0),FALSE),\"n/a\"))","v":71.409880940683564},{"$f":"IF(LEFT($H106,5)=\"Barge\",VLOOKUP($A106&T$91,Barge_Rate_Master,MATCH($H106,'Barge Rate Inputs'!$A$4:$AD$4,0),FALSE),IF(LEFT($H106,3)=\"CSX\",VLOOKUP($A106&T$91,CSX_Rate_Master,MATCH($H106,'CSX Rate Inputs'!$A$4:$Z$4,0),FALSE),\"n/a\"))","v":72.838078559497234},{"$f":"IF(LEFT($H106,5)=\"Barge\",VLOOKUP($A106&U$91,Barge_Rate_Master,MATCH($H106,'Barge Rate Inputs'!$A$4:$AD$4,0),FALSE),IF(LEFT($H106,3)=\"CSX\",VLOOKUP($A106&U$91,CSX_Rate_Master,MATCH($H106,'CSX Rate Inputs'!$A$4:$Z$4,0),FALSE),\"n/a\"))","v":74.294840130687177},{"$f":"IF(LEFT($H106,5)=\"Barge\",VLOOKUP($A106&V$91,Barge_Rate_Master,MATCH($H106,'Barge Rate Inputs'!$A$4:$AD$4,0),FALSE),IF(LEFT($H106,3)=\"CSX\",VLOOKUP($A106&V$91,CSX_Rate_Master,MATCH($H106,'CSX Rate Inputs'!$A$4:$Z$4,0),FALSE),\"n/a\"))","v":75.780736933300929},{"$f":"IF(LEFT($H106,5)=\"Barge\",VLOOKUP($A106&W$91,Barge_Rate_Master,MATCH($H106,'Barge Rate Inputs'!$A$4:$AD$4,0),FALSE),IF(LEFT($H106,3)=\"CSX\",VLOOKUP($A106&W$91,CSX_Rate_Master,MATCH($H106,'CSX Rate Inputs'!$A$4:$Z$4,0),FALSE),\"n/a\"))","v":77.296351671966946},{"$f":"IF(LEFT($H106,5)=\"Barge\",VLOOKUP($A106&X$91,Barge_Rate_Master,MATCH($H106,'Barge Rate Inputs'!$A$4:$AD$4,0),FALSE),IF(LEFT($H106,3)=\"CSX\",VLOOKUP($A106&X$91,CSX_Rate_Master,MATCH($H106,'CSX Rate Inputs'!$A$4:$Z$4,0),FALSE),\"n/a\"))","v":78.842278705406287},{"$f":"IF(LEFT($H106,5)=\"Barge\",VLOOKUP($A106&Y$91,Barge_Rate_Master,MATCH($H106,'Barge Rate Inputs'!$A$4:$AD$4,0),FALSE),IF(LEFT($H106,3)=\"CSX\",VLOOKUP($A106&Y$91,CSX_Rate_Master,MATCH($H106,'CSX Rate Inputs'!$A$4:$Z$4,0),FALSE),\"n/a\"))","v":80.419124279514421},{"$f":"IF(LEFT($H106,5)=\"Barge\",VLOOKUP($A106&Z$91,Barge_Rate_Master,MATCH($H106,'Barge Rate Inputs'!$A$4:$AD$4,0),FALSE),IF(LEFT($H106,3)=\"CSX\",VLOOKUP($A106&Z$91,CSX_Rate_Master,MATCH($H106,'CSX Rate Inputs'!$A$4:$Z$4,0),FALSE),\"n/a\"))","v":82.027506765104704},{"$f":"IF(LEFT($H106,5)=\"Barge\",VLOOKUP($A106&AA$91,Barge_Rate_Master,MATCH($H106,'Barge Rate Inputs'!$A$4:$AD$4,0),FALSE),IF(LEFT($H106,3)=\"CSX\",VLOOKUP($A106&AA$91,CSX_Rate_Master,MATCH($H106,'CSX Rate Inputs'!$A$4:$Z$4,0),FALSE),\"n/a\"))","v":83.668056900406796},{"$f":"IF(LEFT($H106,5)=\"Barge\",VLOOKUP($A106&AB$91,Barge_Rate_Master,MATCH($H106,'Barge Rate Inputs'!$A$4:$AD$4,0),FALSE),IF(LEFT($H106,3)=\"CSX\",VLOOKUP($A106&AB$91,CSX_Rate_Master,MATCH($H106,'CSX Rate Inputs'!$A$4:$Z$4,0),FALSE),\"n/a\"))","v":85.341418038414929},{"$f":"IF(LEFT($H106,5)=\"Barge\",VLOOKUP($A106&AC$91,Barge_Rate_Master,MATCH($H106,'Barge Rate Inputs'!$A$4:$AD$4,0),FALSE),IF(LEFT($H106,3)=\"CSX\",VLOOKUP($A106&AC$91,CSX_Rate_Master,MATCH($H106,'CSX Rate Inputs'!$A$4:$Z$4,0),FALSE),\"n/a\"))","v":87.048246399183228},{"$f":"IF(LEFT($H106,5)=\"Barge\",VLOOKUP($A106&AD$91,Barge_Rate_Master,MATCH($H106,'Barge Rate Inputs'!$A$4:$AD$4,0),FALSE),IF(LEFT($H106,3)=\"CSX\",VLOOKUP($A106&AD$91,CSX_Rate_Master,MATCH($H106,'CSX Rate Inputs'!$A$4:$Z$4,0),FALSE),\"n/a\"))","v":88.789211327166896},{"$f":"IF(LEFT($H106,5)=\"Barge\",VLOOKUP($A106&AE$91,Barge_Rate_Master,MATCH($H106,'Barge Rate Inputs'!$A$4:$AD$4,0),FALSE),IF(LEFT($H106,3)=\"CSX\",VLOOKUP($A106&AE$91,CSX_Rate_Master,MATCH($H106,'CSX Rate Inputs'!$A$4:$Z$4,0),FALSE),\"n/a\"))","v":90.564995553710233},{"$f":"IF(LEFT($H106,5)=\"Barge\",VLOOKUP($A106&AF$91,Barge_Rate_Master,MATCH($H106,'Barge Rate Inputs'!$A$4:$AD$4,0),FALSE),IF(LEFT($H106,3)=\"CSX\",VLOOKUP($A106&AF$91,CSX_Rate_Master,MATCH($H106,'CSX Rate Inputs'!$A$4:$Z$4,0),FALSE),\"n/a\"))","v":92.376295464784434},{"$f":"IF(LEFT($H106,5)=\"Barge\",VLOOKUP($A106&AG$91,Barge_Rate_Master,MATCH($H106,'Barge Rate Inputs'!$A$4:$AD$4,0),FALSE),IF(LEFT($H106,3)=\"CSX\",VLOOKUP($A106&AG$91,CSX_Rate_Master,MATCH($H106,'CSX Rate Inputs'!$A$4:$Z$4,0),FALSE),\"n/a\"))","v":94.223821374080117},{"$f":"IF(LEFT($H106,5)=\"Barge\",VLOOKUP($A106&AH$91,Barge_Rate_Master,MATCH($H106,'Barge Rate Inputs'!$A$4:$AD$4,0),FALSE),IF(LEFT($H106,3)=\"CSX\",VLOOKUP($A106&AH$91,CSX_Rate_Master,MATCH($H106,'CSX Rate Inputs'!$A$4:$Z$4,0),FALSE),\"n/a\"))","v":96.108297801561719},{"$f":"IF(LEFT($H106,5)=\"Barge\",VLOOKUP($A106&AI$91,Barge_Rate_Master,MATCH($H106,'Barge Rate Inputs'!$A$4:$AD$4,0),FALSE),IF(LEFT($H106,3)=\"CSX\",VLOOKUP($A106&AI$91,CSX_Rate_Master,MATCH($H106,'CSX Rate Inputs'!$A$4:$Z$4,0),FALSE),\"n/a\"))","v":98.030463757592955},{"$f":"IF(LEFT($H106,5)=\"Barge\",VLOOKUP($A106&AJ$91,Barge_Rate_Master,MATCH($H106,'Barge Rate Inputs'!$A$4:$AD$4,0),FALSE),IF(LEFT($H106,3)=\"CSX\",VLOOKUP($A106&AJ$91,CSX_Rate_Master,MATCH($H106,'CSX Rate Inputs'!$A$4:$Z$4,0),FALSE),\"n/a\"))","v":99.991073032744822},{"$f":"IF(LEFT($H106,5)=\"Barge\",VLOOKUP($A106&AK$91,Barge_Rate_Master,MATCH($H106,'Barge Rate Inputs'!$A$4:$AD$4,0),FALSE),IF(LEFT($H106,3)=\"CSX\",VLOOKUP($A106&AK$91,CSX_Rate_Master,MATCH($H106,'CSX Rate Inputs'!$A$4:$Z$4,0),FALSE),\"n/a\"))","v":101.99089449339972},{"$f":"IF(LEFT($H106,5)=\"Barge\",VLOOKUP($A106&AL$91,Barge_Rate_Master,MATCH($H106,'Barge Rate Inputs'!$A$4:$AD$4,0),FALSE),IF(LEFT($H106,3)=\"CSX\",VLOOKUP($A106&AL$91,CSX_Rate_Master,MATCH($H106,'CSX Rate Inputs'!$A$4:$Z$4,0),FALSE),\"n/a\"))","v":104.03071238326771},{"$f":"IF(LEFT($H106,5)=\"Barge\",VLOOKUP($A106&AM$91,Barge_Rate_Master,MATCH($H106,'Barge Rate Inputs'!$A$4:$AD$4,0),FALSE),IF(LEFT($H106,3)=\"CSX\",VLOOKUP($A106&AM$91,CSX_Rate_Master,MATCH($H106,'CSX Rate Inputs'!$A$4:$Z$4,0),FALSE),\"n/a\"))","v":106.11132663093306},{"$f":"IF(LEFT($H106,5)=\"Barge\",VLOOKUP($A106&AN$91,Barge_Rate_Master,MATCH($H106,'Barge Rate Inputs'!$A$4:$AD$4,0),FALSE),IF(LEFT($H106,3)=\"CSX\",VLOOKUP($A106&AN$91,CSX_Rate_Master,MATCH($H106,'CSX Rate Inputs'!$A$4:$Z$4,0),FALSE),\"n/a\"))","v":108.23355316355173},{"$f":"IF(LEFT($H106,5)=\"Barge\",VLOOKUP($A106&AO$91,Barge_Rate_Master,MATCH($H106,'Barge Rate Inputs'!$A$4:$AD$4,0),FALSE),IF(LEFT($H106,3)=\"CSX\",VLOOKUP($A106&AO$91,CSX_Rate_Master,MATCH($H106,'CSX Rate Inputs'!$A$4:$Z$4,0),FALSE),\"n/a\"))","v":110.39822422682276}]
["Crystal River 4&5 ",{"$f":"B87","v":"RM"},"Rockies",{"$f":"D88","v":"Barge"},11700,0.8,8,"Barge UP RM to Convent",null,{"$f":"IF(LEFT($H107,5)=\"Barge\",VLOOKUP($A107&J$91,Barge_Rate_Master,MATCH($H107,'Barge Rate Inputs'!$A$4:$AD$4,0),FALSE),IF(LEFT($H107,3)=\"CSX\",VLOOKUP($A107&J$91,CSX_Rate_Master,MATCH($H107,'CSX Rate Inputs'!$A$4:$Z$4,0),FALSE),\"n/a\"))","v":51.923289130434789},{"$f":"IF(LEFT($H107,5)=\"Barge\",VLOOKUP($A107&K$91,Barge_Rate_Master,MATCH($H107,'Barge Rate Inputs'!$A$4:$AD$4,0),FALSE),IF(LEFT($H107,3)=\"CSX\",VLOOKUP($A107&K$91,CSX_Rate_Master,MATCH($H107,'CSX Rate Inputs'!$A$4:$Z$4,0),FALSE),\"n/a\"))","v":53.459810144927538},{"$f":"IF(LEFT($H107,5)=\"Barge\",VLOOKUP($A107&L$91,Barge_Rate_Master,MATCH($H107,'Barge Rate Inputs'!$A$4:$AD$4,0),FALSE),IF(LEFT($H107,3)=\"CSX\",VLOOKUP($A107&L$91,CSX_Rate_Master,MATCH($H107,'CSX Rate Inputs'!$A$4:$Z$4,0),FALSE),\"n/a\"))","v":54.557965884057971},{"$f":"IF(LEFT($H107,5)=\"Barge\",VLOOKUP($A107&M$91,Barge_Rate_Master,MATCH($H107,'Barge Rate Inputs'!$A$4:$AD$4,0),FALSE),IF(LEFT($H107,3)=\"CSX\",VLOOKUP($A107&M$91,CSX_Rate_Master,MATCH($H107,'CSX Rate Inputs'!$A$4:$Z$4,0),FALSE),\"n/a\"))","v":55.479014940869568},{"$f":"IF(LEFT($H107,5)=\"Barge\",VLOOKUP($A107&N$91,Barge_Rate_Master,MATCH($H107,'Barge Rate Inputs'!$A$4:$AD$4,0),FALSE),IF(LEFT($H107,3)=\"CSX\",VLOOKUP($A107&N$91,CSX_Rate_Master,MATCH($H107,'CSX Rate Inputs'!$A$4:$Z$4,0),FALSE),\"n/a\"))","v":56.567195587513048},{"$f":"IF(LEFT($H107,5)=\"Barge\",VLOOKUP($A107&O$91,Barge_Rate_Master,MATCH($H107,'Barge Rate Inputs'!$A$4:$AD$4,0),FALSE),IF(LEFT($H107,3)=\"CSX\",VLOOKUP($A107&O$91,CSX_Rate_Master,MATCH($H107,'CSX Rate Inputs'!$A$4:$Z$4,0),FALSE),\"n/a\"))","v":57.741022165929991},{"$f":"IF(LEFT($H107,5)=\"Barge\",VLOOKUP($A107&P$91,Barge_Rate_Master,MATCH($H107,'Barge Rate Inputs'!$A$4:$AD$4,0),FALSE),IF(LEFT($H107,3)=\"CSX\",VLOOKUP($A107&P$91,CSX_Rate_Master,MATCH($H107,'CSX Rate Inputs'!$A$4:$Z$4,0),FALSE),\"n/a\"))","v":64.827140537670942},{"$f":"IF(LEFT($H107,5)=\"Barge\",VLOOKUP($A107&Q$91,Barge_Rate_Master,MATCH($H107,'Barge Rate Inputs'!$A$4:$AD$4,0),FALSE),IF(LEFT($H107,3)=\"CSX\",VLOOKUP($A107&Q$91,CSX_Rate_Master,MATCH($H107,'CSX Rate Inputs'!$A$4:$Z$4,0),FALSE),\"n/a\"))","v":66.030821459653311},{"$f":"IF(LEFT($H107,5)=\"Barge\",VLOOKUP($A107&R$91,Barge_Rate_Master,MATCH($H107,'Barge Rate Inputs'!$A$4:$AD$4,0),FALSE),IF(LEFT($H107,3)=\"CSX\",VLOOKUP($A107&R$91,CSX_Rate_Master,MATCH($H107,'CSX Rate Inputs'!$A$4:$Z$4,0),FALSE),\"n/a\"))","v":67.643137523981395},{"$f":"IF(LEFT($H107,5)=\"Barge\",VLOOKUP($A107&S$91,Barge_Rate_Master,MATCH($H107,'Barge Rate Inputs'!$A$4:$AD$4,0),FALSE),IF(LEFT($H107,3)=\"CSX\",VLOOKUP($A107&S$91,CSX_Rate_Master,MATCH($H107,'CSX Rate Inputs'!$A$4:$Z$4,0),FALSE),\"n/a\"))","v":68.996816274461025},{"$f":"IF(LEFT($H107,5)=\"Barge\",VLOOKUP($A107&T$91,Barge_Rate_Master,MATCH($H107,'Barge Rate Inputs'!$A$4:$AD$4,0),FALSE),IF(LEFT($H107,3)=\"CSX\",VLOOKUP($A107&T$91,CSX_Rate_Master,MATCH($H107,'CSX Rate Inputs'!$A$4:$Z$4,0),FALSE),\"n/a\"))","v":70.37654859995024},{"$f":"IF(LEFT($H107,5)=\"Barge\",VLOOKUP($A107&U$91,Barge_Rate_Master,MATCH($H107,'Barge Rate Inputs'!$A$4:$AD$4,0),FALSE),IF(LEFT($H107,3)=\"CSX\",VLOOKUP($A107&U$91,CSX_Rate_Master,MATCH($H107,'CSX Rate Inputs'!$A$4:$Z$4,0),FALSE),\"n/a\"))","v":71.782447571949234},{"$f":"IF(LEFT($H107,5)=\"Barge\",VLOOKUP($A107&V$91,Barge_Rate_Master,MATCH($H107,'Barge Rate Inputs'!$A$4:$AD$4,0),FALSE),IF(LEFT($H107,3)=\"CSX\",VLOOKUP($A107&V$91,CSX_Rate_Master,MATCH($H107,'CSX Rate Inputs'!$A$4:$Z$4,0),FALSE),\"n/a\"))","v":79.897142900480887},{"$f":"IF(LEFT($H107,5)=\"Barge\",VLOOKUP($A107&W$91,Barge_Rate_Master,MATCH($H107,'Barge Rate Inputs'!$A$4:$AD$4,0),FALSE),IF(LEFT($H107,3)=\"CSX\",VLOOKUP($A107&W$91,CSX_Rate_Master,MATCH($H107,'CSX Rate Inputs'!$A$4:$Z$4,0),FALSE),\"n/a\"))","v":81.549315643986986},{"$f":"IF(LEFT($H107,5)=\"Barge\",VLOOKUP($A107&X$91,Barge_Rate_Master,MATCH($H107,'Barge Rate Inputs'!$A$4:$AD$4,0),FALSE),IF(LEFT($H107,3)=\"CSX\",VLOOKUP($A107&X$91,CSX_Rate_Master,MATCH($H107,'CSX Rate Inputs'!$A$4:$Z$4,0),FALSE),\"n/a\"))","v":83.156314423366453},{"$f":"IF(LEFT($H107,5)=\"Barge\",VLOOKUP($A107&Y$91,Barge_Rate_Master,MATCH($H107,'Barge Rate Inputs'!$A$4:$AD$4,0),FALSE),IF(LEFT($H107,3)=\"CSX\",VLOOKUP($A107&Y$91,CSX_Rate_Master,MATCH($H107,'CSX Rate Inputs'!$A$4:$Z$4,0),FALSE),\"n/a\"))","v":84.792189178333501},{"$f":"IF(LEFT($H107,5)=\"Barge\",VLOOKUP($A107&Z$91,Barge_Rate_Master,MATCH($H107,'Barge Rate Inputs'!$A$4:$AD$4,0),FALSE),IF(LEFT($H107,3)=\"CSX\",VLOOKUP($A107&Z$91,CSX_Rate_Master,MATCH($H107,'CSX Rate Inputs'!$A$4:$Z$4,0),FALSE),\"n/a\"))","v":86.545715448724138},{"$f":"IF(LEFT($H107,5)=\"Barge\",VLOOKUP($A107&AA$91,Barge_Rate_Master,MATCH($H107,'Barge Rate Inputs'!$A$4:$AD$4,0),FALSE),IF(LEFT($H107,3)=\"CSX\",VLOOKUP($A107&AA$91,CSX_Rate_Master,MATCH($H107,'CSX Rate Inputs'!$A$4:$Z$4,0),FALSE),\"n/a\"))","v":88.250054103791854},{"$f":"IF(LEFT($H107,5)=\"Barge\",VLOOKUP($A107&AB$91,Barge_Rate_Master,MATCH($H107,'Barge Rate Inputs'!$A$4:$AD$4,0),FALSE),IF(LEFT($H107,3)=\"CSX\",VLOOKUP($A107&AB$91,CSX_Rate_Master,MATCH($H107,'CSX Rate Inputs'!$A$4:$Z$4,0),FALSE),\"n/a\"))","v":89.983787531960957},{"$f":"IF(LEFT($H107,5)=\"Barge\",VLOOKUP($A107&AC$91,Barge_Rate_Master,MATCH($H107,'Barge Rate Inputs'!$A$4:$AD$4,0),FALSE),IF(LEFT($H107,3)=\"CSX\",VLOOKUP($A107&AC$91,CSX_Rate_Master,MATCH($H107,'CSX Rate Inputs'!$A$4:$Z$4,0),FALSE),\"n/a\"))","v":91.840500724709671},{"$f":"IF(LEFT($H107,5)=\"Barge\",VLOOKUP($A107&AD$91,Barge_Rate_Master,MATCH($H107,'Barge Rate Inputs'!$A$4:$AD$4,0),FALSE),IF(LEFT($H107,3)=\"CSX\",VLOOKUP($A107&AD$91,CSX_Rate_Master,MATCH($H107,'CSX Rate Inputs'!$A$4:$Z$4,0),FALSE),\"n/a\"))","v":93.643766983376779},{"$f":"IF(LEFT($H107,5)=\"Barge\",VLOOKUP($A107&AE$91,Barge_Rate_Master,MATCH($H107,'Barge Rate Inputs'!$A$4:$AD$4,0),FALSE),IF(LEFT($H107,3)=\"CSX\",VLOOKUP($A107&AE$91,CSX_Rate_Master,MATCH($H107,'CSX Rate Inputs'!$A$4:$Z$4,0),FALSE),\"n/a\"))","v":95.487178567217214},{"$f":"IF(LEFT($H107,5)=\"Barge\",VLOOKUP($A107&AF$91,Barge_Rate_Master,MATCH($H107,'Barge Rate Inputs'!$A$4:$AD$4,0),FALSE),IF(LEFT($H107,3)=\"CSX\",VLOOKUP($A107&AF$91,CSX_Rate_Master,MATCH($H107,'CSX Rate Inputs'!$A$4:$Z$4,0),FALSE),\"n/a\"))","v":97.459224296267678},{"$f":"IF(LEFT($H107,5)=\"Barge\",VLOOKUP($A107&AG$91,Barge_Rate_Master,MATCH($H107,'Barge Rate Inputs'!$A$4:$AD$4,0),FALSE),IF(LEFT($H107,3)=\"CSX\",VLOOKUP($A107&AG$91,CSX_Rate_Master,MATCH($H107,'CSX Rate Inputs'!$A$4:$Z$4,0),FALSE),\"n/a\"))","v":99.373303068095296},{"$f":"IF(LEFT($H107,5)=\"Barge\",VLOOKUP($A107&AH$91,Barge_Rate_Master,MATCH($H107,'Barge Rate Inputs'!$A$4:$AD$4,0),FALSE),IF(LEFT($H107,3)=\"CSX\",VLOOKUP($A107&AH$91,CSX_Rate_Master,MATCH($H107,'CSX Rate Inputs'!$A$4:$Z$4,0),FALSE),\"n/a\"))","v":101.32811141535946},{"$f":"IF(LEFT($H107,5)=\"Barge\",VLOOKUP($A107&AI$91,Barge_Rate_Master,MATCH($H107,'Barge Rate Inputs'!$A$4:$AD$4,0),FALSE),IF(LEFT($H107,3)=\"CSX\",VLOOKUP($A107&AI$91,CSX_Rate_Master,MATCH($H107,'CSX Rate Inputs'!$A$4:$Z$4,0),FALSE),\"n/a\"))","v":103.41755438179364},{"$f":"IF(LEFT($H107,5)=\"Barge\",VLOOKUP($A107&AJ$91,Barge_Rate_Master,MATCH($H107,'Barge Rate Inputs'!$A$4:$AD$4,0),FALSE),IF(LEFT($H107,3)=\"CSX\",VLOOKUP($A107&AJ$91,CSX_Rate_Master,MATCH($H107,'CSX Rate Inputs'!$A$4:$Z$4,0),FALSE),\"n/a\"))","v":105.48692546942951},{"$f":"IF(LEFT($H107,5)=\"Barge\",VLOOKUP($A107&AK$91,Barge_Rate_Master,MATCH($H107,'Barge Rate Inputs'!$A$4:$AD$4,0),FALSE),IF(LEFT($H107,3)=\"CSX\",VLOOKUP($A107&AK$91,CSX_Rate_Master,MATCH($H107,'CSX Rate Inputs'!$A$4:$Z$4,0),FALSE),\"n/a\"))","v":107.5982959788181},{"$f":"IF(LEFT($H107,5)=\"Barge\",VLOOKUP($A107&AL$91,Barge_Rate_Master,MATCH($H107,'Barge Rate Inputs'!$A$4:$AD$4,0),FALSE),IF(LEFT($H107,3)=\"CSX\",VLOOKUP($A107&AL$91,CSX_Rate_Master,MATCH($H107,'CSX Rate Inputs'!$A$4:$Z$4,0),FALSE),\"n/a\"))","v":109.75189389839446},{"$f":"IF(LEFT($H107,5)=\"Barge\",VLOOKUP($A107&AM$91,Barge_Rate_Master,MATCH($H107,'Barge Rate Inputs'!$A$4:$AD$4,0),FALSE),IF(LEFT($H107,3)=\"CSX\",VLOOKUP($A107&AM$91,CSX_Rate_Master,MATCH($H107,'CSX Rate Inputs'!$A$4:$Z$4,0),FALSE),\"n/a\"))","v":111.94795177636236},{"$f":"IF(LEFT($H107,5)=\"Barge\",VLOOKUP($A107&AN$91,Barge_Rate_Master,MATCH($H107,'Barge Rate Inputs'!$A$4:$AD$4,0),FALSE),IF(LEFT($H107,3)=\"CSX\",VLOOKUP($A107&AN$91,CSX_Rate_Master,MATCH($H107,'CSX Rate Inputs'!$A$4:$Z$4,0),FALSE),\"n/a\"))","v":114.18670681188959},{"$f":"IF(LEFT($H107,5)=\"Barge\",VLOOKUP($A107&AO$91,Barge_Rate_Master,MATCH($H107,'Barge Rate Inputs'!$A$4:$AD$4,0),FALSE),IF(LEFT($H107,3)=\"CSX\",VLOOKUP($A107&AO$91,CSX_Rate_Master,MATCH($H107,'CSX Rate Inputs'!$A$4:$Z$4,0),FALSE),\"n/a\"))","v":116.4684009481274}]

{"sheet":"Coal Price Inputs","index":5,"n_rows":32,"n_cols":42,"rows_kept":32,"cut":false,"hidden":false,"merged":[]}
[null,null,null,null,{"$f":"Assumptions!$A$1","v":"Florida- Fall 2019 IRP Refresh Update - Coal"},{"$f":"Assumptions!$B$2","v":"No Carbon"},null,null,null,null,"* Internal escalation rate of 2.5% applied starting in 2041 due to escalation rate error in HIS supplied market update (per email from Mike Quinto received 4/25/19)"]
[null,null,"Duke Internal High Commodity Fundamental Price Forecast*",null,null,null,null,null,null,null,"Updated:","2019-11-06","Michael Quinto"]
[null,null,"Source File:","Base, Low High Commodity Coal Curves_FL",null,null,null,"Source Tab: ","Fundamentals - Ratio Method"]
[null,null,"From:","Michael Quinto "]
[]
[null,null,null,null,null,null,null,"Avg Hg","Chlorine"]
[null,"Basin","Coal Type","FOB Point","Btu/lb","#SO2/MMBtu","%Ash","ppm (dry)","% AR","INDEX",2019,{"$f":"K7+1","v":2020},{"$f":"L7+1","v":2021},2022,2023,2024,2025,2026,2027,2028,2029,2030,2031,2032,2033,2034,2035,2036,2037,2038,2039,2040,2041,2042,{"$f":"AH7+1","v":2043},{"$f":"AI7+1","v":2044},{"$f":"AJ7+1","v":2045},{"$f":"AK7+1","v":2046},{"$f":"AL7+1","v":2047},{"$f":"AM7+1","v":2048},{"$f":"AN7+1","v":2049},{"$f":"AO7+1","v":2050}]
[null,null,null,null,null,null,null,null,null,"Inflator 2018 = 1.0>>>",1,1.0200316423390008,1.047125924593171,1.0730595498779592,1.0954874286569041,1.1168395050697868,1.1386849961543821,1.1614425565005375,1.1844030466380628,1.2074172960839265,1.2311148168608934,1.2557278595545107,1.2813806416828009,1.307483526778606,1.3338205134616619,1.3604034601892692,1.3877026849450307,1.4159042845514345,1.4443397401675391,1.4728362918726821,1.5015153886037964,1.5307301227777113,2.5,2.5,2.5,2.5,2.5,2.5,2.5,2.5,2.5,2.5]
[]
[null,"NAPP","Pittsburgh Seam","Rail",13000,4,8,0.122,1E-3,"NAPP-Pitt-CSX/NS-MGA-13000-HS-4.0",46.001808221448421,47.148619642016016,55.781823493138084,55.78166655488139,57.876838443065573,58.404683340348122,60.040105694572716,63.35946283865659,65.18961045987291,66.688162344744967,68.723378121745711,70.156404383399618,71.823655757422628,75.406653562328927,76.982804286013291,79.777980467545007,82.100821492622558,79.746300391816845,81.27304300732429,83.967138802079972,86.956867504493516,90.340918313800415,92.94335303039864,95.61948179176791,98.614392077027148,101.71746653729319,103.38777438463035,106.46726446981899,109.96016040187972,112.49805723798424,115.28224002306345,118.14704213171605]
[null,"NAPP","Pittsburgh Seam","Barge",13000,4,8,0.122,1E-3,"NAPP-Pitt-Barge-MonR-13000-HS-4.0",46.001808221448421,47.148619642016016,55.781823493138084,55.78166655488139,57.876838443065573,58.404683340348122,60.040105694572716,63.35946283865659,65.18961045987291,66.688162344744967,68.723378121745711,70.156404383399618,71.823655757422628,75.406653562328927,76.982804286013291,79.777980467545007,82.100821492622558,79.746300391816845,81.27304300732429,83.967138802079972,86.956867504493516,90.340918313800415,92.94335303039864,95.61948179176791,98.614392077027148,101.71746653729319,103.38777438463035,106.46726446981899,109.96016040187972,112.49805723798424,115.28224002306345,118.14704213171605]
[null,"CAPP","Low-Sulfur","Rail",12500,1.6,10,0.11,1E-3,"CAPP-EKY-CSX-Big Sandy-12500-LS-1.6",57.393547393024619,49.41971212902866,63.512999665138167,68.92928877849387,69.026538535128239,72.815208603844255,75.344310423283474,78.764854017529885,81.716976056603954,84.123132094329819,85.972145988369192,88.480796548252286,91.829337912184968,91.315978950551539,95.647300053767239,99.079542331514176,102.77380710910322,107.30802292427889,112.12093991576884,117.24801849547273,116.47986583759639,121.41980852417905,124.88742008668603,127.80084132672295,130.65250582818675,134.46419738629126,136.21662655144203,139.71962202657295,143.77317147794218,146.70087479431436,149.91973326563786,153.2429737059764]
[null,"CAPP","Low-Sulfur","Barge",12500,1.6,10,0.11,1E-3,"CAPP-EKY-Barge-BSR-12000-LS-1.6",57.393547393024619,49.41971212902866,63.512999665138167,68.92928877849387,69.026538535128239,72.815208603844255,75.344310423283474,78.764854017529885,81.716976056603954,84.123132094329819,85.972145988369192,88.480796548252286,91.829337912184968,91.315978950551539,95.647300053767239,99.079542331514176,102.77380710910322,107.30802292427889,112.12093991576884,117.24801849547273,116.47986583759639,121.41980852417905,124.88742008668603,127.80084132672295,130.65250582818675,134.46419738629126,136.21662655144203,139.71962202657295,143.77317147794218,146.70087479431436,149.91973326563786,153.2429737059764]
[null,"ILB","Illinois","Rail",11500,5,10,0.10199999999999999,3.0000000000000001E-3,"ILLB-IL-Rail-South IL-11500-VH-5",40.03303310841634,40.595774375645803,45.769009909201934,46.917226242036229,47.223065355413013,49.7591245023184,51.09120902511156,53.329147336509074,54.591225895919123,56.243726097208416,56.522165817027542,54.954206321289853,60.672563628686397,63.332189206507955,66.262452814831661,68.799961362314477,68.841940595652801,70.885768957709956,74.028416733753375,76.613197153852994,80.164278875503868,83.341869690908098,86.400452862112701,89.26190298143645,92.491721080251139,95.739645452041657,97.712168559200009,100.96313057672151,104.61030867583337,107.33504675489684,110.29568222299731,113.31790486439967]
[null,"ILB","Illinois","Barge",11500,5,10,0.10199999999999999,1.5E-3,"ILLB-IL-Barge-OhioR-11500-XH-5",40.03303310841634,40.595774375645803,45.769009909201934,46.917226242036229,47.223065355413013,49.7591245023184,51.09120902511156,53.329147336509074,54.591225895919123,56.243726097208416,56.522165817027542,59.06168340681792,60.672563628686397,63.332189206507955,66.262452814831661,68.799961362314477,68.841940595652801,70.885768957709956,74.028416733753375,76.613197153852994,80.164278875503868,83.341869690908098,86.400452862112701,89.26190298143645,92.491721080251139,95.739645452041657,97.712168559200009,100.96313057672151,104.61030867583337,107.33504675489684,110.29568222299731,113.31790486439967]
[null,"ILB","Illinois","Rail",11500,5,10,0.10199999999999999,1.1999999999999999E-3,"ILLB-IN-Rail-Sullivan-11500-VH-5",40.03303310841634,40.595774375645803,45.769009909201934,46.917226242036229,47.223065355413013,49.7591245023184,51.09120902511156,53.329147336509074,54.591225895919123,56.243726097208416,56.522165817027542,54.954206321289853,60.672563628686397,63.332189206507955,66.262452814831661,68.799961362314477,68.841940595652801,70.885768957709956,74.028416733753375,76.613197153852994,80.164278875503868,83.341869690908098,86.400452862112701,89.26190298143645,92.491721080251139,95.739645452041657,97.712168559200009,100.96313057672151,104.61030867583337,107.33504675489684,110.29568222299731,113.31790486439967]
[null,"ILB","Illinois","Barge",11000,6,10,0.10199999999999999,1E-3,"ILLB-WKY-Barge-OhioR-11000-XH-6",36.582897001891226,36.967101805755675,41.677925224580527,42.723507695262036,43.002009234258793,45.31138153004413,46.52439704521332,48.562296177938443,49.711563246004573,51.216353932094805,51.469905185337957,53.782426789448742,55.249317717742379,57.671211400339637,60.339552004567409,62.650244145571271,62.688471045203379,64.549610838585011,67.411351550848025,69.765090145687367,72.998756741380603,75.892317092838098,78.677507354884739,81.283185396503583,84.224304670843196,87.181911780350759,88.978119972902832,91.938493206735245,95.259666559557786,97.740852631554148,100.43685029245006,103.188930127917]
[null,"ILB","Illinois","Rail",11000,6,10,0.10199999999999999,1.5E-3,"ILLB-IN-Rail-Sullivan-11000-XH-6",36.582897001891226,36.967101805755675,41.677925224580527,42.723507695262036,43.002009234258793,45.31138153004413,46.52439704521332,48.562296177938443,49.711563246004573,51.216353932094805,51.469905185337957,50.042098493688513,55.249317717742379,57.671211400339637,60.339552004567409,62.650244145571271,62.688471045203379,64.549610838585011,67.411351550848025,69.765090145687367,72.998756741380603,75.892317092838098,78.677507354884739,81.283185396503583,84.224304670843196,87.181911780350759,88.978119972902832,91.938493206735245,95.259666559557786,97.740852631554148,100.43685029245006,103.188930127917]
[null,"ILB","Illinois","Rail",11000,6,10,0.10199999999999999,1.5E-3,"ILLB-IL-Rail-Central IL-11000-XH-6",36.582897001891226,36.967101805755675,41.677925224580527,42.723507695262036,43.002009234258793,45.31138153004413,46.52439704521332,48.562296177938443,49.711563246004573,51.216353932094805,51.469905185337957,50.042098493688513,55.249317717742379,57.671211400339637,60.339552004567409,62.650244145571271,62.688471045203379,64.549610838585011,67.411351550848025,69.765090145687367,72.998756741380603,75.892317092838098,78.677507354884739,81.283185396503583,84.224304670843196,87.181911780350759,88.978119972902832,91.938493206735245,95.259666559557786,97.740852631554148,100.43685029245006,103.188930127917]
[null,"ILB","Illinois","Barge",11800,4.5,10,0.10199999999999999,2E-3,"ILLB-WKY-Barge-Green River-11800-XH-4.5",41.15271795604928,41.581677356609859,46.781806090621856,50.273290992099739,51.185883368631636,54.096511045113516,55.544710261258267,57.977724422814816,59.349815419426854,61.146360199609482,61.449070858795068,59.744435999805255,65.961249143795996,68.852708064858518,72.038395900772784,74.7970931354795,74.842731600437745,77.064715702211643,80.481300737177747,83.291390423112588,87.152011635779544,90.606585613148425,93.931778328220361,97.042654364188948,100.55400815515233,104.08504650057326,106.22950983509523,109.76385061072324,113.72894469739487,116.69119182419534,119.90989896389168,123.19556168679186]
[null,"ILB","Illinois","Barge",11800,4.5,10,0.10199999999999999,2E-3,"ILLB-WKY-Barge-OhioR-11800-XH-4.5",41.15271795604928,41.581677356609859,46.781806090621856,50.273290992099739,51.185883368631636,54.096511045113516,55.544710261258267,57.977724422814816,59.349815419426854,61.146360199609482,61.449070858795068,59.744435999805255,65.961249143795996,68.852708064858518,72.038395900772784,74.7970931354795,74.842731600437745,77.064715702211643,80.481300737177747,83.291390423112588,87.152011635779544,90.606585613148425,93.931778328220361,97.042654364188948,100.55400815515233,104.08504650057326,106.22950983509523,109.76385061072324,113.72894469739487,116.69119182419534,119.90989896389168,123.19556168679186]
[null,"ILB","Low Chlorine","Barge",11500,5.2,10,0.10199999999999999,8.0000000000000004E-4,"ILLB-WKY-Barge-OhioR-11500-VH-5.2-LC-.8",41.863855340167994,43.100333915397769,48.49038306894267,52.109384866866655,53.055307173459688,56.072237531605197,57.573328246550396,60.095201567933152,61.517404419663201,63.379563063620047,63.693329398218758,61.926437432889969,68.37030260210112,71.367364118683781,74.669400453115074,77.528851527385967,77.576156811927916,79.879292780201681,83.420659199706648,86.333379693334209,90.334999492357582,93.915742296047682,97.362378542189106,100.58687078115693,104.2264671251838,107.88646694795483,110.10925091586832,113.77267378103952,117.88258203884939,120.95301710596026,124.28927868355476,127.6949412131319]
[null,"ILB","Low Chlorine","Rail",11500,5.2,10,0.10199999999999999,8.0000000000000004E-4,"ILLB-WKY-CSX-WKY-11500-VH-5.2-LC-.8",41.863855340167994,43.100333915397769,48.49038306894267,52.109384866866655,53.055307173459688,56.072237531605197,57.573328246550396,60.095201567933152,61.517404419663201,63.379563063620047,63.693329398218758,61.926437432889969,68.37030260210112,71.367364118683781,74.669400453115074,77.528851527385967,77.576156811927916,79.879292780201681,83.420659199706648,86.333379693334209,90.334999492357582,93.915742296047682,97.362378542189106,100.58687078115693,104.2264671251838,107.88646694795483,110.10925091586832,113.77267378103952,117.88258203884939,120.95301710596026,124.28927868355476,127.6949412131319]
[null,"PRB","High-Btu Gillette","Rail",8800,0.8,5,0.06,1E-4,"PRB-WY-BN/UP-Gillette-8800-CS-0.8",12.206925107605448,12.679987530675302,13.244118379985139,14.202820800230093,14.192079611126299,14.78285643403291,15.241829572669607,15.934838209987253,16.541320972491132,17.060005406417162,17.718282792344645,18.553762291468317,19.133134083587493,19.881432709623436,20.808669419637212,21.717153808150449,22.511076955431228,23.016940988061588,24.058912732035626,25.135259085231681,26.314694929457723,27.621513439384582,28.673659045828291,29.720366260428822,30.909394279363628,32.183108018535656,33.057831381076966,34.414967634770633,35.95923892399059,37.244716051570322,38.66326706291224,40.160844907636111]
[null,"RM","Rockies","Rail",11700,0.8,8,0.04,2.0000000000000001E-4,"Rockies-CO-UP-North Fork-11700-CS-.8",32.541589649107443,34.860395121493909,37.7602052828259,38.60396841169365,39.774832227974464,42.083887020670687,43.543125024331111,43.54024309717343,45.066895836337935,46.379574142317935,48.081647784153496,49.389578904946198,50.862331493374725,52.775453356853298,51.807126434405802,53.750177110707483,55.631449040387096,57.960065657515408,55.895981453620124,58.319767439096744,60.990489992874416,63.984183556657804,65.486692630735007,67.709147368533067,70.107833012987129,72.514072200876512,73.802906876903549,76.20387731063542,78.876002568979899,80.843189045156095,82.978402463686834,85.183413331792536]
[null,"RM","Rockies","Barge",11700,0.8,8,0.04,2.0000000000000001E-4,"Rockies-CO-UP-North Fork-11700-CS-.8",32.541589649107443,34.860395121493909,37.7602052828259,38.60396841169365,39.774832227974464,42.083887020670687,43.543125024331111,43.54024309717343,45.066895836337935,46.379574142317935,48.081647784153496,49.389578904946198,50.862331493374725,52.775453356853298,51.807126434405802,53.750177110707483,55.631449040387096,57.960065657515408,55.895981453620124,58.319767439096744,60.990489992874416,63.984183556657804,65.486692630735007,67.709147368533067,70.107833012987129,72.514072200876512,73.802906876903549,76.20387731063542,78.876002568979899,80.843189045156095,82.978402463686834,85.183413331792536]
[]
["Price Forecast Received from Andrew James via e-mail on 9/17/19 (Nominal $/ton) **"]
[]
["Reviewed transportation delivery locations with Shawn Shultz, Manager Coal Transportation 10/2018"]
[]
["With ILB Curve Updates from NEW ILB file received 10/4"]

{"sheet":"CSX Rate Inputs","index":6,"n_rows":56,"n_cols":26,"rows_kept":56,"cut":false,"hidden":false,"merged":[[2,3,2,7],[2,8,2,11],[2,12,2,17]]}
["CSX Rate Master",null,"Updated: ","2019-10-02","tw",null,"Post 2026 escalation:",0.02,null,"Source:","\\\\cltpsmf02\\fuelpur\\PLANNING\\IRP Refresh Files\\2019 Fall IRP Refresh\\Supporting Files\\DEF Florida CSX Conventional Rail Rate Scenario_100219.xlsm"]
[]
[null,null,null,"CAPP",null,null,null,null,"NAPP",null,null,null,"ILB",null,null,null,null,null,"Energy, CO","ConJunction, WY"]
["Key","Station","Year","Typo, KY","Resource, KY","Phillips, WV","Bull Creek 2, WV","Hutchinson, WV","Harrison Co, WV","Bailey Mine, PA","Marion Co, WV","Monongalia Co, WV","Evansville, IN","White Oak, IL","Oaktown,lN","Carlisle, IN","BearRun,lN","Cardinal 9, KY","CSX UP","CSX PRB","CSX CAPP Basin","CSX NAPP Basin","CSX ILB Basin","CSX CN Galatia","CSX Sullivan","CSX Western KY"]
["Crystal River 4&5 2019","Crystal River 4&5",2019,23.506966522227014,20.126695741327016,27.816656229941049,24.571133672034037,25.12610350173404,28.506374282634031,29.546571216228774,26.088131846712983,27.497913418119992,21.292341686019991,23.007702977819999,21.311632609125265,20.96490029792702,22.834485902020003,17.78,58.88,41.98,{"$f":"AVERAGE(D5:H5)","v":24.229511133452629},{"$f":"AVERAGE(I5:L5)","v":27.909747690923943},{"$f":"AVERAGE(M5:R5)","v":21.198510578818713},{"$f":"N5","v":23.007702977819999},20.399999999999999,{"$f":"R5","v":17.78}]
["Crystal River 4&5 2020","Crystal River 4&5",2020,23.506966522227014,20.126695741327016,27.816656229941049,24.571133672034037,25.12610350173404,28.506374282634031,29.546571216228774,26.088131846712983,27.497913418119992,21.292341686019991,23.007702977819999,21.311632609125265,20.96490029792702,22.834485902020003,17.940661040120002,59.412042859520007,42.359333546919991,{"$f":"AVERAGE(D6:H6)","v":24.229511133452629},{"$f":"AVERAGE(I6:L6)","v":27.909747690923943},21.225287418838715,{"$f":"N6","v":23.007702977819999},{"$f":"AVERAGE(M6:Q6)","v":21.882212694582456},17.940661040120002]
["Crystal River 4&5 2021","Crystal River 4&5",2021,24.11025814612432,20.648127803059257,28.565695096397075,25.207549573779133,25.775959033088327,29.238089376153383,30.323110424597388,26.746083029238562,28.196596487906124,21.840745261085193,23.597647226222691,21.840869544049653,21.479195861234984,23.38746557121263,18.375127611849781,60.850816298409178,43.385143821454101,24.861517930489622,28.625969829473863,21.753508512609155,23.597647226222691,22.42918469276103,18.375127611849781]
["Crystal River 4&5 2022","Crystal River 4&5",2022,24.621635581578062,21.075663294357806,29.096804387167424,25.729832545106618,26.312007099724884,29.857979386945129,30.927444225032598,27.338013293913232,28.809609933527778,22.299839913705512,24.099288537071022,22.341799225343809,21.985310945981322,23.953836674565533,18.82011560202276,62.32443231985939,44.435796005225832,25.367188581586959,29.233261709854684,22.250031816448328,24.099288537071022,22.936015059333439,18.82011560202276]
["Crystal River 4&5 2023","Crystal River 4&5",2023,25.234875431414412,21.603030810971191,29.839069582780677,26.373579219575181,26.969852216961396,30.601696837404607,31.706859042095008,28.013118653552393,29.523642197387975,22.856225953887733,24.699251582172362,22.889403107843723,22.521015706280252,24.533923510635869,19.275879806412096,63.833734701999099,45.511891691404934,26.004081452340568,29.961329182609994,22.795949944538673,24.699251582172362,23.499963972163989,19.275879806412096]
["Crystal River 4&5 2024","Crystal River 4&5",2024,25.883308276205465,22.163511763812966,30.644390774524368,27.057653832301398,27.668366692544961,31.388163204937442,32.541625011468653,28.720223291305789,30.274556988184912,23.445676823643456,25.33333475530533,23.458121386668122,23.073634117824383,25.128058231475308,19.742681191145866,65.379587656618,46.614047041861831,26.683446267877834,30.731142123974198,23.363584417677078,25.33333475530533,24.087765062983319,19.742681191145866]
["Crystal River 4&5 2025","Crystal River 4&5",2025,26.522596626266076,22.712718302804429,31.414149514995639,27.72807728726977,28.35357969858438,32.163458022046001,33.352051742932154,29.425335316905187,31.019726822501326,24.025472586892636,25.958843676410492,24.031019833061634,23.63482192609958,25.736581032816996,20.220787042133718,66.962876324006317,47.742893139975997,27.346224285984057,31.49014297609617,23.934587682902507,25.958843676410492,24.677347811056269,20.220787042133718]
["Crystal River 4&5 2026","Crystal River 4&5",2026,27.185661541922727,23.280536260374539,32.199503252870528,28.421279219451513,29.062419191048985,32.967544472597147,34.185853036505456,30.160968699827816,31.795219993063856,24.62610940156495,26.60781476832075,24.631795328888174,24.225692474252067,26.379995558637418,20.726306718187061,68.636948232106462,48.93646546847539,28.029879893133661,32.277396550498572,24.532952374975071,26.60781476832075,25.294281506332673,20.726306718187061]
["Crystal River 4&5 2027","Crystal River 4&5 ",{"$f":"C12+1","v":2027},{"$f":"D12*(1+$H$1)","v":27.729374772761183},23.74614698558203,32.843493317927937,28.989704803840542,29.643667574869966,33.62689536204909,34.869570097235567,30.764188073824371,32.431124392925135,25.118631589596248,27.139971063687167,25.124431235465938,24.710206323737108,{"$f":"Q12*(1+$H$1)","v":26.907595469810168},21.140832852550801,{"$f":"S12*(1+$H$1)","v":70.009687196748587},49.915194777844896,{"$f":"AVERAGE(D13:H13)","v":28.590477490996328},{"$f":"AVERAGE(I13:L13)","v":32.922944481508537},25.023611422474573,27.139971063687167,25.800167136459329,21.140832852550801]
["Crystal River 4&5 2028","Crystal River 4&5 ",2028,28.283962268216406,24.221069925293669,33.500363184286499,29.569498899917352,30.236540926367365,34.29943326929007,35.56696149918028,31.379471835300858,33.079746880783638,25.621004221388173,27.682770484960912,25.626919860175256,25.204410450211849,27.445747379206374,21.563649509601817,71.409880940683564,50.913498673401797,{"$f":"AVERAGE(D14:H14)","v":29.162287040816256},{"$f":"AVERAGE(I14:L14)","v":33.581403371138713},25.524083650924066,27.682770484960912,26.316170479188514,21.563649509601817]
["Crystal River 4&5 2029","Crystal River 4&5 ",2029,28.849641513580735,24.705491323799542,34.170370447972232,30.160888877915699,30.841271744894712,34.98542193467587,36.278300729163888,32.007061272006879,33.741341818399313,26.133424305815936,28.23642589466013,26.139458257378763,25.708498659216087,27.9946623267905,21.994922499793855,72.838078559497234,51.931768646869834,29.745532781632583,34.253031438561486,26.034565323942545,28.23642589466013,26.842493888772282,21.994922499793855]
["Crystal River 4&5 2030","Crystal River 4&5 ",2030,{"$f":"D15*(1+$H$1)","v":29.426634343852349},25.199601150275534,34.853777856931679,30.764106655474013,31.458097179792606,35.68513037336939,37.003866743747167,32.647202497447019,34.416168654767297,26.656092791932256,28.801154412553334,26.662247422526338,26.22266863240041,28.554555573326311,{"$f":"R15*(1+$H$1)","v":22.434820949789732},74.294840130687177,52.970404019807233,30.340443437265236,34.938092067332718,26.555256630421397,28.801154412553334,27.379343766547731,22.434820949789732]
["Crystal River 4&5 2031","Crystal River 4&5 ",2031,30.015167030729398,25.703593173281046,35.550853414070311,31.379388788583494,32.087259123388456,36.398832980836779,37.743944078622114,33.300146547395961,35.104492027862641,27.1892146477709,29.3771775008044,27.195492370976865,26.747122005048418,29.125646684792837,22.883517368785526,75.780736933300929,54.02981210020338,30.94725230601054,35.636853908679377,27.086361763029824,29.3771775008044,27.92693064187868,22.883517368785526]
["Crystal River 4&5 2032","Crystal River 4&5 ",2032,30.615470371343985,26.217665036746666,36.261870482351718,32.006976564355163,32.729004305856229,37.126809640453516,38.498822960194559,33.96614947834388,35.806581868419897,27.732998940726318,29.96472105082049,27.739402218396403,27.282064445149388,29.708159618488693,23.341187716161237,77.296351671966946,55.11040834220745,31.56619735213075,36.349590986852959,27.628088998290423,29.96472105082049,28.485469254716257,23.341187716161237]
["Crystal River 4&5 2033","Crystal River 4&5 ",2033,31.227779778770866,26.7420183374816,36.987107891998754,32.647116095642268,33.383584391973358,37.869345833262585,39.268799419398448,34.645472467910757,36.522713505788296,28.287658919540846,30.5640154718369,28.294190262764332,{"$f":"P18*(1+$H$1)","v":27.827705734052376},30.302322810858467,23.808011470484463,78.842278705406287,56.2126165090516,32.197521299173374,37.076582806590018,28.180650778256233,30.5640154718369,29.055178639810585,23.808011470484463]
["Crystal River 4&5 2034","Crystal River 4&5 ",2034,31.852335374346286,27.276858704231234,37.726850049838731,33.300058417555114,34.051256079812823,38.626732749927839,40.054175407786417,35.338381917268975,37.25316777590406,28.853412097931663,31.17529578127364,28.860074068019617,28.384259848733425,30.908369267075635,24.284171699894152,80.419124279514421,57.336868839232636,32.841471725156836,37.818114462721823,28.744263793821357,31.17529578127364,29.636282212606794,24.284171699894152]
["Crystal River 4&5 2035","Crystal River 4&5 ",2035,32.489382081833213,27.822395878315859,38.481387050835508,33.966059585906216,34.73228120140908,39.399267404926398,40.855258915942144,36.045149555614358,37.998231131422145,29.430480339890298,31.798801696899112,29.437275549380011,28.951945045708094,31.52653665241715,24.769855133892037,82.027506765104704,58.483606216017293,33.498301159659974,38.574476751976263,29.319149069697787,31.798801696899112,30.229007856858935,24.769855133892037]
["Crystal River 4&5 2036","Crystal River 4&5 ",2036,33.139169723469877,28.378843795882176,39.251014791852221,34.645380777624339,35.426926825437263,40.187252753024929,41.672364094260985,36.766052546726648,38.75819575405059,30.019089946688105,32.434777730837098,30.026021060367611,29.530983946622257,32.157067385465496,25.265252236569879,83.668056900406796,59.653278340337643,34.168267182853171,39.345966287015784,29.90553205109174,32.434777730837098,30.833588013996113,25.265252236569879]
["Crystal River 4&5 2037","Crystal River 4&5 ",2037,33.801953117939277,28.946420671799821,40.036035087689264,35.338288393176825,36.135465361946011,40.990997808085424,42.505811376146205,37.501373597661178,39.533359669131599,30.619471745621869,33.083473285453842,30.626541481574964,30.121603625554702,32.800208733174806,25.770557281301276,85.341418038414929,60.846343907144394,34.851632526510244,40.132885612756098,30.503642692113576,33.083473285453842,31.450259774276038,25.770557281301276]
["Crystal River 4&5 2038","Crystal River 4&5 ",2038,34.477992180298067,29.525349085235817,40.836755789443053,36.045054161040362,36.858174669184933,41.810817764247133,43.35592760366913,38.251401069614403,40.324026862514231,31.231861180534306,33.745142751162916,31.239072311206463,30.724035698065798,33.456212907838299,26.285968426927301,87.048246399183228,62.06327078528728,35.548665177040448,40.935543325011224,31.113715545955845,33.745142751162916,32.079264969761553,26.285968426927301]
["Crystal River 4&5 2039","Crystal River 4&5 ",2039,35.16755202390403,30.115856066940534,41.653490905231912,36.765955244261171,37.59533816256863,42.64703411953208,44.223046155742516,39.016429091006692,41.130507399764518,31.856498404144993,34.420045606186179,31.863853757430594,31.338516412027115,34.125337165995063,26.811687795465847,88.789211327166896,63.304536200993027,36.259638480581252,41.754254191511457,31.735989856874966,34.420045606186179,32.720850269156792,26.811687795465847]
["Crystal River 4&5 2040","Crystal River 4&5 ",2040,35.870903064382112,30.718173188279344,42.486560723336552,37.501274349146392,38.347244925820007,43.499974801922725,45.107507078857367,39.796757672826828,41.95311754775981,32.493628372227896,35.108446518309904,32.501130832579207,31.965286740267658,34.807843909314968,27.347921551375165,90.564995553710233,64.570626925012888,36.984831250192883,42.589339275341679,32.370709654012472,35.108446518309904,33.375267274539929,27.347921551375165]
["Crystal River 4&5 2041","Crystal River 4&5 ",2041,36.588321125669758,31.332536652044933,43.336291937803281,38.25129983612932,39.114189824336407,44.369974297961178,46.009657220434512,40.592692826283368,42.792179898715005,33.143500939672457,35.810615448676103,33.15115344923079,32.604592475073012,35.504000787501269,27.894879982402671,92.376295464784434,65.862039463513142,37.724527875196735,43.441126060848518,33.018123847092717,35.810615448676103,34.042772620030725,27.894879982402671]
["Crystal River 4&5 2042","Crystal River 4&5 ",2042,37.320087548183153,31.959187385085833,44.203017776559349,39.016325832851905,39.896473620823137,45.2573737839204,46.929850364843205,41.404546682809034,43.648023496689305,33.806370958465905,36.526827757649627,33.814176518215405,33.256684324574472,36.214080803251292,28.452777582050725,94.223821374080117,67.1792802527834,38.479018432700677,44.309948582065488,33.678486324034566,36.526827757649627,34.723628072431339,28.452777582050725]
["Crystal River 4&5 2043","Crystal River 4&5 ",2043,38.066489299146816,32.598371132787548,45.087078132090539,39.796652349508946,40.6944030932396,46.162521259598812,47.868447372140068,42.232637616465219,44.520983966623092,34.482498377635224,37.257364312802622,34.490460048579713,33.921818011065959,36.93836241931632,29.021833133691739,{"$f":"S28*(1+$H$1)","v":96.108297801561719},{"$f":"T28*(1+$H$1)","v":68.522865857839065},39.248598801354689,45.196147553706794,34.352056050515266,37.257364312802622,35.418100633879973,29.021833133691739]
["Crystal River 4&5 2044","Crystal River 4&5 ",2044,38.827819085129754,33.2503385554433,45.988819694732349,40.592585396499125,41.508291155104395,47.085771684790785,48.82581631958287,43.077290368794522,45.411403645955552,35.172148345187928,38.002511599058678,35.180269249551309,34.600254371287278,37.677129667702644,29.602269796365576,98.030463757592955,69.893323174995842,40.033570777381783,46.10007050478093,35.039097171525562,38.002511599058678,36.126462646557563,29.602269796365576]
["Crystal River 4&5 2045","Crystal River 4&5 ",2045,39.604375466832352,33.915345326552163,46.908596088627,41.404437104429107,42.33845697820648,48.027487118486604,49.802332645974531,43.938836176170412,46.31963171887466,35.875591312091686,38.762561831039854,35.883874634542337,35.292259458713026,38.430672261056699,30.194315192292887,99.991073032744822,71.291189638495766,40.834242192929423,47.022071914876555,35.739879114956089,38.762561831039854,36.848991899488723,30.194315192292887]
["Crystal River 4&5 2046","Crystal River 4&5 ",2046,40.396462976168998,34.593652233083205,47.846768010399543,42.232525846517689,43.185226117770611,48.98803686085634,50.798379298894019,44.81761289969382,47.246024353252153,36.593103138333518,39.53781306766065,36.601552127233184,35.998104647887288,39.199285706277834,30.798201496138745,101.99089449339972,72.717013431265684,41.650927036788012,47.962513353174081,36.454676697255202,39.53781306766065,37.585971737478495,30.798201496138745]
["Crystal River 4&5 2047","Crystal River 4&5 ",2047,41.204392235692382,35.285525277744867,48.803703370607536,43.077176363448046,44.048930640126024,49.967797598073467,51.814346884871902,45.713965157687696,48.190944840317194,37.324965201100191,40.328569329013867,37.333583169777846,36.718066740845032,39.983271420403391,31.41416552606152,104.03071238326771,74.171353699891,42.48394557752377,48.921763620237563,37.183770231200306,40.328569329013867,38.33769117222807,31.41416552606152]
["Crystal River 4&5 2048","Crystal River 4&5 ",2048,42.028480080406233,35.991235783299764,49.779777438019686,43.93871989071701,44.929909252928546,50.967153550034936,52.850633822569343,46.628244460841451,49.154763737123538,38.071464505122194,41.135140715594147,38.080254833173406,37.452428075661935,40.78293684881146,32.04244883658275,106.11132663093306,75.654780773888817,43.333624489074246,49.900198892642315,37.927445635824313,41.135140715594147,39.10444499567263,32.04244883658275]
["Crystal River 4&5 2049","Crystal River 4&5 ",2049,42.869049682014357,36.711060498965757,50.775372986780077,44.81749428853135,45.82850743798712,51.986496621035634,53.907646499020728,47.560809350058278,50.137859011866013,38.832893795224635,41.957843529906029,38.841859929836872,38.201476637175176,41.598595585787692,32.683297813314404,108.23355316355173,77.167876389366597,44.200296978855732,50.898202870495155,38.685994548540798,41.957843529906029,39.886533895586084,32.683297813314404]
["Crystal River 4&5 2050","Crystal River 4&5 ",2050,43.726430675654647,37.445281708945075,51.790880446515679,45.713844174301975,46.745077586746866,53.026226553456347,54.98579942900114,48.512025537059444,51.140616192103337,39.609551671129125,42.797000400504153,39.61869712843361,38.965506169918683,42.430567497503446,33.336963769580692,110.39822422682276,78.711233917153933,45.084302918432847,51.916166927905067,39.459714439511622,42.797000400504153,40.684264573497806,33.336963769580692]
[]
["Misc Rates"]
[]
["5 Year Escalation Rate",0.02]
[]
[null,"Base Rail Rates ($/ton)",null,null,null,null,null,null,null,"Total Rate ($/ton)"]
[null,"Cora","Cook","Calvert City","Houston","Crystal River",null,null,null,"Cora","Cook","Calvert City","Houston","Crystal River"]
["Twenty Mile",29,30.75,32,34.25,58.25,null,null,"Twenty Mile",30.92,32.86,34.159999999999997,36.65,62.87]
["West Elk",30.5,32.25,33.5,35.75,59.25,null,null,"West Elk",32.58,34.49,35.82,38.31,64.09]
["Bowie",30.5,32.25,33.5,35.75,59.25,null,null,"Bowie",32.58,34.49,35.82,38.31,64.09]
[]
[]
[null,"Mileage"]
[null,"Cora","Cook","Calvert City","Houston","Crystal River"]
["Twenty Mile",1203,1321,1349,1500,2100]
["West Elk",1300,1400,1450,1600,2200]
["Bowie",1300,1400,1450,1600,2200]
[]
[null,"UP",0.16,"$/ton-mile",null,"HDF Price"]
[null,"CSX",0.22,"$/ton-mile",null,2.8580000000000001,"$/gallon"]

{"sheet":"Barge Rate Inputs","index":7,"n_rows":36,"n_cols":11,"rows_kept":36,"cut":false,"hidden":false,"merged":[]}
["Barge Rate Master",null,"Updated: ","2019-10-02","tw",null,"Post 2024 escalation:",0.02,"Source:","\\\\cltpsmf02\\FuelPUR\\Planning\\IRP Refresh Files\\Fall 2019 IRP Refresh\\Supporting Files\\Fall 2019 FLORIDA BARGE FOF_Working File_Fixed Costs Removed through 2024"]
[]
[]
["Key","Station2","Year","Barge CAPP Basin","Barge NAPP Pitt 8","Barge NAPP OH MP100","Barge ILB Green River","Barge ILB OH River","Barge UP RM to Convent","Mt Vernon","Calvert City"]
[{"$f":"B5&C5","v":"Crystal River 4&5 2019"},"Crystal River 4&5 ",{"$f":"Start_Year","v":2019},17.673106136041664,22.294806039999997,18.667243089687499,20.462167689687504,12.828751787752974,51.923289130434789,12.204970113124999,13.553923875625003]
["Crystal River 4&5 2020","Crystal River 4&5 ",{"$f":"C5+1","v":2020},17.896983603130046,22.57722893741494,18.903715684088841,20.721374250198096,12.990991704412933,53.459810144927538,12.359579913660831,13.725622308284409]
["Crystal River 4&5 2021","Crystal River 4&5 ",{"$f":"C6+1","v":2021},18.046529937222733,22.765874476023114,19.06169187560582,20.219793840615825,13.096742922390293,54.557965884057971,12.462866282128489,13.840328445894476]
["Crystal River 4&5 2022","Crystal River 4&5 ",2022,18.423373746265796,23.241267186687839,19.459732964297046,20.153843893577974,13.37040348935902,55.479014940869568,12.723112559137595,14.129338267603949]
["Crystal River 4&5 2023","Crystal River 4&5 ",2023,21.258752973304144,26.180292918507416,22.31740486064243,23.026459877175579,16.09741677251068,56.567195587513048,17.874907441104732,19.311384110664253]
["Crystal River 4&5 2024","Crystal River 4&5 ",2024,21.712274366943756,26.739659019546242,22.793691684320759,23.518007916724031,16.440279212607923,57.741022165929991,18.251980201184875,19.719349399404788]
["Crystal River 4&5 2025","Crystal River 4&5 ",2025,28.055885719555842,33.191248356526728,29.160527299092166,29.900412334601754,22.671001326445033,64.827140537670942,30.398551449275029,31.897435808265943]
["Crystal River 4&5 2026","Crystal River 4&5 ",2026,28.509089120422036,33.766386844800998,29.639957313959055,30.397421485756084,22.99666427446865,66.030821459653311,30.694422142002388,32.228895436115828]
["Crystal River 4&5 2027","Crystal River 4&5 ",2027,29.507488347109348,34.906011959948657,30.668722026480467,31.4465983570093,23.8488311386227,67.643137523981395,31.984111897967633,33.559800408555077]
["Crystal River 4&5 2028","Crystal River 4&5 ",2028,30.270009243546763,35.821587256959319,31.464149315309083,32.264159434277474,24.453215005448566,68.996816274461025,32.742824475031583,34.363179279488733]
["Crystal River 4&5 2029","Crystal River 4&5 ",2029,31.050075917803667,36.758369774634602,32.277909435275774,33.100583590470393,25.071383153204874,70.37654859995024,33.518296357160338,35.184385925400349]
["Crystal River 4&5 2030","Crystal River 4&5 ",2030,31.800204476739072,37.656437582490192,33.059847455097611,33.903901517157095,25.668254411847666,71.782447571949234,34.277830554377182,35.98709476150394]
["Crystal River 4&5 2031","Crystal River 4&5 ",2031,39.141943977570847,45.121375241877892,40.428084091474545,41.289905158081027,32.881297586556606,79.897142900480887,48.344451131485059,50.089672469365965]
["Crystal River 4&5 2032","Crystal River 4&5 ",2032,39.991922506743428,46.095492807724888,41.304762618239543,42.184483861486001,33.601524892688964,81.549315643986986,49.422837896179857,51.204291171434079]
["Crystal River 4&5 2033","Crystal River 4&5 ",2033,40.793046168381061,47.025724851925972,42.133654264266021,43.031996395730637,34.267822362531149,83.156314423366453,50.378634573796404,52.197769841262172]
["Crystal River 4&5 2034","Crystal River 4&5 ",2034,41.610520234271235,47.974975238882585,42.979470093418968,43.896818042011418,34.947688170316297,84.792189178333501,51.353773636695351,53.211369558507513]
["Crystal River 4&5 2035","Crystal River 4&5 ",2035,42.518350824579976,49.016067117566379,43.915962201084845,44.852528254427845,35.716305832930487,86.545715448724138,52.50218982167155,54.398679953477355]
["Crystal River 4&5 2036","Crystal River 4&5 ",2036,43.364670870945723,49.998393970458586,44.791534237846726,45.747714470052379,36.420548614454695,88.250054103791854,53.51383803639537,55.450023686428878]
["Crystal River 4&5 2037","Crystal River 4&5 ",2037,44.239055779142561,51.014419102523789,45.696381799846492,46.67299344637054,37.147109188359892,89.983787531960957,54.553410844414202,56.530935826796934]
["Crystal River 4&5 2038","Crystal River 4&5 ",2038,45.216058054633031,52.136397781354056,46.704564081384042,47.702089196362877,37.972828608191946,91.840500724709671,55.781514308511333,57.801352261590324]
["Crystal River 4&5 2039","Crystal River 4&5 ",2039,46.128201886640582,53.19654065940081,47.648537958277316,48.667412769454316,38.730541140606888,93.643766983376779,56.864766492591905,58.927799592529666]
["Crystal River 4&5 2040","Crystal River 4&5 ",2040,47.059575812386008,54.279131820223775,48.612433979685555,49.653123145053705,39.504137620169026,95.487178567217214,57.970365440003178,60.07753291787489]
["Crystal River 4&5 2041","Crystal River 4&5 ",2041,47.925961571958929,55.254794909714782,49.502336258833601,50.558717260796826,40.254434910283599,97.459224296267678,59.155957828723089,61.295024762727671]
["Crystal River 4&5 2042","Crystal River 4&5 ",2042,48.909032590667501,56.398872261284239,50.520033524535769,51.5996469600707,41.069684150852289,99.373303068095296,60.315938682039366,62.50199658178893]
[{"$f":"B29&C29","v":"Crystal River 4&5 2043"},"Crystal River 4&5 ",2043,49.915053289366178,57.569979468752003,51.561557689699121,52.664993660366321,41.903668876610382,101.32811141535946,61.501389849715025,63.735629440302716]
[{"$f":"B30&C30","v":"Crystal River 4&5 2044"},"Crystal River 4&5 ",2044,50.854173846068392,58.63021988963969,52.526740956173313,53.647581011981245,42.714455256373782,103.41755438179364,62.77315724262904,65.042752356483263]
["Crystal River 4&5 2045","Crystal River 4&5 ",2045,51.931555171134121,59.878893128499733,53.640960425000763,54.786517750908743,43.613313209410542,105.48692546942951,64.070258876090008,66.389846830189086]
["Crystal River 4&5 2046","Crystal River 4&5 ",2046,52.839901173403703,60.912109625647247,54.576176696017541,55.739674562634534,44.389279903434385,107.5982959788181,65.261696088466238,67.617734590029016]
["Crystal River 4&5 2047","Crystal River 4&5 ",2047,53.953775255876529,62.20235620628997,55.727982129475983,56.916927505485688,45.319252980348985,109.75189389839446,66.606343702528378,69.01385807824316]
["Crystal River 4&5 2048","Crystal River 4&5 ",2048,55.088460191746684,63.51655749146699,56.901274665969773,58.116120547112111,46.266741467985469,111.94795177636236,67.976871493364044,70.436779351817989]
["Crystal River 4&5 2049","Crystal River 4&5 ",2049,56.043911897823925,64.602301581810579,57.88476431966928,59.118324848490339,47.083926462737203,114.18670681188959,69.235369837242644,71.73331131297742]
["Crystal River 4&5 2050","Crystal River 4&5 ",2050,57.220905954332693,65.965140608788701,59.101727330489553,60.362099987084875,48.067082713989159,116.4684009481274,70.658827835268411,73.211009974913551]

{"sheet":"Transportation Rate assumptions","index":8,"n_rows":19,"n_cols":1,"rows_kept":19,"cut":false,"hidden":false,"merged":[[12,0,13,16],[14,0,14,15],[15,0,15,15],[8,0,9,16],[16,0,16,16]]}
[]
["Rail Assumptions"]
["1) CSX CAPP, NAPP, ILB and Western PRB/RM rates updated based on CSX indicitive bid received 8/2019 "]
["2) CSX West Kentucky equals CSX indicitive bid received 8/2019 for Cardinal 9, KY"]
["3) CSX Galatia rate equals CSX indicitive bid received 8/2019 for White Oak"]
["4) CSX Sullivan rate equals average CSX indicitive bid  for ILB excluding Cardinal 9, KY received 8/2019 "]
["9) CSX UP (RM) equals CSX indicitive bid received 8/2019 including BSNF piece"]
["10) CSX PRB equals CSX indicitive bid received 8/2019 including BSNF piece"]
["11) Delivery of ILB 11,000 6# would typically be out of Central IL. ILB 11,000 6# transportation selection of CSX Sullivan based off of Peabody Bear Run 2017 Fall Term RFP offer. However, Station can not currently do a rail direct move as there is no on-site blending capabilities which would be needed to meet SO2 constraints"]
[]
[]
["Barge Assumptions"]
["12) Barge UP RM to Convent rate is the current UP agreement through 9/18 escalated at 5%  (with Fuel Surcharge calculations based on COB 9/12/19 WTI fuel pricing), plus the current rates for the Convent Terminal fees which expired 12/31/18 escalated at 2% and Gulf Barge rates through 12/18 escalating 2% annually starting Jan 2025 through 2050.  "]
[]
["13) Delivery of 11,800 4.5# coals would typically be off the Green River. Currently have a contract delivering off the Ohio. "]
["14) ILB 11,000 6# transportation selection of OH River based off of Peabody bids going through Cora Terminal"]
["15) Fixed cross-gulf costs excluded from transportation rates through FOF study period, Fees for one cross-gulf barge added 1/1/25. Second cross-gulf barge added 1/1/31. Variable cost to mid-stream coal from the river to the gulf is included starting 1/1/23 and is based off the current AT rate escalated at 2%. Mirrors current FOF assumptions."]
[]
["Current FOF Gulf Barge assumptions: Margo Dale terminated 12/31/20, Winna Wilson assumed in-service through 12/31/23"]

{"sheet":"Coal Fall 2017 Price Inputs","index":10,"n_rows":24,"n_cols":34,"rows_kept":24,"cut":false,"hidden":true,"merged":[]}
[null,null,null,null,"Florida- 2017 IRP Fall Refresh Update - Coal - ","No Carbon",null,null,null,null,"Updated:","2017-10-10","Tiffany Weir"]
[null,null,"CERA Fundamental Price Forecast"]
[null,null,"Source File:","Coal_Gas_Forecast_Fall_2017_IHS_CERA_092617",null,null,null,"Source Tab: ","Coal Sep 2017"]
[null,null,"From:","Jeff Lamb via e-mail on 9/28/2017 at 9:06 a.m"]
[]
[null,null,null,null,null,null,null,"Avg Hg","Chlorine"]
[null,"Basin","Coal Type","FOB Point","Btu/lb","#SO2/MMBtu","%Ash","ppm (dry)","% AR","INDEX",2017,2018,2019,2020,2021,2022,2023,2024,2025,2026,2027,2028,2029,2030,2031,2032,2033,2034,2035,2036,2037,2038,2039,2040]
[null,null,null,null,null,null,null,null,null,"Inflator 2017 = 1.0>>>",1,1.0200316423390008,1.047125924593171,1.0730595498779592,1.0954874286569041,1.1168395050697868,1.1386849961543821,1.1614425565005375,1.1844030466380628,1.2074172960839265,1.2311148168608934,1.2557278595545107,1.2813806416828009,1.307483526778606,1.3338205134616619,1.3604034601892692,1.3877026849450307,1.4159042845514345,1.4443397401675391,1.4728362918726821,1.5015153886037964,1.5307301227777113,1.5607939909948381,1.5913320783258644]
[]
[null,"NAPP","Pittsburgh Seam","Rail",13000,4,8,0.122,1E-3,"NAPP-Pitt-CSX/NS-MGA-13000-HS-4.0 - Fall 2017",46.556529913549781,48.7328945282947,47.179718880501021,48.127926957218357,48.334137392371424,49.578959105032197,50.865721521912498,53.171672833246255,53.548838411829443,54.943080453985196,56.385824603187409,57.834407036945429,59.326482043572433,60.874454746892177,62.480943805188154,64.132202228164914,65.835472549416593,67.517096303287559,69.375704228197918,71.219392005867235,72.010749164119474,73.927236168604722,75.898461011810127,77.914334846094931]
[null,"NAPP","Pittsburgh Seam","Barge",13000,4,8,0.122,1E-3,"NAPP-Pitt-Barge-MonR-13000-HS-4.0 - Fall 2017",46.556529913549781,48.7328945282947,47.179718880501021,48.127926957218357,48.334137392371424,49.578959105032197,50.865721521912498,53.171672833246255,53.548838411829443,54.943080453985196,56.385824603187409,57.834407036945429,59.326482043572433,60.874454746892177,62.480943805188154,64.132202228164914,65.835472549416593,67.517096303287559,69.375704228197918,71.219392005867235,72.010749164119474,73.927236168604722,75.898461011810127,77.914334846094931]
[null,"CAPP","Low-Sulfur","Rail",12500,1.6,10,0.11,1E-3,"CAPP-EKY-CSX-Big Sandy-12500-LS-1.6 - Fall 2017",55.557196466901161,57.109306497738743,55.618696920590772,56.722514764450061,60.061402219578397,61.240132009802629,63.254315259255129,65.213190032592465,67.130930674293609,69.221487987408963,71.392595921363736,73.450617891838178,75.140031169949125,77.484203127077578,79.219897210140303,79.284771604271683,73.314946444026148,75.637729263262273,78.028021182615575,80.500163490867209,83.044388059581721,85.678675102716952,88.400873010561426,88.409332898824928]
[null,"CAPP","Low-Sulfur","Barge",12500,1.6,10,0.11,1E-3,"CAPP-EKY-Barge-BSR-12000-LS-1.6 - Fall 2017",55.557196466901161,57.109306497738743,55.618696920590772,56.722514764450061,60.061402219578397,61.240132009802629,63.254315259255129,65.213190032592465,67.130930674293609,69.221487987408963,71.392595921363736,73.450617891838178,75.140031169949125,77.484203127077578,79.219897210140303,79.284771604271683,73.314946444026148,75.637729263262273,78.028021182615575,80.500163490867209,83.044388059581721,85.678675102716952,88.400873010561426,88.409332898824928]
[null,"ILB","Illinois","Rail",11500,5,10,0.10199999999999999,3.0000000000000001E-3,"ILLB-IL-Rail-South IL-11500-VH-5 - Fall 2017",34.015936476709243,35.798079453685069,36.921537057467567,36.185234911540533,37.296007544451456,38.446878785948059,39.640963805419005,40.868574659650037,42.148262325531782,43.460822082333969,44.823955675421736,44.650178825663261,46.02998396479159,47.465998774970444,48.961017267090078,50.504993184962181,52.104284039214342,53.474088757680612,51.279210497032643,52.202744107143495,53.343457897824521,55.035588856456265,56.784189248122594,58.58239719450372]
[null,"ILB","Illinois","Barge",11500,5,10,0.10199999999999999,1.5E-3,"ILLB-IL-Barge-OhioR-11500-XH-5 - Fall 2017",34.015936476709243,35.798079453685069,36.921537057467567,36.185234911540533,37.296007544451456,38.446878785948059,39.640963805419005,40.868574659650037,42.148262325531782,43.460822082333969,44.823955675421736,44.650178825663261,46.02998396479159,47.465998774970444,48.961017267090078,50.504993184962181,52.104284039214342,53.474088757680612,51.279210497032643,52.202744107143495,53.343457897824521,55.035588856456265,56.784189248122594,58.58239719450372]
[null,"ILB","Illinois","Rail",11500,5,10,0.10199999999999999,1.1999999999999999E-3,"ILLB-IN-Rail-Sullivan-11500-VH-5 - Fall 2017",34.015936476709243,35.798079453685069,36.921537057467567,36.185234911540533,37.296007544451456,38.446878785948059,39.640963805419005,40.868574659650037,42.148262325531782,43.460822082333969,44.823955675421736,44.650178825663261,46.02998396479159,47.465998774970444,48.961017267090078,50.504993184962181,52.104284039214342,53.474088757680612,51.279210497032643,52.202744107143495,53.343457897824521,55.035588856456265,56.784189248122594,58.58239719450372]
[null,"ILB","Illinois","Barge",11000,6,10,0.10199999999999999,1E-3,"ILLB-WKY-Barge-OhioR-11000-XH-6 - Fall 2017",31.126785834736253,32.876600280983325,33.908372575359486,33.232160004542884,34.252282547779153,35.30923125449722,36.405867065293926,37.53329266943468,38.708545099669955,39.913986931406221,41.165875271603575,41.00628034040092,42.273479662740506,43.592301388160259,44.965311508484938,46.38328364190675,47.852056462982432,49.110071498405922,47.094317124373028,47.942481210520434,48.990101415390541,50.54413766535162,52.150034881216527,53.801491182154329]
[null,"ILB","Illinois","Rail",11000,6,10,0.10199999999999999,1.5E-3,"ILLB-IL-Rail-Central IL-11000-XH-6 - Fall 2017",31.126785834736253,32.876600280983325,33.908372575359486,33.232160004542884,34.252282547779153,35.30923125449722,36.405867065293926,37.53329266943468,38.708545099669955,39.913986931406221,41.165875271603575,41.00628034040092,42.273479662740506,43.592301388160259,44.965311508484938,46.38328364190675,47.852056462982432,49.110071498405922,47.094317124373028,47.942481210520434,48.990101415390541,50.54413766535162,52.150034881216527,53.801491182154329]
[null,"ILB","Illinois","Barge",11800,4.5,10,0.10199999999999999,2E-3,"ILLB-WKY-Barge-OhioR-11800-XH-4.5 - Fall 2017",35.46272869920432,37.391179798688924,39.025220228159149,38.70939073691531,40.379060801836793,42.127325410706071,43.937773404339481,45.434298686089626,46.856949515505043,48.316144814840264,49.831563919449714,49.638373201094446,51.172326350717064,52.768768760237435,54.430806579707905,56.14727121300939,57.925230414257605,59.448065923905489,57.007981939955329,58.034690168413448,59.302841346005494,61.184012491089753,63.127961677945457,65.127060438202548]
[null,"ILB","Illinois","Barge",11500,5.2,10,0.10199999999999999,8.0000000000000004E-4,"ILLB-WKY-Barge-Green River-11500-VH-5.2-LC-.8 - Fall 2017",34.805132326072901,37.021734925082903,38.639630160333958,38.326921233541476,39.980094064371407,41.711084882979669,43.503644681221026,44.985383492029605,46.393977769640856,47.838755438245208,49.339201390828514,49.147919500194348,50.666716371503981,52.247385075370254,53.893001071420088,55.592506115243161,57.352898127760803,58.86068720733045,56.444712559429369,57.461276360946833,58.716897526005397,60.57948169309995,62.504223621305336,64.483570215602839]
[null,"ILB","Illinois","Rail",11500,5.2,10,0.10199999999999999,8.0000000000000004E-4,"ILLB-WKY-CSX-WKY-11500-VH-5.2-LC-.8 - Fall 2017",34.805132326072901,37.021734925082903,38.639630160333958,38.326921233541476,39.980094064371407,41.711084882979669,43.503644681221026,44.985383492029605,46.393977769640856,47.838755438245208,49.339201390828514,49.147919500194348,50.666716371503981,52.247385075370254,53.893001071420088,55.592506115243161,57.352898127760803,58.86068720733045,56.444712559429369,57.461276360946833,58.716897526005397,60.57948169309995,62.504223621305336,64.483570215602839]
[null,"PRB","High-Btu Gillette","Rail",8800,0.8,5,0.06,1E-4,"PRB-WY-BN/UP-Gillette-8800-CS-0.8 - Fall 2017",11.599033330766096,11.640822652870936,12.111133424357426,13.580592439867132,14.20535708755884,14.651236546191994,15.330625983080246,16.040121969779083,16.539081082318205,17.209936527689365,18.013329916928594,18.843785762683719,19.714613654517642,20.63158352180491,21.597469177668213,22.609410483887192,23.671776196930413,24.784450722563694,25.947403229054824,27.167054983701743,28.44189836325614,29.779919859400483,30.556891884310748,31.980686132486934]
[null,"RM","Rockies","Rail",11700,0.8,8,0.04,2.0000000000000001E-4,"Rockies-CO-UP-North Fork-11700-CS-.8 - Fall 2017",30.729241510032661,32.310954635953728,32.993499167053244,33.6361519752083,35.708136749058419,36.923663262914665,38.061518882771047,39.363018171117616,40.676710067668644,42.055047206519774,43.51274402021577,44.997061282317475,46.537986385460563,46.41133972295858,48.027509634111645,49.702917387132821,51.444457212652871,52.32584710466211,54.156733715119792,56.057302457307024,58.021460021470155,60.062485027071347,62.179675546756435,64.366300663293174]
[null,"RM","Rockies","Barge",11700,0.8,8,0.04,2.0000000000000001E-4,"Rockies-CO-UP-North Fork-11700-CS-.8 - Fall 2017",30.729241510032661,32.310954635953728,32.993499167053244,33.6361519752083,35.708136749058419,36.923663262914665,38.061518882771047,39.363018171117616,40.676710067668644,42.055047206519774,43.51274402021577,44.997061282317475,46.537986385460563,46.41133972295858,48.027509634111645,49.702917387132821,51.444457212652871,52.32584710466211,54.156733715119792,56.057302457307024,58.021460021470155,60.062485027071347,62.179675546756435,64.366300663293174]

{"sheet":"Coal Fall 2018 Price Inputs ","index":11,"n_rows":30,"n_cols":34,"rows_kept":30,"cut":false,"hidden":true,"merged":[]}
[null,null,null,null,{"$f":"Assumptions!$A$1","v":"Florida- Fall 2019 IRP Refresh Update - Coal"},{"$f":"Assumptions!$B$2","v":"No Carbon"},null,null,null,null,"Updated:","2018-09-21","Tiffany Weir"]
[null,null,"CERA Fundamental Price Forecast"]
[null,null,"Source File:","Coal_Gas_Forecast_Fall_2018_IHS_09102018",null,null,null,"Source Tab: ","Coal Fall 2018"]
[null,null,"From:","Jeff Lamb via e-mail from Andrew James on 9/14/2018 at 1:23 p.m"]
[]
[null,null,null,null,null,null,null,"Avg Hg","Chlorine"]
[null,"Basin","Coal Type","FOB Point","Btu/lb","#SO2/MMBtu","%Ash","ppm (dry)","% AR","INDEX",2018,{"$f":"K7+1","v":2019},{"$f":"L7+1","v":2020},2021,2022,2023,2024,2025,2026,2027,2028,2029,2030,2031,2032,2033,2034,2035,2036,2037,2038,2039,2040,2041]
[null,null,null,null,null,null,null,null,null,"Inflator 2018 = 1.0>>>",1,1.0200316423390008,1.047125924593171,1.0730595498779592,1.0954874286569041,1.1168395050697868,1.1386849961543821,1.1614425565005375,1.1844030466380628,1.2074172960839265,1.2311148168608934,1.2557278595545107,1.2813806416828009,1.307483526778606,1.3338205134616619,1.3604034601892692,1.3877026849450307,1.4159042845514345,1.4443397401675391,1.4728362918726821,1.5015153886037964,1.5307301227777113,1.5607939909948381]
[]
[null,"NAPP","Pittsburgh Seam","Rail",13000,4,8,0.122,1E-3,"NAPP-Pitt-CSX/NS-MGA-13000-HS-4.0 - Fall 18",53.550840638022287,50.761244060133805,52.184519697449133,52.750374805582815,52.147340157793259,53.606280235859082,56.088675596051068,56.626657354671998,58.198875896332119,59.806192867292374,61.469869724660072,63.209848432071347,65.023320581052289,66.939005793283698,68.910641687649061,70.956255005439047,73.010610543897528,75.250724896135708,77.49790223264857,78.720864638479313,81.112272885852121,83.60432393360125,86.181714219158081]
[null,"NAPP","Pittsburgh Seam","Barge",13000,4,8,0.122,1E-3,"NAPP-Pitt-Barge-MonR-13000-HS-4.0 - Fall 18",55.112784245430099,55.266965243073223,53.961924708939513,52.750374805582815,52.147340157793259,53.606280235859082,56.088675596051068,56.626657354671998,58.198875896332119,59.806192867292374,61.469869724660072,63.209848432071347,65.023320581052289,66.939005793283698,68.910641687649061,70.956255005439047,73.010610543897528,75.250724896135708,77.49790223264857,78.720864638479313,81.112272885852121,83.60432393360125,86.181714219158081]
[null,"CAPP","Low-Sulfur","Rail",12500,1.6,10,0.11,1E-3,"CAPP-EKY-CSX-Big Sandy-12500-LS-1.6 - Fall 18",62.306389172342335,61.481497280417386,60.338131081694534,60.061402219578397,62.240132009802586,63.254315259255115,65.213190032592479,67.130930674293623,69.221487987408963,71.392595921363736,73.450617891838192,75.140031169949125,77.484203127077564,79.219897210140275,79.284771604271654,81.645685908216691,84.154905542067667,86.733475890191116,89.398606479831741,92.140864379991172,94.979590311872698,97.913182126662079,98.137962666948738]
[null,"CAPP","Low-Sulfur","Barge",12500,1.6,10,0.11,1E-3,"CAPP-EKY-Barge-BSR-12000-LS-1.6 - Fall 18",62.306389172342335,61.481497280417386,60.338131081694534,60.061402219578397,62.240132009802586,63.254315259255115,65.213190032592479,67.130930674293623,69.221487987408963,71.392595921363736,73.450617891838192,75.140031169949125,77.484203127077564,79.219897210140275,79.284771604271654,81.645685908216691,84.154905542067667,86.733475890191116,89.398606479831741,92.140864379991172,94.979590311872698,97.913182126662079,98.137962666948738]
[null,"ILB","Illinois","Rail",11500,5,10,0.10199999999999999,3.0000000000000001E-3,"ILLB-IL-Rail-South IL-11500-VH-5 - Fall 18",39.462843690011546,38.326365413960325,37.272665886596421,38.013231072262947,38.446878785948108,39.640963805418998,40.868574659650001,42.148262325531803,43.460822082333998,44.823955675421708,44.650178825663311,45.02998396479159,46.465998774970437,47.961017267090078,49.504993184962139,51.104284039214342,52.47408875768064,52.279210497032643,53.202744107143495,54.343457897824521,56.035588856456307,57.784189248122622,59.58239719450372]
[null,"ILB","Illinois","Barge",11500,5,10,0.10199999999999999,1.5E-3,"ILLB-IL-Barge-OhioR-11500-XH-5 - Fall 18",39.462843690011546,38.326365413960325,37.272665886596421,38.013231072262947,38.446878785948108,39.640963805418998,40.868574659650001,42.148262325531803,43.460822082333998,44.823955675421708,44.650178825663311,45.02998396479159,46.465998774970437,47.961017267090078,49.504993184962139,51.104284039214342,52.47408875768064,52.279210497032643,53.202744107143495,54.343457897824521,56.035588856456307,57.784189248122622,59.58239719450372]
[null,"ILB","Illinois","Rail",11500,5,10,0.10199999999999999,1.1999999999999999E-3,"ILLB-IN-Rail-Sullivan-11500-VH-5 - Fall 18",39.462843690011546,38.326365413960325,37.272665886596421,38.013231072262947,38.446878785948108,39.640963805418998,40.868574659650001,42.148262325531803,43.460822082333998,44.823955675421708,44.650178825663311,45.02998396479159,46.465998774970437,47.961017267090078,49.504993184962139,51.104284039214342,52.47408875768064,52.279210497032643,53.202744107143495,54.343457897824521,56.035588856456307,57.784189248122622,59.58239719450372]
[null,"ILB","Illinois","Barge",11000,6,10,0.10199999999999999,1E-3,"ILLB-WKY-Barge-OhioR-11000-XH-6 - Fall 18",35.785941780684539,34.755353469785,33.799831099507273,34.471395035123301,34.864638156606496,35.947465773481674,37.060695496710331,38.221149838734796,39.411413455050941,40.647538752678187,40.489953347096794,40.834370609664468,42.136586506646772,43.492308490097798,44.892426351389538,46.342705247918623,47.584880097024836,47.408159378552277,48.245643880772683,49.280073067437407,50.814541805842516,52.400218507334024,54.030880640662417]
[null,"ILB","Illinois","Rail",11000,6,10,0.10199999999999999,1.5E-3,"ILLB-IN-Rail-Sullivan-11000-XH-6 - Fall 18",35.785941780684539,34.755353469785,33.799831099507273,34.471395035123301,34.864638156606496,35.947465773481674,37.060695496710331,38.221149838734796,39.411413455050941,40.647538752678187,40.489953347096794,40.834370609664468,42.136586506646772,43.492308490097798,44.892426351389538,46.342705247918623,47.584880097024836,47.408159378552277,48.245643880772683,49.280073067437407,50.814541805842516,52.400218507334024,54.030880640662417]
[null,"ILB","Illinois","Rail",11000,6,10,0.10199999999999999,1.5E-3,"ILLB-IL-Rail-Central IL-11000-XH-6 - Fall 18",35.785941780684539,34.755353469785,33.799831099507273,34.471395035123301,34.864638156606496,35.947465773481674,37.060695496710331,38.221149838734796,39.411413455050941,40.647538752678187,40.489953347096794,40.834370609664468,42.136586506646772,43.492308490097798,44.892426351389538,46.342705247918623,47.584880097024836,47.408159378552277,48.245643880772683,49.280073067437407,50.814541805842516,52.400218507334024,54.030880640662417]
[null,"ILB","Illinois","Barge",11800,4.5,10,0.10199999999999999,2E-3,"ILLB-WKY-Barge-Green River-11800-XH-4.5 - Fall 18",42.159068579866855,41.429246007996902,40.778039252316056,42.091427544847612,43.084918762337189,44.936519925446085,46.467062620985978,47.922051629069529,49.41441579691827,50.964281789512192,50.766699666155823,51.198533399791529,52.831264432496816,54.531081919927907,56.286563393371345,58.104937263578229,59.662388243006156,59.440814077124166,60.490860340077724,61.787837775322906,63.711769692999525,65.699906655820044,67.744446793221542]
[null,"ILB","Illinois","Barge",11800,4.5,10,0.10199999999999999,2E-3,"ILLB-WKY-Barge-OhioR-11800-XH-4.5 - Fall 18",42.159068579866855,41.429246007996902,40.778039252316056,42.091427544847612,43.084918762337189,44.936519925446085,46.467062620985978,47.922051629069529,49.41441579691827,50.964281789512192,50.766699666155823,51.198533399791529,52.831264432496816,54.531081919927907,56.286563393371345,58.104937263578229,59.662388243006156,59.440814077124166,60.490860340077724,61.787837775322906,63.711769692999525,65.699906655820044,67.744446793221542]
[null,"ILB","Low Chlorine","Barge",11500,5.2,10,0.10199999999999999,8.0000000000000004E-4,"ILLB-WKY-Barge-OhioR-11500-VH-5.2-LC-.8 - Fall 18",40.651829779046246,39.948099266016563,39.320173956595816,40.586606994617959,41.544579673351436,43.329983806718168,44.805807709487318,46.208779062493981,47.64778936711695,49.142245735191175,48.951727416911702,49.368122560920931,50.942481441520052,52.581528353184844,54.274249194573933,56.027613951821344,57.529384134076956,57.315731518440877,58.328237329873758,59.578846219037594,61.433995193111848,63.351053802623063,65.322499103522475]
[null,"ILB","Low Chlorine","Rail",11500,5.2,10,0.10199999999999999,8.0000000000000004E-4,"ILLB-WKY-CSX-WKY-11500-VH-5.2-LC-.8 - Fall 18",40.651829779046246,39.948099266016563,39.320173956595816,40.586606994617959,41.544579673351436,43.329983806718168,44.805807709487318,46.208779062493981,47.64778936711695,49.142245735191175,48.951727416911702,49.368122560920931,50.942481441520052,52.581528353184844,54.274249194573933,56.027613951821344,57.529384134076956,57.315731518440877,58.328237329873758,59.578846219037594,61.433995193111848,63.351053802623063,65.322499103522475]
[null,"PRB","High-Btu Gillette","Rail",8800,0.8,5,0.06,1E-4,"PRB-WY-BN/UP-Gillette-8800-CS-0.8 - Fall 18",12.512564996477188,11.905260033350286,11.952784788865786,12.123297159184366,13.679477774788353,14.1741591004914,14.685449969835245,14.994539924299723,15.450524037409073,16.014011112986399,16.588856761459883,17.186155884073028,17.810053137874998,18.461955192983591,19.13842723580478,19.842209448280109,20.572196253506807,21.327376612816231,22.112012730785121,22.923792622527603,23.768052189396595,24.150238394331534,25.028925093864192]
[null,"RM","Rockies","Rail",11700,0.8,8,0.04,2.0000000000000001E-4,"Rockies-CO-UP-North Fork-11700-CS-.8 - Fall 18",34.485952728881763,33.886737309222141,33.636151975208307,35.708136749058426,36.923663262914658,38.061518882771054,39.363018171117616,40.676710067668658,42.055047206519774,43.512744020215742,44.997061282317475,46.537986385460563,46.41133972295858,48.027509634111645,49.7029173871328,51.444457212652871,52.325847104662138,54.156733715119792,56.057302457307024,58.021460021470155,60.062485027071368,62.179675546756435,64.366300663293174]
[null,"RM","Rockies","Barge",11700,0.8,8,0.04,2.0000000000000001E-4,"Rockies-CO-UP-North Fork-11700-CS-.8 - Fall 18",34.485952728881763,33.886737309222141,33.636151975208307,35.708136749058426,36.923663262914658,38.061518882771054,39.363018171117616,40.676710067668658,42.055047206519774,43.512744020215742,44.997061282317475,46.537986385460563,46.41133972295858,48.027509634111645,49.7029173871328,51.444457212652871,52.325847104662138,54.156733715119792,56.057302457307024,58.021460021470155,60.062485027071368,62.179675546756435,64.366300663293174]
[]
["Price Forecast Received from Jeff Lamb via e-mail on 9/14/18 at 1:23 p.m. (Nominal $/ton) **"]
[]
["Reviewed transportation delivery locations with Shawn Shultz, Manager Coal Transportation"]

{"sheet":"Coal Spring 2019 Price Inputs","index":12,"n_rows":30,"n_cols":42,"rows_kept":30,"cut":false,"hidden":false,"merged":[]}
[null,null,null,null,"Florida- Spring 2019 IRP Refresh Update - Coal","No Carbon",null,null,null,null,"* Internal escalation rate of 2.5% applied starting in 2041 due to escalation rate error in HIS supplied market update (per email from Mike Quinto received 4/25/19)"]
[null,null,"CERA Fundamental Price Forecast*",null,null,null,null,null,null,null,"Updated:","2019-04-29","Tiffany Weir"]
[null,null,"Source File:","Fuel-Forecast_Spring_2019_IHS_03292019",null,null,null,"Source Tab: ","Coal Spring 2019"]
[null,null,"From:","Andrew James via e-mail on 3/29/2019 at 12:13 p.m"]
[]
[null,null,null,null,null,null,null,"Avg Hg","Chlorine"]
[null,"Basin","Coal Type","FOB Point","Btu/lb","#SO2/MMBtu","%Ash","ppm (dry)","% AR","INDEX",2019,{"$f":"K7+1","v":2020},{"$f":"L7+1","v":2021},2022,2023,2024,2025,2026,2027,2028,2029,2030,2031,2032,2033,2034,2035,2036,2037,2038,2039,2040,2041,2042,2043,2044,2045,2046,2047,2048,2049,2050]
[null,null,null,null,null,null,null,null,null,"Inflator 2018 = 1.0>>>",1,1.0200316423390008,1.047125924593171,1.0730595498779592,1.0954874286569041,1.1168395050697868,1.1386849961543821,1.1614425565005375,1.1844030466380628,1.2074172960839265,1.2311148168608934,1.2557278595545107,1.2813806416828009,1.307483526778606,1.3338205134616619,1.3604034601892692,1.3877026849450307,1.4159042845514345,1.4443397401675391,1.4728362918726821,1.5015153886037964,1.5307301227777113,2.5,2.5,2.5,2.5,2.5,2.5,2.5,2.5,2.5,2.5]
[]
[null,"NAPP","Pittsburgh Seam","Rail",13000,4,8,0.122,1E-3,"NAPP-Pitt-CSX/NS-MGA-13000-HS-4.0 0- Spring 19",53.66974162886487,53.250364025988659,52.750374805582815,52.156428866107433,56.114812470674117,55.625949263923992,57.439227023060916,60.376110082635584,62.330489646595886,64.35945953805539,66.484757952614714,67.498660482400979,69.805206820684859,73.473562701314719,74.668330171637436,77.248830348243246,79.901313763179559,77.49790223264857,78.720864638479313,81.112272885852121,83.60432393360125,86.181714219158081,88.336257074637032,90.544663501502953,92.808280089040522,95.128487091266521,97.506699268548175,99.944366750261864,102.44297591901841,105.00405031699385,107.62915157491869,110.31988036429165]
[null,"NAPP","Pittsburgh Seam","Barge",13000,4,8,0.122,1E-3,"NAPP-Pitt-Barge-MonR-13000-HS-4.0 - Spring 19",53.66974162886487,53.250364025988659,52.750374805582815,52.156428866107433,56.114812470674117,55.625949263923992,57.439227023060916,60.376110082635584,62.330489646595886,64.35945953805539,66.484757952614714,67.498660482400979,69.805206820684859,73.473562701314719,74.668330171637436,77.248830348243246,79.901313763179559,77.49790223264857,78.720864638479313,81.112272885852121,83.60432393360125,86.181714219158081,88.336257074637032,90.544663501502953,92.808280089040522,95.128487091266521,97.506699268548175,99.944366750261864,102.44297591901841,105.00405031699385,107.62915157491869,110.31988036429165]
[null,"CAPP","Low-Sulfur","Rail",12500,1.6,10,0.11,1E-3,"CAPP-EKY-CSX-Big Sandy-12500-LS-1.6 - Spring 19",65.328219918436801,64.266522129069898,60.061402219578397,64.449590143202514,66.925066565424473,69.350861399864925,72.080468567365557,75.056120802585028,78.132989200518793,81.185612646681989,83.171658217641593,85.128867391557037,89.248672426482116,88.975043820364803,92.771681243338875,95.93848718271839,100.02046336648222,104.28253885766388,108.60005984337135,113.26160932965648,111.98908970272645,115.8297638997676,118.72550799726177,121.6936456971933,124.73598683962312,127.85438651061369,131.05074617337903,134.3270148277135,137.68519019840633,141.12731995336648,144.65550295220064,148.27189052600565]
[null,"CAPP","Low-Sulfur","Barge",12500,1.6,10,0.11,1E-3,"CAPP-EKY-Barge-BSR-12000-LS-1.6 - Spring 19",65.328219918436801,64.266522129069898,60.061402219578397,64.449590143202514,66.925066565424473,69.350861399864925,72.080468567365557,75.056120802585028,78.132989200518793,81.185612646681989,83.171658217641593,85.128867391557037,89.248672426482116,88.975043820364803,92.771681243338875,95.93848718271839,100.02046336648222,104.28253885766388,108.60005984337135,113.26160932965648,111.98908970272645,115.8297638997676,118.72550799726177,121.6936456971933,124.73598683962312,127.85438651061369,131.05074617337903,134.3270148277135,137.68519019840633,141.12731995336648,144.65550295220064,148.27189052600565]
[null,"ILB","Illinois","Rail",11500,5,10,0.10199999999999999,3.0000000000000001E-3,"ILLB-IL-Rail-South IL-11500-VH-5 - Spring 19",43.483785677233868,44.189491493870896,44.013231072262947,43.868086491827739,45.785387177223818,47.391722318800305,48.877987807095359,50.818083455052751,52.196934703192859,54.279735514529385,54.680992349436799,52.872369203662593,58.967492085696598,61.708633851914101,64.270284132262077,66.618840337845299,66.997642600856238,68.887188062387352,71.703737887279019,74.008363782034422,77.073617430674361,79.50489468397349,81.492517051072824,83.529829977349635,85.618075726783374,87.758527619952957,89.952490810451778,92.20130308071306,94.506335657730872,96.868994049174134,99.290718900403476,101.77298687291355]
[null,"ILB","Illinois","Barge",11500,5,10,0.10199999999999999,1.5E-3,"ILLB-IL-Barge-OhioR-11500-XH-5 - Spring 19",43.483785677233868,44.189491493870896,44.013231072262947,43.868086491827739,45.785387177223818,47.391722318800305,48.877987807095359,50.818083455052751,52.196934703192859,54.279735514529385,54.680992349436799,52.872369203662593,58.967492085696598,61.708633851914101,64.270284132262077,66.618840337845299,66.997642600856238,68.887188062387352,71.703737887279019,74.008363782034422,77.073617430674361,79.50489468397349,81.492517051072824,83.529829977349635,85.618075726783374,87.758527619952957,89.952490810451778,92.20130308071306,94.506335657730872,96.868994049174134,99.290718900403476,101.77298687291355]
[null,"ILB","Illinois","Rail",11500,5,10,0.10199999999999999,1.1999999999999999E-3,"ILLB-IN-Rail-Sullivan-11500-VH-5 - Spring 19",43.483785677233868,44.189491493870896,44.013231072262947,43.868086491827739,45.785387177223818,47.391722318800305,48.877987807095359,50.818083455052751,52.196934703192859,54.279735514529385,54.680992349436799,52.872369203662593,58.967492085696598,61.708633851914101,64.270284132262077,66.618840337845299,66.997642600856238,68.887188062387352,71.703737887279019,74.008363782034422,77.073617430674361,79.50489468397349,81.492517051072795,83.529829977349607,85.618075726783403,87.758527619953,89.952490810451806,92.201303080713103,94.506335657730901,96.868994049174105,99.290718900403505,101.772986872914]
[null,"ILB","Illinois","Barge",11000,6,10,0.10199999999999999,1E-3,"ILLB-WKY-Barge-OhioR-11000-XH-6 - Spring 19",39.725924015209237,40.239592812854497,40.079087512731057,39.946916749541458,41.692838602723377,43.155590714885193,44.509005656740463,46.275684933930727,47.53128690849406,49.427915580269769,49.79330588244806,48.146347375402236,53.696654804293566,56.192778312078197,58.525454265691188,60.664083659602134,61.009026502455676,62.729674045637616,65.294465226963567,67.393091041740846,70.18435553742971,72.398311918925586,74.208269716898712,76.063476459821175,77.965063371316703,79.91418995559961,81.912044704489588,83.959845822101826,86.058841967654359,88.210313016845717,90.415570842266845,92.675960113323512]
[null,"ILB","Illinois","Rail",11000,6,10,0.10199999999999999,1.5E-3,"ILLB-IN-Rail-Sullivan-11000-XH-6 - Spring 19",39.725924015209237,40.239592812854497,40.079087512731057,39.946916749541458,41.692838602723377,43.155590714885193,44.509005656740463,46.275684933930727,47.53128690849406,49.427915580269769,49.79330588244806,48.146347375402236,53.696654804293566,56.192778312078197,58.525454265691188,60.664083659602134,61.009026502455676,62.729674045637616,65.294465226963567,67.393091041740846,70.18435553742971,72.398311918925586,74.208269716898712,76.063476459821175,77.965063371316703,79.91418995559961,81.912044704489588,83.959845822101826,86.058841967654359,88.210313016845717,90.415570842266845,92.675960113323512]
[null,"ILB","Illinois","Rail",11000,6,10,0.10199999999999999,1.5E-3,"ILLB-IL-Rail-Central IL-11000-XH-6 - Spring 19",39.725924015209237,40.239592812854497,40.079087512731057,39.946916749541458,41.692838602723377,43.155590714885193,44.509005656740463,46.275684933930727,47.53128690849406,49.427915580269769,49.79330588244806,48.146347375402236,53.696654804293566,56.192778312078197,58.525454265691188,60.664083659602134,61.009026502455676,62.729674045637616,65.294465226963567,67.393091041740846,70.18435553742971,72.398311918925586,74.208269716898712,76.063476459821175,77.965063371316703,79.91418995559961,81.912044704489588,83.959845822101826,86.058841967654359,88.210313016845717,90.415570842266845,92.675960113323512]
[null,"ILB","Illinois","Barge",11800,4.5,10,0.10199999999999999,2E-3,"ILLB-WKY-Barge-Green River-11800-XH-4.5 - Spring 19",45.830011487977465,46.978728957058074,47.356850929277947,47.76987084645512,50.433987659051581,52.35997211574,54.002048320529987,56.145531381676726,57.668932713637368,59.970081249042217,60.413403324270313,58.415175514705048,65.149272705739349,68.177778516921947,71.007976084907114,73.602740136936546,74.02125364432105,76.108887155752697,79.220706331723434,81.766934695716344,85.153530238516154,87.839687292105154,90.035679474407772,92.286571461267954,94.593735747799641,96.958579141494624,99.382543620031981,101.86710721053277,104.41378489079608,107.02412951306597,109.69973275089261,112.44222606966491]
[null,"ILB","Illinois","Barge",11800,4.5,10,0.10199999999999999,2E-3,"ILLB-WKY-Barge-OhioR-11800-XH-4.5 - Spring 19",45.830011487977465,46.978728957058074,47.356850929277947,47.76987084645512,50.433987659051581,52.35997211574,54.002048320529987,56.145531381676726,57.668932713637368,59.970081249042217,60.413403324270313,58.415175514705048,65.149272705739349,68.177778516921947,71.007976084907114,73.602740136936546,74.02125364432105,76.108887155752697,79.220706331723434,81.766934695716344,85.153530238516154,87.839687292105154,90.035679474407772,92.286571461267954,94.593735747799641,96.958579141494624,99.382543620031981,101.86710721053277,104.41378489079608,107.02412951306597,109.69973275089261,112.44222606966491]
[null,"ILB","Low Chlorine","Barge",11500,5.2,10,0.10199999999999999,8.0000000000000004E-4,"ILLB-WKY-Barge-OhioR-11500-VH-5.2-LC-.8 - Spring 19",45.830011487977465,46.978728957058074,47.356850929277947,47.76987084645512,50.433987659051581,52.35997211574,54.002048320529987,56.145531381676726,57.668932713637368,59.970081249042217,60.413403324270313,58.415175514705048,65.149272705739349,68.177778516921947,71.007976084907114,73.602740136936546,74.02125364432105,76.108887155752697,79.220706331723434,81.766934695716344,85.153530238516154,87.839687292105154,90.035679474407772,92.286571461267954,94.593735747799641,96.958579141494624,99.382543620031981,101.86710721053277,104.41378489079608,107.02412951306597,109.69973275089261,112.44222606966491]
[null,"ILB","Low Chlorine","Rail",11500,5.2,10,0.10199999999999999,8.0000000000000004E-4,"ILLB-WKY-CSX-WKY-11500-VH-5.2-LC-.8 - Spring 19",45.830011487977465,46.978728957058074,47.356850929277947,47.76987084645512,50.433987659051581,52.35997211574,54.002048320529987,56.145531381676726,57.668932713637368,59.970081249042217,60.413403324270313,58.415175514705048,65.149272705739349,68.177778516921947,71.007976084907114,73.602740136936546,74.02125364432105,76.108887155752697,79.220706331723434,81.766934695716344,85.153530238516154,87.839687292105154,90.035679474407772,92.286571461267954,94.593735747799641,96.958579141494624,99.382543620031981,101.86710721053277,104.41378489079608,107.02412951306597,109.69973275089261,112.44222606966491]
[null,"PRB","High-Btu Gillette","Rail",8800,0.8,5,0.06,1E-4,"PRB-WY-BN/UP-Gillette-8800-CS-0.8 - Spring 19",12.199279232745573,12.185756396806815,12.248297159184366,13.64498699926378,14.212580833205179,14.580793542797581,15.097220567162502,15.719309953466372,16.363711069803966,17.036793307702521,17.744858944607095,18.488031085608018,19.275475338822194,20.094914550509461,20.952380883967606,21.849707899381368,22.779365953063202,23.273607983896429,24.267389324416538,25.30904285943183,26.401959632107943,27.532043946842638,28.220345045513703,28.925853671651542,29.649000013442826,30.390225013778895,31.149980639123363,31.928730155101444,32.726948408978977,33.545122119203448,34.383750172183532,35.243343926488116]
[null,"RM","Rockies","Rail",11700,0.8,8,0.04,2.0000000000000001E-4,"Rockies-CO-UP-North Fork-11700-CS-.8 - Spring 19",33.3838813202129,33.636151975208307,35.708136749058426,36.095105377194294,38.563911083721798,40.081651510698592,41.65687942471699,41.490100964931024,43.090327807069293,44.760032672274804,46.51541880303477,47.518547268402237,49.432955365967054,51.422525707230342,50.249554530073205,52.046169738556216,54.141064414023269,56.325917060159249,54.140706770987244,56.336907016799159,58.639056679104065,61.038416752330939,62.564377171139206,64.128486600417688,65.731698765428121,67.374991234563822,69.059366015427912,70.785850165813599,72.555496419958928,74.369383830457892,76.228618426219327,78.134333886874799]
[null,"RM","Rockies","Barge",11700,0.8,8,0.04,2.0000000000000001E-4,"Rockies-CO-UP-North Fork-11700-CS-.8 - Spring 19",33.3838813202129,33.636151975208307,35.708136749058426,36.095105377194294,38.563911083721798,40.081651510698592,41.65687942471699,41.490100964931024,43.090327807069293,44.760032672274804,46.51541880303477,47.518547268402237,49.432955365967054,51.422525707230342,50.249554530073205,52.046169738556216,54.141064414023269,56.325917060159249,54.140706770987244,56.336907016799159,58.639056679104065,61.038416752330939,62.564377171139206,64.128486600417688,65.731698765428121,67.374991234563822,69.059366015427912,70.785850165813599,72.555496419958928,74.369383830457892,76.228618426219327,78.134333886874799]
[]
["Price Forecast Received from Andrew James via e-mail on 3/29/19 at 12:13 p.m. (Nominal $/ton) **"]
[]
["Reviewed transportation delivery locations with Shawn Shultz, Manager Coal Transportation"]